{"text_format":"1","workbook":"xlsx","n_sheets":17,"sheets":["Úvodní stránka","Začátek a předvyplnění dotazník","Přehled zkratek a pojmů","Identifikace","Kapitola 1","Kapitola 2","Kapitola 3","Kapitola 4","Kapitola 5","Kapitola 6","Výsledek","Tipy","Zvláštní zpráva","Zpráva SDG","Akční plán","Technický list","SDG – Technický list "],"not_rendered":{"charts":1,"images":20,"macros":1,"external_links":0,"defined_names":3,"comments":0,"pivot_tables":0},"unopened":[],"bounds":{"document_bytes":16777216,"sheet_cells":100000,"rows_first":2000,"rows_last":500,"rows_between":2000,"halvings":0,"cell_chars":16384,"cell_head_chars":4096},"cells_cut":0,"cells_raw":0,"read":"whole","date_system":"1900"}

{"sheet":"Úvodní stránka","index":0,"n_rows":38,"n_cols":4,"rows_kept":38,"cut":false,"hidden":false,"merged":[[10,2,10,10],[23,1,23,18],[24,1,24,18],[25,1,25,18],[35,3,35,18],[26,1,28,18],[37,1,39,18],[29,1,31,18],[32,3,32,18],[33,3,33,18],[34,3,34,18]]}
[]
[null,"Sebehodnocení  Responsible Care"]
[]
[null,"Tento nástroj slouží společnostem v chemickém sektoru k implementaci Responsible Care."]
[]
[null,"Příručka obsahuje následující stránky: "]
[]
[null,null,"Začátek a předvyplnění dotazníku"]
[null,null,"Přehled zkratek a pojmů"]
[null,null,"Identifikace"]
[null,null,"Identifikace\n Sadu otázek pro každou ze šesti kapitol Responsible Care"]
[null,null,"Stránka s informací o dosažených výsledcích dle hodnocení Responsible Care"]
[null,null,"Tipy a nejlepší praxe"]
[null,null,"Dvě tabulky s s dosaženými výsledky: \n-\tDle konkrétních otázek v rámci kapitol  -K plnění cílů udržitelného rozvoje (SDGs)"]
[null,null,"Akční plán"]
[null,null,"Dvě technické stránky"]
[]
[null,"Používejte tento excelovský soubor nejlépe ve 100% rozlišení."]
[]
[null,"Verze:12/04/2019"]
[null,"Arcadis"]
[]
[]
[null,"Responsible Care je celosvětový dobrovolný závazek chemického průmyslu prosazovat neustálé zlepšování a dosahování vynikajících výsledků při managementu chemických látek."]
[null,"Cefic vytvořil nový systém managementu Responsible Care pro Evropu tak, aby umožnil více společnostem chemického průmyslu připojení ke skupině Responsible Care a zlepšení jejich pověsti a důvěryhodnosti."]
[null,"Revidovaný systém managementu Responsible Care poskytuje evropským chemickým společnostem jasnou, inkluzivní a progresivní cestu k neustálému zlepšování."]
[null,"Zahrnuje vývoj praktických nástrojů (rámec pro správu Responsible Care a nástroj pro samohodnocení Responsible Care), který je cenný jak pro společnosti, tak i pro národní asociace, a pro vytváření úrovní zralosti, které pomohou společnostem v průběhu času růst. Spojuje evropskou společnost Responsible Care® s nejvyššími možnými standardy (tj. Managementem kvality ISO9001, environmentálním managementem ISO14001, EMAS, energetickým managementem ISO50001, managementem zdraví a bezpečnosti ISO45001, ISO26000, RC 14001 a RCMS, dvěma technickými specifikacemi z celosvětové aplikace American Chemistry Council) spolu se zásadami udržitelnosti (tj. cíle udržitelného rozvoje OSN, Charta Cefic Sustainability Charter a ChemistryCan Initiative). V konečném důsledku přispívá k harmonizovanému přístupu Responsible Care na úrovni ICCA."]
[]
[]
[null,"Revidovaný systém řízení zahrnuje soustavné hodnocení výkonnosti a průběžného hodnocení malých i velkých společností nebo pracovišť, které mají nebo nemají zkušenosti s Responsible Care nebo mají či nemají zavedené standardy. Zahrnuje proto 4 následující úrovně pokročilosti/vyspělosti, které reprezentující 4 různé úrovně implementace Responsible Care: "]
[]
[]
[null,"Úroveň 1 ","Zavázat se k Responsible Care","Kandidát se zavazuje k Responsible Care a začíná se seznamovat s implementačními kroky."]
[null,"Úroveň 2 ","Initiate and Plan","PD - Plánování a realizace: organizace zahájila implementaci Responsible Care v rámci své činnosti, jsou vypracovány a implementovány plány zlepšování."]
[null,"Úroveň 3 ","Improve Continuously","PDCA - plánování a kontrola: organizace dosáhla úrovně implementace, kde se plány a akce pouze neuskutečňují, ale také se hodnotí, aby vedly k neustálému zlepšování; plně implementován systémový přístup"]
[null,"Úroveň 4 ","Promote and Sustain Excellence","Podporovat a udržovat vysokou úroveň \nOrganizace dosáhla zlepšeného výkonu, vyšší efektivity. Pokračuje buď přezkoumáním účinnosti svých procesů nebo sdílením osvědčených postupů s kolegy, partnery atd. S cílem podpořit budování podniků a urychlit změny."]
[]
[null,"Upozornění: Jedná se o dobrovolný nástroj pro sebehodnocení, který vypracoval Cefic Responsible Care Issue Team, aby podpořil společnosti v hodnocení výkonnosti v rámci Charty Responsible Care Global. Tento nástroj - a veškeré doprovodné pokyny - nemění ani nenahrazuje obsah Charty Responsible Care Global Charter. Není v žádném případě zamýšleno jako normativní nebo závazné: společnosti a národní asociace mohou svobodně definovat způsob, jakým budou provádět globální chartu, včetně priorit a úrovně angažovanosti. Nakonec je na každém signatáři Globální charty, aby posoudil vhodnost opatření přijatých v rámci plnění Globální charty. Pokud jde o úplnost nebo přesnost nástroje, nejsou vzneseny žádné námitky ani záruky a Cefic ani žádná společnost, která je členem Cefic, nepřijme žádnou odpovědnost za náhradu škody jakékoli povahy vyplývající z použití nebo spolehnutí se na informace, které obsahuje."]

{"sheet":"Začátek a předvyplnění dotazník","index":1,"n_rows":28,"n_cols":11,"rows_kept":28,"cut":false,"hidden":false,"merged":[]}
[]
[null,"Můžete si vybrat, zda začnete s vyplňováním otázek nebo předběžně vyplníte některé otázky založené na dodržování externích norem."]
[null,"Povolte použití makra, aby tato funkce fungovala."]
[]
[null,"PŘEDVYPLNĚNÍ"]
[]
[null,"Pokud splňujete následující standardy, stiskněte tlačítko pro předběžné vyplnění údajů."]
[null,"Předem vyplněné odpovědi můžete vždy ručně přepsat."]
[null,{"$f":"IF(G9=\"\",\"\",\"V záložkách jednotlivých kapitol je potřeba odpovědět na otázky:\")","v":""},null,null,null,null,{"$f":"IF('Technický list'!$B$713=0,\"\",'Technický list'!$B$713)","v":""}]
[]
[]
[]
[]
[]
[]
[]
[null,"* ISO 45001 nahrazuje OHSAS / ISO 18001",null,null,null,"** RCMS je technická specifikace ACC systému Responsible Care Management System"]
[null,"uvolneno"]
[]
[null,"VYPLŇTE DOTAZNÍK",null,null,null,null,null,null,null,"Výsledky z jednotlivých kapitol"]
[]
[null,1,"Podniková kultura vedení",null,null,null,null,null,null,18.7,"%"]
[null,2,"Ochrana lidí a životního prostředí",null,null,null,null,null,null,23.2,"%"]
[null,3,"Posílení systémů řízení chemických látek ",null,null,null,null,null,null,16.100000000000001,"%"]
[null,4,"Působení na obchodní partnery",null,null,null,null,null,null,12.3,"%"]
[null,5,"Zapojení zasinteresovaných stran ",null,null,null,null,null,null,12.3,"%"]
[null,6,"Přispívání k udržitelnosti",null,null,null,null,null,null,17.399999999999999,"%"]
[null,null,null,null,null,null,null,null,null,{"$f":"IF(SUM(J22:J27)=100,\"\",\"error\")","v":""}]

{"sheet":"Přehled zkratek a pojmů","index":2,"n_rows":210,"n_cols":5,"rows_kept":210,"cut":false,"hidden":false,"merged":[[176,4,180,4],[185,2,188,2],[185,4,188,4],[204,4,206,4],[189,2,193,2],[189,4,193,4],[194,2,195,2],[194,4,195,4],[200,4,202,4],[204,2,205,2],[156,4,164,4],[167,4,170,4],[156,2,158,2],[172,3,173,3],[172,4,173,4],[136,4,137,4],[138,4,140,4],[144,4,145,4],[146,4,147,4],[148,2,152,2],[148,4,152,4],[120,4,123,4],[127,2,128,2],[127,4,128,4],[130,4,133,4],[134,2,135,2],[134,4,135,4],[112,2,113,2],[112,3,113,3],[112,4,113,4],[116,2,117,2],[116,4,117,4],[100,2,104,2],[100,4,104,4],[105,2,109,2],[105,4,109,4],[110,2,111,2],[110,3,111,3],[110,4,111,4],[79,2,81,2],[79,4,81,4],[87,4,88,4],[93,4,96,4],[98,2,99,2],[98,3,99,3],[98,4,99,4],[69,2,70,2],[69,4,70,4],[71,2,73,2],[71,4,73,4],[76,2,78,2],[76,4,78,4],[34,2,38,2],[34,4,38,4],[40,4,42,4],[57,2,62,2],[57,4,62,4],[44,4,46,4],[49,4,51,4],[53,4,54,4]]}
[]
[]
[]
[]
[]
[]
[null,null,"Zkratky"]
[null,null,"ACC","Americká rada pro chemii"]
[null,null,"BAT","Nejlepší dostupná technika"]
[null,null,"CSR","Společenská odpovědnost podniku (korporátu)"]
[null,null,"EnB","Energetická základna"]
[null,null,"EnPI","Indikátor energetické výkonnosti"]
[null,null,"EWS","Evropské vodohospodářství"]
[null,null,"GHG","Skleníkový plyn"]
[null,null,"GRI","Globální iniciativa pro reportování"]
[null,null,"H&S","Zdraví a bezpečnost"]
[null,null,"ICCA","Mezinárodní rada chemických asociací"]
[null,null,"ICE","Intervence při mimořádných událostech v chemické dopravě"]
[null,null,"KPI","Klíčový ukazatel výkonnosti"]
[null,null,"LoPC","Ztráta primární obálky "]
[null,null,"MoC","Řízení změn"]
[null,null,"PDCA","Plánování , realizace, kontrola, opatření"]
[null,null,"PPE","Osobní ochranné prostředky"]
[null,null,"R&D","Výzkum a vývoj"]
[null,null,"REACH","Registrace, hodnocení, povolování a omezení chemických látek"]
[null,null,"SDG","Cíle udržitelného rozvoje"]
[null,null,"SDS","Bezpečnostní list"]
[null,null,"SEU","Významné užití/potřeba energie"]
[null,null,"SQAS","Systém hodnocení bezpečnosti a kvality"]
[null,null,"WBCSD","Světová obchodní rada pro udržitelný rozvoj"]
[]
[null,null,"Abecední seznam pojmů"]
[]
[null,null,"Pojem","Definice","Vychází z"]
[null,null,"Audit","Systematický, nezávislý a zdokumentovaný proces získávání důkazních informací a jeho objektivní hodnocení s cílem určit, do jaké míry jsou splněna kritéria auditu.\n","RC14001"]
[null,null,null,"Poznámka 1: Interní audit je prováděn vlastní organizací nebo externím subjektem v jejím zastoupení."]
[null,null,null,"Poznámka 2: Audit může být kombinovaným auditem (kombinací dvou nebo více oborů)."]
[null,null,null,"Poznámka 3: Nezávislost může být prokázána tím, že je vyloučena odpovědnost za auditovanou činnost nebo za to, že nedochází ke zkreslení a střetu zájmů."]
[null,null,null,"Poznámka 4: „ Auditní důkazy “ se skládají ze záznamů, skutečností nebo jiných informací, které jsou relevantní pro kritéria auditu a jsou ověřitelné; a „auditorská kritéria“ jsou souborem zásad, postupů nebo požadavků použitých jako reference, s nimiž se porovnává důkazní informace, jak je definováno v normě ISO 19011: 2011, 3.3 a 3.2."]
[null,null,"Uhlíková stopa","Čisté množství skleníkových Plynů (GHG) emise a pohlcení, vyjádřené v ekvivalentu CO2.","ISO16759"]
[null,null,"Oběhové hospodářství ","V oběhovém hospodářství je hodnota výrobků a materiálů udržována tak dlouho, jak je to jen možné. Odpady a spotřeba zdrojů jsou minimalizovány a pokud výrobek dosáhne konce své životnosti, znovu se použije k vytvoření nového výrobku. To může přinést velké ekonomické přínosy, které přispějí k inovacím, růstu a vytváření pracovních míst.","https://ec.europa.eu/growth/industry/sustainability/circular-economy_en"]
[null,null,null,"Na úrovni EU není uvedena žádná definice oběhového hospodářství. To je vážný nedostatek. Způsob, jakým EU popisuje oběhové hospodářství, obsahuje některé prvky, jak jsou zahrnuty do definice navrhované výše, ale postrádá holistický pohled na koncept oběhového hospodářství."]
[null,null,null,"Oběhové hospodářství je rozvíjející se ekonomický model, který pokrývá jak techniky, tak obchodní modely, aby se materiály a zdroje udržely co nejdéle a ideálně navždy v uzavřeném cyklu rozšířeného používání, opětovného použití a recyklace. Kritické složky oběhového hospodářství jsou průmyslová symbióza, sdílené hospodářství, „produkt jako služba“, úzký vztah mezi výrobcem a spotřebitelem, blízkost ekonomie, opětovné použití a recyklace, městská těžba, detoxikace materiálových cyklů a udržitelná spotřeba a výroba. Oproti oběhovému hospodářství se jedná o naprogramované zastarávání, downcycling, starší látky nebo ztrátu přidané hodnoty."]
[null,null,"Kompetence","Schopnost aplikovat znalosti a dovednosti k dosažení zamýšlených výsledků.","ISO14001/RC14001"]
[null,null,"Povinnosti v oblasti dodržování předpisů nebo právní požadavky","(Preferovaný termín) právní požadavky a jiné požadavky (přiznaný termín), které musí organizace dodržovat, a další požadavky, které musí organizace splnit nebo se rozhodne splnit. ","ISO14001/RC14001"]
[null,null,null,"Poznámka 1: Povinnosti v oblasti dodržování předpisů se týkají systému řízení z hlediska ochrany životního prostředí. "]
[null,null,null,"Poznámka 2: Povinnosti vyplývající z plnění závazků mohou vyplynout z povinných požadavků, jako jsou platné právní předpisy nebo dobrovolné závazky, jako jsou organizační a průmyslové normy, smluvní vztahy, kodexy praxe a dohody s představiteli měst a obcí nebo nevládními organizacemi (spolky, komunity)."]
[null,null,"Shoda","Splnění požadavku.","ISO14001/RC14001"]
[null,null,"Spotřebitel","Jednotlivý člen široké veřejnosti nakupující nebo využívající nemovitosti, výrobky nebo služby pro komerční, soukromé nebo veřejné účely.","ISO26000"]
[null,null,"Neustálé zlepšování","Opakující se činnost pro zvýšení výkonu. ","ISO14001/RC14001"]
[null,null,null,"Poznámka 1 ke vstupu: Zvyšování výkonnosti souvisí s používáním systému řízení z hlediska ochrany životního prostředí k posílení vlivu činnosti organizace na životní prostředí. "]
[null,null,null,"Poznámka 2 ke vstupu: Činnost nemusí probíhat ve všech oblastech současně, nebo bez přerušení."]
[null,null,"Kontraktor","Externí organizace poskytující služby organizaci v souladu s dohodnutými specifikacemi, podmínkami. Kontraktoři mohou zahrnovat údržbu, výstavbu, provoz, bezpečnost, terénní úpravy, údržbu zařízení, úklid a řadu dalších funkcí.","RC14001/ISO45001"]
[null,null,"Nápravná opatření","Opatření k odstranění příčiny neshody nebo incidentu a k zabránění opakování. ","ISO14001/RC14001/ISO45001"]
[null,null,null,"Poznámka 1 ke vstupu: Pro neshodu může být více než jedna příčina."]
[null,null,"Zákazník","Organizace nebo jednotlivý člen široké veřejnosti nakupující nemovitosti, produkty nebo služby pro komerční, soukromé nebo veřejné účely.","ISO26000"]
[null,null,"Distributoři","Tyto společnosti používá organizace k prodeji (často po přebalení) svých výrobků více následným uživatelům. Distributoři se liší od „prodejců“, kteří nakupují materiál a prodávají jej pod vlastní značkou.","RC14001"]
[null,null,"Dokumentované informace","Informace, které musí kontrolovat a udržovat organizace a medium (prostředek), na kterém jsou obsaženy.","ISO14001/RC14001"]
[null,null,null,"Poznámka 1: Dokumentované informace mohou být v jakémkoli formátu a médiích a z jakéhokoli zdroje."]
[null,null,null,"Poznámka 2: Dokumentované informace se mohou týkat:"]
[null,null,null,"•       systému environmentálního managementu, včetně souvisejících procesů;"]
[null,null,null,"•       informací vytvořené za účelem fungování organizace (lze ji označit jako dokumentaci);"]
[null,null,null,"•       důkazů o dosažených výsledcích (lze označit jako záznamy)."]
[null,null,"Následní uživatelé","Každá fyzická nebo právnická osoba usazená ve Společenství, jiná než výrobce nebo dovozce, která při své průmyslové nebo profesní činnosti používá látku buď samotnou nebo obsaženou v přípravku. Distributor nebo spotřebitel není následným uživatelem.","article 3(13) of REACH"]
[null,null,"Ekodesign","Začlenění environmentálních aspektů do produktového designu a vývoje s cílem snížit nepříznivé dopady na životní prostředí v průběhu celého životního cyklu výrobku.","ISO14006"]
[null,null,"Přírodní zdroje, Ekosystém ","Výhody, které lidé získávají z přírodních zdrojů. Česká definice ekosystému ze Zákona 114/1992, Sb. o ochraně přírody a krajiny: Ekosystém je funkční soustava živých a neživých složek životního prostředí, jež jsou navzájem spojeny výměnou látek, tokem energie a předáváním informací a které se vzájemně ovlivňují a vyvíjejí v určitém prostoru a čase.","Cefic - Biodiversity and Ecosystem services What are they all about?"]
[null,null,"Účinnost","Rozsah, ve kterém jsou realizovány plánované aktivity a dosaženy plánované výsledky.","ISO14001/RC14001"]
[null,null,"EMAS IV (2017)","Nařízení EMAS odkazuje na nařízení Evropského parlamentu a Rady (ES) č. 1221/2009 ze dne 25. listopadu 2009 o dobrovolné účasti organizací v systému Společenství pro environmentální řízení podniků a audit (EMAS) a o zrušení nařízení Rady (ES) č. 761/2001, rozhodnutí Komise 2001/681/ES a 2006/193/ES, známé jako EMAS III (Úřední věstník Evropských společenství L 342 ze dne 22. prosince 2009). Přílohy I, II a III nařízení EMAS byly pozměněny nařízením Komise (EU) 2017/1505, které vstoupilo v platnost dne 18. září 2017.","http://ec.europa.eu/environment/emas/emas_publications/policy_en.htm"]
[null,null,"Zaměstnanec","Osoba ve vztahu uznávaném jako „pracovní poměr“ ve vnitrostátním právu nebo praxi.","ISO26000"]
[null,null,"Energetická základna","Kvantitativní odkazy poskytující základ pro porovnání energetické náročnosti. Výchozí stav sptřeby energie. ","ISO50001"]
[null,null,null,"Poznámka 1: Energetická základna je založena na údajích z určeného časového období a/nebo podmínek, jak jsou definovány organizací."]
[null,null,"Energetická účinnost","Poměr nebo jiný kvantitativní vztah mezi výkonem, službou, zbožím, komoditami nebo energií a vstupem energie.","ISO50001"]
[null,null,null,"Příklad: Účinnost konverze; potřebná energie/ spotřebovaná energie. "]
[null,null,null,"Poznámka 1: Vstup i výstup by měly být jasně specifikovány z hlediska množství a kvality a měly by být měřitelné."]
[null,null,"Indikátor energetické účinnosti (ENPI)","Kvantifikace EnPI v určitém bodě nebo za určité časové období.","ISO50001"]
[null,null,"Využití energie","Použití energie. Příklad: Větrání; osvětlení; topení; chlazení; přeprava; datové úložiště; výrobní proces.","ISO50001"]
[null,null,"Životní prostředí","Přírodní prostředí, ve kterém organizace působí, včetně ovzduší, vody, půdy, přírodních zdrojů, flóry, fauny, lidí a jejich vzájemných vztahů.","ISO14001/RC14001/ISO26000"]
[null,null,null,"Poznámka 1: Okolí se může rozšířit zevnitř organizace na místní, regionální a globální systém."]
[null,null,null,"Poznámka 2: Okolí lze popsat z hlediska biodiverzity, ekosystémů, klimatu nebo jiných charakteristik."]
[null,null,"Environmentální aspekt","Prvek činnosti organizace nebo produktů nebo služeb, které jsou nebo mohou být v interakci s životním prostředím.","ISO14001/RC14001"]
[null,null,null,"Poznámka 1: Environmentální aspekt může způsobit dopad(y) na životní prostředí. Významným environmentálním aspektem je aspekt, který má nebo může mít jeden nebo více významných dopadů na životní prostředí."]
[null,null,null,"Poznámka 2: Významné environmentální aspekty určuje organizace, která uplatňuje jedno nebo více kritérií."]
[null,null,"Stav životního prostředí","Stav nebo charakteristika prostředí určená v určitém časovém okamžiku.","ISO14001/RC14001"]
[null,null,"Ukazatele environmentální výkonnosti ","Environmentální cíl, cílová hodnota nebo jiný zamýšlený údaj environmentální výkonnosti stanovený vedením organizace a používaný pro účely hodnocení environmentální výkonnosti.","ISO14050"]
[null,null,"Vliv na životní prostředí","Změna životního prostředí, ať už nepříznivá nebo prospěšná, zcela nebo částečně vyplývající z environmentálních aspektů organizace.","ISO14001/RC14001"]
[null,null,"Systém řízení z hlediska ochrany životního prostředí","Část systému řízení používaného pro řízení environmentálních aspektů, plnění povinností týkajících se dodržování předpisů a řešení rizik a příležitostí.","ISO14001/RC14001"]
[null,null,"Environmentální cíl","Cíl stanovený organizací v souladu s její politikou v oblasti životního prostředí.","ISO14001/RC14001"]
[null,null,"Vliv na životní prostředí","Výkonnost související s řízením environmentálních aspektů.","ISO14001/RC14001"]
[null,null,null,"Poznámka 1: U systému environmentálního řízení lze výsledky měřit podle environmentální politiky organizace, environmentálních cílů nebo jiných kritérií s využitím ukazatelů."]
[null,null,"Etické chování","Chování, které je v souladu s přijatými zásadami správného nebo dobrého chování v souvislosti s určitou situací a je v souladu s mezinárodními normami chování. Mezinárodními normami chování jsou očekávání společensky odpovědného organizačního chování odvozená od obvyklého mezinárodního práva, obecně uznávaných zásad mezinárodního práva nebo mezivládních dohod (včetně smluv a úmluv), které jsou všeobecně nebo téměř všeobecně uznávány.","ISO26000"]
[null,null,"Emise skleníkových plynů v rozsahu 1, 2 a 3","Firemní standard protokolu GHG klasifikuje emise skleníkových plynů společnosti do tří „scope = rozsahů“. Emise scope 1 jsou přímé emise z vlastněných nebo kontrolovaných zdrojů. Emise scope 2 jsou nepřímé emise z výroby nakoupené energie. Emise scope 3 jsou všechny nepřímé emise (nezahrnuté do scope 2), které se vyskytují v hodnotovém řetězci vykazující společnosti, včetně předcházejících i navazujících emisí.","GHG protocol"]
[null,null,"GHS","Globálně harmonizovaný systém klasifikace a označování chemických látek je mezinárodně dohodnutý standard, který řídí Organizace spojených národů pro klasifikaci a označování chemikálií, které lze považovat za základ správného chemického řízení.","GHS"]
[null,null,"Nebezpečí","Skutečná nebo potenciální situace, která ohrožuje život, zdraví, majetek, životní prostředí nebo pracoviště nebo jejich kombinaci.","RC14001/RCMS"]
[null,null,"Mimořádná událost (nehoda)","Výskyt nebo průběh prací, které vedou nebo by mohly vést k újmě na zdraví. ","ISO45001"]
[null,null,null,"Poznámka 1: Událost, kdy dojde ke zranění a poškození zdraví, bývá někdy označován za „nehodu“. "]
[null,null,null,"Poznámka 2: Událost, kdy k žádnému zranění a poškození zdraví nedochází, ale má k tomu potenciál, může být označován jako „skoronehoda”."]
[null,null,null,"Poznámka 3: K incidentu zpravidla dochází následkem jedné nebo více neshod, nicméně k incidentu může dojít i tam, kdy nedochází k neshodě."]
[null,null,"Ukazatel ","Měřitelné znázornění stavu nebo stavu operací, řízení nebo podmínek.","RC14001"]
[null,null,"ISO 9001:2015 Řízení kvality (Quality management)","ISO 9001:2015 stanoví kritéria pro systém řízení kvality. Tento standard je založen na řadě principů řízení kvality, včetně silného zaměření na zákazníka, motivace a implikace vrcholového managementu, procesního přístupu a neustálého zlepšování. Použití ISO 9001:2015 pomáhá zajistit, aby zákazníci získali konzistentní, kvalitní produkty a služby, což zase přináší mnoho obchodních výhod.","www.iso.org"]
[]
[null,null,"ISO14001: 2015: Systémy environmentálního managementu - Požadavky s návodem k použití","ISO 14001: 2015 specifikuje požadavky na systém environmentálního managementu, který může organizace použít ke zlepšení svého vlivu na životní prostředí. ISO 14001: 2015 je určena k použití organizací usilující o systematické řízení environmentálních odpovědností, které přispívají k environmentálnímu pilíři udržitelnosti. ISO 14001: 2015 pomáhá organizaci dosáhnout zamýšlených výsledků jejího systému environmentálního managementu, který poskytuje hodnotu pro životní prostředí, samotnou organizaci a zainteresované strany. V souladu s environmentální politikou organizace zahrnují zamýšlené výstupy systému environmentálního managementu:","www.iso.org"]
[null,null,null,"· Zlepšení vlivu na životní prostředí;"]
[null,null,null,"· Plnění povinností v oblasti dodržování předpisů;"]
[null,null,null,"· Dosažení environmentálních cílů."]
[null,null,null,"ISO 14001: 2015 je použitelná pro jakoukoli organizaci, bez ohledu na velikost, typ a povahu a vztahuje se na environmentální aspekty svých činností, produktů a služeb, které organizace stanoví, že může kontrolovat nebo ovlivňovat s ohledem na životní cyklus."]
[null,null,"ISO45001: 2018: Systémy řízení bezpečnosti a ochrany zdraví při práci - Požadavky s návodem k použití","ISO 45001:2018 specifikuje požadavky na systém řízení bezpečnosti a ochrany zdraví při práci (BOZP) a poskytuje pokyny pro jeho používání, aby organizace mohly poskytovat bezpečné a zdravé pracoviště s prevencí pracovních úrazů a nemocí z povolání, jakož i aktivním zlepšováním jejich OH&S výkonu. ISO 45001:2018 je použitelná pro všechny organizace, které si přejí zřídit, implementovat a udržovat systém řízení BOZP, aby se zlepšilo zdraví a bezpečnost při práci, eliminovala se a minimalizovala rizika BOZP (včetně systémových nedostatků), využívaly se příležitosti ke zlepšování BOZP a neshody BOZP byly řešeny systémově. ISO 45001:2018 pomáhá organizaci dosáhnout jejích zamýšlených výsledků při řízení BOZP. V souladu s politikou BOZP organizace jsou zamýšlenými výstupy systému řízení BOZP:","www.iso.org"]
[null,null,null,"a) neustálé zlepšování výkonu OH&S;"]
[null,null,null,"b) plnění právních a dalších požadavků BOZP;"]
[null,null,null,"c) dosažení cílů BOZP."]
[null,null,null,"Tato norma nahrazuje předchozí předpis OHSAS 18001:2007 (překlopení nejpozději do roku 2021)."]
[null,null,"ISO50001: 2018: Systémy řízení energie - Požadavky s návodem k použití","Tato norma specifikuje požadavky na zřízení, implementaci, údržbu a zdokonalení systému řízení energií (EnMS). Zamýšleným výsledkem je umožnit organizaci systematický přístup k dosažení neustálého zlepšování energetické náročnosti a EnMS.","www.iso.org"]
[]
[null,null,"ISO26000: 2010: Pokyny pro sociální odpovědnost","ISO 26000 poskytuje návod, jak podniky a organizace mohou fungovat sociálně odpovědným způsobem. To znamená jednat etickým a transparentním způsobem, který přispívá ke zdraví a blahu společnosti. Tato norma poskytuje návod, ale žádné požadavky, protože není certifikovatelná.\twww.iso.org\n","www.iso.org"]
[]
[null,null,"Indikátory zaostávání","Indikátory zaostávajícího stavu měří incidenty společnosti ve formě statistik minulých nehod. Indikátory zaostávání jsou tradiční bezpečnostní ukazatele používané k označení pokroku při dodržování bezpečnostních pravidel. Jedná se o čísla, která hodnotí celkovou efektivitu bezpečnosti v zařízení společnosti.","Ergonomics Plus (ergo-plus.com)"]
[null,null,"Hlavní ukazatelé","Hlavní ukazatel je opatření předcházející nebo označující budoucí událost používanou k řízení a měření činností prováděných k prevenci a kontrole zranění. Hlavní ukazatele jsou zaměřeny na budoucí bezpečnost a neustálé zlepšování. Tato opatření jsou proaktivní povahy a informují o tom, co zaměstnanci pravidelně dělají, aby se zabránilo úrazům.","Ergonomics Plus (ergo-plus.com)"]
[null,null,"Životní cyklus","Následné a vzájemně propojené fáze systému výrobků (nebo služeb), od pořízení surovin nebo výroby od přírodních zdrojů po konečnou likvidaci. ","ISO14001/RC14001"]
[null,null,null,"Poznámka 1: Etapy životního cyklu zahrnují pořízení surovin, návrh, výrobu, přepravu / dodávku, využití, konečnou úpravu a konečnou likvidaci."]
[null,null,"Poskytovatelé logistických služeb ","Kategorie společností, které mohou zahrnovat, ale nejsou omezeny na poskytovatele dopravních služeb, jiné služby související s pohybem produktů a / nebo dodávek.","RC14001"]
[null,null,"Řízení změn (MoC)","Postup používaný při provádění změn v procesním zařízení nebo provozních postupech k podrobnému provedení změn a dokumentování kroků podniknutých k informování a zaškolení obsluhy a příslušných zainteresovaných stran o změnách procesu.","ISO27914"]
[null,null,"Systém řízení","Sada vzájemně propojených nebo vzájemně se ovlivňujících prvků organizace za účelem stanovení politik a cílů a procesů k dosažení těchto cílů.","ISO14001/RC14001"]
[null,null,null,"Poznámka 1: Systém řízení může řešit jednu disciplínu nebo několik oborů (např. Kvalita, životní prostředí, zdraví a bezpečnost při práci, energetika, finanční řízení)."]
[null,null,null,"Poznámka 2: Mezi prvky systému patří struktura, role a odpovědnosti organizace, plánování a provoz, hodnocení a zlepšování výkonu."]
[null,null,null,"Poznámka 3: Rozsah systému řízení může zahrnovat celou organizaci, specifické a identifikované funkce organizace, specifické a identifikované sekce organizace nebo jednu nebo více funkcí napříč skupinou organizací."]
[null,null,"Významnost","Posouzení významnosti je princip, který pomáhá definovat a určit obchodní, sociální a environmentální témata, která jsou pro podnik a jeho zainteresované strany nejdůležitější."]
[null,null,null,"Věcné téma je téma, které odráží významné ekonomické, environmentální a sociální dopady reportující organizace; nebo to podstatně ovlivňuje hodnocení a rozhodnutí zainteresovaných stran","GRI Standards 2018"]
[null,null,"Měření","Proces stanovení hodnoty","ISO14001/RC14001"]
[null,null,"Monitoring","Určení stavu systému, procesu nebo aktivity.","ISO14001/RC14001"]
[null,null,null,"Poznámka 1: K určení stavu může být nutná kontrola, dohled nebo kritické pozorování."]
[null,null,"Neshoda","Nesplnění požadavku. Jakákoli odchylka od plánovaných činností v rámci požadavků systému řízení, které si organizace sama stanoví. Například, pokud systém sledování mimořádných událostií (nehod) v závodě vyžaduje, aby byly mimořádné události (nehody) v oblasti zdraví a bezpečnosti zaznamenány do databáze do 48 hodin od výskytu, jakákoli událost, která nebyla zaznamenána ani zaznamenána po 48 hodinách, by byla považována za neshodu.","ISO14001/RC14001/RCMS"]
[null,null,"Cíl","Výsledek, kterého má být dosaženo.","ISO14001/RC14001"]
[null,null,null,"Poznámka 1: Cíl může být strategický, taktický nebo operativní."]
[null,null,null,"Poznámka 2:: Cíle se mohou týkat různých oborů (jako jsou finanční, zdravotní a bezpečnostní cíle a cíle v oblasti životního prostředí) a mohou se uplatňovat na různých úrovních (např. Strategické, organizační, projektové, produktové, servisní a procesní)."]
[null,null,null,"Poznámka 3: Cíl může být vyjádřen jinými způsoby, např. jako zamýšlený výsledek, účel, provozní kritérium, jako environmentální cíl, nebo použitím jiných slov s podobným významem."]
[null,null,"Systém řízení bezpečnosti a ochrany zdraví při práci (OH&S MS)","Systém řízení nebo část systému řízení používaného k dosažení politiky BOZP.","ISO45001"]
[null,null,null,"Poznámka 1: Zamýšlenými výstupy systému řízení BOZP je předcházet úrazům a špatnému zdraví pracovníků a poskytovat bezpečná a zdravá pracoviště."]
[null,null,"Organizace","Subjekt nebo skupina lidí s uspořádáním odpovědností, pravomocí a vztahů k dosažení svých cílů.","ISO14001/RC14001/ISO26000"]
[null,null,null,"Poznámka 1: Pojem organizace zahrnuje, ale není omezen na živnostníka, společnost, korporaci, firmu, podnik, orgán, partnerství, charitu nebo instituci nebo jejich část nebo kombinaci, ať už jsou začleněny, veřejné nebo soukromé ."]
[null,null,"Výkonnost","Měřitelný výsledek.","ISO14001/RC14001"]
[null,null,null,"Poznámka 1: Výkonnost se může vztahovat buď na kvantitativní, nebo kvalitativní zjištění."]
[null,null,null,"Poznámka 2 k zápisu: Výkonnost se může týkat řízení činností, procesů, produktů (včetně služeb), systémů nebo organizací."]
[null,null,"Ukazatel výkonnosti","Míra nebo jednotka výkonnosti podle definice organizace.","ISO50001"]
[null,null,"Politika","Záměry a řízení organizace související s (environmentálním) výkonem, jak je formálně vyjádřeno vrcholovým managementem.","ISO14001/RC14001"]
[null,null,"Hodnocení udržitelnosti portfolia","Metodika pro podniky nebo celá odvětví při rozvoji vysoce kvalitních přístupů k posouzení udržitelnosti jejich činností nebo jejich segmentů.","WBCSD"]
[null,null,"Prevence znečištění","Používání procesů, postupů, technik, materiálů, produktů, služeb nebo energie k zamezení, omezení nebo kontrole (samostatně nebo v kombinaci) vytváření, emisím nebo vypouštěním jakéhokoli typu znečišťující látky nebo odpadu s cílem snížit nepříznivé dopady na životní prostředí.","ISO14001/RC14001"]
[null,null,null,"Poznámka 1: Prevence znečištění může zahrnovat snížení nebo odstranění zdroje; změny procesů, produktů nebo služeb; efektivní využívání zdrojů; náhradu materiálu a energie; opětovné použití; znovuzískání; recyklaci; rekultivaci nebo zpracování"]
[null,null,"Postup","Specifikovaný způsob provedení činnosti nebo procesu.","ISO45001"]
[null,null,null,"Poznámka 1: Postupy mohou být dokumentovány či nikoli."]
[null,null,"Proces","Sada vzájemně propojených nebo interakčních činností, které transformují vstupy na výstupy.","ISO14001/RC14001/ISO50001"]
[null,null,null,"Poznámka 1: Proces může být   zdokumentován či nikoliv."]
[null,null,null,"Poznámka 2: Proces související s činnostmi organizace může být:"]
[null,null,null,"• fyzický (např. Procesy využívající energii, jako je spalování), nebo"]
[null,null,null,"• podnikání nebo služba (např. Splnění objednávky)."]
[null,null,"Procesní bezpečnost","Procesní bezpečnost je disciplinovaný rámec pro správu integrity operačních systémů a procesů nakládajících s nebezpečnými látkami pomocí dobrých zásad návrhu, inženýrství a provozních postupů. Zabývá se prevencí a kontrolou incidentů, které mají potenciál uvolňovat nebezpečné materiály nebo energii. Tyto incidenty mohou způsobit toxické účinky, požár nebo výbuch a v konečném důsledku by mohly mít za následek vážné zranění, poškození majetku, ztrátu výroby a dopad na životní prostředí.","www.aiche.org"]
[null,null,"Bezpečnost výrobku","Řízení bezpečnosti výrobků vyžaduje pochopení zamýšlených použití produktů, vědecké posouzení potenciálních rizik produktů a zvážení možností řízení bezpečnosti výrobků v hodnotovém řetězci. Klíčovou součástí řízení bezpečnosti produktů stranami v hodnotovém řetězci je výměna informací o nebezpečích produktu, zamýšleném použití, postupech při manipulacích, expozicích a rizicích.","RC14001"]
[null,null,"Dozor nad výrobkem (Správa výrobku)","Produktový dozor vede účastníky zapojené do životního cyklu výrobku k tomu, aby převzali společnou odpovědnost za pochopení, řízení a komunikaci dopadů na lidské zdraví a životní prostředí, které vyplývají z vývoje, výroby, používání, distribuce a řízení výrobku na konci životnosti. To pomáhá společnostem a jejich partnerům podporovat bezpečné a environmentálně udržitelné používání výrobků.","RCMS"]
[null,null,"Informace o dozoru nad výrobkem","Informační prvky, které mohou být zveřejněny, zahrnují mimo jiné:","RC14001"]
[null,null,null,"• Chemická identita (nebo popis kategorie)"]
[null,null,null,"• Použití - aplikace, funkce"]
[null,null,null,"• Fyzikální / chemické vlastnosti"]
[null,null,null,"• Účinky na zdraví"]
[null,null,null,"• Účinky na životní prostředí"]
[null,null,null,"• Expozice - expoziční potenciál"]
[null,null,null,"• Řízení rizik - doporučená opatření"]
[null,null,null,"Mohou být také zahrnuty další prvky, které by mohly posílit zprávu o správě společnosti."]
[null,null,"Recyklace","Recyklací se rozumí jakákoli operace zhodnocování, při které se odpadní materiály přepracují na produkty, materiály nebo látky, ať už pro původní nebo jiné účely. Zahrnuje přepracování organického materiálu, ale nezahrnuje energetické využití a přepracování na materiály, které mají být použity jako paliva nebo pro technické rekultivace","Waste Framework Directive"]
[null,null,"Obnovitelné suroviny","Obnovitelné suroviny jsou suroviny, které nepocházejí z fosilních nebo konečných zdrojů nerostných surovin. Mohou být vyráběny nekonečně na základě přírodních procesů nebo obnovitelné energie.","Management for a Small Planet\" by Jean Garner Stead and W. Edward Stead, M.E. Sharpe 2009"]
[null,null,"Požadavek","Potřeba nebo očekávání, které je uvedeno, obecně předpokládané nebo povinné.","ISO14001/RC14001"]
[null,null,null,"Poznámka 1: „Obecně předpokládané “znamená, že je obvyklou nebo běžnou praxí pro organizaci a zainteresované strany, že uvažovaná potřeba nebo očekávání jsou předpokládány."]
[null,null,null,"Poznámka 2: Specifikovaný požadavek je takový, který je uveden například v dokumentovaných informacích."]
[null,null,null,"Poznámka 3: Jiné požadavky než právní požadavky se stávají povinnými, pokud se organizace rozhodne je dodržet."]
[null,null,"Responsible Care (Odpovědná péče)","Mezinárodní iniciativa pro zlepšení výkonnosti chemického průmyslu v oblasti životního prostředí, zdraví a bezpečnosti (v některých případech zahrnuje i bezpečnost). Responsible Care je založeno na konceptech neustálého zlepšování a otevřenosti v reakci na obavy zainteresovaných stran z provozu a výrobků odvětví.","RC14001"]
[null,null,"RC14001","Jedná se o technickou specifikaci, která kombinuje prvky iniciativy Responsible Care® od American Chemistry Council (ACC) s těmi, které jsou součástí normy ISO Environmental Management Systems Standard, ISO 14001: 2015. Programy Responsible Care v USA a Kanadě formálně přijaty a jednotlivé společnosti (někteří členové ACC, někteří nezávislí na ACC) se rozhodli požádat o certifikaci proti němu v jiných částech světa (např. Evropa, Brazílie, Čína, Indie, Austrálie a Střední východ).","ACC website"]
[null,null,"(Vydání 2015)            "]
[null,null,"RCMS:2013","Systém Responsible Care (RCMS) je technická specifikace ACC. V USA a Kanadě si mohou společnosti Responsible Care vybrat buď certifikát na RC14001 nebo RCMS.","ACC website"]
[null,null,"Opětovné použití","„Opětovným použitím“ se rozumí jakákoli operace, při níž jsou výrobky nebo součásti, které nejsou odpady, znovu použity pro stejný účel, pro který byly určeny;","Waste Framework Directive"]
[null,null,"Riziko","Účinek nejistoty (nepředvídatelnosti).","ISO14001/RC14001"]
[null,null,null,"Poznámka 1: Účinek je odchylka od očekávaného – pozitivní nebo negativní."]
[null,null,null,"Poznámka 2: Nejistota je stav, ato i částečný, nedostatku informací týkajících se události, jejího pochopení nebo znalosti, události, jejího důsledku nebo pravděpodobnosti."]
[null,null,null,"Poznámka 3: Riziko je často charakterizováno odkazem na možné „události“(jak je definováno v ISO Pokynu 73: 2009, 3.5.1.3) a „důsledky“(jak je definováno v ISO Pokynu 73: 2009, 3.6.1.3), nebo jejich kombinace."]
[null,null,null,"Poznámka 4: Riziko se často vyjadřuje jako kombinace důsledků události (včetně změn okolností) a přidružené „pravděpodobnosti“(jak je definováno v ISO Pokynu 73: 2009, 3.6.1.1) výskytu."]
[null,null,"Posouzení rizik","Celkový proces zahrnující analýzu rizik a hodnocení rizik.","ISO14971"]
[null,null,"Rizika a příležitosti","Potenciální nepříznivé účinky (hrozby) a potenciální příznivé účinky (příležitosti).","ISO14001/RC14001"]
[null,null,"Analýza kořenových příčin (RCA)","Proces identifikace všech hlavních příčin, které mají nebo mohly mít za následek nežádoucí stav, situaci, neshodu nebo selhání.","ISO18238"]
[null,null,"Druhotné suroviny","Druhotné suroviny jsou odpady (odpadní materiály) na konci jednoho životního cyklu, které opustily status odpadu a stávají se surovinami pro nový životní cyklus.","http://www.europarl.europa.eu/legislative-train/theme-new-boost-for-jobs-growth-and-investment/file-strategy-for-secondary-raw-materials"]
[null,null,"Významná spotřeba energie (SEU)","Energy use accounting for substantial energy consumption and/or offering considerable","ISO50001"]
[null,null,null,"potential for energy performance improvement."]
[null,null,null,"Note 1 to entry: Significance criteria are determined by the organisation."]
[null,null,null,"Note 2 to entry: SEUs can be facilities, systems, processes, or equipment."]
[null,null,"Společenská odpovědnost","Odpovědnost organizace za dopady jejích rozhodnutí a činností (včetně výrobků, služeb a procesů) na společnost a životní prostředí prostřednictvím transparentního a etického chování, které: ","ISO26000"]
[null,null,null,"•       přispívá k udržitelnému rozvoji, včetně zdraví a blahobytu společnosti;"]
[null,null,null,"•       bere v úvahu očekávání zainteresovaných stran;"]
[null,null,null,"•      je v souladu s platnými právními předpisy a v souladu s mezinárodními normami chování; a"]
[null,null,null,"•      je integrován v celé organizaci a praktikován ve vztazích."]
[null,null,"Zainteresované strany ","Osoba nebo skupina, která může ovlivnit, být ovlivněna nebo vnímat sama sebe, aby byla ovlivněna rozhodnutím nebo činností organizace. Zainteresovanými stranami mohou být vlády, zákazníci, komunity, dodavatelé, nevládní organizace, investoři, sousedé, zaměstnanci a kdokoli jiný s osobním podílem na činnosti organizace. ","ISO14001/RC14001/ISO26000/RCMS"]
[null,null,null,"Poznámka 1: „vnímat sám sebe jako postiženého“ znamená, že vnímání bylo organizaci sděleno.."]
[null,null,"Stop Work Authority (Oprávnění zastavit práci)","Stop Work Authority je program, který zajišťuje každému pracovníkovi (internímu nebo externímu), který se přímo nebo nepřímo účastní operace, odpovědnost a pravomoc ukončit práci do doby, kdy bude ověřeno, že lze v činnosti bezpečně pokračovat.","API Bulletin 97, Well Construction Interface Document Guidelines, První vydání, prosinec 2013"]
[null,null,"Dodavatelé","Nejčastěji jsou definovány jako poskytovatelé surovin potřebných pro výrobní činnosti společnosti. To lze také definovat jako poskytovatele chemikálií pro údržbu, vybavení a v některých případech i služeb. Z tohoto důvodu některé společnosti definují kontraktory jako podkategorii dodavatelů.","RC14001"]
[null,null,"Dodavatelský řetězec","Sled činností nebo stran, které organizaci poskytují produkty nebo služby.","ISO26000"]
[null,null,"Udržitelný rozvoj","Vývoj, který odpovídá potřebám současnosti, aniž by ohrozil schopnost budoucích generací uspokojovat vlastní potřeby.","ISO26000"]
[null,null,"Cíle udržitelného rozvoje (SDGs)","Cíle udržitelného rozvoje jsou souborem 17 globálních cílů stanovených Valným shromážděním OSN v roce 2015. Tyto cíle pokrývají otázky sociálního a ekonomického rozvoje, včetně chudoby, hladu, zdraví, vzdělávání, globálního oteplování, rovnosti žen a mužů, vody, hygieny, energie, urbanizace, životního prostředí a sociální spravedlnosti.","UN"]
[null,null,null,"Více informací můžete nalézt zde: "]
[null,null,null,"https://sustainabledevelopment.un.org/?menu=1300"]
[null,null,"Třetí strany","Každá společnost spojená s činnostmi organizace, která jednoznačně nespadá do kategorií uvedených dříve v ustanovení. Mohou to být sklady, terminály, agenti, dodavatelé odpadů atd.","RC14001"]
[null,null,"Top (vrcholový) management nebo  střední management","Osoba nebo skupina lidí, která vede a řídí organizaci na nejvyšší úrovni.","ISO14001/RC14001"]
[null,null,null,"Poznámka 1: Top management má pravomoc delegovat pravomoci a poskytovat zdroje v rámci organizace."]
[null,null,null,"Poznámka 2: Pokud rozsah systému řízení pokrývá pouze část organizace, top management se týká těch, kteří vedou a řídí tuto část organizace."]
[null,null,"Transparentnost","Otevřenost o rozhodnutích a činnostech, které ovlivňují společnost, ekonomiku a životní prostředí, a ochotu komunikovat je jasným, přesným, včasným, čestným a úplným způsobem.","ISO26000"]
[null,null,"Hodnotový řetězec","Hodnotový řetězec chemie zahrnuje celou řadu činností, které jsou nezbytné k tomu, aby se výstup související s chemií dostal od jeho koncepce až po konečné použití (např. Návrh, nákup, výroba a distribuce). Činnosti hodnotového řetězce mohou být obsaženy v rámci jedné organizace nebo rozděleny mezi různé organizace a mohou být obsaženy v rámci jedné zeměpisné polohy nebo mohou být rozšířeny do širších oblastí.","RC14001"]
[null,null,"Pracoviště","Místo, kde pracovník vykonává pracovní činnost.","ISO45001"]

{"sheet":"Identifikace","index":3,"n_rows":33,"n_cols":5,"rows_kept":33,"cut":false,"hidden":false,"merged":[[25,1,30,2]]}
[null,"Jedná se o volitelnou stránku, na které můžete uvést podrobnosti o vaší společnosti a rok vyplnění pro účely záznamu a porovnání."]
[]
[null,"Název společnosti","Skupina SPOLCHEMIE (Spolek pro chemickou a hutní výrobu, akciová společnost, EPISPOL, a.s., CHS Epi a.s., SPOLCHEMIE Electrolysis, a.s.)"]
[]
[null,"Odvětví ","Výroba nebezpečných chemických látek a nebezpečných chemických přípravků a prodej chemických látek a chemických přípravků klasifikovaných jako vysoce toxické a toxické",null,"Např. : Chemie, farmacie, výroba polymerů, atd. "]
[]
[null,"Velikost podniku: "]
[null,"Počet plných pracovních úvazků",831]
[null,"Počet závodů",1,null,"Můžete použít tento nástroj pro jednotlivý závod (uveďte 1) nebo pro kombinaci závodů  nebo pro celý právnický subjekt"]
[]
[null,"Historie Responsible Care (rok přihlášení k plnění principů Responsible Care)","Spolek pro chemickou a hutní výrobu, akciová společnost - 1997, EPISPOL a.s. - 2005, CHS Epi a.s. - 2014, SPOLCHEMIE Electrolysis a.s. - 2020",null,"Přihlásila se vaše organizace k Responsible Care? Od kdy?"]
[]
[null,"Jméno respondenta","Ing. Pavel Žák"]
[]
[null,"Pozice respondenta ve společnosti","Technický ředitel",null,"Např.: HSE manager, enviromentální inženýr, manager společnosti, …"]
[]
[null,"V případě většího počtu respondentů, uveďte seznam jmen a jejich pozic."]
[]
[null,"Jméno","Pozice",null,"v případě potřeby přidejte řádek"]
[null,"Ing. Zdeněk Remiaš","Specialista chemické výroby"]
[]
[]
[]
[]
[null,"Obecné poznámky"]
[]
[]
[]
[]
[]
[]
[]
[null,"Souhlasíte s tím, že váš výsledek bude použit v anonymním benchmarku?"]

{"sheet":"Kapitola 1","index":4,"n_rows":112,"n_cols":15,"rows_kept":112,"cut":false,"hidden":false,"merged":[[54,6,57,9],[60,6,63,9],[66,6,69,9],[108,6,111,9],[74,6,77,9],[80,6,83,9],[86,6,89,9],[92,6,95,9],[100,6,103,9],[53,3,53,4],[6,6,9,9],[12,6,15,9],[20,6,23,9],[28,6,31,9],[34,6,37,9],[40,6,43,9],[46,6,49,9],[39,3,39,4],[107,3,107,4],[97,5,103,5],[105,5,111,5],[33,3,33,4],[5,3,5,4],[73,3,73,4],[85,3,85,4],[91,3,91,4],[79,3,79,4],[3,5,15,5],[17,5,23,5],[25,5,49,5],[51,5,69,5],[71,5,95,5],[27,3,27,4],[45,3,45,4]]}
[null,"KAPITOLA 1: Podniková kultura vedení ",null,null,null,null,null,null,null,null,null,null,null,{"$f":"IF(O1=\"\",\"\",\"Still to do\")","v":""},{"$f":"'Začátek a předvyplnění dotazník'!$G$9","v":""}]
[null,null,null,null,null,null,"Klikněte pouze na jednu z možností"]
[]
[null,"Rozsah & Závazek",null,null,null,{"$f":"B4","v":"Rozsah & Závazek"}]
[null,null,null,null," "]
[null,{"$f":"COUNTIF(C7:C112,\"nekonzistentní\")","v":0},"Q1.1","Jak se projevuje závazek plnit povinnosti týkající se dodržování předpisů a zásad Responsible Care = RC (tj. ochrana a podpora zdraví a bezpečnost lidí, životního prostředí a udržitelnosti) na všech úrovních organizace?\n",null,null,{"$f":"C6","v":"Q1.1"},"poznámky"]
[null,null,{"$f":"IF(COUNTIF(K7:K10,TRUE)=0,\"neúplné\",IF(COUNTIF(K7:K10,TRUE)=1,\"\",\"nekonzistentní\"))","v":""},"a)","Top management se zavazuje k RC a dodržování předpisů, ale tento závazek však ještě není formalizován do podoby konkrétních zásad.",null,"Skupina má v rámci IMS definovány politiky pro ŽP, BOZP a PZH, které odrážejí aktuální potřeby organizace, definované politiky jsou volně dostupné dokumenty (web, intranet). Skupina otevřeně komunikuje se zainteresovanými stranami.",null,null,null,false]
[null,null,null,"b)","Byla zavedena politika, která však není veřejně přístupná a zahrnuje pouze závazek k některým tématům v oblasti zdraví, bezpečnosti, životního prostředí, energetiky a udržitelnosti.",null,null,null,null,null,false]
[null,null,null,"c)","Zásady jsou komunikovány interně, jsou k dispozici veřejnosti a zahrnují závazek plnit svoje povinnosti vyplývající z dodržování předpisů a neustálého zlepšování RC. To zahrnuje závazek řídit výkonnost v souvislosti se zdravím a bezpečností, životním prostředím, energetikou a udržitelným rozvojem.",null,null,null,null,null,false]
[null,null,null,"d)","Zásady jsou aktivně sdělovány externím stranám (subjektům) a jsou k dispozici veřejnosti. Jsou podporovány viditelně vedením, zapojením top managmentu a dalšími úrovněmi organizace.  Politika je realizována v rámci obchodních procesů.",null,null,null,null,null,true]
[null,null,null,null," "]
[null,null,"Q1.2","Jakým způsobem řídí organizace příslušná rizika a příležitosti?  ",null,null,{"$f":"C12","v":"Q1.2"},"poznámky"]
[null,null,{"$f":"IF(COUNTIF(K13:K16,TRUE)=0,\"neúplné\",IF(COUNTIF(K13:K16,TRUE)=1,\"\",\"nekonzistentní\"))","v":""},"a)","Organizace řídí rizika vyplývající z právních požadavků.",null,"Skupina identifikovala poblémy, rizika a nové možné příležitosti (aktuálně souvislost s Green deal) a aktivně se zabývá novými projekty (jejich realizace se předpokládá v horizontu následujích 5-ti let).",null,null,null,false]
[null,null,null,"b)","Organizace také identifikovala interní a externí problémy, které jsou nezbytné pro plnění jejího účelu a cíle, ale ještě nestanovila, které představují rizika či příležitosti pro organizaci.",null,null,null,null,null,false]
[null,null,null,"c)","Organizace identifikovala klíčové vnější a vnitřní problémy a určila, která představují rizika a příležitosti pro organizaci a zároveň představila zamýšlené výsledky týkající se zdraví, bezpečnosti, životního prostředí, energetiky a udržitelnosti (HSE&S).",null,null,null,null,null,false]
[null,null,null,"d)","Organizace identifikovala problémy, stanovila, které představují rizika nebo příležitosti pro organizaci a proaktivně je řeší vypracováním opatření a jejich pravidelným posuzováním.  ",null,null,null,null,null,true]
[]
[null,"Dodržování předpisů \n ",null,null,null,{"$f":"B18","v":"Dodržování předpisů \n "}]
[null,null,null,null," "]
[null,null,"Q1.3","Jakým způsobem monitoruje organizace svoje zákonné povinnosti? ",null,null,{"$f":"C20","v":"Q1.3"},"poznámky"]
[null,null,{"$f":"IF(COUNTIF(K21:K24,TRUE)=0,\"neúplné\",IF(COUNTIF(K21:K24,TRUE)=1,\"\",\"nekonzistentní\"))","v":""},"a)","Organizace monitoruje vývoj legislativy. ",null,"Skupina je zapojena do práce SCHP (SPaD) v řadě výborů - vyjadřování/ návrhy nové legislativy (ČR i EU). Zapojení do práce TPS (MPO, BAT/ BREF).",null,null,null,false]
[null,null,null,"b)","Vedení organizace určilo oddělení/zaměstnance odpovědného za dokumentování předpisů týkajících se zdraví, bezpečnosti, energie a ochrany životního prostředí a za hodnocení míry jejich souladu s příslušným textem. Kromě toho je zaveden proces implementace právních závazků.",null,null,null,null,null,false]
[null,null,null,"c)","Organizace kromě monitoring a implementace legislativy proaktivně komunikuje s místními úřady. ",null,null,null,null,null,false]
[null,null,null,"d)","Organizace spolupracuje s úřady při přípravě nové legislativy nebo při revizi platných právních předpisů.",null,null,null,null,null,true]
[]
[null,"Struktura řízení (managmentu)",null,null,null,{"$f":"B26","v":"Struktura řízení (managmentu)"}]
[null,null,null,null," "]
[null,null,"Q1.4","Jakým způsobem top management zajišťuje, že jednotlivé aspekty HSE&S (zdraví, bezpečnosti, ochrany životního prostředí & udržitelnosti) jsou přiřazeny stanoveným rolím v organizaci?",null,null,{"$f":"C28","v":"Q1.4"},"poznámky"]
[null,null,{"$f":"IF(COUNTIF(K29:K32,TRUE)=0,\"neúplné\",IF(COUNTIF(K29:K32,TRUE)=1,\"\",\"nekonzistentní\"))","v":""},"a)","Tyto aspekty nejsou jednoznačně rozděleny na určité role, s výjimkou těch, které mají právní závazky.",null,"Probíhá pravidelná komunikace na úrovni PVP/ Představenstva, bezpečnostní výbor s účastí GŘ, Energetická komise, zdroje plánovány v rámci investičního plánu/ finančního plánu na úrovni PVP/ Představenstva",null,null,null,false]
[null,null,null,"b)","Jmenováním top managementu odpovědného konkrétního manažera, který má zkušenosti s těmito aspekty a který zajišťuje, že organizace dodržuje určité standardy (zdraví, bezpečnost, životní prostředí, energetika a udržitelnost) a že procesy přinášejí své zamýšlené výstupy.",null,null,null,null,null,false]
[null,null,null,"c)","Skupinou zastupující organizaci složenou ze všech provozních manažerů, která se zodpovídá přímo top managementu a která je odpovědná za systém zdraví, bezpečnosti, životního prostředí, energetiky a udržitelnosti (HSE&S).",null,null,null,null,null,true]
[null,null,null,"d)","Skupinou vlastníků, členů, řídících pracovníků a zástupců klíčových zainteresovaných stran (výbor HSE&S) včetně nejvyššího managementu. Organizace navíc zapojuje zaměstnance do vývoje, komunikace a implementace programů RC.",null,null,null,null,null,false]
[null,null,null,null," "]
[null,null,"Q1.5","Jakým způsobem se top management podílí na řešení záležitostí HSE&S?",null,null,{"$f":"C34","v":"Q1.5"},"poznámky"]
[null,null,{"$f":"IF(COUNTIF(K35:K38,TRUE)=0,\"neúplné\",IF(COUNTIF(K35:K38,TRUE)=1,\"\",\"nekonzistentní\"))","v":""},"a)","Nepodílí se přímo.",null,"Probíhá pravidelná komunikace na úrovni PVP/ Představenstva, dotčené oblasti především v kompetenci výrobního a technického ředitele (s přesahem do dalších útvarů).",null,null,null,false]
[null,null,null,"b)","Top managment poskytuje rady v případě výskytu a nápravy závažných problémů v souvislosti s HSE&S.",null,null,null,null,null,false]
[null,null,null,"c)","Top managment se podílí a komunikuje potenciální dopady systému řízení (HSE&S) na obchodní činnost organizace (image značky, sociální přijatelnost aktivit, odlišení od konkurence, provozní účinnost ...).",null,null,null,null,null,true]
[null,null,null,"d)","Top managment se podílí, prezentuje a obhajuje system. Je ambasadorem a jde příkladem vlastním zaměstanacům.",null,null,null,null,null,false]
[null,null,null,null," "]
[null,null,"Q1.6","Jakým způsobem jsou odpovědnosti HSE&S začleněny do popisů pracovní náplně nebo ročních cílů?\n",null,null,{"$f":"C40","v":"Q1.6"},"poznámky"]
[null,null,{"$f":"IF(COUNTIF(K41:K44,TRUE)=0,\"neúplné\",IF(COUNTIF(K41:K44,TRUE)=1,\"\",\"nekonzistentní\"))","v":""},"a)","Nejsou začleněné.",null,"Ve SPOLCHEMII platí pro všechny manažery výrobních a přidružených servisních provozů.",null,null,null,false]
[null,null,null,"b)","Jsou zapracovány do popisů pracovní náplně nebo ročních cílů těch, kteří jsou zodpovědní za  oblasti HSE&S.",null,null,null,null,null,false]
[null,null,null,"c)"," Jsou zapracovány do popisů pracovní náplně nebo ročních cílů všech manažerů.",null,null,null,null,null,true]
[null,null,null,"d)","Jsou zapracovány do popisů pracovní náplně nebo ročních cílů všech zaměstnanců.",null,null,null,null,null,false]
[null,null,null,null," "]
[null,null,"Q1.7","Jakým způsobem se řídí (nejdůležitější) procesy v souvislosti s HSE&S?",null,null,{"$f":"C46","v":"Q1.7"},"poznámky"]
[null,null,{"$f":"IF(COUNTIF(K47:K50,TRUE)=0,\"neúplné\",IF(COUNTIF(K47:K50,TRUE)=1,\"\",\"nekonzistentní\"))","v":""},"a)","Struktura řízení není stanovena.",null,"V organizaci jsou stanoveny odpovědné osoby za jednotlivé procesy v souvislosti s HSE&E. Jednotlivé výkonostní ukazatele jsou pravidelně přezkoumávány pro všechny klíčové procesy s cílem jejich dalšího zlepšování. Tyto se reportují nejvššímu managementu organizace.",null,null,null,false]
[null,null,null,"b)","O neustálé zdokonalování procesů pro celou organizaci se stará odpovědná osoba.\n",null,null,null,null,null,false]
[null,null,null,"c)","Odpovědná osoba má na starosti jednotlivé nižší úrovně organizace (jednotky, oddělení ...). K dispozici by měly být ukazatele výkonnosti procesu, které umožňují pravidelné přezkoumání pro všechny klíčové procesy.",null,null,null,null,null,true]
[null,null,null,"d)","Ve společnosti pracuje tým vedený představitelem top managementu, který má za úkol neustálé zlepšování a přeřzkoumávání ukazatelů. Tato osoba odpovědná za HSE&S (zdraví, bezpečnost, životní prostředí, energie a udržitelnost) reportuje přímo nejvyššímu managementu organizace a je jeho součástí.",null,null,null,null,null,false]
[]
[null,"Zabezpečení zlepšování",null,null,null,{"$f":"B52","v":"Zabezpečení zlepšování"}]
[null,null,null,null," "]
[null,null,"Q1.8","Jakým způsobem top management zajišťuje neustálé zlepšování výkonu v oblasti HSE&S (zdraví, bezpečnosti, životního prostředí, energetiky a udržitelnosti)?",null,null,{"$f":"C54","v":"Q1.8"},"poznámky"]
[null,null,{"$f":"IF(COUNTIF(K55:K58,TRUE)=0,\"neúplné\",IF(COUNTIF(K55:K58,TRUE)=1,\"\",\"nekonzistentní\"))","v":""},"a)","Top management systematicky nevyhodnocuje žádné otázky týkající se HSE&S.",null,"Za plnění cílů (a případnou specifikaci zadání) jsou odpovědní konkrétní pracovníci (tomu odpovídá nastavení motivačního systému), dílčí úkony v plnění cílů jsou dosahovány i díky zlepšovacím návrhům (odměňováno), především v oblasti BOZP je úzká spolupráce s odbory. Hlavní cíle korespondují s programy definovanými v rámci systému integrovaného systému řízení (IMS), např.:                                 Sanace starých ekologických zátěží                                                                                                                      Snížení hluku na hranici podniku                                                                                                                     Instalace technologie odsolování odpadních vod                                                 ",null,null,null,false]
[null,null,null,"b)","Top management každoročně vyhodnocuje výkonnost RC a zároveň se vypracovávají akční plány.",null,null,null,null,null,false]
[null,null,null,"c)","Top management vyhodnocuje výkonnost RC alespoň jednou za rok. Uvádějí se příslušné ukazatele výkonnosti, akční plány se posuzují s ohledem na hlavní rizika a příležitosti pro organizaci a s ohledem na strategii podpory neustálého zlepšování. Na podporu takového zlepšování se vyčleňují prostředky a zdroje.",null,null,null,null,null,true]
[null,null,null,"d)","Výkonnost je hodnocena nejméně jednou ročně top managementem. Jsou stanoveny relevantní výkonnostní ukazatele, jsou revidovány akční plány v souladu s hlavními riziky a příležitostmi pro organizaci a v souladu se strategií pro podporu neustálého zlepšování. K dosažení zlepšení jsou přiděleny odpovídající zdroje.V rámci přezkumu výkonnosti s vrcholovým managementem je dále diskutována interakce se zainteresovanými stranami a KPI jsou přezkoumávány alespoň jednou za čtvrt roku tak, aby se co nejdříve zjistily nebezpečné trendy vývoje.",null,null,null,null,null,false]
[null,null,null,null," "]
[null,null,"Q1.9","Jak jsou organizovány interní audity?",null,null,{"$f":"C60","v":"Q1.9"},"poznámky"]
[null,null,{"$f":"IF(COUNTIF(K61:K64,TRUE)=0,\"neúplné\",IF(COUNTIF(K61:K64,TRUE)=1,\"\",\"nekonzistentní\"))","v":""},"a)","Nejsou prováděny žádné interní audity v oblastech HSE&S (zdraví, bezpečnosti, životního prostředí, energií a udržitelnosti).",null,"Definováno jsko nedílná součást IMS (plán auditů, obdobný rozsah, klíčové útvary každý rok - BOZP a ŽP, reporting PVP při přezkumu (zpráva IMS, záznam o přezkumu vedením), odstraňování neshod, další interní záznamy...). Dále ve skupině probíhá pravidelná revize / aktualizace interních dokumentů / nástrojů (PS, Axapta)",null,null,null,false]
[null,null,null,"b)","Interní audit provádějí řádně vyškolené a odborně připravené osoby v oblasti HSE&S. Neexistuje však žádná dokumentace, která by prokázala, že výsledky auditu projednává management.\n",null,null,null,null,null,false]
[null,null,null,"c)","Výsledky auditů týkajících se HSE&S jsou diskutovány v rámci přezkoumání vedením, identifikují se trendy a přijímají se nápravná opatření. Výsledky nápravných opatření se oznamují střednímu managementu.",null,null,null,null,null,false]
[null,null,null,"d)","Výsledky auditů jsou diskutovány v rámci přezkoumání vedením, identifikují se trendy a přijímají se nápravná opatření. Výsledky nápravných opatření se oznamují střednímu managementu. Kromě toho poučení z nehod a osvědčené postupy jsou sdíleny s dalšími osobami tak, aby je využili pro své vzdělávání. Systematický přístup je certifikován externím ověřovacím orgánem.",null,null,null,null,null,true]
[null,null,null,null," "]
[null,null,"Q1.10","Jakým způsobem probíhá vyšetřování?",null,null,{"$f":"C66","v":"Q1.10"},"poznámky"]
[null,null,{"$f":"IF(COUNTIF(K67:K70,TRUE)=0,\"neúplné\",IF(COUNTIF(K67:K70,TRUE)=1,\"\",\"nekonzistentní\"))","v":""},"a)","Neprobíhá žádné systematické vyšetřování incidentů, pokud tak nevyžadují příslušné právní předpisy.",null,"Hlášení událostí IZD – záznam o MU (nehody, anomálie) / záznam o skoronehodě – výstupy včetně opatření na podnikové síti (Intranet, zveřejnění / seznámení v \"Oznamovateli\"), projednává Výrobní dispečink, měsíční Report BOZ pro Poradu vedení (alternativně lze řešit neshodou IMS, u pracovních úrazů pak dle  legislativy předepsán Záznam o úrazu) ",null,null,null,false]
[null,null,null,"b)","Závažné incidenty se ohlašují, zkoumají s cílem porozumět příčinám a umožnit nápravu.",null,null,null,null,null,false]
[null,null,null,"c)","Incidenty týkající se HSE&S (zahrnující například skoronehody, nehody a incidenty na pracovištích – místech, narušení provozu, rozlití,…) se ohlašují a posuzují s cílem určit kořenovou příčinu, provést nápravu a zabránit opakování problému.",null,null,null,null,null,false]
[null,null,null,"d)","Závěry vyšetřování jsou sdíleny v rámci celé organizace a získané zkušenosti jsou sdíleny s kolegy a zainteresovanými stranami.",null,null,null,null,null,true]
[]
[null,"Zdroje, školení a zapojení zaměstnanců",null,null,null,{"$f":"B72","v":"Zdroje, školení a zapojení zaměstnanců"}]
[null,null,null,null," "]
[null,null,"Q1.11","Jakým způsobem organizace zajišťuje procesy, čas a zdroje potřebné pro zlepšování procesů řízení HSE&S?",null,null,{"$f":"C74","v":"Q1.11"},"poznámky"]
[null,null,{"$f":"IF(COUNTIF(K75:K78,TRUE)=0,\"neúplné\",IF(COUNTIF(K75:K78,TRUE)=1,\"\",\"nekonzistentní\"))","v":""},"a)","Jsou poskytovány zdroje pouze k splnění legislativních povinností.",null,"Organizace dbá na neustálé zlepšování procesů řízení HSE&E. K jednotlivým procesům jsou stanovovány cíle na jejich zlepšení, za jejichž plnění jsou odpovědny konkrétní osoby. Pro splnění cílů jsou poskytnuty časové i finanční zdroje (investiční plán + průběžná aktualizace, volba priorit). ",null,null,null,false]
[null,null,null,"b)","Čas a zdroje pro určitá zlepšení se poskytují ad hoc.",null,null,null,null,null,false]
[null,null,null,"c)","Zdroje jsou poskytovány systematicky s cílem zajistit neustálé zlepšování procesů. Tyto zdroje vycházejí z posudků a stanovování naplánovaných priorit.",null,null,null,null,null,true]
[null,null,null,"d)","Požadované zdroje jsou zahrnuty do rozpočtu s cílem dosahovat zlepšení. Za účelem systematického hodnocení implementace se poskytují příslušné časové zdroje.",null,null,null,null,null,false]
[null,null,null,null," "]
[null,null,"Q1.12","Jak organizace zajišťuje, že zaměstnanci jsou si vědomi politik a procesů týkajících se zdraví, bezpečnosti, životního prostředí, energetiky a udržitelnosti?",null,null,{"$f":"C80","v":"Q1.12"},"poznámky"]
[null,null,{"$f":"IF(COUNTIF(K81:K84,TRUE)=0,\"neúplné\",IF(COUNTIF(K81:K84,TRUE)=1,\"\",\"nekonzistentní\"))","v":""},"a)","Neexistuje žádná vnitřní komunikace týkající se HSE&S.",null,"Zaměstnanci jsou pravidelně informováni a seznamování s politikou a procesy týkající se HSE&E (Intranet, porady, MINTR…). ",null,null,null,false]
[null,null,null,"b)","Existuje určitá ad hoc vnitřní komunikace, která se zabývá tématy týkajícími se HSE&S.",null,null,null,null,null,false]
[null,null,null,"c)","Existuje vnitřní komunikační plán, který stanoví následující položky: hlášení, komu, kdy a jakým komunikačním prostředkem se tato hlášení budou posílat s cílem zajistit adekvátní vnitřní komunikaci.",null,null,null,null,null,true]
[null,null,null,"d)","Kromě vnitřního komunikačního plánu se měří efektivnost komunikace.",null,null,null,null,null,false]
[null,null,null,null," "]
[null,null,"Q1.13","Jakým způsobem organizace zajišťuje správné kompetence pracovníků, pokud jde o aspekty HSE&S týkající se jejich práce?",null,null,{"$f":"C86","v":"Q1.13"},"poznámky"]
[null,null,{"$f":"IF(COUNTIF(K87:K90,TRUE)=0,\"neúplné\",IF(COUNTIF(K87:K90,TRUE)=1,\"\",\"nekonzistentní\"))","v":""},"a)","Nejsou stanoveny žádné procesy.",null,"Průběžně dle priorit (ve 2019 zahájeno pro softskills středního managementu ve vztahu k BOZP). Při změnách pracovní pozice / náplně práce zaměstnanců v rámci skupiny se uplatňuje proces řízení změn (probíhá jeho zlepšení / zefektivnění).",null,null,null,false]
[null,null,null,"b)","Identifikují se požadované kompetence a potřeby školení a osoby na klíčových pozicích absolvují základní školení HSE&S.",null,null,null,null,null,false]
[null,null,null,"c)","Na základě specifických potřeb zaměstnanců a dodavatelů se zřizují a spravují vzdělávací programy.",null,null,null,null,null,true]
[null,null,null,"d)","Při kontrole kompetencí lidí přecházejících na jiné pracovní pozice v rámci společnosti se uplatňuje proces řízení změn. Kontrola kompetencí probíhá i u osob vykonávajících úkoly přímo související s prioritními riziky HSE&S.",null,null,null,null,null,false]
[null,null,null,null," "]
[null,null,"Q1.14","Jaká je struktura zapojení zaměstnanců?",null,null,{"$f":"C92","v":"Q1.14"},"poznámky"]
[null,null,{"$f":"IF(COUNTIF(K93:K96,TRUE)=0,\"neúplné\",IF(COUNTIF(K93:K96,TRUE)=1,\"\",\"nekonzistentní\"))","v":""},"a)","Zaměstnanci se aktivně neúčastní. Vše je však v souladu s platnou legislativou.",null,"Probíhá pravidelný ALL STAFF meeting (2x ročně), safety wolks členů vrcholového vedení (kvartálně) se sběrem zpětné vazby od zaměstnanců, podpora osobních iniciativ (svými nápady šetříme náklady - envi, bezpečnost), PS - zlepšováky, PS - bezpečnost",null,null,null,false]
[null,null,null,"b)","Organizace informuje zaměstnance a zástupce pracovníků o tématech, které mohou ovlivňovat organizaci a RC.",null,null,null,null,null,false]
[null,null,null,"c)","Organizace podporuje osobní iniciativy a začleňuje praktickou zpětnou vazbu z provozu do přezkoumání cílů a procesů. Organizace pořádá pravidelná setkání se zaměstnanci s cílem umožnit jim vyjadřovat své názory na politiku organizace týkající se HSE&S.",null,null,null,null,null,true]
[null,null,null,"d)","Zástupci zaměstanaců představují klíčového partnera při všech rozhodnutích.",null,null,null,null,null,false]
[]
[null,"Správa dokumentů",null,null,null,{"$f":"B98","v":"Správa dokumentů"}]
[null,null,null,null," "]
[null,null,"Q1.15","Jakým způsobem se řídí dokumentace HSE&S?",null,null,{"$f":"C100","v":"Q1.15"},"poznámky"]
[null,null,{"$f":"IF(COUNTIF(K101:K104,TRUE)=0,\"neúplné\",IF(COUNTIF(K101:K104,TRUE)=1,\"\",\"nekonzistentní\"))","v":""},"a)","Organizace disponuje dokumentací o ochraně zdraví a životního prostředí. Pravidelně ji přehodnocuje a aktualizuje.",null,"Veškerá platná dokumentace přístupná na Intranetu / síti - v aktuální verzi (neplatné verze jsou archivovány).\nVeškerá absolvovaná školení včetně jejich plánu, příslušnosti k pracovním pozicím a periodicita, přístupná v interním informačním systému – KS portál.\n",null,null,null,false]
[null,null,null,"b)","Činnost organizace řídí komplexní soubor vnitřních předpisů pro oddělení a zaměstnance, kteří odpovídají za bezpečnost na pracovišti, ochranu zdraví a životního prostředí.",null,null,null,null,null,false]
[null,null,null,"c)","Organizace zřídila systém správy dokumentů, který zaručuje, že všechny relevantní dokumenty (např. Vývojové diagramy, schémata P&ID, bezpečnostní studie, studie PHA, studie HAZOP, záznamy o výcviku, záznamy o údržbě a opravách, dokumentace ke všem zařízením, popisy pracovní činnosti a odpovědnosti, havarijní plány, bezpečnostní parametry atd.) jsou aktuální. Neplatná dokumentace je odstraněna, ale uložena a uchovávána v evidenci, tak aby měli všichni zainteresovaní zaměstnanci přístup podle svého postavení.",null,null,null,null,null,true]
[null,null,null,"d)","Vnitřní předpisy jsou přístupné všem zaměstnancům a standardy očekávaného obchodního chování jsou podepsány všemi zaměstnanci.",null,null,null,null,null,false]
[]
[null,"Řízení změn",null,null,null,{"$f":"B106","v":"Řízení změn"}]
[null,null,null,null," "]
[null,null,"Q1.16","Jakým způsobem jsou řízeny změny potenciálně ovlivňující HSE&S (zdraví, bezpečnost, životní prostředí, energetiku a udržitelnost)?",null,null,{"$f":"C108","v":"Q1.16"},"poznámky"]
[null,null,{"$f":"IF(COUNTIF(K109:K112,TRUE)=0,\"neúplné\",IF(COUNTIF(K109:K112,TRUE)=1,\"\",\"nekonzistentní\"))","v":""},"a)","Neexistuje systematické řízení změn (MoC).",null,"Organizace má řízení změn potenciálně ovlivňujících HSE&E nastaveno v PS 151 - Odborné (metodické) řízení a PS 350 - Příprava projektů a investiční proces. Řízení změn je neustále vyvíjeno a probíhá jeho zlepšování.",null,null,null,false]
[null,null,null,"b)","Existuje postup, který definuje změny, uvádí požadované dokumenty a metodiku na zkoumání rizik vyplývajících z používání, aktualizace, schvalování a ukončování změn. Tento postup zahrnuje změny, jakými je zavedení nové látky do procesu, posuzování specifických rizik a interakcí s jinými látkami a možný dopad změn na technické a HSE&S rizika.",null,null,null,null,null,false]
[null,null,null,"c)","Existuje postup pro řízení změn (všech typů včetně klasifikace látek a přípravků). Tento protokol zajišťuje revizi provozních předpisů, zařízení (včetně osobních ochranných pomůcek), hodnocení rizik HSE&S, povolení a dokumentů (pokud se to vyžaduje), jakož i sdílení informací se stranami zapojenými do procesu. Postup určuje osoby, které jsou odpovědné za proces MoC a které jsou oprávněny podepisovat/schvalovat přezkum změn.",null,null,null,null,null,true]
[null,null,null,"d)","Změny (schválené postupem MoC) jsou registrovány a dostupné pro zainteresované zaměstnance. Tento seznam se aktualizuje a zobrazuje aktuální stav všech projektů týkajících se změn v libovolném čase. Zaměstnanci jsou v případě potřeby seznámeni se schválenými a aplikovanými změnami prostřednictvím školení. Školení musí zajistit, aby zaměstnanci věděli jak tyto změny ovlivní jejich činnosti a kde získají informace modifikované touto změnou. ",null,null,null,null,null,false]

{"sheet":"Kapitola 2","index":5,"n_rows":282,"n_cols":15,"rows_kept":282,"cut":false,"hidden":false,"merged":[[278,6,281,9],[248,6,251,9],[254,6,257,9],[260,6,263,9],[266,6,269,9],[272,6,275,9],[218,6,221,9],[224,6,227,9],[230,6,233,9],[236,6,239,9],[242,6,245,9],[192,6,195,9],[198,6,201,9],[206,6,209,9],[212,6,215,9],[160,6,163,9],[168,6,171,9],[174,6,177,9],[180,6,183,9],[186,6,189,9],[128,6,131,9],[134,6,137,9],[140,6,143,9],[146,6,149,9],[154,6,157,9],[98,6,101,9],[104,6,107,9],[110,6,113,9],[116,6,119,9],[122,6,125,9],[68,6,71,9],[74,6,77,9],[80,6,83,9],[86,6,89,9],[92,6,95,9],[36,6,39,9],[42,6,45,9],[48,6,51,9],[54,6,57,9],[60,6,63,9],[6,6,9,9],[12,6,15,9],[18,6,21,9],[24,6,27,9],[30,6,33,9],[159,3,159,4],[167,3,167,4],[173,3,173,4],[109,3,109,4],[115,3,115,4],[121,3,121,4],[127,3,127,4],[133,3,133,4],[139,3,139,4],[145,3,145,4],[153,3,153,4],[3,5,22,5],[23,5,39,5],[40,5,63,5],[67,3,67,4],[79,3,79,4],[5,3,5,4],[29,3,29,4],[35,3,35,4],[59,3,59,4],[73,3,73,4],[179,3,179,4],[185,3,185,4],[191,3,191,4],[197,3,197,4],[205,3,205,4],[211,3,211,4],[217,3,217,4],[223,3,223,4],[229,3,229,4],[235,3,235,4],[271,3,271,4],[277,3,277,4],[241,3,241,4],[247,3,247,4],[253,3,253,4],[259,3,259,4],[265,3,265,4],[85,3,85,4],[65,5,83,5],[84,5,101,5],[102,5,119,5],[120,5,137,5],[103,3,103,4],[222,5,245,5],[246,5,269,5],[270,5,281,5],[138,5,149,5],[151,5,163,5],[165,5,189,5],[190,5,201,5],[203,5,221,5]]}
[null,"KAPITOLA 2: Ochrana lidí a životního prostředí",null,null,null,null,null,null,null,null,null,null,null,{"$f":"IF(O1=\"\",\"\",\"Still to do\")","v":""},{"$f":"'Začátek a předvyplnění dotazník'!$G$9","v":""}]
[null,null,null,null,null,null,"Klikněte pouze na jednu z možností"]
[]
[null,"Bezpečnost a ochrana zdraví při práci",null,null,null,{"$f":"B4","v":"Bezpečnost a ochrana zdraví při práci"}]
[null,null,null,null," "]
[null,{"$f":"COUNTIF(C7:C282,\"nekonzistentní\")","v":0},"Q2.1","Jak se management zavázal k ochraně zdraví a bezpečnosti při práci (dále jen \"BOZP\")?",null,null,{"$f":"C6","v":"Q2.1"},"poznámky"]
[null,null,{"$f":"IF(COUNTIF(K7:K10,TRUE)=0,\"neúplné\",IF(COUNTIF(K7:K10,TRUE)=1,\"\",\"nekonzistentní\"))","v":""},"a)","Existují písemné zásady týkající se neustálého zdokonalování BOZP.",null,"Vedením je schválena Politika BOZP; rozpracována v interní legislativě; zaveden pozitivní motivační systém „Bezpečnější pracoviště“; spolupráce s odbory; BOZP mandatorní součástí pracovních porad.",null,null,null,false]
[null,null,null,"b)","Byly stanoveny a zpřístupněny úkoly a zdroje s cílem zajistit uplatňování zásad pro všechny strany (včetně dodavatelů). Zároveň byly stanoveny specifické cíle, které se sledují pomocí měřitelných hodnot a ukazatelů zaostávání nebo pokroku.",null,null,null,null,null,false]
[null,null,null,"c)","Na všech úrovních organizace byly stanoveny jasné odpovědnosti s cílem zabránit nehodám a uplatňovat zásady společnosti. Zaměstnancům, kteří se podílejí na řízení BOZP, byly přiděleny jasné cíle s cílem podpořit výkonnost, a to na základě úrovně jejich odpovědnosti.",null,null,null,null,null,true]
[null,null,null,"d)","Zaměstnanci se podílejí na tvorbě zásad a přispívají k výsledku organizace. Všichni zaměstnanci jsou zapojeni do dané problematiky.",null,null,null,null,null,false]
[null,null,null,null," "]
[null,null,"Q2.2","Jakým způsobem se určují rizika a expozice v souvislosti s BOZP?",null,null,{"$f":"C12","v":"Q2.2"},"poznámky"]
[null,null,{"$f":"IF(COUNTIF(K13:K16,TRUE)=0,\"neúplné\",IF(COUNTIF(K13:K16,TRUE)=1,\"\",\"nekonzistentní\"))","v":""},"a)","Ne systematicky, avšak v souladu s platnou legislativou.",null,"Jsou vypracovány PI Hodnocení pracovních rizik možného ohrožení bezpečnosti a zdraví zaměstnanců (pro jednotlivé provozy/ střediska); PS 651 Hodnocení pracovních rizik možného ohrožení bezpečnosti a zdraví zaměstnanců cizích firem, kteří se pohybují v ARSPOL; Bezpečnostní zpráva SPOLCHEMIE (obsahuje Posouzení rizik závažné havárie).",null,null,null,false]
[null,null,null,"b)","Pro všechny procesy, zařízení a místa byly identifikovány a popsány potenciální rizika zdraví a bezpečnosti při běžném provozu, tak v případě zhoršení situace v souvislosti se změněnou nebo abnormální provozem. Při vyhodnocování nebezpečí týkajících BOZP pro zaměstnance v důsledku procesů, zařízení, potenciálně nebezpečných chemických, fyzikálních nebo biologických látek nebo jiných podmínek pracovišti se využívají posouzení expozic a bezpečnostní analýzy. Provádějí se příslušná ochranná opatření.",null,null,null,null,null,false]
[null,null,null,"c)","V úvahu se berou zvláštní situace a individuální specifika (těhotné ženy, zdravotní postižení, mladí zaměstnanci ...) s cílem chránit pracovníky a s ohledem na příslušné zákony o ochraně soukromí a ochraně údajů o zdravotním stavu těchto pracovníků.",null,null,null,null,null,false]
[null,null,null,"d)","V souvislosti s definovanými scénáři havárií byly stanoveny následující aspekty:\n* Účinky nebezpečných jevů na veřejné zdraví a bezpečnost a jejich intenzita (rozsah závažnosti) \n* pravděpodobnost výskytu (stupnice pravděpodobnosti) a následné stanovení míry rizika nebo kritičnosti (spojení závažnosti a pravděpodobnosti), přičemž informace se sdílejí se zainteresovanými stranami.",null,null,null,null,null,true]
[null,null,null,null," "]
[null,null,"Q2.3","Jakým způsobem se posuzují zdravotní požadavky?",null,null,{"$f":"C18","v":"Q2.3"},"poznámky"]
[null,null,{"$f":"IF(COUNTIF(K19:K22,TRUE)=0,\"neúplné\",IF(COUNTIF(K19:K22,TRUE)=1,\"\",\"nekonzistentní\"))","v":""},"a)","Neposuzují se.",null,"Každé pracovní pozici ve SPOLCHEMII jsou přiřazeny fyzické a zdravotní požadavky. U každého zaměstnance je posuzováno riziko nepříznivého zdravotního výsledku, které zároveň slouží jako podnět ke zlepšení pracovního prostředí, případně k přeřazení zaměstnance na vhodnější pozici. Dále jsou zaměstnancům pravidelně poskytována školení v oblasti ochrany zdraví (první pomoc).",null,null,null,false]
[null,null,null,"b)","Byly identifikovány všechny specifické fyzické a zdravotní požadavky související s konkrétní pozicí. Specialista v oblasti ochrany zdravý individuálně posoudil riziko nepříznivého zdravotního výsledku pro zaměstnance v důsledku provádění základních pracovních funkcí, ať už s příslušnou nápravou nebo bez ní. Výsledky takového posuzování slouží ke zlepšení pracovního prostředí nebo mohou vést k přeřazení zaměstnance na jinou (vhodnější) pracovní pozici.",null,null,null,null,null,false]
[null,null,null,"c)","Byla identifikována speciální lékařská vyšetření na pomoc při posuzování vhodnosti jednotlivců na konkrétní práci (např. zrak řidičů motorových vozidel) a následně byla začleněna do posuzování zdravotního stavu pracovníků. Tyto posudky vycházejí výhradně z lékařských vyšetření týkajících se požadavků na práci a ne z jiných vyšetření, které by mohly být prováděny jako součást pravidelného vyšetřování zdravotního stavu.",null,null,null,null,null,true]
[null,null,null,"d)","Organizace nabízí další služby pro školení a podporu zaměstnanců v oblasti zvyšování zdraví a bezpečnosti.",null,null,null,null,null,false]
[null,null,null,null," "]
[null,null,"Q2.4","Jakým způsobem zlepšuje organizace BOZP?",null,{"$f":"B4","v":"Bezpečnost a ochrana zdraví při práci"},{"$f":"C24","v":"Q2.4"},"poznámky"]
[null,null,{"$f":"IF(COUNTIF(K25:K28,TRUE)=0,\"neúplné\",IF(COUNTIF(K25:K28,TRUE)=1,\"\",\"nekonzistentní\"))","v":""},"a)","V souvislosti s BOZP neexistuje žádný program ani cíle. Organizace podniká zákonné kroky v případech mimořádných událostí.",null,"Jsou zavedeny Programy a cíle SPOLCHEMIE v rámci zavedeného systému IMS (subsystému BOZ); plnění pololetně vyhodnocováno; systém auditován a certifikován třetí stranou.",null,null,null,false]
[null,null,null,"b)","Management organizace zřídil program BOZP, v jehož rámci se sledují událostí týkající se BOZP.",null,null,null,null,null,false]
[null,null,null,"c)","Byl zřízen program BOZP a existují postupy posuzující příležitosti na zlepšování výkonnosti BOZP při zohlednění plánovaných změn týkajících se organizace, její zásad, postupů nebo činnosti a:\n1) příležitosti pro přizpůsobení práce, pracovní organizace a pracovního prostředí pracovníky; \n2) příležitosti k odstranění nebezpečí a snížení rizik BOZP;\n3) další příležitosti ke zlepšení systému řízení BOZP.",null,null,null,null,null,false]
[null,null,null,"d)","Program BOZP se na základě jeho účinnosti pravidelně vyhodnocuje (např. třetí stranou, prostřednictvím ukazatelů výkonnosti) a přijímají se pravidelné opatření s cílem seznámit zaměstnance a dodavatele o rizicích a příležitostech a umožnit jim účastnit se programu. Výsledkem analýz údajů jsou prediktivní poznatky.",null,null,null,null,null,true]
[null,null,null,null," "]
[null,null,"Q2.5","Jakým způsobem probíhá údržba a udržování pořádku s cílem zajistit bezpečnost provozů, zařízení, nástrojů a (bezpečnostních) pomůcek?",null,null,{"$f":"C30","v":"Q2.5"},"poznámky"]
[null,null,{"$f":"IF(COUNTIF(K31:K34,TRUE)=0,\"neúplné\",IF(COUNTIF(K31:K34,TRUE)=1,\"\",\"nekonzistentní\"))","v":""},"a)","Plánuje se zákonem požadovaná údržba.",null,"Roční plán údržby je sestavován dle stavu výrobní technologie stanovením mírou opotřebení (naplnění motohodin stanovené výrobcem technologie, měření opotřebení, diagnostika…) Tento plán je aktualizován do měsíčních a týdenních plánů dle aktuálních potřeb výrobní technologie.    ",null,null,null,false]
[null,null,null,"b)","Existuje a je naplňována strategie/plán proaktivní údržby.",null,null,null,null,null,true]
[null,null,null,"c)","Účinnost programu údržby se pravidelně vyhodnocuje, měří se úspěch a provedou se příslušné zlepšení.",null,null,null,null,null,false]
[null,null,null,"d)","Organizace zřídila sofistikovaný program údržby a kontroly, který se opírá o rizika nebo poznatky.",null,null,null,null,null,false]
[null,null,null,null," "]
[null,null,"Q2.6","Jak se ověřuje správný výběr, údržba a používání zdravotního a bezpečnostního vybavení (např. osobních ochranných prostředků = OOPP)?",null,null,{"$f":"C36","v":"Q2.6"},"poznámky"]
[null,null,{"$f":"IF(COUNTIF(K37:K40,TRUE)=0,\"neúplné\",IF(COUNTIF(K37:K40,TRUE)=1,\"\",\"nekonzistentní\"))","v":""},"a)","Neexistuje žádné ověření.",null,"Školení BOZP zahrnuje i seznámení s návody a praktický nácvik používání OOPP + praktický nácvik použití OOPP při pravidelném protihavarijním výcviku; probíhá kontrola a vyžadování používání OOPP; nedodržování je řešeno dle PS 250 Pracovní řád.",null,null,null,false]
[null,null,null,"b)","Výběr je založen na hodnocení rizik, avšak vhodné použití se neověřuje.",null,null,null,null,null,false]
[null,null,null,"c)","Zaměstnanci jsou vyškoleni, aby věděli a pochopili, kdy a jaké OOPP se vyžadují a aby prováděly hodnocení OOPP. Zaměstnanci jsou si vědomi důsledků nepoužívání OOPP. Užívání správných OOPP zahrnuje všechny úrovně organizace.",null,null,null,null,null,true]
[null,null,null,"d)","Zaměstnanci mohou přerušit práci, pokud nepovažují OOPP za dostatečně účinné pro kontrolu nebezpečí.",null,null,null,null,null,false]
[null,null,null,null," ",{"$f":"B4","v":"Bezpečnost a ochrana zdraví při práci"}]
[null,null,"Q2.7","Jak se organizace stará o stres a tělesné a duševní zdraví zaměstnanců?",null,null,{"$f":"C42","v":"Q2.7"},"poznámky"]
[null,null,{"$f":"IF(COUNTIF(K43:K46,TRUE)=0,\"neúplné\",IF(COUNTIF(K43:K46,TRUE)=1,\"\",\"nekonzistentní\"))","v":""},"a)","Je řízeno podle zákonných požadavků.",null,"Preventivní zdravotní prohlídky a měření pracovního prostředí (legislativní požadavek), dále nabídky zvýhodněné podnikové (rekreační) dovolené, dětských táborů a podpora sportovní činnosti (volejbal, koloběžky, kuželky). Zároveň máme zavedený program \"Svými nápady šetříme náklady\", kam zaměstnanci mohou podávat nápady/ návrhy ke zlepšení nejen techniky a technologie, ale i pracovního prostředí.\n\n\n",null,null,null,false]
[null,null,null,"b)","Organizace podporuje vhodnou rovnováhu mezi pracovním a soukromým životem.\nPracovníci mohou podávat návrhy a organizace jejich návrhy řeší.\nJe využíván systém posuzování ergonomických aspektů pracovišť.",null,null,null,null,null,true]
[null,null,null,"c)","Organizace disponuje postupem na registraci požadavků a sledování změn, které se uplatnily při jejich řešení.\nOrganizace měří vnímání zaměstnanců ohledně rovnováhy mezi pracovním a soukromým životem prostřednictvím anonymní ankety a zavedla určitá opatření k jejímu zlepšení (například flexibilní pracovní doba, práce z domova ...).\nZaměstnanci jsou proškoleni v oblasti vhodného ergonomického užívání zařízení.",null,null,null,null,null,false]
[null,null,null,"d)","Organizace stanovila specifický program na zlepšování rovnováhy mezi pracovním a soukromým životem a spokojenosti v práci. Účinnost programu se pravidelně vyhodnocuje.",null,null,null,null,null,false]
[null,null,null,null," "]
[null,null,"Q2.8","Jakým způsobem se vyšetřují onemocnění, zranění, incidenty a potenciálně nebezpečné situace na pracovišti?",null,null,{"$f":"C48","v":"Q2.8"},"poznámky"]
[null,null,{"$f":"IF(COUNTIF(K49:K52,TRUE)=0,\"neúplné\",IF(COUNTIF(K49:K52,TRUE)=1,\"\",\"nekonzistentní\"))","v":""},"a)","Nehody a incidenty jsou hlášeny podle právních požadavků.",null,"U všech v otázce uvedených případů provádíme evidenci, šetření příčin, stanovení nápravných opatření, kontrola plnění a účinnosti opatření. V rámci různých záznamů a kontrolních nástrojů: např. záznamu o MU, záznamu o skoronehodě, neshodě IMS, záznamu o úrazu atd.",null,null,null,false]
[null,null,null,"b)","Organizace identifikuje a vyšetřuje příčiny nehod a incidentů. Organizace hodnotí význam.",null,null,null,null,null,false]
[null,null,null,"c)","Organizace podniká vhodná nápravná opatření s cílem zabránit jejich opakování.",null,null,null,null,null,true]
[null,null,null,"d)","Organizace posuzuje efektivnost vyšetřování a nápravných opatření v souvislosti s BOZP a sdílí klíčová zjištění a související nápravná opatření s příslušnými zainteresovanými stranami, dalšími stranami…",null,null,null,null,null,false]
[null,null,null,null," "]
[null,null,"Q2.9","Jak je organizace připravena na mimořádné události?",null,null,{"$f":"C54","v":"Q2.9"},"poznámky"]
[null,null,{"$f":"IF(COUNTIF(K55:K58,TRUE)=0,\"neúplné\",IF(COUNTIF(K55:K58,TRUE)=1,\"\",\"nekonzistentní\"))","v":""},"a)","Existuje havarijní plán a příslušné pokyny. Byl ustanoven nouzový manažer, na kterého se zaměstnanci mohou v případě výskytu mimořádné události spolehnout. Požadované zařízení (výstražné systémy) jsou dostupné všem zaměstnancům na různých místech provozu.",null,"Aktuální Vnitřní havarijní plán SPOLCHEMIE předán KÚ a HZS ÚK; v areálu probíhají součinnostní tematická cvičení za účasti externích záchranných složek – např. cvičení IZS v 09/2018.",null,null,null,false]
[null,null,null,"b)","Zaměstnanci a dodavatelé jsou připraveni reagovat na mimořádné události díky pravidelným havarijním cvičením. Pracovníci záchranných složek a jiné osoby, jejichž úkolem je reagovat na mimořádné události, byli identifikováni, jmenováni, vyškoleni a zplnomocněni plnit své úkoly.",null,null,null,null,null,false]
[null,null,null,"c)","Havarijní plán se posuzuje na základě poznatků získaných z havarijních cvičení a jiných událostí.",null,null,null,null,null,false]
[null,null,null,"d)","Organizace úzce spolupracuje a zapojuje pracovníky externích záchranných složek, hasičské sbory atd. Pracovníci externích záchranných složek mají přístup k havarijnímu plánu provozu.",null,null,null,null,null,true]
[null,null,null,null," "]
[null,null,"Q2.10","Jakým způsobem zajišťuje organizace správně kompetence všech pracovníků, týkající se požadavků BOZP, které souvisí s jejich pracovní náplní?",null,null,{"$f":"C60","v":"Q2.10"},"poznámky"]
[null,null,{"$f":"IF(COUNTIF(K61:K64,TRUE)=0,\"neúplné\",IF(COUNTIF(K61:K64,TRUE)=1,\"\",\"nekonzistentní\"))","v":""},"a)","Pokyny a upozornění týkající se BOZP jsou viditelné a přístupné (např. Prostřednictvím plakátů a značek) a probíhají příslušné školení. Pracoviště je označeno ve smyslu požadavků, např. uvedených v bezpečnostních listech, např. jako výsledek hodnocení na pracovišti, např. na základě doporučení dodavatele zařízení.",null,"Hodnocení pracovních rizik v organizaci provádí BT OZO ve spolupráci s odpovědnými zaměstnanci jednotlivých pracovišť; zásady BOZP jsou pravidelně kontrolovány a posuzovány – kontrolní činnost ved. zaměstnanců, témata BOZP v rámci pracovních porad, projednávání stavu a přijatých opatření na Bezpečnostním výboru SPOLCHEMIE apod.; pravidelné audity BOZ u nájemců a externích dodavatelů.",null,null,null,false]
[null,null,null,"b)","Pracovníci i noví zaměstnanci navštěvují pravidelné školení. Pracovní skupiny jsou organizovány tak, aby umožnily zaměstnancům diskutovat o zásadách bezpečnosti a ochrany zdraví v organizaci.",null,null,null,null,null,false]
[null,null,null,"c)","Zaměstnanci organizace se podílejí na hodnocení pracovních rizik. Zásady bezpečnosti a ochrany zdraví v organizaci se pravidelně posuzují a přizpůsobují výsledkem diskusí v rámci pracovních skupin. Prověřuje se úroveň kompetence dodavatelů v oblasti BOZP a organizují se školení.",null,null,null,null,null,true]
[null,null,null,"d)","Organizace posuzuje účinnost této komunikace a školení pro všechny pracovníky.",null,null,null,null,null,false]
[]
[null,"Procesní bezpečnost",null,null,null,{"$f":"B66","v":"Procesní bezpečnost"}]
[null,null,null,null," "]
[null,null,"Q2.11","Jakým způsobem se vedení staví k procesní bezpečnosti?\n\n",null,null,{"$f":"C68","v":"Q2.11"},"poznámky"]
[null,null,{"$f":"IF(COUNTIF(K69:K72,TRUE)=0,\"neúplné\",IF(COUNTIF(K69:K72,TRUE)=1,\"\",\"nekonzistentní\"))","v":""},"a)","Byly vypracovány písemné zásady za účelem neustálého zlepšování.",null,"Každému zaměstnanci SPOLCHEMIE podílejícího se na procesní bezpečnosti byly přiřazeny konkrétní odpovědnosti (stanoveno v náplni práce, součást provozních předpisů, předmětem pravidelných školení) a jasné cíle (motivační úkoly, které se pravidelně revidují a vyhodnocují). Tyto mají zabránit nehodám, uplatňovat zásady společnosti a zároveň přispívat ke zlepšování procesní bezpečnosti.",null,null,null,false]
[null,null,null,"b)","Byly stanoveny a zpřístupněny úlohy a zdroje s cílem zajistit uplatňování zásad pro všechny strany (včetně dodavatelů). Zároveň byly stanoveny specifické cíle, které se sledují pomocí měřitelných hodnot a ukazatelů zaostávání nebo pokroku.",null,null,null,null,null,false]
[null,null,null,"c)","Pro všechny úrovně v organizaci byly stanoveny jasné odpovědnosti s cílem zabránit nehodám a uplatňovat zásady společnosti. Zaměstnancům, kteří se podílejí na procesní bezpečnosti, byly přiděleny jasné cíle s cílem přispívat k výkonu, a to na základě úrovně jejich odpovědnosti.",null,null,null,null,null,true]
[null,null,null,"d)","Zaměstnanci se podílejí na tvorbě zásad.",null,null,null,null,null,false]
[null,null,null,null," "]
[null,null,"Q2.12","Jakým způsobem je vypracována identifikace a popis bezpečnosti procesů, zařízení a pracovišť organizace?",null,null,{"$f":"C74","v":"Q2.12"},"poznámky"]
[null,null,{"$f":"IF(COUNTIF(K75:K78,TRUE)=0,\"neúplné\",IF(COUNTIF(K75:K78,TRUE)=1,\"\",\"nekonzistentní\"))","v":""},"a)","Provádějí se podrobné studie bezpečnosti procesů, zařízení a pracovišť organizace.",null,"SPOLCHEMIE má vypracovány PI Hodnocení pracovních rizik možného ohrožení bezpečnosti a zdraví zaměstnanců (pro jednotlivé provozy/ střediska) = kvantitativní hodnocení pracovních rizik; PS 651 Hodnocení pracovních rizik možného ohrožení bezpečnosti a  zdraví zaměstnanců cizích firem, kteří se pohybují v ARSPOL = kvantitativní hodnocení pracovních rizik; Bezpečnostní zpráva SPOLCHEMIE (obsahuje Posouzení rizik závažné havárie = kvantitativní hodnocení rizik ZH).",null,null,null,false]
[null,null,null,"b)","Pro všechny procesy, zařízení a pracoviště byly identifikovány a popsány potenciální rizika na zdraví a bezpečnosti při běžném provozu, tak v případě zhoršení situace v souvislosti se změněnou nebo abnormální provozem.",null,null,null,null,null,false]
[null,null,null,"c)","Pro všechny procesy, zařízení a pracoviště byly identifikovány a popsány potenciální rizika na zdraví a bezpečnosti při běžném provozu i v případě zhoršení situace v souvislosti se změněnou nebo abnormální provozem a tyto informace jsou poskytovány místnímu obyvatelstvu s cílem zajistit kontrolu jejich bezpečnosti prostřednictvím šíření těchto informací.",null,null,null,null,null,false]
[null,null,null,"d)","Provádí se kvantitativní hodnocení rizik, které zahrnuje následující aspekty pro každý z identifikovaných havarijních scénářů: \no Účinky nebezpečných jevů na veřejné zdraví a bezpečnost a jejich intenzita (rozsah závažnosti) \no Pravděpodobnost výskytu (stupnice pravděpodobnosti) a následné stanovení míry rizika nebo kritičnosti (spojení závažnosti a pravděpodobnosti).",null,null,null,null,null,true]
[null,null,null,null," "]
[null,null,"Q2.13","Jakým způsobem se zlepšuje procesní bezpečnost po nehodách a incidentech?",null,null,{"$f":"C80","v":"Q2.13"},"poznámky"]
[null,null,{"$f":"IF(COUNTIF(K81:K84,TRUE)=0,\"neúplné\",IF(COUNTIF(K81:K84,TRUE)=1,\"\",\"nekonzistentní\"))","v":""},"a)","Existuje postup, který stanoví oznamování a vyšetřování nehod a incidentů s cílem umožnit jejich systematickou analýzu.",null,"Jsou vypracována a schválena kritéria pro uložení, obsah a postupy zpracování např. záznamu o MU, případně Zprávy vyšetřovací komise jsou uvedena v PS 9023 Havarijní připravenost a reakce. ",null,null,null,false]
[null,null,null,"b)","Na základě povahy, následků a možných rizik nehod byly zavedeny příslušné klasifikační kritéria. Nehody, které jasně souvisejí s procesní bezpečností, jsou identifikovány alespoň ve smyslu definic indikátorů výkonnosti procesní bezpečnosti (LoPC) Mezinárodní rady chemických svazů (ICCA).",null,null,null,null,null,false]
[null,null,null,"c)","Jsou definována kritéria pro členy týmu vyšetřujícího nehody včetně požadavků na koordinátora a časového rámce pro vypracování závěrů",null,null,null,null,null,true]
[null,null,null,"d)","Poznatky z analýzy nehod a incidentů se sdílejí. V případě potřeby se jako preventivní opatření zavádějí osvědčené postupy nápravných opatření.",null,null,null,null,null,false]
[null,null,null,null," ",{"$f":"B66","v":"Procesní bezpečnost"}]
[null,null,"Q2.14","Jakým způsobem se provádějí audity a inspekce procesní bezpečnosti?",null,null,{"$f":"C86","v":"Q2.14"},"poznámky"]
[null,null,{"$f":"IF(COUNTIF(K87:K90,TRUE)=0,\"neúplné\",IF(COUNTIF(K87:K90,TRUE)=1,\"\",\"nekonzistentní\"))","v":""},"a)","Je zaveden systém auditů, který zahrnuje procesní bezpečnost zařízení a příslušnou dokumentaci.",null,"Jen pro nově zprovozněné a pro připravované projekty jsou prováděny audity procesní bezpečnosti – většinou studie HAZOP, případně stanovení SIL. V souvislosti s BZ jsou historicky zpracovány studie HAZOP pro nejvýznamnější zdroje rizika ZH.\nV rámci Bezpečnostního výboru je navržena pracovní skupina \"Postup zpracování Interních hodnocení rizik (IHR)\" s úkolem vytvořit metodiky pro postup IHR. \n",null,null,null,true]
[null,null,null,"b)","Stanoví se kritéria, systém a periodicita kontroly s cílem posoudit procesní bezpečnost a realizaci cílů.\n\nPřezkoumání vedením zahrnuje revizi výsledků auditů a hodnocení cílů pro jednotlivá oddělení nebo úseky společnosti. Za účelem ověření fungování systému se identifikují indikátory.",null,null,null,null,null,false]
[null,null,null,"c)","Prioritním cílem jsou nápravy na základě auditů a inspekcí. Výsledky auditů slouží pro stanovování budoucích cílů.",null,null,null,null,null,false]
[null,null,null,"d)","Všechny dokumenty související s procesní bezpečností se pravidelně posuzují s cílem zajistit jejich aktuálnost (např. Všechny změny se posuzují a vyhodnocují).",null,null,null,null,null,false]
[null,null,null,null," "]
[null,null,"Q2.15","Jakým způsobem se prověřují a zlepšují pracovní pokyny?",null,null,{"$f":"C92","v":"Q2.15"},"poznámky"]
[null,null,{"$f":"IF(COUNTIF(K93:K96,TRUE)=0,\"neúplné\",IF(COUNTIF(K93:K96,TRUE)=1,\"\",\"nekonzistentní\"))","v":""},"a)","Na příslušných místech se nacházejí návody k obsluze a písemné postupy. Tyto se pravidelně aktualizují pro každou fázi provozu, která má vliv na procesní bezpečnost.",null,"Pracovní instrukce ve SPOLCHEMII se pravidelně revidují a aktualizují / doplňují na základě změn pracovních postupů, změn zařízení, změn technologických, anomálií, nehod, skoronehod atd. – změny mohou v rámci IMS navrhovat i jednotliví zaměstnanci.  \n\n\n",null,null,null,false]
[null,null,null,"b)","Byl zaveden systém neustálé komunikace nebo systém na kontrolu přítomnosti pracovníků na kritických místech nebo na izolovaných pracovištích.\n\nPokyny ke kritickým pracovním činnostem se pravidelně revidovány. Pro kritické zařízení a systémy byl zřízen systém pracovních povolení.",null,null,null,null,null,false]
[null,null,null,"c)","Zaměstnanci mohou v rámci stanoveného systému navrhovat zlepšení a poskytovat svou zpětnou vazbu týkající se problémů nebo incidentů, s nimiž se setkali při provádění pracovních úkolů.",null,null,null,null,null,true]
[null,null,null,"d)","Byl posouzen a stanoven minimální počet zaměstnanců. Byly zařízené postupy na bezpečný provoz (nebo vypnutí) v případě, že nelze zajistit minimální počet zaměstnanců (např. V případě nemocí, stávky).",null,null,null,null,null,false]
[null,null,null,null," "]
[null,null,"Q2.16","Jak je navrhována a dokumnetována instalace nových zařízení?",null,null,{"$f":"C98","v":"Q2.16"},"poznámky"]
[null,null,{"$f":"IF(COUNTIF(K99:K102,TRUE)=0,\"neúplné\",IF(COUNTIF(K99:K102,TRUE)=1,\"\",\"nekonzistentní\"))","v":""},"a)","Pro každé zařízení, které může ovlivnit procesní bezpečnost (ve smyslu zákonných a jiných požadavků), je k dispozici dokumentace, návody a hodnocení bezpečnosti.",null,"U nových zařízení je toto pravidlem (projektové dokumentace obsahují studie zaměřené na procesní bezpečnost).",null,null,null,false]
[null,null,null,"b)","K dispozici je podrobný plán zařízení. Dostupné jsou podrobné plány pro lokality, budovy, půdorysy, evakuační trasy a v případě potřeby i oblasti specifických bezpečnostních požadavků, např. požadované vzdálenosti ve smyslu jiných požadavků (ATEX, únikové cesty, přilehlé budovy atd.).",null,null,null,null,null,false]
[null,null,null,"c)","Uplatňují se nejlepší dostupné techniky (BAT).",null,null,null,null,null,false]
[null,null,null,"d)","Instalace je navržena tak, aby i selhání vyústilo do bezpečné situace.",null,null,null,null,null,true]
[null,null,null,null," ",{"$f":"B66","v":"Procesní bezpečnost"}]
[null,null,"Q2.17","Jakým způsobem probíhá kontrola zřizování instalace?",null,null,{"$f":"C104","v":"Q2.17"},"poznámky"]
[null,null,{"$f":"IF(COUNTIF(K105:K108,TRUE)=0,\"neúplné\",IF(COUNTIF(K105:K108,TRUE)=1,\"\",\"nekonzistentní\"))","v":""},"a)","Fyzická inspekce během výstavby s cílem zajistit shodu s projektem.",null,"V případě nových instalací (nových výrobních jednotek i zlepšení stávajících výrob) se jedná o nutnost. K celému projektu (od návrhu projektu až po jeho realizaci, následnou údržbu i případný upgrade) je uchovávána dokumentace.",null,null,null,false]
[null,null,null,"b)","Před zahájením se stav provozu posuzuje, testují se bezpečnostní kritická zařízení a ověřují a dokumentují se jejich zamýšlené funkce. Pro případ, že jsou před zahájením identifikována existující rizika, je definován  postup popisující nápravná opatření a dočasné řešení platné do realizace nápravných opatření.",null,null,null,null,null,false]
[null,null,null,"c)","Ověřuje se účinnost nápravných opatření.",null,null,null,null,null,false]
[null,null,null,"d)","K projektu, zřizování, údržbě a aktualizacím se uchovává dokumentace.",null,null,null,null,null,true]
[null,null,null,null," "]
[null,null,"Q2.18","Jakým způsobem je zaručena ochrana zařízení, aby jediná chyba neměla katastrofické následky?",null,null,{"$f":"C110","v":"Q2.18"},"poznámky"]
[null,null,{"$f":"IF(COUNTIF(K111:K114,TRUE)=0,\"neúplné\",IF(COUNTIF(K111:K114,TRUE)=1,\"\",\"nekonzistentní\"))","v":""},"a)","Byl zaveden systém, který vyhodnocuje potřebu dostatečných ochranných bariér (technologických, zařízení, izolačních bodů ...) a automatické systémy na vrácení instalace zpět do bezpečného stavu v případě nebezpečné eskalace procesu. Byl zaveden systém poskytující pokyny o potřebě úrovně ochranných bariér (ve smyslu mezinárodně uznávaných norem).",null,"Ve SPOLCHEMII je instalován rozsáhlý monitoring úniku NL s detektory u významných zdrojů rizik a systémy EPS – on-line výstupy na velíny a na IZD – akustická a optická signalizace; zajištěna pravidelná kontrola funkčnosti systémů; dle potřeby instalována STOP tlačítka na relevantní místa.  ",null,null,null,false]
[null,null,null,"b)","Byly identifikovány kritické prvky z hlediska bezpečnosti procesu a stanovena požadovaná úroveň jejich spolehlivosti.",null,null,null,null,null,false]
[null,null,null,"c)","Na trvalých pracovištích operátorů se nacházejí alarmy, které upozorňují na odchylky procesů. Tlačítka pro nouzové zastavení se nacházejí na místech, kde je lze bezpečně spustit.",null,null,null,null,null,true]
[null,null,null,"d)","Každý reaktor, sklad nebo jiné zařízení obsahující množství nebezpečných látek překračující určité limity (např. ve smyslu Seveso III) bylo posouzeno s cílem zajistit zavedení systému prevence, zadržení a evakuace. Tento systém musí zajistit např. zamezení (případně) regulování rizika přetlaku / zapálení / úniku / výbuchu I v těch nejnepříznivějších podmínkách.",null,null,null,null,null,false]
[null,null,null,null," "]
[null,null,"Q2.19","Byly zřízeny programy preventivní údržby a péče, které zaručují bezpečnost provozů, nástrojů a zařízení?",null,null,{"$f":"C116","v":"Q2.19"},"poznámky"]
[null,null,{"$f":"IF(COUNTIF(K117:K120,TRUE)=0,\"neúplné\",IF(COUNTIF(K117:K120,TRUE)=1,\"\",\"nekonzistentní\"))","v":""},"a)","Byl zřízen a dodržuje se strategický plán proaktivní údržby. Spolu s ním se používá podrobný kalendář pravidelné údržby.",null,"Skupina má vypracované plány preventivních prohlídek a kontrol výrobní technologie (Plán údržby na aktuální rok, Plány provozních zastávkových prací, Kontrolní a revizní činnosti v rámci údržby, Plány revizí vyhrazených zařízení – PS 710 Údržba a udržování, PS 740 Vyhrazená a určená zařízení) obsahují kritéria pro  stanovení stavu výrobní technologie (stanovení míry opotřebení, naplnění motohodin stanovené výrobcem technologie, měření opotřebení, diagnostika …). ",null,null,null,false]
[null,null,null,"b)","Program zahrnuje jasná kritéria týkající se: aktualizací v případě neshod, periodicity, cílů a specifických pokynů k údržbě všech zařízení, které ovlivňují procesní bezpečnost. Specifický program se váže k částem, které jsou z hlediska procesní bezpečnosti kritické.",null,null,null,null,null,false]
[null,null,null,"c)","Osoby odpovědné za provádění programu údržby jsou jasně identifikovány a zaznamenávají výsledky údržby. Existují ukazatele umožňující sledování činností údržby (% vykonané práce, zjištěné problémy atd.).",null,null,null,null,null,true]
[null,null,null,"d)","Účinnost programu údržby se pravidelně vyhodnocuje, měří se úspěch a provedou se příslušné zlepšení.",null,null,null,null,null,false]
[null,null,null,null," ",{"$f":"B66","v":"Procesní bezpečnost"}]
[null,null,"Q2.20","Jakým způsobem se řídí procesy během mimořádných událostí v případě přerušení dodávky energie nebo služeb?",null,null,{"$f":"C122","v":"Q2.20"},"poznámky"]
[null,null,{"$f":"IF(COUNTIF(K123:K126,TRUE)=0,\"neúplné\",IF(COUNTIF(K123:K126,TRUE)=1,\"\",\"nekonzistentní\"))","v":""},"a)","Projekt instalace zohledňuje odolnost vůči abnormálním situacím způsobeným vnitřními faktory (např. Mimořádné situace v přilehlých instalacích, domino efekt atd.) A vnějšími faktory (např. Přírodní katastrofy jako záplavy, silné větry, zemětřesení, teplo, chlad atd.).",null,"Stav zásobování areálu energiemi je popsán v Bezpečnostní zprávě SPOLCHEMIE, včetně záložních/ náhradních zdrojů u jednotlivých energií. Postup odstavení technologií do bezpečného stavu je popsán v PI pro obsluhu a v Havarijních plánech jednotlivých pracovišť.",null,null,null,false]
[null,null,null,"b)","Byl proveden posudek s cílem vyhodnotit potřebu bezpečného zásobování energií / dodávkami. V závislosti na výsledcích se předvídá alternativní dodávka hlavní energie nebo služeb (chladírenské vody, stlačeného vzduchu, páry, dusíku atd.) S cílem zajistit bezpečné zastavení provozu.",null,null,null,null,null,false]
[null,null,null,"c)","Ověřuje se správný provoz havarijních systémů a byly stanoveny odpovědné osoby.",null,null,null,null,null,false]
[null,null,null,"d)","Havarijní plán: zahrnuje analýzu možných nepředvídaných událostí a stanovuje přijatelnou dobu odezvy, zásahové skupiny a procesy.",null,null,null,null,null,true]
[null,null,null,null," "]
[null,null,"Q2.21","Jak se připravují havarijní plány?",null,null,{"$f":"C128","v":"Q2.21"},"poznámky"]
[null,null,{"$f":"IF(COUNTIF(K129:K132,TRUE)=0,\"neúplné\",IF(COUNTIF(K129:K132,TRUE)=1,\"\",\"nekonzistentní\"))","v":""},"a)","Byl vypracován vnitřní havarijní plán, který se průběžně aktualizuje a zahrnuje i komunikaci po mimořádné události.",null,"Vnitřní havarijní plán SPOLCHEMIE má k dispozici KÚ a HZS Úk, tj. zpracovatel Vnějšího havarijního plánu. V areálu probíhají pravidelné PHV provozů a součinnostní cvičení se složkami IZS. V r. 2019 se ve SPOLCHEMII uskutečnilo „1. Bezpečnostní a environmentální grémium“ pro zástupce samospráv a orgánů státní správy. Nadstandardní dohody s městem a s HZS Úk o vzájemném poskytování informací, vyrozumění obyvatel apod.",null,null,null,false]
[null,null,null,"b)","Alespoň jednou za rok probíhá praktická cvičení, po kterém následuje hodnocení účinnosti havarijního plánu.\nByl zřízen informační program pro komunikaci s příslušnými orgány, zásahovými složkami, médii, komunitou atd. s cílem zvýšit připravenost na mimořádnou událost.",null,null,null,null,null,false]
[null,null,null,"c)","Havarijní plán byl ve spolupráci s partnery a sousedními organizacemi začleněn do externího havarijního plánu.",null,null,null,null,null,true]
[null,null,null,"d)","V souvislosti s územním plánováním byl zaveden postup pro hodnocení a získávání poznatků o sousedních územích s cílem vyhodnotit potřebu připravenosti, komunikace a evakuace během mimořádné události a v případě potřeby vyhodnotit zastavení výroby.",null,null,null,null,null,false]
[null,null,null,null," "]
[null,null,"Q2.22","Jakým způsobem jsou zabezpečeny kompetence a školení zaměstnanců a dodavatelů zapojených do procesů?",null,null,{"$f":"C134","v":"Q2.22"},"poznámky"]
[null,null,{"$f":"IF(COUNTIF(K135:K138,TRUE)=0,\"neúplné\",IF(COUNTIF(K135:K138,TRUE)=1,\"\",\"nekonzistentní\"))","v":""},"a)","Pro řídící, inženýrské a provozní pracovníky, jakož i pro dodavatele a poskytovatele služeb byly stanoveny, zdokumentovány a realizovány požadavky na kompetence týkající se procesní bezpečnosti, které odpovídají jejich příslušné vykonávané činnosti.",null,"Zajišťujeme povinnou Všeobecnou vstupní instruktáž před vstupem i pro nájemce a externí firmy. Před zahájením prací na pracovišti SPOLCHEMIE musí absolvovat Školení pracovníků externích firem a údržby pro dané pracoviště a na prováděnou práci musí být řádně vyplněn a podepsán formulář „Povolení“. ",null,null,null,false]
[null,null,null,"b)","Zaměstnanci a dodavatelé jsou zaškolování v oblasti bezpečnosti procesů na základě jejich odpovědností za bezpečnost procesů. Příslušný vzdělávací program pokrývá všechny aspekty bezpečnosti procesů a zařízení, a to včetně pravidelných opakování takových školení. Pro zaměstnance, kteří jsou odpovědní za úkoly související s bezpečností procesů a zařízení a kteří byli déle nepřítomni (např. Z důvodu těhotenství, nemoci, delší dovolené atd.), Je k dispozici rekvalifikační program.",null,null,null,null,null,true]
[null,null,null,"c)","Odborníci na procesní bezpečnost ve společnosti získávají další vzdělávání související s nejnovějšími nástroji a technikami v oblasti procesní bezpečnosti.",null,null,null,null,null,false]
[null,null,null,"d)","K dispozici jsou osvědčení o způsobilosti všech osob, které se podílejí na procesní bezpečnosti.",null,null,null,null,null,false]
[null,null,null,null," ",{"$f":"B66","v":"Procesní bezpečnost"}]
[null,null,"Q2.23","Jakým způsobem se sdílejí informace o rizicích látek a přípravků?",null,null,{"$f":"C140","v":"Q2.23"},"poznámky"]
[null,null,{"$f":"IF(COUNTIF(K141:K144,TRUE)=0,\"neúplné\",IF(COUNTIF(K141:K144,TRUE)=1,\"\",\"nekonzistentní\"))","v":""},"a)","Zaměstnancům pracujícím na místech, kde se tyto látky používají, je k dispozici aktualizovaný seznam bezpečnostních listů (dále jen \"BL\").",null,"Na pracovištích SPOLCHEMIE jsou k dispozici Pravidla pro nakládání s NCHLaS (schválená KHS), v elektronické podobě je v PC k dispozici databáze bezpečnostních listů. Parametry procesu (včetně hraničních hodnot) jsou součástí pracovních instrukcí a vizualizací řídicího systému technologie.  ",null,null,null,false]
[null,null,null,"b)","K dispozici jsou vlastnosti a parametry všech relevantních reakcí v procesech (včetně schémat toku, materiálové bilance a energetické bilance pro všechny základní procesy).",null,null,null,null,null,false]
[null,null,null,"c)","V rámci celého procesu je známý vývoj teploty a tlaku v běžných a nejhorších možných situacích.",null,null,null,null,null,false]
[null,null,null,"d)","Jsou známé bezpečnostní údaje pro všechny procesy a látky (včetně možných meziproduktů, zbytků a jiných látek).",null,null,null,null,null,true]
[null,null,null,null," "]
[null,null,"Q2.24","Jak se sdílejí informace o procesu?",null,null,{"$f":"C146","v":"Q2.24"},"poznámky"]
[null,null,{"$f":"IF(COUNTIF(K147:K150,TRUE)=0,\"neúplné\",IF(COUNTIF(K147:K150,TRUE)=1,\"\",\"nekonzistentní\"))","v":""},"a)","K dispozici je seznam a aktuální technická dokumentace o zařízeních/nástrojích/regulačních obvodech/vypínačích a poplachů a dalších prvcích kritických z hlediska procesní bezpečnosti.",null,"Autorizované výtisky pracovních instrukcí pro obsluhu jsou povinně k dispozici na velínech pracovišť, stejně jako bezpečnostní dokumentace (např. požární řád, havarijní plán, dokumentace ochrany před výbuchem apod.). Tyto instrukce obsahují postupy pro všechny provozní fáze a postupy pro známé nestandardní stavy. Obsahují i potřebná schémata, nouzové a havarijní prvky (v elektronické podobě jsou součástí řídicích systémů).  Zaměstnanci jsou s nimi prokazatelně seznamováni (+ zaškolováni).   ",null,null,null,false]
[null,null,null,"b)","K dispozici jsou aktuální schémata potrubí a nástrojů.",null,null,null,null,null,false]
[null,null,null,"c)","Výrobní postupy a návody k obsluze aktualizují podle potřeby a pokrývají všechny možné provozní fáze (např. start, běžný provoz, nouzové vypnutí, mimořádně práce atd.). Pro mimořádné události a anomálie jsou stanoveny provozní rezervy a plánované činnosti.",null,null,null,null,null,false]
[null,null,null,"d)","Všechny jsou v bezprostředním dosahu pro pracovníky zapojených do procesu. Zaměstnanci jsou vyškoleni v oblasti používání dokumentace a činností vyplývajících z těchto postupů nebo návodů.",null,null,null,null,null,true]
[]
[null,"Distribuce",null,null,null,{"$f":"B152","v":"Distribuce"}]
[null,null,null,null," "]
[null,null,"Q2.25","Jakým způsobem organizace hodnotí své logistické partnery z hlediska HSE&S, energetické účinnosti a emisí skleníkových plynů?",null,null,{"$f":"C154","v":"Q2.25"},"poznámky"]
[null,null,{"$f":"IF(COUNTIF(K155:K158,TRUE)=0,\"neúplné\",IF(COUNTIF(K155:K158,TRUE)=1,\"\",\"nekonzistentní\"))","v":""},"a)","Neprovádí žádné systematické hodnocení.",null,"Před každou objednávkou dopravy posuzujeme a vybíráme vhodného dopravce, který pro konkrétní přepravu splňuje podmínky příslušných legislativních předpisů (např. Řádu RID, Dohody ADR,  Zákona č.111/1994 Sb. o silniční dopravě, Zákona č.361/2000 Sb. o provozu na pozemních komunikacích, Dohody CMR, Dohody CIM, Zákona č.266/1994 Sb. o drahách, atd.)\nPosuzujeme také vhodnost dopravního prostředku včetně provozní výbavy a výstroje pro bezpečnou nakládku a přepravu. Před vjezdem do SPOLCHEMIE je dopravní prostředek kontrolován fyzicky odpovědnými pracovníky.\nPo nakládce/ vykládce je dopravní prostředek kontrolován pracovníkem provozu na manipulační pozici. Před pouštěním do areálu je prováděna opětovná kontrola pracovníky na výstupu. Každý dopravce je posuzován samostatně a zařazen do seznamu schválených smluvních dopravců dle\nvýsledků každoročního Výběrového řízení.",null,null,null,false]
[null,null,null,"b)","Organizace stanovuje pro dodavatele logistických služeb minimální požadavky na HSE&S.",null,null,null,null,null,false]
[null,null,null,"c)","Organizace vyhodnocuje příslušné kroky a bezpečnostní opatření, které se vyžadují při přepravě chemických látek.",null,null,null,null,null,true]
[null,null,null,"d)","Organizace využívá k posouzení potenciálních poskytovatelů logistiky systém hodnocení bezpečnosti a kvality nebo podobné systémy / kritéria.",null,null,null,null,null,false]
[null,null,null,null," "]
[null,null,"Q2.26","Jakým způsobem organizace zabraňuje a reaguje na dopravní nehody?",null,null,{"$f":"C160","v":"Q2.26"},"poznámky"]
[null,null,{"$f":"IF(COUNTIF(K161:K164,TRUE)=0,\"neúplné\",IF(COUNTIF(K161:K164,TRUE)=1,\"\",\"nekonzistentní\"))","v":""},"a)","Byly zpracovány checklisty (kontrolní listy) pro nakládání a vykládání nebezpečného zboží.",null,"Nehodové události, postupy při jejich řešení, pomoc/ součinnost, prevence/ předcházení je popsáno a nastaveno v podnikových pracovních směrnicích (např. PS 9023 Havarijní reakce a připravenost, PS 9024 Bezpečnost a ochrana zdraví, PS 9025 Požární ochrana, PS 9026 Nakládání s nebezpečnými látkami a směsmi, atd.). Dále je Spolek součástí TRINS, tedy je nápomocen v případě dopravních nehod a je připraven aktivně pomoci při odstraňování následků mimořádných událostí.",null,null,null,false]
[null,null,null,"b)","Systematicky se uplatňují postupy s cílem dodržovat tyto checklisty a požadavky.",null,null,null,null,null,false]
[null,null,null,"c)","Byl ustanoven systém, který mohou v případě mimořádných událostí používat externí poskytovatelé služeb a poskytovatelé logistických služeb. K dispozici je nepřetržitě kontaktní telefonní číslo (24/7).",null,null,null,null,null,false]
[null,null,null,"d)","Havarijní plán místa zohledňuje logistiku. Společnost nabízí pomoc při odstraňování následků dopravních nehod (např. ICE (zásah při mimořádných událostech v oblasti chemické dopravy)) nebo podobné systémy.",null,null,null,null,null,true]
[]
[null,"Bezpečnost",null,null,null,{"$f":"B166","v":"Bezpečnost"}]
[null,null,null,null," "]
[null,null,"Q2.27","Jakým způsobem organizace identifikuje bezpečnostní problémy?",null,null,{"$f":"C168","v":"Q2.27"},"poznámky"]
[null,null,{"$f":"IF(COUNTIF(K169:K172,TRUE)=0,\"neúplné\",IF(COUNTIF(K169:K172,TRUE)=1,\"\",\"nekonzistentní\"))","v":""},"a)","Neexistuje systematický proces, jen se zaznamenávají stížnosti.",null,"Útvar RBOZ trvale sleduje, identifikuje a vyhodnocuje různé bezpečnostní problémy, ať už poruchy, nehody nebo skoronehody, případně anomálie, pracovní úrazy atd. Zdrojem je běžná kontrolní činnost, výstupy kontrol externích subjektů ve SPOLCHEMII, výstupy interních i externích auditů IMS, šetření MU apod. Po vyhodnocení jsou stanovena odpovídající nápravná opatření, jejichž splnění je kontrolováno a je vyhodnocen jejich efekt. ",null,null,null,false]
[null,null,null,"b)","Pravidelně se provádějí a vyhodnocují analýzy hrozeb vůči organizaci.",null,null,null,null,null,false]
[null,null,null,"c)","Identifikované hrozby jsou adresovány pomocí stanovených opatření. Účinnost opatření se posuzuje analýzami probíhajícími po ukončení bezpečnostní události.",null,null,null,null,null,false]
[null,null,null,"d)","Pravidelně se vyhodnocuje účinnost procesu řízení bezpečnostního rizika.",null,null,null,null,null,true]
[null,null,null,null," "]
[null,null,"Q2.28","Jakým způsobem se kontroluje příchod a odchod pracovníků a materiálu na pracovišti a v oblastech s omezeným vstupem?",null,null,{"$f":"C174","v":"Q2.28"},"poznámky"]
[null,null,{"$f":"IF(COUNTIF(K175:K178,TRUE)=0,\"neúplné\",IF(COUNTIF(K175:K178,TRUE)=1,\"\",\"nekonzistentní\"))","v":""},"a)","Neprobíhá žádná kontrola.",null,"Vstup/ výstup je možný pouze přes vrátnice/ recepci, vjezd/výjezd pak přes vrátnice pro vozidla (zajišťují i vjezd/ výjezd kolejových vozidel) – vše je zajišťováno zaměstnanci bezpečnostní agentury a podléhá evidenci/ registraci a dalším režimovým opatřením. Návštěvy mohou do areálu pouze v doprovodu zaměstnance SPOLCHEMIE/ nájemce. Účinnost ochrany areálu je pravidelně vyhodnocována a potřebné změny jsou zapracovány do PS 650 Ochrana osob a majetku.",null,null,null,false]
[null,null,null,"b)","Lidé, vozidla a zboží mohou vstoupit pouze přes kontrolované přístupové body. Příchozí lidé, vozidla a zboží podléhají registraci.",null,null,null,null,null,false]
[null,null,null,"c)","Byl zaveden postup týkající se přístupu. Návštěvníci mohou vstupovat (do budovy, provozních prostor ...) pouze v doprovodu zaměstnanců.",null,null,null,null,null,false]
[null,null,null,"d)","Účinnost postupu týkajícího se přístupu se pravidelně reviduje.",null,null,null,null,null,true]
[null,null,null,null," "]
[null,null,"Q2.29","Jakým způsobem se kontroluje kybernetická bezpečnost?",null,null,{"$f":"C180","v":"Q2.29"},"poznámky"]
[null,null,{"$f":"IF(COUNTIF(K181:K184,TRUE)=0,\"neúplné\",IF(COUNTIF(K181:K184,TRUE)=1,\"\",\"nekonzistentní\"))","v":""},"a)","Organizace nemá žádné informace o problematice kybernetické bezpečnosti a neví, jak v případě výskytu takových problémů reagovat.",null,"Skupina přijala a realizuje závazná pravidla a opatření stanovené NÚKIB pro zmírnění rizik a hrozeb kybernetické bezpečnosti.",null,null,null,false]
[null,null,null,"b)","Organizace se účastní pracovních skupin v oblasti kybernetické bezpečnosti.",null,null,null,null,null,false]
[null,null,null,"c)","Organizace se účastní pracovních skupin v oblasti kybernetické bezpečnosti a pracovníci jsou vyškoleni ohledně způsobu zacházení s podezřelými e-maily.",null,null,null,null,null,false]
[null,null,null,"d)","Organizace identifikuje, sleduje a zmírňuje rizika kybernetické bezpečnosti, která mají dopad na podnikání a systémy ochrany zdraví, bezpečnosti, životního prostředí a udržitelnosti, pomocí přístupu založeného na rizicích ke zmírňování hrozeb.",null,null,null,null,null,true]
[null,null,null,null," "]
[null,null,"Q2.30","Jakým způsobem probíhá komunikace a výměna informací v případě bezpečnostní krize?",null,null,{"$f":"C186","v":"Q2.30"},"poznámky"]
[null,null,{"$f":"IF(COUNTIF(K187:K190,TRUE)=0,\"neúplné\",IF(COUNTIF(K187:K190,TRUE)=1,\"\",\"nekonzistentní\"))","v":""},"a)","Není stanoven žádný proces komunikace v případě bezpečnostní krize.",null,"Ve SPOLCHEMII jsou krizové postupy a řízení soustředěny především na pracovišti IZD, které má zpracovány postupy pro jednotlivé typy MU, má k dispozici potřebné prostředky a kontakty (vše je pravidelně prověřováno a aktualizováno). V případě závažných MU svolává Havarijní štáb, který následně přebírá krizové řízení areálu. Vnitřní havarijní plán + Podklady pro zónu havarijního plánování byly předány KÚ a HZS Úk. Krizová cvičení probíhají v rámci cvičného svolání HŠ, cvičení většího rozsahu proběhlo např. při tematickém cvičení IZS ve SPOLCHEMII v 09/2018.    ",null,null,null,false]
[null,null,null,"b)","Byl vypracován seznam kontaktních údajů o zaměstnancích, který slouží k jejich rychlému kontaktování v případě krize.",null,null,null,null,null,false]
[null,null,null,"c)","Organizace poskytuje informace, které umožňují veřejným orgánům vypracovat specializovaný havarijní plán pro bezpečnostní incident/nehody představující vysokou míru rizika pro organizaci a / nebo její prostředí.",null,null,null,null,null,false]
[null,null,null,"d)","Organizace spolupracuje s institucemi poskytujícími pomoc veřejnosti s cílem stanovit opatření pro případy nehod (například krizové cvičení, školení prováděné organizací ...)",null,null,null,null,null,true]
[null,null,null,null," ",{"$f":"B166","v":"Bezpečnost"}]
[null,null,"Q2.31","Jak se organizace vyrovnává s podezřelým chováním (včetně rizik radikalizace = souhlas a podopra extrémních názorů)",null,null,{"$f":"C192","v":"Q2.31"},"poznámky"]
[null,null,{"$f":"IF(COUNTIF(K193:K196,TRUE)=0,\"neúplné\",IF(COUNTIF(K193:K196,TRUE)=1,\"\",\"nekonzistentní\"))","v":""},"a)","Neexistuje žádný příslušný proces.",null,"Organizace má schválený Etický kodex – projednávání se všemi zaměstnanci 1x za čtvrtletí, opakované školení všech manažerů 1x za rok, interní e-mailová adresa pro i anonymní nahlášení podezřelého/ neetického chování.",null,null,null,false]
[null,null,null,"b)","Organizace věnuje zvláštní pozornost podezřelému chování (a rizikům radikalizace) u zaměstnanců vlastních a externích firem. ",null,null,null,null,null,false]
[null,null,null,"c)","Zaměstnanci mohou v rámci stanoveného postupu nahlásit podezřelé chování.",null,null,null,null,null,true]
[null,null,null,"d)","Organizace spolupracuje s policejními složkami při kontrole všech pracovníků a návštěvníků.",null,null,null,null,null,false]
[null,null,null,null," "]
[null,null,"Q2.32","Jakým způsobem školí organizace pracovníky v oblasti ostrahy ve vazbě na bezpečnostní rizika?  ",null,null,{"$f":"C198","v":"Q2.32"},"poznámky"]
[null,null,{"$f":"IF(COUNTIF(K199:K202,TRUE)=0,\"neúplné\",IF(COUNTIF(K199:K202,TRUE)=1,\"\",\"nekonzistentní\"))","v":""},"a)","Organizace se tímto problémem nezabývá.",null,"Pro bezpečnostní agenturu zajišťující ostrahu areálu byly vypracovány a předány závazné pokyny a postupy pro případ vzniku MU v areálu. Zaměstnanci BA jsou z nich opakovaně prokazatelně proškolováni.",null,null,null,false]
[null,null,null,"b)","Organizace poskytuje pokyny vybízející k ostražitosti s cílem zajistit postup v případě objevení podezřelých předmětů nebo vozidel.",null,null,null,null,null,false]
[null,null,null,"c)","Jsou poskytovány pokyny k ostražitosti, které personálu připomínají bezpečnostní postupy v případě objevení podezřelých předmětů nebo vozidel a jsou poskytovány čtvrtletní aktualizace těchto pokynů.",null,null,null,null,null,true]
[null,null,null,"d)","Pracovníci jsou nabádani k účasti na zvýšení bezpečnosti.",null,null,null,null,null,false]
[]
[null,"Životní prostředí ",null,null,null,{"$f":"B204","v":"Životní prostředí "}]
[null,null,null,null," "]
[null,null,"Q2.33","Jakým způsobem se posuzuje potenciální vliv organizace na životní prostředí?",null,null,{"$f":"C206","v":"Q2.33"},"poznámky"]
[null,null,{"$f":"IF(COUNTIF(K207:K210,TRUE)=0,\"neúplné\",IF(COUNTIF(K207:K210,TRUE)=1,\"\",\"nekonzistentní\"))","v":""},"a)","Neexistuje systematické posuzování vlivů činností na životní prostředí.",null,"SPOLCHEMIE vydává Zprávu o životním prostředí, která je k dispozici nejen zaměstnancům, ale i veřejnosti. Je k nahlédnutí na webových stránkách SPOLCHEMIE.",null,null,null,false]
[null,null,null,"b)","Pravidelně se provádí systematické posuzování vlivů činností na životní prostředí.",null,null,null,null,null,false]
[null,null,null,"c)","Na základě tohoto posouzení se v akčním plánu stanovují priority ohledně snižování vlivů činností na životní prostředí. Výsledky posuzování výsledků se sdělují zaměstnancům i veřejnosti.",null,null,null,null,null,false]
[null,null,null,"d)","Kromě toho jsou výsledky posouzení dopadů sdělovány zaměstnancům a veřejnosti.",null,null,null,null,null,true]
[null,null,null,null," "]
[null,null,"Q2.34","Jakým způsobem se řídí environmentální výkonnost?",null,null,{"$f":"C212","v":"Q2.34"},"poznámky"]
[null,null,{"$f":"IF(COUNTIF(K213:K216,TRUE)=0,\"neúplné\",IF(COUNTIF(K213:K216,TRUE)=1,\"\",\"nekonzistentní\"))","v":""},"a)","Organizace se nezaměřuje na environmentální výkonnost a záležitosti týkající se životního prostředí řídí ve smyslu zákonných požadavků.",null,"Pravidelně probíhá hodnocení/ přezkum IMS (enviprogramy, cíle IMS, investiční plán).",null,null,null,false]
[null,null,null,"b)","Organizace definovala strategické cíle a podpůrné kroky ke kontrole a snížení jejího dopadu na životní prostředí.",null,null,null,null,null,false]
[null,null,null,"c)","Pravidelně se analyzuje vývoj environmentální výkonnosti (prostřednictvím vhodných ukazatelů) a provádění akčních plánů. Účinnost se neustále zlepšuje. Plán zohledňuje obavy obyvatelstva a potenciální rizika a příležitosti z hlediska organizace.",null,null,null,null,null,false]
[null,null,null,"d)","Top management organizace pravidelně hodnotí výkonnost, zdůvodňuje dosahování těchto cílů a zajišťuje dostupnost vhodných zdrojů.",null,null,null,null,null,true]
[null,null,null,null," "]
[null,null,"Q2.35","Jak organizace nakládá s odpadem?",null,null,{"$f":"C218","v":"Q2.35"},"poznámky"]
[null,null,{"$f":"IF(COUNTIF(K219:K222,TRUE)=0,\"neúplné\",IF(COUNTIF(K219:K222,TRUE)=1,\"\",\"nekonzistentní\"))","v":""},"a)","S odpadem se nakládá v souladu s platnou legislativou.",null,"SPOLCHEMIE nakládá s odpadem v souladu s legislativou a dále se snaží snižovat produkci / nebezpečnost odpadů (např. snížení měrné produkce tzv. HEXAZBYTKŮ z provozu Epichlorhydrin - CHS Epi).",null,null,null,false]
[null,null,null,"b)","Klasifikace, třídění, skladování a bezpečná likvidace odpadu umožňuje optimalizovat tok materiálů s cílem maximalizovat jejich další zužitkování.",null,null,null,null,null,false]
[null,null,null,"c)","Postupy odpadového hospodářství, které se týkají provozu a zařízení, se periodicky vyhodnocují a v případě potřeby aktualizují.",null,null,null,null,null,true]
[null,null,null,"d)","Ve spolupráci s partnery probíhá program zaměřený na možnosti zlepšování odpadového hospodářství. Byly stanoveny cíle a ukazatele týkající se snižování množství a / nebo zužitkování odpadu. Pokrok při dosahování cílů se systematicky ověřuje.",null,null,null,null,null,false]
[null,null,null,null," ",{"$f":"B204","v":"Životní prostředí "}]
[null,null,"Q2.36","Jakým způsobem řídí organizace rizika týkající se podzemních vod?",null,null,{"$f":"C224","v":"Q2.36"},"poznámky"]
[null,null,{"$f":"IF(COUNTIF(K225:K228,TRUE)=0,\"neúplné\",IF(COUNTIF(K225:K228,TRUE)=1,\"\",\"nekonzistentní\"))","v":""},"a)","Rizika znečištění podzemních vod se řídí ve smyslu platné legislativy.",null,"Skupina má monitoring kvality podzemních vod uveden ve schválených Základních zprávách a dále jsou podmínky monitoringu součástí IP, při sanaci starých ekologických zátěží (např. amalgámová elektrolýza, skládka Chabařovice).",null,null,null,false]
[null,null,null,"b)","Byly identifikovány hlavní rizikové činností vedoucí ke znečištění podzemních vod. Pro zabránění a odhalování úniku chemikálií do podzemních vod slouží příslušné technické a provozní opatření.",null,null,null,null,null,false]
[null,null,null,"c)","Pravidelně se provádějí zkoušky kvality podzemních vod s cílem identifikovat potenciální kontaminaci podzemních vod.",null,null,null,null,null,true]
[null,null,null,"d)","Organizace přispívá k rozvoji technologií na ochranu podzemních vod a tyto osvědčené postupy následně sdílí s ostatními zainteresovanými stranami.",null,null,null,null,null,false]
[null,null,null,null," "]
[null,null,"Q2.37","Jakým způsobem řídí organizace rizika týkající se znečištění půdy?",null,null,{"$f":"C230","v":"Q2.37"},"poznámky"]
[null,null,{"$f":"IF(COUNTIF(K231:K234,TRUE)=0,\"neúplné\",IF(COUNTIF(K231:K234,TRUE)=1,\"\",\"nekonzistentní\"))","v":""},"a)","Rizika znečištění půdy se řídí ve smyslu platné legislativy.",null,"Organizace má monitoring kvality podzemních vod uveden ve schválených Základních zprávách a dále jsou podmínky monitoringu součástí IP, při sanaci starých ekologických zátěží (např. amalgámová elektrolýza, skládka Chabařovice).",null,null,null,false]
[null,null,null,"b)","Byly identifikovány hlavní rizikové činnosti, které mohou mít dopad na půdu. Pro zabránění a odhalování úniku chemikálií slouží příslušné technické a provozní opatření. Např. se všemi nebezpečnými látkami se manipuluje v prostorách s nepropustnou podlahou a skladují se v utěsněných nádržích.",null,null,null,null,null,false]
[null,null,null,"c)","Byla zavedena opatření a postupy pro minimalizaci vlivu havarijního úniku do půdy. Pravidelně se provádějí zkoušky kvality půdy s cílem identifikovat potenciální kontaminaci půdy.",null,null,null,null,null,true]
[null,null,null,"d)","Organizace přispívá k rozvoji technologií na ochranu půdy a tyto osvědčené postupy následně sdílí s ostatními zainteresovanými stranami.",null,null,null,null,null,false]
[null,null,null,null," "]
[null,null,"Q2.38","Jakým způsobem řídí organizace existující znečištění půdy?\n",null,null,{"$f":"C236","v":"Q2.38"},"poznámky"]
[null,null,{"$f":"IF(COUNTIF(K237:K240,TRUE)=0,\"neúplné\",IF(COUNTIF(K237:K240,TRUE)=1,\"\",\"nekonzistentní\"))","v":""},"a)","Stávající znečištění půdy se řídí ve smyslu platné legislativy.",null,"Probíhají sanace starých ekologických zátěží v rámci celého areálu (např. amalgámová elektrolýza) a dále na sanované skládce Chabařovice.",null,null,null,false]
[null,null,null,"b)","Organizace stanovila proces odstraňování havarijního znečištění a identifikovala existující znečištění na místě.",null,null,null,null,null,false]
[null,null,null,"c)","Organizace vytvořila plán řízení znečištění pro všechny existující znečištění (pokud existují), včetně řešení k jejich odstranění.",null,null,null,null,null,false]
[null,null,null,"d)","Plán řízení znečištění je zahrnut do rozpočtu i do řízení lokality.",null,null,null,null,null,true]
[null,null,null,null," "]
[null,null,"Q2.39","Jakým způsobem organizace řídí své emise škodlivin do ovzduší?",null,null,{"$f":"C242","v":"Q2.39"},"poznámky"]
[null,null,{"$f":"IF(COUNTIF(K243:K246,TRUE)=0,\"neúplné\",IF(COUNTIF(K243:K246,TRUE)=1,\"\",\"nekonzistentní\"))","v":""},"a)","Emise škodlivin do ovzduší se řídí ve smyslu platné legislativy.",null,"Organizace uvádí informace o emisích ve Zprávě o ŽP a sleduje aktuální závěry o BAT – hodnocení nových požadavků na provozy. Hodnocení enviaspektů / dopadů - identifikaci prioritních oblastí pro zlepšení.",null,null,null,false]
[null,null,null,"b)","Organizace identifikovala hlavní činnosti, které ovlivňují emise do ovzduší. Pro minimalizaci, regulaci a monitorování emisí škodlivin do ovzduší slouží příslušné technické a provozní opatření. Byla zavedena opatření ke snížení emisí škodlivin pod limity stanovené zákonnými normami.",null,null,null,null,null,false]
[null,null,null,"c)","Organizace pravidelně posuzuje příležitosti pro zlepšování a systematicky plánuje činnosti s cílem snižovat své emise.",null,null,null,null,null,true]
[null,null,null,"d)","Byly stanoveny cíle a ukazatele snížení emisí škodlivin. Pokrok při dosahování cílů se systematicky ověřuje.",null,null,null,null,null,false]
[null,null,null,null," ",{"$f":"B204","v":"Životní prostředí "}]
[null,null,"Q2.40","Jakým způsobem organizace řídí své emise škodlivin do vody?",null,null,{"$f":"C248","v":"Q2.40"},"poznámky"]
[null,null,{"$f":"IF(COUNTIF(K249:K252,TRUE)=0,\"neúplné\",IF(COUNTIF(K249:K252,TRUE)=1,\"\",\"nekonzistentní\"))","v":""},"a)","Emise škodlivin do vody se řídí ve smyslu platné legislativy.",null,"SPOLCHEMIE bude v dohledné době realizovat technologii na odsolení odpadních vod provozu NMEP II, do budoucna provozu NMEP I, případně další zdroje RAS. Hodnocení enviaspektů / dopadů - identifikaci prioritních oblastí pro zlepšení.",null,null,null,false]
[null,null,null,"b)","Organizace identifikovala hlavní činnosti, které ovlivňují emise škodlivin do vody. Pro minimalizaci, regulaci a monitorování emisí škodlivin do vody slouží příslušné technické a provozní opatření. Byla zavedena opatření ke snížení emisí škodlivin pod hodnoty limitů stanovených zákonnými normami.",null,null,null,null,null,false]
[null,null,null,"c)","Organizace pravidelně posuzuje příležitosti pro zlepšování a systematicky plánuje činnosti s cílem snižovat své emise.",null,null,null,null,null,false]
[null,null,null,"d)","Byly stanoveny cíle a ukazatele snížení emisí škodlivin. Pokrok při dosahování cílů se systematicky ověřuje.",null,null,null,null,null,true]
[null,null,null,null," "]
[null,null,"Q2.41","Jakým způsobem organizace řídí své emise hluku?",null,null,{"$f":"C254","v":"Q2.41"},"poznámky"]
[null,null,{"$f":"IF(COUNTIF(K255:K258,TRUE)=0,\"neúplné\",IF(COUNTIF(K255:K258,TRUE)=1,\"\",\"nekonzistentní\"))","v":""},"a)","Hluk se řídí ve smyslu platné legislativy.",null,"V areálu probíhá pravidelné měření hluku – spolupráce s KHS, vazba na nové investiční akce (IA).",null,null,null,false]
[null,null,null,"b)","Organizace identifikovala hlavní činnosti, které ovlivňují emise hluku. Pro zabránění a omezování hluku slouží příslušné technické a provozní opatření.",null,null,null,null,null,false]
[null,null,null,"c)","Byly stanoveny pravidelné monitorovací kampaně. Údaje z monitorování se posuzují s cílem stanovit a naplánovat příležitosti ke zlepšování. Systematicky se plánují opatření ke snižování emisí hluku.",null,null,null,null,null,true]
[null,null,null,"d)","Byly stanoveny cíle a ukazatele snížení emisí hluku. Pokrok při dosahování cílů se systematicky ověřuje.",null,null,null,null,null,false]
[null,null,null,null," "]
[null,null,"Q2.42","Jakým způsobem organizace řídí své emise zápachu?",null,null,{"$f":"C260","v":"Q2.42"},"poznámky"]
[null,null,{"$f":"IF(COUNTIF(K261:K264,TRUE)=0,\"neúplné\",IF(COUNTIF(K261:K264,TRUE)=1,\"\",\"nekonzistentní\"))","v":""},"a)","Zápach se řídí ve smyslu platné legislativy.",null,"Je zavedeno kontaktní místo i linka pro případy obtěžování zápachem. Každý případ je individuálně posouzen a je - li zdrojem zápachu skutečně některá z organizací SPOLCHEMIE, pak jsou provedena opatření k omezení a zlepšení emisí zápachu. Hodnocení enviaspektů / dopadů - identifikaci prioritních oblastí pro zlepšení.",null,null,null,false]
[null,null,null,"b)","Organizace identifikovala hlavní činnosti, které vytvářejí emise zápachu. Pro zabránění a omezování emisí zápachu slouží příslušné technické a provozní opatření.",null,null,null,null,null,false]
[null,null,null,"c)","Organizace disponuje kontaktním místem pro případ obtěžování zápachem.",null,null,null,null,null,false]
[null,null,null,"d)","Organizace disponuje kontaktním místem pro případ obtěžování zápachem. Systematicky se plánují opatření ke zlepšení a omezování emisí zápachu v souladu s požadavky zainteresovaných stran.",null,null,null,null,null,true]
[null,null,null,null," "]
[null,null,"Q2.43","Jakým způsobem organizace zabraňuje a řídí havarijní emise do prostředí?",null,null,{"$f":"C266","v":"Q2.43"},"poznámky"]
[null,null,{"$f":"IF(COUNTIF(K267:K270,TRUE)=0,\"neúplné\",IF(COUNTIF(K267:K270,TRUE)=1,\"\",\"nekonzistentní\"))","v":""},"a)","Byly zřízeny opatření k předcházení havarijním emisím ve smyslu platné legislativy.",null,"V organizaci je zaveden EMS, dále probíhají taktická cvičení (zatím poslední v 9/2018), s městem máme dohodu o informacích (spolupráce při MU), nově memorandum o spolupráci - v jeho rámci participace na projektu modernizace VISO.",null,null,null,false]
[null,null,null,"b)","Organizace systematicky identifikovala procesy a činnosti, které mohou vést k havarijním emisím do životního prostředí. Pro zabránění a omezování havarijních emisí slouží příslušné technické a provozní opatření (např. hráze, povrchy nepropouštějící kapaliny, kontejnery nebo nádrže s dvojitou stěnou, uzamykací systémy pro kanalizaci nebo odtoky povrchových vod atd.). Účinnost zavedených opatření se pravidelně vyhodnocuje.",null,null,null,null,null,false]
[null,null,null,"c)","V případě havarijního znečištění disponuje organizace havarijním postupem. Zdroje nebo příčiny havarijního znečištění byly vyhodnoceny jako součást studie Procesní bezpečnosti. Následně byly zavedeny příslušné identifikované protiopatření.",null,null,null,null,null,false]
[null,null,null,"d)","V organizaci působí jednotka na předcházení krizím, která provádí cvičení simulující krizi v souvislosti s havarijním znečištěním. Kromě toho byl stanoven postup komunikace s místními zainteresovanými stranami (úřady, médii, místními obyvateli ...) a účinnost tohoto procesu se pravidelně vyhodnocuje a zlepšuje.",null,null,null,null,null,true]
[null,null,null,null," ",{"$f":"B204","v":"Životní prostředí "}]
[null,null,"Q2.44","Jakým způsobem zajišťuje organizace správně kompetence všech pracovníků, týkající se environmentálních požadavků, které souvisejí s jejich pracovní náplní?",null,null,{"$f":"C272","v":"Q2.44"},"poznámky"]
[null,null,{"$f":"IF(COUNTIF(K273:K276,TRUE)=0,\"neúplné\",IF(COUNTIF(K273:K276,TRUE)=1,\"\",\"nekonzistentní\"))","v":""},"a)","Organizace identifikovala požadavky na kompetence pro pracovní pozice s klíčovým vlivem na životní prostředí. Takový personál je vhodně vyškolený.",null,"Ve SPOLCHEMII probíhají pravidelná školení a semináře, certifikace dle legislativy (OZO dle vodního zákona, akreditace LAVES), dotazník přínosu a úrovně školení.",null,null,null,false]
[null,null,null,"b)","Zaměstnanci a dodavatelé jsou zaškolování v oblasti environmentálních záležitostí na základě jejich odpovědností za životní prostředí. Byl vypracován plán odborné přípravy, který zahrnuje všechny významné environmentální aspekty.",null,null,null,null,null,false]
[null,null,null,"c)","Všichni zaměstnanci jsou si přinejmenším vědomi environmentálních cílů organizace. Zaměstnanci vědí, jakým způsobem mohou přispět a jaké jsou důsledky v případě nepřispívání a k procesům environmentálního řízení. Odborníci na životní prostředí získávají další vzdělávání související s nejnovějšími nástroji a technikami.",null,null,null,null,null,false]
[null,null,null,"d)","Pravidelně se vyhodnocují osvědčení o způsobilosti a účinnost školení.",null,null,null,null,null,true]
[null,null,null,null," "]
[null,null,"Q2.45","Jakým způsobem jsou zainteresované strany organizace informovány o environmentálních aspektech a jejich možných dopadech?",null,null,{"$f":"C278","v":"Q2.45"},"poznámky"]
[null,null,{"$f":"IF(COUNTIF(K279:K282,TRUE)=0,\"neúplné\",IF(COUNTIF(K279:K282,TRUE)=1,\"\",\"nekonzistentní\"))","v":""},"a)","Organizace upozorňuje své zaměstnance na prevenci a opatření, která je třeba podniknout (například v případě havarijního znečištění).",null,"SPOLCHEMIÍ je vydávána veřejná zpráva o ŽP (na webových stránkách), pravidelně probíhá environmentální a bezpečnostní gremium a dále jsou o environmentálních aspektech a jejich možných dopadech informováni i členové RC.",null,null,null,false]
[null,null,null,"b)","Organizace pravidelně informuje místní obyvatelstvo o environmentálních aspektech souvisejících s jejich aktivitami.",null,null,null,null,null,false]
[null,null,null,"c)","Organizace spolupracuje s místními subjekty a sdruženími s cílem zohlednit jejich očekávání (případně i společná řešení).",null,null,null,null,null,true]
[null,null,null,"d)","Organizace informuje zainteresované strany o výsledcích monitorování ukazatelů environmentálního výkonu s cílem zdůraznit zapojení organizace do environmentální problematiky daného regionu.",null,null,null,null,null,false]

{"sheet":"Kapitola 3","index":6,"n_rows":74,"n_cols":15,"rows_kept":74,"cut":false,"hidden":false,"merged":[[56,6,59,9],[62,6,65,9],[70,6,73,9],[47,3,47,4],[45,5,51,5],[55,3,55,4],[61,3,61,4],[53,5,59,5],[60,5,65,5],[69,3,69,4],[67,5,73,5],[6,6,9,9],[14,6,17,9],[22,6,25,9],[28,6,31,9],[34,6,37,9],[40,6,43,9],[48,6,51,9],[27,3,27,4],[33,3,33,4],[39,3,39,4],[19,5,31,5],[32,5,37,5],[38,5,43,5],[13,3,13,4],[21,3,21,4],[5,3,5,4],[3,5,9,5],[11,5,17,5]]}
[null,"KAPITOLA 3: Posílení systémů řízení chemických látek",null,null,null,null,null,null,null,null,null,null,null,{"$f":"IF(O1=\"\",\"\",\"Still to do\")","v":""},{"$f":"'Začátek a předvyplnění dotazník'!$G$9","v":""}]
[null,null,null,null,null,null,"Klikněte pouze na jednu z možností"]
[]
[null,"Návrhování a zlepšování produktu",null,null,null,{"$f":"B4","v":"Návrhování a zlepšování produktu"}]
[null,null,null,null," "]
[null,{"$f":"COUNTIF(C7:C74,\"nekonzistentní\")","v":0},"Q3.1","Zavedla organizace proces pro navrhování a vývoj nových \nproduktů a služeb?",null,null,{"$f":"C6","v":"Q3.1"},"poznámky"]
[null,null,{"$f":"IF(COUNTIF(K7:K10,TRUE)=0,\"neúplné\",IF(COUNTIF(K7:K10,TRUE)=1,\"\",\"nekonzistentní\"))","v":""},"a)","Ano a tento proces je vymezen etapami a opatřeními, které se uplatňují a mohou být upraveny po vyhodnocení s cílem zajistit, aby výstupy splňovaly požadavky na vstupy. Odhad rizika je založen na pokynech nařízení REACH určením pravděpodobných skupin uživatelů, zamýšleného použití a přiměřeně předvídatelného nesprávného použití.",null,"Aktuálně Skupina řeší např. náhradu vysoce toxické DETA za TETA.",null,null,null,false]
[null,null,null,"b)","Organizace zahájila úvahu o ekologickém návrhu svých produktů a identifikovala klíčové těžiště při vypracování produktu.",null,null,null,null,null,false]
[null,null,null,"c)","Při navrhování nových výrobků a jejich používání v hodnotovém řetězci se zohledňují charakterizace rizik a úvahy o řízení rizik. Stávající produkty se zlepšují, aby se omezila rizika z počáteční fáze. Může se to projevit tak, že se vyhnete používání škodlivých chemických látek, včetně, ale ne jen těch, které jsou karcinogenní, mutagenní, toxické pro reprodukci, nebo perzistentní a bioakumulativní. Zavádí se další snížení rizika pro každého identifikovaného uživatele nebo kontaktní skupinu.",null,null,null,null,null,true]
[null,null,null,"d)","Organizace bere v úvahu takové faktory, jakými je zamýšlené použití, očekávaná životnost produktu, trvanlivost, opětovné použití, možnost recyklace nebo prospěšné využití produktu při jeho vývoji. Při navrhování procesů spotřeby energie se zvažují možnosti zlepšení energetické náročnosti. Při navrhování nového nebo zlepšování stávajícího produktu se zohledňuje analýza životního cyklu tohoto produktu. Organizace se viditelně hlásí k plnění svých závazků.",null,null,null,null,null,false]
[]
[null,"Stanovování priorit produktů",null,null,null,{"$f":"B12","v":"Stanovování priorit produktů"}]
[null,null,null,null," "]
[null,null,"Q3.2","Má organizace k dispozici proces hodnocení a stanovení priorit svých produktů pro charakterizaci rizik a řízení rizik?\n\n\n",null,null,{"$f":"C14","v":"Q3.2"},"poznámky"]
[null,null,{"$f":"IF(COUNTIF(K15:K18,TRUE)=0,\"neúplné\",IF(COUNTIF(K15:K18,TRUE)=1,\"\",\"nekonzistentní\"))","v":""},"a)","Organizace má zavedený proces, který používá jednoduchá kritéria pro upřednostnění chemikálií, na které by se měl primárně zaměřit důsledným způsobem. ",null,"Oragnizací jsou sledována legislativní kritéria – omezení použití látek- SVHC (kandidátská listina).",null,null,null,false]
[null,null,null,"b)","Tento proces se používá za použití vypracovaných kritérií pro stanovení priorit produktů pro každou skupinu výrobků (kritéria založená na nových informacích, použití a vzorcích expozice v souvislosti s profilem nebezpečnosti chemické látky). Tento proces se vztahuje na nové a stávající produkty. Kritéria pro stanovení priorit jsou pravidelně aktualizována.",null,null,null,null,null,true]
[null,null,null,"c)","Nástroje kritérií screeningu na stanovení priorit rizik se neustále vyvíjejí a zlepšují: Je zaveden proces pro aktuální sběr nových informací umožňujících rozhodování o stanovení priorit.",null,null,null,null,null,false]
[null,null,null,"d)","Metodika stanovení priorit je sdělována externě a je srovnávána.",null,null,null,null,null,false]
[]
[null,"Informace o produktu ",null,null,null,{"$f":"B20","v":"Informace o produktu "}]
[null,null,null,null," "]
[null,null,"Q3.3","Zavedla organizace systém pro sledování použitelnosti, změn a dodržování interních a externích požadavků souvisejících s řízením bezpečnosti chemických látek?",null,null,{"$f":"C22","v":"Q3.3"},"poznámky"]
[null,null,{"$f":"IF(COUNTIF(K23:K26,TRUE)=0,\"neúplné\",IF(COUNTIF(K23:K26,TRUE)=1,\"\",\"nekonzistentní\"))","v":""},"a)","V organizaci byl zaveden proces k přezkoumání a určení použitelnosti nařízení a legislativy spolu s požadavky na RC, kterým organizace podléhá. Organizace vyvinula Seznam chemické bezpečnosti, ve kterém jsou uvedeny chemické látky a směsi, které používá, dováží nebo vyrábí.",null,"V plánu rozvoje SPOLCHEMIE je zahrnuta náhrada SVHC látek používaných v našich výrobcích.",null,null,null,false]
[null,null,null,"b)","Organizace identifikovala příslušné předpisy a certifikace pro každou položku seznamu a pravidelně je aktualizuje s cílem začlenit změny. Tento seznam představuje klíčový nástroj pro identifikaci prioritních chemických látek (látky vzbuzující velké obavy = SVHC látky, omezené látky).",null,null,null,null,null,false]
[null,null,null,"c)","V organizaci byl zaveden systém pro komunikaci v rámci dodavatelského řetězce a pro pravidelnou kontrolu souladu produktů od dodavatelů. Informace o dodržování souladu v rámci dodavatelského řetězce jsou snadno přístupné. Probíhá následná komunikace s cílem potvrdit dodržování příslušných předpisů.",null,null,null,null,null,true]
[null,null,null,"d)","Organizace předpokládá vývoj legislativy v souvislosti s látkami používanými ve svých výrobcích spolu s externími partnery. Tento proces zahrnuje přijímání vhodných a včasných informací o legislativních změnách.\nOrganizace zajišťuje proaktivní komunikaci s dodavatelským řetězcem (řízení omezených látek, náhrada nebezpečných sloučenin).",null,null,null,null,null,false]
[null,null,null,null," "]
[null,null,"Q3.4","Zavedla organizace systém na správu existujících informací o rizicích svých produktů?",null,null,{"$f":"C28","v":"Q3.4"},"poznámky"]
[null,null,{"$f":"IF(COUNTIF(K29:K32,TRUE)=0,\"neúplné\",IF(COUNTIF(K29:K32,TRUE)=1,\"\",\"nekonzistentní\"))","v":""},"a)","V organizaci byl zaveden proces pro shromažďování dostupných informací o bezpečnosti produktů, jejich rizicích pro zdraví a životním prostředí.",null,"Pro vyráběné látky má organizace zpracovány scénáře expozice.",null,null,null,false]
[null,null,null,"b)","Existující informace jsou uvedeny v dokumentaci, která se pravidelně aktualizuje a je volně dostupná.",null,null,null,null,null,true]
[null,null,null,"c)","Existující informace se posuzují z hlediska spolehlivosti a jsou shrnuty v monitorovacím systému, který slouží ke sledování jakéhokoliv zdroje informací a revizí (včetně ukazatele spolehlivosti).",null,null,null,null,null,false]
[null,null,null,"d)","Organizace se snaží co nejvíce zpřístupňovat své interní informace třetím stranám s cílem podpořit sdílení dat. Tento postup přispívá například k omezování testů na zvířatech a naplňování databází pro prognostické modely.",null,null,null,null,null,false]
[null,null,null,null," ",{"$f":"B20","v":"Informace o produktu "}]
[null,null,"Q3.5","Zavedla organizace proces řízení informací o používání a expozici svých produktů?",null,null,{"$f":"C34","v":"Q3.5"},"poznámky"]
[null,null,{"$f":"IF(COUNTIF(K35:K38,TRUE)=0,\"neúplné\",IF(COUNTIF(K35:K38,TRUE)=1,\"\",\"nekonzistentní\"))","v":""},"a)","V organizaci byl zaveden proces na dokumentaci používání a spotřeby produktů na základě systému deskriptorů použití, a to včetně informací o příslušných provozních podmínkách (např. roční objemy, trvání expozice).",null,"SPOLCHEMIE komunikuje se zákazníky a poskytuje scénáře expozice dle skutečnosti.",null,null,null,false]
[null,null,null,"b)","Organizace vyvíjí proces identifikace záměrného zneužití nebo nesprávného používání produktu.\nStávající informace jsou strukturovány v dokumentačním systému a pravidelně se aktualizují a sdělují.\nVyžaduje se konečné používání zákazníkem v rámci dodavatelského řetězce.\nZpracovávají se obecné modely expozice, které zohledňují realistické opatření pro řízení provozních rizik.",null,null,null,null,null,true]
[null,null,null,"c)","Pro nebezpečné směsi s vysokou pravděpodobností expozice a při povinném monitorování na základě zákonných požadavků nebo na základě povolení jsou k dispozici spolehlivé údaje z monitorování expozice při práci.\nUrčená použití od dalších uživatelů a koncových zákazníků se zaznamenávají a začleňují do dokumentačního systému.",null,null,null,null,null,false]
[null,null,null,"d)","Existuje specializovaný proces pro distributorské sítě, např. smlouva, která uvádí povolené použití.\nOrganizace zavedla proces na proaktivní shromažďování a uchovávání informací o použití a expozici a příslušném řízení změn v rámci dodavatelského řetězce.\nCitlivé informace o použití (vhodné použití, záměrné zneužití) jsou identifikovány a ověřují se.",null,null,null,null,null,false]
[null,null,null,null," ",{"$f":"B20","v":"Informace o produktu "}]
[null,null,"Q3.6","Zavedla organizace proces na správu nových informací?",null,null,{"$f":"C40","v":"Q3.6"},"poznámky"]
[null,null,{"$f":"IF(COUNTIF(K41:K44,TRUE)=0,\"neúplné\",IF(COUNTIF(K41:K44,TRUE)=1,\"\",\"nekonzistentní\"))","v":""},"a)","Organizace zavedla proces na:\n• identifikaci nedostatečných údajů v požadavcích na údaje s ohledem na stávající a novou legislativu.\n• stanovení a provádění plánů testování chemických látek za účelem doplňování informací dle potřeby a\n• vývoj a údržbu informací o nebezpečí, které se vyžadují pro splnění minimálních právních požadavků.\nInterní a / nebo externí zdroje by měly být technicky schopny porozumět informacím o nebezpečnosti a potenciální expozici.",null,"Všechny změny SPOLCHEMIE jsou zaznamenávány a projednávány v rámci změnových řízení.",null,null,null,false]
[null,null,null,"b)","Organizace pravidelně monitoruje dostupnost nových informací o nebezpečnosti, které se vztahují na její produkty (literatura, informace o podobných produktech pro účely analogického, sdílení dat s třetími stranami) a zavedla proces začleňování nových informací o charakterizaci nebezpečnosti a expozice svých produktů.\n",null,null,null,null,null,false]
[null,null,null,"c)","Kromě informací o nebezpečnosti organizace začleňuje dostupné informace o použití svých produktů nebo expozici do svých produktů včetně, ale nejen:\n• nových trhů a použití na místech, kde se mění povaha expozice, jako například přechod z průmyslového použití na profesionální nebo spotřebitelské použití, \n• předpokládaných aplikacích a použití v regionech, které se původně nezvažovaly,\n• případů zneužití, \n• stížností zákazníků, \n• nehod a incidentů.\nTakové shromážděné informace se následně vyhodnocují. V případě potřeby se vyhodnocuje základní příčina. Nabyté poznatky se následně použijí při aktualizaci charakterizace rizik.",null,null,null,null,null,false]
[null,null,null,"d)","Revizní a schvalovací systémy zohledňují zároveň všechny změny během životního cyklu produktu, např. změny ve výrobním procesu, změny balení a distribuce, nové trhy či změny použití a zaručují komunikaci s příslušnými zainteresovanými stranami.",null,null,null,null,null,true]
[]
[null,"Charakterizace rizik",null,null,null,{"$f":"B46","v":"Charakterizace rizik"}]
[null,null,null,null," "]
[null,null,"Q3.7","Zavedla organizace proces charakterizace rizik na základě shromážděných informací?",null,null,{"$f":"C48","v":"Q3.7"},"poznámky"]
[null,null,{"$f":"IF(COUNTIF(K49:K52,TRUE)=0,\"neúplné\",IF(COUNTIF(K49:K52,TRUE)=1,\"\",\"nekonzistentní\"))","v":""},"a)","Organizace zavedla proces charakterizace potenciálních rizik svých produktů pomocí opakovaného a odstupňovaného procesu, který zohledňuje výsledky stanovování priorit. Na základě stanovení těchto priorit se pro dané produkty posuzují a dokumentují rizika.\n\nProces charakterizace rizik zohledňuje podnikové zásady, které zvažují rizika a konečné použití produktů (např. zásady medicínských aplikací, používání produktu při výrobě spotřebních výrobků atd.). Tento postup se pravidelně aktualizuje s cílem začlenit nejnovější informace a poznatky.",null,"Ve SPOLCHEMII probíhá zvyšování bezpečnosti v rámci nových investičních akcí - omezené používání SVHC látek, probíhá výzkum určitých vstupních surovin a jejich alternativních náhrad s cílem snížit rizika při jejich používání.",null,null,null,false]
[null,null,null,"b)","Organizace pravidelně posuzuje vliv nových informací o nebezpečnosti, použití a expozici, platných předpisů a osvědčení nových trhů nebo aplikací, událostí hlášených v rámci dodavatelského řetězce, nových technologií testování a vznikajících zdravotních nebo environmentálních problémů.\n\nDíky postupům zaměřeným na bdělost se zachycují nová rizika v rámci hodnotového řetězce.\nK dispozici je seznam událostí, které vedou k přehodnocení řízení bezpečnosti (např. nová aplikace, nová oblast prodeje, nové údaje o produktu atd.). V případě potřeby se přezkoumávají stávající hodnocení rizik.",null,null,null,null,null,false]
[null,null,null,"c)","Organizace nepřetržitě a proaktivně zlepšuje kvalitu stávajících charakteristik rizik.\nCharakterizace rizik se zdokonaluje s ohledem na citlivé skupiny obyvatel nebo zneužívání a systematicky se provádí pro všechny používané, dovážené a vyráběné produkty, a to bez ohledu na jejich objem.\n\nProces charakterizace rizik pokrývá celý životní cyklus výrobků (od začátku až po konec).",null,null,null,null,null,true]
[null,null,null,"d)","Organizace spolupracuje s průmyslem, vládou a dalšími zainteresovanými stranami, čímž přispívá ke zvyšování znalostí o charakterizaci rizik při používání chemických látek nebo produktů. Organizace je zapojena do \n• rozvoje a ověřování nových, alternativních metodik hodnocení rizika a expozice a charakterizace rizik\n• omezování používání zvířat při testování a vývoje alternativních metod testů na zvířatech,\n",null,null,null,null,null,false]
[]
[null,"Řízení rizik produktu",null,null,null,{"$f":"B54","v":"Řízení rizik produktu"}]
[null,null,null,null," "]
[null,null,"Q3.8","Zavedla organizace proces řízení rizik na základě shromážděných informací?",null,null,{"$f":"C56","v":"Q3.8"},"poznámky"]
[null,null,{"$f":"IF(COUNTIF(K57:K60,TRUE)=0,\"neúplné\",IF(COUNTIF(K57:K60,TRUE)=1,\"\",\"nekonzistentní\"))","v":""},"a)","Organizace zavedla proces zajišťování používání vhodných opatření k řízení rizik na základě dostupných informací.\n\nOrganizace informuje koncové uživatele o nebezpečnosti produktů a požadovaných preventivních a ochranných opatřeních (podmínky bezpečné manipulace, používání a skladování, likvidace). Na účinnou komunikaci o nebezpečích slouží správné označování a vhodné balení.",null,"Organizace provádí školení distributorů v oblastech aplikace našich výrobků (např. použití pryskyřic). BL se poskytuje.",null,null,null,false]
[null,null,null,"b)","Byl zaveden proces na přehodnocování opatření k řízení rizik při používání, skladování a likvidaci chemikálií v případě, že jsou k dispozici nové informace o nebezpečnosti produktu a charakterizaci rizik.",null,null,null,null,null,false]
[null,null,null,"c)","Organizace neustále zlepšuje doporučení k řízení rizik ohledně podmínek používání, dopravy a skladování svých produktů a poskytuje informace o možnostech recyklace (nebo bezpečné likvidace) produktů. Organizace aktivně vyhledává a získává nové informace s cílem zlepšovat opatření týkající se řízení rizik a aktivně komunikuje se zákazníky s cílem shromažďovat a zpracovat jejich zpětnou vazbu ohledně produktů. Organizace přijala opatření zabraňující nebezpečnému používání produktů v důsledku nesprávné manipulace nebo skladování širokou veřejností nebo spotřebiteli.",null,null,null,null,null,false]
[null,null,null,"d)","Organizace zvyšuje transparentnost informací o správě produktů.\n\nOrganizace zveřejňuje příslušné souhrny charakterizace rizik s příslušnými opatřeními k řízení rizik (např. V podobě bezpečnostních listů).\n\nV případě potřeby se zajišťuje vzdělávání koncových zákazníků o chemických rizicích a procesech bezpečné manipulace, např. prostřednictvím organizovaných školení a workshopů.",null,null,null,null,null,true]
[null,null,null,null," ",{"$f":"B54","v":"Řízení rizik produktu"}]
[null,null,"Q3.9","Zavedla organizace účinný proces sledování svých produktů po dodání a provádění nápravných opatření?\n",null,null,{"$f":"C62","v":"Q3.9"},"poznámky"]
[null,null,{"$f":"IF(COUNTIF(K63:K66,TRUE)=0,\"neúplné\",IF(COUNTIF(K63:K66,TRUE)=1,\"\",\"nekonzistentní\"))","v":""},"a)","Organizace zavedla postup pro zajišťování kontrolovaných podmínek a splnění požadavků na produkty a služby nabízené zákazníkům. Organizace zřídila identifikační systém výstupů, jejich stavu s ohledem na požadavky na monitorování a měření, zajišťování jejich jednoznačné identifikace pro účely sledovatelnosti a jejich uchovávání během výroby a poskytování služeb s cílem zajistit soulad s příslušnými předpisy a nařízeními.",null,"Organizace má zaveden účinný proces sledování svých výrobků a nápravných opatření (souvisí s řízením kvality výrobků, řešeno v PS 9013 Neshody a nápravná opatření).",null,null,null,false]
[null,null,null,"b)","Organizace dbá na identifikaci a kontrolu výstupů, které nesplňují příslušné požadavky s cílem zabránit jejich neúmyslnému použití nebo dodání. Tato opatření se dokumentují a podléhají sledování a provádění nápravných opatření.",null,null,null,null,null,false]
[null,null,null,"c)","Organizace zavedla a implementovala procesy pro oblast:\n• otázek a stížností od zákazníků \n• incidentů nebo nehod \n• odvolání produktů v rámci hodnotového řetězce.\nV rámci tohoto postupu se stanoví preventivní a nápravná opatření s cílem neustále zlepšovat řízení rizik produktů.",null,null,null,null,null,false]
[null,null,null,"d)"," Organizace zavedla postup při odvolávání nebo stažení produktů z trhu. V takovém případě se sestavuje příslušný tým, který zahrnuje koordinátora, vyšší management, oddělení prodeje, zákaznické služby a jakékoliv jiné oddělení. Odpovědnosti jsou jasně stanoveny z hlediska rozhodování, implementace havarijního plánu a nápravných opatření. Postup objasňuje kroky nutné k odvolávání produktů v případě podezření, že ovlivňují zdraví nebo bezpečnost uživatelů či spotřebitelů. Takový postup by měl zahrnovat následující kroky:\n- Hodnocení produktu: shromažďují se stížnosti a koordinátor vyhodnotí možnost odvolávání produktu. Všechny zainteresované strany (regulační orgány, dodavatelský řetězec, interní komunikace) byly identifikovány a přijali příslušná opatření.\n- lokalizace a identifikace dotyčných produktů,\n - včasné informování dotčených stran \n- odstranění produktu: Vrácené produkty musí shromažďovat, oddělovat a zpracovávat na místě odděleném od jakýchkoli jiných produktů. Před svým zničením, opětovným zpracováním nebo přesměrováním se nesmí opět dostat na trh. Doporučuje se zřídit dokumentaci o množstvích a identifikaci produktů.\nVyžaduje se prověření účinnosti postupu stažení z trhu (oznámení zákazníkům, přijetí vhodných opatření).",null,null,null,null,null,true]
[]
[null,"Řízení hodnotového řetězce",null,null,null,{"$f":"B68","v":"Řízení hodnotového řetězce"}]
[null,null,null,null," "]
[null,null,"Q3.10","Poskytuje organizace efektivní komunikaci v rámci dodavatelského řetězce ohledně opatření k řízení rizik, které se vztahují na jejich produkty?",null,null,{"$f":"C70","v":"Q3.10"},"poznámky"]
[null,null,{"$f":"IF(COUNTIF(K71:K74,TRUE)=0,\"neúplné\",IF(COUNTIF(K71:K74,TRUE)=1,\"\",\"nekonzistentní\"))","v":""},"a)","Organizace má k dispozici aktuální a kompletní soubor bezpečnostních listů (BL) pro všechny nebezpečné materiály, které se používají nebo skladují na místě (suroviny, meziprodukty, produkty). Před komercializací nebo odesláním se zajišťuje správné označení.",null,"Organizace poskytuje jazykové mutace svých BL, přizpůsobuje telefonní kontakty dle regionu.",null,null,null,false]
[null,null,null,"b)","Organizace zavedla proces pravidelného aktualizování svých BL s cílem začlenit nové informace (interní nebo externí) a jejich vliv z hlediska řízení rizik.\nOrganizace posuzuje kvalitu BL, které obdržela od dodavatelů.",null,null,null,null,null,false]
[null,null,null,"c)","Organizace zavedla proces sledování distribuce aktualizovaných verzí BL následným uživatelům a dalším zainteresovaným stranám. Organizace zajišťuje příjem a správné chápání svých BL a v případě potřeby navrhuje školení pro zákazníky a distributory s cílem zajistit bezpečnou manipulaci s produkty.",null,null,null,null,null,false]
[null,null,null,"d)","BL jsou veřejně dostupné a přizpůsobené regionu, ve kterém se produkt používá. Na BL se nacházejí i kontaktní údaje o odpovědné osobě v rámci společnosti, která odpovídá na případné otázky ohledně chemických látek. BL a označení obsahují informace o možnosti recyklace výrobku, pokud jsou takové informace k dispozici.",null,null,null,null,null,true]

{"sheet":"Kapitola 4","index":7,"n_rows":62,"n_cols":15,"rows_kept":62,"cut":false,"hidden":false,"merged":[[44,6,47,9],[52,6,55,9],[58,6,61,9],[35,6,38,9],[39,6,39,9],[19,5,25,5],[29,3,29,4],[27,5,39,5],[6,6,9,9],[14,6,17,9],[22,6,25,9],[3,5,9,5],[11,5,17,5],[30,6,33,9],[43,3,43,4],[41,5,47,5],[51,3,51,4],[49,5,61,5],[35,3,35,4]]}
[null,"KAPITOLA 4: Působení na obchodní partnery",null,null,null,null,null,null,null,null,null,null,null,{"$f":"IF(O1=\"\",\"\",\"Still to do\")","v":""},{"$f":"'Začátek a předvyplnění dotazník'!$G$9","v":""}]
[null,null,null,null,null,null,"Klikněte pouze na jednu z možností"]
[]
[null,"Odpovědné získávání zdrojů",null,null,null,{"$f":"B4","v":"Odpovědné získávání zdrojů"}]
[null,null,null,null," "]
[null,{"$f":"COUNTIF(C7:C62,\"nekonzistentní\")","v":0},"Q4.1","Jak se organizace zavázala k odpovědnému získávání zdrojů?",null,null,{"$f":"C6","v":"Q4.1"},"poznámky"]
[null,null,{"$f":"IF(COUNTIF(K7:K10,TRUE)=0,\"neúplné\",IF(COUNTIF(K7:K10,TRUE)=1,\"\",\"nekonzistentní\"))","v":""},"a)","Organizace dodržuje legislativní povinnosti, avšak nemá jasný závazek ani nezřídila formální proces týkající se odpovědného získávání zdrojů.",null,"SPOLCHEMIE hledá / volí šetrnější alternativy, tam, kde je to možné - např.: multimodální doprava (nákup soli) + nákup BPA v silech (vliv na snížení počtu doprav a použitých obalů), surový glycerin (výroba \"zeleného\" epichlorhydrinu), opakované použití IBC kontejnerů.",null,null,null,false]
[null,null,null,"b)","Organizace stanovila zásady, které objasňují její přístup k odpovědnému získávání zdrojů a zároveň vyžaduje, aby její dodavatelé v rámci spolupráce tyto zásady uznaly a podpořily přístup k podnikové sociální odpovědnosti.",null,null,null,null,null,false]
[null,null,null,"c)","Organizace zmapovala rizika spojená s obstaráváním a zohledňuje vliv na životní prostředí prostřednictvím ekologických kritérií v rámci procesu výběru zakoupeného zboží, vybavení a služeb. Při získávání energie za použití produktů, zařízení nebo služeb bere organizace jako jedno z kritérií energetickou náročnost po dobu předpokládané životnosti.",null,null,null,null,null,true]
[null,null,null,"d)","Organizace vyčlenila rozpočet na nákup vybavení, zboží a služeb, které jsou šetrné k životnímu prostředí. Na základě posouzení dopadů se stanoví příslušné priority.",null,null,null,null,null,false]
[]
[null,"Spolupráce v dodavatelském řetězci (obchodní partneři)",null,null,null,{"$f":"B12","v":"Spolupráce v dodavatelském řetězci (obchodní partneři)"}]
[null,null,null,null," "]
[null,null,"Q4.2","Jak organizace zlepšuje spolupráci v dodavatelském řetězci?",null,null,{"$f":"C14","v":"Q4.2"},"poznámky"]
[null,null,{"$f":"IF(COUNTIF(K15:K18,TRUE)=0,\"neúplné\",IF(COUNTIF(K15:K18,TRUE)=1,\"\",\"nekonzistentní\"))","v":""},"a)","Organizace dodržuje své legislativní povinnosti, avšak nemá jasný závazek v této oblasti.",null,"Ve skupině probíhá tzv. Hodnocení spokojenosti (viz PS 9003), segmentace (viz CRM/ Axapta). Náhrady surovin bez registrace REACH, v případě možnosti nákup v EU a ne v Asii, doprava po železnici místo v autech, kde je to možné (xylen ze Slovnaftu).",null,null,null,false]
[null,null,null,"b)","Organizace zajišťuje přednostně služby pro důvěryhodné obchodní partnery a hodnotí jejich spokojenost s cílem udržení dobré spolupráce v čase.",null,null,null,null,null,false]
[null,null,null,"c)","Organizace poskytuje svým hlavním byznys partnerům střednědobé kontrakty, aby byli schopni investovat do efektivních a šetrných technologií.",null,null,null,null,null,false]
[null,null,null,"d)","Organizace se podílí na R&D projektech a specifických partnerstvích v rámci dodavatelského řetězce za účelem společného vývoje nových produktů a služeb.",null,null,null,null,null,true]
[]
[null,"Obchodní integrita",null,null,null,{"$f":"B20","v":"Obchodní integrita"}]
[null,null,null,null," "]
[null,null,"Q4.3","Jakým způsobem vyjadřuje organizace svůj závazek vůči podnikatelské etice?",null,null,{"$f":"C22","v":"Q4.3"},"poznámky"]
[null,null,{"$f":"IF(COUNTIF(K23:K26,TRUE)=0,\"neúplné\",IF(COUNTIF(K23:K26,TRUE)=1,\"\",\"nekonzistentní\"))","v":""},"a)","Organizace splňuje příslušné zákonné požadavky, nepřijala však žádné konkrétní závazky.",null,"SPOLCHEMIE má zavedenou PS 255 Etický kodex, zápisy z interních porad, komunikace na podnikový email etickykodex@spolchemie.cz.",null,null,null,false]
[null,null,null,"b)","Organizace stanovila zásady nebo kodex chování v oblasti podnikatelské etiky (včetně postupů boje proti nekalé soutěži a korupci), který je formálně schválen vrcholovým vedením a/nebo informuje zaměstnance o chování v rizikových situacích.",null,null,null,null,null,false]
[null,null,null,"c)","Organizace zavedla procesy, které zabraňují angažování nebo spolupůsobení v situacích nekalé soutěže a korupci (např. Zavedením systému, který umožňuje zaměstnancům anonymně upozorňovat na jakoukoliv situaci představující takové riziko).",null,null,null,null,null,true]
[null,null,null,"d)","Organizace seznámila zainteresované strany o těchto zásadách a umožnila jim přístup k systému na upozorňování na jakékoli situace představující takové riziko.",null,null,null,null,null,false]
[]
[null,"Pracovní práva (Práva zaměstnanců)",null,null,null,{"$f":"B28","v":"Pracovní práva (Práva zaměstnanců)"}]
[null,null,null,null," "]
[null,null,"Q4.4","Jakým způsobem řeší organizace sociální problematiku a lidská práva v rámci spolupráce s obchodními partnery?",null,null,{"$f":"C30","v":"Q4.4"},"poznámky"]
[null,null,{"$f":"IF(COUNTIF(K31:K34,TRUE)=0,\"neúplné\",IF(COUNTIF(K31:K34,TRUE)=1,\"\",\"nekonzistentní\"))","v":""},"a)","Tímto tématem se nezabývá.",null,"SPOLCHEMIE má zavedenou PS 255 Etický kodex",null,null,null,false]
[null,null,null,"b)","Organizace stanoví minimální požadavky týkající se lidských práv a na základě těchto kritérií vybírá obchodní partnery.",null,null,null,null,null,true]
[null,null,null,"c)","Organizace ustanovila proces posuzování obchodních partnerů na základě těchto kritérií.",null,null,null,null,null,false]
[null,null,null,"d)","Organizace pravidelně prověřuje schopnost obchodních partnerů zajistit dodržování lidských a sociálních práv.",null,null,null,null,null,false]
[null,null,null,null," ",null,{"$f":"C36","v":"Q4.5"},"poznámky"]
[null,null,"Q4.5","Jakým způsobem zabraňuje organizace dětské práci?\nOrganizace\n1-\tzavedla systém ověřování věku; \n2-\tnezaměstnává děti mladší 15 let (v závislosti na místní legislativy). Jedinou výjimku představují učni, školní praxe nebo vzdělávací stáže; \n3-\tzaručuje, aby pracovní náplň osob mladších než 18 let neovlivňovala jejich školní docházku (doba strávená dopravou do práce a školy a z práce a školy, školní docházkou a prací je méně než 10 hodin denně );\n4-\tzajišťuje, že pracovní náplň mladých pracovníků není duševně, fyzicky, společensky ani morálně nebezpečná a škodlivá.",null,null,"Legislativní požadavek."]
[null,null,{"$f":"IF(COUNTIF(K37:K40,TRUE)=0,\"neúplné\",IF(COUNTIF(K37:K40,TRUE)=1,\"\",\"nekonzistentní\"))","v":""},"a)","Žádná ze čtyř",null,null,null,null,null,false]
[null,null,null,"b)","Jeden nebo dva ze čtyř",null,null,null,null,null,false]
[null,null,null,"c)","Tři ze čtyř",null,null,null,null,null,false]
[null,null,null,"d)","všechny čtyři",null,null,null,null,null,true]
[]
[null,"Logističtí partneři",null,null,null,{"$f":"B42","v":"Logističtí partneři"}]
[null,null,null,null," "]
[null,null,"Q4.6","Jakým způsobem zabezpečuje organizace splnění svých požadavků ze strany logistických partnerů?",null,null,{"$f":"C44","v":"Q4.6"},"poznámky"]
[null,null,{"$f":"IF(COUNTIF(K45:K48,TRUE)=0,\"neúplné\",IF(COUNTIF(K45:K48,TRUE)=1,\"\",\"nekonzistentní\"))","v":""},"a)","Organizace nevymezila vůči svým logistickým partnerům žádné jasné požadavky.",null,"Všichni smluvní dopravci pro SPOLCHEMII podléhají každoročnímu Výběrovému řízení, kde jsou zhodnocovány veškeré nastavené parametry naší společnosti (např. cena, kvalita dopravních prostředků ve vazbě na jejich bezpečnost a provozní funkčnost, reklamace při dopravě, nehodové události při dopravě, včasnost přeprav, pomoc při řešení nestandardních situací, informační servis, atd.)",null,null,null,false]
[null,null,null,"b)","Organizace zavedla pro své dodavatele logistických služeb minimální požadavky na HSE&S.",null,null,null,null,null,false]
[null,null,null,"c)","Organizace ustanovila proces hodnocení svých logistických partnerů na základě dodržování požadavků organizace.",null,null,null,null,null,true]
[null,null,null,"d)","Organizace pravidelně prověřuje schopnost svých logistických partnerů dodržovat požadavky organizace (včetně energetické účinnosti a emisí skleníkových plynů).",null,null,null,null,null,false]
[]
[null,"Následní uživatelé",null,null,null,{"$f":"B50","v":"Následní uživatelé"}]
[null,null,null,null," "]
[null,null,"Q4.7","Jakým způsobem organizace chrání a zabezpečuje majetek a údaje následných uživatelů nebo externích poskytovatelů, které se používají nebo začleňují do produktů a služeb?",null,null,{"$f":"C52","v":"Q4.7"},"poznámky"]
[null,null,{"$f":"IF(COUNTIF(K53:K56,TRUE)=0,\"neúplné\",IF(COUNTIF(K53:K56,TRUE)=1,\"\",\"nekonzistentní\"))","v":""},"a)","Organizace postupuje v souladu s místní a mezinárodní legislativou o ochraně údajů (ochrana, souhlas, právo na odstranění) a majetku, avšak pro dané téma nezavedla žádný konkrétní proces.",null,"Do podnikové legislativy SPOLCHEMIE je začleněn soulad našich procesů s GDPR.",null,null,null,true]
[null,null,null,"b)","V případě, že se majetek nebo údaje následného uživatele nebo externího poskytovatele ztratí, poškodí nebo se jinak zjistí, že jsou nevhodné k použití, organizace o tom informuje následného uživatele nebo externího poskytovatele a uchovává zdokumentované informace o tom, co se stalo.",null,null,null,null,null,false]
[null,null,null,"c)","Organizace zavedla interní pravidla pro správu dat a majetku, které zajišťují jejich utajení (např. žádné údaje se neuchovávají déle, než je potřeba).",null,null,null,null,null,false]
[null,null,null,"d)","Organizace navázala pravidelný dialog se svými následnými uživateli a externími poskytovateli s cílem informovat je o situaci a procesech pro zajištění té nejvhodnější ochrany jejich údajů a majetku.",null,null,null,null,null,false]
[null,null,null,null," "]
[null,null,"Q4.8","Co zahrnuje dialog s následnými uživateli?",null,null,{"$f":"C58","v":"Q4.8"},"poznámky"]
[null,null,{"$f":"IF(COUNTIF(K59:K62,TRUE)=0,\"neúplné\",IF(COUNTIF(K59:K62,TRUE)=1,\"\",\"nekonzistentní\"))","v":""},"a)","Poskytování informací o produktech a službách.",null,"SPOLCHEMIE má zavedenou PS 9003 a 9013, v rámci zákaznické a technické podpory a zkvalitňování našich služeb.",null,null,null,false]
[null,null,null,"b)","Poskytování informací o produktech a službách, vyřizování poptávek, smluv nebo objednávek včetně změn.",null,null,null,null,null,false]
[null,null,null,"c)","Poskytování informací o produktech a službách, vyřizování poptávek, smluv nebo objednávek včetně změn, získávání zpětné odezvy od zákazníků ohledně produktů a služeb, a to včetně stížností následných uživatelů.",null,null,null,null,null,false]
[null,null,null,"d)","Poskytování informací o produktech a službách, vyřizování poptávek, smluv nebo objednávek včetně změn, získávání zpětné odezvy od zákazníků ohledně produktů a služeb včetně stížností následných uživatelů a v případě potřeby stanovení zvláštních požadavků na mimořádná opatření.",null,null,null,null,null,true]

{"sheet":"Kapitola 5","index":8,"n_rows":38,"n_cols":15,"rows_kept":38,"cut":false,"hidden":false,"merged":[[6,6,9,9],[14,6,17,9],[20,6,23,9],[28,6,31,9],[34,6,37,9],[33,3,33,4],[13,3,13,4],[5,3,5,4],[3,5,9,5],[11,5,23,5],[25,5,37,5],[19,3,19,4]]}
[null,"KAPITOLA 5: Zapojení zainteresovaných stran",null,null,null,null,null,null,null,null,null,null,null,{"$f":"IF(O1=\"\",\"\",\"Still to do\")","v":""},{"$f":"'Začátek a předvyplnění dotazník'!$G$9","v":""}]
[null,null,null,null,null,null,"Klikněte pouze na jednu z možností"]
[]
[null,"Hodnocení zúčastněných stran",null,null,null,{"$f":"B4","v":"Hodnocení zúčastněných stran"}]
[null,null,null,null," "]
[null,{"$f":"COUNTIF(C7:C38,\"nekonzistentní\")","v":0},"Q5.1","Jakým způsobem zapojuje organizace své externí zainteresované strany a naplňuje jejich očekávání?",null,null,{"$f":"C6","v":"Q5.1"},"poznámky"]
[null,null,{"$f":"IF(COUNTIF(K7:K10,TRUE)=0,\"neúplné\",IF(COUNTIF(K7:K10,TRUE)=1,\"\",\"nekonzistentní\"))","v":""},"a)","Organizace posuzuje své povinnosti týkající se dodržování příslušných nařízení a předpisů, avšak nezavedla formální proces identifikace svých externích zainteresovaných stran.",null,"Organizace komunikuje se všemi zainteresovanými stranami, jsou posuzována a zohledňována jejich hlediska a potřeby a tyto se berou v úvahu. Z řady důvodů je kladen důraz na vztah s městem (memorandum o spolupráci).",null,null,null,false]
[null,null,null,"b)","Organizace identifikovala příslušné zainteresované strany a stanovila jejich potřeby a očekávání.",null,null,null,null,null,false]
[null,null,null,"c)","Organizace posoudila hlediska svých zainteresovaných stran a bere je v úvahu. Na základě jejich vlivu organizace upřednostnila různé zainteresované strany (mapování).",null,null,null,null,null,true]
[null,null,null,"d)","Organizace ověřila potřeby a očekávání prioritních zainteresovaných stran ve spolupráci s nimi a začleňuje hlediska zainteresovaných stran do přezkoumání vedením.",null,null,null,null,null,false]
[]
[null,"Externí dialog a transparentnost",null,null,null,{"$f":"B12","v":"Externí dialog a transparentnost"}]
[null,null,null,null," "]
[null,null,"Q5.2","Jakým způsobem vede organizace dialog s veřejností, úřady a dalšími zainteresovanými stranami, včetně místních komunit a zákazníků v souvislosti s HSE&S v rámci jejich činností, produktů a služeb?",null,null,{"$f":"C14","v":"Q5.2"},"poznámky"]
[null,null,{"$f":"IF(COUNTIF(K15:K18,TRUE)=0,\"neúplné\",IF(COUNTIF(K15:K18,TRUE)=1,\"\",\"nekonzistentní\"))","v":""},"a)","Organizace vede dialog za výjimečných okolností nebo v reakci na stížnosti.",null,"V roce 2019 ve SPOLCHEMII proběhlo první bezpečnostní a environmentální gremium, 2x dohoda s městem (informace při nestandardních stavech) + memorandum o spolupráci (příprava: modernizace VISO, vodík pro MHD).",null,null,null,false]
[null,null,null,"b)","Organizace informuje a komunikuje s klíčovými zainteresovanými stranami o svých aktivitách.",null,null,null,null,null,false]
[null,null,null,"c)","Organizace formálně zřídila příslušné kanály pro dialog se svými klíčovými zainteresovanými stranami a pravidelně je využívá.",null,null,null,null,null,false]
[null,null,null,"d)","Organizace systematicky konzultuje a přímo zapojuje své zainteresované strany do svých aktivit prostřednictvím rozvoje společných projektů nebo partnerství.",null,null,null,null,null,true]
[null,null,null,null," "]
[null,null,"Q5.3","Jakým způsobem zveřejňuje organizace informace týkající se\n HSE&S?",null,null,{"$f":"C20","v":"Q5.3"},"poznámky"]
[null,null,{"$f":"IF(COUNTIF(K21:K24,TRUE)=0,\"neúplné\",IF(COUNTIF(K21:K24,TRUE)=1,\"\",\"nekonzistentní\"))","v":""},"a)","Informace týkající se HSE&S se nezveřejňují; výjimkou jsou konkrétní požadavky.",null,"Výsledky hodnocení výkonosti pravidelně Skupina zveřejňuje, nemá však posouzení 3. stranou (pouze v souvislosti s obhajobou RC) ale komunikuje dle D (gremium).",null,null,null,false]
[null,null,null,"b)","Výsledky hodnocení výkonnosti organizace se zveřejňují.",null,null,null,null,null,true]
[null,null,null,"c)","Výsledky hodnocení výkonnosti organizace jsou před zveřejněním každoročně posouzeny nezávislou třetí stranou.",null,null,null,null,null,false]
[null,null,null,"d)","Organizace je proaktivní a sdílí výsledky hodnocení své výkonnosti s příslušnými zainteresovanými stranami, např. vedení organizace seznamuje úřady veřejné správy a jiné státní orgány nebo místní komunity o dosažených výsledcích.",null,null,null,null,null,false]
[]
[null," Místní komunity",null,null,null,{"$f":"B26","v":" Místní komunity"}]
[null,null,null,null," "]
[null,null,"Q5.4","Jakým způsobem podporuje organizace místní komunity?",null,null,{"$f":"C28","v":"Q5.4"},"poznámky"]
[null,null,{"$f":"IF(COUNTIF(K29:K32,TRUE)=0,\"neúplné\",IF(COUNTIF(K29:K32,TRUE)=1,\"\",\"nekonzistentní\"))","v":""},"a)","Organizace splňuje příslušné zákonné požadavky.",null,"V rámci Ústeckého kraje SPOLCHEMIE poskytuje tzv. minigranty, podporuje 1/2 maraton, účast ve sdruženích - HK, spolupráce s UJEP.",null,null,null,false]
[null,null,null,"b)","Organizace reaguje na konkrétní požadavky místních komunit. Organizace vede dialog s místními zástupci a bere ohled na blaho sousedů.",null,null,null,null,null,true]
[null,null,null,"c)","Organizace podporuje místní projekty a činnosti (např. Účast zaměstnanců na místních projektech během pracovní doby, v místních školách během vyučování a informace o různých pracovních nabídkách atd.) s cílem přispět k místnímu rozvoji.",null,null,null,null,null,false]
[null,null,null,"d)","Organizace podporuje místní komunitu účastí v různých skupinách, prostřednictvím komunikačních prostředků, veřejné správy, organizací firem a zástupců zaměstnanců, ekologických skupin, odborníků, sousedních firem, sousedských sdružení a podobně. Organizace spolupracuje a předvídá rozpočet na rozvoj společných projektů, činností nebo partnerství na základě požadavků komunity.",null,null,null,null,null,false]
[null,null,null,null," "]
[null,null,"Q5.5","Jakým způsobem stimuluje organizace místní zaměstnanost a vzdělávání?",null,null,{"$f":"C34","v":"Q5.5"},"poznámky"]
[null,null,{"$f":"IF(COUNTIF(K35:K38,TRUE)=0,\"neúplné\",IF(COUNTIF(K35:K38,TRUE)=1,\"\",\"nekonzistentní\"))","v":""},"a)","Organizace splňuje příslušné zákonné požadavky.",null,"SPOLCHEMIE poskytuje sponzoring akce Hledáme mladého chemika, finanční podporu nejlepších učitelů a učitelek chemie v kraji, organizuje exkurze pro střední a vysoké školy v rámci Ústeckého a Středočeského kraje a Prahy, spoluprácuje se všemi významnými personálními agenturami působícími na území Ústeckého kraje, nabízí praxi pro SŠ, VŠ studenty, stáže pro VŠ studenty, stipendijní program pro studenty VŠ.",null,null,null,false]
[null,null,null,"b)","Organizace reaguje na specifické požadavky místních škol a pracovních organizací a vede dialog s místními zástupci.",null,null,null,null,null,false]
[null,null,null,"c)","Organizace přispívá k místní zaměstnanosti a podporuje místní školy: v rámci pracovního náboru zapojuje místní pracovní organizace včetně platforem pro reintegraci zaměstnanců, organizace vítá stážisty z místních škol a účastní se školních aktivit.",null,null,null,null,null,true]
[null,null,null,"d)","Organizace navázala partnerství s místními pracovními organizacemi a spolupracuje na vzdělávacích programech s místními školami a vědeckou komunitou (např. Spolupráce s univerzitami, granty, výzkum atd.).",null,null,null,null,null,false]

{"sheet":"Kapitola 6","index":9,"n_rows":124,"n_cols":15,"rows_kept":124,"cut":false,"hidden":false,"merged":[[112,6,115,9],[120,6,123,9],[80,6,83,9],[86,6,89,9],[94,6,97,9],[100,6,103,9],[106,6,109,9],[69,5,75,5],[79,3,79,4],[6,6,11,9],[16,6,19,9],[24,6,27,9],[32,6,35,9],[40,6,43,9],[46,6,49,9],[52,6,55,9],[58,6,61,9],[64,6,67,9],[72,6,75,9],[51,3,51,4],[50,5,67,5],[5,3,5,4],[39,3,39,4],[3,5,11,5],[13,5,19,5],[21,5,27,5],[31,3,31,4],[29,5,35,5],[37,5,49,5],[104,5,115,5],[119,3,119,4],[117,5,123,5],[85,3,85,4],[77,5,89,5],[93,3,93,4],[99,3,99,4],[91,5,103,5]]}
[null,"KAPITOLA 6: Přispívání k udržitelnosti",null,null,null,null,null,null,null,null,null,null,null,{"$f":"IF(O1=\"\",\"\",\"Still to do\")","v":""},{"$f":"'Začátek a předvyplnění dotazník'!$G$9","v":""}]
[null,null,null,null,null,null,"Klikněte pouze na jednu z možností"]
[]
[null,"Hodnocení závažnosti",null,null,null,{"$f":"B4","v":"Hodnocení závažnosti"}]
[null,null,null,null," "]
[null,{"$f":"COUNTIF(C7:C124,\"nekonzistentní\")","v":0},"Q6.1","Jakým způsobem definuje organizace významné problémy a závažnost?",null,null,{"$f":"C6","v":"Q6.1"},"poznámky"]
[null,null,{"$f":"IF(COUNTIF(K7:K12,TRUE)=0,\"neúplné\",IF(COUNTIF(K7:K12,TRUE)=1,\"\",\"nekonzistentní\"))","v":""},"a)","a)\tOrganizace ještě neidentifikovala své nejvýznamnější problémy a závažnost, ale splňuje své legislativní povinnosti.",null,"SPOLCHEMIE identifikuje významné problémy a jejich závažnost v rámci certifikace dle ISO norem (kontext - identifikace rizik a příležitostí).",null,null,null,false]
[null,null,null,"b)","Organizace identifikovala významné sociální, ekonomické a environmentální otázky představující rizika nebo příležitosti pro samotnou organizaci na základě stávajících sektorových plánů (např. Sektorový plán WBCSD:",null,null,null,null,null,true]
[null,null,null,null,"https://www.wbcsd.org/Programs/People/Sustainable-Development-Goals/SDG-Sector-Roadmaps/Resources/SDG-Sector-Roadmaps."]
[null,null,null,null,"https://cefic.org/app/uploads/2019/01/Cefic-Sustainability-Charter-TeamingUp-For-A-SustainableEurope.pdf"]
[null,null,null,"c)","https://www.americanchemistry.com/Sustainability/Principles.html",null,null,null,null,null,false]
[null,null,null,"d)","Organizace publikuje výsledky svých hodnocení významnosti v souladu s pokyny mezinárodní organizace Global Reporting Initiative (GRI) nebo jejich ekvivalentu.",null,null,null,null,null,false]
[]
[null,"Udržitelný rozvoj",null,null,null,{"$f":"B14","v":"Udržitelný rozvoj"}]
[null,null,null,null," "]
[null,null,"Q6.2","Jakým způsobem hodlá organizace přispívat k udržitelnému rozvoji?",null,null,{"$f":"C16","v":"Q6.2"},"poznámky"]
[null,null,{"$f":"IF(COUNTIF(K17:K20,TRUE)=0,\"neúplné\",IF(COUNTIF(K17:K20,TRUE)=1,\"\",\"nekonzistentní\"))","v":""},"a)","Organizace splňuje příslušné zákonné (právní) povinnosti, avšak nesoustředí se na udržitelný rozvoj.",null,"SPOLCHEMIE se snaží přispívat k udržitelnému rozvoji aplikací moderních technologií (např. ME), přípravou projektů na výrobu environmentálně šetrných produktů (ZEBRA) a požíváním méně škodlivých látek (např. náhrada DETA za TETA), probíhá výzkum a vývoj nových náhrad za některé rizikové vstupní suroviny a dále je zde souvislost s Green deal a členství RC.",null,null,null,false]
[null,null,null,"b)","Organizace zmapovala své příspěvky do programu Cílů udržitelného rozvoje (SDGs).",null,null,null,null,null,true]
[null,null,null,"c)","Organizace identifikovala příležitosti vlivu a plánované příspěvky ve smyslu plánu pro SDG pro chemický průmysl. ",null,null,null,null,null,false]
[null,null,null,"d)","Organizace zcela začlenila principy udržitelnosti do své obchodní strategie.",null,null,null,null,null,false]
[]
[null,"Komunikace",null,null,null,{"$f":"B22","v":"Komunikace"}]
[null,null,null,null," "]
[null,null,"Q6.3","Jakým způsobem komunikuje organizace zainteresovaných stran na téma udržitelnosti?",null,null,{"$f":"C24","v":"Q6.3"},"poznámky"]
[null,null,{"$f":"IF(COUNTIF(K25:K28,TRUE)=0,\"neúplné\",IF(COUNTIF(K25:K28,TRUE)=1,\"\",\"nekonzistentní\"))","v":""},"a)","Organizace splňuje příslušné zákonné požadavky, nijak však v rámci daného tématu nekomunikuje.",null,"Organizace komunikuje se zákazníky, partnery a veřejností prostřednictvím webu a dále prostřednictvím tiskových zpráv.",null,null,null,false]
[null,null,null,"b)","Organizace vede jednoduchou, přímou a věcnou interní komunikaci na téma udržitelnosti.",null,null,null,null,null,false]
[null,null,null,"c)","Organizace vede ad hoc externí komunikaci na téma udržitelnosti se zákazníky, pracovními partnery a komunitou.",null,null,null,null,null,true]
[null,null,null,"d)","Organizace vede interní i externí komunikaci na téma udržitelnosti. Organizace každoročně publikuje úplnou zprávu o udržitelnosti ve všech významných otázkách v souladu s pokyny mezinárodní organizace Global Reporting Initiative (GRI) (https://www2.globalreporting.org/standards/g4/Pages/default.aspx)  nebo jejich ekvivalentu.",null,null,null,null,null,false]
[]
[null,"Udržitelné portfolio",null,null,null,{"$f":"B30","v":"Udržitelné portfolio"}]
[null,null,null,null," "]
[null,null,"Q6.4","Má organizace zavedený proces navrhování výrobků s lepšími výsledky udržitelnosti?",null,null,{"$f":"C32","v":"Q6.4"},"poznámky"]
[null,null,{"$f":"IF(COUNTIF(K33:K36,TRUE)=0,\"neúplné\",IF(COUNTIF(K33:K36,TRUE)=1,\"\",\"nekonzistentní\"))","v":""},"a)","Při navrhování výrobků nejsou systematicky zohledňovány úvahy o udržitelnosti.",null,"Při navrhování výrobků nebo jejich zkvalitňování bere organizace v potaz signály trhu, nové možné ekologicky šetrné a zdravotně bezpečnější suroviny a tyto informace zohledňuje v PI jednotlivých výrobků.",null,null,null,false]
[null,null,null,"b)","Organizace se dohodla na společném chápání toho, co znamená „udržitelnost“ v rámci produktových portfolií, identifikovala kritické zájmy zainteresovaných stran a klíčové body rozhodování při zpracování produktu.",null,null,null,null,null,true]
[null,null,null,"c)","Organizace zavedla proces hodnocení udržitelnosti svého portfolia: definují cíle, rozsah, procesy a segmenty hodnocení. Signály trhu jsou zachyceny.",null,null,null,null,null,false]
[null,null,null,"d)","Organizace implementuje, monitoruje a podává zprávy o systému hodnocení udržitelnosti pro veřejnost, zákazníky a další relevantní zainteresované strany.",null,null,null,null,null,false]
[]
[null,"Efektivnost zdrojů / oběhové hospodářství\n",null,null,null,{"$f":"B38","v":"Efektivnost zdrojů / oběhové hospodářství\n"}]
[null,null,null,null," "]
[null,null,"Q6.5","Jakým způsobem zvyšuje organizace efektivnost zdrojů ve svých výrobních procesech?",null,null,{"$f":"C40","v":"Q6.5"},"poznámky"]
[null,null,{"$f":"IF(COUNTIF(K41:K44,TRUE)=0,\"neúplné\",IF(COUNTIF(K41:K44,TRUE)=1,\"\",\"nekonzistentní\"))","v":""},"a)","Organizace splňuje příslušné zákonné povinnosti týkající se monitoringu, avšak zvlášť se nezabývá zvyšováním účinnosti zdrojů ve svých výrobních procesech.",null,"Ve SPOLCHEMII je zaveden systém pro měření efektivity zdrojů ve výrobních procesech prostřednictvím Axapty (hodnocení spotřebních norem - opatření).",null,null,null,false]
[null,null,null,"b)","Organizace zavedla systém pro měření efektivity zdrojů ve svých výrobních procesech.",null,null,null,null,null,true]
[null,null,null,"c)","Organizace má zavedený proces pro zlepšení efektivnosti zdrojů ve svém výrobním procesu.\nTento proces je navržen a přezkoumán s ohledem na upřednostňování recyklovatelných surovin (materiálů) a opětovné použití prostřednictvím implementace kritérií týkajících se těchto aspektů při výběru nákupu, jako alternativu k neobnovitelným surovinám.\nÚčinnost tohoto procesu je pravidelně vyhodnocována.",null,null,null,null,null,false]
[null,null,null,"d)","Organizace navázala partnerství na zvyšování efektivnosti zdrojů ve svých výrobních procesech a se svými obchodními partnery sdílí osvědčené postupy. Organizace se zapojuje do průmyslové symbiózy. To zahrnuje společnou tvorbu, v jejímž rámci intenzivní spolupráce s třetími stranami zaručuje dodávku vhodných druhotných surovin.",null,null,null,null,null,false]
[null,null,null,null," "]
[null,null,"Q6.6","Jakým způsobem stimuluje organizace oběhové hospodářství prostřednictvím svých produktů?",null,null,{"$f":"C46","v":"Q6.6"},"poznámky"]
[null,null,{"$f":"IF(COUNTIF(K47:K50,TRUE)=0,\"neúplné\",IF(COUNTIF(K47:K50,TRUE)=1,\"\",\"nekonzistentní\"))","v":""},"a)","Organizace splňuje příslušné zákonné povinnosti týkající se monitoringu, ovšem nesoustředí se na aspekt cirkularity (oběhu).",null,"V tomto odvětví je SPOLCHEMIE na začátku - nejdříve je nutno identifikovat / prověřit možnosti.",null,null,null,true]
[null,null,null,"b)","Organizace prozkoumala a identifikovala možnost recyklace a trvanlivost svých produktů a zavedla plány na zlepšení procesu navrhování produktů, které tyto aspekty zohledňují.",null,null,null,null,null,false]
[null,null,null,"c)","Výrobky a obchodní procesy jsou koncipovány a přehodnocují se s ohledem na možnost recyklace a trvanlivost produktů organizace.\nVýrobky organizace jsou navrženy za účelem snadnější recyklace a minimalizace množství vyrobeného odpadu.",null,null,null,null,null,false]
[null,null,null,"d)","Organizace pracuje s hodnotovým řetězcem s cílem zlepšit cirkulační řešení pro své produkty. Kromě toho organizace sdílí osvědčené postupy se svými obchodními partnery.",null,null,null,null,null,false]
[null,null,null,null," ",{"$f":"B38","v":"Efektivnost zdrojů / oběhové hospodářství\n"}]
[null,null,"Q6.7","Jakým způsobem podporuje organizace inovace při vývoji produktů a řešení, které odpovídají výzvám udržitelnosti?",null,null,{"$f":"C52","v":"Q6.7"},"poznámky"]
[null,null,{"$f":"IF(COUNTIF(K53:K56,TRUE)=0,\"neúplné\",IF(COUNTIF(K53:K56,TRUE)=1,\"\",\"nekonzistentní\"))","v":""},"a)","Investice do inovací se soustřeďují na požadované zlepšení s cílem splnit příslušné zákonné požadavky.",null,"V rámci udržitelnosti SPOLCHEMIE je zaveden systém inovací a nových projektů (program Svými nápady šetříme náklady, PS 9022…). Všechny projekty inovace posuzujeme z pohledu environmentálního, ekonomického i sociálního (odsolení OV, intenzifikace SHP, projekt na modernizaci výroby epoxidových specialit, vodíková kotelna - nízkoemisní hořák...)",null,null,null,false]
[null,null,null,"b)","Při hodnocení projektů inovace se berou v úvahu kritéria týkající se zlepšování sociálních nebo environmentálních vlivů.",null,null,null,null,null,false]
[null,null,null,"c)","Projekty inovace se posuzují na základě kritérií udržitelnosti, které sdružují environmentální, ekonomické a sociální aspekty.",null,null,null,null,null,true]
[null,null,null,"d)","Organizace má zavedenou strategii a harmonogram.",null,null,null,null,null,false]
[null,null,null,null," "]
[null,null,"Q6.8","Jakým způsobem stimuluje organizace inovaci a spolupráci?",null,null,{"$f":"C58","v":"Q6.8"},"poznámky"]
[null,null,{"$f":"IF(COUNTIF(K59:K62,TRUE)=0,\"neúplné\",IF(COUNTIF(K59:K62,TRUE)=1,\"\",\"nekonzistentní\"))","v":""},"a)","Organizace splňuje příslušné zákonné požadavky, tímto tématem se však zvlášť nezabývá.",null,"Ve SPOLCHEMII je zaveden systém inovací a nových projektů (Svými nápady šetříme náklady), spolupracuje s UJEP, VŠCHT, ICUK.",null,null,null,false]
[null,null,null,"b)","Organizace se aktivně nezapojuje do partnerství v oblasti inovací, avšak sleduje výsledky stávajících spoluprací a partnerství.",null,null,null,null,null,false]
[null,null,null,"c)","Organizace se podílí na spolupráci v oblasti inovací s průmyslovými partnery nebo akademickou obcí.",null,null,null,null,null,true]
[null,null,null,"d)","Organizace se zapojuje do programů inovace s průmyslovými partnery nebo akademickými obcemi se společnými sdílenými prostředky (materiál, rozpočet, zdroje atd.).",null,null,null,null,null,false]
[null,null,null,null," "]
[null,null,"Q6.9","Jakým způsobem podporuje organizace udržitelné způsoby spotřeby?",null,null,{"$f":"C64","v":"Q6.9"},"poznámky"]
[null,null,{"$f":"IF(COUNTIF(K65:K68,TRUE)=0,\"neúplné\",IF(COUNTIF(K65:K68,TRUE)=1,\"\",\"nekonzistentní\"))","v":""},"a)","Organizace splňuje příslušné zákonné požadavky, tímto tématem se však zvlášť nezabývá.",null,"Organizace zná dopady spotřeb výrobních operací a informuje zákazníky (BL, data sheety, technická podpora…)",null,null,null,true]
[null,null,null,"b)","Organizace zná dopad svých výrobních operací a informuje zákazníky.",null,null,null,null,null,false]
[null,null,null,"c)","Organizace spolupracuje s partnery v chemickém průmyslu s cílem podporovat udržitelné způsoby spotřeby.",null,null,null,null,null,false]
[null,null,null,"d)","Organizace zapojuje své zainteresované strany do podpory udržitelné spotřeby (návody, bílá kniha, diskuse atd.)",null,null,null,null,null,false]
[]
[null,"Používání vody ",null,null,null,{"$f":"B70","v":"Používání vody "}]
[null,null,null,null," "]
[null,null,"Q6.10","Jakým způsobem organizace kontroluje a optimalizuje spotřebu vody?",null,null,{"$f":"C72","v":"Q6.10"},"poznámky"]
[null,null,{"$f":"IF(COUNTIF(K73:K76,TRUE)=0,\"neúplné\",IF(COUNTIF(K73:K76,TRUE)=1,\"\",\"nekonzistentní\"))","v":""},"a)","Organizace splňuje příslušné zákonné povinnosti týkající se monitoringu (pouze v oblasti spotřeby).",null,"V areálu jsou měsíčně odečítány spotřeby a ukládány do informačního systému. Měsíční závěrky jsou postoupeny k analýze jak controllingu, tak jednotlivým vedoucím provozů.",null,null,null,false]
[null,null,null,"b)","Organizace zřídila program na omezování spotřeby vody, informuje o výsledcích tohoto plánu a o záznamech o spotřebě vody.",null,null,null,null,null,true]
[null,null,null,"c)","Organizace plánuje konkrétní opatření ke snížení spotřeby vody na základě klíčových problémů identifikovaných prostřednictvím monitoringu.",null,null,null,null,null,false]
[null,null,null,"d)","Organizace uplatňuje principy vodního hospodářství (např. Principy Evropského vodního hospodářství (EWS) nebo podobné). Zohledňuje přitom místní citlivost a zásoby vody. Pravidelně investuje do účinnějších vodohospodářských technologií a podporuje vsakování dešťové vody z míst (střechy, silnice) v zemi s cílem spolupodílet se na obnově zásob podzemní vody.",null,null,null,null,null,false]
[]
[null,"Využívání půdy a biodiverzita",null,null,null,{"$f":"B78","v":"Využívání půdy a biodiverzita"}]
[null,null,null,null," "]
[null,null,"Q6.11","Jakým způsobem se řídí vliv organizace na biodiverzitu a ekosystém?",null,null,{"$f":"C80","v":"Q6.11"},"poznámky"]
[null,null,{"$f":"IF(COUNTIF(K81:K84,TRUE)=0,\"neúplné\",IF(COUNTIF(K81:K84,TRUE)=1,\"\",\"nekonzistentní\"))","v":""},"a)","Organizace splňuje příslušné zákonné požadavky, tímto tématem se však zvlášť nezabývá.",null,"Organizace si pro nové projekty nechává vypracovávat posouzení EIA, Ekologické újmy a dále řídí vliv na biodiverzitu a ekosystém pravidelným monitoringem a péčí o sanovnou skládku Chabařovice (velké území, kde lze vhodně zvoleným přístupem přispět k ochraně ekosystémů).",null,null,null,false]
[null,null,null,"b)","Organizace identifikovala dopad svých výrobních míst a produktů na biodiverzitu a specificky citlivé okolní prostředí a zavedla akční plán pro omezení jejího vlivu (např. snížením spotřeby papíru s cílem zamezení zabránit odlesňování, instalací tzv. zelených střech, obydlí pro hmyz atd.).",null,null,null,null,null,false]
[null,null,null,"c)","Organizace vypracovala ukazatele (lidské, finanční a organizační) na ochranu biodiverzity (např. vývoj postupů údržby zelených ploch - typ plevele, frekvence sečení, druh výsadby, nároky na vodu a pod., zařízení na ochranu ptáků na výškových budovách atd.) a pravidelně je vyhodnocuje.",null,null,null,null,null,true]
[null,null,null,"d)","Organizace spolupracuje se subjekty zapojenými do ochrany životního prostředí ohledně možných způsobů přispívání k zachování místní biodiverzity a k podobným krokům vybízí i své zaměstnance.",null,null,null,null,null,false]
[null,null,null,null," "]
[null,null,"Q6.12","Jakým způsobem posuzuje organizace svou závislost na přírodních zdrojích (ekosystémech)?",null,null,{"$f":"C86","v":"Q6.12"},"poznámky"]
[null,null,{"$f":"IF(COUNTIF(K87:K90,TRUE)=0,\"neúplné\",IF(COUNTIF(K87:K90,TRUE)=1,\"\",\"nekonzistentní\"))","v":""},"a)","Organizace se tímto tématem nijak zvlášť nezabývá.",null,"Pro podmínky výroby ve SPOLCHEMII zatím irelevantní.",null,null,null,true]
[null,null,null,"b)","Organizace identifikovala opatření pro zajištění služeb poskytovaných ekosystémy pro svou činnost (např. závislost na určitých surovinách).",null,null,null,null,null,false]
[null,null,null,"c)","Organizace zavedla určitá konkrétní opatření na ochranu služeb poskytovaných ekosystémy pro svou činnost (např. závislost na určitých surovinách).",null,null,null,null,null,false]
[null,null,null,"d)","Organizace zavedla strukturovaný přístup k ochraně služeb poskytovaných okolními ekosystémy (např. závislost na určitých surovinách). Organizace zveřejňuje své výsledky a sdílí osvědčené postupy.",null,null,null,null,null,false]
[]
[null,"Klima a využívání energie",null,null,null,{"$f":"B92","v":"Klima a využívání energie"}]
[null,null,null,null," "]
[null,null,"Q6.13","Jakým způsobem řídí organizace svou spotřebu energie?",null,null,{"$f":"C94","v":"Q6.13"},"poznámky"]
[null,null,{"$f":"IF(COUNTIF(K95:K98,TRUE)=0,\"neúplné\",IF(COUNTIF(K95:K98,TRUE)=1,\"\",\"nekonzistentní\"))","v":""},"a)","Organizace splňuje příslušné zákonné povinnosti a provádí zlepšení tam, kde je návratnost investic téměř okamžitá (méně než 2 roky).",null,"Ve SPOLCHEMII probíhá měsíční reporting o spotřebách energií na jednotlivých výrobních provozech, které se vyhodnocují. V případě odchylek od standartní spotřeby (definovaná v Axaptě) se hledá příčina a je navržena úprava technologie či výrobního postupu.",null,null,null,false]
[null,null,null,"b)","Organizace definovala a implementovala plán sběru dat o energii odpovídající jeho velikosti, složitosti, zdrojům a měřicím a monitorovacím zařízením. Plán určuje údaje potřebné ke sledování klíčových charakteristik a uvádí, jakým způsobem a s jakou frekvencí budou tyto údaje shromažďovány a uchovávány.",null,null,null,null,null,true]
[null,null,null,"c)","Organizace určila ukazatele energetické náročnosti (EnPI), které jsou vhodné pro monitorování její energetické výkonnosti a umožňují organizaci prokázat zlepšení energetické účinnosti. Údaje o tom, že relevantní proměnné významně ovlivňují energetický výkon, byly považovány za vhodné pro stanovení vhodných EnPI. Hodnoty EnPI jsou porovnány s jejich příslušnou energetickou základnou EnB (s). Na základě těchto údajů organizace stanovila cíle zlepšení a energetické cíle. Organizace dále investuje do inteligentních technologií (automatické osvětlení, regulované vytápění, automatizované procesy, systémy využití energie atd.).",null,null,null,null,null,false]
[null,null,null,"d)","Organizace analyzuje využití a spotřebu energie na základě měření a dalších údajů, identifikuje významná využití energie SEU (včetně příslušných proměnných; současná energetická náročnost; osoba (osoby) ovlivňující tuto SEU), určuje a upřednostňuje příležitosti pro zlepšení energetické výkonnosti; a odhaduje budoucí spotřebu energie a spotřebu energie. Účinnost plánu snižování spotřeby energie je pravidelně vyhodnocována a zlepšována prostřednictvím energetického přezkumu.",null,null,null,null,null,false]
[null,null,null,null," "]
[null,null,"Q6.14","Jakým způsobem řídí organizace emise skleníkových plynů (kromě úspor energie)?",null,null,{"$f":"C100","v":"Q6.14"},"poznámky"]
[null,null,{"$f":"IF(COUNTIF(K101:K104,TRUE)=0,\"neúplné\",IF(COUNTIF(K101:K104,TRUE)=1,\"\",\"nekonzistentní\"))","v":""},"a)","Organizace splňuje příslušné zákonné povinnosti, avšak zvlášť se nezabývá emisemi skleníkových plynů.",null,"Organizace se snaží o snížení emisí skleníkových plynů (např. instalací nového nízkoemisního hořáku ve vodíkové kotelně v roce 2019).",null,null,null,false]
[null,null,null,"b)","Organizace identifikovala své potenciální zdroje opakovaného využití energie a možnosti zvýšení podílu obnovitelné energie.",null,null,null,null,null,false]
[null,null,null,"c)","Organizace identifikovala své potenciální zdroje obnovy opětovného využití energie a možnosti zvýšení podílu obnovitelné energie.",null,null,null,null,null,true]
[null,null,null,"d)","Organizace navázala partnerství s geograficky příbuznými organizacemi s cílem rozvíjet \"místní synergie\" (například prodej zbytkového tepla mezi dvěma subjekty) a spolupráci.",null,null,null,null,null,false]
[null,null,null,null," ",{"$f":"B92","v":"Klima a využívání energie"}]
[null,null,"Q6.15","Jaká je strategie organizace na snižování emisí skleníkových plynů?",null,null,{"$f":"C106","v":"Q6.15"},"poznámky"]
[null,null,{"$f":"IF(COUNTIF(K107:K110,TRUE)=0,\"neúplné\",IF(COUNTIF(K107:K110,TRUE)=1,\"\",\"nekonzistentní\"))","v":""},"a)","Organizace se zvlášť nezabývá emisemi skleníkových plynů.",null,"Organizace má identifikovaná místa a výrobní články, které mají vliv na přímé a nepřímé emise. Organizace se snaží hspodárněji využívat teplo (využítí přebytečné páry pro otop provozů a některých výrobních aparátů) a energii (vodíková kotelna a instalace nízkoemisního hořáku ve 2019).",null,null,null,false]
[null,null,null,"b)","Organizace provedla analýzu nedostatků s cílem identifikovat potenciál snižování emisí scope 1 & 2.",null,null,null,null,null,true]
[null,null,null,"c)","Organizace stanovila jasné cíle, hodnotí pokrok při jejich dosahování a podniká kroky ke snížení emisí scope 1 & 2.",null,null,null,null,null,false]
[null,null,null,"d)","Organizace stanovila jasné cíle, hodnotí pokrok při jejich dosahování a kompenzuje zbylou uhlíkovou stopu. Organizace navíc každoročně zveřejňuje své výsledky týkající se uhlíkové stopy (scope 3).",null,null,null,null,null,false]
[null,null,null,null," "]
[null,null,"Q6.16","Jakým způsobem se organizace připravuje na klimatické změny? ",null,null,{"$f":"C112","v":"Q6.16"},"poznámky"]
[null,null,{"$f":"IF(COUNTIF(K113:K116,TRUE)=0,\"neúplné\",IF(COUNTIF(K113:K116,TRUE)=1,\"\",\"nekonzistentní\"))","v":""},"a)","Organizace splňuje příslušné zákonné požadavky, tímto tématem se však zvlášť nezabývá.",null,"Oragnizace si uvědomuje střednědobé potenciální účinky klimatických změn na svoji činnost (zejména dlouhodobý nedostatek vody), nicméně zatím se tímto tématem detailněji nezabývá.",null,null,null,false]
[null,null,null,"b)","Organizace si uvědomuje střednědobé potenciální účinky klimatických změn na svou činnost.",null,null,null,null,null,true]
[null,null,null,"c)","Organizace určila rizika související s klimatickými změnami pro své činnosti a potenciálně opatření k omezení těchto rizik.",null,null,null,null,null,false]
[null,null,null,"d)","Organizace investuje do opatření na zlepšení své odolnosti vůči klimatickým změnám a hodnotí jejich účinnost.",null,null,null,null,null,false]
[]
[null,"Různé",null,null,null,{"$f":"B118","v":"Různé"}]
[null,null,null,null," "]
[null,null,"Q6.17","Jak organizace zajišťuje rovné příležitosti při náboru a během kariéry všech?",null,null,{"$f":"C120","v":"Q6.17"},"poznámky",null,null,false]
[null,null,{"$f":"IF(COUNTIF(K121:K124,TRUE)=0,\"neúplné\",IF(COUNTIF(K121:K124,TRUE)=1,\"\",\"nekonzistentní\"))","v":""},"a)","Společnost nedefinovala konkrétní závazek k zajištění rovných příležitostí, ale plní legislativní povinnosti.",null,"Ohledně rovných příležitostí SPOLCHEMIE dodržuje platnou legislativu, kolektivní smlouvu i ustanovení Etického kodexu. V rámci interních procesů sleduje a vyhodnocuje parametry tzv. Interní spravedlnosti (Internal Equity) v oblasti odměňování, náboru bez ohledu na věk (od 18ti let), přístupu k zaměstnaneckým výhodám. Bez omezení umožňuje pokračování práce zaměstnancům v důchodovém věku, když o to projeví zájem. Finančně podporuje zkušené zaměstnance, kteří se podílejí na zapracování nových nástupů.",null,null,null,false]
[null,null,null,"b)","Organizace se zavázala (např. podepsat chartu osvědčených postupů) k podpoře rovnocenných příležitostí, a zřídila specializované procesy pro jejich zajištění.",null,null,null,null,null,false]
[null,null,null,"c)","Organizace má jasný akční plán s kvantifikovanými cíli k zajištění rovných příležitostí a začlenila aspekty rozmanitosti do všech svých procesů v oblasti lidských zdrojů.",null,null,null,null,null,true]
[null,null,null,"d)","Organizace pravidelně vyhodnocuje výsledky a interně i externě je komunikuje.",null,null,null,null,null,false]

{"sheet":"Výsledek","index":10,"n_rows":13,"n_cols":14,"rows_kept":13,"cut":false,"hidden":false,"merged":[[1,2,1,8]]}
[null,null,null,null,null,null,null,null,null,null,null,null,{"$f":"IF(N1=\"\",\"\",\"Still to do\")","v":""},{"$f":"'Začátek a předvyplnění dotazník'!$G$9","v":""}]
[null,null,"Výsledek"]
[]
[null,null,"částečné skóre ",null,null,"skóre","minimum","maximum"]
[null,null,null,"KAPITOLA 1","Podniková kultura vedení",{"$f":"IF('Kapitola 1'!B6=0,'Technický list'!AL9,\"answers inconsistent\")","v":3.3809523809523818},1,4,{"$f":"'Technický list'!AR27","v":""}]
[null,null,null,"KAPITOLA 2","Ochrana lidí a životního prostředí",{"$f":"IF('Kapitola 2'!B6=0,'Technický list'!AL123,\"answers inconsistent\")","v":3.3555555555555556},1,4,{"$f":"'Technický list'!AR170","v":""}]
[null,null,null,"KAPITOLA 3","Posílení systémů řízení chemických látek ",{"$f":"IF('Kapitola 3'!B6=0,'Technický list'!AL405,\"answers inconsistent\")","v":3.1250000000000004},1,4,{"$f":"'Technický list'!AR417","v":""}]
[null,null,null,"KAPITOLA 4","Působení na obchodní partnery",{"$f":"IF('Kapitola 4'!B6=0,'Technický list'!AL481,\"answers inconsistent\")","v":3.0833333333333339},1,4,{"$f":"'Technický list'!AR491","v":""}]
[null,null,null,"KAPITOLA 5","Zapojení zasinteresovaných stran ",{"$f":"IF('Kapitola 5'!B6=0,'Technický list'!AL543,\"answers inconsistent\")","v":2.8333333333333339},1,4,{"$f":"'Technický list'!AR550","v":""}]
[null,null,null,"KAPITOLA 6","Přispívání k udržitelnosti",{"$f":"IF('Kapitola 6'!B6=0,'Technický list'!AL583,\"answers inconsistent\")","v":2.1764705882352944},1,4,{"$f":"'Technický list'!AR601","v":"Klíčové prvky RC je třeba ještě implementovat, viz tipy"}]
[]
[null,null,"Celkové skóre"]
[null,null,null,null,null,{"$f":"(F5*'Technický list'!G705+Výsledek!F6*'Technický list'!G706+Výsledek!F7*'Technický list'!G707+Výsledek!F8*'Technický list'!G708+Výsledek!F9*'Technický list'!G709+Výsledek!F10*'Technický list'!G710)/100","v":3.0203078664799263},{"$f":"F13/4*100","v":75.507696661998153},"%",{"$f":"IF(F13>3,\":-) :-) :-)\",IF(F13>2,\":-) :-)\",IF(F13>1,\":-)\",\"\")))","v":":-) :-) :-)"}]

{"sheet":"Tipy","index":11,"n_rows":425,"n_cols":20,"rows_kept":425,"cut":false,"hidden":false,"merged":[[0,1,0,11],[4,4,4,10],[294,4,294,6],[322,4,322,6],[318,4,318,6],[314,4,314,6],[310,4,310,6],[306,4,306,6],[302,4,302,6],[298,4,298,6],[44,4,44,10],[260,4,260,10],[332,4,332,10],[52,4,52,10],[5,13,6,20],[9,13,10,20],[13,13,14,20],[17,13,18,20],[21,13,22,20],[25,13,26,20],[29,13,30,20],[33,13,34,20],[37,13,38,20],[41,13,42,20],[45,13,46,20],[49,13,50,20],[53,13,54,20],[57,13,58,20],[61,13,62,20],[71,13,72,20],[75,13,76,20],[79,13,80,20],[83,13,84,20],[65,13,66,20],[87,13,88,20],[91,13,92,20],[95,13,96,20],[99,13,100,20],[103,13,104,20],[107,13,108,20],[111,13,112,20],[115,13,116,20],[119,13,120,20],[123,13,124,20],[127,13,128,20],[131,13,132,20],[135,13,136,20],[139,13,140,20],[143,13,144,20],[147,13,148,20],[151,13,152,20],[155,13,156,20],[159,13,160,20],[163,13,164,20],[167,13,168,20],[171,13,172,20],[175,13,176,20],[179,13,180,20],[183,13,184,20],[187,13,188,20],[191,13,192,20],[195,13,196,20],[199,13,200,20],[203,13,204,20],[207,13,208,20],[211,13,212,20],[215,13,216,20],[219,13,220,20],[223,13,224,20],[227,13,228,20],[231,13,232,20],[235,13,236,20],[239,13,240,20],[243,13,244,20],[265,13,266,20],[269,13,270,20],[273,13,274,20],[277,13,278,20],[281,13,282,20],[257,13,258,20],[261,13,262,20],[247,13,248,20],[253,13,254,20],[307,13,308,20],[311,13,312,20],[315,13,316,20],[319,13,320,20],[323,13,324,20],[285,13,286,20],[289,13,290,20],[295,13,296,20],[299,13,300,20],[303,13,304,20],[351,13,352,20],[358,13,359,20],[365,13,366,20],[369,13,370,20],[373,13,374,20],[329,13,330,20],[333,13,334,20],[337,13,338,20],[341,13,342,20],[345,13,346,20],[419,13,420,20],[423,13,424,20],[399,13,400,20],[403,13,404,20],[407,13,408,20],[411,13,412,20],[415,13,416,20],[377,13,378,20],[381,13,382,20],[385,13,386,20],[389,13,390,20],[393,13,394,20]]}
[null,"Tyto implementační tipy nejsou v žádném případě zamýšleny jako normativní nebo povinné. Mají poradní povahu, aby podpořily signatáře Globální charty Responsible Care v jejich úsilí o posílení iniciativy.\n\nTipy jsou členěny podle kapitol, další kapitoly najdete posunutím dolů."]
[null,"Klepnutím přidáte tip do akčního plánu."]
[null,null,"KAPITOLA 1","Podniková kultura vedení ",null,null,null,null,null,null,null,null,true]
[null,{"$f":"'Kapitola 1'!B4","v":"Rozsah & Závazek"},null,null,null,null,null,null,null,null,null,null,null,{"$f":"IF(L5=8,\"\",\"zvyšte skóre pro:\")","v":""}]
[null,null,{"$f":"IF(VLOOKUP(D5,'Technický list'!$AO$10:$AQ$24,3,0)=\"OK\",\"\",\"hlavní věci\")","v":""},{"$f":"'Kapitola 1'!C6","v":"Q1.1"},{"$f":"'Kapitola 1'!D6","v":"Jak se projevuje závazek plnit povinnosti týkající se dodržování předpisů a zásad Responsible Care = RC (tj. ochrana a podpora zdraví a bezpečnost lidí, životního prostředí a udržitelnosti) na všech úrovních organizace?\n"},null,null,null,null,null,null,{"$f":"COUNTBLANK(N5:U5)","v":8},true,{"$f":"IF(VLOOKUP(D5,'Zvláštní zpráva'!$E$6:$H$112,4,FALSE)=\"zvyšte skóre\",\"ISO 9001\",\"\")","v":""},{"$f":"IF(VLOOKUP(D5,'Zvláštní zpráva'!$E$116:$H$222,4,FALSE)=\"zvyšte skóre\",\"ISO 14001\",\"\")","v":""},{"$f":"IF(VLOOKUP(D5,'Zvláštní zpráva'!$E$226:$H$332,4,FALSE)=\"zvyšte skóre\",\"ISO 26000\",\"\")","v":""},{"$f":"IF(VLOOKUP(D5,'Zvláštní zpráva'!$E$336:$H$552,4,FALSE)=\"zvyšte skóre\",\"ISO 45001\",\"\")","v":""},{"$f":"IF(VLOOKUP(D5,'Zvláštní zpráva'!$E$556:$H$662,4,FALSE)=\"zvyšte skóre\",\"EMAS\",\"\")","v":""},{"$f":"IF(VLOOKUP(D5,'Zvláštní zpráva'!$E$666:$H$772,4,FALSE)=\"zvyšte skóre\",\"RC14001\",\"\")","v":""},{"$f":"IF(VLOOKUP(D5,'Zvláštní zpráva'!$E$776:$H$882,4,FALSE)=\"zvyšte skóre\",\"RCMS\",\"\")","v":""}]
[null,null,null,null,"Vaše skóre ",null,{"$f":"VLOOKUP(D5,'Technický list'!$B$10:$C$25,2,FALSE)","v":4},null,null,null,null,null,null,{"$f":"CONCATENATE(G6,\" = \",HLOOKUP(\" \",'Kapitola 1'!E5:E10,Tipy!G6+2))","v":"4 = Zásady jsou aktivně sdělovány externím stranám (subjektům) a jsou k dispozici veřejnosti. Jsou podporovány viditelně vedením, zapojením top managmentu a dalšími úrovněmi organizace.  Politika je realizována v rámci obchodních procesů."}]
[null,null,null,null,"Pokuste se zlepšit ",null,{"$f":"VLOOKUP(CONCATENATE(D5,$M$3),'Technický list'!$BG$10:$BI$73,3,FALSE)","v":"Testujte povědomí a porozumění z času na čas tím, že se zeptáte zaměstnanců, zda vědí, že existuje politika HSEE&S, co to pro ně znamená a jak to ovlivňuje jejich práci.\nOrganizace může chtít pravidelně testovat povědomí o této politice se svými zúčastněnými stranami v rámci svého procesu, aby posoudila její účinnost komunikace.\nSeznam zúčastněných stran by měl být přezkoumán a aktualizován, aby odrážel měnící se okolnosti."}]
[null,null,null,null,null,null,null,null,null,null,null,null,null,{"$f":"IF(L9=8,\"\",\"zvyšte skóre pro:\")","v":""}]
[null,null,{"$f":"IF(VLOOKUP(D9,'Technický list'!$AO$10:$AQ$24,3,0)=\"OK\",\"\",\"hlavní věci\")","v":""},{"$f":"'Kapitola 1'!C12","v":"Q1.2"},{"$f":"'Kapitola 1'!D12","v":"Jakým způsobem řídí organizace příslušná rizika a příležitosti?  "},null,null,null,null,null,null,{"$f":"COUNTBLANK(N9:U9)","v":8},true,{"$f":"IF(VLOOKUP(D9,'Zvláštní zpráva'!$E$6:$H$112,4,FALSE)=\"zvyšte skóre\",\"ISO 9001\",\"\")","v":""},{"$f":"IF(VLOOKUP(D9,'Zvláštní zpráva'!$E$116:$H$222,4,FALSE)=\"zvyšte skóre\",\"ISO 14001\",\"\")","v":""},{"$f":"IF(VLOOKUP(D9,'Zvláštní zpráva'!$E$226:$H$332,4,FALSE)=\"zvyšte skóre\",\"ISO 26000\",\"\")","v":""},{"$f":"IF(VLOOKUP(D9,'Zvláštní zpráva'!$E$336:$H$552,4,FALSE)=\"zvyšte skóre\",\"ISO 45001\",\"\")","v":""},{"$f":"IF(VLOOKUP(D9,'Zvláštní zpráva'!$E$556:$H$662,4,FALSE)=\"zvyšte skóre\",\"EMAS\",\"\")","v":""},{"$f":"IF(VLOOKUP(D9,'Zvláštní zpráva'!$E$666:$H$772,4,FALSE)=\"zvyšte skóre\",\"RC14001\",\"\")","v":""},{"$f":"IF(VLOOKUP(D9,'Zvláštní zpráva'!$E$776:$H$882,4,FALSE)=\"zvyšte skóre\",\"RCMS\",\"\")","v":""}]
[null,null,null,null,"Vaše skóre ",null,{"$f":"VLOOKUP(D9,'Technický list'!$B$10:$C$25,2,FALSE)","v":4},null,null,null,null,null,null,{"$f":"CONCATENATE(G10,\" = \",HLOOKUP(\" \",'Kapitola 1'!E11:E16,Tipy!G10+2))","v":"4 = Organizace identifikovala problémy, stanovila, které představují rizika nebo příležitosti pro organizaci a proaktivně je řeší vypracováním opatření a jejich pravidelným posuzováním.  "}]
[null,null,null,null,"Pokuste se zlepšit ",null,{"$f":"VLOOKUP(CONCATENATE(D9,$M$3),'Technický list'!$BG$10:$BI$73,3,FALSE)","v":"Nejvyšší skóre, každoročně přehodnocovat vnější a vnitřní záležitosti a pravidelně sledovat pokrok dosažený v činnostech."}]
[null,{"$f":"'Kapitola 1'!B18","v":"Dodržování předpisů \n "},null,null,null,null,null,null,null,null,null,null,null,{"$f":"IF(L13=8,\"\",\"zvyšte skóre pro:\")","v":""}]
[null,null,{"$f":"IF(VLOOKUP(D13,'Technický list'!$AO$10:$AQ$24,3,0)=\"OK\",\"\",\"hlavní věci\")","v":""},{"$f":"'Kapitola 1'!C20","v":"Q1.3"},{"$f":"'Kapitola 1'!D20","v":"Jakým způsobem monitoruje organizace svoje zákonné povinnosti? "},null,null,null,null,null,null,{"$f":"COUNTBLANK(N13:U13)","v":8},true,{"$f":"IF(VLOOKUP(D13,'Zvláštní zpráva'!$E$6:$H$112,4,FALSE)=\"zvyšte skóre\",\"ISO 9001\",\"\")","v":""},{"$f":"IF(VLOOKUP(D13,'Zvláštní zpráva'!$E$116:$H$222,4,FALSE)=\"zvyšte skóre\",\"ISO 14001\",\"\")","v":""},{"$f":"IF(VLOOKUP(D13,'Zvláštní zpráva'!$E$226:$H$332,4,FALSE)=\"zvyšte skóre\",\"ISO 26000\",\"\")","v":""},{"$f":"IF(VLOOKUP(D13,'Zvláštní zpráva'!$E$336:$H$552,4,FALSE)=\"zvyšte skóre\",\"ISO 45001\",\"\")","v":""},{"$f":"IF(VLOOKUP(D13,'Zvláštní zpráva'!$E$556:$H$662,4,FALSE)=\"zvyšte skóre\",\"EMAS\",\"\")","v":""},{"$f":"IF(VLOOKUP(D13,'Zvláštní zpráva'!$E$666:$H$772,4,FALSE)=\"zvyšte skóre\",\"RC14001\",\"\")","v":""},{"$f":"IF(VLOOKUP(D13,'Zvláštní zpráva'!$E$776:$H$882,4,FALSE)=\"zvyšte skóre\",\"RCMS\",\"\")","v":""}]
[null,null,null,null,"Vaše skóre ",null,{"$f":"VLOOKUP(D13,'Technický list'!$B$10:$C$25,2,FALSE)","v":4},null,null,null,null,null,null,{"$f":"CONCATENATE(G14,\" = \",HLOOKUP(\" \",'Kapitola 1'!E19:E24,Tipy!G14+2))","v":"4 = Organizace spolupracuje s úřady při přípravě nové legislativy nebo při revizi platných právních předpisů."}]
[null,null,null,null,"Pokuste se zlepšit ",null,{"$f":"VLOOKUP(CONCATENATE(D13,$M$3),'Technický list'!$BG$10:$BI$73,3,FALSE)","v":"Doporučuje se každoročně přezkoumávat systém a rozhodovat o tom, co je ještě třeba, co lze vynechat, kde vznikají nové problémy…"}]
[null,{"$f":"'Kapitola 1'!B26","v":"Struktura řízení (managmentu)"},null,null,null,null,null,null,null,null,null,null,null,{"$f":"IF(L17=8,\"\",\"zvyšte skóre pro:\")","v":"zvyšte skóre pro:"}]
[null,null,{"$f":"IF(VLOOKUP(D17,'Technický list'!$AO$10:$AQ$24,3,0)=\"OK\",\"\",\"hlavní věci\")","v":""},{"$f":"'Kapitola 1'!C28","v":"Q1.4"},{"$f":"'Kapitola 1'!D28","v":"Jakým způsobem top management zajišťuje, že jednotlivé aspekty HSE&S (zdraví, bezpečnosti, ochrany životního prostředí & udržitelnosti) jsou přiřazeny stanoveným rolím v organizaci?"},null,null,null,null,null,null,{"$f":"COUNTBLANK(N17:U17)","v":7},true,{"$f":"IF(VLOOKUP(D17,'Zvláštní zpráva'!$E$6:$H$112,4,FALSE)=\"zvyšte skóre\",\"ISO 9001\",\"\")","v":""},{"$f":"IF(VLOOKUP(D17,'Zvláštní zpráva'!$E$116:$H$222,4,FALSE)=\"zvyšte skóre\",\"ISO 14001\",\"\")","v":""},{"$f":"IF(VLOOKUP(D17,'Zvláštní zpráva'!$E$226:$H$332,4,FALSE)=\"zvyšte skóre\",\"ISO 26000\",\"\")","v":"ISO 26000"},{"$f":"IF(VLOOKUP(D17,'Zvláštní zpráva'!$E$336:$H$552,4,FALSE)=\"zvyšte skóre\",\"ISO 45001\",\"\")","v":""},{"$f":"IF(VLOOKUP(D17,'Zvláštní zpráva'!$E$556:$H$662,4,FALSE)=\"zvyšte skóre\",\"EMAS\",\"\")","v":""},{"$f":"IF(VLOOKUP(D17,'Zvláštní zpráva'!$E$666:$H$772,4,FALSE)=\"zvyšte skóre\",\"RC14001\",\"\")","v":""},{"$f":"IF(VLOOKUP(D17,'Zvláštní zpráva'!$E$776:$H$882,4,FALSE)=\"zvyšte skóre\",\"RCMS\",\"\")","v":""}]
[null,null,null,null,"Vaše skóre ",null,{"$f":"VLOOKUP(D17,'Technický list'!$B$10:$C$25,2,FALSE)","v":3},null,null,null,null,null,null,{"$f":"CONCATENATE(G18,\" = \",HLOOKUP(\" \",'Kapitola 1'!E27:E32,Tipy!G18+2))","v":"3 = Skupinou zastupující organizaci složenou ze všech provozních manažerů, která se zodpovídá přímo top managementu a která je odpovědná za systém zdraví, bezpečnosti, životního prostředí, energetiky a udržitelnosti (HSE&S)."}]
[null,null,null,null,"Pokuste se zlepšit ",null,{"$f":"VLOOKUP(CONCATENATE(D17,$M$3),'Technický list'!$BG$10:$BI$73,3,FALSE)","v":"Proveďte soupis programů Responsible Care/HSEE&S a určete, jak se stávající zaměstnanci zapojují do jejich vývoje, komunikace a implementace. Stavte na existujícím úspěchu. Zaměřte se na posílení oblastí, kde zaměstnanci nemusí mít tolik účasti.\nZapojte zaměstnance do aktivit HSEE&S, jako jsou programy zvyšování povědomí vůči komunitě atd.\nUvědomte si, že nejúčinnější programy zapojení zaměstnanců začínají zapojením zaměstnanců během fáze implementace systému řízení (HSEE&S)."}]
[null,null,null,null,null,null,null,null,null,null,null,null,null,{"$f":"IF(L21=8,\"\",\"zvyšte skóre pro:\")","v":""}]
[null,null,{"$f":"IF(VLOOKUP(D21,'Technický list'!$AO$10:$AQ$24,3,0)=\"OK\",\"\",\"hlavní věci\")","v":""},{"$f":"'Kapitola 1'!C34","v":"Q1.5"},{"$f":"'Kapitola 1'!D34","v":"Jakým způsobem se top management podílí na řešení záležitostí HSE&S?"},null,null,null,null,null,null,{"$f":"COUNTBLANK(N21:U21)","v":8},true,{"$f":"IF(VLOOKUP(D21,'Zvláštní zpráva'!$E$6:$H$112,4,FALSE)=\"zvyšte skóre\",\"ISO 9001\",\"\")","v":""},{"$f":"IF(VLOOKUP(D21,'Zvláštní zpráva'!$E$116:$H$222,4,FALSE)=\"zvyšte skóre\",\"ISO 14001\",\"\")","v":""},{"$f":"IF(VLOOKUP(D21,'Zvláštní zpráva'!$E$226:$H$332,4,FALSE)=\"zvyšte skóre\",\"ISO 26000\",\"\")","v":""},{"$f":"IF(VLOOKUP(D21,'Zvláštní zpráva'!$E$336:$H$552,4,FALSE)=\"zvyšte skóre\",\"ISO 45001\",\"\")","v":""},{"$f":"IF(VLOOKUP(D21,'Zvláštní zpráva'!$E$556:$H$662,4,FALSE)=\"zvyšte skóre\",\"EMAS\",\"\")","v":""},{"$f":"IF(VLOOKUP(D21,'Zvláštní zpráva'!$E$666:$H$772,4,FALSE)=\"zvyšte skóre\",\"RC14001\",\"\")","v":""},{"$f":"IF(VLOOKUP(D21,'Zvláštní zpráva'!$E$776:$H$882,4,FALSE)=\"zvyšte skóre\",\"RCMS\",\"\")","v":""}]
[null,null,null,null,"Vaše skóre ",null,{"$f":"VLOOKUP(D21,'Technický list'!$B$10:$C$25,2,FALSE)","v":3},null,null,null,null,null,null,{"$f":"CONCATENATE(G22,\" = \",HLOOKUP(\" \",'Kapitola 1'!E33:E38,Tipy!G22+2))","v":"3 = Top managment se podílí a komunikuje potenciální dopady systému řízení (HSE&S) na obchodní činnost organizace (image značky, sociální přijatelnost aktivit, odlišení od konkurence, provozní účinnost ...)."}]
[null,null,null,null,"Pokuste se zlepšit ",null,{"$f":"VLOOKUP(CONCATENATE(D21,$M$3),'Technický list'!$BG$10:$BI$73,3,FALSE)","v":"Správní rada se stává velvyslancem pro systém řízení (HSEE&S) a jde příkladem:\nZapojte správní radu:\n- Zahrnout HSEE&S do novoročních projevů, zaměstnanců, vnitřních soutěží atd .;\n- Zajistit viditelnost environmentálních politik, akcí a výsledků;\n- Přineste zprávu zákazníkům;\n- Pokračujte v komunikaci."}]
[null,null,null,null,null,null,null,null,null,null,null,null,null,{"$f":"IF(L25=8,\"\",\"zvyšte skóre pro:\")","v":""}]
[null,null,{"$f":"IF(VLOOKUP(D25,'Technický list'!$AO$8:$AQ$30,3,0)=\"OK\",\"\",\"hlavní věci\")","v":""},{"$f":"'Kapitola 1'!C40","v":"Q1.6"},{"$f":"'Kapitola 1'!D40","v":"Jakým způsobem jsou odpovědnosti HSE&S začleněny do popisů pracovní náplně nebo ročních cílů?\n"},null,null,null,null,null,null,{"$f":"COUNTBLANK(N25:U25)","v":8},true,{"$f":"IF(VLOOKUP(D25,'Zvláštní zpráva'!$E$6:$H$112,4,FALSE)=\"zvyšte skóre\",\"ISO 9001\",\"\")","v":""},{"$f":"IF(VLOOKUP(D25,'Zvláštní zpráva'!$E$116:$H$222,4,FALSE)=\"zvyšte skóre\",\"ISO 14001\",\"\")","v":""},{"$f":"IF(VLOOKUP(D25,'Zvláštní zpráva'!$E$226:$H$332,4,FALSE)=\"zvyšte skóre\",\"ISO 26000\",\"\")","v":""},{"$f":"IF(VLOOKUP(D25,'Zvláštní zpráva'!$E$336:$H$552,4,FALSE)=\"zvyšte skóre\",\"ISO 45001\",\"\")","v":""},{"$f":"IF(VLOOKUP(D25,'Zvláštní zpráva'!$E$556:$H$662,4,FALSE)=\"zvyšte skóre\",\"EMAS\",\"\")","v":""},{"$f":"IF(VLOOKUP(D25,'Zvláštní zpráva'!$E$666:$H$772,4,FALSE)=\"zvyšte skóre\",\"RC14001\",\"\")","v":""},{"$f":"IF(VLOOKUP(D25,'Zvláštní zpráva'!$E$776:$H$882,4,FALSE)=\"zvyšte skóre\",\"RCMS\",\"\")","v":""}]
[null,null,null,null,"Vaše skóre ",null,{"$f":"VLOOKUP(D25,'Technický list'!$B10:$C$25,2,FALSE)","v":3},null,null,null,null,null,null,{"$f":"CONCATENATE(G26,\" = \",HLOOKUP(\" \",'Kapitola 1'!E39:E44,Tipy!G26+2))","v":"3 =  Jsou zapracovány do popisů pracovní náplně nebo ročních cílů všech manažerů."}]
[null,null,null,null,"Pokuste se zlepšit ",null,{"$f":"VLOOKUP(CONCATENATE(D25,$M$3),'Technický list'!$BG$10:$BI$73,3,FALSE)","v":"Cíle jsou začleněny do definice pracovních náplní všech zaměstnanců, kteří jsou napojeni na systém řízení (HSEE& S), nebo implementují jiné pobídky k motivaci péče o zaměstnance na všech úrovních organizace."}]
[null,null,null,null,null,null,null,null,null,null,null,null,null,{"$f":"IF(L29=8,\"\",\"zvyšte skóre pro:\")","v":"zvyšte skóre pro:"}]
[null,null,{"$f":"IF(VLOOKUP(D29,'Technický list'!$AO$8:$AQ$30,3,0)=\"OK\",\"\",\"hlavní věci\")","v":""},{"$f":"'Kapitola 1'!C46","v":"Q1.7"},{"$f":"'Kapitola 1'!D46","v":"Jakým způsobem se řídí (nejdůležitější) procesy v souvislosti s HSE&S?"},null,null,null,null,null,null,{"$f":"COUNTBLANK(N29:U29)","v":7},null,{"$f":"IF(VLOOKUP(D29,'Zvláštní zpráva'!$E$6:$H$112,4,FALSE)=\"zvyšte skóre\",\"ISO 9001\",\"\")","v":""},{"$f":"IF(VLOOKUP(D29,'Zvláštní zpráva'!$E$116:$H$222,4,FALSE)=\"zvyšte skóre\",\"ISO 14001\",\"\")","v":""},{"$f":"IF(VLOOKUP(D29,'Zvláštní zpráva'!$E$226:$H$332,4,FALSE)=\"zvyšte skóre\",\"ISO 26000\",\"\")","v":""},{"$f":"IF(VLOOKUP(D29,'Zvláštní zpráva'!$E$336:$H$552,4,FALSE)=\"zvyšte skóre\",\"ISO 45001\",\"\")","v":""},{"$f":"IF(VLOOKUP(D29,'Zvláštní zpráva'!$E$556:$H$662,4,FALSE)=\"zvyšte skóre\",\"EMAS\",\"\")","v":"EMAS"},{"$f":"IF(VLOOKUP(D29,'Zvláštní zpráva'!$E$666:$H$772,4,FALSE)=\"zvyšte skóre\",\"RC14001\",\"\")","v":""},{"$f":"IF(VLOOKUP(D29,'Zvláštní zpráva'!$E$776:$H$882,4,FALSE)=\"zvyšte skóre\",\"RCMS\",\"\")","v":""}]
[null,null,null,null,"Vaše skóre ",null,{"$f":"VLOOKUP(D29,'Technický list'!$B10:$C$25,2,FALSE)","v":3},null,null,null,null,null,null,{"$f":"CONCATENATE(G30,\" = \",HLOOKUP(\" \",'Kapitola 1'!E45:E50,Tipy!G30+2))","v":"3 = Odpovědná osoba má na starosti jednotlivé nižší úrovně organizace (jednotky, oddělení ...). K dispozici by měly být ukazatele výkonnosti procesu, které umožňují pravidelné přezkoumání pro všechny klíčové procesy."}]
[null,null,null,null,"Pokuste se zlepšit ",null,{"$f":"VLOOKUP(CONCATENATE(D29,$M$3),'Technický list'!$BG$10:$BI$73,3,FALSE)","v":"Doporučuje se, aby odpovědné osoby byly součástí týmu a odpovědná osoba HSEE&S podléhala přímo nejvyšší úrovni vedení. Ideální aby byl odpovědný za HSEE&S někdo, kdo má napojení na nejvyšší úrovni organizace."}]
[null,{"$f":"'Kapitola 1'!B52","v":"Zabezpečení zlepšování"},null,null,null,null,null,null,null,null,null,null,null,{"$f":"IF(L33=8,\"\",\"zvyšte skóre pro:\")","v":""}]
[null,null,{"$f":"IF(VLOOKUP(D33,'Technický list'!$AO$8:$AQ$30,3,0)=\"OK\",\"\",\"hlavní věci\")","v":""},{"$f":"'Kapitola 1'!C54","v":"Q1.8"},{"$f":"'Kapitola 1'!D54","v":"Jakým způsobem top management zajišťuje neustálé zlepšování výkonu v oblasti HSE&S (zdraví, bezpečnosti, životního prostředí, energetiky a udržitelnosti)?"},null,null,null,null,null,null,{"$f":"COUNTBLANK(N33:U33)","v":8},true,{"$f":"IF(VLOOKUP(D33,'Zvláštní zpráva'!$E$6:$H$112,4,FALSE)=\"zvyšte skóre\",\"ISO 9001\",\"\")","v":""},{"$f":"IF(VLOOKUP(D33,'Zvláštní zpráva'!$E$116:$H$222,4,FALSE)=\"zvyšte skóre\",\"ISO 14001\",\"\")","v":""},{"$f":"IF(VLOOKUP(D33,'Zvláštní zpráva'!$E$226:$H$332,4,FALSE)=\"zvyšte skóre\",\"ISO 26000\",\"\")","v":""},{"$f":"IF(VLOOKUP(D33,'Zvláštní zpráva'!$E$336:$H$552,4,FALSE)=\"zvyšte skóre\",\"ISO 45001\",\"\")","v":""},{"$f":"IF(VLOOKUP(D33,'Zvláštní zpráva'!$E$556:$H$662,4,FALSE)=\"zvyšte skóre\",\"EMAS\",\"\")","v":""},{"$f":"IF(VLOOKUP(D33,'Zvláštní zpráva'!$E$666:$H$772,4,FALSE)=\"zvyšte skóre\",\"RC14001\",\"\")","v":""},{"$f":"IF(VLOOKUP(D33,'Zvláštní zpráva'!$E$776:$H$882,4,FALSE)=\"zvyšte skóre\",\"RCMS\",\"\")","v":""}]
[null,null,null,null,"Vaše skóre ",null,{"$f":"VLOOKUP(D33,'Technický list'!$B10:$C$25,2,FALSE)","v":3},null,null,null,null,null,null,{"$f":"CONCATENATE(G34,\" = \",HLOOKUP(\" \",'Kapitola 1'!E53:E58,Tipy!G34+2))","v":"3 = Top management vyhodnocuje výkonnost RC alespoň jednou za rok. Uvádějí se příslušné ukazatele výkonnosti, akční plány se posuzují s ohledem na hlavní rizika a příležitosti pro organizaci a s ohledem na strategii podpory neustálého zlepšování. Na podporu takového zlepšování se vyčleňují prostředky a zdroje."}]
[null,null,null,null,"Pokuste se zlepšit ",null,{"$f":"VLOOKUP(CONCATENATE(D33,$M$3),'Technický list'!$BG$10:$BI$73,3,FALSE)","v":"Nezapomeňte pravidelně sledovat akce. Pravidelně diskutujte o výkonu a interakci se zúčastněnými stranami s top managementem. Přezkoumejte KPI alespoň čtvrtletně, aby se objevily nové trendy co nejdříve."}]
[null,null,null,null,null,null,null,null,null,null,null,null,null,{"$f":"IF(L37=8,\"\",\"zvyšte skóre pro:\")","v":""}]
[null,null,{"$f":"IF(VLOOKUP(D37,'Technický list'!$AO$8:$AQ$30,3,0)=\"OK\",\"\",\"hlavní věci\")","v":""},{"$f":"'Kapitola 1'!C60","v":"Q1.9"},{"$f":"'Kapitola 1'!D60","v":"Jak jsou organizovány interní audity?"},null,null,null,null,null,null,{"$f":"COUNTBLANK(N37:U37)","v":8},true,{"$f":"IF(VLOOKUP(D37,'Zvláštní zpráva'!$E$6:$H$112,4,FALSE)=\"zvyšte skóre\",\"ISO 9001\",\"\")","v":""},{"$f":"IF(VLOOKUP(D37,'Zvláštní zpráva'!$E$116:$H$222,4,FALSE)=\"zvyšte skóre\",\"ISO 14001\",\"\")","v":""},{"$f":"IF(VLOOKUP(D37,'Zvláštní zpráva'!$E$226:$H$332,4,FALSE)=\"zvyšte skóre\",\"ISO 26000\",\"\")","v":""},{"$f":"IF(VLOOKUP(D37,'Zvláštní zpráva'!$E$336:$H$552,4,FALSE)=\"zvyšte skóre\",\"ISO 45001\",\"\")","v":""},{"$f":"IF(VLOOKUP(D37,'Zvláštní zpráva'!$E$556:$H$662,4,FALSE)=\"zvyšte skóre\",\"EMAS\",\"\")","v":""},{"$f":"IF(VLOOKUP(D37,'Zvláštní zpráva'!$E$666:$H$772,4,FALSE)=\"zvyšte skóre\",\"RC14001\",\"\")","v":""},{"$f":"IF(VLOOKUP(D37,'Zvláštní zpráva'!$E$776:$H$882,4,FALSE)=\"zvyšte skóre\",\"RCMS\",\"\")","v":""}]
[null,null,null,null,"Vaše skóre ",null,{"$f":"VLOOKUP(D37,'Technický list'!$B10:$C$25,2,FALSE)","v":4},null,null,null,null,null,null,{"$f":"CONCATENATE(G38,\" = \",HLOOKUP(\" \",'Kapitola 1'!E59:E64,Tipy!G38+2))","v":"4 = Výsledky auditů jsou diskutovány v rámci přezkoumání vedením, identifikují se trendy a přijímají se nápravná opatření. Výsledky nápravných opatření se oznamují střednímu managementu. Kromě toho poučení z nehod a osvědčené postupy jsou sdíleny s dalšími osobami tak, aby je využili pro své vzdělávání. Systematický přístup je certifikován externím ověřovacím orgánem."}]
[null,null,null,null,"Pokuste se zlepšit ",null,{"$f":"VLOOKUP(CONCATENATE(D37,$M$3),'Technický list'!$BG$10:$BI$73,3,FALSE)","v":"Zavřete smyčku. Zajistěte, aby existoval proces hodnocení účinnosti „procesu hodnocení systému řízení“."}]
[null,null,null,null,null,null,null,null,null,null,null,null,null,{"$f":"IF(L41=8,\"\",\"zvyšte skóre pro:\")","v":""}]
[null,null,{"$f":"IF(VLOOKUP(D41,'Technický list'!$AO$8:$AQ$30,3,0)=\"OK\",\"\",\"hlavní věci\")","v":""},{"$f":"'Kapitola 1'!C66","v":"Q1.10"},{"$f":"'Kapitola 1'!D66","v":"Jakým způsobem probíhá vyšetřování?"},null,null,null,null,null,null,{"$f":"COUNTBLANK(N41:U41)","v":8},null,{"$f":"IF(VLOOKUP(D41,'Zvláštní zpráva'!$E$6:$H$112,4,FALSE)=\"zvyšte skóre\",\"ISO 9001\",\"\")","v":""},{"$f":"IF(VLOOKUP(D41,'Zvláštní zpráva'!$E$116:$H$222,4,FALSE)=\"zvyšte skóre\",\"ISO 14001\",\"\")","v":""},{"$f":"IF(VLOOKUP(D41,'Zvláštní zpráva'!$E$226:$H$332,4,FALSE)=\"zvyšte skóre\",\"ISO 26000\",\"\")","v":""},{"$f":"IF(VLOOKUP(D41,'Zvláštní zpráva'!$E$336:$H$552,4,FALSE)=\"zvyšte skóre\",\"ISO 45001\",\"\")","v":""},{"$f":"IF(VLOOKUP(D41,'Zvláštní zpráva'!$E$556:$H$662,4,FALSE)=\"zvyšte skóre\",\"EMAS\",\"\")","v":""},{"$f":"IF(VLOOKUP(D41,'Zvláštní zpráva'!$E$666:$H$772,4,FALSE)=\"zvyšte skóre\",\"RC14001\",\"\")","v":""},{"$f":"IF(VLOOKUP(D41,'Zvláštní zpráva'!$E$776:$H$882,4,FALSE)=\"zvyšte skóre\",\"RCMS\",\"\")","v":""}]
[null,null,null,null,"Vaše skóre ",null,{"$f":"VLOOKUP(D41,'Technický list'!$B10:$C$25,2,FALSE)","v":4},null,null,null,null,null,null,{"$f":"CONCATENATE(G42,\" = \",HLOOKUP(\" \",'Kapitola 1'!E65:E70,Tipy!G42+2))","v":"4 = Závěry vyšetřování jsou sdíleny v rámci celé organizace a získané zkušenosti jsou sdíleny s kolegy a zainteresovanými stranami."}]
[null,null,null,null,"Pokuste se zlepšit ",null,{"$f":"VLOOKUP(CONCATENATE(D41,$M$3),'Technický list'!$BG$10:$BI$73,3,FALSE)","v":"Doporučuje se každoročně přezkoumávat systém a rozhodovat o tom, co je ještě třeba, co lze vynechat, kde vznikají nové problémy…"}]
[null,{"$f":"'Kapitola 1'!B72","v":"Zdroje, školení a zapojení zaměstnanců"},null,null,null,null,null,null,null,null,null,null,null,{"$f":"IF(L45=8,\"\",\"zvyšte skóre pro:\")","v":""}]
[null,null,{"$f":"IF(VLOOKUP(D45,'Technický list'!$AO$8:$AQ$30,3,0)=\"OK\",\"\",\"hlavní věci\")","v":""},{"$f":"'Kapitola 1'!C74","v":"Q1.11"},{"$f":"'Kapitola 1'!D74","v":"Jakým způsobem organizace zajišťuje procesy, čas a zdroje potřebné pro zlepšování procesů řízení HSE&S?"},null,null,null,null,null,null,{"$f":"COUNTBLANK(N45:U45)","v":8},true,{"$f":"IF(VLOOKUP(D45,'Zvláštní zpráva'!$E$6:$H$112,4,FALSE)=\"zvyšte skóre\",\"ISO 9001\",\"\")","v":""},{"$f":"IF(VLOOKUP(D45,'Zvláštní zpráva'!$E$116:$H$222,4,FALSE)=\"zvyšte skóre\",\"ISO 14001\",\"\")","v":""},{"$f":"IF(VLOOKUP(D45,'Zvláštní zpráva'!$E$226:$H$332,4,FALSE)=\"zvyšte skóre\",\"ISO 26000\",\"\")","v":""},{"$f":"IF(VLOOKUP(D45,'Zvláštní zpráva'!$E$336:$H$552,4,FALSE)=\"zvyšte skóre\",\"ISO 45001\",\"\")","v":""},{"$f":"IF(VLOOKUP(D45,'Zvláštní zpráva'!$E$556:$H$662,4,FALSE)=\"zvyšte skóre\",\"EMAS\",\"\")","v":""},{"$f":"IF(VLOOKUP(D45,'Zvláštní zpráva'!$E$666:$H$772,4,FALSE)=\"zvyšte skóre\",\"RC14001\",\"\")","v":""},{"$f":"IF(VLOOKUP(D45,'Zvláštní zpráva'!$E$776:$H$882,4,FALSE)=\"zvyšte skóre\",\"RCMS\",\"\")","v":""}]
[null,null,null,null,"Vaše skóre ",null,{"$f":"VLOOKUP(D45,'Technický list'!$B10:$C$25,2,FALSE)","v":3},null,null,null,null,null,null,{"$f":"CONCATENATE(G46,\" = \",HLOOKUP(\" \",'Kapitola 1'!E73:E78,Tipy!G46+2))","v":"3 = Zdroje jsou poskytovány systematicky s cílem zajistit neustálé zlepšování procesů. Tyto zdroje vycházejí z posudků a stanovování naplánovaných priorit."}]
[null,null,null,null,"Pokuste se zlepšit ",null,{"$f":"VLOOKUP(CONCATENATE(D45,$M$3),'Technický list'!$BG$10:$BI$73,3,FALSE)","v":"Zdroje pro vyhodnocení vylepšení by měly být plánovány, navíc k těm, které se týkají prováděcích akcí."}]
[null,null,null,null,null,null,null,null,null,null,null,null,null,{"$f":"IF(L49=8,\"\",\"zvyšte skóre pro:\")","v":"zvyšte skóre pro:"}]
[null,null,{"$f":"IF(VLOOKUP(D49,'Technický list'!$AO$8:$AQ$30,3,0)=\"OK\",\"\",\"hlavní věci\")","v":""},{"$f":"'Kapitola 1'!C80","v":"Q1.12"},{"$f":"'Kapitola 1'!D80","v":"Jak organizace zajišťuje, že zaměstnanci jsou si vědomi politik a procesů týkajících se zdraví, bezpečnosti, životního prostředí, energetiky a udržitelnosti?"},null,null,null,null,null,null,{"$f":"COUNTBLANK(N49:U49)","v":7},true,{"$f":"IF(VLOOKUP(D49,'Zvláštní zpráva'!$E$6:$H$112,4,FALSE)=\"zvyšte skóre\",\"ISO 9001\",\"\")","v":""},{"$f":"IF(VLOOKUP(D49,'Zvláštní zpráva'!$E$116:$H$222,4,FALSE)=\"zvyšte skóre\",\"ISO 14001\",\"\")","v":""},{"$f":"IF(VLOOKUP(D49,'Zvláštní zpráva'!$E$226:$H$332,4,FALSE)=\"zvyšte skóre\",\"ISO 26000\",\"\")","v":""},{"$f":"IF(VLOOKUP(D49,'Zvláštní zpráva'!$E$336:$H$552,4,FALSE)=\"zvyšte skóre\",\"ISO 45001\",\"\")","v":""},{"$f":"IF(VLOOKUP(D49,'Zvláštní zpráva'!$E$556:$H$662,4,FALSE)=\"zvyšte skóre\",\"EMAS\",\"\")","v":""},{"$f":"IF(VLOOKUP(D49,'Zvláštní zpráva'!$E$666:$H$772,4,FALSE)=\"zvyšte skóre\",\"RC14001\",\"\")","v":""},{"$f":"IF(VLOOKUP(D49,'Zvláštní zpráva'!$E$776:$H$882,4,FALSE)=\"zvyšte skóre\",\"RCMS\",\"\")","v":"RCMS"}]
[null,null,null,null,"Vaše skóre ",null,{"$f":"VLOOKUP(D49,'Technický list'!$B10:$C$25,2,FALSE)","v":3},null,null,null,null,null,null,{"$f":"CONCATENATE(G50,\" = \",HLOOKUP(\" \",'Kapitola 1'!E79:E84,Tipy!G50+2))","v":"3 = Existuje vnitřní komunikační plán, který stanoví následující položky: hlášení, komu, kdy a jakým komunikačním prostředkem se tato hlášení budou posílat s cílem zajistit adekvátní vnitřní komunikaci."}]
[null,null,null,null,"Pokuste se zlepšit ",null,{"$f":"VLOOKUP(CONCATENATE(D49,$M$3),'Technický list'!$BG$10:$BI$73,3,FALSE)","v":"Vyhodnoťte účinnost plánu interní komunikace prostřednictvím možného pravidelného průzkumu: jsou si zaměstnanci vědomi? Jaké informace stále požadují? Kolik zaměstnanců jste oslovili plánovanou komunikací? Bylo cíle dosaženo? Pronikla informace/sdělení dle očekávání?"}]
[null,null,null,null,null,null,null,null,null,null,null,null,null,{"$f":"IF(L53=8,\"\",\"zvyšte skóre pro:\")","v":""}]
[null,null,{"$f":"IF(VLOOKUP(D53,'Technický list'!$AO$8:$AQ$30,3,0)=\"OK\",\"\",\"hlavní věci\")","v":""},{"$f":"'Kapitola 1'!C86","v":"Q1.13"},{"$f":"'Kapitola 1'!D86","v":"Jakým způsobem organizace zajišťuje správné kompetence pracovníků, pokud jde o aspekty HSE&S týkající se jejich práce?"},null,null,null,null,null,null,{"$f":"COUNTBLANK(N53:U53)","v":8},true,{"$f":"IF(VLOOKUP(D53,'Zvláštní zpráva'!$E$6:$H$112,4,FALSE)=\"zvyšte skóre\",\"ISO 9001\",\"\")","v":""},{"$f":"IF(VLOOKUP(D53,'Zvláštní zpráva'!$E$116:$H$222,4,FALSE)=\"zvyšte skóre\",\"ISO 14001\",\"\")","v":""},{"$f":"IF(VLOOKUP(D53,'Zvláštní zpráva'!$E$226:$H$332,4,FALSE)=\"zvyšte skóre\",\"ISO 26000\",\"\")","v":""},{"$f":"IF(VLOOKUP(D53,'Zvláštní zpráva'!$E$336:$H$552,4,FALSE)=\"zvyšte skóre\",\"ISO 45001\",\"\")","v":""},{"$f":"IF(VLOOKUP(D53,'Zvláštní zpráva'!$E$556:$H$662,4,FALSE)=\"zvyšte skóre\",\"EMAS\",\"\")","v":""},{"$f":"IF(VLOOKUP(D53,'Zvláštní zpráva'!$E$666:$H$772,4,FALSE)=\"zvyšte skóre\",\"RC14001\",\"\")","v":""},{"$f":"IF(VLOOKUP(D53,'Zvláštní zpráva'!$E$776:$H$882,4,FALSE)=\"zvyšte skóre\",\"RCMS\",\"\")","v":""}]
[null,null,null,null,"Vaše skóre ",null,{"$f":"VLOOKUP(D53,'Technický list'!$B10:$C$25,2,FALSE)","v":3},null,null,null,null,null,null,{"$f":"CONCATENATE(G54,\" = \",HLOOKUP(\" \",'Kapitola 1'!E85:E90,Tipy!G54+2))","v":"3 = Na základě specifických potřeb zaměstnanců a dodavatelů se zřizují a spravují vzdělávací programy."}]
[null,null,null,null,"Pokuste se zlepšit ",null,{"$f":"VLOOKUP(CONCATENATE(D53,$M$3),'Technický list'!$BG$10:$BI$73,3,FALSE)","v":"Aby byl systém řízení efektivní, měl by zahrnovat určení kompetence pro ty zaměstnance, kteří pracují v identifikovaných oblastech významného rizika, stanovených prostřednictvím systému hodnocení rizik organizace."}]
[null,null,null,null,null,null,null,null,null,null,null,null,null,{"$f":"IF(L57=8,\"\",\"zvyšte skóre pro:\")","v":""}]
[null,null,{"$f":"IF(VLOOKUP(D57,'Technický list'!$AO$8:$AQ$30,3,0)=\"OK\",\"\",\"hlavní věci\")","v":""},{"$f":"'Kapitola 1'!C92","v":"Q1.14"},{"$f":"'Kapitola 1'!D92","v":"Jaká je struktura zapojení zaměstnanců?"},null,null,null,null,null,null,{"$f":"COUNTBLANK(N57:U57)","v":8},true,{"$f":"IF(VLOOKUP(D57,'Zvláštní zpráva'!$E$6:$H$112,4,FALSE)=\"zvyšte skóre\",\"ISO 9001\",\"\")","v":""},{"$f":"IF(VLOOKUP(D57,'Zvláštní zpráva'!$E$116:$H$222,4,FALSE)=\"zvyšte skóre\",\"ISO 14001\",\"\")","v":""},{"$f":"IF(VLOOKUP(D57,'Zvláštní zpráva'!$E$226:$H$332,4,FALSE)=\"zvyšte skóre\",\"ISO 26000\",\"\")","v":""},{"$f":"IF(VLOOKUP(D57,'Zvláštní zpráva'!$E$336:$H$552,4,FALSE)=\"zvyšte skóre\",\"ISO 45001\",\"\")","v":""},{"$f":"IF(VLOOKUP(D57,'Zvláštní zpráva'!$E$556:$H$662,4,FALSE)=\"zvyšte skóre\",\"EMAS\",\"\")","v":""},{"$f":"IF(VLOOKUP(D57,'Zvláštní zpráva'!$E$666:$H$772,4,FALSE)=\"zvyšte skóre\",\"RC14001\",\"\")","v":""},{"$f":"IF(VLOOKUP(D57,'Zvláštní zpráva'!$E$776:$H$882,4,FALSE)=\"zvyšte skóre\",\"RCMS\",\"\")","v":""}]
[null,null,null,null,"Vaše skóre ",null,{"$f":"VLOOKUP(D57,'Technický list'!$B10:$C$25,2,FALSE)","v":3},null,null,null,null,null,null,{"$f":"CONCATENATE(G58,\" = \",HLOOKUP(\" \",'Kapitola 1'!E91:E96,Tipy!G58+2))","v":"3 = Organizace podporuje osobní iniciativy a začleňuje praktickou zpětnou vazbu z provozu do přezkoumání cílů a procesů. Organizace pořádá pravidelná setkání se zaměstnanci s cílem umožnit jim vyjadřovat své názory na politiku organizace týkající se HSE&S."}]
[null,null,null,null,"Pokuste se zlepšit ",null,{"$f":"VLOOKUP(CONCATENATE(D57,$M$3),'Technický list'!$BG$10:$BI$73,3,FALSE)","v":"Vyhodnoťte účinnost zapojení zaměstnanců.\nUdělejte z zaměstnanců organizace klíčového partnera pro všechna rozhodnutí. Vytvořte systém odměňující dobré návrhy."}]
[null,{"$f":"'Kapitola 1'!B98","v":"Správa dokumentů"},null,null,null,null,null,null,null,null,null,null,null,{"$f":"IF(L61=8,\"\",\"zvyšte skóre pro:\")","v":""}]
[null,null,{"$f":"IF(VLOOKUP(D61,'Technický list'!$AO$8:$AQ$30,3,0)=\"OK\",\"\",\"hlavní věci\")","v":""},{"$f":"'Kapitola 1'!C100","v":"Q1.15"},{"$f":"'Kapitola 1'!D100","v":"Jakým způsobem se řídí dokumentace HSE&S?"},null,null,null,null,null,null,{"$f":"COUNTBLANK(N61:U61)","v":8},true,{"$f":"IF(VLOOKUP(D61,'Zvláštní zpráva'!$E$6:$H$112,4,FALSE)=\"zvyšte skóre\",\"ISO 9001\",\"\")","v":""},{"$f":"IF(VLOOKUP(D61,'Zvláštní zpráva'!$E$116:$H$222,4,FALSE)=\"zvyšte skóre\",\"ISO 14001\",\"\")","v":""},{"$f":"IF(VLOOKUP(D61,'Zvláštní zpráva'!$E$226:$H$332,4,FALSE)=\"zvyšte skóre\",\"ISO 26000\",\"\")","v":""},{"$f":"IF(VLOOKUP(D61,'Zvláštní zpráva'!$E$336:$H$552,4,FALSE)=\"zvyšte skóre\",\"ISO 45001\",\"\")","v":""},{"$f":"IF(VLOOKUP(D61,'Zvláštní zpráva'!$E$556:$H$662,4,FALSE)=\"zvyšte skóre\",\"EMAS\",\"\")","v":""},{"$f":"IF(VLOOKUP(D61,'Zvláštní zpráva'!$E$666:$H$772,4,FALSE)=\"zvyšte skóre\",\"RC14001\",\"\")","v":""},{"$f":"IF(VLOOKUP(D61,'Zvláštní zpráva'!$E$776:$H$882,4,FALSE)=\"zvyšte skóre\",\"RCMS\",\"\")","v":""}]
[null,null,null,null,"Vaše skóre ",null,{"$f":"VLOOKUP(D61,'Technický list'!$B10:$C$25,2,FALSE)","v":3},null,null,null,null,null,null,{"$f":"CONCATENATE(G62,\" = \",HLOOKUP(\" \",'Kapitola 1'!E99:E104,Tipy!G62+2))","v":"3 = Organizace zřídila systém správy dokumentů, který zaručuje, že všechny relevantní dokumenty (např. Vývojové diagramy, schémata P&ID, bezpečnostní studie, studie PHA, studie HAZOP, záznamy o výcviku, záznamy o údržbě a opravách, dokumentace ke všem zařízením, popisy pracovní činnosti a odpovědnosti, havarijní plány, bezpečnostní parametry atd.) jsou aktuální. Neplatná dokumentace je odstraněna, ale uložena a uchovávána v evidenci, tak aby měli všichni zainteresovaní zaměstnanci přístup podle svého postavení."}]
[null,null,null,null,"Pokuste se zlepšit ",null,{"$f":"VLOOKUP(CONCATENATE(D61,$M$3),'Technický list'!$BG$10:$BI$73,3,FALSE)","v":"Doporučuje se zpřístupnit dokumentaci HSEE&S všem zaměstnancům."}]
[null,{"$f":"'Kapitola 1'!B106","v":"Řízení změn"},null,null,null,null,null,null,null,null,null,null,null,{"$f":"IF(L65=8,\"\",\"zvyšte skóre pro:\")","v":""}]
[null,null,{"$f":"IF(VLOOKUP(D65,'Technický list'!$AO$8:$AQ$30,3,0)=\"OK\",\"\",\"hlavní věci\")","v":""},{"$f":"'Kapitola 1'!C108","v":"Q1.16"},{"$f":"'Kapitola 1'!D108","v":"Jakým způsobem jsou řízeny změny potenciálně ovlivňující HSE&S (zdraví, bezpečnost, životní prostředí, energetiku a udržitelnost)?"},null,null,null,null,null,null,{"$f":"COUNTBLANK(N65:U65)","v":8},true,{"$f":"IF(VLOOKUP(D65,'Zvláštní zpráva'!$E$6:$H$112,4,FALSE)=\"zvyšte skóre\",\"ISO 9001\",\"\")","v":""},{"$f":"IF(VLOOKUP(D65,'Zvláštní zpráva'!$E$116:$H$222,4,FALSE)=\"zvyšte skóre\",\"ISO 14001\",\"\")","v":""},{"$f":"IF(VLOOKUP(D65,'Zvláštní zpráva'!$E$226:$H$332,4,FALSE)=\"zvyšte skóre\",\"ISO 26000\",\"\")","v":""},{"$f":"IF(VLOOKUP(D65,'Zvláštní zpráva'!$E$336:$H$552,4,FALSE)=\"zvyšte skóre\",\"ISO 45001\",\"\")","v":""},{"$f":"IF(VLOOKUP(D65,'Zvláštní zpráva'!$E$556:$H$662,4,FALSE)=\"zvyšte skóre\",\"EMAS\",\"\")","v":""},{"$f":"IF(VLOOKUP(D65,'Zvláštní zpráva'!$E$666:$H$772,4,FALSE)=\"zvyšte skóre\",\"RC14001\",\"\")","v":""},{"$f":"IF(VLOOKUP(D65,'Zvláštní zpráva'!$E$776:$H$882,4,FALSE)=\"zvyšte skóre\",\"RCMS\",\"\")","v":""}]
[null,null,null,null,"Vaše skóre ",null,{"$f":"VLOOKUP(D65,'Technický list'!$B10:$C$25,2,FALSE)","v":3},null,null,null,null,null,null,{"$f":"CONCATENATE(G66,\" = \",HLOOKUP(\" \",'Kapitola 1'!E107:E112,Tipy!G66+2))","v":"3 = Existuje postup pro řízení změn (všech typů včetně klasifikace látek a přípravků). Tento protokol zajišťuje revizi provozních předpisů, zařízení (včetně osobních ochranných pomůcek), hodnocení rizik HSE&S, povolení a dokumentů (pokud se to vyžaduje), jakož i sdílení informací se stranami zapojenými do procesu. Postup určuje osoby, které jsou odpovědné za proces MoC a které jsou oprávněny podepisovat/schvalovat přezkum změn."}]
[null,null,null,null,"Pokuste se zlepšit ",null,{"$f":"VLOOKUP(CONCATENATE(D65,$M$3),'Technický list'!$BG$10:$BI$73,3,FALSE)","v":"Vytvořte registr řízení změn, který bude udržovat přehled pro všechny zúčastněné zaměstnance. Tento přehled se aktualizuje a ukazuje skutečný stav všech projektů.\nKlíčové jsou informace a školení zaměstnanců (včetně dodavatelů)."}]
[]
[null,null,"KAPITOLA 2","Ochrana lidí a životního prostředí"]
[null,{"$f":"'Kapitola 2'!B4","v":"Bezpečnost a ochrana zdraví při práci"},null,null,null,null,null,null,null,null,null,null,null,{"$f":"IF(L71=8,\"\",\"zvyšte skóre pro:\")","v":""}]
[null,null,{"$f":"IF(VLOOKUP(D71,'Technický list'!$AO$124:$AQ$168,3,0)=\"OK\",\"\",\"hlavní věci\")","v":""},{"$f":"'Kapitola 2'!C6","v":"Q2.1"},{"$f":"'Kapitola 2'!D6","v":"Jak se management zavázal k ochraně zdraví a bezpečnosti při práci (dále jen \"BOZP\")?"},null,null,null,null,null,null,{"$f":"COUNTBLANK(N71:U71)","v":8},true,{"$f":"IF(VLOOKUP(D71,'Zvláštní zpráva'!$E$6:$H$112,4,FALSE)=\"zvyšte skóre\",\"ISO 9001\",\"\")","v":""},{"$f":"IF(VLOOKUP(D71,'Zvláštní zpráva'!$E$116:$H$222,4,FALSE)=\"zvyšte skóre\",\"ISO 14001\",\"\")","v":""},{"$f":"IF(VLOOKUP(D71,'Zvláštní zpráva'!$E$226:$H$332,4,FALSE)=\"zvyšte skóre\",\"ISO 26000\",\"\")","v":""},{"$f":"IF(VLOOKUP(D71,'Zvláštní zpráva'!$E$336:$H$552,4,FALSE)=\"zvyšte skóre\",\"ISO 45001\",\"\")","v":""},{"$f":"IF(VLOOKUP(D71,'Zvláštní zpráva'!$E$556:$H$662,4,FALSE)=\"zvyšte skóre\",\"EMAS\",\"\")","v":""},{"$f":"IF(VLOOKUP(D71,'Zvláštní zpráva'!$E$666:$H$772,4,FALSE)=\"zvyšte skóre\",\"RC14001\",\"\")","v":""},{"$f":"IF(VLOOKUP(D71,'Zvláštní zpráva'!$E$776:$H$882,4,FALSE)=\"zvyšte skóre\",\"RCMS\",\"\")","v":""}]
[null,null,null,null,"Vaše skóre ",null,{"$f":"VLOOKUP(D71,'Technický list'!$B$124:$C$168,2,FALSE)","v":3},null,null,null,null,null,null,{"$f":"CONCATENATE(G72,\" = \",HLOOKUP(\" \",'Kapitola 2'!D5:E10,Tipy!G72+2))","v":"3 = Na všech úrovních organizace byly stanoveny jasné odpovědnosti s cílem zabránit nehodám a uplatňovat zásady společnosti. Zaměstnancům, kteří se podílejí na řízení BOZP, byly přiděleny jasné cíle s cílem podpořit výkonnost, a to na základě úrovně jejich odpovědnosti."}]
[null,null,null,null,"Pokuste se zlepšit ",null,{"$f":"VLOOKUP(CONCATENATE(D71,$M$3),'Technický list'!$BG$124:$BI$303,3,FALSE)","v":"Zapojte zaměstnance do vývoje politiky."}]
[null,null,null,null,null,null,null,null,null,null,null,null,null,{"$f":"IF(L75=8,\"\",\"zvyšte skóre pro:\")","v":""}]
[null,null,{"$f":"IF(VLOOKUP(D75,'Technický list'!$AO$124:$AQ$168,3,0)=\"OK\",\"\",\"hlavní věci\")","v":""},{"$f":"'Kapitola 2'!C12","v":"Q2.2"},{"$f":"'Kapitola 2'!D12","v":"Jakým způsobem se určují rizika a expozice v souvislosti s BOZP?"},null,null,null,null,null,null,{"$f":"COUNTBLANK(N75:U75)","v":8},true,{"$f":"IF(VLOOKUP(D75,'Zvláštní zpráva'!$E$6:$H$112,4,FALSE)=\"zvyšte skóre\",\"ISO 9001\",\"\")","v":""},{"$f":"IF(VLOOKUP(D75,'Zvláštní zpráva'!$E$116:$H$222,4,FALSE)=\"zvyšte skóre\",\"ISO 14001\",\"\")","v":""},{"$f":"IF(VLOOKUP(D75,'Zvláštní zpráva'!$E$226:$H$332,4,FALSE)=\"zvyšte skóre\",\"ISO 26000\",\"\")","v":""},{"$f":"IF(VLOOKUP(D75,'Zvláštní zpráva'!$E$336:$H$552,4,FALSE)=\"zvyšte skóre\",\"ISO 45001\",\"\")","v":""},{"$f":"IF(VLOOKUP(D75,'Zvláštní zpráva'!$E$556:$H$662,4,FALSE)=\"zvyšte skóre\",\"EMAS\",\"\")","v":""},{"$f":"IF(VLOOKUP(D75,'Zvláštní zpráva'!$E$666:$H$772,4,FALSE)=\"zvyšte skóre\",\"RC14001\",\"\")","v":""},{"$f":"IF(VLOOKUP(D75,'Zvláštní zpráva'!$E$776:$H$882,4,FALSE)=\"zvyšte skóre\",\"RCMS\",\"\")","v":""}]
[null,null,null,null,"Vaše skóre ",null,{"$f":"VLOOKUP(D75,'Technický list'!$B$124:$C$168,2,FALSE)","v":4},null,null,null,null,null,null,{"$f":"CONCATENATE(G76,\" = \",HLOOKUP(\" \",'Kapitola 2'!D11:E16,Tipy!G76+2))","v":"4 = V souvislosti s definovanými scénáři havárií byly stanoveny následující aspekty:\n* Účinky nebezpečných jevů na veřejné zdraví a bezpečnost a jejich intenzita (rozsah závažnosti) \n* pravděpodobnost výskytu (stupnice pravděpodobnosti) a následné stanovení míry rizika nebo kritičnosti (spojení závažnosti a pravděpodobnosti), přičemž informace se sdílejí se zainteresovanými stranami."}]
[null,null,null,null,"Pokuste se zlepšit ",null,{"$f":"VLOOKUP(CONCATENATE(D75,$M$3),'Technický list'!$BG$124:$BI$303,3,FALSE)","v":"Není třeba okamžitě měnit strategii, nicméně vždy hledejte zlepšení."}]
[null,null,null,null,null,null,null,null,null,null,null,null,null,{"$f":"IF(L79=8,\"\",\"zvyšte skóre pro:\")","v":""}]
[null,null,{"$f":"IF(VLOOKUP(D79,'Technický list'!$AO$124:$AQ$168,3,0)=\"OK\",\"\",\"hlavní věci\")","v":""},{"$f":"'Kapitola 2'!C18","v":"Q2.3"},{"$f":"'Kapitola 2'!D18","v":"Jakým způsobem se posuzují zdravotní požadavky?"},null,null,null,null,null,null,{"$f":"COUNTBLANK(N79:U79)","v":8},true,{"$f":"IF(VLOOKUP(D79,'Zvláštní zpráva'!$E$6:$H$112,4,FALSE)=\"zvyšte skóre\",\"ISO 9001\",\"\")","v":""},{"$f":"IF(VLOOKUP(D79,'Zvláštní zpráva'!$E$116:$H$222,4,FALSE)=\"zvyšte skóre\",\"ISO 14001\",\"\")","v":""},{"$f":"IF(VLOOKUP(D79,'Zvláštní zpráva'!$E$226:$H$332,4,FALSE)=\"zvyšte skóre\",\"ISO 26000\",\"\")","v":""},{"$f":"IF(VLOOKUP(D79,'Zvláštní zpráva'!$E$336:$H$552,4,FALSE)=\"zvyšte skóre\",\"ISO 45001\",\"\")","v":""},{"$f":"IF(VLOOKUP(D79,'Zvláštní zpráva'!$E$556:$H$662,4,FALSE)=\"zvyšte skóre\",\"EMAS\",\"\")","v":""},{"$f":"IF(VLOOKUP(D79,'Zvláštní zpráva'!$E$666:$H$772,4,FALSE)=\"zvyšte skóre\",\"RC14001\",\"\")","v":""},{"$f":"IF(VLOOKUP(D79,'Zvláštní zpráva'!$E$776:$H$882,4,FALSE)=\"zvyšte skóre\",\"RCMS\",\"\")","v":""}]
[null,null,null,null,"Vaše skóre ",null,{"$f":"VLOOKUP(D79,'Technický list'!$B$124:$C$168,2,FALSE)","v":3},null,null,null,null,null,null,{"$f":"CONCATENATE(G80,\" = \",HLOOKUP(\" \",'Kapitola 2'!D17:E22,Tipy!G80+2))","v":"3 = Byla identifikována speciální lékařská vyšetření na pomoc při posuzování vhodnosti jednotlivců na konkrétní práci (např. zrak řidičů motorových vozidel) a následně byla začleněna do posuzování zdravotního stavu pracovníků. Tyto posudky vycházejí výhradně z lékařských vyšetření týkajících se požadavků na práci a ne z jiných vyšetření, které by mohly být prováděny jako součást pravidelného vyšetřování zdravotního stavu."}]
[null,null,null,null,"Pokuste se zlepšit ",null,{"$f":"VLOOKUP(CONCATENATE(D79,$M$3),'Technický list'!$BG$124:$BI$303,3,FALSE)","v":"Zdravotníkům se doporučuje zajistit, aby pouze kontrolovali výsledky lékařských testů, aby zajistili důvěrnost lékařských výsledků."}]
[null,null,null,null,null,null,null,null,null,null,null,null,null,{"$f":"IF(L83=8,\"\",\"zvyšte skóre pro:\")","v":""}]
[null,null,{"$f":"IF(VLOOKUP(D83,'Technický list'!$AO$124:$AQ$168,3,0)=\"OK\",\"\",\"hlavní věci\")","v":""},{"$f":"'Kapitola 2'!C24","v":"Q2.4"},{"$f":"'Kapitola 2'!D24","v":"Jakým způsobem zlepšuje organizace BOZP?"},null,null,null,null,null,null,{"$f":"COUNTBLANK(N83:U83)","v":8},true,{"$f":"IF(VLOOKUP(D83,'Zvláštní zpráva'!$E$6:$H$112,4,FALSE)=\"zvyšte skóre\",\"ISO 9001\",\"\")","v":""},{"$f":"IF(VLOOKUP(D83,'Zvláštní zpráva'!$E$116:$H$222,4,FALSE)=\"zvyšte skóre\",\"ISO 14001\",\"\")","v":""},{"$f":"IF(VLOOKUP(D83,'Zvláštní zpráva'!$E$226:$H$332,4,FALSE)=\"zvyšte skóre\",\"ISO 26000\",\"\")","v":""},{"$f":"IF(VLOOKUP(D83,'Zvláštní zpráva'!$E$336:$H$552,4,FALSE)=\"zvyšte skóre\",\"ISO 45001\",\"\")","v":""},{"$f":"IF(VLOOKUP(D83,'Zvláštní zpráva'!$E$556:$H$662,4,FALSE)=\"zvyšte skóre\",\"EMAS\",\"\")","v":""},{"$f":"IF(VLOOKUP(D83,'Zvláštní zpráva'!$E$666:$H$772,4,FALSE)=\"zvyšte skóre\",\"RC14001\",\"\")","v":""},{"$f":"IF(VLOOKUP(D83,'Zvláštní zpráva'!$E$776:$H$882,4,FALSE)=\"zvyšte skóre\",\"RCMS\",\"\")","v":""}]
[null,null,null,null,"Vaše skóre ",null,{"$f":"VLOOKUP(D83,'Technický list'!$B$124:$C$168,2,FALSE)","v":4},null,null,null,null,null,null,{"$f":"CONCATENATE(G84,\" = \",HLOOKUP(\" \",'Kapitola 2'!D23:E28,Tipy!G84+2))","v":"4 = Program BOZP se na základě jeho účinnosti pravidelně vyhodnocuje (např. třetí stranou, prostřednictvím ukazatelů výkonnosti) a přijímají se pravidelné opatření s cílem seznámit zaměstnance a dodavatele o rizicích a příležitostech a umožnit jim účastnit se programu. Výsledkem analýz údajů jsou prediktivní poznatky."}]
[null,null,null,null,"Pokuste se zlepšit ",null,{"$f":"VLOOKUP(CONCATENATE(D83,$M$3),'Technický list'!$BG$124:$BI$303,3,FALSE)","v":"Není třeba okamžitě měnit strategii, nicméně vždy hledejte zlepšení."}]
[null,null,null,null,null,null,null,null,null,null,null,null,null,{"$f":"IF(L87=8,\"\",\"zvyšte skóre pro:\")","v":"zvyšte skóre pro:"}]
[null,null,{"$f":"IF(VLOOKUP(D87,'Technický list'!$AO$124:$AQ$168,3,0)=\"OK\",\"\",\"hlavní věci\")","v":""},{"$f":"'Kapitola 2'!C30","v":"Q2.5"},{"$f":"'Kapitola 2'!D30","v":"Jakým způsobem probíhá údržba a udržování pořádku s cílem zajistit bezpečnost provozů, zařízení, nástrojů a (bezpečnostních) pomůcek?"},null,null,null,null,null,null,{"$f":"COUNTBLANK(N87:U87)","v":7},true,{"$f":"IF(VLOOKUP(D87,'Zvláštní zpráva'!$E$6:$H$112,4,FALSE)=\"zvyšte skóre\",\"ISO 9001\",\"\")","v":""},{"$f":"IF(VLOOKUP(D87,'Zvláštní zpráva'!$E$116:$H$222,4,FALSE)=\"zvyšte skóre\",\"ISO 14001\",\"\")","v":""},{"$f":"IF(VLOOKUP(D87,'Zvláštní zpráva'!$E$226:$H$332,4,FALSE)=\"zvyšte skóre\",\"ISO 26000\",\"\")","v":""},{"$f":"IF(VLOOKUP(D87,'Zvláštní zpráva'!$E$336:$H$552,4,FALSE)=\"zvyšte skóre\",\"ISO 45001\",\"\")","v":"ISO 45001"},{"$f":"IF(VLOOKUP(D87,'Zvláštní zpráva'!$E$556:$H$662,4,FALSE)=\"zvyšte skóre\",\"EMAS\",\"\")","v":""},{"$f":"IF(VLOOKUP(D87,'Zvláštní zpráva'!$E$666:$H$772,4,FALSE)=\"zvyšte skóre\",\"RC14001\",\"\")","v":""},{"$f":"IF(VLOOKUP(D87,'Zvláštní zpráva'!$E$776:$H$882,4,FALSE)=\"zvyšte skóre\",\"RCMS\",\"\")","v":""}]
[null,null,null,null,"Vaše skóre ",null,{"$f":"VLOOKUP(D87,'Technický list'!$B$124:$C$168,2,FALSE)","v":2},null,null,null,null,null,null,{"$f":"CONCATENATE(G88,\" = \",HLOOKUP(\" \",'Kapitola 2'!D29:E34,Tipy!G88+2))","v":"2 = Existuje a je naplňována strategie/plán proaktivní údržby."}]
[null,null,null,null,"Pokuste se zlepšit ",null,{"$f":"VLOOKUP(CONCATENATE(D87,$M$3),'Technický list'!$BG$124:$BI$303,3,FALSE)","v":"Pravidelně vyhodnocovat účinnost programu údržby, měřit úspěch a zlepšovat plány údržby."}]
[null,null,null,null,null,null,null,null,null,null,null,null,null,{"$f":"IF(L91=8,\"\",\"zvyšte skóre pro:\")","v":""}]
[null,null,{"$f":"IF(VLOOKUP(D91,'Technický list'!$AO$124:$AQ$168,3,0)=\"OK\",\"\",\"hlavní věci\")","v":""},{"$f":"'Kapitola 2'!C36","v":"Q2.6"},{"$f":"'Kapitola 2'!D36","v":"Jak se ověřuje správný výběr, údržba a používání zdravotního a bezpečnostního vybavení (např. osobních ochranných prostředků = OOPP)?"},null,null,null,null,null,null,{"$f":"COUNTBLANK(N91:U91)","v":8},true,{"$f":"IF(VLOOKUP(D91,'Zvláštní zpráva'!$E$6:$H$112,4,FALSE)=\"zvyšte skóre\",\"ISO 9001\",\"\")","v":""},{"$f":"IF(VLOOKUP(D91,'Zvláštní zpráva'!$E$116:$H$222,4,FALSE)=\"zvyšte skóre\",\"ISO 14001\",\"\")","v":""},{"$f":"IF(VLOOKUP(D91,'Zvláštní zpráva'!$E$226:$H$332,4,FALSE)=\"zvyšte skóre\",\"ISO 26000\",\"\")","v":""},{"$f":"IF(VLOOKUP(D91,'Zvláštní zpráva'!$E$336:$H$552,4,FALSE)=\"zvyšte skóre\",\"ISO 45001\",\"\")","v":""},{"$f":"IF(VLOOKUP(D91,'Zvláštní zpráva'!$E$556:$H$662,4,FALSE)=\"zvyšte skóre\",\"EMAS\",\"\")","v":""},{"$f":"IF(VLOOKUP(D91,'Zvláštní zpráva'!$E$666:$H$772,4,FALSE)=\"zvyšte skóre\",\"RC14001\",\"\")","v":""},{"$f":"IF(VLOOKUP(D91,'Zvláštní zpráva'!$E$776:$H$882,4,FALSE)=\"zvyšte skóre\",\"RCMS\",\"\")","v":""}]
[null,null,null,null,"Vaše skóre ",null,{"$f":"VLOOKUP(D91,'Technický list'!$B$124:$C$168,2,FALSE)","v":3},null,null,null,null,null,null,{"$f":"CONCATENATE(G92,\" = \",HLOOKUP(\" \",'Kapitola 2'!D35:E40,Tipy!G92+2))","v":"3 = Zaměstnanci jsou vyškoleni, aby věděli a pochopili, kdy a jaké OOPP se vyžadují a aby prováděly hodnocení OOPP. Zaměstnanci jsou si vědomi důsledků nepoužívání OOPP. Užívání správných OOPP zahrnuje všechny úrovně organizace."}]
[null,null,null,null,"Pokuste se zlepšit ",null,{"$f":"VLOOKUP(CONCATENATE(D91,$M$3),'Technický list'!$BG$124:$BI$303,3,FALSE)","v":"Upozorněte zaměstnance, že mohou používat „oprávnění k zastavení práce“, pokud je osobní ochranné vybavení považováno za neúčinné."}]
[null,null,null,null,null,null,null,null,null,null,null,null,null,{"$f":"IF(L95=8,\"\",\"zvyšte skóre pro:\")","v":"zvyšte skóre pro:"}]
[null,null,{"$f":"IF(VLOOKUP(D95,'Technický list'!$AO$124:$AQ$168,3,0)=\"OK\",\"\",\"hlavní věci\")","v":""},{"$f":"'Kapitola 2'!C42","v":"Q2.7"},{"$f":"'Kapitola 2'!D42","v":"Jak se organizace stará o stres a tělesné a duševní zdraví zaměstnanců?"},null,null,null,null,null,null,{"$f":"COUNTBLANK(N95:U95)","v":5},true,{"$f":"IF(VLOOKUP(D95,'Zvláštní zpráva'!$E$6:$H$112,4,FALSE)=\"zvyšte skóre\",\"ISO 9001\",\"\")","v":""},{"$f":"IF(VLOOKUP(D95,'Zvláštní zpráva'!$E$116:$H$222,4,FALSE)=\"zvyšte skóre\",\"ISO 14001\",\"\")","v":""},{"$f":"IF(VLOOKUP(D95,'Zvláštní zpráva'!$E$226:$H$332,4,FALSE)=\"zvyšte skóre\",\"ISO 26000\",\"\")","v":"ISO 26000"},{"$f":"IF(VLOOKUP(D95,'Zvláštní zpráva'!$E$336:$H$552,4,FALSE)=\"zvyšte skóre\",\"ISO 45001\",\"\")","v":"ISO 45001"},{"$f":"IF(VLOOKUP(D95,'Zvláštní zpráva'!$E$556:$H$662,4,FALSE)=\"zvyšte skóre\",\"EMAS\",\"\")","v":""},{"$f":"IF(VLOOKUP(D95,'Zvláštní zpráva'!$E$666:$H$772,4,FALSE)=\"zvyšte skóre\",\"RC14001\",\"\")","v":"RC14001"},{"$f":"IF(VLOOKUP(D95,'Zvláštní zpráva'!$E$776:$H$882,4,FALSE)=\"zvyšte skóre\",\"RCMS\",\"\")","v":""}]
[null,null,null,null,"Vaše skóre ",null,{"$f":"VLOOKUP(D95,'Technický list'!$B$124:$C$168,2,FALSE)","v":2},null,null,null,null,null,null,{"$f":"CONCATENATE(G96,\" = \",HLOOKUP(\" \",'Kapitola 2'!D41:E46,Tipy!G96+2))","v":"2 = Organizace podporuje vhodnou rovnováhu mezi pracovním a soukromým životem.\nPracovníci mohou podávat návrhy a organizace jejich návrhy řeší.\nJe využíván systém posuzování ergonomických aspektů pracovišť."}]
[null,null,null,null,"Pokuste se zlepšit ",null,{"$f":"VLOOKUP(CONCATENATE(D95,$M$3),'Technický list'!$BG$124:$BI$303,3,FALSE)","v":"Zavést postup pro registraci návrhů pracovníků a sledovat změny použité k jejich řešení.\nVyškolte personál k vhodnému ergonomickému používání zařízení.\nPomocí anonymního průzkumu změřte vnímání zaměstnanců ohledně rovnováhy mezi pracovním a soukromým životem."}]
[null,null,null,null,null,null,null,null,null,null,null,null,null,{"$f":"IF(L99=8,\"\",\"zvyšte skóre pro:\")","v":"zvyšte skóre pro:"}]
[null,null,{"$f":"IF(VLOOKUP(D99,'Technický list'!$AO$124:$AQ$168,3,0)=\"OK\",\"\",\"hlavní věci\")","v":""},{"$f":"'Kapitola 2'!C48","v":"Q2.8"},{"$f":"'Kapitola 2'!D48","v":"Jakým způsobem se vyšetřují onemocnění, zranění, incidenty a potenciálně nebezpečné situace na pracovišti?"},null,null,null,null,null,null,{"$f":"COUNTBLANK(N99:U99)","v":7},true,{"$f":"IF(VLOOKUP(D99,'Zvláštní zpráva'!$E$6:$H$112,4,FALSE)=\"zvyšte skóre\",\"ISO 9001\",\"\")","v":""},{"$f":"IF(VLOOKUP(D99,'Zvláštní zpráva'!$E$116:$H$222,4,FALSE)=\"zvyšte skóre\",\"ISO 14001\",\"\")","v":""},{"$f":"IF(VLOOKUP(D99,'Zvláštní zpráva'!$E$226:$H$332,4,FALSE)=\"zvyšte skóre\",\"ISO 26000\",\"\")","v":""},{"$f":"IF(VLOOKUP(D99,'Zvláštní zpráva'!$E$336:$H$552,4,FALSE)=\"zvyšte skóre\",\"ISO 45001\",\"\")","v":""},{"$f":"IF(VLOOKUP(D99,'Zvláštní zpráva'!$E$556:$H$662,4,FALSE)=\"zvyšte skóre\",\"EMAS\",\"\")","v":""},{"$f":"IF(VLOOKUP(D99,'Zvláštní zpráva'!$E$666:$H$772,4,FALSE)=\"zvyšte skóre\",\"RC14001\",\"\")","v":"RC14001"},{"$f":"IF(VLOOKUP(D99,'Zvláštní zpráva'!$E$776:$H$882,4,FALSE)=\"zvyšte skóre\",\"RCMS\",\"\")","v":""}]
[null,null,null,null,"Vaše skóre ",null,{"$f":"VLOOKUP(D99,'Technický list'!$B$124:$C$168,2,FALSE)","v":3},null,null,null,null,null,null,{"$f":"CONCATENATE(G100,\" = \",HLOOKUP(\" \",'Kapitola 2'!D47:E52,Tipy!G100+2))","v":"3 = Organizace podniká vhodná nápravná opatření s cílem zabránit jejich opakování."}]
[null,null,null,null,"Pokuste se zlepšit ",null,{"$f":"VLOOKUP(CONCATENATE(D99,$M$3),'Technický list'!$BG$124:$BI$303,3,FALSE)","v":"Sdílení klíčových zjištění a souvisejících nápravných opatření s příslušnými zúčastněnými stranami."}]
[null,null,null,null,null,null,null,null,null,null,null,null,null,{"$f":"IF(L103=8,\"\",\"zvyšte skóre pro:\")","v":""}]
[null,null,{"$f":"IF(VLOOKUP(D103,'Technický list'!$AO$124:$AQ$168,3,0)=\"OK\",\"\",\"hlavní věci\")","v":""},{"$f":"'Kapitola 2'!C54","v":"Q2.9"},{"$f":"'Kapitola 2'!D54","v":"Jak je organizace připravena na mimořádné události?"},null,null,null,null,null,null,{"$f":"COUNTBLANK(N103:U103)","v":8},true,{"$f":"IF(VLOOKUP(D103,'Zvláštní zpráva'!$E$6:$H$112,4,FALSE)=\"zvyšte skóre\",\"ISO 9001\",\"\")","v":""},{"$f":"IF(VLOOKUP(D103,'Zvláštní zpráva'!$E$116:$H$222,4,FALSE)=\"zvyšte skóre\",\"ISO 14001\",\"\")","v":""},{"$f":"IF(VLOOKUP(D103,'Zvláštní zpráva'!$E$226:$H$332,4,FALSE)=\"zvyšte skóre\",\"ISO 26000\",\"\")","v":""},{"$f":"IF(VLOOKUP(D103,'Zvláštní zpráva'!$E$336:$H$552,4,FALSE)=\"zvyšte skóre\",\"ISO 45001\",\"\")","v":""},{"$f":"IF(VLOOKUP(D103,'Zvláštní zpráva'!$E$556:$H$662,4,FALSE)=\"zvyšte skóre\",\"EMAS\",\"\")","v":""},{"$f":"IF(VLOOKUP(D103,'Zvláštní zpráva'!$E$666:$H$772,4,FALSE)=\"zvyšte skóre\",\"RC14001\",\"\")","v":""},{"$f":"IF(VLOOKUP(D103,'Zvláštní zpráva'!$E$776:$H$882,4,FALSE)=\"zvyšte skóre\",\"RCMS\",\"\")","v":""}]
[null,null,null,null,"Vaše skóre ",null,{"$f":"VLOOKUP(D103,'Technický list'!$B$124:$C$168,2,FALSE)","v":4},null,null,null,null,null,null,{"$f":"CONCATENATE(G104,\" = \",HLOOKUP(\" \",'Kapitola 2'!D53:E58,Tipy!G104+2))","v":"4 = Organizace úzce spolupracuje a zapojuje pracovníky externích záchranných složek, hasičské sbory atd. Pracovníci externích záchranných složek mají přístup k havarijnímu plánu provozu."}]
[null,null,null,null,"Pokuste se zlepšit ",null,{"$f":"VLOOKUP(CONCATENATE(D103,$M$3),'Technický list'!$BG$124:$BI$303,3,FALSE)","v":"Není třeba okamžitě měnit strategii, nicméně vždy hledejte zlepšení."}]
[null,null,null,null,null,null,null,null,null,null,null,null,null,{"$f":"IF(L107=8,\"\",\"zvyšte skóre pro:\")","v":""}]
[null,null,{"$f":"IF(VLOOKUP(D107,'Technický list'!$AO$124:$AQ$168,3,0)=\"OK\",\"\",\"hlavní věci\")","v":""},{"$f":"'Kapitola 2'!C60","v":"Q2.10"},{"$f":"'Kapitola 2'!D60","v":"Jakým způsobem zajišťuje organizace správně kompetence všech pracovníků, týkající se požadavků BOZP, které souvisí s jejich pracovní náplní?"},null,null,null,null,null,null,{"$f":"COUNTBLANK(N107:U107)","v":8},true,{"$f":"IF(VLOOKUP(D107,'Zvláštní zpráva'!$E$6:$H$112,4,FALSE)=\"zvyšte skóre\",\"ISO 9001\",\"\")","v":""},{"$f":"IF(VLOOKUP(D107,'Zvláštní zpráva'!$E$116:$H$222,4,FALSE)=\"zvyšte skóre\",\"ISO 14001\",\"\")","v":""},{"$f":"IF(VLOOKUP(D107,'Zvláštní zpráva'!$E$226:$H$332,4,FALSE)=\"zvyšte skóre\",\"ISO 26000\",\"\")","v":""},{"$f":"IF(VLOOKUP(D107,'Zvláštní zpráva'!$E$336:$H$552,4,FALSE)=\"zvyšte skóre\",\"ISO 45001\",\"\")","v":""},{"$f":"IF(VLOOKUP(D107,'Zvláštní zpráva'!$E$556:$H$662,4,FALSE)=\"zvyšte skóre\",\"EMAS\",\"\")","v":""},{"$f":"IF(VLOOKUP(D107,'Zvláštní zpráva'!$E$666:$H$772,4,FALSE)=\"zvyšte skóre\",\"RC14001\",\"\")","v":""},{"$f":"IF(VLOOKUP(D107,'Zvláštní zpráva'!$E$776:$H$882,4,FALSE)=\"zvyšte skóre\",\"RCMS\",\"\")","v":""}]
[null,null,null,null,"Vaše skóre ",null,{"$f":"VLOOKUP(D107,'Technický list'!$B$124:$C$168,2,FALSE)","v":3},null,null,null,null,null,null,{"$f":"CONCATENATE(G108,\" = \",HLOOKUP(\" \",'Kapitola 2'!D59:E64,Tipy!G108+2))","v":"3 = Zaměstnanci organizace se podílejí na hodnocení pracovních rizik. Zásady bezpečnosti a ochrany zdraví v organizaci se pravidelně posuzují a přizpůsobují výsledkem diskusí v rámci pracovních skupin. Prověřuje se úroveň kompetence dodavatelů v oblasti BOZP a organizují se školení."}]
[null,null,null,null,"Pokuste se zlepšit ",null,{"$f":"VLOOKUP(CONCATENATE(D107,$M$3),'Technický list'!$BG$124:$BI$303,3,FALSE)","v":"Vyhodnoťte účinnost komunikace a školení pro všechny pracovníky."}]
[null,{"$f":"'Kapitola 2'!B66","v":"Procesní bezpečnost"},null,null,null,null,null,null,null,null,null,null,null,{"$f":"IF(L111=8,\"\",\"zvyšte skóre pro:\")","v":""}]
[null,null,{"$f":"IF(VLOOKUP(D111,'Technický list'!$AO$124:$AQ$168,3,0)=\"OK\",\"\",\"hlavní věci\")","v":""},{"$f":"'Kapitola 2'!C68","v":"Q2.11"},{"$f":"'Kapitola 2'!D68","v":"Jakým způsobem se vedení staví k procesní bezpečnosti?\n\n"},null,null,null,null,null,null,{"$f":"COUNTBLANK(N111:U111)","v":8},true,{"$f":"IF(VLOOKUP(D111,'Zvláštní zpráva'!$E$6:$H$112,4,FALSE)=\"zvyšte skóre\",\"ISO 9001\",\"\")","v":""},{"$f":"IF(VLOOKUP(D111,'Zvláštní zpráva'!$E$116:$H$222,4,FALSE)=\"zvyšte skóre\",\"ISO 14001\",\"\")","v":""},{"$f":"IF(VLOOKUP(D111,'Zvláštní zpráva'!$E$226:$H$332,4,FALSE)=\"zvyšte skóre\",\"ISO 26000\",\"\")","v":""},{"$f":"IF(VLOOKUP(D111,'Zvláštní zpráva'!$E$336:$H$552,4,FALSE)=\"zvyšte skóre\",\"ISO 45001\",\"\")","v":""},{"$f":"IF(VLOOKUP(D111,'Zvláštní zpráva'!$E$556:$H$662,4,FALSE)=\"zvyšte skóre\",\"EMAS\",\"\")","v":""},{"$f":"IF(VLOOKUP(D111,'Zvláštní zpráva'!$E$666:$H$772,4,FALSE)=\"zvyšte skóre\",\"RC14001\",\"\")","v":""},{"$f":"IF(VLOOKUP(D111,'Zvláštní zpráva'!$E$776:$H$882,4,FALSE)=\"zvyšte skóre\",\"RCMS\",\"\")","v":""}]
[null,null,null,null,"Vaše skóre ",null,{"$f":"VLOOKUP(D111,'Technický list'!$B$124:$C$168,2,FALSE)","v":3},null,null,null,null,null,null,{"$f":"CONCATENATE(G112,\" = \",HLOOKUP(\" \",'Kapitola 2'!D67:E72,Tipy!G112+2))","v":"3 = Pro všechny úrovně v organizaci byly stanoveny jasné odpovědnosti s cílem zabránit nehodám a uplatňovat zásady společnosti. Zaměstnancům, kteří se podílejí na procesní bezpečnosti, byly přiděleny jasné cíle s cílem přispívat k výkonu, a to na základě úrovně jejich odpovědnosti."}]
[null,null,null,null,"Pokuste se zlepšit ",null,{"$f":"VLOOKUP(CONCATENATE(D111,$M$3),'Technický list'!$BG$124:$BI$303,3,FALSE)","v":"Zapojte zaměstnance do vývoje politiky."}]
[null,null,null,null,null,null,null,null,null,null,null,null,null,{"$f":"IF(L115=8,\"\",\"zvyšte skóre pro:\")","v":""}]
[null,null,{"$f":"IF(VLOOKUP(D115,'Technický list'!$AO$124:$AQ$168,3,0)=\"OK\",\"\",\"hlavní věci\")","v":""},{"$f":"'Kapitola 2'!C74","v":"Q2.12"},{"$f":"'Kapitola 2'!D74","v":"Jakým způsobem je vypracována identifikace a popis bezpečnosti procesů, zařízení a pracovišť organizace?"},null,null,null,null,null,null,{"$f":"COUNTBLANK(N115:U115)","v":8},true,{"$f":"IF(VLOOKUP(D115,'Zvláštní zpráva'!$E$6:$H$112,4,FALSE)=\"zvyšte skóre\",\"ISO 9001\",\"\")","v":""},{"$f":"IF(VLOOKUP(D115,'Zvláštní zpráva'!$E$116:$H$222,4,FALSE)=\"zvyšte skóre\",\"ISO 14001\",\"\")","v":""},{"$f":"IF(VLOOKUP(D115,'Zvláštní zpráva'!$E$226:$H$332,4,FALSE)=\"zvyšte skóre\",\"ISO 26000\",\"\")","v":""},{"$f":"IF(VLOOKUP(D115,'Zvláštní zpráva'!$E$336:$H$552,4,FALSE)=\"zvyšte skóre\",\"ISO 45001\",\"\")","v":""},{"$f":"IF(VLOOKUP(D115,'Zvláštní zpráva'!$E$556:$H$662,4,FALSE)=\"zvyšte skóre\",\"EMAS\",\"\")","v":""},{"$f":"IF(VLOOKUP(D115,'Zvláštní zpráva'!$E$666:$H$772,4,FALSE)=\"zvyšte skóre\",\"RC14001\",\"\")","v":""},{"$f":"IF(VLOOKUP(D115,'Zvláštní zpráva'!$E$776:$H$882,4,FALSE)=\"zvyšte skóre\",\"RCMS\",\"\")","v":""}]
[null,null,null,null,"Vaše skóre ",null,{"$f":"VLOOKUP(D115,'Technický list'!$B$124:$C$168,2,FALSE)","v":4},null,null,null,null,null,null,{"$f":"CONCATENATE(G116,\" = \",HLOOKUP(\" \",'Kapitola 2'!D73:E78,Tipy!G116+2))","v":"4 = Provádí se kvantitativní hodnocení rizik, které zahrnuje následující aspekty pro každý z identifikovaných havarijních scénářů: \no Účinky nebezpečných jevů na veřejné zdraví a bezpečnost a jejich intenzita (rozsah závažnosti) \no Pravděpodobnost výskytu (stupnice pravděpodobnosti) a následné stanovení míry rizika nebo kritičnosti (spojení závažnosti a pravděpodobnosti)."}]
[null,null,null,null,"Pokuste se zlepšit ",null,{"$f":"VLOOKUP(CONCATENATE(D115,$M$3),'Technický list'!$BG$124:$BI$303,3,FALSE)","v":"Není třeba okamžitě měnit strategii, vždy se však snažte o zlepšení."}]
[null,null,null,null,null,null,null,null,null,null,null,null,null,{"$f":"IF(L119=8,\"\",\"zvyšte skóre pro:\")","v":""}]
[null,null,{"$f":"IF(VLOOKUP(D119,'Technický list'!$AO$124:$AQ$168,3,0)=\"OK\",\"\",\"hlavní věci\")","v":""},{"$f":"'Kapitola 2'!C80","v":"Q2.13"},{"$f":"'Kapitola 2'!D80","v":"Jakým způsobem se zlepšuje procesní bezpečnost po nehodách a incidentech?"},null,null,null,null,null,null,{"$f":"COUNTBLANK(N119:U119)","v":8},true,{"$f":"IF(VLOOKUP(D119,'Zvláštní zpráva'!$E$6:$H$112,4,FALSE)=\"zvyšte skóre\",\"ISO 9001\",\"\")","v":""},{"$f":"IF(VLOOKUP(D119,'Zvláštní zpráva'!$E$116:$H$222,4,FALSE)=\"zvyšte skóre\",\"ISO 14001\",\"\")","v":""},{"$f":"IF(VLOOKUP(D119,'Zvláštní zpráva'!$E$226:$H$332,4,FALSE)=\"zvyšte skóre\",\"ISO 26000\",\"\")","v":""},{"$f":"IF(VLOOKUP(D119,'Zvláštní zpráva'!$E$336:$H$552,4,FALSE)=\"zvyšte skóre\",\"ISO 45001\",\"\")","v":""},{"$f":"IF(VLOOKUP(D119,'Zvláštní zpráva'!$E$556:$H$662,4,FALSE)=\"zvyšte skóre\",\"EMAS\",\"\")","v":""},{"$f":"IF(VLOOKUP(D119,'Zvláštní zpráva'!$E$666:$H$772,4,FALSE)=\"zvyšte skóre\",\"RC14001\",\"\")","v":""},{"$f":"IF(VLOOKUP(D119,'Zvláštní zpráva'!$E$776:$H$882,4,FALSE)=\"zvyšte skóre\",\"RCMS\",\"\")","v":""}]
[null,null,null,null,"Vaše skóre ",null,{"$f":"VLOOKUP(D119,'Technický list'!$B$124:$C$168,2,FALSE)","v":3},null,null,null,null,null,null,{"$f":"CONCATENATE(G120,\" = \",HLOOKUP(\" \",'Kapitola 2'!D79:E84,Tipy!G120+2))","v":"3 = Jsou definována kritéria pro členy týmu vyšetřujícího nehody včetně požadavků na koordinátora a časového rámce pro vypracování závěrů"}]
[null,null,null,null,"Pokuste se zlepšit ",null,{"$f":"VLOOKUP(CONCATENATE(D119,$M$3),'Technický list'!$BG$124:$BI$303,3,FALSE)","v":"Nehody jsou používány jako zkušenost v učení a sdíleny.\nV případě potřeby zavést osvědčené postupy nápravných opatření jako preventivní opatření."}]
[null,null,null,null,null,null,null,null,null,null,null,null,null,{"$f":"IF(L123=8,\"\",\"zvyšte skóre pro:\")","v":""}]
[null,null,{"$f":"IF(VLOOKUP(D123,'Technický list'!$AO$124:$AQ$168,3,0)=\"OK\",\"\",\"hlavní věci\")","v":""},{"$f":"'Kapitola 2'!C86","v":"Q2.14"},{"$f":"'Kapitola 2'!D86","v":"Jakým způsobem se provádějí audity a inspekce procesní bezpečnosti?"},null,null,null,null,null,null,{"$f":"COUNTBLANK(N123:U123)","v":8},true,{"$f":"IF(VLOOKUP(D123,'Zvláštní zpráva'!$E$6:$H$112,4,FALSE)=\"zvyšte skóre\",\"ISO 9001\",\"\")","v":""},{"$f":"IF(VLOOKUP(D123,'Zvláštní zpráva'!$E$116:$H$222,4,FALSE)=\"zvyšte skóre\",\"ISO 14001\",\"\")","v":""},{"$f":"IF(VLOOKUP(D123,'Zvláštní zpráva'!$E$226:$H$332,4,FALSE)=\"zvyšte skóre\",\"ISO 26000\",\"\")","v":""},{"$f":"IF(VLOOKUP(D123,'Zvláštní zpráva'!$E$336:$H$552,4,FALSE)=\"zvyšte skóre\",\"ISO 45001\",\"\")","v":""},{"$f":"IF(VLOOKUP(D123,'Zvláštní zpráva'!$E$556:$H$662,4,FALSE)=\"zvyšte skóre\",\"EMAS\",\"\")","v":""},{"$f":"IF(VLOOKUP(D123,'Zvláštní zpráva'!$E$666:$H$772,4,FALSE)=\"zvyšte skóre\",\"RC14001\",\"\")","v":""},{"$f":"IF(VLOOKUP(D123,'Zvláštní zpráva'!$E$776:$H$882,4,FALSE)=\"zvyšte skóre\",\"RCMS\",\"\")","v":""}]
[null,null,null,null,"Vaše skóre ",null,{"$f":"VLOOKUP(D123,'Technický list'!$B$124:$C$168,2,FALSE)","v":1},null,null,null,null,null,null,{"$f":"CONCATENATE(G124,\" = \",HLOOKUP(\" \",'Kapitola 2'!D85:E90,Tipy!G124+2))","v":"1 = Je zaveden systém auditů, který zahrnuje procesní bezpečnost zařízení a příslušnou dokumentaci."}]
[null,null,null,null,"Pokuste se zlepšit ",null,{"$f":"VLOOKUP(CONCATENATE(D123,$M$3),'Technický list'!$BG$124:$BI$303,3,FALSE)","v":"Stanovte kritéria, systém a periodicitu kontroly pro posouzení bezpečnosti procesu a realizace cílů.\nIntegrujte do řízení revizi výsledků auditu a hodnocení směrem k cílům každého oddělení nebo společnosti.\nZačlenit revizi výsledků auditu a hodnocení směrem k cílům v přezkumu řízení.\nIdentifikujte ukazatele pro ověření účinnosti systému."}]
[null,null,null,null,null,null,null,null,null,null,null,null,null,{"$f":"IF(L127=8,\"\",\"zvyšte skóre pro:\")","v":""}]
[null,null,{"$f":"IF(VLOOKUP(D127,'Technický list'!$AO$124:$AQ$168,3,0)=\"OK\",\"\",\"hlavní věci\")","v":""},{"$f":"'Kapitola 2'!C92","v":"Q2.15"},{"$f":"'Kapitola 2'!D92","v":"Jakým způsobem se prověřují a zlepšují pracovní pokyny?"},null,null,null,null,null,null,{"$f":"COUNTBLANK(N127:U127)","v":8},true,{"$f":"IF(VLOOKUP(D127,'Zvláštní zpráva'!$E$6:$H$112,4,FALSE)=\"zvyšte skóre\",\"ISO 9001\",\"\")","v":""},{"$f":"IF(VLOOKUP(D127,'Zvláštní zpráva'!$E$116:$H$222,4,FALSE)=\"zvyšte skóre\",\"ISO 14001\",\"\")","v":""},{"$f":"IF(VLOOKUP(D127,'Zvláštní zpráva'!$E$226:$H$332,4,FALSE)=\"zvyšte skóre\",\"ISO 26000\",\"\")","v":""},{"$f":"IF(VLOOKUP(D127,'Zvláštní zpráva'!$E$336:$H$552,4,FALSE)=\"zvyšte skóre\",\"ISO 45001\",\"\")","v":""},{"$f":"IF(VLOOKUP(D127,'Zvláštní zpráva'!$E$556:$H$662,4,FALSE)=\"zvyšte skóre\",\"EMAS\",\"\")","v":""},{"$f":"IF(VLOOKUP(D127,'Zvláštní zpráva'!$E$666:$H$772,4,FALSE)=\"zvyšte skóre\",\"RC14001\",\"\")","v":""},{"$f":"IF(VLOOKUP(D127,'Zvláštní zpráva'!$E$776:$H$882,4,FALSE)=\"zvyšte skóre\",\"RCMS\",\"\")","v":""}]
[null,null,null,null,"Vaše skóre ",null,{"$f":"VLOOKUP(D127,'Technický list'!$B$124:$C$168,2,FALSE)","v":3},null,null,null,null,null,null,{"$f":"CONCATENATE(G128,\" = \",HLOOKUP(\" \",'Kapitola 2'!D91:E96,Tipy!G128+2))","v":"3 = Zaměstnanci mohou v rámci stanoveného systému navrhovat zlepšení a poskytovat svou zpětnou vazbu týkající se problémů nebo incidentů, s nimiž se setkali při provádění pracovních úkolů."}]
[null,null,null,null,"Pokuste se zlepšit ",null,{"$f":"VLOOKUP(CONCATENATE(D127,$M$3),'Technický list'!$BG$124:$BI$303,3,FALSE)","v":"Vyhodnoťte a definujte minimální počet zaměstnanců.\nJsou zavedeny procesy pro bezpečný provoz (nebo odstavení) v případě, že nelze zajistit minimální počet zaměstnanců (např. Nemoci, stávky ...)."}]
[null,null,null,null,null,null,null,null,null,null,null,null,null,{"$f":"IF(L131=8,\"\",\"zvyšte skóre pro:\")","v":""}]
[null,null,{"$f":"IF(VLOOKUP(D131,'Technický list'!$AO$124:$AQ$168,3,0)=\"OK\",\"\",\"hlavní věci\")","v":""},{"$f":"'Kapitola 2'!C98","v":"Q2.16"},{"$f":"'Kapitola 2'!D98","v":"Jak je navrhována a dokumnetována instalace nových zařízení?"},null,null,null,null,null,null,{"$f":"COUNTBLANK(N131:U131)","v":8},true,{"$f":"IF(VLOOKUP(D131,'Zvláštní zpráva'!$E$6:$H$112,4,FALSE)=\"zvyšte skóre\",\"ISO 9001\",\"\")","v":""},{"$f":"IF(VLOOKUP(D131,'Zvláštní zpráva'!$E$116:$H$222,4,FALSE)=\"zvyšte skóre\",\"ISO 14001\",\"\")","v":""},{"$f":"IF(VLOOKUP(D131,'Zvláštní zpráva'!$E$226:$H$332,4,FALSE)=\"zvyšte skóre\",\"ISO 26000\",\"\")","v":""},{"$f":"IF(VLOOKUP(D131,'Zvláštní zpráva'!$E$336:$H$552,4,FALSE)=\"zvyšte skóre\",\"ISO 45001\",\"\")","v":""},{"$f":"IF(VLOOKUP(D131,'Zvláštní zpráva'!$E$556:$H$662,4,FALSE)=\"zvyšte skóre\",\"EMAS\",\"\")","v":""},{"$f":"IF(VLOOKUP(D131,'Zvláštní zpráva'!$E$666:$H$772,4,FALSE)=\"zvyšte skóre\",\"RC14001\",\"\")","v":""},{"$f":"IF(VLOOKUP(D131,'Zvláštní zpráva'!$E$776:$H$882,4,FALSE)=\"zvyšte skóre\",\"RCMS\",\"\")","v":""}]
[null,null,null,null,"Vaše skóre ",null,{"$f":"VLOOKUP(D131,'Technický list'!$B$124:$C$168,2,FALSE)","v":4},null,null,null,null,null,null,{"$f":"CONCATENATE(G132,\" = \",HLOOKUP(\" \",'Kapitola 2'!D97:E102,Tipy!G132+2))","v":"4 = Instalace je navržena tak, aby i selhání vyústilo do bezpečné situace."}]
[null,null,null,null,"Pokuste se zlepšit ",null,{"$f":"VLOOKUP(CONCATENATE(D131,$M$3),'Technický list'!$BG$124:$BI$303,3,FALSE)","v":"Není třeba okamžitě měnit strategii, vždy se však snažte zlepšit."}]
[null,null,null,null,null,null,null,null,null,null,null,null,null,{"$f":"IF(L135=8,\"\",\"zvyšte skóre pro:\")","v":""}]
[null,null,{"$f":"IF(VLOOKUP(D135,'Technický list'!$AO$124:$AQ$168,3,0)=\"OK\",\"\",\"hlavní věci\")","v":""},{"$f":"'Kapitola 2'!C104","v":"Q2.17"},{"$f":"'Kapitola 2'!D104","v":"Jakým způsobem probíhá kontrola zřizování instalace?"},null,null,null,null,null,null,{"$f":"COUNTBLANK(N135:U135)","v":8},true,{"$f":"IF(VLOOKUP(D135,'Zvláštní zpráva'!$E$6:$H$112,4,FALSE)=\"zvyšte skóre\",\"ISO 9001\",\"\")","v":""},{"$f":"IF(VLOOKUP(D135,'Zvláštní zpráva'!$E$116:$H$222,4,FALSE)=\"zvyšte skóre\",\"ISO 14001\",\"\")","v":""},{"$f":"IF(VLOOKUP(D135,'Zvláštní zpráva'!$E$226:$H$332,4,FALSE)=\"zvyšte skóre\",\"ISO 26000\",\"\")","v":""},{"$f":"IF(VLOOKUP(D135,'Zvláštní zpráva'!$E$336:$H$552,4,FALSE)=\"zvyšte skóre\",\"ISO 45001\",\"\")","v":""},{"$f":"IF(VLOOKUP(D135,'Zvláštní zpráva'!$E$556:$H$662,4,FALSE)=\"zvyšte skóre\",\"EMAS\",\"\")","v":""},{"$f":"IF(VLOOKUP(D135,'Zvláštní zpráva'!$E$666:$H$772,4,FALSE)=\"zvyšte skóre\",\"RC14001\",\"\")","v":""},{"$f":"IF(VLOOKUP(D135,'Zvláštní zpráva'!$E$776:$H$882,4,FALSE)=\"zvyšte skóre\",\"RCMS\",\"\")","v":""}]
[null,null,null,null,"Vaše skóre ",null,{"$f":"VLOOKUP(D135,'Technický list'!$B$124:$C$168,2,FALSE)","v":4},null,null,null,null,null,null,{"$f":"CONCATENATE(G136,\" = \",HLOOKUP(\" \",'Kapitola 2'!D103:E108,Tipy!G136+2))","v":"4 = K projektu, zřizování, údržbě a aktualizacím se uchovává dokumentace."}]
[null,null,null,null,"Pokuste se zlepšit ",null,{"$f":"VLOOKUP(CONCATENATE(D135,$M$3),'Technický list'!$BG$124:$BI$303,3,FALSE)","v":"Není třeba okamžitě měnit strategii, vždy se však snažte o zlepšení."}]
[null,null,null,null,null,null,null,null,null,null,null,null,null,{"$f":"IF(L139=8,\"\",\"zvyšte skóre pro:\")","v":""}]
[null,null,{"$f":"IF(VLOOKUP(D139,'Technický list'!$AO$124:$AQ$168,3,0)=\"OK\",\"\",\"hlavní věci\")","v":""},{"$f":"'Kapitola 2'!C110","v":"Q2.18"},{"$f":"'Kapitola 2'!D110","v":"Jakým způsobem je zaručena ochrana zařízení, aby jediná chyba neměla katastrofické následky?"},null,null,null,null,null,null,{"$f":"COUNTBLANK(N139:U139)","v":8},true,{"$f":"IF(VLOOKUP(D139,'Zvláštní zpráva'!$E$6:$H$112,4,FALSE)=\"zvyšte skóre\",\"ISO 9001\",\"\")","v":""},{"$f":"IF(VLOOKUP(D139,'Zvláštní zpráva'!$E$116:$H$222,4,FALSE)=\"zvyšte skóre\",\"ISO 14001\",\"\")","v":""},{"$f":"IF(VLOOKUP(D139,'Zvláštní zpráva'!$E$226:$H$332,4,FALSE)=\"zvyšte skóre\",\"ISO 26000\",\"\")","v":""},{"$f":"IF(VLOOKUP(D139,'Zvláštní zpráva'!$E$336:$H$552,4,FALSE)=\"zvyšte skóre\",\"ISO 45001\",\"\")","v":""},{"$f":"IF(VLOOKUP(D139,'Zvláštní zpráva'!$E$556:$H$662,4,FALSE)=\"zvyšte skóre\",\"EMAS\",\"\")","v":""},{"$f":"IF(VLOOKUP(D139,'Zvláštní zpráva'!$E$666:$H$772,4,FALSE)=\"zvyšte skóre\",\"RC14001\",\"\")","v":""},{"$f":"IF(VLOOKUP(D139,'Zvláštní zpráva'!$E$776:$H$882,4,FALSE)=\"zvyšte skóre\",\"RCMS\",\"\")","v":""}]
[null,null,null,null,"Vaše skóre ",null,{"$f":"VLOOKUP(D139,'Technický list'!$B$124:$C$168,2,FALSE)","v":3},null,null,null,null,null,null,{"$f":"CONCATENATE(G140,\" = \",HLOOKUP(\" \",'Kapitola 2'!D109:E114,Tipy!G140+2))","v":"3 = Na trvalých pracovištích operátorů se nacházejí alarmy, které upozorňují na odchylky procesů. Tlačítka pro nouzové zastavení se nacházejí na místech, kde je lze bezpečně spustit."}]
[null,null,null,null,"Pokuste se zlepšit ",null,{"$f":"VLOOKUP(CONCATENATE(D139,$M$3),'Technický list'!$BG$124:$BI$303,3,FALSE)","v":"Proveďte vyhodnocení pro každý reaktor, sklad nebo jiné zařízení obsahující množství nebezpečných látek nad určitým prahem, aby bylo zajištěno, že je zaveden systém prevence, zadržování a evakuace."}]
[null,null,null,null,null,null,null,null,null,null,null,null,null,{"$f":"IF(L143=8,\"\",\"zvyšte skóre pro:\")","v":""}]
[null,null,{"$f":"IF(VLOOKUP(D143,'Technický list'!$AO$124:$AQ$168,3,0)=\"OK\",\"\",\"hlavní věci\")","v":""},{"$f":"'Kapitola 2'!C116","v":"Q2.19"},{"$f":"'Kapitola 2'!D116","v":"Byly zřízeny programy preventivní údržby a péče, které zaručují bezpečnost provozů, nástrojů a zařízení?"},null,null,null,null,null,null,{"$f":"COUNTBLANK(N143:U143)","v":8},true,{"$f":"IF(VLOOKUP(D143,'Zvláštní zpráva'!$E$6:$H$112,4,FALSE)=\"zvyšte skóre\",\"ISO 9001\",\"\")","v":""},{"$f":"IF(VLOOKUP(D143,'Zvláštní zpráva'!$E$116:$H$222,4,FALSE)=\"zvyšte skóre\",\"ISO 14001\",\"\")","v":""},{"$f":"IF(VLOOKUP(D143,'Zvláštní zpráva'!$E$226:$H$332,4,FALSE)=\"zvyšte skóre\",\"ISO 26000\",\"\")","v":""},{"$f":"IF(VLOOKUP(D143,'Zvláštní zpráva'!$E$336:$H$552,4,FALSE)=\"zvyšte skóre\",\"ISO 45001\",\"\")","v":""},{"$f":"IF(VLOOKUP(D143,'Zvláštní zpráva'!$E$556:$H$662,4,FALSE)=\"zvyšte skóre\",\"EMAS\",\"\")","v":""},{"$f":"IF(VLOOKUP(D143,'Zvláštní zpráva'!$E$666:$H$772,4,FALSE)=\"zvyšte skóre\",\"RC14001\",\"\")","v":""},{"$f":"IF(VLOOKUP(D143,'Zvláštní zpráva'!$E$776:$H$882,4,FALSE)=\"zvyšte skóre\",\"RCMS\",\"\")","v":""}]
[null,null,null,null,"Vaše skóre ",null,{"$f":"VLOOKUP(D143,'Technický list'!$B$124:$C$168,2,FALSE)","v":3},null,null,null,null,null,null,{"$f":"CONCATENATE(G144,\" = \",HLOOKUP(\" \",'Kapitola 2'!D115:E120,Tipy!G144+2))","v":"3 = Osoby odpovědné za provádění programu údržby jsou jasně identifikovány a zaznamenávají výsledky údržby. Existují ukazatele umožňující sledování činností údržby (% vykonané práce, zjištěné problémy atd.)."}]
[null,null,null,null,"Pokuste se zlepšit ",null,{"$f":"VLOOKUP(CONCATENATE(D143,$M$3),'Technický list'!$BG$124:$BI$303,3,FALSE)","v":"Pravidelně vyhodnocujte účinnost programu údržby. Kromě toho se měří úspěch a zlepšují se plány údržby."}]
[null,null,null,null,null,null,null,null,null,null,null,null,null,{"$f":"IF(L147=8,\"\",\"zvyšte skóre pro:\")","v":""}]
[null,null,{"$f":"IF(VLOOKUP(D147,'Technický list'!$AO$124:$AQ$168,3,0)=\"OK\",\"\",\"hlavní věci\")","v":""},{"$f":"'Kapitola 2'!C122","v":"Q2.20"},{"$f":"'Kapitola 2'!D122","v":"Jakým způsobem se řídí procesy během mimořádných událostí v případě přerušení dodávky energie nebo služeb?"},null,null,null,null,null,null,{"$f":"COUNTBLANK(N147:U147)","v":8},true,{"$f":"IF(VLOOKUP(D147,'Zvláštní zpráva'!$E$6:$H$112,4,FALSE)=\"zvyšte skóre\",\"ISO 9001\",\"\")","v":""},{"$f":"IF(VLOOKUP(D147,'Zvláštní zpráva'!$E$116:$H$222,4,FALSE)=\"zvyšte skóre\",\"ISO 14001\",\"\")","v":""},{"$f":"IF(VLOOKUP(D147,'Zvláštní zpráva'!$E$226:$H$332,4,FALSE)=\"zvyšte skóre\",\"ISO 26000\",\"\")","v":""},{"$f":"IF(VLOOKUP(D147,'Zvláštní zpráva'!$E$336:$H$552,4,FALSE)=\"zvyšte skóre\",\"ISO 45001\",\"\")","v":""},{"$f":"IF(VLOOKUP(D147,'Zvláštní zpráva'!$E$556:$H$662,4,FALSE)=\"zvyšte skóre\",\"EMAS\",\"\")","v":""},{"$f":"IF(VLOOKUP(D147,'Zvláštní zpráva'!$E$666:$H$772,4,FALSE)=\"zvyšte skóre\",\"RC14001\",\"\")","v":""},{"$f":"IF(VLOOKUP(D147,'Zvláštní zpráva'!$E$776:$H$882,4,FALSE)=\"zvyšte skóre\",\"RCMS\",\"\")","v":""}]
[null,null,null,null,"Vaše skóre ",null,{"$f":"VLOOKUP(D147,'Technický list'!$B$124:$C$168,2,FALSE)","v":4},null,null,null,null,null,null,{"$f":"CONCATENATE(G148,\" = \",HLOOKUP(\" \",'Kapitola 2'!D121:E126,Tipy!G148+2))","v":"4 = Havarijní plán: zahrnuje analýzu možných nepředvídaných událostí a stanovuje přijatelnou dobu odezvy, zásahové skupiny a procesy."}]
[null,null,null,null,"Pokuste se zlepšit ",null,{"$f":"VLOOKUP(CONCATENATE(D147,$M$3),'Technický list'!$BG$124:$BI$303,3,FALSE)","v":"Není třeba okamžitě měnit strategii, vždy se však snažte o zlepšení."}]
[null,null,null,null,null,null,null,null,null,null,null,null,null,{"$f":"IF(L151=8,\"\",\"zvyšte skóre pro:\")","v":""}]
[null,null,{"$f":"IF(VLOOKUP(D151,'Technický list'!$AO$124:$AQ$168,3,0)=\"OK\",\"\",\"hlavní věci\")","v":""},{"$f":"'Kapitola 2'!C128","v":"Q2.21"},{"$f":"'Kapitola 2'!D128","v":"Jak se připravují havarijní plány?"},null,null,null,null,null,null,{"$f":"COUNTBLANK(N151:U151)","v":8},true,{"$f":"IF(VLOOKUP(D151,'Zvláštní zpráva'!$E$6:$H$112,4,FALSE)=\"zvyšte skóre\",\"ISO 9001\",\"\")","v":""},{"$f":"IF(VLOOKUP(D151,'Zvláštní zpráva'!$E$116:$H$222,4,FALSE)=\"zvyšte skóre\",\"ISO 14001\",\"\")","v":""},{"$f":"IF(VLOOKUP(D151,'Zvláštní zpráva'!$E$226:$H$332,4,FALSE)=\"zvyšte skóre\",\"ISO 26000\",\"\")","v":""},{"$f":"IF(VLOOKUP(D151,'Zvláštní zpráva'!$E$336:$H$552,4,FALSE)=\"zvyšte skóre\",\"ISO 45001\",\"\")","v":""},{"$f":"IF(VLOOKUP(D151,'Zvláštní zpráva'!$E$556:$H$662,4,FALSE)=\"zvyšte skóre\",\"EMAS\",\"\")","v":""},{"$f":"IF(VLOOKUP(D151,'Zvláštní zpráva'!$E$666:$H$772,4,FALSE)=\"zvyšte skóre\",\"RC14001\",\"\")","v":""},{"$f":"IF(VLOOKUP(D151,'Zvláštní zpráva'!$E$776:$H$882,4,FALSE)=\"zvyšte skóre\",\"RCMS\",\"\")","v":""}]
[null,null,null,null,"Vaše skóre ",null,{"$f":"VLOOKUP(D151,'Technický list'!$B$124:$C$168,2,FALSE)","v":3},null,null,null,null,null,null,{"$f":"CONCATENATE(G152,\" = \",HLOOKUP(\" \",'Kapitola 2'!D127:E132,Tipy!G152+2))","v":"3 = Havarijní plán byl ve spolupráci s partnery a sousedními organizacemi začleněn do externího havarijního plánu."}]
[null,null,null,null,"Pokuste se zlepšit ",null,{"$f":"VLOOKUP(CONCATENATE(D151,$M$3),'Technický list'!$BG$124:$BI$303,3,FALSE)","v":"Mít postup územního plánování pro vyhodnocení a získání znalostí o sousední komunitě (např. Školy, školky, nemocnice, pečovatelské domy, nákupní a sportovní centra…) a pro vyhodnocení potřeby připravenosti, komunikace a evakuace v případě mimořádné události - v případě potřeby - vyhodnotit zastavení výroby."}]
[null,null,null,null,null,null,null,null,null,null,null,null,null,{"$f":"IF(L155=8,\"\",\"zvyšte skóre pro:\")","v":""}]
[null,null,{"$f":"IF(VLOOKUP(D155,'Technický list'!$AO$124:$AQ$168,3,0)=\"OK\",\"\",\"hlavní věci\")","v":""},{"$f":"'Kapitola 2'!C134","v":"Q2.22"},{"$f":"'Kapitola 2'!D134","v":"Jakým způsobem jsou zabezpečeny kompetence a školení zaměstnanců a dodavatelů zapojených do procesů?"},null,null,null,null,null,null,{"$f":"COUNTBLANK(N155:U155)","v":8},true,{"$f":"IF(VLOOKUP(D155,'Zvláštní zpráva'!$E$6:$H$112,4,FALSE)=\"zvyšte skóre\",\"ISO 9001\",\"\")","v":""},{"$f":"IF(VLOOKUP(D155,'Zvláštní zpráva'!$E$116:$H$222,4,FALSE)=\"zvyšte skóre\",\"ISO 14001\",\"\")","v":""},{"$f":"IF(VLOOKUP(D155,'Zvláštní zpráva'!$E$226:$H$332,4,FALSE)=\"zvyšte skóre\",\"ISO 26000\",\"\")","v":""},{"$f":"IF(VLOOKUP(D155,'Zvláštní zpráva'!$E$336:$H$552,4,FALSE)=\"zvyšte skóre\",\"ISO 45001\",\"\")","v":""},{"$f":"IF(VLOOKUP(D155,'Zvláštní zpráva'!$E$556:$H$662,4,FALSE)=\"zvyšte skóre\",\"EMAS\",\"\")","v":""},{"$f":"IF(VLOOKUP(D155,'Zvláštní zpráva'!$E$666:$H$772,4,FALSE)=\"zvyšte skóre\",\"RC14001\",\"\")","v":""},{"$f":"IF(VLOOKUP(D155,'Zvláštní zpráva'!$E$776:$H$882,4,FALSE)=\"zvyšte skóre\",\"RCMS\",\"\")","v":""}]
[null,null,null,null,"Vaše skóre ",null,{"$f":"VLOOKUP(D155,'Technický list'!$B$124:$C$168,2,FALSE)","v":2},null,null,null,null,null,null,{"$f":"CONCATENATE(G156,\" = \",HLOOKUP(\" \",'Kapitola 2'!D133:E138,Tipy!G156+2))","v":"2 = Zaměstnanci a dodavatelé jsou zaškolování v oblasti bezpečnosti procesů na základě jejich odpovědností za bezpečnost procesů. Příslušný vzdělávací program pokrývá všechny aspekty bezpečnosti procesů a zařízení, a to včetně pravidelných opakování takových školení. Pro zaměstnance, kteří jsou odpovědní za úkoly související s bezpečností procesů a zařízení a kteří byli déle nepřítomni (např. Z důvodu těhotenství, nemoci, delší dovolené atd.), Je k dispozici rekvalifikační program."}]
[null,null,null,null,"Pokuste se zlepšit ",null,{"$f":"VLOOKUP(CONCATENATE(D155,$M$3),'Technický list'!$BG$124:$BI$303,3,FALSE)","v":"Poskytněte další vzdělávání související s novými nástroji a technikami bezpečnosti procesů (odborníci na bezpečnost procesů v podniku)."}]
[null,null,null,null,null,null,null,null,null,null,null,null,null,{"$f":"IF(L159=8,\"\",\"zvyšte skóre pro:\")","v":""}]
[null,null,{"$f":"IF(VLOOKUP(D159,'Technický list'!$AO$124:$AQ$168,3,0)=\"OK\",\"\",\"hlavní věci\")","v":""},{"$f":"'Kapitola 2'!C140","v":"Q2.23"},{"$f":"'Kapitola 2'!D140","v":"Jakým způsobem se sdílejí informace o rizicích látek a přípravků?"},null,null,null,null,null,null,{"$f":"COUNTBLANK(N159:U159)","v":8},true,{"$f":"IF(VLOOKUP(D159,'Zvláštní zpráva'!$E$6:$H$112,4,FALSE)=\"zvyšte skóre\",\"ISO 9001\",\"\")","v":""},{"$f":"IF(VLOOKUP(D159,'Zvláštní zpráva'!$E$116:$H$222,4,FALSE)=\"zvyšte skóre\",\"ISO 14001\",\"\")","v":""},{"$f":"IF(VLOOKUP(D159,'Zvláštní zpráva'!$E$226:$H$332,4,FALSE)=\"zvyšte skóre\",\"ISO 26000\",\"\")","v":""},{"$f":"IF(VLOOKUP(D159,'Zvláštní zpráva'!$E$336:$H$552,4,FALSE)=\"zvyšte skóre\",\"ISO 45001\",\"\")","v":""},{"$f":"IF(VLOOKUP(D159,'Zvláštní zpráva'!$E$556:$H$662,4,FALSE)=\"zvyšte skóre\",\"EMAS\",\"\")","v":""},{"$f":"IF(VLOOKUP(D159,'Zvláštní zpráva'!$E$666:$H$772,4,FALSE)=\"zvyšte skóre\",\"RC14001\",\"\")","v":""},{"$f":"IF(VLOOKUP(D159,'Zvláštní zpráva'!$E$776:$H$882,4,FALSE)=\"zvyšte skóre\",\"RCMS\",\"\")","v":""}]
[null,null,null,null,"Vaše skóre ",null,{"$f":"VLOOKUP(D159,'Technický list'!$B$124:$C$168,2,FALSE)","v":4},null,null,null,null,null,null,{"$f":"CONCATENATE(G160,\" = \",HLOOKUP(\" \",'Kapitola 2'!D139:E144,Tipy!G160+2))","v":"4 = Jsou známé bezpečnostní údaje pro všechny procesy a látky (včetně možných meziproduktů, zbytků a jiných látek)."}]
[null,null,null,null,"Pokuste se zlepšit ",null,{"$f":"VLOOKUP(CONCATENATE(D159,$M$3),'Technický list'!$BG$124:$BI$303,3,FALSE)","v":"Není třeba okamžitě měnit strategii, vždy se však snažte o zlepšení."}]
[null,null,null,null,null,null,null,null,null,null,null,null,null,{"$f":"IF(L163=8,\"\",\"zvyšte skóre pro:\")","v":""}]
[null,null,{"$f":"IF(VLOOKUP(D163,'Technický list'!$AO$124:$AQ$168,3,0)=\"OK\",\"\",\"hlavní věci\")","v":""},{"$f":"'Kapitola 2'!C146","v":"Q2.24"},{"$f":"'Kapitola 2'!D146","v":"Jak se sdílejí informace o procesu?"},null,null,null,null,null,null,{"$f":"COUNTBLANK(N163:U163)","v":8},true,{"$f":"IF(VLOOKUP(D163,'Zvláštní zpráva'!$E$6:$H$112,4,FALSE)=\"zvyšte skóre\",\"ISO 9001\",\"\")","v":""},{"$f":"IF(VLOOKUP(D163,'Zvláštní zpráva'!$E$116:$H$222,4,FALSE)=\"zvyšte skóre\",\"ISO 14001\",\"\")","v":""},{"$f":"IF(VLOOKUP(D163,'Zvláštní zpráva'!$E$226:$H$332,4,FALSE)=\"zvyšte skóre\",\"ISO 26000\",\"\")","v":""},{"$f":"IF(VLOOKUP(D163,'Zvláštní zpráva'!$E$336:$H$552,4,FALSE)=\"zvyšte skóre\",\"ISO 45001\",\"\")","v":""},{"$f":"IF(VLOOKUP(D163,'Zvláštní zpráva'!$E$556:$H$662,4,FALSE)=\"zvyšte skóre\",\"EMAS\",\"\")","v":""},{"$f":"IF(VLOOKUP(D163,'Zvláštní zpráva'!$E$666:$H$772,4,FALSE)=\"zvyšte skóre\",\"RC14001\",\"\")","v":""},{"$f":"IF(VLOOKUP(D163,'Zvláštní zpráva'!$E$776:$H$882,4,FALSE)=\"zvyšte skóre\",\"RCMS\",\"\")","v":""}]
[null,null,null,null,"Vaše skóre ",null,{"$f":"VLOOKUP(D163,'Technický list'!$B$124:$C$168,2,FALSE)","v":4},null,null,null,null,null,null,{"$f":"CONCATENATE(G164,\" = \",HLOOKUP(\" \",'Kapitola 2'!D145:E150,Tipy!G164+2))","v":"4 = Všechny jsou v bezprostředním dosahu pro pracovníky zapojených do procesu. Zaměstnanci jsou vyškoleni v oblasti používání dokumentace a činností vyplývajících z těchto postupů nebo návodů."}]
[null,null,null,null,"Pokuste se zlepšit ",null,{"$f":"VLOOKUP(CONCATENATE(D163,$M$3),'Technický list'!$BG$124:$BI$303,3,FALSE)","v":"Není třeba okamžitě měnit strategii, vždy se však snažte zlepšit."}]
[null,{"$f":"'Kapitola 2'!B152","v":"Distribuce"},null,null,null,null,null,null,null,null,null,null,null,{"$f":"IF(L167=8,\"\",\"zvyšte skóre pro:\")","v":""}]
[null,null,{"$f":"IF(VLOOKUP(D167,'Technický list'!$AO$124:$AQ$168,3,0)=\"OK\",\"\",\"hlavní věci\")","v":""},{"$f":"'Kapitola 2'!C154","v":"Q2.25"},{"$f":"'Kapitola 2'!D154","v":"Jakým způsobem organizace hodnotí své logistické partnery z hlediska HSE&S, energetické účinnosti a emisí skleníkových plynů?"},null,null,null,null,null,null,{"$f":"COUNTBLANK(N167:U167)","v":8},true,{"$f":"IF(VLOOKUP(D167,'Zvláštní zpráva'!$E$6:$H$112,4,FALSE)=\"zvyšte skóre\",\"ISO 9001\",\"\")","v":""},{"$f":"IF(VLOOKUP(D167,'Zvláštní zpráva'!$E$116:$H$222,4,FALSE)=\"zvyšte skóre\",\"ISO 14001\",\"\")","v":""},{"$f":"IF(VLOOKUP(D167,'Zvláštní zpráva'!$E$226:$H$332,4,FALSE)=\"zvyšte skóre\",\"ISO 26000\",\"\")","v":""},{"$f":"IF(VLOOKUP(D167,'Zvláštní zpráva'!$E$336:$H$552,4,FALSE)=\"zvyšte skóre\",\"ISO 45001\",\"\")","v":""},{"$f":"IF(VLOOKUP(D167,'Zvláštní zpráva'!$E$556:$H$662,4,FALSE)=\"zvyšte skóre\",\"EMAS\",\"\")","v":""},{"$f":"IF(VLOOKUP(D167,'Zvláštní zpráva'!$E$666:$H$772,4,FALSE)=\"zvyšte skóre\",\"RC14001\",\"\")","v":""},{"$f":"IF(VLOOKUP(D167,'Zvláštní zpráva'!$E$776:$H$882,4,FALSE)=\"zvyšte skóre\",\"RCMS\",\"\")","v":""}]
[null,null,null,null,"Vaše skóre ",null,{"$f":"VLOOKUP(D167,'Technický list'!$B$124:$C$168,2,FALSE)","v":3},null,null,null,null,null,null,{"$f":"CONCATENATE(G168,\" = \",HLOOKUP(\" \",'Kapitola 2'!D153:E158,Tipy!G168+2))","v":"3 = Organizace vyhodnocuje příslušné kroky a bezpečnostní opatření, které se vyžadují při přepravě chemických látek."}]
[null,null,null,null,"Pokuste se zlepšit ",null,{"$f":"VLOOKUP(CONCATENATE(D167,$M$3),'Technický list'!$BG$124:$BI$303,3,FALSE)","v":"Příklad schématu, který lze použít (celkem nebo jeho části), je SQAS (https://www.sqas.org/). Společnosti se mohou rozhodnout použít jiné systémy nebo kritéria. Výběr poskytovatele logistiky je založen na individuálním rozhodovacím procesu každé společnosti, který může nebo nemusí zahrnovat SQAS."}]
[null,null,null,null,null,null,null,null,null,null,null,null,null,{"$f":"IF(L171=8,\"\",\"zvyšte skóre pro:\")","v":""}]
[null,null,{"$f":"IF(VLOOKUP(D171,'Technický list'!$AO$124:$AQ$168,3,0)=\"OK\",\"\",\"hlavní věci\")","v":""},{"$f":"'Kapitola 2'!C160","v":"Q2.26"},{"$f":"'Kapitola 2'!D160","v":"Jakým způsobem organizace zabraňuje a reaguje na dopravní nehody?"},null,null,null,null,null,null,{"$f":"COUNTBLANK(N171:U171)","v":8},true,{"$f":"IF(VLOOKUP(D171,'Zvláštní zpráva'!$E$6:$H$112,4,FALSE)=\"zvyšte skóre\",\"ISO 9001\",\"\")","v":""},{"$f":"IF(VLOOKUP(D171,'Zvláštní zpráva'!$E$116:$H$222,4,FALSE)=\"zvyšte skóre\",\"ISO 14001\",\"\")","v":""},{"$f":"IF(VLOOKUP(D171,'Zvláštní zpráva'!$E$226:$H$332,4,FALSE)=\"zvyšte skóre\",\"ISO 26000\",\"\")","v":""},{"$f":"IF(VLOOKUP(D171,'Zvláštní zpráva'!$E$336:$H$552,4,FALSE)=\"zvyšte skóre\",\"ISO 45001\",\"\")","v":""},{"$f":"IF(VLOOKUP(D171,'Zvláštní zpráva'!$E$556:$H$662,4,FALSE)=\"zvyšte skóre\",\"EMAS\",\"\")","v":""},{"$f":"IF(VLOOKUP(D171,'Zvláštní zpráva'!$E$666:$H$772,4,FALSE)=\"zvyšte skóre\",\"RC14001\",\"\")","v":""},{"$f":"IF(VLOOKUP(D171,'Zvláštní zpráva'!$E$776:$H$882,4,FALSE)=\"zvyšte skóre\",\"RCMS\",\"\")","v":""}]
[null,null,null,null,"Vaše skóre ",null,{"$f":"VLOOKUP(D171,'Technický list'!$B$124:$C$168,2,FALSE)","v":4},null,null,null,null,null,null,{"$f":"CONCATENATE(G172,\" = \",HLOOKUP(\" \",'Kapitola 2'!D159:E164,Tipy!G172+2))","v":"4 = Havarijní plán místa zohledňuje logistiku. Společnost nabízí pomoc při odstraňování následků dopravních nehod (např. ICE (zásah při mimořádných událostech v oblasti chemické dopravy)) nebo podobné systémy."}]
[null,null,null,null,"Pokuste se zlepšit ",null,{"$f":"VLOOKUP(CONCATENATE(D171,$M$3),'Technický list'!$BG$124:$BI$303,3,FALSE)","v":"Není třeba okamžitě měnit strategii, vždy se však snažte zlepšit."}]
[null,{"$f":"'Kapitola 2'!B166","v":"Bezpečnost"},null,null,null,null,null,null,null,null,null,null,null,{"$f":"IF(L175=8,\"\",\"zvyšte skóre pro:\")","v":""}]
[null,null,{"$f":"IF(VLOOKUP(D175,'Technický list'!$AO$124:$AQ$168,3,0)=\"OK\",\"\",\"hlavní věci\")","v":""},{"$f":"'Kapitola 2'!C168","v":"Q2.27"},{"$f":"'Kapitola 2'!D168","v":"Jakým způsobem organizace identifikuje bezpečnostní problémy?"},null,null,null,null,null,null,{"$f":"COUNTBLANK(N175:U175)","v":8},true,{"$f":"IF(VLOOKUP(D175,'Zvláštní zpráva'!$E$6:$H$112,4,FALSE)=\"zvyšte skóre\",\"ISO 9001\",\"\")","v":""},{"$f":"IF(VLOOKUP(D175,'Zvláštní zpráva'!$E$116:$H$222,4,FALSE)=\"zvyšte skóre\",\"ISO 14001\",\"\")","v":""},{"$f":"IF(VLOOKUP(D175,'Zvláštní zpráva'!$E$226:$H$332,4,FALSE)=\"zvyšte skóre\",\"ISO 26000\",\"\")","v":""},{"$f":"IF(VLOOKUP(D175,'Zvláštní zpráva'!$E$336:$H$552,4,FALSE)=\"zvyšte skóre\",\"ISO 45001\",\"\")","v":""},{"$f":"IF(VLOOKUP(D175,'Zvláštní zpráva'!$E$556:$H$662,4,FALSE)=\"zvyšte skóre\",\"EMAS\",\"\")","v":""},{"$f":"IF(VLOOKUP(D175,'Zvláštní zpráva'!$E$666:$H$772,4,FALSE)=\"zvyšte skóre\",\"RC14001\",\"\")","v":""},{"$f":"IF(VLOOKUP(D175,'Zvláštní zpráva'!$E$776:$H$882,4,FALSE)=\"zvyšte skóre\",\"RCMS\",\"\")","v":""}]
[null,null,null,null,"Vaše skóre ",null,{"$f":"VLOOKUP(D175,'Technický list'!$B$124:$C$168,2,FALSE)","v":4},null,null,null,null,null,null,{"$f":"CONCATENATE(G176,\" = \",HLOOKUP(\" \",'Kapitola 2'!D167:E172,Tipy!G176+2))","v":"4 = Pravidelně se vyhodnocuje účinnost procesu řízení bezpečnostního rizika."}]
[null,null,null,null,"Pokuste se zlepšit ",null,{"$f":"VLOOKUP(CONCATENATE(D175,$M$3),'Technický list'!$BG$124:$BI$303,3,FALSE)","v":"Není třeba okamžitě měnit strategii, vždy se však snažte zlepšit."}]
[null,null,null,null,null,null,null,null,null,null,null,null,null,{"$f":"IF(L179=8,\"\",\"zvyšte skóre pro:\")","v":""}]
[null,null,{"$f":"IF(VLOOKUP(D179,'Technický list'!$AO$124:$AQ$168,3,0)=\"OK\",\"\",\"hlavní věci\")","v":""},{"$f":"'Kapitola 2'!C174","v":"Q2.28"},{"$f":"'Kapitola 2'!D174","v":"Jakým způsobem se kontroluje příchod a odchod pracovníků a materiálu na pracovišti a v oblastech s omezeným vstupem?"},null,null,null,null,null,null,{"$f":"COUNTBLANK(N179:U179)","v":8},true,{"$f":"IF(VLOOKUP(D179,'Zvláštní zpráva'!$E$6:$H$112,4,FALSE)=\"zvyšte skóre\",\"ISO 9001\",\"\")","v":""},{"$f":"IF(VLOOKUP(D179,'Zvláštní zpráva'!$E$116:$H$222,4,FALSE)=\"zvyšte skóre\",\"ISO 14001\",\"\")","v":""},{"$f":"IF(VLOOKUP(D179,'Zvláštní zpráva'!$E$226:$H$332,4,FALSE)=\"zvyšte skóre\",\"ISO 26000\",\"\")","v":""},{"$f":"IF(VLOOKUP(D179,'Zvláštní zpráva'!$E$336:$H$552,4,FALSE)=\"zvyšte skóre\",\"ISO 45001\",\"\")","v":""},{"$f":"IF(VLOOKUP(D179,'Zvláštní zpráva'!$E$556:$H$662,4,FALSE)=\"zvyšte skóre\",\"EMAS\",\"\")","v":""},{"$f":"IF(VLOOKUP(D179,'Zvláštní zpráva'!$E$666:$H$772,4,FALSE)=\"zvyšte skóre\",\"RC14001\",\"\")","v":""},{"$f":"IF(VLOOKUP(D179,'Zvláštní zpráva'!$E$776:$H$882,4,FALSE)=\"zvyšte skóre\",\"RCMS\",\"\")","v":""}]
[null,null,null,null,"Vaše skóre ",null,{"$f":"VLOOKUP(D179,'Technický list'!$B$124:$C$168,2,FALSE)","v":4},null,null,null,null,null,null,{"$f":"CONCATENATE(G180,\" = \",HLOOKUP(\" \",'Kapitola 2'!D173:E178,Tipy!G180+2))","v":"4 = Účinnost postupu týkajícího se přístupu se pravidelně reviduje."}]
[null,null,null,null,"Pokuste se zlepšit ",null,{"$f":"VLOOKUP(CONCATENATE(D179,$M$3),'Technický list'!$BG$124:$BI$303,3,FALSE)","v":"Trénujte své zaměstnance ohledně možných bezpečnostních hrozeb a vhodné reakce v případě, že se takové situace skutečně vyskytnou (např. Jak reagovat v případě narušitele nebo jiného porušení bezpečnosti). Vycvičte své zaměstnance, aby byli ostražití (např. Oslovte neznámé osoby, které nemají odznak)."}]
[null,null,null,null,null,null,null,null,null,null,null,null,null,{"$f":"IF(L183=8,\"\",\"zvyšte skóre pro:\")","v":""}]
[null,null,{"$f":"IF(VLOOKUP(D183,'Technický list'!$AO$124:$AQ$168,3,0)=\"OK\",\"\",\"hlavní věci\")","v":""},{"$f":"'Kapitola 2'!C180","v":"Q2.29"},{"$f":"'Kapitola 2'!D180","v":"Jakým způsobem se kontroluje kybernetická bezpečnost?"},null,null,null,null,null,null,{"$f":"COUNTBLANK(N183:U183)","v":8},true,{"$f":"IF(VLOOKUP(D183,'Zvláštní zpráva'!$E$6:$H$112,4,FALSE)=\"zvyšte skóre\",\"ISO 9001\",\"\")","v":""},{"$f":"IF(VLOOKUP(D183,'Zvláštní zpráva'!$E$116:$H$222,4,FALSE)=\"zvyšte skóre\",\"ISO 14001\",\"\")","v":""},{"$f":"IF(VLOOKUP(D183,'Zvláštní zpráva'!$E$226:$H$332,4,FALSE)=\"zvyšte skóre\",\"ISO 26000\",\"\")","v":""},{"$f":"IF(VLOOKUP(D183,'Zvláštní zpráva'!$E$336:$H$552,4,FALSE)=\"zvyšte skóre\",\"ISO 45001\",\"\")","v":""},{"$f":"IF(VLOOKUP(D183,'Zvláštní zpráva'!$E$556:$H$662,4,FALSE)=\"zvyšte skóre\",\"EMAS\",\"\")","v":""},{"$f":"IF(VLOOKUP(D183,'Zvláštní zpráva'!$E$666:$H$772,4,FALSE)=\"zvyšte skóre\",\"RC14001\",\"\")","v":""},{"$f":"IF(VLOOKUP(D183,'Zvláštní zpráva'!$E$776:$H$882,4,FALSE)=\"zvyšte skóre\",\"RCMS\",\"\")","v":""}]
[null,null,null,null,"Vaše skóre ",null,{"$f":"VLOOKUP(D183,'Technický list'!$B$124:$C$168,2,FALSE)","v":4},null,null,null,null,null,null,{"$f":"CONCATENATE(G184,\" = \",HLOOKUP(\" \",'Kapitola 2'!D179:E184,Tipy!G184+2))","v":"4 = Organizace identifikuje, sleduje a zmírňuje rizika kybernetické bezpečnosti, která mají dopad na podnikání a systémy ochrany zdraví, bezpečnosti, životního prostředí a udržitelnosti, pomocí přístupu založeného na rizicích ke zmírňování hrozeb."}]
[null,null,null,null,"Pokuste se zlepšit ",null,{"$f":"VLOOKUP(CONCATENATE(D183,$M$3),'Technický list'!$BG$124:$BI$303,3,FALSE)","v":"Zřídit komplexní systém umožňující přístup k IT systémům pouze na základě hesel a - v závislosti na skutečných úkolech zaměstnanců - a přístup k citlivým informacím pouze na základě „podle potřeby“. Stanovte pravidla pro bezpečné používání podnikových IT systémů (např. Používání IT ze soukromých důvodů, přístup k webovým stránkám…)."}]
[null,null,null,null,null,null,null,null,null,null,null,null,null,{"$f":"IF(L187=8,\"\",\"zvyšte skóre pro:\")","v":""}]
[null,null,{"$f":"IF(VLOOKUP(D187,'Technický list'!$AO$124:$AQ$168,3,0)=\"OK\",\"\",\"hlavní věci\")","v":""},{"$f":"'Kapitola 2'!C186","v":"Q2.30"},{"$f":"'Kapitola 2'!D186","v":"Jakým způsobem probíhá komunikace a výměna informací v případě bezpečnostní krize?"},null,null,null,null,null,null,{"$f":"COUNTBLANK(N187:U187)","v":8},true,{"$f":"IF(VLOOKUP(D187,'Zvláštní zpráva'!$E$6:$H$112,4,FALSE)=\"zvyšte skóre\",\"ISO 9001\",\"\")","v":""},{"$f":"IF(VLOOKUP(D187,'Zvláštní zpráva'!$E$116:$H$222,4,FALSE)=\"zvyšte skóre\",\"ISO 14001\",\"\")","v":""},{"$f":"IF(VLOOKUP(D187,'Zvláštní zpráva'!$E$226:$H$332,4,FALSE)=\"zvyšte skóre\",\"ISO 26000\",\"\")","v":""},{"$f":"IF(VLOOKUP(D187,'Zvláštní zpráva'!$E$336:$H$552,4,FALSE)=\"zvyšte skóre\",\"ISO 45001\",\"\")","v":""},{"$f":"IF(VLOOKUP(D187,'Zvláštní zpráva'!$E$556:$H$662,4,FALSE)=\"zvyšte skóre\",\"EMAS\",\"\")","v":""},{"$f":"IF(VLOOKUP(D187,'Zvláštní zpráva'!$E$666:$H$772,4,FALSE)=\"zvyšte skóre\",\"RC14001\",\"\")","v":""},{"$f":"IF(VLOOKUP(D187,'Zvláštní zpráva'!$E$776:$H$882,4,FALSE)=\"zvyšte skóre\",\"RCMS\",\"\")","v":""}]
[null,null,null,null,"Vaše skóre ",null,{"$f":"VLOOKUP(D187,'Technický list'!$B$124:$C$168,2,FALSE)","v":4},null,null,null,null,null,null,{"$f":"CONCATENATE(G188,\" = \",HLOOKUP(\" \",'Kapitola 2'!D185:E190,Tipy!G188+2))","v":"4 = Organizace spolupracuje s institucemi poskytujícími pomoc veřejnosti s cílem stanovit opatření pro případy nehod (například krizové cvičení, školení prováděné organizací ...)"}]
[null,null,null,null,"Pokuste se zlepšit ",null,{"$f":"VLOOKUP(CONCATENATE(D187,$M$3),'Technický list'!$BG$124:$BI$303,3,FALSE)","v":"Zřídit systém, který umožňuje zjistit, kdo z vašich zaměstnanců se skutečně nachází v areálu a kdo chybí."}]
[null,null,null,null,null,null,null,null,null,null,null,null,null,{"$f":"IF(L191=8,\"\",\"zvyšte skóre pro:\")","v":""}]
[null,null,{"$f":"IF(VLOOKUP(D191,'Technický list'!$AO$124:$AQ$168,3,0)=\"OK\",\"\",\"hlavní věci\")","v":""},{"$f":"'Kapitola 2'!C192","v":"Q2.31"},{"$f":"'Kapitola 2'!D192","v":"Jak se organizace vyrovnává s podezřelým chováním (včetně rizik radikalizace = souhlas a podopra extrémních názorů)"},null,null,null,null,null,null,{"$f":"COUNTBLANK(N191:U191)","v":8},true,{"$f":"IF(VLOOKUP(D191,'Zvláštní zpráva'!$E$6:$H$112,4,FALSE)=\"zvyšte skóre\",\"ISO 9001\",\"\")","v":""},{"$f":"IF(VLOOKUP(D191,'Zvláštní zpráva'!$E$116:$H$222,4,FALSE)=\"zvyšte skóre\",\"ISO 14001\",\"\")","v":""},{"$f":"IF(VLOOKUP(D191,'Zvláštní zpráva'!$E$226:$H$332,4,FALSE)=\"zvyšte skóre\",\"ISO 26000\",\"\")","v":""},{"$f":"IF(VLOOKUP(D191,'Zvláštní zpráva'!$E$336:$H$552,4,FALSE)=\"zvyšte skóre\",\"ISO 45001\",\"\")","v":""},{"$f":"IF(VLOOKUP(D191,'Zvláštní zpráva'!$E$556:$H$662,4,FALSE)=\"zvyšte skóre\",\"EMAS\",\"\")","v":""},{"$f":"IF(VLOOKUP(D191,'Zvláštní zpráva'!$E$666:$H$772,4,FALSE)=\"zvyšte skóre\",\"RC14001\",\"\")","v":""},{"$f":"IF(VLOOKUP(D191,'Zvláštní zpráva'!$E$776:$H$882,4,FALSE)=\"zvyšte skóre\",\"RCMS\",\"\")","v":""}]
[null,null,null,null,"Vaše skóre ",null,{"$f":"VLOOKUP(D191,'Technický list'!$B$124:$C$168,2,FALSE)","v":3},null,null,null,null,null,null,{"$f":"CONCATENATE(G192,\" = \",HLOOKUP(\" \",'Kapitola 2'!D191:E196,Tipy!G192+2))","v":"3 = Zaměstnanci mohou v rámci stanoveného postupu nahlásit podezřelé chování."}]
[null,null,null,null,"Pokuste se zlepšit ",null,{"$f":"VLOOKUP(CONCATENATE(D191,$M$3),'Technický list'!$BG$124:$BI$303,3,FALSE)","v":"Sledujte všechny pracovníky a návštěvníky podniku."}]
[null,null,null,null,null,null,null,null,null,null,null,null,null,{"$f":"IF(L195=8,\"\",\"zvyšte skóre pro:\")","v":""}]
[null,null,{"$f":"IF(VLOOKUP(D195,'Technický list'!$AO$124:$AQ$168,3,0)=\"OK\",\"\",\"hlavní věci\")","v":""},{"$f":"'Kapitola 2'!C198","v":"Q2.32"},{"$f":"'Kapitola 2'!D198","v":"Jakým způsobem školí organizace pracovníky v oblasti ostrahy ve vazbě na bezpečnostní rizika?  "},null,null,null,null,null,null,{"$f":"COUNTBLANK(N195:U195)","v":8},true,{"$f":"IF(VLOOKUP(D195,'Zvláštní zpráva'!$E$6:$H$112,4,FALSE)=\"zvyšte skóre\",\"ISO 9001\",\"\")","v":""},{"$f":"IF(VLOOKUP(D195,'Zvláštní zpráva'!$E$116:$H$222,4,FALSE)=\"zvyšte skóre\",\"ISO 14001\",\"\")","v":""},{"$f":"IF(VLOOKUP(D195,'Zvláštní zpráva'!$E$226:$H$332,4,FALSE)=\"zvyšte skóre\",\"ISO 26000\",\"\")","v":""},{"$f":"IF(VLOOKUP(D195,'Zvláštní zpráva'!$E$336:$H$552,4,FALSE)=\"zvyšte skóre\",\"ISO 45001\",\"\")","v":""},{"$f":"IF(VLOOKUP(D195,'Zvláštní zpráva'!$E$556:$H$662,4,FALSE)=\"zvyšte skóre\",\"EMAS\",\"\")","v":""},{"$f":"IF(VLOOKUP(D195,'Zvláštní zpráva'!$E$666:$H$772,4,FALSE)=\"zvyšte skóre\",\"RC14001\",\"\")","v":""},{"$f":"IF(VLOOKUP(D195,'Zvláštní zpráva'!$E$776:$H$882,4,FALSE)=\"zvyšte skóre\",\"RCMS\",\"\")","v":""}]
[null,null,null,null,"Vaše skóre ",null,{"$f":"VLOOKUP(D195,'Technický list'!$B$124:$C$168,2,FALSE)","v":3},null,null,null,null,null,null,{"$f":"CONCATENATE(G196,\" = \",HLOOKUP(\" \",'Kapitola 2'!D197:E202,Tipy!G196+2))","v":"3 = Jsou poskytovány pokyny k ostražitosti, které personálu připomínají bezpečnostní postupy v případě objevení podezřelých předmětů nebo vozidel a jsou poskytovány čtvrtletní aktualizace těchto pokynů."}]
[null,null,null,null,"Pokuste se zlepšit ",null,{"$f":"VLOOKUP(CONCATENATE(D195,$M$3),'Technický list'!$BG$124:$BI$303,3,FALSE)","v":"Podporovat účast všech pracovníků (zaměstnanců a dodavatelů)."}]
[null,{"$f":"'Kapitola 2'!B204","v":"Životní prostředí "},null,null,null,null,null,null,null,null,null,null,null,{"$f":"IF(L199=8,\"\",\"zvyšte skóre pro:\")","v":""}]
[null,null,{"$f":"IF(VLOOKUP(D199,'Technický list'!$AO$124:$AQ$168,3,0)=\"OK\",\"\",\"hlavní věci\")","v":""},{"$f":"'Kapitola 2'!C206","v":"Q2.33"},{"$f":"'Kapitola 2'!D206","v":"Jakým způsobem se posuzuje potenciální vliv organizace na životní prostředí?"},null,null,null,null,null,null,{"$f":"COUNTBLANK(N199:U199)","v":8},true,{"$f":"IF(VLOOKUP(D199,'Zvláštní zpráva'!$E$6:$H$112,4,FALSE)=\"zvyšte skóre\",\"ISO 9001\",\"\")","v":""},{"$f":"IF(VLOOKUP(D199,'Zvláštní zpráva'!$E$116:$H$222,4,FALSE)=\"zvyšte skóre\",\"ISO 14001\",\"\")","v":""},{"$f":"IF(VLOOKUP(D199,'Zvláštní zpráva'!$E$226:$H$332,4,FALSE)=\"zvyšte skóre\",\"ISO 26000\",\"\")","v":""},{"$f":"IF(VLOOKUP(D199,'Zvláštní zpráva'!$E$336:$H$552,4,FALSE)=\"zvyšte skóre\",\"ISO 45001\",\"\")","v":""},{"$f":"IF(VLOOKUP(D199,'Zvláštní zpráva'!$E$556:$H$662,4,FALSE)=\"zvyšte skóre\",\"EMAS\",\"\")","v":""},{"$f":"IF(VLOOKUP(D199,'Zvláštní zpráva'!$E$666:$H$772,4,FALSE)=\"zvyšte skóre\",\"RC14001\",\"\")","v":""},{"$f":"IF(VLOOKUP(D199,'Zvláštní zpráva'!$E$776:$H$882,4,FALSE)=\"zvyšte skóre\",\"RCMS\",\"\")","v":""}]
[null,null,null,null,"Vaše skóre ",null,{"$f":"VLOOKUP(D199,'Technický list'!$B$124:$C$168,2,FALSE)","v":4},null,null,null,null,null,null,{"$f":"CONCATENATE(G200,\" = \",HLOOKUP(\" \",'Kapitola 2'!D205:E210,Tipy!G200+2))","v":"4 = Kromě toho jsou výsledky posouzení dopadů sdělovány zaměstnancům a veřejnosti."}]
[null,null,null,null,"Pokuste se zlepšit ",null,{"$f":"VLOOKUP(CONCATENATE(D199,$M$3),'Technický list'!$BG$124:$BI$303,3,FALSE)","v":"Není třeba okamžitě měnit strategii, nicméně vždy hledejte zlepšení."}]
[null,null,null,null,null,null,null,null,null,null,null,null,null,{"$f":"IF(L203=8,\"\",\"zvyšte skóre pro:\")","v":""}]
[null,null,{"$f":"IF(VLOOKUP(D203,'Technický list'!$AO$124:$AQ$168,3,0)=\"OK\",\"\",\"hlavní věci\")","v":""},{"$f":"'Kapitola 2'!C212","v":"Q2.34"},{"$f":"'Kapitola 2'!D212","v":"Jakým způsobem se řídí environmentální výkonnost?"},null,null,null,null,null,null,{"$f":"COUNTBLANK(N203:U203)","v":8},true,{"$f":"IF(VLOOKUP(D203,'Zvláštní zpráva'!$E$6:$H$112,4,FALSE)=\"zvyšte skóre\",\"ISO 9001\",\"\")","v":""},{"$f":"IF(VLOOKUP(D203,'Zvláštní zpráva'!$E$116:$H$222,4,FALSE)=\"zvyšte skóre\",\"ISO 14001\",\"\")","v":""},{"$f":"IF(VLOOKUP(D203,'Zvláštní zpráva'!$E$226:$H$332,4,FALSE)=\"zvyšte skóre\",\"ISO 26000\",\"\")","v":""},{"$f":"IF(VLOOKUP(D203,'Zvláštní zpráva'!$E$336:$H$552,4,FALSE)=\"zvyšte skóre\",\"ISO 45001\",\"\")","v":""},{"$f":"IF(VLOOKUP(D203,'Zvláštní zpráva'!$E$556:$H$662,4,FALSE)=\"zvyšte skóre\",\"EMAS\",\"\")","v":""},{"$f":"IF(VLOOKUP(D203,'Zvláštní zpráva'!$E$666:$H$772,4,FALSE)=\"zvyšte skóre\",\"RC14001\",\"\")","v":""},{"$f":"IF(VLOOKUP(D203,'Zvláštní zpráva'!$E$776:$H$882,4,FALSE)=\"zvyšte skóre\",\"RCMS\",\"\")","v":""}]
[null,null,null,null,"Vaše skóre ",null,{"$f":"VLOOKUP(D203,'Technický list'!$B$124:$C$168,2,FALSE)","v":4},null,null,null,null,null,null,{"$f":"CONCATENATE(G204,\" = \",HLOOKUP(\" \",'Kapitola 2'!D211:E216,Tipy!G204+2))","v":"4 = Top management organizace pravidelně hodnotí výkonnost, zdůvodňuje dosahování těchto cílů a zajišťuje dostupnost vhodných zdrojů."}]
[null,null,null,null,"Pokuste se zlepšit ",null,{"$f":"VLOOKUP(CONCATENATE(D203,$M$3),'Technický list'!$BG$124:$BI$303,3,FALSE)","v":"Není třeba okamžitě měnit strategii, vždy se však snažte zlepšit."}]
[null,null,null,null,null,null,null,null,null,null,null,null,null,{"$f":"IF(L207=8,\"\",\"zvyšte skóre pro:\")","v":""}]
[null,null,{"$f":"IF(VLOOKUP(D207,'Technický list'!$AO$124:$AQ$168,3,0)=\"OK\",\"\",\"hlavní věci\")","v":""},{"$f":"'Kapitola 2'!C218","v":"Q2.35"},{"$f":"'Kapitola 2'!D218","v":"Jak organizace nakládá s odpadem?"},null,null,null,null,null,null,{"$f":"COUNTBLANK(N207:U207)","v":8},true,{"$f":"IF(VLOOKUP(D207,'Zvláštní zpráva'!$E$6:$H$112,4,FALSE)=\"zvyšte skóre\",\"ISO 9001\",\"\")","v":""},{"$f":"IF(VLOOKUP(D207,'Zvláštní zpráva'!$E$116:$H$222,4,FALSE)=\"zvyšte skóre\",\"ISO 14001\",\"\")","v":""},{"$f":"IF(VLOOKUP(D207,'Zvláštní zpráva'!$E$226:$H$332,4,FALSE)=\"zvyšte skóre\",\"ISO 26000\",\"\")","v":""},{"$f":"IF(VLOOKUP(D207,'Zvláštní zpráva'!$E$336:$H$552,4,FALSE)=\"zvyšte skóre\",\"ISO 45001\",\"\")","v":""},{"$f":"IF(VLOOKUP(D207,'Zvláštní zpráva'!$E$556:$H$662,4,FALSE)=\"zvyšte skóre\",\"EMAS\",\"\")","v":""},{"$f":"IF(VLOOKUP(D207,'Zvláštní zpráva'!$E$666:$H$772,4,FALSE)=\"zvyšte skóre\",\"RC14001\",\"\")","v":""},{"$f":"IF(VLOOKUP(D207,'Zvláštní zpráva'!$E$776:$H$882,4,FALSE)=\"zvyšte skóre\",\"RCMS\",\"\")","v":""}]
[null,null,null,null,"Vaše skóre ",null,{"$f":"VLOOKUP(D207,'Technický list'!$B$124:$C$168,2,FALSE)","v":3},null,null,null,null,null,null,{"$f":"CONCATENATE(G208,\" = \",HLOOKUP(\" \",'Kapitola 2'!D217:E222,Tipy!G208+2))","v":"3 = Postupy odpadového hospodářství, které se týkají provozu a zařízení, se periodicky vyhodnocují a v případě potřeby aktualizují."}]
[null,null,null,null,"Pokuste se zlepšit ",null,{"$f":"VLOOKUP(CONCATENATE(D207,$M$3),'Technický list'!$BG$124:$BI$303,3,FALSE)","v":"Implementujte program s partnery v oblasti nakládání s odpady s cílem řešit příležitosti ke zlepšení."}]
[null,null,null,null,null,null,null,null,null,null,null,null,null,{"$f":"IF(L211=8,\"\",\"zvyšte skóre pro:\")","v":""}]
[null,null,{"$f":"IF(VLOOKUP(D211,'Technický list'!$AO$124:$AQ$168,3,0)=\"OK\",\"\",\"hlavní věci\")","v":""},{"$f":"'Kapitola 2'!C224","v":"Q2.36"},{"$f":"'Kapitola 2'!D224","v":"Jakým způsobem řídí organizace rizika týkající se podzemních vod?"},null,null,null,null,null,null,{"$f":"COUNTBLANK(N211:U211)","v":8},true,{"$f":"IF(VLOOKUP(D211,'Zvláštní zpráva'!$E$6:$H$112,4,FALSE)=\"zvyšte skóre\",\"ISO 9001\",\"\")","v":""},{"$f":"IF(VLOOKUP(D211,'Zvláštní zpráva'!$E$116:$H$222,4,FALSE)=\"zvyšte skóre\",\"ISO 14001\",\"\")","v":""},{"$f":"IF(VLOOKUP(D211,'Zvláštní zpráva'!$E$226:$H$332,4,FALSE)=\"zvyšte skóre\",\"ISO 26000\",\"\")","v":""},{"$f":"IF(VLOOKUP(D211,'Zvláštní zpráva'!$E$336:$H$552,4,FALSE)=\"zvyšte skóre\",\"ISO 45001\",\"\")","v":""},{"$f":"IF(VLOOKUP(D211,'Zvláštní zpráva'!$E$556:$H$662,4,FALSE)=\"zvyšte skóre\",\"EMAS\",\"\")","v":""},{"$f":"IF(VLOOKUP(D211,'Zvláštní zpráva'!$E$666:$H$772,4,FALSE)=\"zvyšte skóre\",\"RC14001\",\"\")","v":""},{"$f":"IF(VLOOKUP(D211,'Zvláštní zpráva'!$E$776:$H$882,4,FALSE)=\"zvyšte skóre\",\"RCMS\",\"\")","v":""}]
[null,null,null,null,"Vaše skóre ",null,{"$f":"VLOOKUP(D211,'Technický list'!$B$124:$C$168,2,FALSE)","v":3},null,null,null,null,null,null,{"$f":"CONCATENATE(G212,\" = \",HLOOKUP(\" \",'Kapitola 2'!D223:E228,Tipy!G212+2))","v":"3 = Pravidelně se provádějí zkoušky kvality podzemních vod s cílem identifikovat potenciální kontaminaci podzemních vod."}]
[null,null,null,null,"Pokuste se zlepšit ",null,{"$f":"VLOOKUP(CONCATENATE(D211,$M$3),'Technický list'!$BG$124:$BI$303,3,FALSE)","v":"Vyvíjet technologie, aby se zabránilo rizikům znečištění podzemních vod. Zajistěte, aby tyto technologie a osvědčené postupy byly sdíleny v tomto odvětví, aby také pomohli ostatním zlepšit se."}]
[null,null,null,null,null,null,null,null,null,null,null,null,null,{"$f":"IF(L215=8,\"\",\"zvyšte skóre pro:\")","v":""}]
[null,null,{"$f":"IF(VLOOKUP(D215,'Technický list'!$AO$124:$AQ$168,3,0)=\"OK\",\"\",\"hlavní věci\")","v":""},{"$f":"'Kapitola 2'!C230","v":"Q2.37"},{"$f":"'Kapitola 2'!D230","v":"Jakým způsobem řídí organizace rizika týkající se znečištění půdy?"},null,null,null,null,null,null,{"$f":"COUNTBLANK(N215:U215)","v":8},true,{"$f":"IF(VLOOKUP(D215,'Zvláštní zpráva'!$E$6:$H$112,4,FALSE)=\"zvyšte skóre\",\"ISO 9001\",\"\")","v":""},{"$f":"IF(VLOOKUP(D215,'Zvláštní zpráva'!$E$116:$H$222,4,FALSE)=\"zvyšte skóre\",\"ISO 14001\",\"\")","v":""},{"$f":"IF(VLOOKUP(D215,'Zvláštní zpráva'!$E$226:$H$332,4,FALSE)=\"zvyšte skóre\",\"ISO 26000\",\"\")","v":""},{"$f":"IF(VLOOKUP(D215,'Zvláštní zpráva'!$E$336:$H$552,4,FALSE)=\"zvyšte skóre\",\"ISO 45001\",\"\")","v":""},{"$f":"IF(VLOOKUP(D215,'Zvláštní zpráva'!$E$556:$H$662,4,FALSE)=\"zvyšte skóre\",\"EMAS\",\"\")","v":""},{"$f":"IF(VLOOKUP(D215,'Zvláštní zpráva'!$E$666:$H$772,4,FALSE)=\"zvyšte skóre\",\"RC14001\",\"\")","v":""},{"$f":"IF(VLOOKUP(D215,'Zvláštní zpráva'!$E$776:$H$882,4,FALSE)=\"zvyšte skóre\",\"RCMS\",\"\")","v":""}]
[null,null,null,null,"Vaše skóre ",null,{"$f":"VLOOKUP(D215,'Technický list'!$B$124:$C$168,2,FALSE)","v":3},null,null,null,null,null,null,{"$f":"CONCATENATE(G216,\" = \",HLOOKUP(\" \",'Kapitola 2'!D229:E234,Tipy!G216+2))","v":"3 = Byla zavedena opatření a postupy pro minimalizaci vlivu havarijního úniku do půdy. Pravidelně se provádějí zkoušky kvality půdy s cílem identifikovat potenciální kontaminaci půdy."}]
[null,null,null,null,"Pokuste se zlepšit ",null,{"$f":"VLOOKUP(CONCATENATE(D215,$M$3),'Technický list'!$BG$124:$BI$303,3,FALSE)","v":"Vyvíjet technologie, aby se předešlo rizikům znečištění půdy. Zajistěte, aby tyto technologie a osvědčené postupy byly sdíleny v tomto odvětví, aby také pomohli ostatním zlepšit se."}]
[null,null,null,null,null,null,null,null,null,null,null,null,null,{"$f":"IF(L219=8,\"\",\"zvyšte skóre pro:\")","v":""}]
[null,null,{"$f":"IF(VLOOKUP(D219,'Technický list'!$AO$124:$AQ$168,3,0)=\"OK\",\"\",\"hlavní věci\")","v":""},{"$f":"'Kapitola 2'!C236","v":"Q2.38"},{"$f":"'Kapitola 2'!D236","v":"Jakým způsobem řídí organizace existující znečištění půdy?\n"},null,null,null,null,null,null,{"$f":"COUNTBLANK(N219:U219)","v":8},true,{"$f":"IF(VLOOKUP(D219,'Zvláštní zpráva'!$E$6:$H$112,4,FALSE)=\"zvyšte skóre\",\"ISO 9001\",\"\")","v":""},{"$f":"IF(VLOOKUP(D219,'Zvláštní zpráva'!$E$116:$H$222,4,FALSE)=\"zvyšte skóre\",\"ISO 14001\",\"\")","v":""},{"$f":"IF(VLOOKUP(D219,'Zvláštní zpráva'!$E$226:$H$332,4,FALSE)=\"zvyšte skóre\",\"ISO 26000\",\"\")","v":""},{"$f":"IF(VLOOKUP(D219,'Zvláštní zpráva'!$E$336:$H$552,4,FALSE)=\"zvyšte skóre\",\"ISO 45001\",\"\")","v":""},{"$f":"IF(VLOOKUP(D219,'Zvláštní zpráva'!$E$556:$H$662,4,FALSE)=\"zvyšte skóre\",\"EMAS\",\"\")","v":""},{"$f":"IF(VLOOKUP(D219,'Zvláštní zpráva'!$E$666:$H$772,4,FALSE)=\"zvyšte skóre\",\"RC14001\",\"\")","v":""},{"$f":"IF(VLOOKUP(D219,'Zvláštní zpráva'!$E$776:$H$882,4,FALSE)=\"zvyšte skóre\",\"RCMS\",\"\")","v":""}]
[null,null,null,null,"Vaše skóre ",null,{"$f":"VLOOKUP(D219,'Technický list'!$B$124:$C$168,2,FALSE)","v":4},null,null,null,null,null,null,{"$f":"CONCATENATE(G220,\" = \",HLOOKUP(\" \",'Kapitola 2'!D235:E240,Tipy!G220+2))","v":"4 = Plán řízení znečištění je zahrnut do rozpočtu i do řízení lokality."}]
[null,null,null,null,"Pokuste se zlepšit ",null,{"$f":"VLOOKUP(CONCATENATE(D219,$M$3),'Technický list'!$BG$124:$BI$303,3,FALSE)","v":"Není třeba okamžitě měnit strategii, vždy se však snažte o zlepšení."}]
[null,null,null,null,null,null,null,null,null,null,null,null,null,{"$f":"IF(L223=8,\"\",\"zvyšte skóre pro:\")","v":""}]
[null,null,{"$f":"IF(VLOOKUP(D223,'Technický list'!$AO$124:$AQ$168,3,0)=\"OK\",\"\",\"hlavní věci\")","v":""},{"$f":"'Kapitola 2'!C242","v":"Q2.39"},{"$f":"'Kapitola 2'!D242","v":"Jakým způsobem organizace řídí své emise škodlivin do ovzduší?"},null,null,null,null,null,null,{"$f":"COUNTBLANK(N223:U223)","v":8},true,{"$f":"IF(VLOOKUP(D223,'Zvláštní zpráva'!$E$6:$H$112,4,FALSE)=\"zvyšte skóre\",\"ISO 9001\",\"\")","v":""},{"$f":"IF(VLOOKUP(D223,'Zvláštní zpráva'!$E$116:$H$222,4,FALSE)=\"zvyšte skóre\",\"ISO 14001\",\"\")","v":""},{"$f":"IF(VLOOKUP(D223,'Zvláštní zpráva'!$E$226:$H$332,4,FALSE)=\"zvyšte skóre\",\"ISO 26000\",\"\")","v":""},{"$f":"IF(VLOOKUP(D223,'Zvláštní zpráva'!$E$336:$H$552,4,FALSE)=\"zvyšte skóre\",\"ISO 45001\",\"\")","v":""},{"$f":"IF(VLOOKUP(D223,'Zvláštní zpráva'!$E$556:$H$662,4,FALSE)=\"zvyšte skóre\",\"EMAS\",\"\")","v":""},{"$f":"IF(VLOOKUP(D223,'Zvláštní zpráva'!$E$666:$H$772,4,FALSE)=\"zvyšte skóre\",\"RC14001\",\"\")","v":""},{"$f":"IF(VLOOKUP(D223,'Zvláštní zpráva'!$E$776:$H$882,4,FALSE)=\"zvyšte skóre\",\"RCMS\",\"\")","v":""}]
[null,null,null,null,"Vaše skóre ",null,{"$f":"VLOOKUP(D223,'Technický list'!$B$124:$C$168,2,FALSE)","v":3},null,null,null,null,null,null,{"$f":"CONCATENATE(G224,\" = \",HLOOKUP(\" \",'Kapitola 2'!D241:E246,Tipy!G224+2))","v":"3 = Organizace pravidelně posuzuje příležitosti pro zlepšování a systematicky plánuje činnosti s cílem snižovat své emise."}]
[null,null,null,null,"Pokuste se zlepšit ",null,{"$f":"VLOOKUP(CONCATENATE(D223,$M$3),'Technický list'!$BG$124:$BI$303,3,FALSE)","v":"Nastavení cílů a ukazatelů snižování emisí. Systematicky ověřovat pokrok směrem k těmto cílům."}]
[null,null,null,null,null,null,null,null,null,null,null,null,null,{"$f":"IF(L227=8,\"\",\"zvyšte skóre pro:\")","v":""}]
[null,null,{"$f":"IF(VLOOKUP(D227,'Technický list'!$AO$124:$AQ$168,3,0)=\"OK\",\"\",\"hlavní věci\")","v":""},{"$f":"'Kapitola 2'!C248","v":"Q2.40"},{"$f":"'Kapitola 2'!D248","v":"Jakým způsobem organizace řídí své emise škodlivin do vody?"},null,null,null,null,null,null,{"$f":"COUNTBLANK(N227:U227)","v":8},true,{"$f":"IF(VLOOKUP(D227,'Zvláštní zpráva'!$E$6:$H$112,4,FALSE)=\"zvyšte skóre\",\"ISO 9001\",\"\")","v":""},{"$f":"IF(VLOOKUP(D227,'Zvláštní zpráva'!$E$116:$H$222,4,FALSE)=\"zvyšte skóre\",\"ISO 14001\",\"\")","v":""},{"$f":"IF(VLOOKUP(D227,'Zvláštní zpráva'!$E$226:$H$332,4,FALSE)=\"zvyšte skóre\",\"ISO 26000\",\"\")","v":""},{"$f":"IF(VLOOKUP(D227,'Zvláštní zpráva'!$E$336:$H$552,4,FALSE)=\"zvyšte skóre\",\"ISO 45001\",\"\")","v":""},{"$f":"IF(VLOOKUP(D227,'Zvláštní zpráva'!$E$556:$H$662,4,FALSE)=\"zvyšte skóre\",\"EMAS\",\"\")","v":""},{"$f":"IF(VLOOKUP(D227,'Zvláštní zpráva'!$E$666:$H$772,4,FALSE)=\"zvyšte skóre\",\"RC14001\",\"\")","v":""},{"$f":"IF(VLOOKUP(D227,'Zvláštní zpráva'!$E$776:$H$882,4,FALSE)=\"zvyšte skóre\",\"RCMS\",\"\")","v":""}]
[null,null,null,null,"Vaše skóre ",null,{"$f":"VLOOKUP(D227,'Technický list'!$B$124:$C$168,2,FALSE)","v":4},null,null,null,null,null,null,{"$f":"CONCATENATE(G228,\" = \",HLOOKUP(\" \",'Kapitola 2'!D247:E252,Tipy!G228+2))","v":"4 = Byly stanoveny cíle a ukazatele snížení emisí škodlivin. Pokrok při dosahování cílů se systematicky ověřuje."}]
[null,null,null,null,"Pokuste se zlepšit ",null,{"$f":"VLOOKUP(CONCATENATE(D227,$M$3),'Technický list'!$BG$124:$BI$303,3,FALSE)","v":"Není třeba okamžitě měnit strategii, nicméně vždy hledejte zlepšení."}]
[null,null,null,null,null,null,null,null,null,null,null,null,null,{"$f":"IF(L231=8,\"\",\"zvyšte skóre pro:\")","v":""}]
[null,null,{"$f":"IF(VLOOKUP(D231,'Technický list'!$AO$124:$AQ$168,3,0)=\"OK\",\"\",\"hlavní věci\")","v":""},{"$f":"'Kapitola 2'!C254","v":"Q2.41"},{"$f":"'Kapitola 2'!D254","v":"Jakým způsobem organizace řídí své emise hluku?"},null,null,null,null,null,null,{"$f":"COUNTBLANK(N231:U231)","v":8},true,{"$f":"IF(VLOOKUP(D231,'Zvláštní zpráva'!$E$6:$H$112,4,FALSE)=\"zvyšte skóre\",\"ISO 9001\",\"\")","v":""},{"$f":"IF(VLOOKUP(D231,'Zvláštní zpráva'!$E$116:$H$222,4,FALSE)=\"zvyšte skóre\",\"ISO 14001\",\"\")","v":""},{"$f":"IF(VLOOKUP(D231,'Zvláštní zpráva'!$E$226:$H$332,4,FALSE)=\"zvyšte skóre\",\"ISO 26000\",\"\")","v":""},{"$f":"IF(VLOOKUP(D231,'Zvláštní zpráva'!$E$336:$H$552,4,FALSE)=\"zvyšte skóre\",\"ISO 45001\",\"\")","v":""},{"$f":"IF(VLOOKUP(D231,'Zvláštní zpráva'!$E$556:$H$662,4,FALSE)=\"zvyšte skóre\",\"EMAS\",\"\")","v":""},{"$f":"IF(VLOOKUP(D231,'Zvláštní zpráva'!$E$666:$H$772,4,FALSE)=\"zvyšte skóre\",\"RC14001\",\"\")","v":""},{"$f":"IF(VLOOKUP(D231,'Zvláštní zpráva'!$E$776:$H$882,4,FALSE)=\"zvyšte skóre\",\"RCMS\",\"\")","v":""}]
[null,null,null,null,"Vaše skóre ",null,{"$f":"VLOOKUP(D231,'Technický list'!$B$124:$C$168,2,FALSE)","v":3},null,null,null,null,null,null,{"$f":"CONCATENATE(G232,\" = \",HLOOKUP(\" \",'Kapitola 2'!D253:E258,Tipy!G232+2))","v":"3 = Byly stanoveny pravidelné monitorovací kampaně. Údaje z monitorování se posuzují s cílem stanovit a naplánovat příležitosti ke zlepšování. Systematicky se plánují opatření ke snižování emisí hluku."}]
[null,null,null,null,"Pokuste se zlepšit ",null,{"$f":"VLOOKUP(CONCATENATE(D231,$M$3),'Technický list'!$BG$124:$BI$303,3,FALSE)","v":"Stanovení cílů a ukazatelů snižování emisí. Systematicky ověřovat pokrok směrem k těmto cílům."}]
[null,null,null,null,null,null,null,null,null,null,null,null,null,{"$f":"IF(L235=8,\"\",\"zvyšte skóre pro:\")","v":""}]
[null,null,{"$f":"IF(VLOOKUP(D235,'Technický list'!$AO$124:$AQ$168,3,0)=\"OK\",\"\",\"hlavní věci\")","v":""},{"$f":"'Kapitola 2'!C260","v":"Q2.42"},{"$f":"'Kapitola 2'!D260","v":"Jakým způsobem organizace řídí své emise zápachu?"},null,null,null,null,null,null,{"$f":"COUNTBLANK(N235:U235)","v":8},true,{"$f":"IF(VLOOKUP(D235,'Zvláštní zpráva'!$E$6:$H$112,4,FALSE)=\"zvyšte skóre\",\"ISO 9001\",\"\")","v":""},{"$f":"IF(VLOOKUP(D235,'Zvláštní zpráva'!$E$116:$H$222,4,FALSE)=\"zvyšte skóre\",\"ISO 14001\",\"\")","v":""},{"$f":"IF(VLOOKUP(D235,'Zvláštní zpráva'!$E$226:$H$332,4,FALSE)=\"zvyšte skóre\",\"ISO 26000\",\"\")","v":""},{"$f":"IF(VLOOKUP(D235,'Zvláštní zpráva'!$E$336:$H$552,4,FALSE)=\"zvyšte skóre\",\"ISO 45001\",\"\")","v":""},{"$f":"IF(VLOOKUP(D235,'Zvláštní zpráva'!$E$556:$H$662,4,FALSE)=\"zvyšte skóre\",\"EMAS\",\"\")","v":""},{"$f":"IF(VLOOKUP(D235,'Zvláštní zpráva'!$E$666:$H$772,4,FALSE)=\"zvyšte skóre\",\"RC14001\",\"\")","v":""},{"$f":"IF(VLOOKUP(D235,'Zvláštní zpráva'!$E$776:$H$882,4,FALSE)=\"zvyšte skóre\",\"RCMS\",\"\")","v":""}]
[null,null,null,null,"Vaše skóre ",null,{"$f":"VLOOKUP(D235,'Technický list'!$B$124:$C$168,2,FALSE)","v":4},null,null,null,null,null,null,{"$f":"CONCATENATE(G236,\" = \",HLOOKUP(\" \",'Kapitola 2'!D259:E264,Tipy!G236+2))","v":"4 = Organizace disponuje kontaktním místem pro případ obtěžování zápachem. Systematicky se plánují opatření ke zlepšení a omezování emisí zápachu v souladu s požadavky zainteresovaných stran."}]
[null,null,null,null,"Pokuste se zlepšit ",null,{"$f":"VLOOKUP(CONCATENATE(D235,$M$3),'Technický list'!$BG$124:$BI$303,3,FALSE)","v":"Není třeba okamžitě měnit strategii, nicméně vždy hledejte zlepšení."}]
[null,null,null,null,null,null,null,null,null,null,null,null,null,{"$f":"IF(L239=8,\"\",\"zvyšte skóre pro:\")","v":""}]
[null,null,{"$f":"IF(VLOOKUP(D239,'Technický list'!$AO$124:$AQ$168,3,0)=\"OK\",\"\",\"hlavní věci\")","v":""},{"$f":"'Kapitola 2'!C266","v":"Q2.43"},{"$f":"'Kapitola 2'!D266","v":"Jakým způsobem organizace zabraňuje a řídí havarijní emise do prostředí?"},null,null,null,null,null,null,{"$f":"COUNTBLANK(N239:U239)","v":8},true,{"$f":"IF(VLOOKUP(D239,'Zvláštní zpráva'!$E$6:$H$112,4,FALSE)=\"zvyšte skóre\",\"ISO 9001\",\"\")","v":""},{"$f":"IF(VLOOKUP(D239,'Zvláštní zpráva'!$E$116:$H$222,4,FALSE)=\"zvyšte skóre\",\"ISO 14001\",\"\")","v":""},{"$f":"IF(VLOOKUP(D239,'Zvláštní zpráva'!$E$226:$H$332,4,FALSE)=\"zvyšte skóre\",\"ISO 26000\",\"\")","v":""},{"$f":"IF(VLOOKUP(D239,'Zvláštní zpráva'!$E$336:$H$552,4,FALSE)=\"zvyšte skóre\",\"ISO 45001\",\"\")","v":""},{"$f":"IF(VLOOKUP(D239,'Zvláštní zpráva'!$E$556:$H$662,4,FALSE)=\"zvyšte skóre\",\"EMAS\",\"\")","v":""},{"$f":"IF(VLOOKUP(D239,'Zvláštní zpráva'!$E$666:$H$772,4,FALSE)=\"zvyšte skóre\",\"RC14001\",\"\")","v":""},{"$f":"IF(VLOOKUP(D239,'Zvláštní zpráva'!$E$776:$H$882,4,FALSE)=\"zvyšte skóre\",\"RCMS\",\"\")","v":""}]
[null,null,null,null,"Vaše skóre ",null,{"$f":"VLOOKUP(D239,'Technický list'!$B$124:$C$168,2,FALSE)","v":4},null,null,null,null,null,null,{"$f":"CONCATENATE(G240,\" = \",HLOOKUP(\" \",'Kapitola 2'!D265:E270,Tipy!G240+2))","v":"4 = V organizaci působí jednotka na předcházení krizím, která provádí cvičení simulující krizi v souvislosti s havarijním znečištěním. Kromě toho byl stanoven postup komunikace s místními zainteresovanými stranami (úřady, médii, místními obyvateli ...) a účinnost tohoto procesu se pravidelně vyhodnocuje a zlepšuje."}]
[null,null,null,null,"Pokuste se zlepšit ",null,{"$f":"VLOOKUP(CONCATENATE(D239,$M$3),'Technický list'!$BG$124:$BI$303,3,FALSE)","v":"Není třeba okamžitě měnit strategii, ale vždy hledejte zlepšení."}]
[null,null,null,null,null,null,null,null,null,null,null,null,null,{"$f":"IF(L243=8,\"\",\"zvyšte skóre pro:\")","v":""}]
[null,null,{"$f":"IF(VLOOKUP(D243,'Technický list'!$AO$124:$AQ$168,3,0)=\"OK\",\"\",\"hlavní věci\")","v":""},{"$f":"'Kapitola 2'!C272","v":"Q2.44"},{"$f":"'Kapitola 2'!D272","v":"Jakým způsobem zajišťuje organizace správně kompetence všech pracovníků, týkající se environmentálních požadavků, které souvisejí s jejich pracovní náplní?"},null,null,null,null,null,null,{"$f":"COUNTBLANK(N243:U243)","v":8},true,{"$f":"IF(VLOOKUP(D243,'Zvláštní zpráva'!$E$6:$H$112,4,FALSE)=\"zvyšte skóre\",\"ISO 9001\",\"\")","v":""},{"$f":"IF(VLOOKUP(D243,'Zvláštní zpráva'!$E$116:$H$222,4,FALSE)=\"zvyšte skóre\",\"ISO 14001\",\"\")","v":""},{"$f":"IF(VLOOKUP(D243,'Zvláštní zpráva'!$E$226:$H$332,4,FALSE)=\"zvyšte skóre\",\"ISO 26000\",\"\")","v":""},{"$f":"IF(VLOOKUP(D243,'Zvláštní zpráva'!$E$336:$H$552,4,FALSE)=\"zvyšte skóre\",\"ISO 45001\",\"\")","v":""},{"$f":"IF(VLOOKUP(D243,'Zvláštní zpráva'!$E$556:$H$662,4,FALSE)=\"zvyšte skóre\",\"EMAS\",\"\")","v":""},{"$f":"IF(VLOOKUP(D243,'Zvláštní zpráva'!$E$666:$H$772,4,FALSE)=\"zvyšte skóre\",\"RC14001\",\"\")","v":""},{"$f":"IF(VLOOKUP(D243,'Zvláštní zpráva'!$E$776:$H$882,4,FALSE)=\"zvyšte skóre\",\"RCMS\",\"\")","v":""}]
[null,null,null,null,"Vaše skóre ",null,{"$f":"VLOOKUP(D243,'Technický list'!$B$124:$C$168,2,FALSE)","v":4},null,null,null,null,null,null,{"$f":"CONCATENATE(G244,\" = \",HLOOKUP(\" \",'Kapitola 2'!D271:E276,Tipy!G244+2))","v":"4 = Pravidelně se vyhodnocují osvědčení o způsobilosti a účinnost školení."}]
[null,null,null,null,"Pokuste se zlepšit ",null,{"$f":"VLOOKUP(CONCATENATE(D243,$M$3),'Technický list'!$BG$124:$BI$303,3,FALSE)","v":"Není třeba okamžitě měnit strategii, vždy se však snažte zlepšit."}]
[null,null,null,null,null,null,null,null,null,null,null,null,null,{"$f":"IF(L247=8,\"\",\"zvyšte skóre pro:\")","v":""}]
[null,null,{"$f":"IF(VLOOKUP(D247,'Technický list'!$AO$124:$AQ$168,3,0)=\"OK\",\"\",\"hlavní věci\")","v":""},{"$f":"'Kapitola 2'!C278","v":"Q2.45"},{"$f":"'Kapitola 2'!D278","v":"Jakým způsobem jsou zainteresované strany organizace informovány o environmentálních aspektech a jejich možných dopadech?"},null,null,null,null,null,null,{"$f":"COUNTBLANK(N247:U247)","v":8},true,{"$f":"IF(VLOOKUP(D247,'Zvláštní zpráva'!$E$6:$H$112,4,FALSE)=\"zvyšte skóre\",\"ISO 9001\",\"\")","v":""},{"$f":"IF(VLOOKUP(D247,'Zvláštní zpráva'!$E$116:$H$222,4,FALSE)=\"zvyšte skóre\",\"ISO 14001\",\"\")","v":""},{"$f":"IF(VLOOKUP(D247,'Zvláštní zpráva'!$E$226:$H$332,4,FALSE)=\"zvyšte skóre\",\"ISO 26000\",\"\")","v":""},{"$f":"IF(VLOOKUP(D247,'Zvláštní zpráva'!$E$336:$H$552,4,FALSE)=\"zvyšte skóre\",\"ISO 45001\",\"\")","v":""},{"$f":"IF(VLOOKUP(D247,'Zvláštní zpráva'!$E$556:$H$662,4,FALSE)=\"zvyšte skóre\",\"EMAS\",\"\")","v":""},{"$f":"IF(VLOOKUP(D247,'Zvláštní zpráva'!$E$666:$H$772,4,FALSE)=\"zvyšte skóre\",\"RC14001\",\"\")","v":""},{"$f":"IF(VLOOKUP(D247,'Zvláštní zpráva'!$E$776:$H$882,4,FALSE)=\"zvyšte skóre\",\"RCMS\",\"\")","v":""}]
[null,null,null,null,"Vaše skóre ",null,{"$f":"VLOOKUP(D247,'Technický list'!$B$124:$C$168,2,FALSE)","v":3},null,null,null,null,null,null,{"$f":"CONCATENATE(G248,\" = \",HLOOKUP(\" \",'Kapitola 2'!D277:E282,Tipy!G248+2))","v":"3 = Organizace spolupracuje s místními subjekty a sdruženími s cílem zohlednit jejich očekávání (případně i společná řešení)."}]
[null,null,null,null,"Pokuste se zlepšit ",null,{"$f":"VLOOKUP(CONCATENATE(D247,$M$3),'Technický list'!$BG$124:$BI$303,3,FALSE)","v":"Komunikovat zúčastněné strany o monitorování ukazatelů vlivu na životní prostředí s cílem zdůraznit zapojení organizace do environmentálních otázek regionu, kde se nachází."}]
[]
[null,null,"KAPITOLA 3","Posílení systémů řízení chemických látek"]
[null,{"$f":"'Kapitola 3'!B4","v":"Návrhování a zlepšování produktu"},null,null,null,null,null,null,null,null,null,null,null,{"$f":"IF(L253=8,\"\",\"zvyšte skóre pro:\")","v":"zvyšte skóre pro:"}]
[null,null,{"$f":"IF(VLOOKUP(D253,'Technický list'!$AO$406:$AQ$418,3,0)=\"OK\",\"\",\"hlavní věci\")","v":""},{"$f":"'Kapitola 3'!C6","v":"Q3.1"},{"$f":"'Kapitola 3'!D6","v":"Zavedla organizace proces pro navrhování a vývoj nových \nproduktů a služeb?"},null,null,null,null,null,null,{"$f":"COUNTBLANK(N253:U253)","v":7},true,{"$f":"IF(VLOOKUP(D253,'Zvláštní zpráva'!$E$6:$H$112,4,FALSE)=\"zvyšte skóre\",\"ISO 9001\",\"\")","v":""},{"$f":"IF(VLOOKUP(D253,'Zvláštní zpráva'!$E$116:$H$222,4,FALSE)=\"zvyšte skóre\",\"ISO 14001\",\"\")","v":""},{"$f":"IF(VLOOKUP(D253,'Zvláštní zpráva'!$E$226:$H$332,4,FALSE)=\"zvyšte skóre\",\"ISO 26000\",\"\")","v":"ISO 26000"},{"$f":"IF(VLOOKUP(D253,'Zvláštní zpráva'!$E$336:$H$552,4,FALSE)=\"zvyšte skóre\",\"ISO 45001\",\"\")","v":""},{"$f":"IF(VLOOKUP(D253,'Zvláštní zpráva'!$E$556:$H$662,4,FALSE)=\"zvyšte skóre\",\"EMAS\",\"\")","v":""},{"$f":"IF(VLOOKUP(D253,'Zvláštní zpráva'!$E$666:$H$772,4,FALSE)=\"zvyšte skóre\",\"RC14001\",\"\")","v":""},{"$f":"IF(VLOOKUP(D253,'Zvláštní zpráva'!$E$776:$H$882,4,FALSE)=\"zvyšte skóre\",\"RCMS\",\"\")","v":""}]
[null,null,null,null,"Vaše skóre ",null,{"$f":"VLOOKUP(D253,'Technický list'!$B$406:$C$418,2,FALSE)","v":3},null,null,null,null,null,null,{"$f":"CONCATENATE(G254,\" = \",HLOOKUP(\" \",'Kapitola 3'!D5:E10,Tipy!G254+2))","v":"3 = Při navrhování nových výrobků a jejich používání v hodnotovém řetězci se zohledňují charakterizace rizik a úvahy o řízení rizik. Stávající produkty se zlepšují, aby se omezila rizika z počáteční fáze. Může se to projevit tak, že se vyhnete používání škodlivých chemických látek, včetně, ale ne jen těch, které jsou karcinogenní, mutagenní, toxické pro reprodukci, nebo perzistentní a bioakumulativní. Zavádí se další snížení rizika pro každého identifikovaného uživatele nebo kontaktní skupinu."}]
[null,null,null,null,"Pokuste se zlepšit ",null,{"$f":"VLOOKUP(CONCATENATE(D253,$M$3),'Technický list'!$BG$406:$BI$452,3,FALSE)","v":"Prozkoumejte dostupné informace o charakterizaci rizika, abyste snížili riziko od počátku. Může se to promítnout do zamezení používání škodlivých chemických látek, které jsou karcinogenní, mutagenní, toxické pro reprodukci nebo perzistentní a bioakumulativní, ale neomezovat se jen na ně. Je implementováno další snižování rizika pro každého identifikovaného uživatele nebo kontaktní skupinu. Ukažte ostatním svůj závazek."}]
[null,{"$f":"'Kapitola 3'!B12","v":"Stanovování priorit produktů"},null,null,null,null,null,null,null,null,null,null,null,{"$f":"IF(L257=8,\"\",\"zvyšte skóre pro:\")","v":""}]
[null,null,{"$f":"IF(VLOOKUP(D257,'Technický list'!$AO$406:$AQ$418,3,0)=\"OK\",\"\",\"hlavní věci\")","v":""},{"$f":"'Kapitola 3'!C14","v":"Q3.2"},{"$f":"'Kapitola 3'!D14","v":"Má organizace k dispozici proces hodnocení a stanovení priorit svých produktů pro charakterizaci rizik a řízení rizik?\n\n\n"},null,null,null,null,null,null,{"$f":"COUNTBLANK(N257:U257)","v":8},true,{"$f":"IF(VLOOKUP(D257,'Zvláštní zpráva'!$E$6:$H$112,4,FALSE)=\"zvyšte skóre\",\"ISO 9001\",\"\")","v":""},{"$f":"IF(VLOOKUP(D257,'Zvláštní zpráva'!$E$116:$H$222,4,FALSE)=\"zvyšte skóre\",\"ISO 14001\",\"\")","v":""},{"$f":"IF(VLOOKUP(D257,'Zvláštní zpráva'!$E$226:$H$332,4,FALSE)=\"zvyšte skóre\",\"ISO 26000\",\"\")","v":""},{"$f":"IF(VLOOKUP(D257,'Zvláštní zpráva'!$E$336:$H$552,4,FALSE)=\"zvyšte skóre\",\"ISO 45001\",\"\")","v":""},{"$f":"IF(VLOOKUP(D257,'Zvláštní zpráva'!$E$556:$H$662,4,FALSE)=\"zvyšte skóre\",\"EMAS\",\"\")","v":""},{"$f":"IF(VLOOKUP(D257,'Zvláštní zpráva'!$E$666:$H$772,4,FALSE)=\"zvyšte skóre\",\"RC14001\",\"\")","v":""},{"$f":"IF(VLOOKUP(D257,'Zvláštní zpráva'!$E$776:$H$882,4,FALSE)=\"zvyšte skóre\",\"RCMS\",\"\")","v":""}]
[null,null,null,null,"Vaše skóre ",null,{"$f":"VLOOKUP(D257,'Technický list'!$B$406:$C$418,2,FALSE)","v":2},null,null,null,null,null,null,{"$f":"CONCATENATE(G258,\" = \",HLOOKUP(\" \",'Kapitola 3'!D13:E18,Tipy!G258+2))","v":"2 = Tento proces se používá za použití vypracovaných kritérií pro stanovení priorit produktů pro každou skupinu výrobků (kritéria založená na nových informacích, použití a vzorcích expozice v souvislosti s profilem nebezpečnosti chemické látky). Tento proces se vztahuje na nové a stávající produkty. Kritéria pro stanovení priorit jsou pravidelně aktualizována."}]
[null,null,null,null,"Pokuste se zlepšit ",null,{"$f":"VLOOKUP(CONCATENATE(D257,$M$3),'Technický list'!$BG$406:$BI$452,3,FALSE)","v":"Proces je propracovanější a probíhá nepřetržitě. Je zavedeno automatické upozornění na nové informace o látkách a výrobcích (např.  z vědeckých časopisů)."}]
[null,{"$f":"'Kapitola 3'!B20","v":"Informace o produktu "},null,null,null,null,null,null,null,null,null,null,null,{"$f":"IF(L261=8,\"\",\"zvyšte skóre pro:\")","v":""}]
[null,null,{"$f":"IF(VLOOKUP(D261,'Technický list'!$AO$406:$AQ$418,3,0)=\"OK\",\"\",\"hlavní věci\")","v":""},{"$f":"'Kapitola 3'!C22","v":"Q3.3"},{"$f":"'Kapitola 3'!D22","v":"Zavedla organizace systém pro sledování použitelnosti, změn a dodržování interních a externích požadavků souvisejících s řízením bezpečnosti chemických látek?"},null,null,null,null,null,null,{"$f":"COUNTBLANK(N261:U261)","v":8},true,{"$f":"IF(VLOOKUP(D261,'Zvláštní zpráva'!$E$6:$H$112,4,FALSE)=\"zvyšte skóre\",\"ISO 9001\",\"\")","v":""},{"$f":"IF(VLOOKUP(D261,'Zvláštní zpráva'!$E$116:$H$222,4,FALSE)=\"zvyšte skóre\",\"ISO 14001\",\"\")","v":""},{"$f":"IF(VLOOKUP(D261,'Zvláštní zpráva'!$E$226:$H$332,4,FALSE)=\"zvyšte skóre\",\"ISO 26000\",\"\")","v":""},{"$f":"IF(VLOOKUP(D261,'Zvláštní zpráva'!$E$336:$H$552,4,FALSE)=\"zvyšte skóre\",\"ISO 45001\",\"\")","v":""},{"$f":"IF(VLOOKUP(D261,'Zvláštní zpráva'!$E$556:$H$662,4,FALSE)=\"zvyšte skóre\",\"EMAS\",\"\")","v":""},{"$f":"IF(VLOOKUP(D261,'Zvláštní zpráva'!$E$666:$H$772,4,FALSE)=\"zvyšte skóre\",\"RC14001\",\"\")","v":""},{"$f":"IF(VLOOKUP(D261,'Zvláštní zpráva'!$E$776:$H$882,4,FALSE)=\"zvyšte skóre\",\"RCMS\",\"\")","v":""}]
[null,null,null,null,"Vaše skóre ",null,{"$f":"VLOOKUP(D261,'Technický list'!$B$406:$C$418,2,FALSE)","v":3},null,null,null,null,null,null,{"$f":"CONCATENATE(G262,\" = \",HLOOKUP(\" \",'Kapitola 3'!D21:E26,Tipy!G262+2))","v":"3 = V organizaci byl zaveden systém pro komunikaci v rámci dodavatelského řetězce a pro pravidelnou kontrolu souladu produktů od dodavatelů. Informace o dodržování souladu v rámci dodavatelského řetězce jsou snadno přístupné. Probíhá následná komunikace s cílem potvrdit dodržování příslušných předpisů."}]
[null,null,null,null,"Pokuste se zlepšit ",null,{"$f":"VLOOKUP(CONCATENATE(D261,$M$3),'Technický list'!$BG$406:$BI$452,3,FALSE)","v":"Identifikujte látky, které mohou být ovlivněny vývojem předpisů (např. Látky uvedené na seznamu povolení, jsou předmětem veřejných konzultací, analýzy možností řízení rizik, průběžného Akčního plánu Společenství). Přihlaste se k odběru zpravodajů agentury ECHA o nadcházejících rozhodnutích nebo dalších veřejných konzultacích. Ujistěte se, že váš management a vaši dodavatelé jsou si vědomi nejnovějšího vývoje předpisů a jejich možných dopadů na výrobky a činnosti."}]
[null,null,null,null,null,null,null,null,null,null,null,null,null,{"$f":"IF(L265=8,\"\",\"zvyšte skóre pro:\")","v":"zvyšte skóre pro:"}]
[null,null,{"$f":"IF(VLOOKUP(D265,'Technický list'!$AO$406:$AQ$418,3,0)=\"OK\",\"\",\"hlavní věci\")","v":""},{"$f":"'Kapitola 3'!C28","v":"Q3.4"},{"$f":"'Kapitola 3'!D28","v":"Zavedla organizace systém na správu existujících informací o rizicích svých produktů?"},null,null,null,null,null,null,{"$f":"COUNTBLANK(N265:U265)","v":6},true,{"$f":"IF(VLOOKUP(D265,'Zvláštní zpráva'!$E$6:$H$112,4,FALSE)=\"zvyšte skóre\",\"ISO 9001\",\"\")","v":""},{"$f":"IF(VLOOKUP(D265,'Zvláštní zpráva'!$E$116:$H$222,4,FALSE)=\"zvyšte skóre\",\"ISO 14001\",\"\")","v":""},{"$f":"IF(VLOOKUP(D265,'Zvláštní zpráva'!$E$226:$H$332,4,FALSE)=\"zvyšte skóre\",\"ISO 26000\",\"\")","v":""},{"$f":"IF(VLOOKUP(D265,'Zvláštní zpráva'!$E$336:$H$552,4,FALSE)=\"zvyšte skóre\",\"ISO 45001\",\"\")","v":""},{"$f":"IF(VLOOKUP(D265,'Zvláštní zpráva'!$E$556:$H$662,4,FALSE)=\"zvyšte skóre\",\"EMAS\",\"\")","v":""},{"$f":"IF(VLOOKUP(D265,'Zvláštní zpráva'!$E$666:$H$772,4,FALSE)=\"zvyšte skóre\",\"RC14001\",\"\")","v":"RC14001"},{"$f":"IF(VLOOKUP(D265,'Zvláštní zpráva'!$E$776:$H$882,4,FALSE)=\"zvyšte skóre\",\"RCMS\",\"\")","v":"RCMS"}]
[null,null,null,null,"Vaše skóre ",null,{"$f":"VLOOKUP(D265,'Technický list'!$B$406:$C$418,2,FALSE)","v":2},null,null,null,null,null,null,{"$f":"CONCATENATE(G266,\" = \",HLOOKUP(\" \",'Kapitola 3'!D27:E32,Tipy!G266+2))","v":"2 = Existující informace jsou uvedeny v dokumentaci, která se pravidelně aktualizuje a je volně dostupná."}]
[null,null,null,null,"Pokuste se zlepšit ",null,{"$f":"VLOOKUP(CONCATENATE(D265,$M$3),'Technický list'!$BG$406:$BI$452,3,FALSE)","v":"Proveďte proces kontroly dostupných informací z hlediska spolehlivosti a kvality pomocí zdrojů vyškolených k hodnocení informací o nebezpečnosti."}]
[null,null,null,null,null,null,null,null,null,null,null,null,null,{"$f":"IF(L269=8,\"\",\"zvyšte skóre pro:\")","v":""}]
[null,null,{"$f":"IF(VLOOKUP(D269,'Technický list'!$AO$406:$AQ$418,3,0)=\"OK\",\"\",\"hlavní věci\")","v":""},{"$f":"'Kapitola 3'!C34","v":"Q3.5"},{"$f":"'Kapitola 3'!D34","v":"Zavedla organizace proces řízení informací o používání a expozici svých produktů?"},null,null,null,null,null,null,{"$f":"COUNTBLANK(N269:U269)","v":8},true,{"$f":"IF(VLOOKUP(D269,'Zvláštní zpráva'!$E$6:$H$112,4,FALSE)=\"zvyšte skóre\",\"ISO 9001\",\"\")","v":""},{"$f":"IF(VLOOKUP(D269,'Zvláštní zpráva'!$E$116:$H$222,4,FALSE)=\"zvyšte skóre\",\"ISO 14001\",\"\")","v":""},{"$f":"IF(VLOOKUP(D269,'Zvláštní zpráva'!$E$226:$H$332,4,FALSE)=\"zvyšte skóre\",\"ISO 26000\",\"\")","v":""},{"$f":"IF(VLOOKUP(D269,'Zvláštní zpráva'!$E$336:$H$552,4,FALSE)=\"zvyšte skóre\",\"ISO 45001\",\"\")","v":""},{"$f":"IF(VLOOKUP(D269,'Zvláštní zpráva'!$E$556:$H$662,4,FALSE)=\"zvyšte skóre\",\"EMAS\",\"\")","v":""},{"$f":"IF(VLOOKUP(D269,'Zvláštní zpráva'!$E$666:$H$772,4,FALSE)=\"zvyšte skóre\",\"RC14001\",\"\")","v":""},{"$f":"IF(VLOOKUP(D269,'Zvláštní zpráva'!$E$776:$H$882,4,FALSE)=\"zvyšte skóre\",\"RCMS\",\"\")","v":""}]
[null,null,null,null,"Vaše skóre ",null,{"$f":"VLOOKUP(D269,'Technický list'!$B$406:$C$418,2,FALSE)","v":2},null,null,null,null,null,null,{"$f":"CONCATENATE(G270,\" = \",HLOOKUP(\" \",'Kapitola 3'!D33:E38,Tipy!G270+2))","v":"2 = Organizace vyvíjí proces identifikace záměrného zneužití nebo nesprávného používání produktu.\nStávající informace jsou strukturovány v dokumentačním systému a pravidelně se aktualizují a sdělují.\nVyžaduje se konečné používání zákazníkem v rámci dodavatelského řetězce.\nZpracovávají se obecné modely expozice, které zohledňují realistické opatření pro řízení provozních rizik."}]
[null,null,null,null,"Pokuste se zlepšit ",null,{"$f":"VLOOKUP(CONCATENATE(D269,$M$3),'Technický list'!$BG$406:$BI$452,3,FALSE)","v":"Vytvořte dokumentační systém pro informace o použití a expozici, které lze snadno přizpůsobit vkládání nových informací. Integrujte údaje z monitorování expozice na pracovišti, aby se zpřesnila dostupná data o expozici k popisu realistického modelu expozice."}]
[null,null,null,null,null,null,null,null,null,null,null,null,null,{"$f":"IF(L273=8,\"\",\"zvyšte skóre pro:\")","v":""}]
[null,null,{"$f":"IF(VLOOKUP(D273,'Technický list'!$AO$406:$AQ$418,3,0)=\"OK\",\"\",\"hlavní věci\")","v":""},{"$f":"'Kapitola 3'!C40","v":"Q3.6"},{"$f":"'Kapitola 3'!D40","v":"Zavedla organizace proces na správu nových informací?"},null,null,null,null,null,null,{"$f":"COUNTBLANK(N273:U273)","v":8},true,{"$f":"IF(VLOOKUP(D273,'Zvláštní zpráva'!$E$6:$H$112,4,FALSE)=\"zvyšte skóre\",\"ISO 9001\",\"\")","v":""},{"$f":"IF(VLOOKUP(D273,'Zvláštní zpráva'!$E$116:$H$222,4,FALSE)=\"zvyšte skóre\",\"ISO 14001\",\"\")","v":""},{"$f":"IF(VLOOKUP(D273,'Zvláštní zpráva'!$E$226:$H$332,4,FALSE)=\"zvyšte skóre\",\"ISO 26000\",\"\")","v":""},{"$f":"IF(VLOOKUP(D273,'Zvláštní zpráva'!$E$336:$H$552,4,FALSE)=\"zvyšte skóre\",\"ISO 45001\",\"\")","v":""},{"$f":"IF(VLOOKUP(D273,'Zvláštní zpráva'!$E$556:$H$662,4,FALSE)=\"zvyšte skóre\",\"EMAS\",\"\")","v":""},{"$f":"IF(VLOOKUP(D273,'Zvláštní zpráva'!$E$666:$H$772,4,FALSE)=\"zvyšte skóre\",\"RC14001\",\"\")","v":""},{"$f":"IF(VLOOKUP(D273,'Zvláštní zpráva'!$E$776:$H$882,4,FALSE)=\"zvyšte skóre\",\"RCMS\",\"\")","v":""}]
[null,null,null,null,"Vaše skóre ",null,{"$f":"VLOOKUP(D273,'Technický list'!$B$406:$C$418,2,FALSE)","v":4},null,null,null,null,null,null,{"$f":"CONCATENATE(G274,\" = \",HLOOKUP(\" \",'Kapitola 3'!D39:E44,Tipy!G274+2))","v":"4 = Revizní a schvalovací systémy zohledňují zároveň všechny změny během životního cyklu produktu, např. změny ve výrobním procesu, změny balení a distribuce, nové trhy či změny použití a zaručují komunikaci s příslušnými zainteresovanými stranami."}]
[null,null,null,null,"Pokuste se zlepšit ",null,{"$f":"VLOOKUP(CONCATENATE(D273,$M$3),'Technický list'!$BG$406:$BI$452,3,FALSE)","v":"Není třeba okamžitě měnit strategii, nicméně vždy hledejte zlepšení."}]
[null,{"$f":"'Kapitola 3'!B46","v":"Charakterizace rizik"},null,null,null,null,null,null,null,null,null,null,null,{"$f":"IF(L277=8,\"\",\"zvyšte skóre pro:\")","v":"zvyšte skóre pro:"}]
[null,null,{"$f":"IF(VLOOKUP(D277,'Technický list'!$AO$406:$AQ$418,3,0)=\"OK\",\"\",\"hlavní věci\")","v":""},{"$f":"'Kapitola 3'!C48","v":"Q3.7"},{"$f":"'Kapitola 3'!D48","v":"Zavedla organizace proces charakterizace rizik na základě shromážděných informací?"},null,null,null,null,null,null,{"$f":"COUNTBLANK(N277:U277)","v":6},true,{"$f":"IF(VLOOKUP(D277,'Zvláštní zpráva'!$E$6:$H$112,4,FALSE)=\"zvyšte skóre\",\"ISO 9001\",\"\")","v":""},{"$f":"IF(VLOOKUP(D277,'Zvláštní zpráva'!$E$116:$H$222,4,FALSE)=\"zvyšte skóre\",\"ISO 14001\",\"\")","v":""},{"$f":"IF(VLOOKUP(D277,'Zvláštní zpráva'!$E$226:$H$332,4,FALSE)=\"zvyšte skóre\",\"ISO 26000\",\"\")","v":""},{"$f":"IF(VLOOKUP(D277,'Zvláštní zpráva'!$E$336:$H$552,4,FALSE)=\"zvyšte skóre\",\"ISO 45001\",\"\")","v":""},{"$f":"IF(VLOOKUP(D277,'Zvláštní zpráva'!$E$556:$H$662,4,FALSE)=\"zvyšte skóre\",\"EMAS\",\"\")","v":""},{"$f":"IF(VLOOKUP(D277,'Zvláštní zpráva'!$E$666:$H$772,4,FALSE)=\"zvyšte skóre\",\"RC14001\",\"\")","v":"RC14001"},{"$f":"IF(VLOOKUP(D277,'Zvláštní zpráva'!$E$776:$H$882,4,FALSE)=\"zvyšte skóre\",\"RCMS\",\"\")","v":"RCMS"}]
[null,null,null,null,"Vaše skóre ",null,{"$f":"VLOOKUP(D277,'Technický list'!$B$406:$C$418,2,FALSE)","v":3},null,null,null,null,null,null,{"$f":"CONCATENATE(G278,\" = \",HLOOKUP(\" \",'Kapitola 3'!D47:E52,Tipy!G278+2))","v":"3 = Organizace nepřetržitě a proaktivně zlepšuje kvalitu stávajících charakteristik rizik.\nCharakterizace rizik se zdokonaluje s ohledem na citlivé skupiny obyvatel nebo zneužívání a systematicky se provádí pro všechny používané, dovážené a vyráběné produkty, a to bez ohledu na jejich objem.\n\nProces charakterizace rizik pokrývá celý životní cyklus výrobků (od začátku až po konec)."}]
[null,null,null,null,"Pokuste se zlepšit ",null,{"$f":"VLOOKUP(CONCATENATE(D277,$M$3),'Technický list'!$BG$406:$BI$452,3,FALSE)","v":"Zapojte se do\n• vývoje a validace nových alternativních metodik pro vyhodnocení nebezpečnosti, expozice a charakterizace rizika; a\n• podpory minimalizace používání zvířat při testování a vývoje alternativních metod."}]
[null,{"$f":"'Kapitola 3'!B54","v":"Řízení rizik produktu"},null,null,null,null,null,null,null,null,null,null,null,{"$f":"IF(L281=8,\"\",\"zvyšte skóre pro:\")","v":""}]
[null,null,{"$f":"IF(VLOOKUP(D281,'Technický list'!$AO$406:$AQ$418,3,0)=\"OK\",\"\",\"hlavní věci\")","v":""},{"$f":"'Kapitola 3'!C56","v":"Q3.8"},{"$f":"'Kapitola 3'!D56","v":"Zavedla organizace proces řízení rizik na základě shromážděných informací?"},null,null,null,null,null,null,{"$f":"COUNTBLANK(N281:U281)","v":8},true,{"$f":"IF(VLOOKUP(D281,'Zvláštní zpráva'!$E$6:$H$112,4,FALSE)=\"zvyšte skóre\",\"ISO 9001\",\"\")","v":""},{"$f":"IF(VLOOKUP(D281,'Zvláštní zpráva'!$E$116:$H$222,4,FALSE)=\"zvyšte skóre\",\"ISO 14001\",\"\")","v":""},{"$f":"IF(VLOOKUP(D281,'Zvláštní zpráva'!$E$226:$H$332,4,FALSE)=\"zvyšte skóre\",\"ISO 26000\",\"\")","v":""},{"$f":"IF(VLOOKUP(D281,'Zvláštní zpráva'!$E$336:$H$552,4,FALSE)=\"zvyšte skóre\",\"ISO 45001\",\"\")","v":""},{"$f":"IF(VLOOKUP(D281,'Zvláštní zpráva'!$E$556:$H$662,4,FALSE)=\"zvyšte skóre\",\"EMAS\",\"\")","v":""},{"$f":"IF(VLOOKUP(D281,'Zvláštní zpráva'!$E$666:$H$772,4,FALSE)=\"zvyšte skóre\",\"RC14001\",\"\")","v":""},{"$f":"IF(VLOOKUP(D281,'Zvláštní zpráva'!$E$776:$H$882,4,FALSE)=\"zvyšte skóre\",\"RCMS\",\"\")","v":""}]
[null,null,null,null,"Vaše skóre ",null,{"$f":"VLOOKUP(D281,'Technický list'!$B$406:$C$418,2,FALSE)","v":4},null,null,null,null,null,null,{"$f":"CONCATENATE(G282,\" = \",HLOOKUP(\" \",'Kapitola 3'!D55:E60,Tipy!G282+2))","v":"4 = Organizace zvyšuje transparentnost informací o správě produktů.\n\nOrganizace zveřejňuje příslušné souhrny charakterizace rizik s příslušnými opatřeními k řízení rizik (např. V podobě bezpečnostních listů).\n\nV případě potřeby se zajišťuje vzdělávání koncových zákazníků o chemických rizicích a procesech bezpečné manipulace, např. prostřednictvím organizovaných školení a workshopů."}]
[null,null,null,null,"Pokuste se zlepšit ",null,{"$f":"VLOOKUP(CONCATENATE(D281,$M$3),'Technický list'!$BG$406:$BI$452,3,FALSE)","v":"Není třeba okamžitě měnit strategii, ale vždy hledejte zlepšení."}]
[null,null,null,null,null,null,null,null,null,null,null,null,null,{"$f":"IF(L285=8,\"\",\"zvyšte skóre pro:\")","v":""}]
[null,null,{"$f":"IF(VLOOKUP(D285,'Technický list'!$AO$406:$AQ$418,3,0)=\"OK\",\"\",\"hlavní věci\")","v":""},{"$f":"'Kapitola 3'!C62","v":"Q3.9"},{"$f":"'Kapitola 3'!D62","v":"Zavedla organizace účinný proces sledování svých produktů po dodání a provádění nápravných opatření?\n"},null,null,null,null,null,null,{"$f":"COUNTBLANK(N285:U285)","v":8},true,{"$f":"IF(VLOOKUP(D285,'Zvláštní zpráva'!$E$6:$H$112,4,FALSE)=\"zvyšte skóre\",\"ISO 9001\",\"\")","v":""},{"$f":"IF(VLOOKUP(D285,'Zvláštní zpráva'!$E$116:$H$222,4,FALSE)=\"zvyšte skóre\",\"ISO 14001\",\"\")","v":""},{"$f":"IF(VLOOKUP(D285,'Zvláštní zpráva'!$E$226:$H$332,4,FALSE)=\"zvyšte skóre\",\"ISO 26000\",\"\")","v":""},{"$f":"IF(VLOOKUP(D285,'Zvláštní zpráva'!$E$336:$H$552,4,FALSE)=\"zvyšte skóre\",\"ISO 45001\",\"\")","v":""},{"$f":"IF(VLOOKUP(D285,'Zvláštní zpráva'!$E$556:$H$662,4,FALSE)=\"zvyšte skóre\",\"EMAS\",\"\")","v":""},{"$f":"IF(VLOOKUP(D285,'Zvláštní zpráva'!$E$666:$H$772,4,FALSE)=\"zvyšte skóre\",\"RC14001\",\"\")","v":""},{"$f":"IF(VLOOKUP(D285,'Zvláštní zpráva'!$E$776:$H$882,4,FALSE)=\"zvyšte skóre\",\"RCMS\",\"\")","v":""}]
[null,null,null,null,"Vaše skóre ",null,{"$f":"VLOOKUP(D285,'Technický list'!$B$406:$C$418,2,FALSE)","v":4},null,null,null,null,null,null,{"$f":"CONCATENATE(G286,\" = \",HLOOKUP(\" \",'Kapitola 3'!D61:E66,Tipy!G286+2))","v":"4 =  Organizace zavedla postup při odvolávání nebo stažení produktů z trhu. V takovém případě se sestavuje příslušný tým, který zahrnuje koordinátora, vyšší management, oddělení prodeje, zákaznické služby a jakékoliv jiné oddělení. Odpovědnosti jsou jasně stanoveny z hlediska rozhodování, implementace havarijního plánu a nápravných opatření. Postup objasňuje kroky nutné k odvolávání produktů v případě podezření, že ovlivňují zdraví nebo bezpečnost uživatelů či spotřebitelů. Takový postup by měl zahrnovat následující kroky:\n- Hodnocení produktu: shromažďují se stížnosti a koordinátor vyhodnotí možnost odvolávání produktu. Všechny zainteresované strany (regulační orgány, dodavatelský řetězec, interní komunikace) byly identifikovány a přijali příslušná opatření.\n- lokalizace a identifikace dotyčných produktů,\n - včasné informování dotčených stran \n- odstranění produktu: Vrácené produkty musí shromažďovat, oddělovat a zpracovávat na místě odděleném od jakýchkoli jiných produktů. Před svým zničením, opětovným zpracováním nebo přesměrováním se nesmí opět dostat na trh. Doporučuje se zřídit dokumentaci o množstvích a identifikaci produktů.\nVyžaduje se prověření účinnosti postupu stažení z trhu (oznámení zákazníkům, přijetí vhodných opatření)."}]
[null,null,null,null,"Pokuste se zlepšit ",null,{"$f":"VLOOKUP(CONCATENATE(D285,$M$3),'Technický list'!$BG$406:$BI$452,3,FALSE)","v":"Není třeba okamžitě měnit strategii, nicméně vždy hledejte zlepšení."}]
[null,{"$f":"'Kapitola 3'!B68","v":"Řízení hodnotového řetězce"},null,null,null,null,null,null,null,null,null,null,null,{"$f":"IF(L289=8,\"\",\"zvyšte skóre pro:\")","v":""}]
[null,null,{"$f":"IF(VLOOKUP(D289,'Technický list'!$AO$406:$AQ$418,3,0)=\"OK\",\"\",\"hlavní věci\")","v":""},{"$f":"'Kapitola 3'!C70","v":"Q3.10"},{"$f":"'Kapitola 3'!D70","v":"Poskytuje organizace efektivní komunikaci v rámci dodavatelského řetězce ohledně opatření k řízení rizik, které se vztahují na jejich produkty?"},null,null,null,null,null,null,{"$f":"COUNTBLANK(N289:U289)","v":8},true,{"$f":"IF(VLOOKUP(D289,'Zvláštní zpráva'!$E$6:$H$112,4,FALSE)=\"zvyšte skóre\",\"ISO 9001\",\"\")","v":""},{"$f":"IF(VLOOKUP(D289,'Zvláštní zpráva'!$E$116:$H$222,4,FALSE)=\"zvyšte skóre\",\"ISO 14001\",\"\")","v":""},{"$f":"IF(VLOOKUP(D289,'Zvláštní zpráva'!$E$226:$H$332,4,FALSE)=\"zvyšte skóre\",\"ISO 26000\",\"\")","v":""},{"$f":"IF(VLOOKUP(D289,'Zvláštní zpráva'!$E$336:$H$552,4,FALSE)=\"zvyšte skóre\",\"ISO 45001\",\"\")","v":""},{"$f":"IF(VLOOKUP(D289,'Zvláštní zpráva'!$E$556:$H$662,4,FALSE)=\"zvyšte skóre\",\"EMAS\",\"\")","v":""},{"$f":"IF(VLOOKUP(D289,'Zvláštní zpráva'!$E$666:$H$772,4,FALSE)=\"zvyšte skóre\",\"RC14001\",\"\")","v":""},{"$f":"IF(VLOOKUP(D289,'Zvláštní zpráva'!$E$776:$H$882,4,FALSE)=\"zvyšte skóre\",\"RCMS\",\"\")","v":""}]
[null,null,null,null,"Vaše skóre ",null,{"$f":"VLOOKUP(D289,'Technický list'!$B$406:$C$418,2,FALSE)","v":4},null,null,null,null,null,null,{"$f":"CONCATENATE(G290,\" = \",HLOOKUP(\" \",'Kapitola 3'!D69:E74,Tipy!G290+2))","v":"4 = BL jsou veřejně dostupné a přizpůsobené regionu, ve kterém se produkt používá. Na BL se nacházejí i kontaktní údaje o odpovědné osobě v rámci společnosti, která odpovídá na případné otázky ohledně chemických látek. BL a označení obsahují informace o možnosti recyklace výrobku, pokud jsou takové informace k dispozici."}]
[null,null,null,null,"Pokuste se zlepšit ",null,{"$f":"VLOOKUP(CONCATENATE(D289,$M$3),'Technický list'!$BG$406:$BI$452,3,FALSE)","v":"Není třeba okamžitě měnit strategii, vždy se však snažte o zlepšení."}]
[]
[null,null,"KAPITOLA 4","Působení na obchodní partnery"]
[null,{"$f":"'Kapitola 4'!B4","v":"Odpovědné získávání zdrojů"},null,null,null,null,null,null,null,null,null,null,null,{"$f":"IF(L295=8,\"\",\"zvyšte skóre pro:\")","v":""}]
[null,null,{"$f":"IF(VLOOKUP(D295,'Technický list'!$AO$482:$AQ$489,3,0)=\"OK\",\"\",\"hlavní věci\")","v":""},{"$f":"'Kapitola 4'!C6","v":"Q4.1"},{"$f":"'Kapitola 4'!D6","v":"Jak se organizace zavázala k odpovědnému získávání zdrojů?"},null,null,null,null,null,null,{"$f":"COUNTBLANK(N295:U295)","v":8},true,{"$f":"IF(VLOOKUP(D295,'Zvláštní zpráva'!$E$6:$H$112,4,FALSE)=\"zvyšte skóre\",\"ISO 9001\",\"\")","v":""},{"$f":"IF(VLOOKUP(D295,'Zvláštní zpráva'!$E$116:$H$222,4,FALSE)=\"zvyšte skóre\",\"ISO 14001\",\"\")","v":""},{"$f":"IF(VLOOKUP(D295,'Zvláštní zpráva'!$E$226:$H$332,4,FALSE)=\"zvyšte skóre\",\"ISO 26000\",\"\")","v":""},{"$f":"IF(VLOOKUP(D295,'Zvláštní zpráva'!$E$336:$H$552,4,FALSE)=\"zvyšte skóre\",\"ISO 45001\",\"\")","v":""},{"$f":"IF(VLOOKUP(D295,'Zvláštní zpráva'!$E$556:$H$662,4,FALSE)=\"zvyšte skóre\",\"EMAS\",\"\")","v":""},{"$f":"IF(VLOOKUP(D295,'Zvláštní zpráva'!$E$666:$H$772,4,FALSE)=\"zvyšte skóre\",\"RC14001\",\"\")","v":""},{"$f":"IF(VLOOKUP(D295,'Zvláštní zpráva'!$E$776:$H$882,4,FALSE)=\"zvyšte skóre\",\"RCMS\",\"\")","v":""}]
[null,null,null,null,"Vaše skóre ",null,{"$f":"VLOOKUP(D295,'Technický list'!$B$482:$C$489,2,FALSE)","v":3},null,null,null,null,null,null,{"$f":"CONCATENATE(G296,\" = \",HLOOKUP(\" \",'Kapitola 4'!E5:E10,Tipy!G296+2))","v":"3 = Organizace zmapovala rizika spojená s obstaráváním a zohledňuje vliv na životní prostředí prostřednictvím ekologických kritérií v rámci procesu výběru zakoupeného zboží, vybavení a služeb. Při získávání energie za použití produktů, zařízení nebo služeb bere organizace jako jedno z kritérií energetickou náročnost po dobu předpokládané životnosti."}]
[null,null,null,null,"Pokuste se zlepšit ",null,{"$f":"VLOOKUP(CONCATENATE(D295,$M$3),'Technický list'!$BG$482:$BI$513,3,FALSE)","v":"Věnujte rozpočet nákupu zařízení a služeb, které jsou ohleduplnější k životnímu prostředí, a stanovte priority svých nákupů na základě posouzení dopadů.\nPříkladem schématu, který lze použít (celkem nebo jeho části), je TfS (https://tfs-initiative.com/ ). Společnosti se mohou rozhodnout použít jiné systémy. Dobrým průvodcem (vyvinutým společností VCI) k tématu „Udržitelné řízení dodavatelského řetězce pro středně velké společnosti v chemickém průmyslu“ je https://www.chemiehoch3.de/fileadmin/user_upload/News/Chemie3_Guide_Supply_Chain_eng.pdf"}]
[null,{"$f":"'Kapitola 4'!B12","v":"Spolupráce v dodavatelském řetězci (obchodní partneři)"},null,null,null,null,null,null,null,null,null,null,null,{"$f":"IF(L299=8,\"\",\"zvyšte skóre pro:\")","v":""}]
[null,null,{"$f":"IF(VLOOKUP(D299,'Technický list'!$AO$482:$AQ$489,3,0)=\"OK\",\"\",\"hlavní věci\")","v":""},{"$f":"'Kapitola 4'!C14","v":"Q4.2"},{"$f":"'Kapitola 4'!D14","v":"Jak organizace zlepšuje spolupráci v dodavatelském řetězci?"},null,null,null,null,null,null,{"$f":"COUNTBLANK(N299:U299)","v":8},true,{"$f":"IF(VLOOKUP(D299,'Zvláštní zpráva'!$E$6:$H$112,4,FALSE)=\"zvyšte skóre\",\"ISO 9001\",\"\")","v":""},{"$f":"IF(VLOOKUP(D299,'Zvláštní zpráva'!$E$116:$H$222,4,FALSE)=\"zvyšte skóre\",\"ISO 14001\",\"\")","v":""},{"$f":"IF(VLOOKUP(D299,'Zvláštní zpráva'!$E$226:$H$332,4,FALSE)=\"zvyšte skóre\",\"ISO 26000\",\"\")","v":""},{"$f":"IF(VLOOKUP(D299,'Zvláštní zpráva'!$E$336:$H$552,4,FALSE)=\"zvyšte skóre\",\"ISO 45001\",\"\")","v":""},{"$f":"IF(VLOOKUP(D299,'Zvláštní zpráva'!$E$556:$H$662,4,FALSE)=\"zvyšte skóre\",\"EMAS\",\"\")","v":""},{"$f":"IF(VLOOKUP(D299,'Zvláštní zpráva'!$E$666:$H$772,4,FALSE)=\"zvyšte skóre\",\"RC14001\",\"\")","v":""},{"$f":"IF(VLOOKUP(D299,'Zvláštní zpráva'!$E$776:$H$882,4,FALSE)=\"zvyšte skóre\",\"RCMS\",\"\")","v":""}]
[null,null,null,null,"Vaše skóre ",null,{"$f":"VLOOKUP(D299,'Technický list'!$B$482:$C$489,2,FALSE)","v":4},null,null,null,null,null,null,{"$f":"CONCATENATE(G300,\" = \",HLOOKUP(\" \",'Kapitola 4'!E13:E18,Tipy!G300+2))","v":"4 = Organizace se podílí na R&D projektech a specifických partnerstvích v rámci dodavatelského řetězce za účelem společného vývoje nových produktů a služeb."}]
[null,null,null,null,"Pokuste se zlepšit ",null,{"$f":"VLOOKUP(CONCATENATE(D299,$M$3),'Technický list'!$BG$482:$BI$513,3,FALSE)","v":"\nNení třeba okamžitě měnit strategii, vždy se však snažte zlepšit."}]
[null,{"$f":"'Kapitola 4'!B20","v":"Obchodní integrita"},null,null,null,null,null,null,null,null,null,null,null,{"$f":"IF(L303=8,\"\",\"zvyšte skóre pro:\")","v":"zvyšte skóre pro:"}]
[null,null,{"$f":"IF(VLOOKUP(D303,'Technický list'!$AO$482:$AQ$489,3,0)=\"OK\",\"\",\"hlavní věci\")","v":""},{"$f":"'Kapitola 4'!C22","v":"Q4.3"},{"$f":"'Kapitola 4'!D22","v":"Jakým způsobem vyjadřuje organizace svůj závazek vůči podnikatelské etice?"},null,null,null,null,null,null,{"$f":"COUNTBLANK(N303:U303)","v":7},true,{"$f":"IF(VLOOKUP(D303,'Zvláštní zpráva'!$E$6:$H$112,4,FALSE)=\"zvyšte skóre\",\"ISO 9001\",\"\")","v":""},{"$f":"IF(VLOOKUP(D303,'Zvláštní zpráva'!$E$116:$H$222,4,FALSE)=\"zvyšte skóre\",\"ISO 14001\",\"\")","v":""},{"$f":"IF(VLOOKUP(D303,'Zvláštní zpráva'!$E$226:$H$332,4,FALSE)=\"zvyšte skóre\",\"ISO 26000\",\"\")","v":"ISO 26000"},{"$f":"IF(VLOOKUP(D303,'Zvláštní zpráva'!$E$336:$H$552,4,FALSE)=\"zvyšte skóre\",\"ISO 45001\",\"\")","v":""},{"$f":"IF(VLOOKUP(D303,'Zvláštní zpráva'!$E$556:$H$662,4,FALSE)=\"zvyšte skóre\",\"EMAS\",\"\")","v":""},{"$f":"IF(VLOOKUP(D303,'Zvláštní zpráva'!$E$666:$H$772,4,FALSE)=\"zvyšte skóre\",\"RC14001\",\"\")","v":""},{"$f":"IF(VLOOKUP(D303,'Zvláštní zpráva'!$E$776:$H$882,4,FALSE)=\"zvyšte skóre\",\"RCMS\",\"\")","v":""}]
[null,null,null,null,"Vaše skóre ",null,{"$f":"VLOOKUP(D303,'Technický list'!$B$482:$C$489,2,FALSE)","v":3},null,null,null,null,null,null,{"$f":"CONCATENATE(G304,\" = \",HLOOKUP(\" \",'Kapitola 4'!E21:E26,Tipy!G304+2))","v":"3 = Organizace zavedla procesy, které zabraňují angažování nebo spolupůsobení v situacích nekalé soutěže a korupci (např. Zavedením systému, který umožňuje zaměstnancům anonymně upozorňovat na jakoukoliv situaci představující takové riziko)."}]
[null,null,null,null,"Pokuste se zlepšit ",null,{"$f":"VLOOKUP(CONCATENATE(D303,$M$3),'Technický list'!$BG$482:$BI$513,3,FALSE)","v":"Informovat zúčastněné strany organizace o politice nebo kodexu organizace v oblasti etiky podnikání (včetně antimonopolních předpisů / porušení pravidel hospodářské soutěže a korupce) a umožnit zúčastněným stranám organizace přístup do systému, který umožňuje nahlást jakékoli situace představující takové riziko."}]
[null,{"$f":"'Kapitola 4'!B28","v":"Pracovní práva (Práva zaměstnanců)"},null,null,null,null,null,null,null,null,null,null,null,{"$f":"IF(L307=8,\"\",\"zvyšte skóre pro:\")","v":"zvyšte skóre pro:"}]
[null,null,{"$f":"IF(VLOOKUP(D307,'Technický list'!$AO$482:$AQ$489,3,0)=\"OK\",\"\",\"hlavní věci\")","v":""},{"$f":"'Kapitola 4'!C30","v":"Q4.4"},{"$f":"'Kapitola 4'!D30","v":"Jakým způsobem řeší organizace sociální problematiku a lidská práva v rámci spolupráce s obchodními partnery?"},null,null,null,null,null,null,{"$f":"COUNTBLANK(N307:U307)","v":7},true,{"$f":"IF(VLOOKUP(D307,'Zvláštní zpráva'!$E$6:$H$112,4,FALSE)=\"zvyšte skóre\",\"ISO 9001\",\"\")","v":""},{"$f":"IF(VLOOKUP(D307,'Zvláštní zpráva'!$E$116:$H$222,4,FALSE)=\"zvyšte skóre\",\"ISO 14001\",\"\")","v":""},{"$f":"IF(VLOOKUP(D307,'Zvláštní zpráva'!$E$226:$H$332,4,FALSE)=\"zvyšte skóre\",\"ISO 26000\",\"\")","v":"ISO 26000"},{"$f":"IF(VLOOKUP(D307,'Zvláštní zpráva'!$E$336:$H$552,4,FALSE)=\"zvyšte skóre\",\"ISO 45001\",\"\")","v":""},{"$f":"IF(VLOOKUP(D307,'Zvláštní zpráva'!$E$556:$H$662,4,FALSE)=\"zvyšte skóre\",\"EMAS\",\"\")","v":""},{"$f":"IF(VLOOKUP(D307,'Zvláštní zpráva'!$E$666:$H$772,4,FALSE)=\"zvyšte skóre\",\"RC14001\",\"\")","v":""},{"$f":"IF(VLOOKUP(D307,'Zvláštní zpráva'!$E$776:$H$882,4,FALSE)=\"zvyšte skóre\",\"RCMS\",\"\")","v":""}]
[null,null,null,null,"Vaše skóre ",null,{"$f":"VLOOKUP(D307,'Technický list'!$B$482:$C$489,2,FALSE)","v":2},null,null,null,null,null,null,{"$f":"CONCATENATE(G308,\" = \",HLOOKUP(\" \",'Kapitola 4'!E29:E34,Tipy!G308+2))","v":"2 = Organizace stanoví minimální požadavky týkající se lidských práv a na základě těchto kritérií vybírá obchodní partnery."}]
[null,null,null,null,"Pokuste se zlepšit ",null,{"$f":"VLOOKUP(CONCATENATE(D307,$M$3),'Technický list'!$BG$482:$BI$513,3,FALSE)","v":"Definovat proces hodnocení obchodních partnerů na základě kritérií týkajících se sociálních otázek a lidských práv.\nPříkladem schématu, který lze použít (celkem nebo jeho části), je TfS (https://tfs-initiative.com/) .\nSpolečnosti se mohou rozhodnout použít jiné systémy nebo kritéria."}]
[null,null,null,null,null,null,null,null,null,null,null,null,null,{"$f":"IF(L311=8,\"\",\"zvyšte skóre pro:\")","v":""}]
[null,null,{"$f":"IF(VLOOKUP(D311,'Technický list'!$AO$482:$AQ$489,3,0)=\"OK\",\"\",\"hlavní věci\")","v":""},{"$f":"'Kapitola 4'!C36","v":"Q4.5"},{"$f":"'Kapitola 4'!D36","v":"Jakým způsobem zabraňuje organizace dětské práci?\nOrganizace\n1-\tzavedla systém ověřování věku; \n2-\tnezaměstnává děti mladší 15 let (v závislosti na místní legislativy). Jedinou výjimku představují učni, školní praxe nebo vzdělávací stáže; \n3-\tzaručuje, aby pracovní náplň osob mladších než 18 let neovlivňovala jejich školní docházku (doba strávená dopravou do práce a školy a z práce a školy, školní docházkou a prací je méně než 10 hodin denně );\n4-\tzajišťuje, že pracovní náplň mladých pracovníků není duševně, fyzicky, společensky ani morálně nebezpečná a škodlivá."},null,null,null,null,null,null,{"$f":"COUNTBLANK(N311:U311)","v":8},true,{"$f":"IF(VLOOKUP(D311,'Zvláštní zpráva'!$E$6:$H$112,4,FALSE)=\"zvyšte skóre\",\"ISO 9001\",\"\")","v":""},{"$f":"IF(VLOOKUP(D311,'Zvláštní zpráva'!$E$116:$H$222,4,FALSE)=\"zvyšte skóre\",\"ISO 14001\",\"\")","v":""},{"$f":"IF(VLOOKUP(D311,'Zvláštní zpráva'!$E$226:$H$332,4,FALSE)=\"zvyšte skóre\",\"ISO 26000\",\"\")","v":""},{"$f":"IF(VLOOKUP(D311,'Zvláštní zpráva'!$E$336:$H$552,4,FALSE)=\"zvyšte skóre\",\"ISO 45001\",\"\")","v":""},{"$f":"IF(VLOOKUP(D311,'Zvláštní zpráva'!$E$556:$H$662,4,FALSE)=\"zvyšte skóre\",\"EMAS\",\"\")","v":""},{"$f":"IF(VLOOKUP(D311,'Zvláštní zpráva'!$E$666:$H$772,4,FALSE)=\"zvyšte skóre\",\"RC14001\",\"\")","v":""},{"$f":"IF(VLOOKUP(D311,'Zvláštní zpráva'!$E$776:$H$882,4,FALSE)=\"zvyšte skóre\",\"RCMS\",\"\")","v":""}]
[null,null,null,null,"Vaše skóre ",null,{"$f":"VLOOKUP(D311,'Technický list'!$B$482:$C$489,2,FALSE)","v":4},null,null,null,null,null,null,{"$f":"CONCATENATE(G312,\" = \",HLOOKUP(\" \",'Kapitola 4'!E35:E40,Tipy!G312+2))","v":"4 = všechny čtyři"}]
[null,null,null,null,"Pokuste se zlepšit ",null,{"$f":"VLOOKUP(CONCATENATE(D311,$M$3),'Technický list'!$BG$482:$BI$513,3,FALSE)","v":"Není třeba okamžitě měnit strategii, vždy se však snažte zlepšit."}]
[null,{"$f":"'Kapitola 4'!B42","v":"Logističtí partneři"},null,null,null,null,null,null,null,null,null,null,null,{"$f":"IF(L315=8,\"\",\"zvyšte skóre pro:\")","v":""}]
[null,null,{"$f":"IF(VLOOKUP(D315,'Technický list'!$AO$482:$AQ$489,3,0)=\"OK\",\"\",\"hlavní věci\")","v":""},{"$f":"'Kapitola 4'!C44","v":"Q4.6"},{"$f":"'Kapitola 4'!D44","v":"Jakým způsobem zabezpečuje organizace splnění svých požadavků ze strany logistických partnerů?"},null,null,null,null,null,null,{"$f":"COUNTBLANK(N315:U315)","v":8},true,{"$f":"IF(VLOOKUP(D315,'Zvláštní zpráva'!$E$6:$H$112,4,FALSE)=\"zvyšte skóre\",\"ISO 9001\",\"\")","v":""},{"$f":"IF(VLOOKUP(D315,'Zvláštní zpráva'!$E$116:$H$222,4,FALSE)=\"zvyšte skóre\",\"ISO 14001\",\"\")","v":""},{"$f":"IF(VLOOKUP(D315,'Zvláštní zpráva'!$E$226:$H$332,4,FALSE)=\"zvyšte skóre\",\"ISO 26000\",\"\")","v":""},{"$f":"IF(VLOOKUP(D315,'Zvláštní zpráva'!$E$336:$H$552,4,FALSE)=\"zvyšte skóre\",\"ISO 45001\",\"\")","v":""},{"$f":"IF(VLOOKUP(D315,'Zvláštní zpráva'!$E$556:$H$662,4,FALSE)=\"zvyšte skóre\",\"EMAS\",\"\")","v":""},{"$f":"IF(VLOOKUP(D315,'Zvláštní zpráva'!$E$666:$H$772,4,FALSE)=\"zvyšte skóre\",\"RC14001\",\"\")","v":""},{"$f":"IF(VLOOKUP(D315,'Zvláštní zpráva'!$E$776:$H$882,4,FALSE)=\"zvyšte skóre\",\"RCMS\",\"\")","v":""}]
[null,null,null,null,"Vaše skóre ",null,{"$f":"VLOOKUP(D315,'Technický list'!$B$482:$C$489,2,FALSE)","v":3},null,null,null,null,null,null,{"$f":"CONCATENATE(G316,\" = \",HLOOKUP(\" \",'Kapitola 4'!E43:E48,Tipy!G316+2))","v":"3 = Organizace ustanovila proces hodnocení svých logistických partnerů na základě dodržování požadavků organizace."}]
[null,null,null,null,"Pokuste se zlepšit ",null,{"$f":"VLOOKUP(CONCATENATE(D315,$M$3),'Technický list'!$BG$482:$BI$513,3,FALSE)","v":"Pravidelně kontrolujte logistické partnery organizace, zda jsou v souladu s požadavky organizace (včetně energetické účinnosti a emisí skleníkových plynů).\nPříkladem schématu, který lze použít (celkem nebo jeho části), je SQAS (https://www.sqas.org/). Společnosti se mohou rozhodnout použít jiné systémy nebo kritéria. Výběr poskytovatele logistiky je založen na individuálním rozhodovacím procesu každé společnosti, který může nebo nemusí zahrnovat SQAS."}]
[null,{"$f":"'Kapitola 4'!B50","v":"Následní uživatelé"},null,null,null,null,null,null,null,null,null,null,null,{"$f":"IF(L319=8,\"\",\"zvyšte skóre pro:\")","v":"zvyšte skóre pro:"}]
[null,null,{"$f":"IF(VLOOKUP(D319,'Technický list'!$AO$482:$AQ$489,3,0)=\"OK\",\"\",\"hlavní věci\")","v":""},{"$f":"'Kapitola 4'!C52","v":"Q4.7"},{"$f":"'Kapitola 4'!D52","v":"Jakým způsobem organizace chrání a zabezpečuje majetek a údaje následných uživatelů nebo externích poskytovatelů, které se používají nebo začleňují do produktů a služeb?"},null,null,null,null,null,null,{"$f":"COUNTBLANK(N319:U319)","v":7},true,{"$f":"IF(VLOOKUP(D319,'Zvláštní zpráva'!$E$6:$H$112,4,FALSE)=\"zvyšte skóre\",\"ISO 9001\",\"\")","v":"ISO 9001"},{"$f":"IF(VLOOKUP(D319,'Zvláštní zpráva'!$E$116:$H$222,4,FALSE)=\"zvyšte skóre\",\"ISO 14001\",\"\")","v":""},{"$f":"IF(VLOOKUP(D319,'Zvláštní zpráva'!$E$226:$H$332,4,FALSE)=\"zvyšte skóre\",\"ISO 26000\",\"\")","v":""},{"$f":"IF(VLOOKUP(D319,'Zvláštní zpráva'!$E$336:$H$552,4,FALSE)=\"zvyšte skóre\",\"ISO 45001\",\"\")","v":""},{"$f":"IF(VLOOKUP(D319,'Zvláštní zpráva'!$E$556:$H$662,4,FALSE)=\"zvyšte skóre\",\"EMAS\",\"\")","v":""},{"$f":"IF(VLOOKUP(D319,'Zvláštní zpráva'!$E$666:$H$772,4,FALSE)=\"zvyšte skóre\",\"RC14001\",\"\")","v":""},{"$f":"IF(VLOOKUP(D319,'Zvláštní zpráva'!$E$776:$H$882,4,FALSE)=\"zvyšte skóre\",\"RCMS\",\"\")","v":""}]
[null,null,null,null,"Vaše skóre ",null,{"$f":"VLOOKUP(D319,'Technický list'!$B$482:$C$489,2,FALSE)","v":1},null,null,null,null,null,null,{"$f":"CONCATENATE(G320,\" = \",HLOOKUP(\" \",'Kapitola 4'!E51:E56,Tipy!G320+2))","v":"1 = Organizace postupuje v souladu s místní a mezinárodní legislativou o ochraně údajů (ochrana, souhlas, právo na odstranění) a majetku, avšak pro dané téma nezavedla žádný konkrétní proces."}]
[null,null,null,null,"Pokuste se zlepšit ",null,{"$f":"VLOOKUP(CONCATENATE(D319,$M$3),'Technický list'!$BG$482:$BI$513,3,FALSE)","v":"Zajistěte, aby v případě ztráty nebo poškození majetku nebo dat následného uživatele nebo externího poskytovatele organizace ohlásila následnému uživateli nebo externímu poskytovateli turo skutečnost a uchovala zdokumentované informace o tom, co se stalo."}]
[null,null,null,null,null,null,null,null,null,null,null,null,null,{"$f":"IF(L323=8,\"\",\"zvyšte skóre pro:\")","v":""}]
[null,null,{"$f":"IF(VLOOKUP(D323,'Technický list'!$AO$482:$AQ$489,3,0)=\"OK\",\"\",\"hlavní věci\")","v":""},{"$f":"'Kapitola 4'!C58","v":"Q4.8"},{"$f":"'Kapitola 4'!D58","v":"Co zahrnuje dialog s následnými uživateli?"},null,null,null,null,null,null,{"$f":"COUNTBLANK(N323:U323)","v":8},true,{"$f":"IF(VLOOKUP(D323,'Zvláštní zpráva'!$E$6:$H$112,4,FALSE)=\"zvyšte skóre\",\"ISO 9001\",\"\")","v":""},{"$f":"IF(VLOOKUP(D323,'Zvláštní zpráva'!$E$116:$H$222,4,FALSE)=\"zvyšte skóre\",\"ISO 14001\",\"\")","v":""},{"$f":"IF(VLOOKUP(D323,'Zvláštní zpráva'!$E$226:$H$332,4,FALSE)=\"zvyšte skóre\",\"ISO 26000\",\"\")","v":""},{"$f":"IF(VLOOKUP(D323,'Zvláštní zpráva'!$E$336:$H$552,4,FALSE)=\"zvyšte skóre\",\"ISO 45001\",\"\")","v":""},{"$f":"IF(VLOOKUP(D323,'Zvláštní zpráva'!$E$556:$H$662,4,FALSE)=\"zvyšte skóre\",\"EMAS\",\"\")","v":""},{"$f":"IF(VLOOKUP(D323,'Zvláštní zpráva'!$E$666:$H$772,4,FALSE)=\"zvyšte skóre\",\"RC14001\",\"\")","v":""},{"$f":"IF(VLOOKUP(D323,'Zvláštní zpráva'!$E$776:$H$882,4,FALSE)=\"zvyšte skóre\",\"RCMS\",\"\")","v":""}]
[null,null,null,null,"Vaše skóre ",null,{"$f":"VLOOKUP(D323,'Technický list'!$B$482:$C$489,2,FALSE)","v":4},null,null,null,null,null,null,{"$f":"CONCATENATE(G324,\" = \",HLOOKUP(\" \",'Kapitola 4'!E57:E62,Tipy!G324+2))","v":"4 = Poskytování informací o produktech a službách, vyřizování poptávek, smluv nebo objednávek včetně změn, získávání zpětné odezvy od zákazníků ohledně produktů a služeb včetně stížností následných uživatelů a v případě potřeby stanovení zvláštních požadavků na mimořádná opatření."}]
[null,null,null,null,"Pokuste se zlepšit ",null,{"$f":"VLOOKUP(CONCATENATE(D323,$M$3),'Technický list'!$BG$482:$BI$513,3,FALSE)","v":"Není třeba okamžitě měnit strategii, ale vždy hledejte zlepšení."}]
[]
[null,null,"KAPITOLA 5","Zapojení zainteresovaných stran"]
[null,{"$f":"'Kapitola 5'!B4","v":"Hodnocení zúčastněných stran"},null,null,null,null,null,null,null,null,null,null,null,{"$f":"IF(L329=8,\"\",\"zvyšte skóre pro:\")","v":"zvyšte skóre pro:"}]
[null,null,null,{"$f":"'Kapitola 5'!C6","v":"Q5.1"},{"$f":"'Kapitola 5'!D6","v":"Jakým způsobem zapojuje organizace své externí zainteresované strany a naplňuje jejich očekávání?"},null,null,null,null,null,null,{"$f":"COUNTBLANK(N329:U329)","v":6},true,{"$f":"IF(VLOOKUP(D329,'Zvláštní zpráva'!$E$6:$H$112,4,FALSE)=\"zvyšte skóre\",\"ISO 9001\",\"\")","v":""},{"$f":"IF(VLOOKUP(D329,'Zvláštní zpráva'!$E$116:$H$222,4,FALSE)=\"zvyšte skóre\",\"ISO 14001\",\"\")","v":""},{"$f":"IF(VLOOKUP(D329,'Zvláštní zpráva'!$E$226:$H$332,4,FALSE)=\"zvyšte skóre\",\"ISO 26000\",\"\")","v":"ISO 26000"},{"$f":"IF(VLOOKUP(D329,'Zvláštní zpráva'!$E$336:$H$552,4,FALSE)=\"zvyšte skóre\",\"ISO 45001\",\"\")","v":""},{"$f":"IF(VLOOKUP(D329,'Zvláštní zpráva'!$E$556:$H$662,4,FALSE)=\"zvyšte skóre\",\"EMAS\",\"\")","v":""},{"$f":"IF(VLOOKUP(D329,'Zvláštní zpráva'!$E$666:$H$772,4,FALSE)=\"zvyšte skóre\",\"RC14001\",\"\")","v":""},{"$f":"IF(VLOOKUP(D329,'Zvláštní zpráva'!$E$776:$H$882,4,FALSE)=\"zvyšte skóre\",\"RCMS\",\"\")","v":"RCMS"}]
[null,null,null,null,"Vaše skóre ",null,{"$f":"VLOOKUP(D329,'Technický list'!$B$544:$C$548,2,FALSE)","v":3},null,null,null,null,null,null,{"$f":"CONCATENATE(G330,\" = \",HLOOKUP(\" \",'Kapitola 5'!D5:E10,Tipy!G330+2))","v":"3 = Organizace posoudila hlediska svých zainteresovaných stran a bere je v úvahu. Na základě jejich vlivu organizace upřednostnila různé zainteresované strany (mapování)."}]
[null,null,null,null,"Pokuste se zlepšit ",null,{"$f":"VLOOKUP(CONCATENATE(D329,$M$3),'Technický list'!$BG$544:$BI$563,3,FALSE)","v":"Získejte představu o tom, co motivuje vaše zúčastněné strany a jak je musíte získat.\nPotřeby a očekávání zúčastněných stran mohou být pozitivní i negativní. Pokud mají zúčastněné strany pozitivní potřeby a očekávání ohledně organizace a jejích činností, zvažte, jak mohou tyto informace posílit programy v rámci jejich obchodní strategie. Klíčem je to, že organizace musí prokázat aktivní dialogové systémy k získání zpětné vazby od zúčastněných stran.\nPoužíváte-li průzkumy ke shromažďování zpětné vazby, nastavte cíl pro „přijatelný počet odpovědí“ před odesláním průzkumů. Pokud je míra návratnosti pod vaším cílem, určete tuto oblast pro zlepšení a vytvořte plán nápravných opatření. To se stává součástí neustálého zlepšování organizace."}]
[null,{"$f":"'Kapitola 5'!B12","v":"Externí dialog a transparentnost"},null,null,null,null,null,null,null,null,null,null,null,{"$f":"IF(L333=8,\"\",\"zvyšte skóre pro:\")","v":""}]
[null,null,null,{"$f":"'Kapitola 5'!C14","v":"Q5.2"},{"$f":"'Kapitola 5'!D14","v":"Jakým způsobem vede organizace dialog s veřejností, úřady a dalšími zainteresovanými stranami, včetně místních komunit a zákazníků v souvislosti s HSE&S v rámci jejich činností, produktů a služeb?"},null,null,null,null,null,null,{"$f":"COUNTBLANK(N333:U333)","v":8},true,{"$f":"IF(VLOOKUP(D333,'Zvláštní zpráva'!$E$6:$H$112,4,FALSE)=\"zvyšte skóre\",\"ISO 9001\",\"\")","v":""},{"$f":"IF(VLOOKUP(D333,'Zvláštní zpráva'!$E$116:$H$222,4,FALSE)=\"zvyšte skóre\",\"ISO 14001\",\"\")","v":""},{"$f":"IF(VLOOKUP(D333,'Zvláštní zpráva'!$E$226:$H$332,4,FALSE)=\"zvyšte skóre\",\"ISO 26000\",\"\")","v":""},{"$f":"IF(VLOOKUP(D333,'Zvláštní zpráva'!$E$336:$H$552,4,FALSE)=\"zvyšte skóre\",\"ISO 45001\",\"\")","v":""},{"$f":"IF(VLOOKUP(D333,'Zvláštní zpráva'!$E$556:$H$662,4,FALSE)=\"zvyšte skóre\",\"EMAS\",\"\")","v":""},{"$f":"IF(VLOOKUP(D333,'Zvláštní zpráva'!$E$666:$H$772,4,FALSE)=\"zvyšte skóre\",\"RC14001\",\"\")","v":""},{"$f":"IF(VLOOKUP(D333,'Zvláštní zpráva'!$E$776:$H$882,4,FALSE)=\"zvyšte skóre\",\"RCMS\",\"\")","v":""}]
[null,null,null,null,"Vaše skóre ",null,{"$f":"VLOOKUP(D333,'Technický list'!$B$544:$C$548,2,FALSE)","v":4},null,null,null,null,null,null,{"$f":"CONCATENATE(G334,\" = \",HLOOKUP(\" \",'Kapitola 5'!D13:E18,Tipy!G334+2))","v":"4 = Organizace systematicky konzultuje a přímo zapojuje své zainteresované strany do svých aktivit prostřednictvím rozvoje společných projektů nebo partnerství."}]
[null,null,null,null,"Pokuste se zlepšit ",null,{"$f":"VLOOKUP(CONCATENATE(D333,$M$3),'Technický list'!$BG$544:$BI$563,3,FALSE)","v":"Není třeba okamžitě měnit strategii, ale vždy hledejte zlepšení."}]
[null,null,null,null,null,null,null,null,null,null,null,null,null,{"$f":"IF(L337=8,\"\",\"zvyšte skóre pro:\")","v":"zvyšte skóre pro:"}]
[null,null,null,{"$f":"'Kapitola 5'!C20","v":"Q5.3"},{"$f":"'Kapitola 5'!D20","v":"Jakým způsobem zveřejňuje organizace informace týkající se\n HSE&S?"},null,null,null,null,null,null,{"$f":"COUNTBLANK(N337:U337)","v":7},true,{"$f":"IF(VLOOKUP(D337,'Zvláštní zpráva'!$E$6:$H$112,4,FALSE)=\"zvyšte skóre\",\"ISO 9001\",\"\")","v":""},{"$f":"IF(VLOOKUP(D337,'Zvláštní zpráva'!$E$116:$H$222,4,FALSE)=\"zvyšte skóre\",\"ISO 14001\",\"\")","v":""},{"$f":"IF(VLOOKUP(D337,'Zvláštní zpráva'!$E$226:$H$332,4,FALSE)=\"zvyšte skóre\",\"ISO 26000\",\"\")","v":""},{"$f":"IF(VLOOKUP(D337,'Zvláštní zpráva'!$E$336:$H$552,4,FALSE)=\"zvyšte skóre\",\"ISO 45001\",\"\")","v":""},{"$f":"IF(VLOOKUP(D337,'Zvláštní zpráva'!$E$556:$H$662,4,FALSE)=\"zvyšte skóre\",\"EMAS\",\"\")","v":"EMAS"},{"$f":"IF(VLOOKUP(D337,'Zvláštní zpráva'!$E$666:$H$772,4,FALSE)=\"zvyšte skóre\",\"RC14001\",\"\")","v":""},{"$f":"IF(VLOOKUP(D337,'Zvláštní zpráva'!$E$776:$H$882,4,FALSE)=\"zvyšte skóre\",\"RCMS\",\"\")","v":""}]
[null,null,null,null,"Vaše skóre ",null,{"$f":"VLOOKUP(D337,'Technický list'!$B$544:$C$548,2,FALSE)","v":2},null,null,null,null,null,null,{"$f":"CONCATENATE(G338,\" = \",HLOOKUP(\" \",'Kapitola 5'!D19:E24,Tipy!G338+2))","v":"2 = Výsledky hodnocení výkonnosti organizace se zveřejňují."}]
[null,null,null,null,"Pokuste se zlepšit ",null,{"$f":"VLOOKUP(CONCATENATE(D337,$M$3),'Technický list'!$BG$544:$BI$563,3,FALSE)","v":"Požádat třetí stranu, aby každoročně přezkoumala výsledky hodnocení výkonnosti organizace před zveřejněním."}]
[null,{"$f":"'Kapitola 5'!B26","v":" Místní komunity"},null,null,null,null,null,null,null,null,null,null,null,{"$f":"IF(L341=8,\"\",\"zvyšte skóre pro:\")","v":""}]
[null,null,null,{"$f":"'Kapitola 5'!C28","v":"Q5.4"},{"$f":"'Kapitola 5'!D28","v":"Jakým způsobem podporuje organizace místní komunity?"},null,null,null,null,null,null,{"$f":"COUNTBLANK(N341:U341)","v":8},true,{"$f":"IF(VLOOKUP(D341,'Zvláštní zpráva'!$E$6:$H$112,4,FALSE)=\"zvyšte skóre\",\"ISO 9001\",\"\")","v":""},{"$f":"IF(VLOOKUP(D341,'Zvláštní zpráva'!$E$116:$H$222,4,FALSE)=\"zvyšte skóre\",\"ISO 14001\",\"\")","v":""},{"$f":"IF(VLOOKUP(D341,'Zvláštní zpráva'!$E$226:$H$332,4,FALSE)=\"zvyšte skóre\",\"ISO 26000\",\"\")","v":""},{"$f":"IF(VLOOKUP(D341,'Zvláštní zpráva'!$E$336:$H$552,4,FALSE)=\"zvyšte skóre\",\"ISO 45001\",\"\")","v":""},{"$f":"IF(VLOOKUP(D341,'Zvláštní zpráva'!$E$556:$H$662,4,FALSE)=\"zvyšte skóre\",\"EMAS\",\"\")","v":""},{"$f":"IF(VLOOKUP(D341,'Zvláštní zpráva'!$E$666:$H$772,4,FALSE)=\"zvyšte skóre\",\"RC14001\",\"\")","v":""},{"$f":"IF(VLOOKUP(D341,'Zvláštní zpráva'!$E$776:$H$882,4,FALSE)=\"zvyšte skóre\",\"RCMS\",\"\")","v":""}]
[null,null,null,null,"Vaše skóre ",null,{"$f":"VLOOKUP(D341,'Technický list'!$B$544:$C$548,2,FALSE)","v":2},null,null,null,null,null,null,{"$f":"CONCATENATE(G342,\" = \",HLOOKUP(\" \",'Kapitola 5'!D27:E32,Tipy!G342+2))","v":"2 = Organizace reaguje na konkrétní požadavky místních komunit. Organizace vede dialog s místními zástupci a bere ohled na blaho sousedů."}]
[null,null,null,null,"Pokuste se zlepšit ",null,{"$f":"VLOOKUP(CONCATENATE(D341,$M$3),'Technický list'!$BG$544:$BI$563,3,FALSE)","v":"Identifikovat místní projekty a akce (odpovídající klíčovým hodnotám vaší společnosti) a přispět k místnímu rozvoji. Příkladem projektů může být událost výsadby stromů s kolegy, která pomůže místní přírodní organizaci, sdílí znalosti nebo poznatky vaší organizace ve třídách na místních vzdělávacích institucích ..."}]
[null,null,null,null,null,null,null,null,null,null,null,null,null,{"$f":"IF(L345=8,\"\",\"zvyšte skóre pro:\")","v":""}]
[null,null,null,{"$f":"'Kapitola 5'!C34","v":"Q5.5"},{"$f":"'Kapitola 5'!D34","v":"Jakým způsobem stimuluje organizace místní zaměstnanost a vzdělávání?"},null,null,null,null,null,null,{"$f":"COUNTBLANK(N345:U345)","v":8},true,{"$f":"IF(VLOOKUP(D345,'Zvláštní zpráva'!$E$6:$H$112,4,FALSE)=\"zvyšte skóre\",\"ISO 9001\",\"\")","v":""},{"$f":"IF(VLOOKUP(D345,'Zvláštní zpráva'!$E$116:$H$222,4,FALSE)=\"zvyšte skóre\",\"ISO 14001\",\"\")","v":""},{"$f":"IF(VLOOKUP(D345,'Zvláštní zpráva'!$E$226:$H$332,4,FALSE)=\"zvyšte skóre\",\"ISO 26000\",\"\")","v":""},{"$f":"IF(VLOOKUP(D345,'Zvláštní zpráva'!$E$336:$H$552,4,FALSE)=\"zvyšte skóre\",\"ISO 45001\",\"\")","v":""},{"$f":"IF(VLOOKUP(D345,'Zvláštní zpráva'!$E$556:$H$662,4,FALSE)=\"zvyšte skóre\",\"EMAS\",\"\")","v":""},{"$f":"IF(VLOOKUP(D345,'Zvláštní zpráva'!$E$666:$H$772,4,FALSE)=\"zvyšte skóre\",\"RC14001\",\"\")","v":""},{"$f":"IF(VLOOKUP(D345,'Zvláštní zpráva'!$E$776:$H$882,4,FALSE)=\"zvyšte skóre\",\"RCMS\",\"\")","v":""}]
[null,null,null,null,"Vaše skóre ",null,{"$f":"VLOOKUP(D345,'Technický list'!$B$544:$C$548,2,FALSE)","v":3},null,null,null,null,null,null,{"$f":"CONCATENATE(G346,\" = \",HLOOKUP(\" \",'Kapitola 5'!D33:E38,Tipy!G346+2))","v":"3 = Organizace přispívá k místní zaměstnanosti a podporuje místní školy: v rámci pracovního náboru zapojuje místní pracovní organizace včetně platforem pro reintegraci zaměstnanců, organizace vítá stážisty z místních škol a účastní se školních aktivit."}]
[null,null,null,null,"Pokuste se zlepšit ",null,{"$f":"VLOOKUP(CONCATENATE(D345,$M$3),'Technický list'!$BG$544:$BI$563,3,FALSE)","v":"Není třeba okamžitě měnit strategii, ale vždy hledejte zlepšení."}]
[]
[null,null,"KAPITOLA 6","Přispívání k udržitelnosti"]
[null,{"$f":"'Kapitola 6'!B4","v":"Hodnocení závažnosti"},null,null,null,null,null,null,null,null,null,null,null,{"$f":"IF(L351=8,\"\",\"zvyšte skóre pro:\")","v":"zvyšte skóre pro:"}]
[null,null,{"$f":"IF(VLOOKUP(D351,'Technický list'!$AO$584:$AQ$600,3,0)=\"OK\",\"\",\"hlavní věci\")","v":""},{"$f":"'Kapitola 6'!C6","v":"Q6.1"},{"$f":"'Kapitola 6'!D6","v":"Jakým způsobem definuje organizace významné problémy a závažnost?"},null,null,null,null,null,null,{"$f":"COUNTBLANK(N351:U351)","v":7},true,{"$f":"IF(VLOOKUP(D351,'Zvláštní zpráva'!$E$6:$H$112,4,FALSE)=\"zvyšte skóre\",\"ISO 9001\",\"\")","v":""},{"$f":"IF(VLOOKUP(D351,'Zvláštní zpráva'!$E$116:$H$222,4,FALSE)=\"zvyšte skóre\",\"ISO 14001\",\"\")","v":""},{"$f":"IF(VLOOKUP(D351,'Zvláštní zpráva'!$E$226:$H$332,4,FALSE)=\"zvyšte skóre\",\"ISO 26000\",\"\")","v":"ISO 26000"},{"$f":"IF(VLOOKUP(D351,'Zvláštní zpráva'!$E$336:$H$552,4,FALSE)=\"zvyšte skóre\",\"ISO 45001\",\"\")","v":""},{"$f":"IF(VLOOKUP(D351,'Zvláštní zpráva'!$E$556:$H$662,4,FALSE)=\"zvyšte skóre\",\"EMAS\",\"\")","v":""},{"$f":"IF(VLOOKUP(D351,'Zvláštní zpráva'!$E$666:$H$772,4,FALSE)=\"zvyšte skóre\",\"RC14001\",\"\")","v":""},{"$f":"IF(VLOOKUP(D351,'Zvláštní zpráva'!$E$776:$H$882,4,FALSE)=\"zvyšte skóre\",\"RCMS\",\"\")","v":""}]
[null,null,null,null,"Vaše skóre ",null,{"$f":"VLOOKUP(D351,'Technický list'!$B$584:$C$600,2,FALSE)","v":2},null,null,null,null,null,null,{"$f":"CONCATENATE(G352,\" = \",HLOOKUP(\" \",'Kapitola 6'!D5:E12,Tipy!G352+2))","v":"2 = Organizace identifikovala významné sociální, ekonomické a environmentální otázky představující rizika nebo příležitosti pro samotnou organizaci na základě stávajících sektorových plánů (např. Sektorový plán WBCSD:"}]
[null,null,null,null,"Pokuste se zlepšit ",null,{"$f":"VLOOKUP(CONCATENATE(D351,$M$3),'Technický list'!$BG$584:$BI$651,3,FALSE)","v":"Jakmile se identifikujete a zapojíte se zúčastněnými stranami, určete, jaké ukazatele udržitelnosti (společenské, hospodářské a environmentální) je třeba měřit, abyste skutečně získali potřebné informace a informace; K tomuto účelu můžete použít stávající odvětvové mapy (odkaz na odvětvový plán WBCSD: https://www.wbcsd.org/Programs/People/Sustainable-Development-Goals/SDG-Sector-Roadmaps/Resources/SDG-Sector-Roadmaps),  Charta udržitelnosti (odkaz na Cefic chartu: https://chemistrycan.com/app/uploads/2017/10/Cefic-Sustainability-Charter-signed.pdf)  a zásady (odkaz na zásady ACC: https://www.americanchemistry.com/Sustainability/Principles.html). "}]
[null,null,null,null,null,null,null,null,null,null,null,null,null,{"$f":"IF($G$352=2,'Technický list'!$BL$585,\"\")","v":"https://www.wbcsd.org/Programs/People/Sustainable-Development-Goals/SDG-Sector-Roadmaps/Resources/SDG-Sector-Roadmaps"}]
[null,null,null,null,null,null,null,null,null,null,null,null,null,{"$f":"IF($G$352=2,'Technický list'!$BL$586,\"\")","v":"https://cefic.org/app/uploads/2019/01/Cefic-Sustainability-Charter-TeamingUp-For-A-SustainableEurope.pdf"}]
[null,null,null,null,null,null,null,null,null,null,null,null,null,{"$f":"IF($G$352=2,'Technický list'!$BL$587,\"\")","v":"https://www.americanchemistry.com/Sustainability/Principles.html"}]
[null,{"$f":"'Kapitola 6'!B14","v":"Udržitelný rozvoj"},null,null,null,null,null,null,null,null,null,null,null,{"$f":"IF(L358=8,\"\",\"zvyšte skóre pro:\")","v":""}]
[null,null,{"$f":"IF(VLOOKUP(D358,'Technický list'!$AO$584:$AQ$600,3,0)=\"OK\",\"\",\"hlavní věci\")","v":""},{"$f":"'Kapitola 6'!C16","v":"Q6.2"},{"$f":"'Kapitola 6'!D16","v":"Jakým způsobem hodlá organizace přispívat k udržitelnému rozvoji?"},null,null,null,null,null,null,{"$f":"COUNTBLANK(N358:U358)","v":8},true,{"$f":"IF(VLOOKUP(D358,'Zvláštní zpráva'!$E$6:$H$112,4,FALSE)=\"zvyšte skóre\",\"ISO 9001\",\"\")","v":""},{"$f":"IF(VLOOKUP(D358,'Zvláštní zpráva'!$E$116:$H$222,4,FALSE)=\"zvyšte skóre\",\"ISO 14001\",\"\")","v":""},{"$f":"IF(VLOOKUP(D358,'Zvláštní zpráva'!$E$226:$H$332,4,FALSE)=\"zvyšte skóre\",\"ISO 26000\",\"\")","v":""},{"$f":"IF(VLOOKUP(D358,'Zvláštní zpráva'!$E$336:$H$552,4,FALSE)=\"zvyšte skóre\",\"ISO 45001\",\"\")","v":""},{"$f":"IF(VLOOKUP(D358,'Zvláštní zpráva'!$E$556:$H$662,4,FALSE)=\"zvyšte skóre\",\"EMAS\",\"\")","v":""},{"$f":"IF(VLOOKUP(D358,'Zvláštní zpráva'!$E$666:$H$772,4,FALSE)=\"zvyšte skóre\",\"RC14001\",\"\")","v":""},{"$f":"IF(VLOOKUP(D358,'Zvláštní zpráva'!$E$776:$H$882,4,FALSE)=\"zvyšte skóre\",\"RCMS\",\"\")","v":""}]
[null,null,null,null,"Vaše skóre ",null,{"$f":"VLOOKUP(D358,'Technický list'!$B$584:$C$600,2,FALSE)","v":2},null,null,null,null,null,null,{"$f":"CONCATENATE(G359,\" = \",HLOOKUP(\" \",'Kapitola 6'!D15:E20,Tipy!G359+2))","v":"2 = Organizace zmapovala své příspěvky do programu Cílů udržitelného rozvoje (SDGs)."}]
[null,null,null,null,"Pokuste se zlepšit ",null,{"$f":"VLOOKUP(CONCATENATE(D358,$M$3),'Technický list'!$BG$584:$BI$651,3,FALSE)","v":"Identifikujte příležitosti k dopadu a plánované akce týkající se příspěvku podle plánu pro SDG pro chemický sektor (např. Odvětvový plán WBCSD- https://www.wbcsd.org/Programs/People/Sustainable-Development-Goals/SDG-Sector-Roadmaps/Resources/SDG-Sector-Roadmaps, \ncharty udržitelného rozvoje Cefic: https://chemistrycan.com/app/uploads/2017/10/Cefic-Sustainability-Charter-signed.pdf\na principů ACC: https://www.americanchemistry.com/Sustainability/Principles.html).\n "}]
[null,null,null,null,null,null,null,null,null,null,null,null,null,{"$f":"IF($G$359=2,'Technický list'!$BL$589,\"\")","v":"https://www.wbcsd.org/Programs/People/Sustainable-Development-Goals/SDG-Sector-Roadmaps/Resources/SDG-Sector-Roadmaps"}]
[null,null,null,null,null,null,null,null,null,null,null,null,null,{"$f":"IF($G$359=2,'Technický list'!$BL$590,\"\")","v":"https://cefic.org/app/uploads/2019/01/Cefic-Sustainability-Charter-TeamingUp-For-A-SustainableEurope.pdf"}]
[null,null,null,null,null,null,null,null,null,null,null,null,null,{"$f":"IF($G$359=2,'Technický list'!$BL$591,\"\")","v":"https://www.americanchemistry.com/Sustainability/Principles.html"}]
[null,{"$f":"'Kapitola 6'!B22","v":"Komunikace"},null,null,null,null,null,null,null,null,null,null,null,{"$f":"IF(L365=8,\"\",\"zvyšte skóre pro:\")","v":"zvyšte skóre pro:"}]
[null,null,{"$f":"IF(VLOOKUP(D365,'Technický list'!$AO$584:$AQ$600,3,0)=\"OK\",\"\",\"hlavní věci\")","v":""},{"$f":"'Kapitola 6'!C24","v":"Q6.3"},{"$f":"'Kapitola 6'!D24","v":"Jakým způsobem komunikuje organizace zainteresovaných stran na téma udržitelnosti?"},null,null,null,null,null,null,{"$f":"COUNTBLANK(N365:U365)","v":7},true,{"$f":"IF(VLOOKUP(D365,'Zvláštní zpráva'!$E$6:$H$112,4,FALSE)=\"zvyšte skóre\",\"ISO 9001\",\"\")","v":""},{"$f":"IF(VLOOKUP(D365,'Zvláštní zpráva'!$E$116:$H$222,4,FALSE)=\"zvyšte skóre\",\"ISO 14001\",\"\")","v":""},{"$f":"IF(VLOOKUP(D365,'Zvláštní zpráva'!$E$226:$H$332,4,FALSE)=\"zvyšte skóre\",\"ISO 26000\",\"\")","v":"ISO 26000"},{"$f":"IF(VLOOKUP(D365,'Zvláštní zpráva'!$E$336:$H$552,4,FALSE)=\"zvyšte skóre\",\"ISO 45001\",\"\")","v":""},{"$f":"IF(VLOOKUP(D365,'Zvláštní zpráva'!$E$556:$H$662,4,FALSE)=\"zvyšte skóre\",\"EMAS\",\"\")","v":""},{"$f":"IF(VLOOKUP(D365,'Zvláštní zpráva'!$E$666:$H$772,4,FALSE)=\"zvyšte skóre\",\"RC14001\",\"\")","v":""},{"$f":"IF(VLOOKUP(D365,'Zvláštní zpráva'!$E$776:$H$882,4,FALSE)=\"zvyšte skóre\",\"RCMS\",\"\")","v":""}]
[null,null,null,null,"Vaše skóre ",null,{"$f":"VLOOKUP(D365,'Technický list'!$B$584:$C$600,2,FALSE)","v":3},null,null,null,null,null,null,{"$f":"CONCATENATE(G366,\" = \",HLOOKUP(\" \",'Kapitola 6'!D23:E28,Tipy!G366+2))","v":"3 = Organizace vede ad hoc externí komunikaci na téma udržitelnosti se zákazníky, pracovními partnery a komunitou."}]
[null,null,null,null,"Pokuste se zlepšit ",null,{"$f":"VLOOKUP(CONCATENATE(D365,$M$3),'Technický list'!$BG$584:$BI$651,3,FALSE)","v":"Zapojte interně i externě do témat udržitelnosti. Zveřejňujte každoročně úplnou zprávu o udržitelnosti všech materiálů a problémů s odkazy na pokyny Global Reporting Initiative (GRI) Sustainability Reporting Guidelines nebo jejich ekvivalenty.\nSdílení informací o politikách a výkonnosti v otázkách životního prostředí, sociálních věcí a správy věcí veřejných vám pomůže budovat důvěru se svými zákazníky a partnery, sledovat a zmírňovat rizika a najít způsoby, jak zlepšit účinnost, což má pozitivní dopad na vaše finanční výsledky."}]
[null,{"$f":"'Kapitola 6'!B30","v":"Udržitelné portfolio"},null,null,null,null,null,null,null,null,null,null,null,{"$f":"IF(L369=8,\"\",\"zvyšte skóre pro:\")","v":""}]
[null,null,{"$f":"IF(VLOOKUP(D369,'Technický list'!$AO$584:$AQ$600,3,0)=\"OK\",\"\",\"hlavní věci\")","v":""},{"$f":"'Kapitola 6'!C32","v":"Q6.4"},{"$f":"'Kapitola 6'!D32","v":"Má organizace zavedený proces navrhování výrobků s lepšími výsledky udržitelnosti?"},null,null,null,null,null,null,{"$f":"COUNTBLANK(N369:U369)","v":8},true,{"$f":"IF(VLOOKUP(D369,'Zvláštní zpráva'!$E$6:$H$112,4,FALSE)=\"zvyšte skóre\",\"ISO 9001\",\"\")","v":""},{"$f":"IF(VLOOKUP(D369,'Zvláštní zpráva'!$E$116:$H$222,4,FALSE)=\"zvyšte skóre\",\"ISO 14001\",\"\")","v":""},{"$f":"IF(VLOOKUP(D369,'Zvláštní zpráva'!$E$226:$H$332,4,FALSE)=\"zvyšte skóre\",\"ISO 26000\",\"\")","v":""},{"$f":"IF(VLOOKUP(D369,'Zvláštní zpráva'!$E$336:$H$552,4,FALSE)=\"zvyšte skóre\",\"ISO 45001\",\"\")","v":""},{"$f":"IF(VLOOKUP(D369,'Zvláštní zpráva'!$E$556:$H$662,4,FALSE)=\"zvyšte skóre\",\"EMAS\",\"\")","v":""},{"$f":"IF(VLOOKUP(D369,'Zvláštní zpráva'!$E$666:$H$772,4,FALSE)=\"zvyšte skóre\",\"RC14001\",\"\")","v":""},{"$f":"IF(VLOOKUP(D369,'Zvláštní zpráva'!$E$776:$H$882,4,FALSE)=\"zvyšte skóre\",\"RCMS\",\"\")","v":""}]
[null,null,null,null,"Vaše skóre ",null,{"$f":"VLOOKUP(D369,'Technický list'!$B$584:$C$600,2,FALSE)","v":2},null,null,null,null,null,null,{"$f":"CONCATENATE(G370,\" = \",HLOOKUP(\" \",'Kapitola 6'!D31:E36,Tipy!G370+2))","v":"2 = Organizace se dohodla na společném chápání toho, co znamená „udržitelnost“ v rámci produktových portfolií, identifikovala kritické zájmy zainteresovaných stran a klíčové body rozhodování při zpracování produktu."}]
[null,null,null,null,"Pokuste se zlepšit ",null,{"$f":"VLOOKUP(CONCATENATE(D369,$M$3),'Technický list'!$BG$584:$BI$651,3,FALSE)","v":"Pokyny, jak zavést proces navrhování produktů se zlepšenými výsledky v oblasti udržitelnosti, poskytuje https://www.wbcsd.org/contentwbc/download/5870/80216. "}]
[null,{"$f":"'Kapitola 6'!B38","v":"Efektivnost zdrojů / oběhové hospodářství\n"},null,null,null,null,null,null,null,null,null,null,null,{"$f":"IF(L373=8,\"\",\"zvyšte skóre pro:\")","v":""}]
[null,null,{"$f":"IF(VLOOKUP(D373,'Technický list'!$AO$584:$AQ$600,3,0)=\"OK\",\"\",\"hlavní věci\")","v":""},{"$f":"'Kapitola 6'!C40","v":"Q6.5"},{"$f":"'Kapitola 6'!D40","v":"Jakým způsobem zvyšuje organizace efektivnost zdrojů ve svých výrobních procesech?"},null,null,null,null,null,null,{"$f":"COUNTBLANK(N373:U373)","v":8},true,{"$f":"IF(VLOOKUP(D373,'Zvláštní zpráva'!$E$6:$H$112,4,FALSE)=\"zvyšte skóre\",\"ISO 9001\",\"\")","v":""},{"$f":"IF(VLOOKUP(D373,'Zvláštní zpráva'!$E$116:$H$222,4,FALSE)=\"zvyšte skóre\",\"ISO 14001\",\"\")","v":""},{"$f":"IF(VLOOKUP(D373,'Zvláštní zpráva'!$E$226:$H$332,4,FALSE)=\"zvyšte skóre\",\"ISO 26000\",\"\")","v":""},{"$f":"IF(VLOOKUP(D373,'Zvláštní zpráva'!$E$336:$H$552,4,FALSE)=\"zvyšte skóre\",\"ISO 45001\",\"\")","v":""},{"$f":"IF(VLOOKUP(D373,'Zvláštní zpráva'!$E$556:$H$662,4,FALSE)=\"zvyšte skóre\",\"EMAS\",\"\")","v":""},{"$f":"IF(VLOOKUP(D373,'Zvláštní zpráva'!$E$666:$H$772,4,FALSE)=\"zvyšte skóre\",\"RC14001\",\"\")","v":""},{"$f":"IF(VLOOKUP(D373,'Zvláštní zpráva'!$E$776:$H$882,4,FALSE)=\"zvyšte skóre\",\"RCMS\",\"\")","v":""}]
[null,null,null,null,"Vaše skóre ",null,{"$f":"VLOOKUP(D373,'Technický list'!$B$584:$C$600,2,FALSE)","v":2},null,null,null,null,null,null,{"$f":"CONCATENATE(G374,\" = \",HLOOKUP(\" \",'Kapitola 6'!D39:E44,Tipy!G374+2))","v":"2 = Organizace zavedla systém pro měření efektivity zdrojů ve svých výrobních procesech."}]
[null,null,null,null,"Pokuste se zlepšit ",null,{"$f":"VLOOKUP(CONCATENATE(D373,$M$3),'Technický list'!$BG$584:$BI$651,3,FALSE)","v":"Zavést postup ke zlepšení efektivity zdrojů ve výrobních procesech vaší organizace.\nV rámci tohoto procesu upřednostňujte ekologicky navržené výrobky, biologické suroviny, druhotné suroviny z recyklace a opětovné použití zavedením kritérií pro tyto aspekty při výběru nákupu, jako alternativa k neobnovitelným surovinám.\nVyhodnocovat účinnost tohoto procesu je pravidelně."}]
[null,null,null,null,null,null,null,null,null,null,null,null,null,{"$f":"IF(L377=8,\"\",\"zvyšte skóre pro:\")","v":"zvyšte skóre pro:"}]
[null,null,{"$f":"IF(VLOOKUP(D377,'Technický list'!$AO$584:$AQ$600,3,0)=\"OK\",\"\",\"hlavní věci\")","v":""},{"$f":"'Kapitola 6'!C46","v":"Q6.6"},{"$f":"'Kapitola 6'!D46","v":"Jakým způsobem stimuluje organizace oběhové hospodářství prostřednictvím svých produktů?"},null,null,null,null,null,null,{"$f":"COUNTBLANK(N377:U377)","v":7},true,{"$f":"IF(VLOOKUP(D377,'Zvláštní zpráva'!$E$6:$H$112,4,FALSE)=\"zvyšte skóre\",\"ISO 9001\",\"\")","v":""},{"$f":"IF(VLOOKUP(D377,'Zvláštní zpráva'!$E$116:$H$222,4,FALSE)=\"zvyšte skóre\",\"ISO 14001\",\"\")","v":""},{"$f":"IF(VLOOKUP(D377,'Zvláštní zpráva'!$E$226:$H$332,4,FALSE)=\"zvyšte skóre\",\"ISO 26000\",\"\")","v":"ISO 26000"},{"$f":"IF(VLOOKUP(D377,'Zvláštní zpráva'!$E$336:$H$552,4,FALSE)=\"zvyšte skóre\",\"ISO 45001\",\"\")","v":""},{"$f":"IF(VLOOKUP(D377,'Zvláštní zpráva'!$E$556:$H$662,4,FALSE)=\"zvyšte skóre\",\"EMAS\",\"\")","v":""},{"$f":"IF(VLOOKUP(D377,'Zvláštní zpráva'!$E$666:$H$772,4,FALSE)=\"zvyšte skóre\",\"RC14001\",\"\")","v":""},{"$f":"IF(VLOOKUP(D377,'Zvláštní zpráva'!$E$776:$H$882,4,FALSE)=\"zvyšte skóre\",\"RCMS\",\"\")","v":""}]
[null,null,null,null,"Vaše skóre ",null,{"$f":"VLOOKUP(D377,'Technický list'!$B$584:$C$600,2,FALSE)","v":1},null,null,null,null,null,null,{"$f":"CONCATENATE(G378,\" = \",HLOOKUP(\" \",'Kapitola 6'!D45:E50,Tipy!G378+2))","v":"1 = Organizace splňuje příslušné zákonné povinnosti týkající se monitoringu, ovšem nesoustředí se na aspekt cirkularity (oběhu)."}]
[null,null,null,null,"Pokuste se zlepšit ",null,{"$f":"VLOOKUP(CONCATENATE(D377,$M$3),'Technický list'!$BG$584:$BI$651,3,FALSE)","v":"Zkoumejte a identifikujte recyklovatelnost a trvanlivost svých produktů a naplánujte vylepšení procesu navrhování výrobků s ohledem na tyto aspekty."}]
[null,null,null,null,null,null,null,null,null,null,null,null,null,{"$f":"IF(L381=8,\"\",\"zvyšte skóre pro:\")","v":""}]
[null,null,{"$f":"IF(VLOOKUP(D381,'Technický list'!$AO$584:$AQ$600,3,0)=\"OK\",\"\",\"hlavní věci\")","v":""},{"$f":"'Kapitola 6'!C52","v":"Q6.7"},{"$f":"'Kapitola 6'!D52","v":"Jakým způsobem podporuje organizace inovace při vývoji produktů a řešení, které odpovídají výzvám udržitelnosti?"},null,null,null,null,null,null,{"$f":"COUNTBLANK(N381:U381)","v":8},true,{"$f":"IF(VLOOKUP(D381,'Zvláštní zpráva'!$E$6:$H$112,4,FALSE)=\"zvyšte skóre\",\"ISO 9001\",\"\")","v":""},{"$f":"IF(VLOOKUP(D381,'Zvláštní zpráva'!$E$116:$H$222,4,FALSE)=\"zvyšte skóre\",\"ISO 14001\",\"\")","v":""},{"$f":"IF(VLOOKUP(D381,'Zvláštní zpráva'!$E$226:$H$332,4,FALSE)=\"zvyšte skóre\",\"ISO 26000\",\"\")","v":""},{"$f":"IF(VLOOKUP(D381,'Zvláštní zpráva'!$E$336:$H$552,4,FALSE)=\"zvyšte skóre\",\"ISO 45001\",\"\")","v":""},{"$f":"IF(VLOOKUP(D381,'Zvláštní zpráva'!$E$556:$H$662,4,FALSE)=\"zvyšte skóre\",\"EMAS\",\"\")","v":""},{"$f":"IF(VLOOKUP(D381,'Zvláštní zpráva'!$E$666:$H$772,4,FALSE)=\"zvyšte skóre\",\"RC14001\",\"\")","v":""},{"$f":"IF(VLOOKUP(D381,'Zvláštní zpráva'!$E$776:$H$882,4,FALSE)=\"zvyšte skóre\",\"RCMS\",\"\")","v":""}]
[null,null,null,null,"Vaše skóre ",null,{"$f":"VLOOKUP(D381,'Technický list'!$B$584:$C$600,2,FALSE)","v":3},null,null,null,null,null,null,{"$f":"CONCATENATE(G382,\" = \",HLOOKUP(\" \",'Kapitola 6'!D51:E56,Tipy!G382+2))","v":"3 = Projekty inovace se posuzují na základě kritérií udržitelnosti, které sdružují environmentální, ekonomické a sociální aspekty."}]
[null,null,null,null,"Pokuste se zlepšit ",null,{"$f":"VLOOKUP(CONCATENATE(D381,$M$3),'Technický list'!$BG$584:$BI$651,3,FALSE)","v":"Sdílení osvědčených postupů pro zvýšení výhod"}]
[null,null,null,null,null,null,null,null,null,null,null,null,null,{"$f":"IF(L385=8,\"\",\"zvyšte skóre pro:\")","v":""}]
[null,null,{"$f":"IF(VLOOKUP(D385,'Technický list'!$AO$584:$AQ$600,3,0)=\"OK\",\"\",\"hlavní věci\")","v":""},{"$f":"'Kapitola 6'!C58","v":"Q6.8"},{"$f":"'Kapitola 6'!D58","v":"Jakým způsobem stimuluje organizace inovaci a spolupráci?"},null,null,null,null,null,null,{"$f":"COUNTBLANK(N385:U385)","v":8},true,{"$f":"IF(VLOOKUP(D385,'Zvláštní zpráva'!$E$6:$H$112,4,FALSE)=\"zvyšte skóre\",\"ISO 9001\",\"\")","v":""},{"$f":"IF(VLOOKUP(D385,'Zvláštní zpráva'!$E$116:$H$222,4,FALSE)=\"zvyšte skóre\",\"ISO 14001\",\"\")","v":""},{"$f":"IF(VLOOKUP(D385,'Zvláštní zpráva'!$E$226:$H$332,4,FALSE)=\"zvyšte skóre\",\"ISO 26000\",\"\")","v":""},{"$f":"IF(VLOOKUP(D385,'Zvláštní zpráva'!$E$336:$H$552,4,FALSE)=\"zvyšte skóre\",\"ISO 45001\",\"\")","v":""},{"$f":"IF(VLOOKUP(D385,'Zvláštní zpráva'!$E$556:$H$662,4,FALSE)=\"zvyšte skóre\",\"EMAS\",\"\")","v":""},{"$f":"IF(VLOOKUP(D385,'Zvláštní zpráva'!$E$666:$H$772,4,FALSE)=\"zvyšte skóre\",\"RC14001\",\"\")","v":""},{"$f":"IF(VLOOKUP(D385,'Zvláštní zpráva'!$E$776:$H$882,4,FALSE)=\"zvyšte skóre\",\"RCMS\",\"\")","v":""}]
[null,null,null,null,"Vaše skóre ",null,{"$f":"VLOOKUP(D385,'Technický list'!$B$584:$C$600,2,FALSE)","v":3},null,null,null,null,null,null,{"$f":"CONCATENATE(G386,\" = \",HLOOKUP(\" \",'Kapitola 6'!D57:E62,Tipy!G386+2))","v":"3 = Organizace se podílí na spolupráci v oblasti inovací s průmyslovými partnery nebo akademickou obcí."}]
[null,null,null,null,"Pokuste se zlepšit ",null,{"$f":"VLOOKUP(CONCATENATE(D385,$M$3),'Technický list'!$BG$584:$BI$651,3,FALSE)","v":"Vytvořte inovační programy s průmyslovými nebo akademickými činiteli, na nichž vaše organizace sdílí prostředky (materiály, rozpočty, zdroje atd.)."}]
[null,null,null,null,null,null,null,null,null,null,null,null,null,{"$f":"IF(L389=8,\"\",\"zvyšte skóre pro:\")","v":""}]
[null,null,{"$f":"IF(VLOOKUP(D389,'Technický list'!$AO$584:$AQ$600,3,0)=\"OK\",\"\",\"hlavní věci\")","v":""},{"$f":"'Kapitola 6'!C64","v":"Q6.9"},{"$f":"'Kapitola 6'!D64","v":"Jakým způsobem podporuje organizace udržitelné způsoby spotřeby?"},null,null,null,null,null,null,{"$f":"COUNTBLANK(N389:U389)","v":8},true,{"$f":"IF(VLOOKUP(D389,'Zvláštní zpráva'!$E$6:$H$112,4,FALSE)=\"zvyšte skóre\",\"ISO 9001\",\"\")","v":""},{"$f":"IF(VLOOKUP(D389,'Zvláštní zpráva'!$E$116:$H$222,4,FALSE)=\"zvyšte skóre\",\"ISO 14001\",\"\")","v":""},{"$f":"IF(VLOOKUP(D389,'Zvláštní zpráva'!$E$226:$H$332,4,FALSE)=\"zvyšte skóre\",\"ISO 26000\",\"\")","v":""},{"$f":"IF(VLOOKUP(D389,'Zvláštní zpráva'!$E$336:$H$552,4,FALSE)=\"zvyšte skóre\",\"ISO 45001\",\"\")","v":""},{"$f":"IF(VLOOKUP(D389,'Zvláštní zpráva'!$E$556:$H$662,4,FALSE)=\"zvyšte skóre\",\"EMAS\",\"\")","v":""},{"$f":"IF(VLOOKUP(D389,'Zvláštní zpráva'!$E$666:$H$772,4,FALSE)=\"zvyšte skóre\",\"RC14001\",\"\")","v":""},{"$f":"IF(VLOOKUP(D389,'Zvláštní zpráva'!$E$776:$H$882,4,FALSE)=\"zvyšte skóre\",\"RCMS\",\"\")","v":""}]
[null,null,null,null,"Vaše skóre ",null,{"$f":"VLOOKUP(D389,'Technický list'!$B$584:$C$600,2,FALSE)","v":1},null,null,null,null,null,null,{"$f":"CONCATENATE(G390,\" = \",HLOOKUP(\" \",'Kapitola 6'!D63:E68,Tipy!G390+2))","v":"1 = Organizace splňuje příslušné zákonné požadavky, tímto tématem se však zvlášť nezabývá."}]
[null,null,null,null,"Pokuste se zlepšit ",null,{"$f":"VLOOKUP(CONCATENATE(D389,$M$3),'Technický list'!$BG$584:$BI$651,3,FALSE)","v":"Seznamte se s dopady výrobců vaší organizace a informujte o tom své klienty."}]
[null,{"$f":"'Kapitola 6'!B70","v":"Používání vody "},null,null,null,null,null,null,null,null,null,null,null,{"$f":"IF(L393=8,\"\",\"zvyšte skóre pro:\")","v":""}]
[null,null,{"$f":"IF(VLOOKUP(D393,'Technický list'!$AO$584:$AQ$600,3,0)=\"OK\",\"\",\"hlavní věci\")","v":""},{"$f":"'Kapitola 6'!C72","v":"Q6.10"},{"$f":"'Kapitola 6'!D72","v":"Jakým způsobem organizace kontroluje a optimalizuje spotřebu vody?"},null,null,null,null,null,null,{"$f":"COUNTBLANK(N393:U393)","v":8},true,{"$f":"IF(VLOOKUP(D393,'Zvláštní zpráva'!$E$6:$H$112,4,FALSE)=\"zvyšte skóre\",\"ISO 9001\",\"\")","v":""},{"$f":"IF(VLOOKUP(D393,'Zvláštní zpráva'!$E$116:$H$222,4,FALSE)=\"zvyšte skóre\",\"ISO 14001\",\"\")","v":""},{"$f":"IF(VLOOKUP(D393,'Zvláštní zpráva'!$E$226:$H$332,4,FALSE)=\"zvyšte skóre\",\"ISO 26000\",\"\")","v":""},{"$f":"IF(VLOOKUP(D393,'Zvláštní zpráva'!$E$336:$H$552,4,FALSE)=\"zvyšte skóre\",\"ISO 45001\",\"\")","v":""},{"$f":"IF(VLOOKUP(D393,'Zvláštní zpráva'!$E$556:$H$662,4,FALSE)=\"zvyšte skóre\",\"EMAS\",\"\")","v":""},{"$f":"IF(VLOOKUP(D393,'Zvláštní zpráva'!$E$666:$H$772,4,FALSE)=\"zvyšte skóre\",\"RC14001\",\"\")","v":""},{"$f":"IF(VLOOKUP(D393,'Zvláštní zpráva'!$E$776:$H$882,4,FALSE)=\"zvyšte skóre\",\"RCMS\",\"\")","v":""}]
[null,null,null,null,"Vaše skóre ",null,{"$f":"VLOOKUP(D393,'Technický list'!$B$584:$C$600,2,FALSE)","v":2},null,null,null,null,null,null,{"$f":"CONCATENATE(G394,\" = \",HLOOKUP(\" \",'Kapitola 6'!D71:E76,Tipy!G394+2))","v":"2 = Organizace zřídila program na omezování spotřeby vody, informuje o výsledcích tohoto plánu a o záznamech o spotřebě vody."}]
[null,null,null,null,"Pokuste se zlepšit ",null,{"$f":"VLOOKUP(CONCATENATE(D393,$M$3),'Technický list'!$BG$584:$BI$651,3,FALSE)","v":"Naplánujte konkrétní opatření ke snížení spotřeby vody vaší organizace na základě klíčových problémů zjištěných monitorováním.\nDobré přístupy k správě vody zahrnují: EWS-https: //ews.info/ a CDP - Water- https://www.cdp.net/en/water"}]
[null,null,null,null,null,null,null,null,null,null,null,null,null,{"$f":"IF(G394<4,'Technický list'!$BL$621,\"\")","v":"https://ews.info/"}]
[null,null,null,null,null,null,null,null,null,null,null,null,null,{"$f":"IF(G394<4,'Technický list'!$BL$622,\"\")","v":"https://www.cdp.net/en/water"}]
[null,{"$f":"'Kapitola 6'!B78","v":"Využívání půdy a biodiverzita"},null,null,null,null,null,null,null,null,null,null,null,{"$f":"IF(L399=8,\"\",\"zvyšte skóre pro:\")","v":""}]
[null,null,{"$f":"IF(VLOOKUP(D399,'Technický list'!$AO$584:$AQ$600,3,0)=\"OK\",\"\",\"hlavní věci\")","v":""},{"$f":"'Kapitola 6'!C80","v":"Q6.11"},{"$f":"'Kapitola 6'!D80","v":"Jakým způsobem se řídí vliv organizace na biodiverzitu a ekosystém?"},null,null,null,null,null,null,{"$f":"COUNTBLANK(N399:U399)","v":8},true,{"$f":"IF(VLOOKUP(D399,'Zvláštní zpráva'!$E$6:$H$112,4,FALSE)=\"zvyšte skóre\",\"ISO 9001\",\"\")","v":""},{"$f":"IF(VLOOKUP(D399,'Zvláštní zpráva'!$E$116:$H$222,4,FALSE)=\"zvyšte skóre\",\"ISO 14001\",\"\")","v":""},{"$f":"IF(VLOOKUP(D399,'Zvláštní zpráva'!$E$226:$H$332,4,FALSE)=\"zvyšte skóre\",\"ISO 26000\",\"\")","v":""},{"$f":"IF(VLOOKUP(D399,'Zvláštní zpráva'!$E$336:$H$552,4,FALSE)=\"zvyšte skóre\",\"ISO 45001\",\"\")","v":""},{"$f":"IF(VLOOKUP(D399,'Zvláštní zpráva'!$E$556:$H$662,4,FALSE)=\"zvyšte skóre\",\"EMAS\",\"\")","v":""},{"$f":"IF(VLOOKUP(D399,'Zvláštní zpráva'!$E$666:$H$772,4,FALSE)=\"zvyšte skóre\",\"RC14001\",\"\")","v":""},{"$f":"IF(VLOOKUP(D399,'Zvláštní zpráva'!$E$776:$H$882,4,FALSE)=\"zvyšte skóre\",\"RCMS\",\"\")","v":""}]
[null,null,null,null,"Vaše skóre ",null,{"$f":"VLOOKUP(D399,'Technický list'!$B$584:$C$600,2,FALSE)","v":3},null,null,null,null,null,null,{"$f":"CONCATENATE(G400,\" = \",HLOOKUP(\" \",'Kapitola 6'!D79:E84,Tipy!G400+2))","v":"3 = Organizace vypracovala ukazatele (lidské, finanční a organizační) na ochranu biodiverzity (např. vývoj postupů údržby zelených ploch - typ plevele, frekvence sečení, druh výsadby, nároky na vodu a pod., zařízení na ochranu ptáků na výškových budovách atd.) a pravidelně je vyhodnocuje."}]
[null,null,null,null,"Pokuste se zlepšit ",null,{"$f":"VLOOKUP(CONCATENATE(D399,$M$3),'Technický list'!$BG$584:$BI$651,3,FALSE)","v":"Aktivně přispívat k ochraně přírodního prostředí, nad nimž máte přímý dopad, prostřednictvím partnerství s aktéry ochrany životního prostředí na možných akcích organizace pro místní biologickou rozmanitost.\nMobilizovat zaměstnance k závazkům organizace v oblasti zachování biologické rozmanitosti.\nMezi cenné pokyny patří http://www.teebweb.org/areas-of-work/teeb-for-business/ "}]
[null,null,null,null,null,null,null,null,null,null,null,null,null,{"$f":"IF(L403=8,\"\",\"zvyšte skóre pro:\")","v":""}]
[null,null,{"$f":"IF(VLOOKUP(D403,'Technický list'!$AO$584:$AQ$600,3,0)=\"OK\",\"\",\"hlavní věci\")","v":"hlavní věci"},{"$f":"'Kapitola 6'!C86","v":"Q6.12"},{"$f":"'Kapitola 6'!D86","v":"Jakým způsobem posuzuje organizace svou závislost na přírodních zdrojích (ekosystémech)?"},null,null,null,null,null,null,{"$f":"COUNTBLANK(N403:U403)","v":8},true,{"$f":"IF(VLOOKUP(D403,'Zvláštní zpráva'!$E$6:$H$112,4,FALSE)=\"zvyšte skóre\",\"ISO 9001\",\"\")","v":""},{"$f":"IF(VLOOKUP(D403,'Zvláštní zpráva'!$E$116:$H$222,4,FALSE)=\"zvyšte skóre\",\"ISO 14001\",\"\")","v":""},{"$f":"IF(VLOOKUP(D403,'Zvláštní zpráva'!$E$226:$H$332,4,FALSE)=\"zvyšte skóre\",\"ISO 26000\",\"\")","v":""},{"$f":"IF(VLOOKUP(D403,'Zvláštní zpráva'!$E$336:$H$552,4,FALSE)=\"zvyšte skóre\",\"ISO 45001\",\"\")","v":""},{"$f":"IF(VLOOKUP(D403,'Zvláštní zpráva'!$E$556:$H$662,4,FALSE)=\"zvyšte skóre\",\"EMAS\",\"\")","v":""},{"$f":"IF(VLOOKUP(D403,'Zvláštní zpráva'!$E$666:$H$772,4,FALSE)=\"zvyšte skóre\",\"RC14001\",\"\")","v":""},{"$f":"IF(VLOOKUP(D403,'Zvláštní zpráva'!$E$776:$H$882,4,FALSE)=\"zvyšte skóre\",\"RCMS\",\"\")","v":""}]
[null,null,null,null,"Vaše skóre ",null,{"$f":"VLOOKUP(D403,'Technický list'!$B$584:$C$600,2,FALSE)","v":1},null,null,null,null,null,null,{"$f":"CONCATENATE(G404,\" = \",HLOOKUP(\" \",'Kapitola 6'!D85:E90,Tipy!G404+2))","v":"1 = Organizace se tímto tématem nijak zvlášť nezabývá."}]
[null,null,null,null,"Pokuste se zlepšit ",null,{"$f":"VLOOKUP(CONCATENATE(D403,$M$3),'Technický list'!$BG$584:$BI$651,3,FALSE)","v":"Identifikujte některé konkrétní akce k ochraně služeb poskytovaných vaší činnosti (např. Závislost na určitých surovinách) ekosystémy.\nMezi cenné dokumenty s pokyny patří http://www.teebweb.org/areas-of-work/teeb-for-business/"}]
[null,{"$f":"'Kapitola 6'!B92","v":"Klima a využívání energie"},null,null,null,null,null,null,null,null,null,null,null,{"$f":"IF(L407=8,\"\",\"zvyšte skóre pro:\")","v":""}]
[null,null,{"$f":"IF(VLOOKUP(D407,'Technický list'!$AO$584:$AQ$600,3,0)=\"OK\",\"\",\"hlavní věci\")","v":""},{"$f":"'Kapitola 6'!C94","v":"Q6.13"},{"$f":"'Kapitola 6'!D94","v":"Jakým způsobem řídí organizace svou spotřebu energie?"},null,null,null,null,null,null,{"$f":"COUNTBLANK(N407:U407)","v":8},true,{"$f":"IF(VLOOKUP(D407,'Zvláštní zpráva'!$E$6:$H$112,4,FALSE)=\"zvyšte skóre\",\"ISO 9001\",\"\")","v":""},{"$f":"IF(VLOOKUP(D407,'Zvláštní zpráva'!$E$116:$H$222,4,FALSE)=\"zvyšte skóre\",\"ISO 14001\",\"\")","v":""},{"$f":"IF(VLOOKUP(D407,'Zvláštní zpráva'!$E$226:$H$332,4,FALSE)=\"zvyšte skóre\",\"ISO 26000\",\"\")","v":""},{"$f":"IF(VLOOKUP(D407,'Zvláštní zpráva'!$E$336:$H$552,4,FALSE)=\"zvyšte skóre\",\"ISO 45001\",\"\")","v":""},{"$f":"IF(VLOOKUP(D407,'Zvláštní zpráva'!$E$556:$H$662,4,FALSE)=\"zvyšte skóre\",\"EMAS\",\"\")","v":""},{"$f":"IF(VLOOKUP(D407,'Zvláštní zpráva'!$E$666:$H$772,4,FALSE)=\"zvyšte skóre\",\"RC14001\",\"\")","v":""},{"$f":"IF(VLOOKUP(D407,'Zvláštní zpráva'!$E$776:$H$882,4,FALSE)=\"zvyšte skóre\",\"RCMS\",\"\")","v":""}]
[null,null,null,null,"Vaše skóre ",null,{"$f":"VLOOKUP(D407,'Technický list'!$B$584:$C$600,2,FALSE)","v":2},null,null,null,null,null,null,{"$f":"CONCATENATE(G408,\" = \",HLOOKUP(\" \",'Kapitola 6'!D93:E98,Tipy!G408+2))","v":"2 = Organizace definovala a implementovala plán sběru dat o energii odpovídající jeho velikosti, složitosti, zdrojům a měřicím a monitorovacím zařízením. Plán určuje údaje potřebné ke sledování klíčových charakteristik a uvádí, jakým způsobem a s jakou frekvencí budou tyto údaje shromažďovány a uchovávány."}]
[null,null,null,null,"Pokuste se zlepšit ",null,{"$f":"VLOOKUP(CONCATENATE(D407,$M$3),'Technický list'!$BG$584:$BI$651,3,FALSE)","v":"Stanovte ukazatele energetické náročnosti (EnPIs) vhodné pro měření a monitorování energetické náročnosti. EnPIs by měly organizaci umožnit prokázat zlepšení energetické náročnosti. Při zřizování ENPIs je proto důležité zvážit proměnné, které významně ovlivňují energetickou účinnost (např. Výrobní jednotky). Porovnejte EnPIs s jejich příslušnými EnBs výchozí energie. Na základě těchto údajů stanovte cíle zlepšení a energetické cíle. Investujte do inteligentních technologií pro zlepšení energetické náročnosti."}]
[null,null,null,null,null,null,null,null,null,null,null,null,null,{"$f":"IF(L411=8,\"\",\"zvyšte skóre pro:\")","v":""}]
[null,null,{"$f":"IF(VLOOKUP(D411,'Technický list'!$AO$584:$AQ$600,3,0)=\"OK\",\"\",\"hlavní věci\")","v":""},{"$f":"'Kapitola 6'!C100","v":"Q6.14"},{"$f":"'Kapitola 6'!D100","v":"Jakým způsobem řídí organizace emise skleníkových plynů (kromě úspor energie)?"},null,null,null,null,null,null,{"$f":"COUNTBLANK(N411:U411)","v":8},true,{"$f":"IF(VLOOKUP(D411,'Zvláštní zpráva'!$E$6:$H$112,4,FALSE)=\"zvyšte skóre\",\"ISO 9001\",\"\")","v":""},{"$f":"IF(VLOOKUP(D411,'Zvláštní zpráva'!$E$116:$H$222,4,FALSE)=\"zvyšte skóre\",\"ISO 14001\",\"\")","v":""},{"$f":"IF(VLOOKUP(D411,'Zvláštní zpráva'!$E$226:$H$332,4,FALSE)=\"zvyšte skóre\",\"ISO 26000\",\"\")","v":""},{"$f":"IF(VLOOKUP(D411,'Zvláštní zpráva'!$E$336:$H$552,4,FALSE)=\"zvyšte skóre\",\"ISO 45001\",\"\")","v":""},{"$f":"IF(VLOOKUP(D411,'Zvláštní zpráva'!$E$556:$H$662,4,FALSE)=\"zvyšte skóre\",\"EMAS\",\"\")","v":""},{"$f":"IF(VLOOKUP(D411,'Zvláštní zpráva'!$E$666:$H$772,4,FALSE)=\"zvyšte skóre\",\"RC14001\",\"\")","v":""},{"$f":"IF(VLOOKUP(D411,'Zvláštní zpráva'!$E$776:$H$882,4,FALSE)=\"zvyšte skóre\",\"RCMS\",\"\")","v":""}]
[null,null,null,null,"Vaše skóre ",null,{"$f":"VLOOKUP(D411,'Technický list'!$B$584:$C$600,2,FALSE)","v":3},null,null,null,null,null,null,{"$f":"CONCATENATE(G412,\" = \",HLOOKUP(\" \",'Kapitola 6'!D99:E104,Tipy!G412+2))","v":"3 = Organizace identifikovala své potenciální zdroje obnovy opětovného využití energie a možnosti zvýšení podílu obnovitelné energie."}]
[null,null,null,null,"Pokuste se zlepšit ",null,{"$f":"VLOOKUP(CONCATENATE(D411,$M$3),'Technický list'!$BG$584:$BI$651,3,FALSE)","v":"Vytvářet partnerství s geograficky souvisejícími organizacemi za účelem rozvoje „místních synergií“ (příklad: prodej zbytkového tepla mezi dvěma subjekty).\nImplementujte identifikovanou spolupráci."}]
[null,null,null,null,null,null,null,null,null,null,null,null,null,{"$f":"IF(L415=8,\"\",\"zvyšte skóre pro:\")","v":""}]
[null,null,{"$f":"IF(VLOOKUP(D415,'Technický list'!$AO$584:$AQ$600,3,0)=\"OK\",\"\",\"hlavní věci\")","v":""},{"$f":"'Kapitola 6'!C106","v":"Q6.15"},{"$f":"'Kapitola 6'!D106","v":"Jaká je strategie organizace na snižování emisí skleníkových plynů?"},null,null,null,null,null,null,{"$f":"COUNTBLANK(N415:U415)","v":8},true,{"$f":"IF(VLOOKUP(D415,'Zvláštní zpráva'!$E$6:$H$112,4,FALSE)=\"zvyšte skóre\",\"ISO 9001\",\"\")","v":""},{"$f":"IF(VLOOKUP(D415,'Zvláštní zpráva'!$E$116:$H$222,4,FALSE)=\"zvyšte skóre\",\"ISO 14001\",\"\")","v":""},{"$f":"IF(VLOOKUP(D415,'Zvláštní zpráva'!$E$226:$H$332,4,FALSE)=\"zvyšte skóre\",\"ISO 26000\",\"\")","v":""},{"$f":"IF(VLOOKUP(D415,'Zvláštní zpráva'!$E$336:$H$552,4,FALSE)=\"zvyšte skóre\",\"ISO 45001\",\"\")","v":""},{"$f":"IF(VLOOKUP(D415,'Zvláštní zpráva'!$E$556:$H$662,4,FALSE)=\"zvyšte skóre\",\"EMAS\",\"\")","v":""},{"$f":"IF(VLOOKUP(D415,'Zvláštní zpráva'!$E$666:$H$772,4,FALSE)=\"zvyšte skóre\",\"RC14001\",\"\")","v":""},{"$f":"IF(VLOOKUP(D415,'Zvláštní zpráva'!$E$776:$H$882,4,FALSE)=\"zvyšte skóre\",\"RCMS\",\"\")","v":""}]
[null,null,null,null,"Vaše skóre ",null,{"$f":"VLOOKUP(D415,'Technický list'!$B$584:$C$600,2,FALSE)","v":2},null,null,null,null,null,null,{"$f":"CONCATENATE(G416,\" = \",HLOOKUP(\" \",'Kapitola 6'!D105:E110,Tipy!G416+2))","v":"2 = Organizace provedla analýzu nedostatků s cílem identifikovat potenciál snižování emisí scope 1 & 2."}]
[null,null,null,null,"Pokuste se zlepšit ",null,{"$f":"VLOOKUP(CONCATENATE(D415,$M$3),'Technický list'!$BG$584:$BI$651,3,FALSE)","v":"Stanovte jasné cíle ke snížení emisí skleníkových plynů (např. Přechod k obnovitelné energii) a pravidelně sledujte pokrok směrem k těmto cílům. Podnikněte kroky ke snížení emisí z rozsahu 1 a 2."}]
[null,null,null,null,null,null,null,null,null,null,null,null,null,{"$f":"IF(L419=8,\"\",\"zvyšte skóre pro:\")","v":"zvyšte skóre pro:"}]
[null,null,{"$f":"IF(VLOOKUP(D419,'Technický list'!$AO$584:$AQ$600,3,0)=\"OK\",\"\",\"hlavní věci\")","v":""},{"$f":"'Kapitola 6'!C112","v":"Q6.16"},{"$f":"'Kapitola 6'!D112","v":"Jakým způsobem se organizace připravuje na klimatické změny? "},null,null,null,null,null,null,{"$f":"COUNTBLANK(N419:U419)","v":2},true,{"$f":"IF(VLOOKUP(D419,'Zvláštní zpráva'!$E$6:$H$112,4,FALSE)=\"zvyšte skóre\",\"ISO 9001\",\"\")","v":""},{"$f":"IF(VLOOKUP(D419,'Zvláštní zpráva'!$E$116:$H$222,4,FALSE)=\"zvyšte skóre\",\"ISO 14001\",\"\")","v":"ISO 14001"},{"$f":"IF(VLOOKUP(D419,'Zvláštní zpráva'!$E$226:$H$332,4,FALSE)=\"zvyšte skóre\",\"ISO 26000\",\"\")","v":"ISO 26000"},{"$f":"IF(VLOOKUP(D419,'Zvláštní zpráva'!$E$336:$H$552,4,FALSE)=\"zvyšte skóre\",\"ISO 45001\",\"\")","v":"ISO 45001"},{"$f":"IF(VLOOKUP(D419,'Zvláštní zpráva'!$E$556:$H$662,4,FALSE)=\"zvyšte skóre\",\"EMAS\",\"\")","v":"EMAS"},{"$f":"IF(VLOOKUP(D419,'Zvláštní zpráva'!$E$666:$H$772,4,FALSE)=\"zvyšte skóre\",\"RC14001\",\"\")","v":"RC14001"},{"$f":"IF(VLOOKUP(D419,'Zvláštní zpráva'!$E$776:$H$882,4,FALSE)=\"zvyšte skóre\",\"RCMS\",\"\")","v":"RCMS"}]
[null,null,null,null,"Vaše skóre ",null,{"$f":"VLOOKUP(D419,'Technický list'!$B$584:$C$600,2,FALSE)","v":2},null,null,null,null,null,null,{"$f":"CONCATENATE(G420,\" = \",HLOOKUP(\" \",'Kapitola 6'!D111:E116,Tipy!G420+2))","v":"2 = Organizace si uvědomuje střednědobé potenciální účinky klimatických změn na svou činnost."}]
[null,null,null,null,"Pokuste se zlepšit ",null,{"$f":"VLOOKUP(CONCATENATE(D419,$M$3),'Technický list'!$BG$584:$BI$651,3,FALSE)","v":"Identifikujte rizika spojená se změnou klimatu pro činnosti vaší organizace a možná opatření k omezení těchto rizik."}]
[null,{"$f":"'Kapitola 6'!B118","v":"Různé"},null,null,null,null,null,null,null,null,null,null,null,{"$f":"IF(L423=8,\"\",\"zvyšte skóre pro:\")","v":""}]
[null,null,{"$f":"IF(VLOOKUP(D423,'Technický list'!$AO$584:$AQ$600,3,0)=\"OK\",\"\",\"hlavní věci\")","v":""},{"$f":"'Kapitola 6'!C120","v":"Q6.17"},{"$f":"'Kapitola 6'!D120","v":"Jak organizace zajišťuje rovné příležitosti při náboru a během kariéry všech?"},null,null,null,null,null,null,{"$f":"COUNTBLANK(N423:U423)","v":8},true,{"$f":"IF(VLOOKUP(D423,'Zvláštní zpráva'!$E$6:$H$112,4,FALSE)=\"zvyšte skóre\",\"ISO 9001\",\"\")","v":""},{"$f":"IF(VLOOKUP(D423,'Zvláštní zpráva'!$E$116:$H$222,4,FALSE)=\"zvyšte skóre\",\"ISO 14001\",\"\")","v":""},{"$f":"IF(VLOOKUP(D423,'Zvláštní zpráva'!$E$226:$H$332,4,FALSE)=\"zvyšte skóre\",\"ISO 26000\",\"\")","v":""},{"$f":"IF(VLOOKUP(D423,'Zvláštní zpráva'!$E$336:$H$552,4,FALSE)=\"zvyšte skóre\",\"ISO 45001\",\"\")","v":""},{"$f":"IF(VLOOKUP(D423,'Zvláštní zpráva'!$E$556:$H$662,4,FALSE)=\"zvyšte skóre\",\"EMAS\",\"\")","v":""},{"$f":"IF(VLOOKUP(D423,'Zvláštní zpráva'!$E$666:$H$772,4,FALSE)=\"zvyšte skóre\",\"RC14001\",\"\")","v":""},{"$f":"IF(VLOOKUP(D423,'Zvláštní zpráva'!$E$776:$H$882,4,FALSE)=\"zvyšte skóre\",\"RCMS\",\"\")","v":""}]
[null,null,null,null,"Vaše skóre ",null,{"$f":"VLOOKUP(D423,'Technický list'!$B$584:$C$600,2,FALSE)","v":3},null,null,null,null,null,null,{"$f":"CONCATENATE(G424,\" = \",HLOOKUP(\" \",'Kapitola 6'!D119:E124,Tipy!G424+2))","v":"3 = Organizace má jasný akční plán s kvantifikovanými cíli k zajištění rovných příležitostí a začlenila aspekty rozmanitosti do všech svých procesů v oblasti lidských zdrojů."}]
[null,null,null,null,"Pokuste se zlepšit ",null,{"$f":"VLOOKUP(CONCATENATE(D423,$M$3),'Technický list'!$BG$584:$BI$651,3,FALSE)","v":"Výsledky pravidelně vyhodnocujte a komunikujte je interně i externě."}]

{"sheet":"Zvláštní zpráva","index":12,"n_rows":991,"n_cols":10,"rows_kept":991,"cut":false,"hidden":false,"merged":[]}
[]
[null,null,"Zpráva o souladu s ISO 9001"]
[null,null,null,null,null,"Vaše skóre ","Minimální skóre pro ISO 9001"]
[]
[null,null,null,null,"KAPITOLA 1: Podniková kultura vedení "]
[null,null,null,null,{"$f":"'Technický list'!B10","v":"Q1.1"},{"$f":"'Technický list'!C10","v":4},{"$f":"VLOOKUP(E6,'Technický list'!$AU$10:$BD$25,2,0)","v":3},{"$f":"IF(G6=\"-\",\"n.a.\",IF(F6-G6>-1,\"v souladu\",\"zvyšte skóre\"))","v":"v souladu"},null,{"$f":"VLOOKUP(E6,'Kapitola 1'!$C$6:$D$112,2,0)","v":"Jak se projevuje závazek plnit povinnosti týkající se dodržování předpisů a zásad Responsible Care = RC (tj. ochrana a podpora zdraví a bezpečnost lidí, životního prostředí a udržitelnosti) na všech úrovních organizace?\n"}]
[null,null,null,null,{"$f":"'Technický list'!B11","v":"Q1.2"},{"$f":"'Technický list'!C11","v":4},{"$f":"VLOOKUP(E7,'Technický list'!$AU$10:$BD$25,2,0)","v":3},{"$f":"IF(G7=\"-\",\"n.a.\",IF(F7-G7>-1,\"v souladu\",\"zvyšte skóre\"))","v":"v souladu"},null,{"$f":"VLOOKUP(E7,'Kapitola 1'!$C$6:$D$112,2,0)","v":"Jakým způsobem řídí organizace příslušná rizika a příležitosti?  "}]
[null,null,null,null,{"$f":"'Technický list'!B12","v":"Q1.3"},{"$f":"'Technický list'!C12","v":4},{"$f":"VLOOKUP(E8,'Technický list'!$AU$10:$BD$25,2,0)","v":"-"},{"$f":"IF(G8=\"-\",\"n.a.\",IF(F8-G8>-1,\"compliant\",\"increase score\"))","v":"n.a."},null,{"$f":"VLOOKUP(E8,'Kapitola 1'!$C$6:$D$112,2,0)","v":"Jakým způsobem monitoruje organizace svoje zákonné povinnosti? "}]
[null,null,null,null,{"$f":"'Technický list'!B13","v":"Q1.4"},{"$f":"'Technický list'!C13","v":3},{"$f":"VLOOKUP(E9,'Technický list'!$AU$10:$BD$25,2,0)","v":2},{"$f":"IF(G9=\"-\",\"n.a.\",IF(F9-G9>-1,\"v souladu\",\"zvyšte skóre\"))","v":"v souladu"},null,{"$f":"VLOOKUP(E9,'Kapitola 1'!$C$6:$D$112,2,0)","v":"Jakým způsobem top management zajišťuje, že jednotlivé aspekty HSE&S (zdraví, bezpečnosti, ochrany životního prostředí & udržitelnosti) jsou přiřazeny stanoveným rolím v organizaci?"}]
[null,null,null,null,{"$f":"'Technický list'!B14","v":"Q1.5"},{"$f":"'Technický list'!C14","v":3},{"$f":"VLOOKUP(E10,'Technický list'!$AU$10:$BD$25,2,0)","v":3},{"$f":"IF(G10=\"-\",\"n.a.\",IF(F10-G10>-1,\"v souladu\",\"zvyšte skóre\"))","v":"v souladu"},null,{"$f":"VLOOKUP(E10,'Kapitola 1'!$C$6:$D$112,2,0)","v":"Jakým způsobem se top management podílí na řešení záležitostí HSE&S?"}]
[null,null,null,null,{"$f":"'Technický list'!B15","v":"Q1.6"},{"$f":"'Technický list'!C15","v":3},{"$f":"VLOOKUP(E11,'Technický list'!$AU$10:$BD$25,2,0)","v":"-"},"n.a.",null,{"$f":"VLOOKUP(E11,'Kapitola 1'!$C$6:$D$112,2,0)","v":"Jakým způsobem jsou odpovědnosti HSE&S začleněny do popisů pracovní náplně nebo ročních cílů?\n"}]
[null,null,null,null,{"$f":"'Technický list'!B16","v":"Q1.7"},{"$f":"'Technický list'!C16","v":3},{"$f":"VLOOKUP(E12,'Technický list'!$AU$10:$BD$25,2,0)","v":3},{"$f":"IF(G12=\"-\",\"n.a.\",IF(F12-G12>-1,\"v souladu\",\"zvyšte skóre\"))","v":"v souladu"},null,{"$f":"VLOOKUP(E12,'Kapitola 1'!$C$6:$D$112,2,0)","v":"Jakým způsobem se řídí (nejdůležitější) procesy v souvislosti s HSE&S?"}]
[null,null,null,null,{"$f":"'Technický list'!B17","v":"Q1.8"},{"$f":"'Technický list'!C17","v":3},{"$f":"VLOOKUP(E13,'Technický list'!$AU$10:$BD$25,2,0)","v":3},"v souladu",null,{"$f":"VLOOKUP(E13,'Kapitola 1'!$C$6:$D$112,2,0)","v":"Jakým způsobem top management zajišťuje neustálé zlepšování výkonu v oblasti HSE&S (zdraví, bezpečnosti, životního prostředí, energetiky a udržitelnosti)?"}]
[null,null,null,null,{"$f":"'Technický list'!B18","v":"Q1.9"},{"$f":"'Technický list'!C18","v":4},{"$f":"VLOOKUP(E14,'Technický list'!$AU$10:$BD$25,2,0)","v":3},"v souladu",null,{"$f":"VLOOKUP(E14,'Kapitola 1'!$C$6:$D$112,2,0)","v":"Jak jsou organizovány interní audity?"}]
[null,null,null,null,{"$f":"'Technický list'!B19","v":"Q1.10"},{"$f":"'Technický list'!C19","v":4},{"$f":"VLOOKUP(E15,'Technický list'!$AU$10:$BD$25,2,0)","v":3},"v souladu",null,{"$f":"VLOOKUP(E15,'Kapitola 1'!$C$6:$D$112,2,0)","v":"Jakým způsobem probíhá vyšetřování?"}]
[null,null,null,null,{"$f":"'Technický list'!B20","v":"Q1.11"},{"$f":"'Technický list'!C20","v":3},{"$f":"VLOOKUP(E16,'Technický list'!$AU$10:$BD$25,2,0)","v":3},"v souladu",null,{"$f":"VLOOKUP(E16,'Kapitola 1'!$C$6:$D$112,2,0)","v":"Jakým způsobem organizace zajišťuje procesy, čas a zdroje potřebné pro zlepšování procesů řízení HSE&S?"}]
[null,null,null,null,{"$f":"'Technický list'!B21","v":"Q1.12"},{"$f":"'Technický list'!C21","v":3},{"$f":"VLOOKUP(E17,'Technický list'!$AU$10:$BD$25,2,0)","v":3},"v souladu",null,{"$f":"VLOOKUP(E17,'Kapitola 1'!$C$6:$D$112,2,0)","v":"Jak organizace zajišťuje, že zaměstnanci jsou si vědomi politik a procesů týkajících se zdraví, bezpečnosti, životního prostředí, energetiky a udržitelnosti?"}]
[null,null,null,null,{"$f":"'Technický list'!B22","v":"Q1.13"},{"$f":"'Technický list'!C22","v":3},{"$f":"VLOOKUP(E18,'Technický list'!$AU$10:$BD$25,2,0)","v":3},"v souladu",null,{"$f":"VLOOKUP(E18,'Kapitola 1'!$C$6:$D$112,2,0)","v":"Jakým způsobem organizace zajišťuje správné kompetence pracovníků, pokud jde o aspekty HSE&S týkající se jejich práce?"}]
[null,null,null,null,{"$f":"'Technický list'!B23","v":"Q1.14"},{"$f":"'Technický list'!C23","v":3},{"$f":"VLOOKUP(E19,'Technický list'!$AU$10:$BD$25,2,0)","v":"-"},"n.a.",null,{"$f":"VLOOKUP(E19,'Kapitola 1'!$C$6:$D$112,2,0)","v":"Jaká je struktura zapojení zaměstnanců?"}]
[null,null,null,null,{"$f":"'Technický list'!B24","v":"Q1.15"},{"$f":"'Technický list'!C24","v":3},{"$f":"VLOOKUP(E20,'Technický list'!$AU$10:$BD$25,2,0)","v":3},{"$f":"IF(G20=\"-\",\"n.a.\",IF(F20-G20>-1,\"v souladu\",\"zvyšte skóre\"))","v":"v souladu"},null,{"$f":"VLOOKUP(E20,'Kapitola 1'!$C$6:$D$112,2,0)","v":"Jakým způsobem se řídí dokumentace HSE&S?"}]
[null,null,null,null,{"$f":"'Technický list'!B25","v":"Q1.16"},{"$f":"'Technický list'!C25","v":3},{"$f":"VLOOKUP(E21,'Technický list'!$AU$10:$BD$25,2,0)","v":3},{"$f":"IF(G21=\"-\",\"n.a.\",IF(F21-G21>-1,\"v souladu\",\"zvyšte skóre\"))","v":"v souladu"},null,{"$f":"VLOOKUP(E21,'Kapitola 1'!$C$6:$D$112,2,0)","v":"Jakým způsobem jsou řízeny změny potenciálně ovlivňující HSE&S (zdraví, bezpečnost, životní prostředí, energetiku a udržitelnost)?"}]
[null,null,null,null,"KAPITOLA 2: Ochrana lidí a životního prostředí"]
[null,null,null,null,{"$f":"'Technický list'!B124","v":"Q2.1"},{"$f":"'Technický list'!C124","v":3},{"$f":"VLOOKUP(E23,'Technický list'!$AU$124:$BD$168,2,0)","v":"-"},"n.a.",null,{"$f":"VLOOKUP(E23,'Kapitola 2'!$C$6:$D$282,2,0)","v":"Jak se management zavázal k ochraně zdraví a bezpečnosti při práci (dále jen \"BOZP\")?"}]
[null,null,null,null,{"$f":"'Technický list'!B125","v":"Q2.2"},{"$f":"'Technický list'!C125","v":4},{"$f":"VLOOKUP(E24,'Technický list'!$AU$124:$BD$168,2,0)","v":"-"},{"$f":"IF(G24=\"-\",\"n.a.\",IF(F24-G24>-1,\"compliant\",\"increase score\"))","v":"n.a."},null,{"$f":"VLOOKUP(E24,'Kapitola 2'!$C$6:$D$282,2,0)","v":"Jakým způsobem se určují rizika a expozice v souvislosti s BOZP?"}]
[null,null,null,null,{"$f":"'Technický list'!B126","v":"Q2.3"},{"$f":"'Technický list'!C126","v":3},{"$f":"VLOOKUP(E25,'Technický list'!$AU$124:$BD$168,2,0)","v":"-"},"n.a.",null,{"$f":"VLOOKUP(E25,'Kapitola 2'!$C$6:$D$282,2,0)","v":"Jakým způsobem se posuzují zdravotní požadavky?"}]
[null,null,null,null,{"$f":"'Technický list'!B127","v":"Q2.4"},{"$f":"'Technický list'!C127","v":4},{"$f":"VLOOKUP(E26,'Technický list'!$AU$124:$BD$168,2,0)","v":"-"},"n.a.",null,{"$f":"VLOOKUP(E26,'Kapitola 2'!$C$6:$D$282,2,0)","v":"Jakým způsobem zlepšuje organizace BOZP?"}]
[null,null,null,null,{"$f":"'Technický list'!B128","v":"Q2.5"},{"$f":"'Technický list'!C128","v":2},{"$f":"VLOOKUP(E27,'Technický list'!$AU$124:$BD$168,2,0)","v":"-"},"n.a.",null,{"$f":"VLOOKUP(E27,'Kapitola 2'!$C$6:$D$282,2,0)","v":"Jakým způsobem probíhá údržba a udržování pořádku s cílem zajistit bezpečnost provozů, zařízení, nástrojů a (bezpečnostních) pomůcek?"}]
[null,null,null,null,{"$f":"'Technický list'!B129","v":"Q2.6"},{"$f":"'Technický list'!C129","v":3},{"$f":"VLOOKUP(E28,'Technický list'!$AU$124:$BD$168,2,0)","v":"-"},"n.a.",null,{"$f":"VLOOKUP(E28,'Kapitola 2'!$C$6:$D$282,2,0)","v":"Jak se ověřuje správný výběr, údržba a používání zdravotního a bezpečnostního vybavení (např. osobních ochranných prostředků = OOPP)?"}]
[null,null,null,null,{"$f":"'Technický list'!B130","v":"Q2.7"},{"$f":"'Technický list'!C130","v":2},{"$f":"VLOOKUP(E29,'Technický list'!$AU$124:$BD$168,2,0)","v":"-"},"n.a.",null,{"$f":"VLOOKUP(E29,'Kapitola 2'!$C$6:$D$282,2,0)","v":"Jak se organizace stará o stres a tělesné a duševní zdraví zaměstnanců?"}]
[null,null,null,null,{"$f":"'Technický list'!B131","v":"Q2.8"},{"$f":"'Technický list'!C131","v":3},{"$f":"VLOOKUP(E30,'Technický list'!$AU$124:$BD$168,2,0)","v":"-"},"n.a.",null,{"$f":"VLOOKUP(E30,'Kapitola 2'!$C$6:$D$282,2,0)","v":"Jakým způsobem se vyšetřují onemocnění, zranění, incidenty a potenciálně nebezpečné situace na pracovišti?"}]
[null,null,null,null,{"$f":"'Technický list'!B132","v":"Q2.9"},{"$f":"'Technický list'!C132","v":4},{"$f":"VLOOKUP(E31,'Technický list'!$AU$124:$BD$168,2,0)","v":"-"},"n.a.",null,{"$f":"VLOOKUP(E31,'Kapitola 2'!$C$6:$D$282,2,0)","v":"Jak je organizace připravena na mimořádné události?"}]
[null,null,null,null,{"$f":"'Technický list'!B133","v":"Q2.10"},{"$f":"'Technický list'!C133","v":3},{"$f":"VLOOKUP(E32,'Technický list'!$AU$124:$BD$168,2,0)","v":3},{"$f":"IF(G32=\"-\",\"n.a.\",IF(F32-G32>-1,\"v souladu\",\"zvyšte skóre\"))","v":"v souladu"},null,{"$f":"VLOOKUP(E32,'Kapitola 2'!$C$6:$D$282,2,0)","v":"Jakým způsobem zajišťuje organizace správně kompetence všech pracovníků, týkající se požadavků BOZP, které souvisí s jejich pracovní náplní?"}]
[null,null,null,null,{"$f":"'Technický list'!B134","v":"Q2.11"},{"$f":"'Technický list'!C134","v":3},{"$f":"VLOOKUP(E33,'Technický list'!$AU$124:$BD$168,2,0)","v":"-"},{"$f":"IF(G33=\"-\",\"n.a.\",IF(F33-G33>-1,\"compliant\",\"increase score\"))","v":"n.a."},null,{"$f":"VLOOKUP(E33,'Kapitola 2'!$C$6:$D$282,2,0)","v":"Jakým způsobem se vedení staví k procesní bezpečnosti?\n\n"}]
[null,null,null,null,{"$f":"'Technický list'!B135","v":"Q2.12"},{"$f":"'Technický list'!C135","v":4},{"$f":"VLOOKUP(E34,'Technický list'!$AU$124:$BD$168,2,0)","v":"-"},"n.a.",null,{"$f":"VLOOKUP(E34,'Kapitola 2'!$C$6:$D$282,2,0)","v":"Jakým způsobem je vypracována identifikace a popis bezpečnosti procesů, zařízení a pracovišť organizace?"}]
[null,null,null,null,{"$f":"'Technický list'!B136","v":"Q2.13"},{"$f":"'Technický list'!C136","v":3},{"$f":"VLOOKUP(E35,'Technický list'!$AU$124:$BD$168,2,0)","v":"-"},"n.a.",null,{"$f":"VLOOKUP(E35,'Kapitola 2'!$C$6:$D$282,2,0)","v":"Jakým způsobem se zlepšuje procesní bezpečnost po nehodách a incidentech?"}]
[null,null,null,null,{"$f":"'Technický list'!B137","v":"Q2.14"},{"$f":"'Technický list'!C137","v":1},{"$f":"VLOOKUP(E36,'Technický list'!$AU$124:$BD$168,2,0)","v":"-"},"n.a.",null,{"$f":"VLOOKUP(E36,'Kapitola 2'!$C$6:$D$282,2,0)","v":"Jakým způsobem se provádějí audity a inspekce procesní bezpečnosti?"}]
[null,null,null,null,{"$f":"'Technický list'!B138","v":"Q2.15"},{"$f":"'Technický list'!C138","v":3},{"$f":"VLOOKUP(E37,'Technický list'!$AU$124:$BD$168,2,0)","v":"-"},"n.a.",null,{"$f":"VLOOKUP(E37,'Kapitola 2'!$C$6:$D$282,2,0)","v":"Jakým způsobem se prověřují a zlepšují pracovní pokyny?"}]
[null,null,null,null,{"$f":"'Technický list'!B139","v":"Q2.16"},{"$f":"'Technický list'!C139","v":4},{"$f":"VLOOKUP(E38,'Technický list'!$AU$124:$BD$168,2,0)","v":"-"},"n.a.",null,{"$f":"VLOOKUP(E38,'Kapitola 2'!$C$6:$D$282,2,0)","v":"Jak je navrhována a dokumnetována instalace nových zařízení?"}]
[null,null,null,null,{"$f":"'Technický list'!B140","v":"Q2.17"},{"$f":"'Technický list'!C140","v":4},{"$f":"VLOOKUP(E39,'Technický list'!$AU$124:$BD$168,2,0)","v":"-"},"n.a.",null,{"$f":"VLOOKUP(E39,'Kapitola 2'!$C$6:$D$282,2,0)","v":"Jakým způsobem probíhá kontrola zřizování instalace?"}]
[null,null,null,null,{"$f":"'Technický list'!B141","v":"Q2.18"},{"$f":"'Technický list'!C141","v":3},{"$f":"VLOOKUP(E40,'Technický list'!$AU$124:$BD$168,2,0)","v":"-"},"n.a.",null,{"$f":"VLOOKUP(E40,'Kapitola 2'!$C$6:$D$282,2,0)","v":"Jakým způsobem je zaručena ochrana zařízení, aby jediná chyba neměla katastrofické následky?"}]
[null,null,null,null,{"$f":"'Technický list'!B142","v":"Q2.19"},{"$f":"'Technický list'!C142","v":3},{"$f":"VLOOKUP(E41,'Technický list'!$AU$124:$BD$168,2,0)","v":"-"},"n.a.",null,{"$f":"VLOOKUP(E41,'Kapitola 2'!$C$6:$D$282,2,0)","v":"Byly zřízeny programy preventivní údržby a péče, které zaručují bezpečnost provozů, nástrojů a zařízení?"}]
[null,null,null,null,{"$f":"'Technický list'!B143","v":"Q2.20"},{"$f":"'Technický list'!C143","v":4},{"$f":"VLOOKUP(E42,'Technický list'!$AU$124:$BD$168,2,0)","v":"-"},"n.a.",null,{"$f":"VLOOKUP(E42,'Kapitola 2'!$C$6:$D$282,2,0)","v":"Jakým způsobem se řídí procesy během mimořádných událostí v případě přerušení dodávky energie nebo služeb?"}]
[null,null,null,null,{"$f":"'Technický list'!B144","v":"Q2.21"},{"$f":"'Technický list'!C144","v":3},{"$f":"VLOOKUP(E43,'Technický list'!$AU$124:$BD$168,2,0)","v":"-"},"n.a.",null,{"$f":"VLOOKUP(E43,'Kapitola 2'!$C$6:$D$282,2,0)","v":"Jak se připravují havarijní plány?"}]
[null,null,null,null,{"$f":"'Technický list'!B145","v":"Q2.22"},{"$f":"'Technický list'!C145","v":2},{"$f":"VLOOKUP(E44,'Technický list'!$AU$124:$BD$168,2,0)","v":"-"},"n.a.",null,{"$f":"VLOOKUP(E44,'Kapitola 2'!$C$6:$D$282,2,0)","v":"Jakým způsobem jsou zabezpečeny kompetence a školení zaměstnanců a dodavatelů zapojených do procesů?"}]
[null,null,null,null,{"$f":"'Technický list'!B146","v":"Q2.23"},{"$f":"'Technický list'!C146","v":4},{"$f":"VLOOKUP(E45,'Technický list'!$AU$124:$BD$168,2,0)","v":"-"},"n.a.",null,{"$f":"VLOOKUP(E45,'Kapitola 2'!$C$6:$D$282,2,0)","v":"Jakým způsobem se sdílejí informace o rizicích látek a přípravků?"}]
[null,null,null,null,{"$f":"'Technický list'!B147","v":"Q2.24"},{"$f":"'Technický list'!C147","v":4},{"$f":"VLOOKUP(E46,'Technický list'!$AU$124:$BD$168,2,0)","v":"-"},"n.a.",null,{"$f":"VLOOKUP(E46,'Kapitola 2'!$C$6:$D$282,2,0)","v":"Jak se sdílejí informace o procesu?"}]
[null,null,null,null,{"$f":"'Technický list'!B148","v":"Q2.25"},{"$f":"'Technický list'!C148","v":3},{"$f":"VLOOKUP(E47,'Technický list'!$AU$124:$BD$168,2,0)","v":"-"},"n.a.",null,{"$f":"VLOOKUP(E47,'Kapitola 2'!$C$6:$D$282,2,0)","v":"Jakým způsobem organizace hodnotí své logistické partnery z hlediska HSE&S, energetické účinnosti a emisí skleníkových plynů?"}]
[null,null,null,null,{"$f":"'Technický list'!B149","v":"Q2.26"},{"$f":"'Technický list'!C149","v":4},{"$f":"VLOOKUP(E48,'Technický list'!$AU$124:$BD$168,2,0)","v":"-"},"n.a.",null,{"$f":"VLOOKUP(E48,'Kapitola 2'!$C$6:$D$282,2,0)","v":"Jakým způsobem organizace zabraňuje a reaguje na dopravní nehody?"}]
[null,null,null,null,{"$f":"'Technický list'!B150","v":"Q2.27"},{"$f":"'Technický list'!C150","v":4},{"$f":"VLOOKUP(E49,'Technický list'!$AU$124:$BD$168,2,0)","v":"-"},"n.a.",null,{"$f":"VLOOKUP(E49,'Kapitola 2'!$C$6:$D$282,2,0)","v":"Jakým způsobem organizace identifikuje bezpečnostní problémy?"}]
[null,null,null,null,{"$f":"'Technický list'!B151","v":"Q2.28"},{"$f":"'Technický list'!C151","v":4},{"$f":"VLOOKUP(E50,'Technický list'!$AU$124:$BD$168,2,0)","v":"-"},"n.a.",null,{"$f":"VLOOKUP(E50,'Kapitola 2'!$C$6:$D$282,2,0)","v":"Jakým způsobem se kontroluje příchod a odchod pracovníků a materiálu na pracovišti a v oblastech s omezeným vstupem?"}]
[null,null,null,null,{"$f":"'Technický list'!B152","v":"Q2.29"},{"$f":"'Technický list'!C152","v":4},{"$f":"VLOOKUP(E51,'Technický list'!$AU$124:$BD$168,2,0)","v":"-"},"n.a.",null,{"$f":"VLOOKUP(E51,'Kapitola 2'!$C$6:$D$282,2,0)","v":"Jakým způsobem se kontroluje kybernetická bezpečnost?"}]
[null,null,null,null,{"$f":"'Technický list'!B153","v":"Q2.30"},{"$f":"'Technický list'!C153","v":4},{"$f":"VLOOKUP(E52,'Technický list'!$AU$124:$BD$168,2,0)","v":"-"},"n.a.",null,{"$f":"VLOOKUP(E52,'Kapitola 2'!$C$6:$D$282,2,0)","v":"Jakým způsobem probíhá komunikace a výměna informací v případě bezpečnostní krize?"}]
[null,null,null,null,{"$f":"'Technický list'!B154","v":"Q2.31"},{"$f":"'Technický list'!C154","v":3},{"$f":"VLOOKUP(E53,'Technický list'!$AU$124:$BD$168,2,0)","v":"-"},"n.a.",null,{"$f":"VLOOKUP(E53,'Kapitola 2'!$C$6:$D$282,2,0)","v":"Jak se organizace vyrovnává s podezřelým chováním (včetně rizik radikalizace = souhlas a podopra extrémních názorů)"}]
[null,null,null,null,{"$f":"'Technický list'!B155","v":"Q2.32"},{"$f":"'Technický list'!C155","v":3},{"$f":"VLOOKUP(E54,'Technický list'!$AU$124:$BD$168,2,0)","v":"-"},"n.a.",null,{"$f":"VLOOKUP(E54,'Kapitola 2'!$C$6:$D$282,2,0)","v":"Jakým způsobem školí organizace pracovníky v oblasti ostrahy ve vazbě na bezpečnostní rizika?  "}]
[null,null,null,null,{"$f":"'Technický list'!B156","v":"Q2.33"},{"$f":"'Technický list'!C156","v":4},{"$f":"VLOOKUP(E55,'Technický list'!$AU$124:$BD$168,2,0)","v":"-"},"n.a.",null,{"$f":"VLOOKUP(E55,'Kapitola 2'!$C$6:$D$282,2,0)","v":"Jakým způsobem se posuzuje potenciální vliv organizace na životní prostředí?"}]
[null,null,null,null,{"$f":"'Technický list'!B157","v":"Q2.34"},{"$f":"'Technický list'!C157","v":4},{"$f":"VLOOKUP(E56,'Technický list'!$AU$124:$BD$168,2,0)","v":"-"},"n.a.",null,{"$f":"VLOOKUP(E56,'Kapitola 2'!$C$6:$D$282,2,0)","v":"Jakým způsobem se řídí environmentální výkonnost?"}]
[null,null,null,null,{"$f":"'Technický list'!B158","v":"Q2.35"},{"$f":"'Technický list'!C158","v":3},{"$f":"VLOOKUP(E57,'Technický list'!$AU$124:$BD$168,2,0)","v":"-"},{"$f":"IF(G57=\"-\",\"n.a.\",IF(F57-G57>-1,\"compliant\",\"increase score\"))","v":"n.a."},null,{"$f":"VLOOKUP(E57,'Kapitola 2'!$C$6:$D$282,2,0)","v":"Jak organizace nakládá s odpadem?"}]
[null,null,null,null,{"$f":"'Technický list'!B159","v":"Q2.36"},{"$f":"'Technický list'!C159","v":3},{"$f":"VLOOKUP(E58,'Technický list'!$AU$124:$BD$168,2,0)","v":"-"},"n.a.",null,{"$f":"VLOOKUP(E58,'Kapitola 2'!$C$6:$D$282,2,0)","v":"Jakým způsobem řídí organizace rizika týkající se podzemních vod?"}]
[null,null,null,null,{"$f":"'Technický list'!B160","v":"Q2.37"},{"$f":"'Technický list'!C160","v":3},{"$f":"VLOOKUP(E59,'Technický list'!$AU$124:$BD$168,2,0)","v":"-"},{"$f":"IF(G59=\"-\",\"n.a.\",IF(F59-G59>-1,\"compliant\",\"increase score\"))","v":"n.a."},null,{"$f":"VLOOKUP(E59,'Kapitola 2'!$C$6:$D$282,2,0)","v":"Jakým způsobem řídí organizace rizika týkající se znečištění půdy?"}]
[null,null,null,null,{"$f":"'Technický list'!B161","v":"Q2.38"},{"$f":"'Technický list'!C161","v":4},{"$f":"VLOOKUP(E60,'Technický list'!$AU$124:$BD$168,2,0)","v":"-"},"n.a.",null,{"$f":"VLOOKUP(E60,'Kapitola 2'!$C$6:$D$282,2,0)","v":"Jakým způsobem řídí organizace existující znečištění půdy?\n"}]
[null,null,null,null,{"$f":"'Technický list'!B162","v":"Q2.39"},{"$f":"'Technický list'!C162","v":3},{"$f":"VLOOKUP(E61,'Technický list'!$AU$124:$BD$168,2,0)","v":"-"},"n.a.",null,{"$f":"VLOOKUP(E61,'Kapitola 2'!$C$6:$D$282,2,0)","v":"Jakým způsobem organizace řídí své emise škodlivin do ovzduší?"}]
[null,null,null,null,{"$f":"'Technický list'!B163","v":"Q2.40"},{"$f":"'Technický list'!C163","v":4},{"$f":"VLOOKUP(E62,'Technický list'!$AU$124:$BD$168,2,0)","v":"-"},"n.a.",null,{"$f":"VLOOKUP(E62,'Kapitola 2'!$C$6:$D$282,2,0)","v":"Jakým způsobem organizace řídí své emise škodlivin do vody?"}]
[null,null,null,null,{"$f":"'Technický list'!B164","v":"Q2.41"},{"$f":"'Technický list'!C164","v":3},{"$f":"VLOOKUP(E63,'Technický list'!$AU$124:$BD$168,2,0)","v":"-"},"n.a.",null,{"$f":"VLOOKUP(E63,'Kapitola 2'!$C$6:$D$282,2,0)","v":"Jakým způsobem organizace řídí své emise hluku?"}]
[null,null,null,null,{"$f":"'Technický list'!B165","v":"Q2.42"},{"$f":"'Technický list'!C165","v":4},{"$f":"VLOOKUP(E64,'Technický list'!$AU$124:$BD$168,2,0)","v":"-"},"n.a.",null,{"$f":"VLOOKUP(E64,'Kapitola 2'!$C$6:$D$282,2,0)","v":"Jakým způsobem organizace řídí své emise zápachu?"}]
[null,null,null,null,{"$f":"'Technický list'!B166","v":"Q2.43"},{"$f":"'Technický list'!C166","v":4},{"$f":"VLOOKUP(E65,'Technický list'!$AU$124:$BD$168,2,0)","v":"-"},"n.a.",null,{"$f":"VLOOKUP(E65,'Kapitola 2'!$C$6:$D$282,2,0)","v":"Jakým způsobem organizace zabraňuje a řídí havarijní emise do prostředí?"}]
[null,null,null,null,{"$f":"'Technický list'!B167","v":"Q2.44"},{"$f":"'Technický list'!C167","v":4},{"$f":"VLOOKUP(E66,'Technický list'!$AU$124:$BD$168,2,0)","v":"-"},"n.a.",null,{"$f":"VLOOKUP(E66,'Kapitola 2'!$C$6:$D$282,2,0)","v":"Jakým způsobem zajišťuje organizace správně kompetence všech pracovníků, týkající se environmentálních požadavků, které souvisejí s jejich pracovní náplní?"}]
[null,null,null,null,{"$f":"'Technický list'!B168","v":"Q2.45"},{"$f":"'Technický list'!C168","v":3},{"$f":"VLOOKUP(E67,'Technický list'!$AU$124:$BD$168,2,0)","v":"-"},"n.a.",null,{"$f":"VLOOKUP(E67,'Kapitola 2'!$C$6:$D$282,2,0)","v":"Jakým způsobem jsou zainteresované strany organizace informovány o environmentálních aspektech a jejich možných dopadech?"}]
[null,null,null,null,"KAPITOLA 3: Posílení systémů řízení chemických látek"]
[null,null,null,null,{"$f":"'Technický list'!$B$406","v":"Q3.1"},{"$f":"'Technický list'!$C$406","v":3},{"$f":"VLOOKUP(E69,'Technický list'!$AU$406:$BD$418,2,0)","v":1},{"$f":"IF(G69=\"-\",\"n.a.\",IF(F69-G69>-1,\"v souladu\",\"zvyšte skóre\"))","v":"v souladu"},null,{"$f":"VLOOKUP(E69,'Kapitola 3'!$C$6:$D$89,2,0)","v":"Zavedla organizace proces pro navrhování a vývoj nových \nproduktů a služeb?"}]
[null,null,null,null,{"$f":"'Technický list'!$B$407","v":"Q3.2"},{"$f":"'Technický list'!$C$407","v":2},{"$f":"VLOOKUP(E70,'Technický list'!$AU$406:$BD$418,2,0)","v":"-"},"n.a.",null,{"$f":"VLOOKUP(E70,'Kapitola 3'!$C$6:$D$89,2,0)","v":"Má organizace k dispozici proces hodnocení a stanovení priorit svých produktů pro charakterizaci rizik a řízení rizik?\n\n\n"}]
[null,null,null,null,{"$f":"'Technický list'!$B$408","v":"Q3.3"},{"$f":"'Technický list'!$C$408","v":3},{"$f":"VLOOKUP(E71,'Technický list'!$AU$406:$BD$418,2,0)","v":1},{"$f":"IF(G71=\"-\",\"n.a.\",IF(F71-G71>-1,\"v souladu\",\"zvyšte skóre\"))","v":"v souladu"},null,{"$f":"VLOOKUP(E71,'Kapitola 3'!$C$6:$D$89,2,0)","v":"Zavedla organizace systém pro sledování použitelnosti, změn a dodržování interních a externích požadavků souvisejících s řízením bezpečnosti chemických látek?"}]
[null,null,null,null,{"$f":"'Technický list'!$B$409","v":"Q3.4"},{"$f":"'Technický list'!$C$409","v":2},{"$f":"VLOOKUP(E72,'Technický list'!$AU$406:$BD$418,2,0)","v":"-"},"n.a.",null,{"$f":"VLOOKUP(E72,'Kapitola 3'!$C$6:$D$89,2,0)","v":"Zavedla organizace systém na správu existujících informací o rizicích svých produktů?"}]
[null,null,null,null,{"$f":"'Technický list'!$B$410","v":"Q3.5"},{"$f":"'Technický list'!$C$410","v":2},{"$f":"VLOOKUP(E73,'Technický list'!$AU$406:$BD$418,2,0)","v":"-"},"n.a.",null,{"$f":"VLOOKUP(E73,'Kapitola 3'!$C$6:$D$89,2,0)","v":"Zavedla organizace proces řízení informací o používání a expozici svých produktů?"}]
[null,null,null,null,{"$f":"'Technický list'!$B$411","v":"Q3.6"},{"$f":"'Technický list'!$C$411","v":4},{"$f":"VLOOKUP(E74,'Technický list'!$AU$406:$BD$418,2,0)","v":"-"},"n.a.",null,{"$f":"VLOOKUP(E74,'Kapitola 3'!$C$6:$D$89,2,0)","v":"Zavedla organizace proces na správu nových informací?"}]
[null,null,null,null,{"$f":"'Technický list'!$B$412","v":"Q3.7"},{"$f":"'Technický list'!$C$412","v":3},{"$f":"VLOOKUP(E75,'Technický list'!$AU$406:$BD$418,2,0)","v":"-"},"n.a.",null,{"$f":"VLOOKUP(E75,'Kapitola 3'!$C$6:$D$89,2,0)","v":"Zavedla organizace proces charakterizace rizik na základě shromážděných informací?"}]
[null,null,null,null,{"$f":"'Technický list'!$B$413","v":"Q3.8"},{"$f":"'Technický list'!$C$413","v":4},{"$f":"VLOOKUP(E76,'Technický list'!$AU$406:$BD$418,2,0)","v":1},{"$f":"IF(G76=\"-\",\"n.a.\",IF(F76-G76>-1,\"v souladu\",\"zvyšte skóre\"))","v":"v souladu"},null,{"$f":"VLOOKUP(E76,'Kapitola 3'!$C$6:$D$89,2,0)","v":"Zavedla organizace proces řízení rizik na základě shromážděných informací?"}]
[null,null,null,null,{"$f":"'Technický list'!$B$414","v":"Q3.9"},{"$f":"'Technický list'!$C$414","v":4},{"$f":"VLOOKUP(E77,'Technický list'!$AU$406:$BD$418,2,0)","v":3},{"$f":"IF(G77=\"-\",\"n.a.\",IF(F77-G77>-1,\"v souladu\",\"zvyšte skóre\"))","v":"v souladu"},null,{"$f":"VLOOKUP(E77,'Kapitola 3'!$C$6:$D$89,2,0)","v":"Zavedla organizace účinný proces sledování svých produktů po dodání a provádění nápravných opatření?\n"}]
[null,null,null,null,{"$f":"'Technický list'!$B$415","v":"Q3.10"},{"$f":"'Technický list'!$C$415","v":4},{"$f":"VLOOKUP(E78,'Technický list'!$AU$406:$BD$418,2,0)","v":"-"},"n.a.",null,{"$f":"VLOOKUP(E78,'Kapitola 3'!$C$6:$D$89,2,0)","v":"Poskytuje organizace efektivní komunikaci v rámci dodavatelského řetězce ohledně opatření k řízení rizik, které se vztahují na jejich produkty?"}]
[null,null,null,null,"KAPITOLA 4: Působení na obchodní partnery"]
[null,null,null,null,{"$f":"'Technický list'!B482","v":"Q4.1"},{"$f":"'Technický list'!C482","v":3},{"$f":"VLOOKUP(E80,'Technický list'!$AU$482:$BD$489,2,0)","v":3},{"$f":"IF(G80=\"-\",\"n.a.\",IF(F80-G80>-1,\"v souladu\",\"zvyšte skóre\"))","v":"v souladu"},null,{"$f":"VLOOKUP(E80,'Kapitola 4'!$C$6:$D$91,2,0)","v":"Jak se organizace zavázala k odpovědnému získávání zdrojů?"}]
[null,null,null,null,{"$f":"'Technický list'!B483","v":"Q4.2"},{"$f":"'Technický list'!C483","v":4},{"$f":"VLOOKUP(E81,'Technický list'!$AU$482:$BD$489,2,0)","v":"-"},{"$f":"IF(G81=\"-\",\"n.a.\",IF(F81-G81>-1,\"compliant\",\"increase score\"))","v":"n.a."},null,{"$f":"VLOOKUP(E81,'Kapitola 4'!$C$6:$D$91,2,0)","v":"Jak organizace zlepšuje spolupráci v dodavatelském řetězci?"}]
[null,null,null,null,{"$f":"'Technický list'!B484","v":"Q4.3"},{"$f":"'Technický list'!C484","v":3},{"$f":"VLOOKUP(E82,'Technický list'!$AU$482:$BD$489,2,0)","v":"-"},"n.a.",null,{"$f":"VLOOKUP(E82,'Kapitola 4'!$C$6:$D$91,2,0)","v":"Jakým způsobem vyjadřuje organizace svůj závazek vůči podnikatelské etice?"}]
[null,null,null,null,{"$f":"'Technický list'!B485","v":"Q4.4"},{"$f":"'Technický list'!C485","v":2},{"$f":"VLOOKUP(E83,'Technický list'!$AU$482:$BD$489,2,0)","v":"-"},"n.a.",null,{"$f":"VLOOKUP(E83,'Kapitola 4'!$C$6:$D$91,2,0)","v":"Jakým způsobem řeší organizace sociální problematiku a lidská práva v rámci spolupráce s obchodními partnery?"}]
[null,null,null,null,{"$f":"'Technický list'!B486","v":"Q4.5"},{"$f":"'Technický list'!C486","v":4},{"$f":"VLOOKUP(E84,'Technický list'!$AU$482:$BD$489,2,0)","v":"-"},"n.a.",null,{"$f":"VLOOKUP(E84,'Kapitola 4'!$C$6:$D$91,2,0)","v":"Jakým způsobem zabraňuje organizace dětské práci?\nOrganizace\n1-\tzavedla systém ověřování věku; \n2-\tnezaměstnává děti mladší 15 let (v závislosti na místní legislativy). Jedinou výjimku představují učni, školní praxe nebo vzdělávací stáže; \n3-\tzaručuje, aby pracovní náplň osob mladších než 18 let neovlivňovala jejich školní docházku (doba strávená dopravou do práce a školy a z práce a školy, školní docházkou a prací je méně než 10 hodin denně );\n4-\tzajišťuje, že pracovní náplň mladých pracovníků není duševně, fyzicky, společensky ani morálně nebezpečná a škodlivá."}]
[null,null,null,null,{"$f":"'Technický list'!B487","v":"Q4.6"},{"$f":"'Technický list'!C487","v":3},{"$f":"VLOOKUP(E85,'Technický list'!$AU$482:$BD$489,2,0)","v":"-"},"n.a.",null,{"$f":"VLOOKUP(E85,'Kapitola 4'!$C$6:$D$91,2,0)","v":"Jakým způsobem zabezpečuje organizace splnění svých požadavků ze strany logistických partnerů?"}]
[null,null,null,null,{"$f":"'Technický list'!B488","v":"Q4.7"},{"$f":"'Technický list'!C488","v":1},{"$f":"VLOOKUP(E86,'Technický list'!$AU$482:$BD$489,2,0)","v":3},{"$f":"IF(G86=\"-\",\"n.a.\",IF(F86-G86>-1,\"v souladu\",\"zvyšte skóre\"))","v":"zvyšte skóre"},null,{"$f":"VLOOKUP(E86,'Kapitola 4'!$C$6:$D$91,2,0)","v":"Jakým způsobem organizace chrání a zabezpečuje majetek a údaje následných uživatelů nebo externích poskytovatelů, které se používají nebo začleňují do produktů a služeb?"}]
[null,null,null,null,{"$f":"'Technický list'!B489","v":"Q4.8"},{"$f":"'Technický list'!C489","v":4},{"$f":"VLOOKUP(E87,'Technický list'!$AU$482:$BD$489,2,0)","v":4},{"$f":"IF(G87=\"-\",\"n.a.\",IF(F87-G87>-1,\"v souladu\",\"zvyšte skóre\"))","v":"v souladu"},null,{"$f":"VLOOKUP(E87,'Kapitola 4'!$C$6:$D$91,2,0)","v":"Co zahrnuje dialog s následnými uživateli?"}]
[null,null,null,null,"KAPITOLA 5: Zapojení zainteresovaných stran"]
[null,null,null,null,{"$f":"'Technický list'!B544","v":"Q5.1"},{"$f":"'Technický list'!C544","v":3},{"$f":"VLOOKUP(E89,'Technický list'!$AU$544:$BD$548,2,0)","v":3},{"$f":"IF(G89=\"-\",\"n.a.\",IF(F89-G89>-1,\"v souladu\",\"zvyšte skóre\"))","v":"v souladu"},null,{"$f":"VLOOKUP(E89,'Kapitola 5'!$C$6:$D$89,2,0)","v":"Jakým způsobem zapojuje organizace své externí zainteresované strany a naplňuje jejich očekávání?"}]
[null,null,null,null,{"$f":"'Technický list'!B545","v":"Q5.2"},{"$f":"'Technický list'!C545","v":4},{"$f":"VLOOKUP(E90,'Technický list'!$AU$544:$BD$548,2,0)","v":"-"},{"$f":"IF(G90=\"-\",\"n.a.\",IF(F90-G90>-1,\"compliant\",\"increase score\"))","v":"n.a."},null,{"$f":"VLOOKUP(E90,'Kapitola 5'!$C$6:$D$89,2,0)","v":"Jakým způsobem vede organizace dialog s veřejností, úřady a dalšími zainteresovanými stranami, včetně místních komunit a zákazníků v souvislosti s HSE&S v rámci jejich činností, produktů a služeb?"}]
[null,null,null,null,{"$f":"'Technický list'!B546","v":"Q5.3"},{"$f":"'Technický list'!C546","v":2},{"$f":"VLOOKUP(E91,'Technický list'!$AU$544:$BD$548,2,0)","v":"-"},"n.a.",null,{"$f":"VLOOKUP(E91,'Kapitola 5'!$C$6:$D$89,2,0)","v":"Jakým způsobem zveřejňuje organizace informace týkající se\n HSE&S?"}]
[null,null,null,null,{"$f":"'Technický list'!B547","v":"Q5.4"},{"$f":"'Technický list'!C547","v":2},{"$f":"VLOOKUP(E92,'Technický list'!$AU$544:$BD$548,2,0)","v":"-"},"n.a.",null,{"$f":"VLOOKUP(E92,'Kapitola 5'!$C$6:$D$89,2,0)","v":"Jakým způsobem podporuje organizace místní komunity?"}]
[null,null,null,null,{"$f":"'Technický list'!B548","v":"Q5.5"},{"$f":"'Technický list'!C548","v":3},{"$f":"VLOOKUP(E93,'Technický list'!$AU$544:$BD$548,2,0)","v":"-"},"n.a.",null,{"$f":"VLOOKUP(E93,'Kapitola 5'!$C$6:$D$89,2,0)","v":"Jakým způsobem stimuluje organizace místní zaměstnanost a vzdělávání?"}]
[null,null,null,null,"KAPITOLA 6: Přispívání k udržitelnosti"]
[null,null,null,null,{"$f":"'Technický list'!B584","v":"Q6.1"},{"$f":"'Technický list'!C584","v":2},{"$f":"VLOOKUP(E95,'Technický list'!$AU$584:$BD$600,2,0)","v":"-"},{"$f":"IF(G95=\"-\",\"n.a.\",IF(F95-G95>-1,\"compliant\",\"increase score\"))","v":"n.a."},null,{"$f":"VLOOKUP(E95,'Kapitola 6'!$C$6:$D$120,2,0)","v":"Jakým způsobem definuje organizace významné problémy a závažnost?"}]
[null,null,null,null,{"$f":"'Technický list'!B585","v":"Q6.2"},{"$f":"'Technický list'!C585","v":2},{"$f":"VLOOKUP(E96,'Technický list'!$AU$584:$BD$600,2,0)","v":"-"},{"$f":"IF(G96=\"-\",\"n.a.\",IF(F96-G96>-1,\"compliant\",\"increase score\"))","v":"n.a."},null,{"$f":"VLOOKUP(E96,'Kapitola 6'!$C$6:$D$120,2,0)","v":"Jakým způsobem hodlá organizace přispívat k udržitelnému rozvoji?"}]
[null,null,null,null,{"$f":"'Technický list'!B586","v":"Q6.3"},{"$f":"'Technický list'!C586","v":3},{"$f":"VLOOKUP(E97,'Technický list'!$AU$584:$BD$600,2,0)","v":"-"},"n.a.",null,{"$f":"VLOOKUP(E97,'Kapitola 6'!$C$6:$D$120,2,0)","v":"Jakým způsobem komunikuje organizace zainteresovaných stran na téma udržitelnosti?"}]
[null,null,null,null,{"$f":"'Technický list'!B587","v":"Q6.4"},{"$f":"'Technický list'!C587","v":2},{"$f":"VLOOKUP(E98,'Technický list'!$AU$584:$BD$600,2,0)","v":"-"},"n.a.",null,{"$f":"VLOOKUP(E98,'Kapitola 6'!$C$6:$D$120,2,0)","v":"Má organizace zavedený proces navrhování výrobků s lepšími výsledky udržitelnosti?"}]
[null,null,null,null,{"$f":"'Technický list'!B588","v":"Q6.5"},{"$f":"'Technický list'!C588","v":2},{"$f":"VLOOKUP(E99,'Technický list'!$AU$584:$BD$600,2,0)","v":"-"},"n.a.",null,{"$f":"VLOOKUP(E99,'Kapitola 6'!$C$6:$D$120,2,0)","v":"Jakým způsobem zvyšuje organizace efektivnost zdrojů ve svých výrobních procesech?"}]
[null,null,null,null,{"$f":"'Technický list'!B589","v":"Q6.6"},{"$f":"'Technický list'!C589","v":1},{"$f":"VLOOKUP(E100,'Technický list'!$AU$584:$BD$600,2,0)","v":"-"},"n.a.",null,{"$f":"VLOOKUP(E100,'Kapitola 6'!$C$6:$D$120,2,0)","v":"Jakým způsobem stimuluje organizace oběhové hospodářství prostřednictvím svých produktů?"}]
[null,null,null,null,{"$f":"'Technický list'!B590","v":"Q6.7"},{"$f":"'Technický list'!C590","v":3},{"$f":"VLOOKUP(E101,'Technický list'!$AU$584:$BD$600,2,0)","v":"-"},"n.a.",null,{"$f":"VLOOKUP(E101,'Kapitola 6'!$C$6:$D$120,2,0)","v":"Jakým způsobem podporuje organizace inovace při vývoji produktů a řešení, které odpovídají výzvám udržitelnosti?"}]
[null,null,null,null,{"$f":"'Technický list'!B591","v":"Q6.8"},{"$f":"'Technický list'!C591","v":3},{"$f":"VLOOKUP(E102,'Technický list'!$AU$584:$BD$600,2,0)","v":"-"},"n.a.",null,{"$f":"VLOOKUP(E102,'Kapitola 6'!$C$6:$D$120,2,0)","v":"Jakým způsobem stimuluje organizace inovaci a spolupráci?"}]
[null,null,null,null,{"$f":"'Technický list'!B592","v":"Q6.9"},{"$f":"'Technický list'!C592","v":1},{"$f":"VLOOKUP(E103,'Technický list'!$AU$584:$BD$600,2,0)","v":"-"},"n.a.",null,{"$f":"VLOOKUP(E103,'Kapitola 6'!$C$6:$D$120,2,0)","v":"Jakým způsobem podporuje organizace udržitelné způsoby spotřeby?"}]
[null,null,null,null,{"$f":"'Technický list'!B593","v":"Q6.10"},{"$f":"'Technický list'!C593","v":2},{"$f":"VLOOKUP(E104,'Technický list'!$AU$584:$BD$600,2,0)","v":"-"},"n.a.",null,{"$f":"VLOOKUP(E104,'Kapitola 6'!$C$6:$D$120,2,0)","v":"Jakým způsobem organizace kontroluje a optimalizuje spotřebu vody?"}]
[null,null,null,null,{"$f":"'Technický list'!B594","v":"Q6.11"},{"$f":"'Technický list'!C594","v":3},{"$f":"VLOOKUP(E105,'Technický list'!$AU$584:$BD$600,2,0)","v":"-"},"n.a.",null,{"$f":"VLOOKUP(E105,'Kapitola 6'!$C$6:$D$120,2,0)","v":"Jakým způsobem se řídí vliv organizace na biodiverzitu a ekosystém?"}]
[null,null,null,null,{"$f":"'Technický list'!B595","v":"Q6.12"},{"$f":"'Technický list'!C595","v":1},{"$f":"VLOOKUP(E106,'Technický list'!$AU$584:$BD$600,2,0)","v":"-"},"n.a.",null,{"$f":"VLOOKUP(E106,'Kapitola 6'!$C$6:$D$120,2,0)","v":"Jakým způsobem posuzuje organizace svou závislost na přírodních zdrojích (ekosystémech)?"}]
[null,null,null,null,{"$f":"'Technický list'!B596","v":"Q6.13"},{"$f":"'Technický list'!C596","v":2},{"$f":"VLOOKUP(E107,'Technický list'!$AU$584:$BD$600,2,0)","v":"-"},"n.a.",null,{"$f":"VLOOKUP(E107,'Kapitola 6'!$C$6:$D$120,2,0)","v":"Jakým způsobem řídí organizace svou spotřebu energie?"}]
[null,null,null,null,{"$f":"'Technický list'!B597","v":"Q6.14"},{"$f":"'Technický list'!C597","v":3},{"$f":"VLOOKUP(E108,'Technický list'!$AU$584:$BD$600,2,0)","v":"-"},"n.a.",null,{"$f":"VLOOKUP(E108,'Kapitola 6'!$C$6:$D$120,2,0)","v":"Jakým způsobem řídí organizace emise skleníkových plynů (kromě úspor energie)?"}]
[null,null,null,null,{"$f":"'Technický list'!B598","v":"Q6.15"},{"$f":"'Technický list'!C598","v":2},{"$f":"VLOOKUP(E109,'Technický list'!$AU$584:$BD$600,2,0)","v":"-"},"n.a.",null,{"$f":"VLOOKUP(E109,'Kapitola 6'!$C$6:$D$120,2,0)","v":"Jaká je strategie organizace na snižování emisí skleníkových plynů?"}]
[null,null,null,null,{"$f":"'Technický list'!B599","v":"Q6.16"},{"$f":"'Technický list'!C599","v":2},{"$f":"VLOOKUP(E110,'Technický list'!$AU$584:$BD$600,2,0)","v":"-"},"n.a.",null,{"$f":"VLOOKUP(E110,'Kapitola 6'!$C$6:$D$120,2,0)","v":"Jakým způsobem se organizace připravuje na klimatické změny? "}]
[null,null,null,null,{"$f":"'Technický list'!B600","v":"Q6.17"},{"$f":"'Technický list'!C600","v":3},{"$f":"VLOOKUP(E111,'Technický list'!$AU$584:$BD$600,2,0)","v":"-"},"n.a.",null,{"$f":"VLOOKUP(E111,'Kapitola 6'!$C$6:$D$120,2,0)","v":"Jak organizace zajišťuje rovné příležitosti při náboru a během kariéry všech?"}]
[]
[null,null,"Zpráva o souladu s ISO 14001"]
[null,null,null,null,null,"Vaše skóre ","Minimální skóre pro  ISO 14001"]
[null,null,null,null,"KAPITOLA 1: Podniková kultura vedení "]
[null,null,null,null,{"$f":"'Technický list'!B10","v":"Q1.1"},{"$f":"'Technický list'!C10","v":4},{"$f":"VLOOKUP(E116,'Technický list'!$AU$10:$BD$25,3,0)","v":3},{"$f":"IF(G116=\"-\",\"n.a.\",IF(F116-G116>-1,\"v souladu\",\"zvyšte skóre\"))","v":"v souladu"},null,{"$f":"VLOOKUP(E116,'Kapitola 1'!$C$6:$D$112,2,0)","v":"Jak se projevuje závazek plnit povinnosti týkající se dodržování předpisů a zásad Responsible Care = RC (tj. ochrana a podpora zdraví a bezpečnost lidí, životního prostředí a udržitelnosti) na všech úrovních organizace?\n"}]
[null,null,null,null,{"$f":"'Technický list'!B11","v":"Q1.2"},{"$f":"'Technický list'!C11","v":4},{"$f":"VLOOKUP(E117,'Technický list'!$AU$10:$BD$25,3,0)","v":3},{"$f":"IF(G117=\"-\",\"n.a.\",IF(F117-G117>-1,\"v souladu\",\"zvyšte skóre\"))","v":"v souladu"},null,{"$f":"VLOOKUP(E117,'Kapitola 1'!$C$6:$D$112,2,0)","v":"Jakým způsobem řídí organizace příslušná rizika a příležitosti?  "}]
[null,null,null,null,{"$f":"'Technický list'!B12","v":"Q1.3"},{"$f":"'Technický list'!C12","v":4},{"$f":"VLOOKUP(E118,'Technický list'!$AU$10:$BD$25,3,0)","v":2},{"$f":"IF(G118=\"-\",\"n.a.\",IF(F118-G118>-1,\"v souladu\",\"zvyšte skóre\"))","v":"v souladu"},null,{"$f":"VLOOKUP(E118,'Kapitola 1'!$C$6:$D$112,2,0)","v":"Jakým způsobem monitoruje organizace svoje zákonné povinnosti? "}]
[null,null,null,null,{"$f":"'Technický list'!B13","v":"Q1.4"},{"$f":"'Technický list'!C13","v":3},{"$f":"VLOOKUP(E119,'Technický list'!$AU$10:$BD$25,3,0)","v":2},{"$f":"IF(G119=\"-\",\"n.a.\",IF(F119-G119>-1,\"v souladu\",\"zvyšte skóre\"))","v":"v souladu"},null,{"$f":"VLOOKUP(E119,'Kapitola 1'!$C$6:$D$112,2,0)","v":"Jakým způsobem top management zajišťuje, že jednotlivé aspekty HSE&S (zdraví, bezpečnosti, ochrany životního prostředí & udržitelnosti) jsou přiřazeny stanoveným rolím v organizaci?"}]
[null,null,null,null,{"$f":"'Technický list'!B14","v":"Q1.5"},{"$f":"'Technický list'!C14","v":3},{"$f":"VLOOKUP(E120,'Technický list'!$AU$10:$BD$25,3,0)","v":3},{"$f":"IF(G120=\"-\",\"n.a.\",IF(F120-G120>-1,\"v souladu\",\"zvyšte skóre\"))","v":"v souladu"},null,{"$f":"VLOOKUP(E120,'Kapitola 1'!$C$6:$D$112,2,0)","v":"Jakým způsobem se top management podílí na řešení záležitostí HSE&S?"}]
[null,null,null,null,{"$f":"'Technický list'!B15","v":"Q1.6"},{"$f":"'Technický list'!C15","v":3},{"$f":"VLOOKUP(E121,'Technický list'!$AU$10:$BD$25,3,0)","v":"-"},{"$f":"IF(G121=\"-\",\"n.a.\",IF(F121-G121>-1,\"compliant\",\"increase score\"))","v":"n.a."},null,{"$f":"VLOOKUP(E121,'Kapitola 1'!$C$6:$D$112,2,0)","v":"Jakým způsobem jsou odpovědnosti HSE&S začleněny do popisů pracovní náplně nebo ročních cílů?\n"}]
[null,null,null,null,{"$f":"'Technický list'!B16","v":"Q1.7"},{"$f":"'Technický list'!C16","v":3},{"$f":"VLOOKUP(E122,'Technický list'!$AU$10:$BD$25,3,0)","v":3},{"$f":"IF(G122=\"-\",\"n.a.\",IF(F122-G122>-1,\"v souladu\",\"zvyšte skóre\"))","v":"v souladu"},null,{"$f":"VLOOKUP(E122,'Kapitola 1'!$C$6:$D$112,2,0)","v":"Jakým způsobem se řídí (nejdůležitější) procesy v souvislosti s HSE&S?"}]
[null,null,null,null,{"$f":"'Technický list'!B17","v":"Q1.8"},{"$f":"'Technický list'!C17","v":3},{"$f":"VLOOKUP(E123,'Technický list'!$AU$10:$BD$25,3,0)","v":3},"v souladu",null,{"$f":"VLOOKUP(E123,'Kapitola 1'!$C$6:$D$112,2,0)","v":"Jakým způsobem top management zajišťuje neustálé zlepšování výkonu v oblasti HSE&S (zdraví, bezpečnosti, životního prostředí, energetiky a udržitelnosti)?"}]
[null,null,null,null,{"$f":"'Technický list'!B18","v":"Q1.9"},{"$f":"'Technický list'!C18","v":4},{"$f":"VLOOKUP(E124,'Technický list'!$AU$10:$BD$25,3,0)","v":3},"v souladu",null,{"$f":"VLOOKUP(E124,'Kapitola 1'!$C$6:$D$112,2,0)","v":"Jak jsou organizovány interní audity?"}]
[null,null,null,null,{"$f":"'Technický list'!B19","v":"Q1.10"},{"$f":"'Technický list'!C19","v":4},{"$f":"VLOOKUP(E125,'Technický list'!$AU$10:$BD$25,3,0)","v":3},"v souladu",null,{"$f":"VLOOKUP(E125,'Kapitola 1'!$C$6:$D$112,2,0)","v":"Jakým způsobem probíhá vyšetřování?"}]
[null,null,null,null,{"$f":"'Technický list'!B20","v":"Q1.11"},{"$f":"'Technický list'!C20","v":3},{"$f":"VLOOKUP(E126,'Technický list'!$AU$10:$BD$25,3,0)","v":3},"v souladu",null,{"$f":"VLOOKUP(E126,'Kapitola 1'!$C$6:$D$112,2,0)","v":"Jakým způsobem organizace zajišťuje procesy, čas a zdroje potřebné pro zlepšování procesů řízení HSE&S?"}]
[null,null,null,null,{"$f":"'Technický list'!B21","v":"Q1.12"},{"$f":"'Technický list'!C21","v":3},{"$f":"VLOOKUP(E127,'Technický list'!$AU$10:$BD$25,3,0)","v":3},"v souladu",null,{"$f":"VLOOKUP(E127,'Kapitola 1'!$C$6:$D$112,2,0)","v":"Jak organizace zajišťuje, že zaměstnanci jsou si vědomi politik a procesů týkajících se zdraví, bezpečnosti, životního prostředí, energetiky a udržitelnosti?"}]
[null,null,null,null,{"$f":"'Technický list'!B22","v":"Q1.13"},{"$f":"'Technický list'!C22","v":3},{"$f":"VLOOKUP(E128,'Technický list'!$AU$10:$BD$25,3,0)","v":3},"v souladu",null,{"$f":"VLOOKUP(E128,'Kapitola 1'!$C$6:$D$112,2,0)","v":"Jakým způsobem organizace zajišťuje správné kompetence pracovníků, pokud jde o aspekty HSE&S týkající se jejich práce?"}]
[null,null,null,null,{"$f":"'Technický list'!B23","v":"Q1.14"},{"$f":"'Technický list'!C23","v":3},{"$f":"VLOOKUP(E129,'Technický list'!$AU$10:$BD$25,3,0)","v":2},"v souladu",null,{"$f":"VLOOKUP(E129,'Kapitola 1'!$C$6:$D$112,2,0)","v":"Jaká je struktura zapojení zaměstnanců?"}]
[null,null,null,null,{"$f":"'Technický list'!B24","v":"Q1.15"},{"$f":"'Technický list'!C24","v":3},{"$f":"VLOOKUP(E130,'Technický list'!$AU$10:$BD$25,3,0)","v":3},"v souladu",null,{"$f":"VLOOKUP(E130,'Kapitola 1'!$C$6:$D$112,2,0)","v":"Jakým způsobem se řídí dokumentace HSE&S?"}]
[null,null,null,null,{"$f":"'Technický list'!B25","v":"Q1.16"},{"$f":"'Technický list'!C25","v":3},{"$f":"VLOOKUP(E131,'Technický list'!$AU$10:$BD$25,3,0)","v":3},"v souladu",null,{"$f":"VLOOKUP(E131,'Kapitola 1'!$C$6:$D$112,2,0)","v":"Jakým způsobem jsou řízeny změny potenciálně ovlivňující HSE&S (zdraví, bezpečnost, životní prostředí, energetiku a udržitelnost)?"}]
[null,null,null,null,"KAPITOLA 2: Ochrana lidí a životního prostředí"]
[null,null,null,null,{"$f":"'Technický list'!B124","v":"Q2.1"},{"$f":"'Technický list'!C124","v":3},{"$f":"VLOOKUP(E133,'Technický list'!$AU$124:$BD$168,3,0)","v":"-"},"n.a.",null,{"$f":"VLOOKUP(E133,'Kapitola 2'!$C$6:$D$282,2,0)","v":"Jak se management zavázal k ochraně zdraví a bezpečnosti při práci (dále jen \"BOZP\")?"}]
[null,null,null,null,{"$f":"'Technický list'!B125","v":"Q2.2"},{"$f":"'Technický list'!C125","v":4},{"$f":"VLOOKUP(E134,'Technický list'!$AU$124:$BD$168,3,0)","v":"-"},{"$f":"IF(G134=\"-\",\"n.a.\",IF(F134-G134>-1,\"compliant\",\"increase score\"))","v":"n.a."},null,{"$f":"VLOOKUP(E134,'Kapitola 2'!$C$6:$D$282,2,0)","v":"Jakým způsobem se určují rizika a expozice v souvislosti s BOZP?"}]
[null,null,null,null,{"$f":"'Technický list'!B126","v":"Q2.3"},{"$f":"'Technický list'!C126","v":3},{"$f":"VLOOKUP(E135,'Technický list'!$AU$124:$BD$168,3,0)","v":"-"},"n.a.",null,{"$f":"VLOOKUP(E135,'Kapitola 2'!$C$6:$D$282,2,0)","v":"Jakým způsobem se posuzují zdravotní požadavky?"}]
[null,null,null,null,{"$f":"'Technický list'!B127","v":"Q2.4"},{"$f":"'Technický list'!C127","v":4},{"$f":"VLOOKUP(E136,'Technický list'!$AU$124:$BD$168,3,0)","v":"-"},"n.a.",null,{"$f":"VLOOKUP(E136,'Kapitola 2'!$C$6:$D$282,2,0)","v":"Jakým způsobem zlepšuje organizace BOZP?"}]
[null,null,null,null,{"$f":"'Technický list'!B128","v":"Q2.5"},{"$f":"'Technický list'!C128","v":2},{"$f":"VLOOKUP(E137,'Technický list'!$AU$124:$BD$168,3,0)","v":"-"},"n.a.",null,{"$f":"VLOOKUP(E137,'Kapitola 2'!$C$6:$D$282,2,0)","v":"Jakým způsobem probíhá údržba a udržování pořádku s cílem zajistit bezpečnost provozů, zařízení, nástrojů a (bezpečnostních) pomůcek?"}]
[null,null,null,null,{"$f":"'Technický list'!B129","v":"Q2.6"},{"$f":"'Technický list'!C129","v":3},{"$f":"VLOOKUP(E138,'Technický list'!$AU$124:$BD$168,3,0)","v":"-"},"n.a.",null,{"$f":"VLOOKUP(E138,'Kapitola 2'!$C$6:$D$282,2,0)","v":"Jak se ověřuje správný výběr, údržba a používání zdravotního a bezpečnostního vybavení (např. osobních ochranných prostředků = OOPP)?"}]
[null,null,null,null,{"$f":"'Technický list'!B130","v":"Q2.7"},{"$f":"'Technický list'!C130","v":2},{"$f":"VLOOKUP(E139,'Technický list'!$AU$124:$BD$168,3,0)","v":"-"},"n.a.",null,{"$f":"VLOOKUP(E139,'Kapitola 2'!$C$6:$D$282,2,0)","v":"Jak se organizace stará o stres a tělesné a duševní zdraví zaměstnanců?"}]
[null,null,null,null,{"$f":"'Technický list'!B131","v":"Q2.8"},{"$f":"'Technický list'!C131","v":3},{"$f":"VLOOKUP(E140,'Technický list'!$AU$124:$BD$168,3,0)","v":3},{"$f":"IF(G140=\"-\",\"n.a.\",IF(F140-G140>-1,\"v souladu\",\"zvyšte skóre\"))","v":"v souladu"},null,{"$f":"VLOOKUP(E140,'Kapitola 2'!$C$6:$D$282,2,0)","v":"Jakým způsobem se vyšetřují onemocnění, zranění, incidenty a potenciálně nebezpečné situace na pracovišti?"}]
[null,null,null,null,{"$f":"'Technický list'!B132","v":"Q2.9"},{"$f":"'Technický list'!C132","v":4},{"$f":"VLOOKUP(E141,'Technický list'!$AU$124:$BD$168,3,0)","v":"-"},"n.a.",null,{"$f":"VLOOKUP(E141,'Kapitola 2'!$C$6:$D$282,2,0)","v":"Jak je organizace připravena na mimořádné události?"}]
[null,null,null,null,{"$f":"'Technický list'!B133","v":"Q2.10"},{"$f":"'Technický list'!C133","v":3},{"$f":"VLOOKUP(E142,'Technický list'!$AU$124:$BD$168,3,0)","v":3},{"$f":"IF(G142=\"-\",\"n.a.\",IF(F142-G142>-1,\"v souladu\",\"zvyšte skóre\"))","v":"v souladu"},null,{"$f":"VLOOKUP(E142,'Kapitola 2'!$C$6:$D$282,2,0)","v":"Jakým způsobem zajišťuje organizace správně kompetence všech pracovníků, týkající se požadavků BOZP, které souvisí s jejich pracovní náplní?"}]
[null,null,null,null,{"$f":"'Technický list'!B134","v":"Q2.11"},{"$f":"'Technický list'!C134","v":3},{"$f":"VLOOKUP(E143,'Technický list'!$AU$124:$BD$168,3,0)","v":"-"},"n.a.",null,{"$f":"VLOOKUP(E143,'Kapitola 2'!$C$6:$D$282,2,0)","v":"Jakým způsobem se vedení staví k procesní bezpečnosti?\n\n"}]
[null,null,null,null,{"$f":"'Technický list'!B135","v":"Q2.12"},{"$f":"'Technický list'!C135","v":4},{"$f":"VLOOKUP(E144,'Technický list'!$AU$124:$BD$168,3,0)","v":"-"},"n.a.",null,{"$f":"VLOOKUP(E144,'Kapitola 2'!$C$6:$D$282,2,0)","v":"Jakým způsobem je vypracována identifikace a popis bezpečnosti procesů, zařízení a pracovišť organizace?"}]
[null,null,null,null,{"$f":"'Technický list'!B136","v":"Q2.13"},{"$f":"'Technický list'!C136","v":3},{"$f":"VLOOKUP(E145,'Technický list'!$AU$124:$BD$168,3,0)","v":"-"},"n.a.",null,{"$f":"VLOOKUP(E145,'Kapitola 2'!$C$6:$D$282,2,0)","v":"Jakým způsobem se zlepšuje procesní bezpečnost po nehodách a incidentech?"}]
[null,null,null,null,{"$f":"'Technický list'!B137","v":"Q2.14"},{"$f":"'Technický list'!C137","v":1},{"$f":"VLOOKUP(E146,'Technický list'!$AU$124:$BD$168,3,0)","v":"-"},"n.a.",null,{"$f":"VLOOKUP(E146,'Kapitola 2'!$C$6:$D$282,2,0)","v":"Jakým způsobem se provádějí audity a inspekce procesní bezpečnosti?"}]
[null,null,null,null,{"$f":"'Technický list'!B138","v":"Q2.15"},{"$f":"'Technický list'!C138","v":3},{"$f":"VLOOKUP(E147,'Technický list'!$AU$124:$BD$168,3,0)","v":"-"},"n.a.",null,{"$f":"VLOOKUP(E147,'Kapitola 2'!$C$6:$D$282,2,0)","v":"Jakým způsobem se prověřují a zlepšují pracovní pokyny?"}]
[null,null,null,null,{"$f":"'Technický list'!B139","v":"Q2.16"},{"$f":"'Technický list'!C139","v":4},{"$f":"VLOOKUP(E148,'Technický list'!$AU$124:$BD$168,3,0)","v":"-"},"n.a.",null,{"$f":"VLOOKUP(E148,'Kapitola 2'!$C$6:$D$282,2,0)","v":"Jak je navrhována a dokumnetována instalace nových zařízení?"}]
[null,null,null,null,{"$f":"'Technický list'!B140","v":"Q2.17"},{"$f":"'Technický list'!C140","v":4},{"$f":"VLOOKUP(E149,'Technický list'!$AU$124:$BD$168,3,0)","v":"-"},"n.a.",null,{"$f":"VLOOKUP(E149,'Kapitola 2'!$C$6:$D$282,2,0)","v":"Jakým způsobem probíhá kontrola zřizování instalace?"}]
[null,null,null,null,{"$f":"'Technický list'!B141","v":"Q2.18"},{"$f":"'Technický list'!C141","v":3},{"$f":"VLOOKUP(E150,'Technický list'!$AU$124:$BD$168,3,0)","v":"-"},"n.a.",null,{"$f":"VLOOKUP(E150,'Kapitola 2'!$C$6:$D$282,2,0)","v":"Jakým způsobem je zaručena ochrana zařízení, aby jediná chyba neměla katastrofické následky?"}]
[null,null,null,null,{"$f":"'Technický list'!B142","v":"Q2.19"},{"$f":"'Technický list'!C142","v":3},{"$f":"VLOOKUP(E151,'Technický list'!$AU$124:$BD$168,3,0)","v":"-"},"n.a.",null,{"$f":"VLOOKUP(E151,'Kapitola 2'!$C$6:$D$282,2,0)","v":"Byly zřízeny programy preventivní údržby a péče, které zaručují bezpečnost provozů, nástrojů a zařízení?"}]
[null,null,null,null,{"$f":"'Technický list'!B143","v":"Q2.20"},{"$f":"'Technický list'!C143","v":4},{"$f":"VLOOKUP(E152,'Technický list'!$AU$124:$BD$168,3,0)","v":"-"},"n.a.",null,{"$f":"VLOOKUP(E152,'Kapitola 2'!$C$6:$D$282,2,0)","v":"Jakým způsobem se řídí procesy během mimořádných událostí v případě přerušení dodávky energie nebo služeb?"}]
[null,null,null,null,{"$f":"'Technický list'!B144","v":"Q2.21"},{"$f":"'Technický list'!C144","v":3},{"$f":"VLOOKUP(E153,'Technický list'!$AU$124:$BD$168,3,0)","v":"-"},"n.a.",null,{"$f":"VLOOKUP(E153,'Kapitola 2'!$C$6:$D$282,2,0)","v":"Jak se připravují havarijní plány?"}]
[null,null,null,null,{"$f":"'Technický list'!B145","v":"Q2.22"},{"$f":"'Technický list'!C145","v":2},{"$f":"VLOOKUP(E154,'Technický list'!$AU$124:$BD$168,3,0)","v":"-"},"n.a.",null,{"$f":"VLOOKUP(E154,'Kapitola 2'!$C$6:$D$282,2,0)","v":"Jakým způsobem jsou zabezpečeny kompetence a školení zaměstnanců a dodavatelů zapojených do procesů?"}]
[null,null,null,null,{"$f":"'Technický list'!B146","v":"Q2.23"},{"$f":"'Technický list'!C146","v":4},{"$f":"VLOOKUP(E155,'Technický list'!$AU$124:$BD$168,3,0)","v":"-"},"n.a.",null,{"$f":"VLOOKUP(E155,'Kapitola 2'!$C$6:$D$282,2,0)","v":"Jakým způsobem se sdílejí informace o rizicích látek a přípravků?"}]
[null,null,null,null,{"$f":"'Technický list'!B147","v":"Q2.24"},{"$f":"'Technický list'!C147","v":4},{"$f":"VLOOKUP(E156,'Technický list'!$AU$124:$BD$168,3,0)","v":"-"},"n.a.",null,{"$f":"VLOOKUP(E156,'Kapitola 2'!$C$6:$D$282,2,0)","v":"Jak se sdílejí informace o procesu?"}]
[null,null,null,null,{"$f":"'Technický list'!B148","v":"Q2.25"},{"$f":"'Technický list'!C148","v":3},{"$f":"VLOOKUP(E157,'Technický list'!$AU$124:$BD$168,3,0)","v":"-"},"n.a.",null,{"$f":"VLOOKUP(E157,'Kapitola 2'!$C$6:$D$282,2,0)","v":"Jakým způsobem organizace hodnotí své logistické partnery z hlediska HSE&S, energetické účinnosti a emisí skleníkových plynů?"}]
[null,null,null,null,{"$f":"'Technický list'!B149","v":"Q2.26"},{"$f":"'Technický list'!C149","v":4},{"$f":"VLOOKUP(E158,'Technický list'!$AU$124:$BD$168,3,0)","v":"-"},"n.a.",null,{"$f":"VLOOKUP(E158,'Kapitola 2'!$C$6:$D$282,2,0)","v":"Jakým způsobem organizace zabraňuje a reaguje na dopravní nehody?"}]
[null,null,null,null,{"$f":"'Technický list'!B150","v":"Q2.27"},{"$f":"'Technický list'!C150","v":4},{"$f":"VLOOKUP(E159,'Technický list'!$AU$124:$BD$168,3,0)","v":"-"},"n.a.",null,{"$f":"VLOOKUP(E159,'Kapitola 2'!$C$6:$D$282,2,0)","v":"Jakým způsobem organizace identifikuje bezpečnostní problémy?"}]
[null,null,null,null,{"$f":"'Technický list'!B151","v":"Q2.28"},{"$f":"'Technický list'!C151","v":4},{"$f":"VLOOKUP(E160,'Technický list'!$AU$124:$BD$168,3,0)","v":"-"},"n.a.",null,{"$f":"VLOOKUP(E160,'Kapitola 2'!$C$6:$D$282,2,0)","v":"Jakým způsobem se kontroluje příchod a odchod pracovníků a materiálu na pracovišti a v oblastech s omezeným vstupem?"}]
[null,null,null,null,{"$f":"'Technický list'!B152","v":"Q2.29"},{"$f":"'Technický list'!C152","v":4},{"$f":"VLOOKUP(E161,'Technický list'!$AU$124:$BD$168,3,0)","v":"-"},"n.a.",null,{"$f":"VLOOKUP(E161,'Kapitola 2'!$C$6:$D$282,2,0)","v":"Jakým způsobem se kontroluje kybernetická bezpečnost?"}]
[null,null,null,null,{"$f":"'Technický list'!B153","v":"Q2.30"},{"$f":"'Technický list'!C153","v":4},{"$f":"VLOOKUP(E162,'Technický list'!$AU$124:$BD$168,3,0)","v":"-"},"n.a.",null,{"$f":"VLOOKUP(E162,'Kapitola 2'!$C$6:$D$282,2,0)","v":"Jakým způsobem probíhá komunikace a výměna informací v případě bezpečnostní krize?"}]
[null,null,null,null,{"$f":"'Technický list'!B154","v":"Q2.31"},{"$f":"'Technický list'!C154","v":3},{"$f":"VLOOKUP(E163,'Technický list'!$AU$124:$BD$168,3,0)","v":"-"},"n.a.",null,{"$f":"VLOOKUP(E163,'Kapitola 2'!$C$6:$D$282,2,0)","v":"Jak se organizace vyrovnává s podezřelým chováním (včetně rizik radikalizace = souhlas a podopra extrémních názorů)"}]
[null,null,null,null,{"$f":"'Technický list'!B155","v":"Q2.32"},{"$f":"'Technický list'!C155","v":3},{"$f":"VLOOKUP(E164,'Technický list'!$AU$124:$BD$168,3,0)","v":"-"},"n.a.",null,{"$f":"VLOOKUP(E164,'Kapitola 2'!$C$6:$D$282,2,0)","v":"Jakým způsobem školí organizace pracovníky v oblasti ostrahy ve vazbě na bezpečnostní rizika?  "}]
[null,null,null,null,{"$f":"'Technický list'!B156","v":"Q2.33"},{"$f":"'Technický list'!C156","v":4},{"$f":"VLOOKUP(E165,'Technický list'!$AU$124:$BD$168,3,0)","v":3},{"$f":"IF(G165=\"-\",\"n.a.\",IF(F165-G165>-1,\"v souladu\",\"zvyšte skóre\"))","v":"v souladu"},null,{"$f":"VLOOKUP(E165,'Kapitola 2'!$C$6:$D$282,2,0)","v":"Jakým způsobem se posuzuje potenciální vliv organizace na životní prostředí?"}]
[null,null,null,null,{"$f":"'Technický list'!B157","v":"Q2.34"},{"$f":"'Technický list'!C157","v":4},{"$f":"VLOOKUP(E166,'Technický list'!$AU$124:$BD$168,3,0)","v":4},"v souladu",null,{"$f":"VLOOKUP(E166,'Kapitola 2'!$C$6:$D$282,2,0)","v":"Jakým způsobem se řídí environmentální výkonnost?"}]
[null,null,null,null,{"$f":"'Technický list'!B158","v":"Q2.35"},{"$f":"'Technický list'!C158","v":3},{"$f":"VLOOKUP(E167,'Technický list'!$AU$124:$BD$168,3,0)","v":3},"v souladu",null,{"$f":"VLOOKUP(E167,'Kapitola 2'!$C$6:$D$282,2,0)","v":"Jak organizace nakládá s odpadem?"}]
[null,null,null,null,{"$f":"'Technický list'!B159","v":"Q2.36"},{"$f":"'Technický list'!C159","v":3},{"$f":"VLOOKUP(E168,'Technický list'!$AU$124:$BD$168,3,0)","v":3},"v souladu",null,{"$f":"VLOOKUP(E168,'Kapitola 2'!$C$6:$D$282,2,0)","v":"Jakým způsobem řídí organizace rizika týkající se podzemních vod?"}]
[null,null,null,null,{"$f":"'Technický list'!B160","v":"Q2.37"},{"$f":"'Technický list'!C160","v":3},{"$f":"VLOOKUP(E169,'Technický list'!$AU$124:$BD$168,3,0)","v":3},"v souladu",null,{"$f":"VLOOKUP(E169,'Kapitola 2'!$C$6:$D$282,2,0)","v":"Jakým způsobem řídí organizace rizika týkající se znečištění půdy?"}]
[null,null,null,null,{"$f":"'Technický list'!B161","v":"Q2.38"},{"$f":"'Technický list'!C161","v":4},{"$f":"VLOOKUP(E170,'Technický list'!$AU$124:$BD$168,3,0)","v":3},"v souladu",null,{"$f":"VLOOKUP(E170,'Kapitola 2'!$C$6:$D$282,2,0)","v":"Jakým způsobem řídí organizace existující znečištění půdy?\n"}]
[null,null,null,null,{"$f":"'Technický list'!B162","v":"Q2.39"},{"$f":"'Technický list'!C162","v":3},{"$f":"VLOOKUP(E171,'Technický list'!$AU$124:$BD$168,3,0)","v":3},"v souladu",null,{"$f":"VLOOKUP(E171,'Kapitola 2'!$C$6:$D$282,2,0)","v":"Jakým způsobem organizace řídí své emise škodlivin do ovzduší?"}]
[null,null,null,null,{"$f":"'Technický list'!B163","v":"Q2.40"},{"$f":"'Technický list'!C163","v":4},{"$f":"VLOOKUP(E172,'Technický list'!$AU$124:$BD$168,3,0)","v":3},"v souladu",null,{"$f":"VLOOKUP(E172,'Kapitola 2'!$C$6:$D$282,2,0)","v":"Jakým způsobem organizace řídí své emise škodlivin do vody?"}]
[null,null,null,null,{"$f":"'Technický list'!B164","v":"Q2.41"},{"$f":"'Technický list'!C164","v":3},{"$f":"VLOOKUP(E173,'Technický list'!$AU$124:$BD$168,3,0)","v":3},"v souladu",null,{"$f":"VLOOKUP(E173,'Kapitola 2'!$C$6:$D$282,2,0)","v":"Jakým způsobem organizace řídí své emise hluku?"}]
[null,null,null,null,{"$f":"'Technický list'!B165","v":"Q2.42"},{"$f":"'Technický list'!C165","v":4},{"$f":"VLOOKUP(E174,'Technický list'!$AU$124:$BD$168,3,0)","v":3},"v souladu",null,{"$f":"VLOOKUP(E174,'Kapitola 2'!$C$6:$D$282,2,0)","v":"Jakým způsobem organizace řídí své emise zápachu?"}]
[null,null,null,null,{"$f":"'Technický list'!B166","v":"Q2.43"},{"$f":"'Technický list'!C166","v":4},{"$f":"VLOOKUP(E175,'Technický list'!$AU$124:$BD$168,3,0)","v":3},"v souladu",null,{"$f":"VLOOKUP(E175,'Kapitola 2'!$C$6:$D$282,2,0)","v":"Jakým způsobem organizace zabraňuje a řídí havarijní emise do prostředí?"}]
[null,null,null,null,{"$f":"'Technický list'!B167","v":"Q2.44"},{"$f":"'Technický list'!C167","v":4},{"$f":"VLOOKUP(E176,'Technický list'!$AU$124:$BD$168,3,0)","v":3},"v souladu",null,{"$f":"VLOOKUP(E176,'Kapitola 2'!$C$6:$D$282,2,0)","v":"Jakým způsobem zajišťuje organizace správně kompetence všech pracovníků, týkající se environmentálních požadavků, které souvisejí s jejich pracovní náplní?"}]
[null,null,null,null,{"$f":"'Technický list'!B168","v":"Q2.45"},{"$f":"'Technický list'!C168","v":3},{"$f":"VLOOKUP(E177,'Technický list'!$AU$124:$BD$168,3,0)","v":1},"v souladu",null,{"$f":"VLOOKUP(E177,'Kapitola 2'!$C$6:$D$282,2,0)","v":"Jakým způsobem jsou zainteresované strany organizace informovány o environmentálních aspektech a jejich možných dopadech?"}]
[null,null,null,null,"KAPITOLA 3: Posílení systémů řízení chemických látek"]
[null,null,null,null,{"$f":"'Technický list'!$B$406","v":"Q3.1"},{"$f":"'Technický list'!$C$406","v":3},{"$f":"VLOOKUP(E179,'Technický list'!$AU$406:$BD$418,3,0)","v":"-"},{"$f":"IF(G179=\"-\",\"n.a.\",IF(F179-G179>-1,\"compliant\",\"increase score\"))","v":"n.a."},null,{"$f":"VLOOKUP(E179,'Kapitola 3'!$C$6:$D$89,2,0)","v":"Zavedla organizace proces pro navrhování a vývoj nových \nproduktů a služeb?"}]
[null,null,null,null,{"$f":"'Technický list'!$B$407","v":"Q3.2"},{"$f":"'Technický list'!$C$407","v":2},{"$f":"VLOOKUP(E180,'Technický list'!$AU$406:$BD$418,3,0)","v":"-"},"n.a.",null,{"$f":"VLOOKUP(E180,'Kapitola 3'!$C$6:$D$89,2,0)","v":"Má organizace k dispozici proces hodnocení a stanovení priorit svých produktů pro charakterizaci rizik a řízení rizik?\n\n\n"}]
[null,null,null,null,{"$f":"'Technický list'!$B$408","v":"Q3.3"},{"$f":"'Technický list'!$C$408","v":3},{"$f":"VLOOKUP(E181,'Technický list'!$AU$406:$BD$418,3,0)","v":"-"},"n.a.",null,{"$f":"VLOOKUP(E181,'Kapitola 3'!$C$6:$D$89,2,0)","v":"Zavedla organizace systém pro sledování použitelnosti, změn a dodržování interních a externích požadavků souvisejících s řízením bezpečnosti chemických látek?"}]
[null,null,null,null,{"$f":"'Technický list'!$B$409","v":"Q3.4"},{"$f":"'Technický list'!$C$409","v":2},{"$f":"VLOOKUP(E182,'Technický list'!$AU$406:$BD$418,3,0)","v":"-"},"n.a.",null,{"$f":"VLOOKUP(E182,'Kapitola 3'!$C$6:$D$89,2,0)","v":"Zavedla organizace systém na správu existujících informací o rizicích svých produktů?"}]
[null,null,null,null,{"$f":"'Technický list'!$B$410","v":"Q3.5"},{"$f":"'Technický list'!$C$410","v":2},{"$f":"VLOOKUP(E183,'Technický list'!$AU$406:$BD$418,3,0)","v":"-"},"n.a.",null,{"$f":"VLOOKUP(E183,'Kapitola 3'!$C$6:$D$89,2,0)","v":"Zavedla organizace proces řízení informací o používání a expozici svých produktů?"}]
[null,null,null,null,{"$f":"'Technický list'!$B$411","v":"Q3.6"},{"$f":"'Technický list'!$C$411","v":4},{"$f":"VLOOKUP(E184,'Technický list'!$AU$406:$BD$418,3,0)","v":"-"},"n.a.",null,{"$f":"VLOOKUP(E184,'Kapitola 3'!$C$6:$D$89,2,0)","v":"Zavedla organizace proces na správu nových informací?"}]
[null,null,null,null,{"$f":"'Technický list'!$B$412","v":"Q3.7"},{"$f":"'Technický list'!$C$412","v":3},{"$f":"VLOOKUP(E185,'Technický list'!$AU$406:$BD$418,3,0)","v":"-"},"n.a.",null,{"$f":"VLOOKUP(E185,'Kapitola 3'!$C$6:$D$89,2,0)","v":"Zavedla organizace proces charakterizace rizik na základě shromážděných informací?"}]
[null,null,null,null,{"$f":"'Technický list'!$B$413","v":"Q3.8"},{"$f":"'Technický list'!$C$413","v":4},{"$f":"VLOOKUP(E186,'Technický list'!$AU$406:$BD$418,3,0)","v":"-"},"n.a.",null,{"$f":"VLOOKUP(E186,'Kapitola 3'!$C$6:$D$89,2,0)","v":"Zavedla organizace proces řízení rizik na základě shromážděných informací?"}]
[null,null,null,null,{"$f":"'Technický list'!$B$414","v":"Q3.9"},{"$f":"'Technický list'!$C$414","v":4},{"$f":"VLOOKUP(E187,'Technický list'!$AU$406:$BD$418,3,0)","v":"-"},"n.a.",null,{"$f":"VLOOKUP(E187,'Kapitola 3'!$C$6:$D$89,2,0)","v":"Zavedla organizace účinný proces sledování svých produktů po dodání a provádění nápravných opatření?\n"}]
[null,null,null,null,{"$f":"'Technický list'!$B$415","v":"Q3.10"},{"$f":"'Technický list'!$C$415","v":4},{"$f":"VLOOKUP(E188,'Technický list'!$AU$406:$BD$418,3,0)","v":"-"},"n.a.",null,{"$f":"VLOOKUP(E188,'Kapitola 3'!$C$6:$D$89,2,0)","v":"Poskytuje organizace efektivní komunikaci v rámci dodavatelského řetězce ohledně opatření k řízení rizik, které se vztahují na jejich produkty?"}]
[null,null,null,null,"KAPITOLA 4: Působení na obchodní partnery"]
[null,null,null,null,{"$f":"'Technický list'!B482","v":"Q4.1"},{"$f":"'Technický list'!C482","v":3},{"$f":"VLOOKUP(E190,'Technický list'!$AU$482:$BD$489,3,0)","v":"-"},{"$f":"IF(G190=\"-\",\"n.a.\",IF(F190-G190>-1,\"compliant\",\"increase score\"))","v":"n.a."},null,{"$f":"VLOOKUP(E190,'Kapitola 4'!$C$6:$D$91,2,0)","v":"Jak se organizace zavázala k odpovědnému získávání zdrojů?"}]
[null,null,null,null,{"$f":"'Technický list'!B483","v":"Q4.2"},{"$f":"'Technický list'!C483","v":4},{"$f":"VLOOKUP(E191,'Technický list'!$AU$482:$BD$489,3,0)","v":"-"},{"$f":"IF(G191=\"-\",\"n.a.\",IF(F191-G191>-1,\"compliant\",\"increase score\"))","v":"n.a."},null,{"$f":"VLOOKUP(E191,'Kapitola 4'!$C$6:$D$91,2,0)","v":"Jak organizace zlepšuje spolupráci v dodavatelském řetězci?"}]
[null,null,null,null,{"$f":"'Technický list'!B484","v":"Q4.3"},{"$f":"'Technický list'!C484","v":3},{"$f":"VLOOKUP(E192,'Technický list'!$AU$482:$BD$489,3,0)","v":"-"},"n.a.",null,{"$f":"VLOOKUP(E192,'Kapitola 4'!$C$6:$D$91,2,0)","v":"Jakým způsobem vyjadřuje organizace svůj závazek vůči podnikatelské etice?"}]
[null,null,null,null,{"$f":"'Technický list'!B485","v":"Q4.4"},{"$f":"'Technický list'!C485","v":2},{"$f":"VLOOKUP(E193,'Technický list'!$AU$482:$BD$489,3,0)","v":"-"},"n.a.",null,{"$f":"VLOOKUP(E193,'Kapitola 4'!$C$6:$D$91,2,0)","v":"Jakým způsobem řeší organizace sociální problematiku a lidská práva v rámci spolupráce s obchodními partnery?"}]
[null,null,null,null,{"$f":"'Technický list'!B486","v":"Q4.5"},{"$f":"'Technický list'!C486","v":4},{"$f":"VLOOKUP(E194,'Technický list'!$AU$482:$BD$489,3,0)","v":"-"},"n.a.",null,{"$f":"VLOOKUP(E194,'Kapitola 4'!$C$6:$D$91,2,0)","v":"Jakým způsobem zabraňuje organizace dětské práci?\nOrganizace\n1-\tzavedla systém ověřování věku; \n2-\tnezaměstnává děti mladší 15 let (v závislosti na místní legislativy). Jedinou výjimku představují učni, školní praxe nebo vzdělávací stáže; \n3-\tzaručuje, aby pracovní náplň osob mladších než 18 let neovlivňovala jejich školní docházku (doba strávená dopravou do práce a školy a z práce a školy, školní docházkou a prací je méně než 10 hodin denně );\n4-\tzajišťuje, že pracovní náplň mladých pracovníků není duševně, fyzicky, společensky ani morálně nebezpečná a škodlivá."}]
[null,null,null,null,{"$f":"'Technický list'!B487","v":"Q4.6"},{"$f":"'Technický list'!C487","v":3},{"$f":"VLOOKUP(E195,'Technický list'!$AU$482:$BD$489,3,0)","v":"-"},"n.a.",null,{"$f":"VLOOKUP(E195,'Kapitola 4'!$C$6:$D$91,2,0)","v":"Jakým způsobem zabezpečuje organizace splnění svých požadavků ze strany logistických partnerů?"}]
[null,null,null,null,{"$f":"'Technický list'!B488","v":"Q4.7"},{"$f":"'Technický list'!C488","v":1},{"$f":"VLOOKUP(E196,'Technický list'!$AU$482:$BD$489,3,0)","v":"-"},"n.a.",null,{"$f":"VLOOKUP(E196,'Kapitola 4'!$C$6:$D$91,2,0)","v":"Jakým způsobem organizace chrání a zabezpečuje majetek a údaje následných uživatelů nebo externích poskytovatelů, které se používají nebo začleňují do produktů a služeb?"}]
[null,null,null,null,{"$f":"'Technický list'!B489","v":"Q4.8"},{"$f":"'Technický list'!C489","v":4},{"$f":"VLOOKUP(E197,'Technický list'!$AU$482:$BD$489,3,0)","v":"-"},"n.a.",null,{"$f":"VLOOKUP(E197,'Kapitola 4'!$C$6:$D$91,2,0)","v":"Co zahrnuje dialog s následnými uživateli?"}]
[null,null,null,null,"KAPITOLA 5: Zapojení zainteresovaných stran"]
[null,null,null,null,{"$f":"'Technický list'!B544","v":"Q5.1"},{"$f":"'Technický list'!C544","v":3},{"$f":"VLOOKUP(E199,'Technický list'!$AU$544:$BD$548,3,0)","v":3},{"$f":"IF(G199=\"-\",\"n.a.\",IF(F199-G199>-1,\"v souladu\",\"zvyšte skóre\"))","v":"v souladu"},null,{"$f":"VLOOKUP(E199,'Kapitola 5'!$C$6:$D$89,2,0)","v":"Jakým způsobem zapojuje organizace své externí zainteresované strany a naplňuje jejich očekávání?"}]
[null,null,null,null,{"$f":"'Technický list'!B545","v":"Q5.2"},{"$f":"'Technický list'!C545","v":4},{"$f":"VLOOKUP(E200,'Technický list'!$AU$544:$BD$548,3,0)","v":"-"},{"$f":"IF(G200=\"-\",\"n.a.\",IF(F200-G200>-1,\"compliant\",\"increase score\"))","v":"n.a."},null,{"$f":"VLOOKUP(E200,'Kapitola 5'!$C$6:$D$89,2,0)","v":"Jakým způsobem vede organizace dialog s veřejností, úřady a dalšími zainteresovanými stranami, včetně místních komunit a zákazníků v souvislosti s HSE&S v rámci jejich činností, produktů a služeb?"}]
[null,null,null,null,{"$f":"'Technický list'!B546","v":"Q5.3"},{"$f":"'Technický list'!C546","v":2},{"$f":"VLOOKUP(E201,'Technický list'!$AU$544:$BD$548,3,0)","v":"-"},"n.a.",null,{"$f":"VLOOKUP(E201,'Kapitola 5'!$C$6:$D$89,2,0)","v":"Jakým způsobem zveřejňuje organizace informace týkající se\n HSE&S?"}]
[null,null,null,null,{"$f":"'Technický list'!B547","v":"Q5.4"},{"$f":"'Technický list'!C547","v":2},{"$f":"VLOOKUP(E202,'Technický list'!$AU$544:$BD$548,3,0)","v":"-"},"n.a.",null,{"$f":"VLOOKUP(E202,'Kapitola 5'!$C$6:$D$89,2,0)","v":"Jakým způsobem podporuje organizace místní komunity?"}]
[null,null,null,null,{"$f":"'Technický list'!B548","v":"Q5.5"},{"$f":"'Technický list'!C548","v":3},{"$f":"VLOOKUP(E203,'Technický list'!$AU$544:$BD$548,3,0)","v":"-"},"n.a.",null,{"$f":"VLOOKUP(E203,'Kapitola 5'!$C$6:$D$89,2,0)","v":"Jakým způsobem stimuluje organizace místní zaměstnanost a vzdělávání?"}]
[null,null,null,null,"KAPITOLA 6: Přispívání k udržitelnosti"]
[null,null,null,null,{"$f":"'Technický list'!B584","v":"Q6.1"},{"$f":"'Technický list'!C584","v":2},{"$f":"VLOOKUP(E205,'Technický list'!$AU$584:$BD$600,3,0)","v":"-"},{"$f":"IF(G205=\"-\",\"n.a.\",IF(F205-G205>-1,\"compliant\",\"increase score\"))","v":"n.a."},null,{"$f":"VLOOKUP(E205,'Kapitola 6'!$C$6:$D$120,2,0)","v":"Jakým způsobem definuje organizace významné problémy a závažnost?"}]
[null,null,null,null,{"$f":"'Technický list'!B585","v":"Q6.2"},{"$f":"'Technický list'!C585","v":2},{"$f":"VLOOKUP(E206,'Technický list'!$AU$584:$BD$600,3,0)","v":"-"},{"$f":"IF(G206=\"-\",\"n.a.\",IF(F206-G206>-1,\"compliant\",\"increase score\"))","v":"n.a."},null,{"$f":"VLOOKUP(E206,'Kapitola 6'!$C$6:$D$120,2,0)","v":"Jakým způsobem hodlá organizace přispívat k udržitelnému rozvoji?"}]
[null,null,null,null,{"$f":"'Technický list'!B586","v":"Q6.3"},{"$f":"'Technický list'!C586","v":3},{"$f":"VLOOKUP(E207,'Technický list'!$AU$584:$BD$600,3,0)","v":"-"},"n.a.",null,{"$f":"VLOOKUP(E207,'Kapitola 6'!$C$6:$D$120,2,0)","v":"Jakým způsobem komunikuje organizace zainteresovaných stran na téma udržitelnosti?"}]
[null,null,null,null,{"$f":"'Technický list'!B587","v":"Q6.4"},{"$f":"'Technický list'!C587","v":2},{"$f":"VLOOKUP(E208,'Technický list'!$AU$584:$BD$600,3,0)","v":"-"},"n.a.",null,{"$f":"VLOOKUP(E208,'Kapitola 6'!$C$6:$D$120,2,0)","v":"Má organizace zavedený proces navrhování výrobků s lepšími výsledky udržitelnosti?"}]
[null,null,null,null,{"$f":"'Technický list'!B588","v":"Q6.5"},{"$f":"'Technický list'!C588","v":2},{"$f":"VLOOKUP(E209,'Technický list'!$AU$584:$BD$600,3,0)","v":"-"},"n.a.",null,{"$f":"VLOOKUP(E209,'Kapitola 6'!$C$6:$D$120,2,0)","v":"Jakým způsobem zvyšuje organizace efektivnost zdrojů ve svých výrobních procesech?"}]
[null,null,null,null,{"$f":"'Technický list'!B589","v":"Q6.6"},{"$f":"'Technický list'!C589","v":1},{"$f":"VLOOKUP(E210,'Technický list'!$AU$584:$BD$600,3,0)","v":"-"},"n.a.",null,{"$f":"VLOOKUP(E210,'Kapitola 6'!$C$6:$D$120,2,0)","v":"Jakým způsobem stimuluje organizace oběhové hospodářství prostřednictvím svých produktů?"}]
[null,null,null,null,{"$f":"'Technický list'!B590","v":"Q6.7"},{"$f":"'Technický list'!C590","v":3},{"$f":"VLOOKUP(E211,'Technický list'!$AU$584:$BD$600,3,0)","v":"-"},"n.a.",null,{"$f":"VLOOKUP(E211,'Kapitola 6'!$C$6:$D$120,2,0)","v":"Jakým způsobem podporuje organizace inovace při vývoji produktů a řešení, které odpovídají výzvám udržitelnosti?"}]
[null,null,null,null,{"$f":"'Technický list'!B591","v":"Q6.8"},{"$f":"'Technický list'!C591","v":3},{"$f":"VLOOKUP(E212,'Technický list'!$AU$584:$BD$600,3,0)","v":"-"},"n.a.",null,{"$f":"VLOOKUP(E212,'Kapitola 6'!$C$6:$D$120,2,0)","v":"Jakým způsobem stimuluje organizace inovaci a spolupráci?"}]
[null,null,null,null,{"$f":"'Technický list'!B592","v":"Q6.9"},{"$f":"'Technický list'!C592","v":1},{"$f":"VLOOKUP(E213,'Technický list'!$AU$584:$BD$600,3,0)","v":"-"},"n.a.",null,{"$f":"VLOOKUP(E213,'Kapitola 6'!$C$6:$D$120,2,0)","v":"Jakým způsobem podporuje organizace udržitelné způsoby spotřeby?"}]
[null,null,null,null,{"$f":"'Technický list'!B593","v":"Q6.10"},{"$f":"'Technický list'!C593","v":2},{"$f":"VLOOKUP(E214,'Technický list'!$AU$584:$BD$600,3,0)","v":"-"},"n.a.",null,{"$f":"VLOOKUP(E214,'Kapitola 6'!$C$6:$D$120,2,0)","v":"Jakým způsobem organizace kontroluje a optimalizuje spotřebu vody?"}]
[null,null,null,null,{"$f":"'Technický list'!B594","v":"Q6.11"},{"$f":"'Technický list'!C594","v":3},{"$f":"VLOOKUP(E215,'Technický list'!$AU$584:$BD$600,3,0)","v":"-"},"n.a.",null,{"$f":"VLOOKUP(E215,'Kapitola 6'!$C$6:$D$120,2,0)","v":"Jakým způsobem se řídí vliv organizace na biodiverzitu a ekosystém?"}]
[null,null,null,null,{"$f":"'Technický list'!B595","v":"Q6.12"},{"$f":"'Technický list'!C595","v":1},{"$f":"VLOOKUP(E216,'Technický list'!$AU$584:$BD$600,3,0)","v":"-"},"n.a.",null,{"$f":"VLOOKUP(E216,'Kapitola 6'!$C$6:$D$120,2,0)","v":"Jakým způsobem posuzuje organizace svou závislost na přírodních zdrojích (ekosystémech)?"}]
[null,null,null,null,{"$f":"'Technický list'!B596","v":"Q6.13"},{"$f":"'Technický list'!C596","v":2},{"$f":"VLOOKUP(E217,'Technický list'!$AU$584:$BD$600,3,0)","v":"-"},"n.a.",null,{"$f":"VLOOKUP(E217,'Kapitola 6'!$C$6:$D$120,2,0)","v":"Jakým způsobem řídí organizace svou spotřebu energie?"}]
[null,null,null,null,{"$f":"'Technický list'!B597","v":"Q6.14"},{"$f":"'Technický list'!C597","v":3},{"$f":"VLOOKUP(E218,'Technický list'!$AU$584:$BD$600,3,0)","v":"-"},"n.a.",null,{"$f":"VLOOKUP(E218,'Kapitola 6'!$C$6:$D$120,2,0)","v":"Jakým způsobem řídí organizace emise skleníkových plynů (kromě úspor energie)?"}]
[null,null,null,null,{"$f":"'Technický list'!B598","v":"Q6.15"},{"$f":"'Technický list'!C598","v":2},{"$f":"VLOOKUP(E219,'Technický list'!$AU$584:$BD$600,3,0)","v":"-"},"n.a.",null,{"$f":"VLOOKUP(E219,'Kapitola 6'!$C$6:$D$120,2,0)","v":"Jaká je strategie organizace na snižování emisí skleníkových plynů?"}]
[null,null,null,null,{"$f":"'Technický list'!B599","v":"Q6.16"},{"$f":"'Technický list'!C599","v":2},{"$f":"VLOOKUP(E220,'Technický list'!$AU$584:$BD$600,3,0)","v":3},{"$f":"IF(G220=\"-\",\"n.a.\",IF(F220-G220>-1,\"v souladu\",\"zvyšte skóre\"))","v":"zvyšte skóre"},null,{"$f":"VLOOKUP(E220,'Kapitola 6'!$C$6:$D$120,2,0)","v":"Jakým způsobem se organizace připravuje na klimatické změny? "}]
[null,null,null,null,{"$f":"'Technický list'!B600","v":"Q6.17"},{"$f":"'Technický list'!C600","v":3},{"$f":"VLOOKUP(E221,'Technický list'!$AU$584:$BD$600,3,0)","v":"-"},"n.a.",null,{"$f":"VLOOKUP(E221,'Kapitola 6'!$C$6:$D$120,2,0)","v":"Jak organizace zajišťuje rovné příležitosti při náboru a během kariéry všech?"}]
[]
[null,null,"Zpráva o úrovni přizpůsobení zásad ISO 26000"]
[null,null,null,null,null,"Vaše skóre ","Minimální skóre pro ISO 26000"]
[null,null,null,null,"KAPITOLA 1: Podniková kultura vedení "]
[null,null,null,null,{"$f":"'Technický list'!B10","v":"Q1.1"},{"$f":"'Technický list'!C10","v":4},{"$f":"VLOOKUP(E226,'Technický list'!$AU$10:$BD$25,4,0)","v":3},{"$f":"IF(G226=\"-\",\"n.a.\",IF(F226-G226>-1,\"v souladu\",\"zvyšte skóre\"))","v":"v souladu"},null,{"$f":"VLOOKUP(E226,'Kapitola 1'!$C$6:$D$112,2,0)","v":"Jak se projevuje závazek plnit povinnosti týkající se dodržování předpisů a zásad Responsible Care = RC (tj. ochrana a podpora zdraví a bezpečnost lidí, životního prostředí a udržitelnosti) na všech úrovních organizace?\n"}]
[null,null,null,null,{"$f":"'Technický list'!B11","v":"Q1.2"},{"$f":"'Technický list'!C11","v":4},{"$f":"VLOOKUP(E227,'Technický list'!$AU$10:$BD$25,4,0)","v":"-"},{"$f":"IF(G227=\"-\",\"n.a.\",IF(F227-G227>-1,\"compliant\",\"increase score\"))","v":"n.a."},null,{"$f":"VLOOKUP(E227,'Kapitola 1'!$C$6:$D$112,2,0)","v":"Jakým způsobem řídí organizace příslušná rizika a příležitosti?  "}]
[null,null,null,null,{"$f":"'Technický list'!B12","v":"Q1.3"},{"$f":"'Technický list'!C12","v":4},{"$f":"VLOOKUP(E228,'Technický list'!$AU$10:$BD$25,4,0)","v":2},{"$f":"IF(G228=\"-\",\"n.a.\",IF(F228-G228>-1,\"v souladu\",\"zvyšte skóre\"))","v":"v souladu"},null,{"$f":"VLOOKUP(E228,'Kapitola 1'!$C$6:$D$112,2,0)","v":"Jakým způsobem monitoruje organizace svoje zákonné povinnosti? "}]
[null,null,null,null,{"$f":"'Technický list'!B13","v":"Q1.4"},{"$f":"'Technický list'!C13","v":3},{"$f":"VLOOKUP(E229,'Technický list'!$AU$10:$BD$25,4,0)","v":4},{"$f":"IF(G229=\"-\",\"n.a.\",IF(F229-G229>-1,\"v souladu\",\"zvyšte skóre\"))","v":"zvyšte skóre"},null,{"$f":"VLOOKUP(E229,'Kapitola 1'!$C$6:$D$112,2,0)","v":"Jakým způsobem top management zajišťuje, že jednotlivé aspekty HSE&S (zdraví, bezpečnosti, ochrany životního prostředí & udržitelnosti) jsou přiřazeny stanoveným rolím v organizaci?"}]
[null,null,null,null,{"$f":"'Technický list'!B14","v":"Q1.5"},{"$f":"'Technický list'!C14","v":3},{"$f":"VLOOKUP(E230,'Technický list'!$AU$10:$BD$25,4,0)","v":3},{"$f":"IF(G230=\"-\",\"n.a.\",IF(F230-G230>-1,\"v souladu\",\"zvyšte skóre\"))","v":"v souladu"},null,{"$f":"VLOOKUP(E230,'Kapitola 1'!$C$6:$D$112,2,0)","v":"Jakým způsobem se top management podílí na řešení záležitostí HSE&S?"}]
[null,null,null,null,{"$f":"'Technický list'!B15","v":"Q1.6"},{"$f":"'Technický list'!C15","v":3},{"$f":"VLOOKUP(E231,'Technický list'!$AU$10:$BD$25,4,0)","v":"-"},"n.a.",null,{"$f":"VLOOKUP(E231,'Kapitola 1'!$C$6:$D$112,2,0)","v":"Jakým způsobem jsou odpovědnosti HSE&S začleněny do popisů pracovní náplně nebo ročních cílů?\n"}]
[null,null,null,null,{"$f":"'Technický list'!B16","v":"Q1.7"},{"$f":"'Technický list'!C16","v":3},{"$f":"VLOOKUP(E232,'Technický list'!$AU$10:$BD$25,4,0)","v":"-"},"n.a.",null,{"$f":"VLOOKUP(E232,'Kapitola 1'!$C$6:$D$112,2,0)","v":"Jakým způsobem se řídí (nejdůležitější) procesy v souvislosti s HSE&S?"}]
[null,null,null,null,{"$f":"'Technický list'!B17","v":"Q1.8"},{"$f":"'Technický list'!C17","v":3},{"$f":"VLOOKUP(E233,'Technický list'!$AU$10:$BD$25,4,0)","v":"-"},"n.a.",null,{"$f":"VLOOKUP(E233,'Kapitola 1'!$C$6:$D$112,2,0)","v":"Jakým způsobem top management zajišťuje neustálé zlepšování výkonu v oblasti HSE&S (zdraví, bezpečnosti, životního prostředí, energetiky a udržitelnosti)?"}]
[null,null,null,null,{"$f":"'Technický list'!B18","v":"Q1.9"},{"$f":"'Technický list'!C18","v":4},{"$f":"VLOOKUP(E234,'Technický list'!$AU$10:$BD$25,4,0)","v":"-"},"n.a.",null,{"$f":"VLOOKUP(E234,'Kapitola 1'!$C$6:$D$112,2,0)","v":"Jak jsou organizovány interní audity?"}]
[null,null,null,null,{"$f":"'Technický list'!B19","v":"Q1.10"},{"$f":"'Technický list'!C19","v":4},{"$f":"VLOOKUP(E235,'Technický list'!$AU$10:$BD$25,4,0)","v":"-"},"n.a.",null,{"$f":"VLOOKUP(E235,'Kapitola 1'!$C$6:$D$112,2,0)","v":"Jakým způsobem probíhá vyšetřování?"}]
[null,null,null,null,{"$f":"'Technický list'!B20","v":"Q1.11"},{"$f":"'Technický list'!C20","v":3},{"$f":"VLOOKUP(E236,'Technický list'!$AU$10:$BD$25,4,0)","v":"-"},"n.a.",null,{"$f":"VLOOKUP(E236,'Kapitola 1'!$C$6:$D$112,2,0)","v":"Jakým způsobem organizace zajišťuje procesy, čas a zdroje potřebné pro zlepšování procesů řízení HSE&S?"}]
[null,null,null,null,{"$f":"'Technický list'!B21","v":"Q1.12"},{"$f":"'Technický list'!C21","v":3},{"$f":"VLOOKUP(E237,'Technický list'!$AU$10:$BD$25,4,0)","v":"-"},"n.a.",null,{"$f":"VLOOKUP(E237,'Kapitola 1'!$C$6:$D$112,2,0)","v":"Jak organizace zajišťuje, že zaměstnanci jsou si vědomi politik a procesů týkajících se zdraví, bezpečnosti, životního prostředí, energetiky a udržitelnosti?"}]
[null,null,null,null,{"$f":"'Technický list'!B22","v":"Q1.13"},{"$f":"'Technický list'!C22","v":3},{"$f":"VLOOKUP(E238,'Technický list'!$AU$10:$BD$25,4,0)","v":"-"},"n.a.",null,{"$f":"VLOOKUP(E238,'Kapitola 1'!$C$6:$D$112,2,0)","v":"Jakým způsobem organizace zajišťuje správné kompetence pracovníků, pokud jde o aspekty HSE&S týkající se jejich práce?"}]
[null,null,null,null,{"$f":"'Technický list'!B23","v":"Q1.14"},{"$f":"'Technický list'!C23","v":3},{"$f":"VLOOKUP(E239,'Technický list'!$AU$10:$BD$25,4,0)","v":"-"},"n.a.",null,{"$f":"VLOOKUP(E239,'Kapitola 1'!$C$6:$D$112,2,0)","v":"Jaká je struktura zapojení zaměstnanců?"}]
[null,null,null,null,{"$f":"'Technický list'!B24","v":"Q1.15"},{"$f":"'Technický list'!C24","v":3},{"$f":"VLOOKUP(E240,'Technický list'!$AU$10:$BD$25,4,0)","v":"-"},"n.a.",null,{"$f":"VLOOKUP(E240,'Kapitola 1'!$C$6:$D$112,2,0)","v":"Jakým způsobem se řídí dokumentace HSE&S?"}]
[null,null,null,null,{"$f":"'Technický list'!B25","v":"Q1.16"},{"$f":"'Technický list'!C25","v":3},{"$f":"VLOOKUP(E241,'Technický list'!$AU$10:$BD$25,4,0)","v":"-"},"n.a.",null,{"$f":"VLOOKUP(E241,'Kapitola 1'!$C$6:$D$112,2,0)","v":"Jakým způsobem jsou řízeny změny potenciálně ovlivňující HSE&S (zdraví, bezpečnost, životní prostředí, energetiku a udržitelnost)?"}]
[null,null,null,null,"KAPITOLA 2: Ochrana lidí a životního prostředí"]
[null,null,null,null,{"$f":"'Technický list'!B124","v":"Q2.1"},{"$f":"'Technický list'!C124","v":3},{"$f":"VLOOKUP(E243,'Technický list'!$AU$124:$BD$168,4,0)","v":"-"},"n.a.",null,{"$f":"VLOOKUP(E243,'Kapitola 2'!$C$6:$D$282,2,0)","v":"Jak se management zavázal k ochraně zdraví a bezpečnosti při práci (dále jen \"BOZP\")?"}]
[null,null,null,null,{"$f":"'Technický list'!B125","v":"Q2.2"},{"$f":"'Technický list'!C125","v":4},{"$f":"VLOOKUP(E244,'Technický list'!$AU$124:$BD$168,4,0)","v":"-"},{"$f":"IF(G244=\"-\",\"n.a.\",IF(F244-G244>-1,\"compliant\",\"increase score\"))","v":"n.a."},null,{"$f":"VLOOKUP(E244,'Kapitola 2'!$C$6:$D$282,2,0)","v":"Jakým způsobem se určují rizika a expozice v souvislosti s BOZP?"}]
[null,null,null,null,{"$f":"'Technický list'!B126","v":"Q2.3"},{"$f":"'Technický list'!C126","v":3},{"$f":"VLOOKUP(E245,'Technický list'!$AU$124:$BD$168,4,0)","v":"-"},"n.a.",null,{"$f":"VLOOKUP(E245,'Kapitola 2'!$C$6:$D$282,2,0)","v":"Jakým způsobem se posuzují zdravotní požadavky?"}]
[null,null,null,null,{"$f":"'Technický list'!B127","v":"Q2.4"},{"$f":"'Technický list'!C127","v":4},{"$f":"VLOOKUP(E246,'Technický list'!$AU$124:$BD$168,4,0)","v":"-"},"n.a.",null,{"$f":"VLOOKUP(E246,'Kapitola 2'!$C$6:$D$282,2,0)","v":"Jakým způsobem zlepšuje organizace BOZP?"}]
[null,null,null,null,{"$f":"'Technický list'!B128","v":"Q2.5"},{"$f":"'Technický list'!C128","v":2},{"$f":"VLOOKUP(E247,'Technický list'!$AU$124:$BD$168,4,0)","v":"-"},"n.a.",null,{"$f":"VLOOKUP(E247,'Kapitola 2'!$C$6:$D$282,2,0)","v":"Jakým způsobem probíhá údržba a udržování pořádku s cílem zajistit bezpečnost provozů, zařízení, nástrojů a (bezpečnostních) pomůcek?"}]
[null,null,null,null,{"$f":"'Technický list'!B129","v":"Q2.6"},{"$f":"'Technický list'!C129","v":3},{"$f":"VLOOKUP(E248,'Technický list'!$AU$124:$BD$168,4,0)","v":"-"},"n.a.",null,{"$f":"VLOOKUP(E248,'Kapitola 2'!$C$6:$D$282,2,0)","v":"Jak se ověřuje správný výběr, údržba a používání zdravotního a bezpečnostního vybavení (např. osobních ochranných prostředků = OOPP)?"}]
[null,null,null,null,{"$f":"'Technický list'!B130","v":"Q2.7"},{"$f":"'Technický list'!C130","v":2},{"$f":"VLOOKUP(E249,'Technický list'!$AU$124:$BD$168,4,0)","v":4},{"$f":"IF(G249=\"-\",\"n.a.\",IF(F249-G249>-1,\"v souladu\",\"zvyšte skóre\"))","v":"zvyšte skóre"},null,{"$f":"VLOOKUP(E249,'Kapitola 2'!$C$6:$D$282,2,0)","v":"Jak se organizace stará o stres a tělesné a duševní zdraví zaměstnanců?"}]
[null,null,null,null,{"$f":"'Technický list'!B131","v":"Q2.8"},{"$f":"'Technický list'!C131","v":3},{"$f":"VLOOKUP(E250,'Technický list'!$AU$124:$BD$168,4,0)","v":3},{"$f":"IF(G250=\"-\",\"n.a.\",IF(F250-G250>-1,\"v souladu\",\"zvyšte skóre\"))","v":"v souladu"},null,{"$f":"VLOOKUP(E250,'Kapitola 2'!$C$6:$D$282,2,0)","v":"Jakým způsobem se vyšetřují onemocnění, zranění, incidenty a potenciálně nebezpečné situace na pracovišti?"}]
[null,null,null,null,{"$f":"'Technický list'!B132","v":"Q2.9"},{"$f":"'Technický list'!C132","v":4},{"$f":"VLOOKUP(E251,'Technický list'!$AU$124:$BD$168,4,0)","v":3},{"$f":"IF(G251=\"-\",\"n.a.\",IF(F251-G251>-1,\"v souladu\",\"zvyšte skóre\"))","v":"v souladu"},null,{"$f":"VLOOKUP(E251,'Kapitola 2'!$C$6:$D$282,2,0)","v":"Jak je organizace připravena na mimořádné události?"}]
[null,null,null,null,{"$f":"'Technický list'!B133","v":"Q2.10"},{"$f":"'Technický list'!C133","v":3},{"$f":"VLOOKUP(E252,'Technický list'!$AU$124:$BD$168,4,0)","v":3},{"$f":"IF(G252=\"-\",\"n.a.\",IF(F252-G252>-1,\"v souladu\",\"zvyšte skóre\"))","v":"v souladu"},null,{"$f":"VLOOKUP(E252,'Kapitola 2'!$C$6:$D$282,2,0)","v":"Jakým způsobem zajišťuje organizace správně kompetence všech pracovníků, týkající se požadavků BOZP, které souvisí s jejich pracovní náplní?"}]
[null,null,null,null,{"$f":"'Technický list'!B134","v":"Q2.11"},{"$f":"'Technický list'!C134","v":3},{"$f":"VLOOKUP(E253,'Technický list'!$AU$124:$BD$168,4,0)","v":"-"},"n.a.",null,{"$f":"VLOOKUP(E253,'Kapitola 2'!$C$6:$D$282,2,0)","v":"Jakým způsobem se vedení staví k procesní bezpečnosti?\n\n"}]
[null,null,null,null,{"$f":"'Technický list'!B135","v":"Q2.12"},{"$f":"'Technický list'!C135","v":4},{"$f":"VLOOKUP(E254,'Technický list'!$AU$124:$BD$168,4,0)","v":"-"},"n.a.",null,{"$f":"VLOOKUP(E254,'Kapitola 2'!$C$6:$D$282,2,0)","v":"Jakým způsobem je vypracována identifikace a popis bezpečnosti procesů, zařízení a pracovišť organizace?"}]
[null,null,null,null,{"$f":"'Technický list'!B136","v":"Q2.13"},{"$f":"'Technický list'!C136","v":3},{"$f":"VLOOKUP(E255,'Technický list'!$AU$124:$BD$168,4,0)","v":"-"},"n.a.",null,{"$f":"VLOOKUP(E255,'Kapitola 2'!$C$6:$D$282,2,0)","v":"Jakým způsobem se zlepšuje procesní bezpečnost po nehodách a incidentech?"}]
[null,null,null,null,{"$f":"'Technický list'!B137","v":"Q2.14"},{"$f":"'Technický list'!C137","v":1},{"$f":"VLOOKUP(E256,'Technický list'!$AU$124:$BD$168,4,0)","v":"-"},"n.a.",null,{"$f":"VLOOKUP(E256,'Kapitola 2'!$C$6:$D$282,2,0)","v":"Jakým způsobem se provádějí audity a inspekce procesní bezpečnosti?"}]
[null,null,null,null,{"$f":"'Technický list'!B138","v":"Q2.15"},{"$f":"'Technický list'!C138","v":3},{"$f":"VLOOKUP(E257,'Technický list'!$AU$124:$BD$168,4,0)","v":"-"},"n.a.",null,{"$f":"VLOOKUP(E257,'Kapitola 2'!$C$6:$D$282,2,0)","v":"Jakým způsobem se prověřují a zlepšují pracovní pokyny?"}]
[null,null,null,null,{"$f":"'Technický list'!B139","v":"Q2.16"},{"$f":"'Technický list'!C139","v":4},{"$f":"VLOOKUP(E258,'Technický list'!$AU$124:$BD$168,4,0)","v":"-"},"n.a.",null,{"$f":"VLOOKUP(E258,'Kapitola 2'!$C$6:$D$282,2,0)","v":"Jak je navrhována a dokumnetována instalace nových zařízení?"}]
[null,null,null,null,{"$f":"'Technický list'!B140","v":"Q2.17"},{"$f":"'Technický list'!C140","v":4},{"$f":"VLOOKUP(E259,'Technický list'!$AU$124:$BD$168,4,0)","v":"-"},"n.a.",null,{"$f":"VLOOKUP(E259,'Kapitola 2'!$C$6:$D$282,2,0)","v":"Jakým způsobem probíhá kontrola zřizování instalace?"}]
[null,null,null,null,{"$f":"'Technický list'!B141","v":"Q2.18"},{"$f":"'Technický list'!C141","v":3},{"$f":"VLOOKUP(E260,'Technický list'!$AU$124:$BD$168,4,0)","v":"-"},"n.a.",null,{"$f":"VLOOKUP(E260,'Kapitola 2'!$C$6:$D$282,2,0)","v":"Jakým způsobem je zaručena ochrana zařízení, aby jediná chyba neměla katastrofické následky?"}]
[null,null,null,null,{"$f":"'Technický list'!B142","v":"Q2.19"},{"$f":"'Technický list'!C142","v":3},{"$f":"VLOOKUP(E261,'Technický list'!$AU$124:$BD$168,4,0)","v":"-"},"n.a.",null,{"$f":"VLOOKUP(E261,'Kapitola 2'!$C$6:$D$282,2,0)","v":"Byly zřízeny programy preventivní údržby a péče, které zaručují bezpečnost provozů, nástrojů a zařízení?"}]
[null,null,null,null,{"$f":"'Technický list'!B143","v":"Q2.20"},{"$f":"'Technický list'!C143","v":4},{"$f":"VLOOKUP(E262,'Technický list'!$AU$124:$BD$168,4,0)","v":"-"},"n.a.",null,{"$f":"VLOOKUP(E262,'Kapitola 2'!$C$6:$D$282,2,0)","v":"Jakým způsobem se řídí procesy během mimořádných událostí v případě přerušení dodávky energie nebo služeb?"}]
[null,null,null,null,{"$f":"'Technický list'!B144","v":"Q2.21"},{"$f":"'Technický list'!C144","v":3},{"$f":"VLOOKUP(E263,'Technický list'!$AU$124:$BD$168,4,0)","v":3},{"$f":"IF(G263=\"-\",\"n.a.\",IF(F263-G263>-1,\"v souladu\",\"zvyšte skóre\"))","v":"v souladu"},null,{"$f":"VLOOKUP(E263,'Kapitola 2'!$C$6:$D$282,2,0)","v":"Jak se připravují havarijní plány?"}]
[null,null,null,null,{"$f":"'Technický list'!B145","v":"Q2.22"},{"$f":"'Technický list'!C145","v":2},{"$f":"VLOOKUP(E264,'Technický list'!$AU$124:$BD$168,4,0)","v":"-"},"n.a.",null,{"$f":"VLOOKUP(E264,'Kapitola 2'!$C$6:$D$282,2,0)","v":"Jakým způsobem jsou zabezpečeny kompetence a školení zaměstnanců a dodavatelů zapojených do procesů?"}]
[null,null,null,null,{"$f":"'Technický list'!B146","v":"Q2.23"},{"$f":"'Technický list'!C146","v":4},{"$f":"VLOOKUP(E265,'Technický list'!$AU$124:$BD$168,4,0)","v":"-"},"n.a.",null,{"$f":"VLOOKUP(E265,'Kapitola 2'!$C$6:$D$282,2,0)","v":"Jakým způsobem se sdílejí informace o rizicích látek a přípravků?"}]
[null,null,null,null,{"$f":"'Technický list'!B147","v":"Q2.24"},{"$f":"'Technický list'!C147","v":4},{"$f":"VLOOKUP(E266,'Technický list'!$AU$124:$BD$168,4,0)","v":"-"},"n.a.",null,{"$f":"VLOOKUP(E266,'Kapitola 2'!$C$6:$D$282,2,0)","v":"Jak se sdílejí informace o procesu?"}]
[null,null,null,null,{"$f":"'Technický list'!B148","v":"Q2.25"},{"$f":"'Technický list'!C148","v":3},{"$f":"VLOOKUP(E267,'Technický list'!$AU$124:$BD$168,4,0)","v":"-"},"n.a.",null,{"$f":"VLOOKUP(E267,'Kapitola 2'!$C$6:$D$282,2,0)","v":"Jakým způsobem organizace hodnotí své logistické partnery z hlediska HSE&S, energetické účinnosti a emisí skleníkových plynů?"}]
[null,null,null,null,{"$f":"'Technický list'!B149","v":"Q2.26"},{"$f":"'Technický list'!C149","v":4},{"$f":"VLOOKUP(E268,'Technický list'!$AU$124:$BD$168,4,0)","v":"-"},"n.a.",null,{"$f":"VLOOKUP(E268,'Kapitola 2'!$C$6:$D$282,2,0)","v":"Jakým způsobem organizace zabraňuje a reaguje na dopravní nehody?"}]
[null,null,null,null,{"$f":"'Technický list'!B150","v":"Q2.27"},{"$f":"'Technický list'!C150","v":4},{"$f":"VLOOKUP(E269,'Technický list'!$AU$124:$BD$168,4,0)","v":"-"},"n.a.",null,{"$f":"VLOOKUP(E269,'Kapitola 2'!$C$6:$D$282,2,0)","v":"Jakým způsobem organizace identifikuje bezpečnostní problémy?"}]
[null,null,null,null,{"$f":"'Technický list'!B151","v":"Q2.28"},{"$f":"'Technický list'!C151","v":4},{"$f":"VLOOKUP(E270,'Technický list'!$AU$124:$BD$168,4,0)","v":"-"},"n.a.",null,{"$f":"VLOOKUP(E270,'Kapitola 2'!$C$6:$D$282,2,0)","v":"Jakým způsobem se kontroluje příchod a odchod pracovníků a materiálu na pracovišti a v oblastech s omezeným vstupem?"}]
[null,null,null,null,{"$f":"'Technický list'!B152","v":"Q2.29"},{"$f":"'Technický list'!C152","v":4},{"$f":"VLOOKUP(E271,'Technický list'!$AU$124:$BD$168,4,0)","v":"-"},"n.a.",null,{"$f":"VLOOKUP(E271,'Kapitola 2'!$C$6:$D$282,2,0)","v":"Jakým způsobem se kontroluje kybernetická bezpečnost?"}]
[null,null,null,null,{"$f":"'Technický list'!B153","v":"Q2.30"},{"$f":"'Technický list'!C153","v":4},{"$f":"VLOOKUP(E272,'Technický list'!$AU$124:$BD$168,4,0)","v":"-"},"n.a.",null,{"$f":"VLOOKUP(E272,'Kapitola 2'!$C$6:$D$282,2,0)","v":"Jakým způsobem probíhá komunikace a výměna informací v případě bezpečnostní krize?"}]
[null,null,null,null,{"$f":"'Technický list'!B154","v":"Q2.31"},{"$f":"'Technický list'!C154","v":3},{"$f":"VLOOKUP(E273,'Technický list'!$AU$124:$BD$168,4,0)","v":"-"},"n.a.",null,{"$f":"VLOOKUP(E273,'Kapitola 2'!$C$6:$D$282,2,0)","v":"Jak se organizace vyrovnává s podezřelým chováním (včetně rizik radikalizace = souhlas a podopra extrémních názorů)"}]
[null,null,null,null,{"$f":"'Technický list'!B155","v":"Q2.32"},{"$f":"'Technický list'!C155","v":3},{"$f":"VLOOKUP(E274,'Technický list'!$AU$124:$BD$168,4,0)","v":"-"},"n.a.",null,{"$f":"VLOOKUP(E274,'Kapitola 2'!$C$6:$D$282,2,0)","v":"Jakým způsobem školí organizace pracovníky v oblasti ostrahy ve vazbě na bezpečnostní rizika?  "}]
[null,null,null,null,{"$f":"'Technický list'!B156","v":"Q2.33"},{"$f":"'Technický list'!C156","v":4},{"$f":"VLOOKUP(E275,'Technický list'!$AU$124:$BD$168,4,0)","v":3},{"$f":"IF(G275=\"-\",\"n.a.\",IF(F275-G275>-1,\"v souladu\",\"zvyšte skóre\"))","v":"v souladu"},null,{"$f":"VLOOKUP(E275,'Kapitola 2'!$C$6:$D$282,2,0)","v":"Jakým způsobem se posuzuje potenciální vliv organizace na životní prostředí?"}]
[null,null,null,null,{"$f":"'Technický list'!B157","v":"Q2.34"},{"$f":"'Technický list'!C157","v":4},{"$f":"VLOOKUP(E276,'Technický list'!$AU$124:$BD$168,4,0)","v":"-"},"n.a.",null,{"$f":"VLOOKUP(E276,'Kapitola 2'!$C$6:$D$282,2,0)","v":"Jakým způsobem se řídí environmentální výkonnost?"}]
[null,null,null,null,{"$f":"'Technický list'!B158","v":"Q2.35"},{"$f":"'Technický list'!C158","v":3},{"$f":"VLOOKUP(E277,'Technický list'!$AU$124:$BD$168,4,0)","v":"-"},"n.a.",null,{"$f":"VLOOKUP(E277,'Kapitola 2'!$C$6:$D$282,2,0)","v":"Jak organizace nakládá s odpadem?"}]
[null,null,null,null,{"$f":"'Technický list'!B159","v":"Q2.36"},{"$f":"'Technický list'!C159","v":3},{"$f":"VLOOKUP(E278,'Technický list'!$AU$124:$BD$168,4,0)","v":"-"},"n.a.",null,{"$f":"VLOOKUP(E278,'Kapitola 2'!$C$6:$D$282,2,0)","v":"Jakým způsobem řídí organizace rizika týkající se podzemních vod?"}]
[null,null,null,null,{"$f":"'Technický list'!B160","v":"Q2.37"},{"$f":"'Technický list'!C160","v":3},{"$f":"VLOOKUP(E279,'Technický list'!$AU$124:$BD$168,4,0)","v":"-"},"n.a.",null,{"$f":"VLOOKUP(E279,'Kapitola 2'!$C$6:$D$282,2,0)","v":"Jakým způsobem řídí organizace rizika týkající se znečištění půdy?"}]
[null,null,null,null,{"$f":"'Technický list'!B161","v":"Q2.38"},{"$f":"'Technický list'!C161","v":4},{"$f":"VLOOKUP(E280,'Technický list'!$AU$124:$BD$168,4,0)","v":"-"},"n.a.",null,{"$f":"VLOOKUP(E280,'Kapitola 2'!$C$6:$D$282,2,0)","v":"Jakým způsobem řídí organizace existující znečištění půdy?\n"}]
[null,null,null,null,{"$f":"'Technický list'!B162","v":"Q2.39"},{"$f":"'Technický list'!C162","v":3},{"$f":"VLOOKUP(E281,'Technický list'!$AU$124:$BD$168,4,0)","v":"-"},"n.a.",null,{"$f":"VLOOKUP(E281,'Kapitola 2'!$C$6:$D$282,2,0)","v":"Jakým způsobem organizace řídí své emise škodlivin do ovzduší?"}]
[null,null,null,null,{"$f":"'Technický list'!B163","v":"Q2.40"},{"$f":"'Technický list'!C163","v":4},{"$f":"VLOOKUP(E282,'Technický list'!$AU$124:$BD$168,4,0)","v":"-"},"n.a.",null,{"$f":"VLOOKUP(E282,'Kapitola 2'!$C$6:$D$282,2,0)","v":"Jakým způsobem organizace řídí své emise škodlivin do vody?"}]
[null,null,null,null,{"$f":"'Technický list'!B164","v":"Q2.41"},{"$f":"'Technický list'!C164","v":3},{"$f":"VLOOKUP(E283,'Technický list'!$AU$124:$BD$168,4,0)","v":"-"},"n.a.",null,{"$f":"VLOOKUP(E283,'Kapitola 2'!$C$6:$D$282,2,0)","v":"Jakým způsobem organizace řídí své emise hluku?"}]
[null,null,null,null,{"$f":"'Technický list'!B165","v":"Q2.42"},{"$f":"'Technický list'!C165","v":4},{"$f":"VLOOKUP(E284,'Technický list'!$AU$124:$BD$168,4,0)","v":"-"},"n.a.",null,{"$f":"VLOOKUP(E284,'Kapitola 2'!$C$6:$D$282,2,0)","v":"Jakým způsobem organizace řídí své emise zápachu?"}]
[null,null,null,null,{"$f":"'Technický list'!B166","v":"Q2.43"},{"$f":"'Technický list'!C166","v":4},{"$f":"VLOOKUP(E285,'Technický list'!$AU$124:$BD$168,4,0)","v":4},{"$f":"IF(G285=\"-\",\"n.a.\",IF(F285-G285>-1,\"v souladu\",\"zvyšte skóre\"))","v":"v souladu"},null,{"$f":"VLOOKUP(E285,'Kapitola 2'!$C$6:$D$282,2,0)","v":"Jakým způsobem organizace zabraňuje a řídí havarijní emise do prostředí?"}]
[null,null,null,null,{"$f":"'Technický list'!B167","v":"Q2.44"},{"$f":"'Technický list'!C167","v":4},{"$f":"VLOOKUP(E286,'Technický list'!$AU$124:$BD$168,4,0)","v":3},{"$f":"IF(G286=\"-\",\"n.a.\",IF(F286-G286>-1,\"v souladu\",\"zvyšte skóre\"))","v":"v souladu"},null,{"$f":"VLOOKUP(E286,'Kapitola 2'!$C$6:$D$282,2,0)","v":"Jakým způsobem zajišťuje organizace správně kompetence všech pracovníků, týkající se environmentálních požadavků, které souvisejí s jejich pracovní náplní?"}]
[null,null,null,null,{"$f":"'Technický list'!B168","v":"Q2.45"},{"$f":"'Technický list'!C168","v":3},{"$f":"VLOOKUP(E287,'Technický list'!$AU$124:$BD$168,4,0)","v":3},{"$f":"IF(G287=\"-\",\"n.a.\",IF(F287-G287>-1,\"v souladu\",\"zvyšte skóre\"))","v":"v souladu"},null,{"$f":"VLOOKUP(E287,'Kapitola 2'!$C$6:$D$282,2,0)","v":"Jakým způsobem jsou zainteresované strany organizace informovány o environmentálních aspektech a jejich možných dopadech?"}]
[null,null,null,null,"KAPITOLA 3: Posílení systémů řízení chemických látek"]
[null,null,null,null,{"$f":"'Technický list'!$B$406","v":"Q3.1"},{"$f":"'Technický list'!$C$406","v":3},{"$f":"VLOOKUP(E289,'Technický list'!$AU$406:$BD$418,4,0)","v":4},{"$f":"IF(G289=\"-\",\"n.a.\",IF(F289-G289>-1,\"v souladu\",\"zvyšte skóre\"))","v":"zvyšte skóre"},null,{"$f":"VLOOKUP(E289,'Kapitola 3'!$C$6:$D$89,2,0)","v":"Zavedla organizace proces pro navrhování a vývoj nových \nproduktů a služeb?"}]
[null,null,null,null,{"$f":"'Technický list'!$B$407","v":"Q3.2"},{"$f":"'Technický list'!$C$407","v":2},{"$f":"VLOOKUP(E290,'Technický list'!$AU$406:$BD$418,4,0)","v":"-"},{"$f":"IF(G290=\"-\",\"n.a.\",IF(F290-G290>-1,\"compliant\",\"increase score\"))","v":"n.a."},null,{"$f":"VLOOKUP(E290,'Kapitola 3'!$C$6:$D$89,2,0)","v":"Má organizace k dispozici proces hodnocení a stanovení priorit svých produktů pro charakterizaci rizik a řízení rizik?\n\n\n"}]
[null,null,null,null,{"$f":"'Technický list'!$B$408","v":"Q3.3"},{"$f":"'Technický list'!$C$408","v":3},{"$f":"VLOOKUP(E291,'Technický list'!$AU$406:$BD$418,4,0)","v":"-"},"n.a.",null,{"$f":"VLOOKUP(E291,'Kapitola 3'!$C$6:$D$89,2,0)","v":"Zavedla organizace systém pro sledování použitelnosti, změn a dodržování interních a externích požadavků souvisejících s řízením bezpečnosti chemických látek?"}]
[null,null,null,null,{"$f":"'Technický list'!$B$409","v":"Q3.4"},{"$f":"'Technický list'!$C$409","v":2},{"$f":"VLOOKUP(E292,'Technický list'!$AU$406:$BD$418,4,0)","v":"-"},"n.a.",null,{"$f":"VLOOKUP(E292,'Kapitola 3'!$C$6:$D$89,2,0)","v":"Zavedla organizace systém na správu existujících informací o rizicích svých produktů?"}]
[null,null,null,null,{"$f":"'Technický list'!$B$410","v":"Q3.5"},{"$f":"'Technický list'!$C$410","v":2},{"$f":"VLOOKUP(E293,'Technický list'!$AU$406:$BD$418,4,0)","v":"-"},"n.a.",null,{"$f":"VLOOKUP(E293,'Kapitola 3'!$C$6:$D$89,2,0)","v":"Zavedla organizace proces řízení informací o používání a expozici svých produktů?"}]
[null,null,null,null,{"$f":"'Technický list'!$B$411","v":"Q3.6"},{"$f":"'Technický list'!$C$411","v":4},{"$f":"VLOOKUP(E294,'Technický list'!$AU$406:$BD$418,4,0)","v":"-"},"n.a.",null,{"$f":"VLOOKUP(E294,'Kapitola 3'!$C$6:$D$89,2,0)","v":"Zavedla organizace proces na správu nových informací?"}]
[null,null,null,null,{"$f":"'Technický list'!$B$412","v":"Q3.7"},{"$f":"'Technický list'!$C$412","v":3},{"$f":"VLOOKUP(E295,'Technický list'!$AU$406:$BD$418,4,0)","v":1},{"$f":"IF(G295=\"-\",\"n.a.\",IF(F295-G295>-1,\"v souladu\",\"zvyšte skóre\"))","v":"v souladu"},null,{"$f":"VLOOKUP(E295,'Kapitola 3'!$C$6:$D$89,2,0)","v":"Zavedla organizace proces charakterizace rizik na základě shromážděných informací?"}]
[null,null,null,null,{"$f":"'Technický list'!$B$413","v":"Q3.8"},{"$f":"'Technický list'!$C$413","v":4},{"$f":"VLOOKUP(E296,'Technický list'!$AU$406:$BD$418,4,0)","v":2},{"$f":"IF(G296=\"-\",\"n.a.\",IF(F296-G296>-1,\"v souladu\",\"zvyšte skóre\"))","v":"v souladu"},null,{"$f":"VLOOKUP(E296,'Kapitola 3'!$C$6:$D$89,2,0)","v":"Zavedla organizace proces řízení rizik na základě shromážděných informací?"}]
[null,null,null,null,{"$f":"'Technický list'!$B$414","v":"Q3.9"},{"$f":"'Technický list'!$C$414","v":4},{"$f":"VLOOKUP(E297,'Technický list'!$AU$406:$BD$418,4,0)","v":4},{"$f":"IF(G297=\"-\",\"n.a.\",IF(F297-G297>-1,\"v souladu\",\"zvyšte skóre\"))","v":"v souladu"},null,{"$f":"VLOOKUP(E297,'Kapitola 3'!$C$6:$D$89,2,0)","v":"Zavedla organizace účinný proces sledování svých produktů po dodání a provádění nápravných opatření?\n"}]
[null,null,null,null,{"$f":"'Technický list'!$B$415","v":"Q3.10"},{"$f":"'Technický list'!$C$415","v":4},{"$f":"VLOOKUP(E298,'Technický list'!$AU$406:$BD$418,4,0)","v":"-"},"n.a.",null,{"$f":"VLOOKUP(E298,'Kapitola 3'!$C$6:$D$89,2,0)","v":"Poskytuje organizace efektivní komunikaci v rámci dodavatelského řetězce ohledně opatření k řízení rizik, které se vztahují na jejich produkty?"}]
[null,null,null,null,"KAPITOLA 4: Působení na obchodní partnery"]
[null,null,null,null,{"$f":"'Technický list'!B482","v":"Q4.1"},{"$f":"'Technický list'!C482","v":3},{"$f":"VLOOKUP(E300,'Technický list'!$AU$482:$BD$489,4,0)","v":"-"},{"$f":"IF(G300=\"-\",\"n.a.\",IF(F300-G300>-1,\"compliant\",\"increase score\"))","v":"n.a."},null,{"$f":"VLOOKUP(E300,'Kapitola 4'!$C$6:$D$91,2,0)","v":"Jak se organizace zavázala k odpovědnému získávání zdrojů?"}]
[null,null,null,null,{"$f":"'Technický list'!B483","v":"Q4.2"},{"$f":"'Technický list'!C483","v":4},{"$f":"VLOOKUP(E301,'Technický list'!$AU$482:$BD$489,4,0)","v":"-"},{"$f":"IF(G301=\"-\",\"n.a.\",IF(F301-G301>-1,\"compliant\",\"increase score\"))","v":"n.a."},null,{"$f":"VLOOKUP(E301,'Kapitola 4'!$C$6:$D$91,2,0)","v":"Jak organizace zlepšuje spolupráci v dodavatelském řetězci?"}]
[null,null,null,null,{"$f":"'Technický list'!B484","v":"Q4.3"},{"$f":"'Technický list'!C484","v":3},{"$f":"VLOOKUP(E302,'Technický list'!$AU$482:$BD$489,4,0)","v":4},{"$f":"IF(G302=\"-\",\"n.a.\",IF(F302-G302>-1,\"v souladu\",\"zvyšte skóre\"))","v":"zvyšte skóre"},null,{"$f":"VLOOKUP(E302,'Kapitola 4'!$C$6:$D$91,2,0)","v":"Jakým způsobem vyjadřuje organizace svůj závazek vůči podnikatelské etice?"}]
[null,null,null,null,{"$f":"'Technický list'!B485","v":"Q4.4"},{"$f":"'Technický list'!C485","v":2},{"$f":"VLOOKUP(E303,'Technický list'!$AU$482:$BD$489,4,0)","v":4},{"$f":"IF(G303=\"-\",\"n.a.\",IF(F303-G303>-1,\"v souladu\",\"zvyšte skóre\"))","v":"zvyšte skóre"},null,{"$f":"VLOOKUP(E303,'Kapitola 4'!$C$6:$D$91,2,0)","v":"Jakým způsobem řeší organizace sociální problematiku a lidská práva v rámci spolupráce s obchodními partnery?"}]
[null,null,null,null,{"$f":"'Technický list'!B486","v":"Q4.5"},{"$f":"'Technický list'!C486","v":4},{"$f":"VLOOKUP(E304,'Technický list'!$AU$482:$BD$489,4,0)","v":4},{"$f":"IF(G304=\"-\",\"n.a.\",IF(F304-G304>-1,\"v souladu\",\"zvyšte skóre\"))","v":"v souladu"},null,{"$f":"VLOOKUP(E304,'Kapitola 4'!$C$6:$D$91,2,0)","v":"Jakým způsobem zabraňuje organizace dětské práci?\nOrganizace\n1-\tzavedla systém ověřování věku; \n2-\tnezaměstnává děti mladší 15 let (v závislosti na místní legislativy). Jedinou výjimku představují učni, školní praxe nebo vzdělávací stáže; \n3-\tzaručuje, aby pracovní náplň osob mladších než 18 let neovlivňovala jejich školní docházku (doba strávená dopravou do práce a školy a z práce a školy, školní docházkou a prací je méně než 10 hodin denně );\n4-\tzajišťuje, že pracovní náplň mladých pracovníků není duševně, fyzicky, společensky ani morálně nebezpečná a škodlivá."}]
[null,null,null,null,{"$f":"'Technický list'!B487","v":"Q4.6"},{"$f":"'Technický list'!C487","v":3},{"$f":"VLOOKUP(E305,'Technický list'!$AU$482:$BD$489,4,0)","v":"-"},"n.a.",null,{"$f":"VLOOKUP(E305,'Kapitola 4'!$C$6:$D$91,2,0)","v":"Jakým způsobem zabezpečuje organizace splnění svých požadavků ze strany logistických partnerů?"}]
[null,null,null,null,{"$f":"'Technický list'!B488","v":"Q4.7"},{"$f":"'Technický list'!C488","v":1},{"$f":"VLOOKUP(E306,'Technický list'!$AU$482:$BD$489,4,0)","v":"-"},"n.a.",null,{"$f":"VLOOKUP(E306,'Kapitola 4'!$C$6:$D$91,2,0)","v":"Jakým způsobem organizace chrání a zabezpečuje majetek a údaje následných uživatelů nebo externích poskytovatelů, které se používají nebo začleňují do produktů a služeb?"}]
[null,null,null,null,{"$f":"'Technický list'!B489","v":"Q4.8"},{"$f":"'Technický list'!C489","v":4},{"$f":"VLOOKUP(E307,'Technický list'!$AU$482:$BD$489,4,0)","v":"-"},"n.a.",null,{"$f":"VLOOKUP(E307,'Kapitola 4'!$C$6:$D$91,2,0)","v":"Co zahrnuje dialog s následnými uživateli?"}]
[null,null,null,null,"KAPITOLA 5: Zapojení zainteresovaných stran"]
[null,null,null,null,{"$f":"'Technický list'!B544","v":"Q5.1"},{"$f":"'Technický list'!C544","v":3},{"$f":"VLOOKUP(E309,'Technický list'!$AU$544:$BD$548,4,0)","v":4},{"$f":"IF(G309=\"-\",\"n.a.\",IF(F309-G309>-1,\"v souladu\",\"zvyšte skóre\"))","v":"zvyšte skóre"},null,{"$f":"VLOOKUP(E309,'Kapitola 5'!$C$6:$D$89,2,0)","v":"Jakým způsobem zapojuje organizace své externí zainteresované strany a naplňuje jejich očekávání?"}]
[null,null,null,null,{"$f":"'Technický list'!B545","v":"Q5.2"},{"$f":"'Technický list'!C545","v":4},{"$f":"VLOOKUP(E310,'Technický list'!$AU$544:$BD$548,4,0)","v":4},{"$f":"IF(G310=\"-\",\"n.a.\",IF(F310-G310>-1,\"v souladu\",\"zvyšte skóre\"))","v":"v souladu"},null,{"$f":"VLOOKUP(E310,'Kapitola 5'!$C$6:$D$89,2,0)","v":"Jakým způsobem vede organizace dialog s veřejností, úřady a dalšími zainteresovanými stranami, včetně místních komunit a zákazníků v souvislosti s HSE&S v rámci jejich činností, produktů a služeb?"}]
[null,null,null,null,{"$f":"'Technický list'!B546","v":"Q5.3"},{"$f":"'Technický list'!C546","v":2},{"$f":"VLOOKUP(E311,'Technický list'!$AU$544:$BD$548,4,0)","v":"-"},{"$f":"IF(G311=\"-\",\"n.a.\",IF(F311-G311>-1,\"compliant\",\"increase score\"))","v":"n.a."},null,{"$f":"VLOOKUP(E311,'Kapitola 5'!$C$6:$D$89,2,0)","v":"Jakým způsobem zveřejňuje organizace informace týkající se\n HSE&S?"}]
[null,null,null,null,{"$f":"'Technický list'!B547","v":"Q5.4"},{"$f":"'Technický list'!C547","v":2},{"$f":"VLOOKUP(E312,'Technický list'!$AU$544:$BD$548,4,0)","v":"-"},"n.a.",null,{"$f":"VLOOKUP(E312,'Kapitola 5'!$C$6:$D$89,2,0)","v":"Jakým způsobem podporuje organizace místní komunity?"}]
[null,null,null,null,{"$f":"'Technický list'!B548","v":"Q5.5"},{"$f":"'Technický list'!C548","v":3},{"$f":"VLOOKUP(E313,'Technický list'!$AU$544:$BD$548,4,0)","v":"-"},"n.a.",null,{"$f":"VLOOKUP(E313,'Kapitola 5'!$C$6:$D$89,2,0)","v":"Jakým způsobem stimuluje organizace místní zaměstnanost a vzdělávání?"}]
[null,null,null,null,"KAPITOLA 6: Přispívání k udržitelnosti"]
[null,null,null,null,{"$f":"'Technický list'!B584","v":"Q6.1"},{"$f":"'Technický list'!C584","v":2},{"$f":"VLOOKUP(E315,'Technický list'!$AU$584:$BD$600,4,0)","v":3},{"$f":"IF(G315=\"-\",\"n.a.\",IF(F315-G315>-1,\"v souladu\",\"zvyšte skóre\"))","v":"zvyšte skóre"},null,{"$f":"VLOOKUP(E315,'Kapitola 6'!$C$6:$D$120,2,0)","v":"Jakým způsobem definuje organizace významné problémy a závažnost?"}]
[null,null,null,null,{"$f":"'Technický list'!B585","v":"Q6.2"},{"$f":"'Technický list'!C585","v":2},{"$f":"VLOOKUP(E316,'Technický list'!$AU$584:$BD$600,4,0)","v":"-"},{"$f":"IF(G316=\"-\",\"n.a.\",IF(F316-G316>-1,\"compliant\",\"increase score\"))","v":"n.a."},null,{"$f":"VLOOKUP(E316,'Kapitola 6'!$C$6:$D$120,2,0)","v":"Jakým způsobem hodlá organizace přispívat k udržitelnému rozvoji?"}]
[null,null,null,null,{"$f":"'Technický list'!B586","v":"Q6.3"},{"$f":"'Technický list'!C586","v":3},{"$f":"VLOOKUP(E317,'Technický list'!$AU$584:$BD$600,4,0)","v":4},{"$f":"IF(G317=\"-\",\"n.a.\",IF(F317-G317>-1,\"v souladu\",\"zvyšte skóre\"))","v":"zvyšte skóre"},null,{"$f":"VLOOKUP(E317,'Kapitola 6'!$C$6:$D$120,2,0)","v":"Jakým způsobem komunikuje organizace zainteresovaných stran na téma udržitelnosti?"}]
[null,null,null,null,{"$f":"'Technický list'!B587","v":"Q6.4"},{"$f":"'Technický list'!C587","v":2},{"$f":"VLOOKUP(E318,'Technický list'!$AU$584:$BD$600,4,0)","v":"-"},"n.a.",null,{"$f":"VLOOKUP(E318,'Kapitola 6'!$C$6:$D$120,2,0)","v":"Má organizace zavedený proces navrhování výrobků s lepšími výsledky udržitelnosti?"}]
[null,null,null,null,{"$f":"'Technický list'!B588","v":"Q6.5"},{"$f":"'Technický list'!C588","v":2},{"$f":"VLOOKUP(E319,'Technický list'!$AU$584:$BD$600,4,0)","v":1},{"$f":"IF(G319=\"-\",\"n.a.\",IF(F319-G319>-1,\"v souladu\",\"zvyšte skóre\"))","v":"v souladu"},null,{"$f":"VLOOKUP(E319,'Kapitola 6'!$C$6:$D$120,2,0)","v":"Jakým způsobem zvyšuje organizace efektivnost zdrojů ve svých výrobních procesech?"}]
[null,null,null,null,{"$f":"'Technický list'!B589","v":"Q6.6"},{"$f":"'Technický list'!C589","v":1},{"$f":"VLOOKUP(E320,'Technický list'!$AU$584:$BD$600,4,0)","v":3},{"$f":"IF(G320=\"-\",\"n.a.\",IF(F320-G320>-1,\"v souladu\",\"zvyšte skóre\"))","v":"zvyšte skóre"},null,{"$f":"VLOOKUP(E320,'Kapitola 6'!$C$6:$D$120,2,0)","v":"Jakým způsobem stimuluje organizace oběhové hospodářství prostřednictvím svých produktů?"}]
[null,null,null,null,{"$f":"'Technický list'!B590","v":"Q6.7"},{"$f":"'Technický list'!C590","v":3},{"$f":"VLOOKUP(E321,'Technický list'!$AU$584:$BD$600,4,0)","v":"-"},"n.a.",null,{"$f":"VLOOKUP(E321,'Kapitola 6'!$C$6:$D$120,2,0)","v":"Jakým způsobem podporuje organizace inovace při vývoji produktů a řešení, které odpovídají výzvám udržitelnosti?"}]
[null,null,null,null,{"$f":"'Technický list'!B591","v":"Q6.8"},{"$f":"'Technický list'!C591","v":3},{"$f":"VLOOKUP(E322,'Technický list'!$AU$584:$BD$600,4,0)","v":"-"},"n.a.",null,{"$f":"VLOOKUP(E322,'Kapitola 6'!$C$6:$D$120,2,0)","v":"Jakým způsobem stimuluje organizace inovaci a spolupráci?"}]
[null,null,null,null,{"$f":"'Technický list'!B592","v":"Q6.9"},{"$f":"'Technický list'!C592","v":1},{"$f":"VLOOKUP(E323,'Technický list'!$AU$584:$BD$600,4,0)","v":"-"},"n.a.",null,{"$f":"VLOOKUP(E323,'Kapitola 6'!$C$6:$D$120,2,0)","v":"Jakým způsobem podporuje organizace udržitelné způsoby spotřeby?"}]
[null,null,null,null,{"$f":"'Technický list'!B593","v":"Q6.10"},{"$f":"'Technický list'!C593","v":2},{"$f":"VLOOKUP(E324,'Technický list'!$AU$584:$BD$600,4,0)","v":"-"},"n.a.",null,{"$f":"VLOOKUP(E324,'Kapitola 6'!$C$6:$D$120,2,0)","v":"Jakým způsobem organizace kontroluje a optimalizuje spotřebu vody?"}]
[null,null,null,null,{"$f":"'Technický list'!B594","v":"Q6.11"},{"$f":"'Technický list'!C594","v":3},{"$f":"VLOOKUP(E325,'Technický list'!$AU$584:$BD$600,4,0)","v":"-"},"n.a.",null,{"$f":"VLOOKUP(E325,'Kapitola 6'!$C$6:$D$120,2,0)","v":"Jakým způsobem se řídí vliv organizace na biodiverzitu a ekosystém?"}]
[null,null,null,null,{"$f":"'Technický list'!B595","v":"Q6.12"},{"$f":"'Technický list'!C595","v":1},{"$f":"VLOOKUP(E326,'Technický list'!$AU$584:$BD$600,4,0)","v":"-"},"n.a.",null,{"$f":"VLOOKUP(E326,'Kapitola 6'!$C$6:$D$120,2,0)","v":"Jakým způsobem posuzuje organizace svou závislost na přírodních zdrojích (ekosystémech)?"}]
[null,null,null,null,{"$f":"'Technický list'!B596","v":"Q6.13"},{"$f":"'Technický list'!C596","v":2},{"$f":"VLOOKUP(E327,'Technický list'!$AU$584:$BD$600,4,0)","v":"-"},"n.a.",null,{"$f":"VLOOKUP(E327,'Kapitola 6'!$C$6:$D$120,2,0)","v":"Jakým způsobem řídí organizace svou spotřebu energie?"}]
[null,null,null,null,{"$f":"'Technický list'!B597","v":"Q6.14"},{"$f":"'Technický list'!C597","v":3},{"$f":"VLOOKUP(E328,'Technický list'!$AU$584:$BD$600,4,0)","v":"-"},"n.a.",null,{"$f":"VLOOKUP(E328,'Kapitola 6'!$C$6:$D$120,2,0)","v":"Jakým způsobem řídí organizace emise skleníkových plynů (kromě úspor energie)?"}]
[null,null,null,null,{"$f":"'Technický list'!B598","v":"Q6.15"},{"$f":"'Technický list'!C598","v":2},{"$f":"VLOOKUP(E329,'Technický list'!$AU$584:$BD$600,4,0)","v":"-"},"n.a.",null,{"$f":"VLOOKUP(E329,'Kapitola 6'!$C$6:$D$120,2,0)","v":"Jaká je strategie organizace na snižování emisí skleníkových plynů?"}]
[null,null,null,null,{"$f":"'Technický list'!B599","v":"Q6.16"},{"$f":"'Technický list'!C599","v":2},{"$f":"VLOOKUP(E330,'Technický list'!$AU$584:$BD$600,4,0)","v":3},{"$f":"IF(G330=\"-\",\"n.a.\",IF(F330-G330>-1,\"v souladu\",\"zvyšte skóre\"))","v":"zvyšte skóre"},null,{"$f":"VLOOKUP(E330,'Kapitola 6'!$C$6:$D$120,2,0)","v":"Jakým způsobem se organizace připravuje na klimatické změny? "}]
[null,null,null,null,{"$f":"'Technický list'!B600","v":"Q6.17"},{"$f":"'Technický list'!C600","v":3},{"$f":"VLOOKUP(E331,'Technický list'!$AU$584:$BD$600,4,0)","v":"-"},"n.a.",null,{"$f":"VLOOKUP(E331,'Kapitola 6'!$C$6:$D$120,2,0)","v":"Jak organizace zajišťuje rovné příležitosti při náboru a během kariéry všech?"}]
[]
[null,null,"Zpráva o souladu s ISO 45001"]
[null,null,null,null,null,"Vaše skóre ","Minimální skóre pro ISO 45001"]
[null,null,null,null,"KAPITOLA 1: Podniková kultura vedení "]
[null,null,null,null,{"$f":"'Technický list'!B10","v":"Q1.1"},{"$f":"'Technický list'!C10","v":4},{"$f":"VLOOKUP(E336,'Technický list'!$AU$10:$BD$25,5,0)","v":3},{"$f":"IF(G336=\"-\",\"n.a.\",IF(F336-G336>-1,\"v souladu\",\"zvyšte skóre\"))","v":"v souladu"},null,{"$f":"VLOOKUP(E336,'Kapitola 1'!$C$6:$D$112,2,0)","v":"Jak se projevuje závazek plnit povinnosti týkající se dodržování předpisů a zásad Responsible Care = RC (tj. ochrana a podpora zdraví a bezpečnost lidí, životního prostředí a udržitelnosti) na všech úrovních organizace?\n"}]
[null,null,null,null,{"$f":"'Technický list'!B11","v":"Q1.2"},{"$f":"'Technický list'!C11","v":4},{"$f":"VLOOKUP(E337,'Technický list'!$AU$10:$BD$25,5,0)","v":3},{"$f":"IF(G337=\"-\",\"n.a.\",IF(F337-G337>-1,\"v souladu\",\"zvyšte skóre\"))","v":"v souladu"},null,{"$f":"VLOOKUP(E337,'Kapitola 1'!$C$6:$D$112,2,0)","v":"Jakým způsobem řídí organizace příslušná rizika a příležitosti?  "}]
[null,null,null,null,{"$f":"'Technický list'!B12","v":"Q1.3"},{"$f":"'Technický list'!C12","v":4},{"$f":"VLOOKUP(E338,'Technický list'!$AU$10:$BD$25,5,0)","v":2},{"$f":"IF(G338=\"-\",\"n.a.\",IF(F338-G338>-1,\"v souladu\",\"zvyšte skóre\"))","v":"v souladu"},null,{"$f":"VLOOKUP(E338,'Kapitola 1'!$C$6:$D$112,2,0)","v":"Jakým způsobem monitoruje organizace svoje zákonné povinnosti? "}]
[null,null,null,null,{"$f":"'Technický list'!B13","v":"Q1.4"},{"$f":"'Technický list'!C13","v":3},{"$f":"VLOOKUP(E339,'Technický list'!$AU$10:$BD$25,5,0)","v":2},{"$f":"IF(G339=\"-\",\"n.a.\",IF(F339-G339>-1,\"v souladu\",\"zvyšte skóre\"))","v":"v souladu"},null,{"$f":"VLOOKUP(E339,'Kapitola 1'!$C$6:$D$112,2,0)","v":"Jakým způsobem top management zajišťuje, že jednotlivé aspekty HSE&S (zdraví, bezpečnosti, ochrany životního prostředí & udržitelnosti) jsou přiřazeny stanoveným rolím v organizaci?"}]
[null,null,null,null,{"$f":"'Technický list'!B14","v":"Q1.5"},{"$f":"'Technický list'!C14","v":3},{"$f":"VLOOKUP(E340,'Technický list'!$AU$10:$BD$25,5,0)","v":3},{"$f":"IF(G340=\"-\",\"n.a.\",IF(F340-G340>-1,\"v souladu\",\"zvyšte skóre\"))","v":"v souladu"},null,{"$f":"VLOOKUP(E340,'Kapitola 1'!$C$6:$D$112,2,0)","v":"Jakým způsobem se top management podílí na řešení záležitostí HSE&S?"}]
[null,null,null,null,{"$f":"'Technický list'!B15","v":"Q1.6"},{"$f":"'Technický list'!C15","v":3},{"$f":"VLOOKUP(E341,'Technický list'!$AU$10:$BD$25,5,0)","v":"-"},{"$f":"IF(G341=\"-\",\"n.a.\",IF(F341-G341>-1,\"compliant\",\"increase score\"))","v":"n.a."},null,{"$f":"VLOOKUP(E341,'Kapitola 1'!$C$6:$D$112,2,0)","v":"Jakým způsobem jsou odpovědnosti HSE&S začleněny do popisů pracovní náplně nebo ročních cílů?\n"}]
[null,null,null,null,{"$f":"'Technický list'!B16","v":"Q1.7"},{"$f":"'Technický list'!C16","v":3},{"$f":"VLOOKUP(E342,'Technický list'!$AU$10:$BD$25,5,0)","v":3},{"$f":"IF(G342=\"-\",\"n.a.\",IF(F342-G342>-1,\"v souladu\",\"zvyšte skóre\"))","v":"v souladu"},null,{"$f":"VLOOKUP(E342,'Kapitola 1'!$C$6:$D$112,2,0)","v":"Jakým způsobem se řídí (nejdůležitější) procesy v souvislosti s HSE&S?"}]
[null,null,null,null,{"$f":"'Technický list'!B17","v":"Q1.8"},{"$f":"'Technický list'!C17","v":3},{"$f":"VLOOKUP(E343,'Technický list'!$AU$10:$BD$25,5,0)","v":3},"v souladu",null,{"$f":"VLOOKUP(E343,'Kapitola 1'!$C$6:$D$112,2,0)","v":"Jakým způsobem top management zajišťuje neustálé zlepšování výkonu v oblasti HSE&S (zdraví, bezpečnosti, životního prostředí, energetiky a udržitelnosti)?"}]
[null,null,null,null,{"$f":"'Technický list'!B18","v":"Q1.9"},{"$f":"'Technický list'!C18","v":4},{"$f":"VLOOKUP(E344,'Technický list'!$AU$10:$BD$25,5,0)","v":3},"v souladu",null,{"$f":"VLOOKUP(E344,'Kapitola 1'!$C$6:$D$112,2,0)","v":"Jak jsou organizovány interní audity?"}]
[null,null,null,null,{"$f":"'Technický list'!B19","v":"Q1.10"},{"$f":"'Technický list'!C19","v":4},{"$f":"VLOOKUP(E345,'Technický list'!$AU$10:$BD$25,5,0)","v":3},"v souladu",null,{"$f":"VLOOKUP(E345,'Kapitola 1'!$C$6:$D$112,2,0)","v":"Jakým způsobem probíhá vyšetřování?"}]
[null,null,null,null,{"$f":"'Technický list'!B20","v":"Q1.11"},{"$f":"'Technický list'!C20","v":3},{"$f":"VLOOKUP(E346,'Technický list'!$AU$10:$BD$25,5,0)","v":3},"v souladu",null,{"$f":"VLOOKUP(E346,'Kapitola 1'!$C$6:$D$112,2,0)","v":"Jakým způsobem organizace zajišťuje procesy, čas a zdroje potřebné pro zlepšování procesů řízení HSE&S?"}]
[null,null,null,null,{"$f":"'Technický list'!B21","v":"Q1.12"},{"$f":"'Technický list'!C21","v":3},{"$f":"VLOOKUP(E347,'Technický list'!$AU$10:$BD$25,5,0)","v":3},"v souladu",null,{"$f":"VLOOKUP(E347,'Kapitola 1'!$C$6:$D$112,2,0)","v":"Jak organizace zajišťuje, že zaměstnanci jsou si vědomi politik a procesů týkajících se zdraví, bezpečnosti, životního prostředí, energetiky a udržitelnosti?"}]
[null,null,null,null,{"$f":"'Technický list'!B22","v":"Q1.13"},{"$f":"'Technický list'!C22","v":3},{"$f":"VLOOKUP(E348,'Technický list'!$AU$10:$BD$25,5,0)","v":3},"v souladu",null,{"$f":"VLOOKUP(E348,'Kapitola 1'!$C$6:$D$112,2,0)","v":"Jakým způsobem organizace zajišťuje správné kompetence pracovníků, pokud jde o aspekty HSE&S týkající se jejich práce?"}]
[null,null,null,null,{"$f":"'Technický list'!B23","v":"Q1.14"},{"$f":"'Technický list'!C23","v":3},{"$f":"VLOOKUP(E349,'Technický list'!$AU$10:$BD$25,5,0)","v":3},"v souladu",null,{"$f":"VLOOKUP(E349,'Kapitola 1'!$C$6:$D$112,2,0)","v":"Jaká je struktura zapojení zaměstnanců?"}]
[null,null,null,null,{"$f":"'Technický list'!B24","v":"Q1.15"},{"$f":"'Technický list'!C24","v":3},{"$f":"VLOOKUP(E350,'Technický list'!$AU$10:$BD$25,5,0)","v":3},"v souladu",null,{"$f":"VLOOKUP(E350,'Kapitola 1'!$C$6:$D$112,2,0)","v":"Jakým způsobem se řídí dokumentace HSE&S?"}]
[null,null,null,null,{"$f":"'Technický list'!B25","v":"Q1.16"},{"$f":"'Technický list'!C25","v":3},{"$f":"VLOOKUP(E351,'Technický list'!$AU$10:$BD$25,5,0)","v":3},"v souladu",null,{"$f":"VLOOKUP(E351,'Kapitola 1'!$C$6:$D$112,2,0)","v":"Jakým způsobem jsou řízeny změny potenciálně ovlivňující HSE&S (zdraví, bezpečnost, životní prostředí, energetiku a udržitelnost)?"}]
[null,null,null,null,"KAPITOLA 2: Ochrana lidí a životního prostředí"]
[null,null,null,null,{"$f":"'Technický list'!B124","v":"Q2.1"},{"$f":"'Technický list'!C124","v":3},{"$f":"VLOOKUP(E353,'Technický list'!$AU$124:$BD$168,5,0)","v":2},{"$f":"IF(G353=\"-\",\"n.a.\",IF(F353-G353>-1,\"v souladu\",\"zvyšte skóre\"))","v":"v souladu"},null,{"$f":"VLOOKUP(E353,'Kapitola 2'!$C$6:$D$282,2,0)","v":"Jak se management zavázal k ochraně zdraví a bezpečnosti při práci (dále jen \"BOZP\")?"}]
[null,null,null,null,{"$f":"'Technický list'!B125","v":"Q2.2"},{"$f":"'Technický list'!C125","v":4},{"$f":"VLOOKUP(E354,'Technický list'!$AU$124:$BD$168,5,0)","v":2},"v souladu",null,{"$f":"VLOOKUP(E354,'Kapitola 2'!$C$6:$D$282,2,0)","v":"Jakým způsobem se určují rizika a expozice v souvislosti s BOZP?"}]
[null,null,null,null,{"$f":"'Technický list'!B126","v":"Q2.3"},{"$f":"'Technický list'!C126","v":3},{"$f":"VLOOKUP(E355,'Technický list'!$AU$124:$BD$168,5,0)","v":3},"v souladu",null,{"$f":"VLOOKUP(E355,'Kapitola 2'!$C$6:$D$282,2,0)","v":"Jakým způsobem se posuzují zdravotní požadavky?"}]
[null,null,null,null,{"$f":"'Technický list'!B127","v":"Q2.4"},{"$f":"'Technický list'!C127","v":4},{"$f":"VLOOKUP(E356,'Technický list'!$AU$124:$BD$168,5,0)","v":3},"v souladu",null,{"$f":"VLOOKUP(E356,'Kapitola 2'!$C$6:$D$282,2,0)","v":"Jakým způsobem zlepšuje organizace BOZP?"}]
[null,null,null,null,{"$f":"'Technický list'!B128","v":"Q2.5"},{"$f":"'Technický list'!C128","v":2},{"$f":"VLOOKUP(E357,'Technický list'!$AU$124:$BD$168,5,0)","v":3},"zvyšte skóre",null,{"$f":"VLOOKUP(E357,'Kapitola 2'!$C$6:$D$282,2,0)","v":"Jakým způsobem probíhá údržba a udržování pořádku s cílem zajistit bezpečnost provozů, zařízení, nástrojů a (bezpečnostních) pomůcek?"}]
[null,null,null,null,{"$f":"'Technický list'!B129","v":"Q2.6"},{"$f":"'Technický list'!C129","v":3},{"$f":"VLOOKUP(E358,'Technický list'!$AU$124:$BD$168,5,0)","v":3},"v souladu",null,{"$f":"VLOOKUP(E358,'Kapitola 2'!$C$6:$D$282,2,0)","v":"Jak se ověřuje správný výběr, údržba a používání zdravotního a bezpečnostního vybavení (např. osobních ochranných prostředků = OOPP)?"}]
[null,null,null,null,{"$f":"'Technický list'!B130","v":"Q2.7"},{"$f":"'Technický list'!C130","v":2},{"$f":"VLOOKUP(E359,'Technický list'!$AU$124:$BD$168,5,0)","v":3},"zvyšte skóre",null,{"$f":"VLOOKUP(E359,'Kapitola 2'!$C$6:$D$282,2,0)","v":"Jak se organizace stará o stres a tělesné a duševní zdraví zaměstnanců?"}]
[null,null,null,null,{"$f":"'Technický list'!B131","v":"Q2.8"},{"$f":"'Technický list'!C131","v":3},{"$f":"VLOOKUP(E360,'Technický list'!$AU$124:$BD$168,5,0)","v":3},"v souladu",null,{"$f":"VLOOKUP(E360,'Kapitola 2'!$C$6:$D$282,2,0)","v":"Jakým způsobem se vyšetřují onemocnění, zranění, incidenty a potenciálně nebezpečné situace na pracovišti?"}]
[null,null,null,null,{"$f":"'Technický list'!B132","v":"Q2.9"},{"$f":"'Technický list'!C132","v":4},{"$f":"VLOOKUP(E361,'Technický list'!$AU$124:$BD$168,5,0)","v":3},"v souladu",null,{"$f":"VLOOKUP(E361,'Kapitola 2'!$C$6:$D$282,2,0)","v":"Jak je organizace připravena na mimořádné události?"}]
[null,null,null,null,{"$f":"'Technický list'!B133","v":"Q2.10"},{"$f":"'Technický list'!C133","v":3},{"$f":"VLOOKUP(E362,'Technický list'!$AU$124:$BD$168,5,0)","v":3},"v souladu",null,{"$f":"VLOOKUP(E362,'Kapitola 2'!$C$6:$D$282,2,0)","v":"Jakým způsobem zajišťuje organizace správně kompetence všech pracovníků, týkající se požadavků BOZP, které souvisí s jejich pracovní náplní?"}]
[null,null,null,null,{"$f":"'Technický list'!B134","v":"Q2.11"},{"$f":"'Technický list'!C134","v":3},{"$f":"VLOOKUP(E363,'Technický list'!$AU$124:$BD$168,5,0)","v":"-"},{"$f":"IF(G363=\"-\",\"n.a.\",IF(F363-G363>-1,\"compliant\",\"increase score\"))","v":"n.a."},null,{"$f":"VLOOKUP(E363,'Kapitola 2'!$C$6:$D$282,2,0)","v":"Jakým způsobem se vedení staví k procesní bezpečnosti?\n\n"}]
[null,null,null,null,{"$f":"'Technický list'!B135","v":"Q2.12"},{"$f":"'Technický list'!C135","v":4},{"$f":"VLOOKUP(E364,'Technický list'!$AU$124:$BD$168,5,0)","v":"-"},"n.a.",null,{"$f":"VLOOKUP(E364,'Kapitola 2'!$C$6:$D$282,2,0)","v":"Jakým způsobem je vypracována identifikace a popis bezpečnosti procesů, zařízení a pracovišť organizace?"}]
[null,null,null,null,{"$f":"'Technický list'!B136","v":"Q2.13"},{"$f":"'Technický list'!C136","v":3},{"$f":"VLOOKUP(E365,'Technický list'!$AU$124:$BD$168,5,0)","v":"-"},"n.a.",null,{"$f":"VLOOKUP(E365,'Kapitola 2'!$C$6:$D$282,2,0)","v":"Jakým způsobem se zlepšuje procesní bezpečnost po nehodách a incidentech?"}]
[null,null,null,null,{"$f":"'Technický list'!B137","v":"Q2.14"},{"$f":"'Technický list'!C137","v":1},{"$f":"VLOOKUP(E366,'Technický list'!$AU$124:$BD$168,5,0)","v":"-"},"n.a.",null,{"$f":"VLOOKUP(E366,'Kapitola 2'!$C$6:$D$282,2,0)","v":"Jakým způsobem se provádějí audity a inspekce procesní bezpečnosti?"}]
[null,null,null,null,{"$f":"'Technický list'!B138","v":"Q2.15"},{"$f":"'Technický list'!C138","v":3},{"$f":"VLOOKUP(E367,'Technický list'!$AU$124:$BD$168,5,0)","v":"-"},"n.a.",null,{"$f":"VLOOKUP(E367,'Kapitola 2'!$C$6:$D$282,2,0)","v":"Jakým způsobem se prověřují a zlepšují pracovní pokyny?"}]
[null,null,null,null,{"$f":"'Technický list'!B139","v":"Q2.16"},{"$f":"'Technický list'!C139","v":4},{"$f":"VLOOKUP(E368,'Technický list'!$AU$124:$BD$168,5,0)","v":"-"},"n.a.",null,{"$f":"VLOOKUP(E368,'Kapitola 2'!$C$6:$D$282,2,0)","v":"Jak je navrhována a dokumnetována instalace nových zařízení?"}]
[null,null,null,null,{"$f":"'Technický list'!B140","v":"Q2.17"},{"$f":"'Technický list'!C140","v":4},{"$f":"VLOOKUP(E369,'Technický list'!$AU$124:$BD$168,5,0)","v":"-"},"n.a.",null,{"$f":"VLOOKUP(E369,'Kapitola 2'!$C$6:$D$282,2,0)","v":"Jakým způsobem probíhá kontrola zřizování instalace?"}]
[null,null,null,null,{"$f":"'Technický list'!B141","v":"Q2.18"},{"$f":"'Technický list'!C141","v":3},{"$f":"VLOOKUP(E370,'Technický list'!$AU$124:$BD$168,5,0)","v":"-"},"n.a.",null,{"$f":"VLOOKUP(E370,'Kapitola 2'!$C$6:$D$282,2,0)","v":"Jakým způsobem je zaručena ochrana zařízení, aby jediná chyba neměla katastrofické následky?"}]
[null,null,null,null,{"$f":"'Technický list'!B142","v":"Q2.19"},{"$f":"'Technický list'!C142","v":3},{"$f":"VLOOKUP(E371,'Technický list'!$AU$124:$BD$168,5,0)","v":"-"},"n.a.",null,{"$f":"VLOOKUP(E371,'Kapitola 2'!$C$6:$D$282,2,0)","v":"Byly zřízeny programy preventivní údržby a péče, které zaručují bezpečnost provozů, nástrojů a zařízení?"}]
[null,null,null,null,{"$f":"'Technický list'!B143","v":"Q2.20"},{"$f":"'Technický list'!C143","v":4},{"$f":"VLOOKUP(E372,'Technický list'!$AU$124:$BD$168,5,0)","v":"-"},"n.a.",null,{"$f":"VLOOKUP(E372,'Kapitola 2'!$C$6:$D$282,2,0)","v":"Jakým způsobem se řídí procesy během mimořádných událostí v případě přerušení dodávky energie nebo služeb?"}]
[null,null,null,null,{"$f":"'Technický list'!B144","v":"Q2.21"},{"$f":"'Technický list'!C144","v":3},{"$f":"VLOOKUP(E373,'Technický list'!$AU$124:$BD$168,5,0)","v":"-"},"n.a.",null,{"$f":"VLOOKUP(E373,'Kapitola 2'!$C$6:$D$282,2,0)","v":"Jak se připravují havarijní plány?"}]
[null,null,null,null,{"$f":"'Technický list'!B145","v":"Q2.22"},{"$f":"'Technický list'!C145","v":2},{"$f":"VLOOKUP(E374,'Technický list'!$AU$124:$BD$168,5,0)","v":"-"},"n.a.",null,{"$f":"VLOOKUP(E374,'Kapitola 2'!$C$6:$D$282,2,0)","v":"Jakým způsobem jsou zabezpečeny kompetence a školení zaměstnanců a dodavatelů zapojených do procesů?"}]
[null,null,null,null,{"$f":"'Technický list'!B146","v":"Q2.23"},{"$f":"'Technický list'!C146","v":4},{"$f":"VLOOKUP(E375,'Technický list'!$AU$124:$BD$168,5,0)","v":"-"},"n.a.",null,{"$f":"VLOOKUP(E375,'Kapitola 2'!$C$6:$D$282,2,0)","v":"Jakým způsobem se sdílejí informace o rizicích látek a přípravků?"}]
[null,null,null,null,{"$f":"'Technický list'!B147","v":"Q2.24"},{"$f":"'Technický list'!C147","v":4},{"$f":"VLOOKUP(E376,'Technický list'!$AU$124:$BD$168,5,0)","v":"-"},"n.a.",null,{"$f":"VLOOKUP(E376,'Kapitola 2'!$C$6:$D$282,2,0)","v":"Jak se sdílejí informace o procesu?"}]
[null,null,null,null,{"$f":"'Technický list'!B148","v":"Q2.25"},{"$f":"'Technický list'!C148","v":3},{"$f":"VLOOKUP(E377,'Technický list'!$AU$124:$BD$168,5,0)","v":"-"},"n.a.",null,{"$f":"VLOOKUP(E377,'Kapitola 2'!$C$6:$D$282,2,0)","v":"Jakým způsobem organizace hodnotí své logistické partnery z hlediska HSE&S, energetické účinnosti a emisí skleníkových plynů?"}]
[null,null,null,null,{"$f":"'Technický list'!B149","v":"Q2.26"},{"$f":"'Technický list'!C149","v":4},{"$f":"VLOOKUP(E378,'Technický list'!$AU$124:$BD$168,5,0)","v":"-"},"n.a.",null,{"$f":"VLOOKUP(E378,'Kapitola 2'!$C$6:$D$282,2,0)","v":"Jakým způsobem organizace zabraňuje a reaguje na dopravní nehody?"}]
[null,null,null,null,{"$f":"'Technický list'!B150","v":"Q2.27"},{"$f":"'Technický list'!C150","v":4},{"$f":"VLOOKUP(E379,'Technický list'!$AU$124:$BD$168,5,0)","v":"-"},"n.a.",null,{"$f":"VLOOKUP(E379,'Kapitola 2'!$C$6:$D$282,2,0)","v":"Jakým způsobem organizace identifikuje bezpečnostní problémy?"}]
[null,null,null,null,{"$f":"'Technický list'!B151","v":"Q2.28"},{"$f":"'Technický list'!C151","v":4},{"$f":"VLOOKUP(E380,'Technický list'!$AU$124:$BD$168,5,0)","v":"-"},"n.a.",null,{"$f":"VLOOKUP(E380,'Kapitola 2'!$C$6:$D$282,2,0)","v":"Jakým způsobem se kontroluje příchod a odchod pracovníků a materiálu na pracovišti a v oblastech s omezeným vstupem?"}]
[null,null,null,null,{"$f":"'Technický list'!B152","v":"Q2.29"},{"$f":"'Technický list'!C152","v":4},{"$f":"VLOOKUP(E381,'Technický list'!$AU$124:$BD$168,5,0)","v":"-"},"n.a.",null,{"$f":"VLOOKUP(E381,'Kapitola 2'!$C$6:$D$282,2,0)","v":"Jakým způsobem se kontroluje kybernetická bezpečnost?"}]
[null,null,null,null,{"$f":"'Technický list'!B153","v":"Q2.30"},{"$f":"'Technický list'!C153","v":4},{"$f":"VLOOKUP(E382,'Technický list'!$AU$124:$BD$168,5,0)","v":"-"},"n.a.",null,{"$f":"VLOOKUP(E382,'Kapitola 2'!$C$6:$D$282,2,0)","v":"Jakým způsobem probíhá komunikace a výměna informací v případě bezpečnostní krize?"}]
[null,null,null,null,{"$f":"'Technický list'!B154","v":"Q2.31"},{"$f":"'Technický list'!C154","v":3},{"$f":"VLOOKUP(E383,'Technický list'!$AU$124:$BD$168,5,0)","v":"-"},"n.a.",null,{"$f":"VLOOKUP(E383,'Kapitola 2'!$C$6:$D$282,2,0)","v":"Jak se organizace vyrovnává s podezřelým chováním (včetně rizik radikalizace = souhlas a podopra extrémních názorů)"}]
[null,null,null,null,{"$f":"'Technický list'!B155","v":"Q2.32"},{"$f":"'Technický list'!C155","v":3},{"$f":"VLOOKUP(E384,'Technický list'!$AU$124:$BD$168,5,0)","v":"-"},"n.a.",null,{"$f":"VLOOKUP(E384,'Kapitola 2'!$C$6:$D$282,2,0)","v":"Jakým způsobem školí organizace pracovníky v oblasti ostrahy ve vazbě na bezpečnostní rizika?  "}]
[null,null,null,null,{"$f":"'Technický list'!B156","v":"Q2.33"},{"$f":"'Technický list'!C156","v":4},{"$f":"VLOOKUP(E385,'Technický list'!$AU$124:$BD$168,5,0)","v":"-"},"n.a.",null,{"$f":"VLOOKUP(E385,'Kapitola 2'!$C$6:$D$282,2,0)","v":"Jakým způsobem se posuzuje potenciální vliv organizace na životní prostředí?"}]
[null,null,null,null,{"$f":"'Technický list'!B157","v":"Q2.34"},{"$f":"'Technický list'!C157","v":4},{"$f":"VLOOKUP(E386,'Technický list'!$AU$124:$BD$168,5,0)","v":"-"},"n.a.",null,{"$f":"VLOOKUP(E386,'Kapitola 2'!$C$6:$D$282,2,0)","v":"Jakým způsobem se řídí environmentální výkonnost?"}]
[null,null,null,null,{"$f":"'Technický list'!B158","v":"Q2.35"},{"$f":"'Technický list'!C158","v":3},{"$f":"VLOOKUP(E387,'Technický list'!$AU$124:$BD$168,5,0)","v":"-"},"n.a.",null,{"$f":"VLOOKUP(E387,'Kapitola 2'!$C$6:$D$282,2,0)","v":"Jak organizace nakládá s odpadem?"}]
[null,null,null,null,{"$f":"'Technický list'!B159","v":"Q2.36"},{"$f":"'Technický list'!C159","v":3},{"$f":"VLOOKUP(E388,'Technický list'!$AU$124:$BD$168,5,0)","v":"-"},"n.a.",null,{"$f":"VLOOKUP(E388,'Kapitola 2'!$C$6:$D$282,2,0)","v":"Jakým způsobem řídí organizace rizika týkající se podzemních vod?"}]
[null,null,null,null,{"$f":"'Technický list'!B160","v":"Q2.37"},{"$f":"'Technický list'!C160","v":3},{"$f":"VLOOKUP(E389,'Technický list'!$AU$124:$BD$168,5,0)","v":"-"},"n.a.",null,{"$f":"VLOOKUP(E389,'Kapitola 2'!$C$6:$D$282,2,0)","v":"Jakým způsobem řídí organizace rizika týkající se znečištění půdy?"}]
[null,null,null,null,{"$f":"'Technický list'!B161","v":"Q2.38"},{"$f":"'Technický list'!C161","v":4},{"$f":"VLOOKUP(E390,'Technický list'!$AU$124:$BD$168,5,0)","v":"-"},"n.a.",null,{"$f":"VLOOKUP(E390,'Kapitola 2'!$C$6:$D$282,2,0)","v":"Jakým způsobem řídí organizace existující znečištění půdy?\n"}]
[null,null,null,null,{"$f":"'Technický list'!B162","v":"Q2.39"},{"$f":"'Technický list'!C162","v":3},{"$f":"VLOOKUP(E391,'Technický list'!$AU$124:$BD$168,5,0)","v":"-"},"n.a.",null,{"$f":"VLOOKUP(E391,'Kapitola 2'!$C$6:$D$282,2,0)","v":"Jakým způsobem organizace řídí své emise škodlivin do ovzduší?"}]
[null,null,null,null,{"$f":"'Technický list'!B163","v":"Q2.40"},{"$f":"'Technický list'!C163","v":4},{"$f":"VLOOKUP(E392,'Technický list'!$AU$124:$BD$168,5,0)","v":"-"},"n.a.",null,{"$f":"VLOOKUP(E392,'Kapitola 2'!$C$6:$D$282,2,0)","v":"Jakým způsobem organizace řídí své emise škodlivin do vody?"}]
[null,null,null,null,{"$f":"'Technický list'!B164","v":"Q2.41"},{"$f":"'Technický list'!C164","v":3},{"$f":"VLOOKUP(E393,'Technický list'!$AU$124:$BD$168,5,0)","v":"-"},"n.a.",null,{"$f":"VLOOKUP(E393,'Kapitola 2'!$C$6:$D$282,2,0)","v":"Jakým způsobem organizace řídí své emise hluku?"}]
[null,null,null,null,{"$f":"'Technický list'!B165","v":"Q2.42"},{"$f":"'Technický list'!C165","v":4},{"$f":"VLOOKUP(E394,'Technický list'!$AU$124:$BD$168,5,0)","v":"-"},"n.a.",null,{"$f":"VLOOKUP(E394,'Kapitola 2'!$C$6:$D$282,2,0)","v":"Jakým způsobem organizace řídí své emise zápachu?"}]
[null,null,null,null,{"$f":"'Technický list'!B166","v":"Q2.43"},{"$f":"'Technický list'!C166","v":4},{"$f":"VLOOKUP(E395,'Technický list'!$AU$124:$BD$168,5,0)","v":"-"},"n.a.",null,{"$f":"VLOOKUP(E395,'Kapitola 2'!$C$6:$D$282,2,0)","v":"Jakým způsobem organizace zabraňuje a řídí havarijní emise do prostředí?"}]
[null,null,null,null,{"$f":"'Technický list'!B167","v":"Q2.44"},{"$f":"'Technický list'!C167","v":4},{"$f":"VLOOKUP(E396,'Technický list'!$AU$124:$BD$168,5,0)","v":"-"},"n.a.",null,{"$f":"VLOOKUP(E396,'Kapitola 2'!$C$6:$D$282,2,0)","v":"Jakým způsobem zajišťuje organizace správně kompetence všech pracovníků, týkající se environmentálních požadavků, které souvisejí s jejich pracovní náplní?"}]
[null,null,null,null,{"$f":"'Technický list'!B168","v":"Q2.45"},{"$f":"'Technický list'!C168","v":3},{"$f":"VLOOKUP(E397,'Technický list'!$AU$124:$BD$168,5,0)","v":"-"},"n.a.",null,{"$f":"VLOOKUP(E397,'Kapitola 2'!$C$6:$D$282,2,0)","v":"Jakým způsobem jsou zainteresované strany organizace informovány o environmentálních aspektech a jejich možných dopadech?"}]
[null,null,null,null,"KAPITOLA 3: Posílení systémů řízení chemických látek"]
[null,null,null,null,{"$f":"'Technický list'!$B$406","v":"Q3.1"},{"$f":"'Technický list'!$C$406","v":3},{"$f":"VLOOKUP(E399,'Technický list'!$AU$406:$BD$418,5,0)","v":"-"},{"$f":"IF(G399=\"-\",\"n.a.\",IF(F399-G399>-1,\"compliant\",\"increase score\"))","v":"n.a."},null,{"$f":"VLOOKUP(E399,'Kapitola 3'!$C$6:$D$89,2,0)","v":"Zavedla organizace proces pro navrhování a vývoj nových \nproduktů a služeb?"}]
[null,null,null,null,{"$f":"'Technický list'!$B$407","v":"Q3.2"},{"$f":"'Technický list'!$C$407","v":2},{"$f":"VLOOKUP(E400,'Technický list'!$AU$406:$BD$418,5,0)","v":"-"},"n.a.",null,{"$f":"VLOOKUP(E400,'Kapitola 3'!$C$6:$D$89,2,0)","v":"Má organizace k dispozici proces hodnocení a stanovení priorit svých produktů pro charakterizaci rizik a řízení rizik?\n\n\n"}]
[null,null,null,null,{"$f":"'Technický list'!$B$408","v":"Q3.3"},{"$f":"'Technický list'!$C$408","v":3},{"$f":"VLOOKUP(E401,'Technický list'!$AU$406:$BD$418,5,0)","v":"-"},"n.a.",null,{"$f":"VLOOKUP(E401,'Kapitola 3'!$C$6:$D$89,2,0)","v":"Zavedla organizace systém pro sledování použitelnosti, změn a dodržování interních a externích požadavků souvisejících s řízením bezpečnosti chemických látek?"}]
[null,null,null,null,{"$f":"'Technický list'!$B$409","v":"Q3.4"},{"$f":"'Technický list'!$C$409","v":2},{"$f":"VLOOKUP(E402,'Technický list'!$AU$406:$BD$418,5,0)","v":"-"},"n.a.",null,{"$f":"VLOOKUP(E402,'Kapitola 3'!$C$6:$D$89,2,0)","v":"Zavedla organizace systém na správu existujících informací o rizicích svých produktů?"}]
[null,null,null,null,{"$f":"'Technický list'!$B$410","v":"Q3.5"},{"$f":"'Technický list'!$C$410","v":2},{"$f":"VLOOKUP(E403,'Technický list'!$AU$406:$BD$418,5,0)","v":"-"},"n.a.",null,{"$f":"VLOOKUP(E403,'Kapitola 3'!$C$6:$D$89,2,0)","v":"Zavedla organizace proces řízení informací o používání a expozici svých produktů?"}]
[null,null,null,null,{"$f":"'Technický list'!$B$411","v":"Q3.6"},{"$f":"'Technický list'!$C$411","v":4},{"$f":"VLOOKUP(E404,'Technický list'!$AU$406:$BD$418,5,0)","v":"-"},"n.a.",null,{"$f":"VLOOKUP(E404,'Kapitola 3'!$C$6:$D$89,2,0)","v":"Zavedla organizace proces na správu nových informací?"}]
[null,null,null,null,{"$f":"'Technický list'!$B$412","v":"Q3.7"},{"$f":"'Technický list'!$C$412","v":3},{"$f":"VLOOKUP(E405,'Technický list'!$AU$406:$BD$418,5,0)","v":"-"},"n.a.",null,{"$f":"VLOOKUP(E405,'Kapitola 3'!$C$6:$D$89,2,0)","v":"Zavedla organizace proces charakterizace rizik na základě shromážděných informací?"}]
[null,null,null,null,{"$f":"'Technický list'!$B$413","v":"Q3.8"},{"$f":"'Technický list'!$C$413","v":4},{"$f":"VLOOKUP(E406,'Technický list'!$AU$406:$BD$418,5,0)","v":"-"},"n.a.",null,{"$f":"VLOOKUP(E406,'Kapitola 3'!$C$6:$D$89,2,0)","v":"Zavedla organizace proces řízení rizik na základě shromážděných informací?"}]
[null,null,null,null,{"$f":"'Technický list'!$B$414","v":"Q3.9"},{"$f":"'Technický list'!$C$414","v":4},{"$f":"VLOOKUP(E407,'Technický list'!$AU$406:$BD$418,5,0)","v":"-"},"n.a.",null,{"$f":"VLOOKUP(E407,'Kapitola 3'!$C$6:$D$89,2,0)","v":"Zavedla organizace účinný proces sledování svých produktů po dodání a provádění nápravných opatření?\n"}]
[null,null,null,null,{"$f":"'Technický list'!$B$415","v":"Q3.10"},{"$f":"'Technický list'!$C$415","v":4},{"$f":"VLOOKUP(E408,'Technický list'!$AU$406:$BD$418,5,0)","v":"-"},"n.a.",null,{"$f":"VLOOKUP(E408,'Kapitola 3'!$C$6:$D$89,2,0)","v":"Poskytuje organizace efektivní komunikaci v rámci dodavatelského řetězce ohledně opatření k řízení rizik, které se vztahují na jejich produkty?"}]
[null,null,null,null,"KAPITOLA 4: Působení na obchodní partnery"]
[null,null,null,null,{"$f":"'Technický list'!B482","v":"Q4.1"},{"$f":"'Technický list'!C482","v":3},{"$f":"VLOOKUP(E410,'Technický list'!$AU$482:$BD$489,5,0)","v":"-"},{"$f":"IF(G410=\"-\",\"n.a.\",IF(F410-G410>-1,\"compliant\",\"increase score\"))","v":"n.a."},null,{"$f":"VLOOKUP(E410,'Kapitola 4'!$C$6:$D$91,2,0)","v":"Jak se organizace zavázala k odpovědnému získávání zdrojů?"}]
[null,null,null,null,{"$f":"'Technický list'!B483","v":"Q4.2"},{"$f":"'Technický list'!C483","v":4},{"$f":"VLOOKUP(E411,'Technický list'!$AU$482:$BD$489,5,0)","v":"-"},{"$f":"IF(G411=\"-\",\"n.a.\",IF(F411-G411>-1,\"compliant\",\"increase score\"))","v":"n.a."},null,{"$f":"VLOOKUP(E411,'Kapitola 4'!$C$6:$D$91,2,0)","v":"Jak organizace zlepšuje spolupráci v dodavatelském řetězci?"}]
[null,null,null,null,{"$f":"'Technický list'!B484","v":"Q4.3"},{"$f":"'Technický list'!C484","v":3},{"$f":"VLOOKUP(E412,'Technický list'!$AU$482:$BD$489,5,0)","v":"-"},"n.a.",null,{"$f":"VLOOKUP(E412,'Kapitola 4'!$C$6:$D$91,2,0)","v":"Jakým způsobem vyjadřuje organizace svůj závazek vůči podnikatelské etice?"}]
[null,null,null,null,{"$f":"'Technický list'!B485","v":"Q4.4"},{"$f":"'Technický list'!C485","v":2},{"$f":"VLOOKUP(E413,'Technický list'!$AU$482:$BD$489,5,0)","v":"-"},"n.a.",null,{"$f":"VLOOKUP(E413,'Kapitola 4'!$C$6:$D$91,2,0)","v":"Jakým způsobem řeší organizace sociální problematiku a lidská práva v rámci spolupráce s obchodními partnery?"}]
[null,null,null,null,{"$f":"'Technický list'!B486","v":"Q4.5"},{"$f":"'Technický list'!C486","v":4},{"$f":"VLOOKUP(E414,'Technický list'!$AU$482:$BD$489,5,0)","v":"-"},"n.a.",null,{"$f":"VLOOKUP(E414,'Kapitola 4'!$C$6:$D$91,2,0)","v":"Jakým způsobem zabraňuje organizace dětské práci?\nOrganizace\n1-\tzavedla systém ověřování věku; \n2-\tnezaměstnává děti mladší 15 let (v závislosti na místní legislativy). Jedinou výjimku představují učni, školní praxe nebo vzdělávací stáže; \n3-\tzaručuje, aby pracovní náplň osob mladších než 18 let neovlivňovala jejich školní docházku (doba strávená dopravou do práce a školy a z práce a školy, školní docházkou a prací je méně než 10 hodin denně );\n4-\tzajišťuje, že pracovní náplň mladých pracovníků není duševně, fyzicky, společensky ani morálně nebezpečná a škodlivá."}]
[null,null,null,null,{"$f":"'Technický list'!B487","v":"Q4.6"},{"$f":"'Technický list'!C487","v":3},{"$f":"VLOOKUP(E415,'Technický list'!$AU$482:$BD$489,5,0)","v":3},{"$f":"IF(G415=\"-\",\"n.a.\",IF(F415-G415>-1,\"v souladu\",\"zvyšte skóre\"))","v":"v souladu"},null,{"$f":"VLOOKUP(E415,'Kapitola 4'!$C$6:$D$91,2,0)","v":"Jakým způsobem zabezpečuje organizace splnění svých požadavků ze strany logistických partnerů?"}]
[null,null,null,null,{"$f":"'Technický list'!B488","v":"Q4.7"},{"$f":"'Technický list'!C488","v":1},{"$f":"VLOOKUP(E416,'Technický list'!$AU$482:$BD$489,5,0)","v":"-"},"n.a.",null,{"$f":"VLOOKUP(E416,'Kapitola 4'!$C$6:$D$91,2,0)","v":"Jakým způsobem organizace chrání a zabezpečuje majetek a údaje následných uživatelů nebo externích poskytovatelů, které se používají nebo začleňují do produktů a služeb?"}]
[null,null,null,null,{"$f":"'Technický list'!B489","v":"Q4.8"},{"$f":"'Technický list'!C489","v":4},{"$f":"VLOOKUP(E417,'Technický list'!$AU$482:$BD$489,5,0)","v":"-"},"n.a.",null,{"$f":"VLOOKUP(E417,'Kapitola 4'!$C$6:$D$91,2,0)","v":"Co zahrnuje dialog s následnými uživateli?"}]
[null,null,null,null,"KAPITOLA 5: Zapojení zainteresovaných stran"]
[null,null,null,null,{"$f":"'Technický list'!B544","v":"Q5.1"},{"$f":"'Technický list'!C544","v":3},{"$f":"VLOOKUP(E419,'Technický list'!$AU$544:$BD$548,5,0)","v":3},{"$f":"IF(G419=\"-\",\"n.a.\",IF(F419-G419>-1,\"v souladu\",\"zvyšte skóre\"))","v":"v souladu"},null,{"$f":"VLOOKUP(E419,'Kapitola 5'!$C$6:$D$89,2,0)","v":"Jakým způsobem zapojuje organizace své externí zainteresované strany a naplňuje jejich očekávání?"}]
[null,null,null,null,{"$f":"'Technický list'!B545","v":"Q5.2"},{"$f":"'Technický list'!C545","v":4},{"$f":"VLOOKUP(E420,'Technický list'!$AU$544:$BD$548,5,0)","v":"-"},{"$f":"IF(G420=\"-\",\"n.a.\",IF(F420-G420>-1,\"compliant\",\"increase score\"))","v":"n.a."},null,{"$f":"VLOOKUP(E420,'Kapitola 5'!$C$6:$D$89,2,0)","v":"Jakým způsobem vede organizace dialog s veřejností, úřady a dalšími zainteresovanými stranami, včetně místních komunit a zákazníků v souvislosti s HSE&S v rámci jejich činností, produktů a služeb?"}]
[null,null,null,null,{"$f":"'Technický list'!B546","v":"Q5.3"},{"$f":"'Technický list'!C546","v":2},{"$f":"VLOOKUP(E421,'Technický list'!$AU$544:$BD$548,5,0)","v":"-"},"n.a.",null,{"$f":"VLOOKUP(E421,'Kapitola 5'!$C$6:$D$89,2,0)","v":"Jakým způsobem zveřejňuje organizace informace týkající se\n HSE&S?"}]
[null,null,null,null,{"$f":"'Technický list'!B547","v":"Q5.4"},{"$f":"'Technický list'!C547","v":2},{"$f":"VLOOKUP(E422,'Technický list'!$AU$544:$BD$548,5,0)","v":"-"},"n.a.",null,{"$f":"VLOOKUP(E422,'Kapitola 5'!$C$6:$D$89,2,0)","v":"Jakým způsobem podporuje organizace místní komunity?"}]
[null,null,null,null,{"$f":"'Technický list'!B548","v":"Q5.5"},{"$f":"'Technický list'!C548","v":3},{"$f":"VLOOKUP(E423,'Technický list'!$AU$544:$BD$548,5,0)","v":"-"},"n.a.",null,{"$f":"VLOOKUP(E423,'Kapitola 5'!$C$6:$D$89,2,0)","v":"Jakým způsobem stimuluje organizace místní zaměstnanost a vzdělávání?"}]
[null,null,null,null,"KAPITOLA 6: Přispívání k udržitelnosti"]
[null,null,null,null,{"$f":"'Technický list'!B584","v":"Q6.1"},{"$f":"'Technický list'!C584","v":2},{"$f":"VLOOKUP(E425,'Technický list'!$AU$584:$BD$600,5,0)","v":"-"},{"$f":"IF(G425=\"-\",\"n.a.\",IF(F425-G425>-1,\"compliant\",\"increase score\"))","v":"n.a."},null,{"$f":"VLOOKUP(E425,'Kapitola 6'!$C$6:$D$120,2,0)","v":"Jakým způsobem definuje organizace významné problémy a závažnost?"}]
[null,null,null,null,{"$f":"'Technický list'!B585","v":"Q6.2"},{"$f":"'Technický list'!C585","v":2},{"$f":"VLOOKUP(E426,'Technický list'!$AU$584:$BD$600,5,0)","v":"-"},{"$f":"IF(G426=\"-\",\"n.a.\",IF(F426-G426>-1,\"compliant\",\"increase score\"))","v":"n.a."},null,{"$f":"VLOOKUP(E426,'Kapitola 6'!$C$6:$D$120,2,0)","v":"Jakým způsobem hodlá organizace přispívat k udržitelnému rozvoji?"}]
[null,null,null,null,{"$f":"'Technický list'!B586","v":"Q6.3"},{"$f":"'Technický list'!C586","v":3},{"$f":"VLOOKUP(E427,'Technický list'!$AU$584:$BD$600,5,0)","v":"-"},"n.a.",null,{"$f":"VLOOKUP(E427,'Kapitola 6'!$C$6:$D$120,2,0)","v":"Jakým způsobem komunikuje organizace zainteresovaných stran na téma udržitelnosti?"}]
[null,null,null,null,{"$f":"'Technický list'!B587","v":"Q6.4"},{"$f":"'Technický list'!C587","v":2},{"$f":"VLOOKUP(E428,'Technický list'!$AU$584:$BD$600,5,0)","v":"-"},"n.a.",null,{"$f":"VLOOKUP(E428,'Kapitola 6'!$C$6:$D$120,2,0)","v":"Má organizace zavedený proces navrhování výrobků s lepšími výsledky udržitelnosti?"}]
[null,null,null,null,{"$f":"'Technický list'!B588","v":"Q6.5"},{"$f":"'Technický list'!C588","v":2},{"$f":"VLOOKUP(E429,'Technický list'!$AU$584:$BD$600,5,0)","v":"-"},"n.a.",null,{"$f":"VLOOKUP(E429,'Kapitola 6'!$C$6:$D$120,2,0)","v":"Jakým způsobem zvyšuje organizace efektivnost zdrojů ve svých výrobních procesech?"}]
[null,null,null,null,{"$f":"'Technický list'!B589","v":"Q6.6"},{"$f":"'Technický list'!C589","v":1},{"$f":"VLOOKUP(E430,'Technický list'!$AU$584:$BD$600,5,0)","v":"-"},"n.a.",null,{"$f":"VLOOKUP(E430,'Kapitola 6'!$C$6:$D$120,2,0)","v":"Jakým způsobem stimuluje organizace oběhové hospodářství prostřednictvím svých produktů?"}]
[null,null,null,null,{"$f":"'Technický list'!B590","v":"Q6.7"},{"$f":"'Technický list'!C590","v":3},{"$f":"VLOOKUP(E431,'Technický list'!$AU$584:$BD$600,5,0)","v":"-"},"n.a.",null,{"$f":"VLOOKUP(E431,'Kapitola 6'!$C$6:$D$120,2,0)","v":"Jakým způsobem podporuje organizace inovace při vývoji produktů a řešení, které odpovídají výzvám udržitelnosti?"}]
[null,null,null,null,{"$f":"'Technický list'!B591","v":"Q6.8"},{"$f":"'Technický list'!C591","v":3},{"$f":"VLOOKUP(E432,'Technický list'!$AU$584:$BD$600,5,0)","v":"-"},"n.a.",null,{"$f":"VLOOKUP(E432,'Kapitola 6'!$C$6:$D$120,2,0)","v":"Jakým způsobem stimuluje organizace inovaci a spolupráci?"}]
[null,null,null,null,{"$f":"'Technický list'!B592","v":"Q6.9"},{"$f":"'Technický list'!C592","v":1},{"$f":"VLOOKUP(E433,'Technický list'!$AU$584:$BD$600,5,0)","v":"-"},"n.a.",null,{"$f":"VLOOKUP(E433,'Kapitola 6'!$C$6:$D$120,2,0)","v":"Jakým způsobem podporuje organizace udržitelné způsoby spotřeby?"}]
[null,null,null,null,{"$f":"'Technický list'!B593","v":"Q6.10"},{"$f":"'Technický list'!C593","v":2},{"$f":"VLOOKUP(E434,'Technický list'!$AU$584:$BD$600,5,0)","v":"-"},"n.a.",null,{"$f":"VLOOKUP(E434,'Kapitola 6'!$C$6:$D$120,2,0)","v":"Jakým způsobem organizace kontroluje a optimalizuje spotřebu vody?"}]
[null,null,null,null,{"$f":"'Technický list'!B594","v":"Q6.11"},{"$f":"'Technický list'!C594","v":3},{"$f":"VLOOKUP(E435,'Technický list'!$AU$584:$BD$600,5,0)","v":"-"},"n.a.",null,{"$f":"VLOOKUP(E435,'Kapitola 6'!$C$6:$D$120,2,0)","v":"Jakým způsobem se řídí vliv organizace na biodiverzitu a ekosystém?"}]
[null,null,null,null,{"$f":"'Technický list'!B595","v":"Q6.12"},{"$f":"'Technický list'!C595","v":1},{"$f":"VLOOKUP(E436,'Technický list'!$AU$584:$BD$600,5,0)","v":"-"},"n.a.",null,{"$f":"VLOOKUP(E436,'Kapitola 6'!$C$6:$D$120,2,0)","v":"Jakým způsobem posuzuje organizace svou závislost na přírodních zdrojích (ekosystémech)?"}]
[null,null,null,null,{"$f":"'Technický list'!B596","v":"Q6.13"},{"$f":"'Technický list'!C596","v":2},{"$f":"VLOOKUP(E437,'Technický list'!$AU$584:$BD$600,5,0)","v":"-"},"n.a.",null,{"$f":"VLOOKUP(E437,'Kapitola 6'!$C$6:$D$120,2,0)","v":"Jakým způsobem řídí organizace svou spotřebu energie?"}]
[null,null,null,null,{"$f":"'Technický list'!B597","v":"Q6.14"},{"$f":"'Technický list'!C597","v":3},{"$f":"VLOOKUP(E438,'Technický list'!$AU$584:$BD$600,5,0)","v":"-"},"n.a.",null,{"$f":"VLOOKUP(E438,'Kapitola 6'!$C$6:$D$120,2,0)","v":"Jakým způsobem řídí organizace emise skleníkových plynů (kromě úspor energie)?"}]
[null,null,null,null,{"$f":"'Technický list'!B598","v":"Q6.15"},{"$f":"'Technický list'!C598","v":2},{"$f":"VLOOKUP(E439,'Technický list'!$AU$584:$BD$600,5,0)","v":"-"},"n.a.",null,{"$f":"VLOOKUP(E439,'Kapitola 6'!$C$6:$D$120,2,0)","v":"Jaká je strategie organizace na snižování emisí skleníkových plynů?"}]
[null,null,null,null,{"$f":"'Technický list'!B599","v":"Q6.16"},{"$f":"'Technický list'!C599","v":2},{"$f":"VLOOKUP(E440,'Technický list'!$AU$584:$BD$600,5,0)","v":3},{"$f":"IF(G440=\"-\",\"n.a.\",IF(F440-G440>-1,\"v souladu\",\"zvyšte skóre\"))","v":"zvyšte skóre"},null,{"$f":"VLOOKUP(E440,'Kapitola 6'!$C$6:$D$120,2,0)","v":"Jakým způsobem se organizace připravuje na klimatické změny? "}]
[null,null,null,null,{"$f":"'Technický list'!B600","v":"Q6.17"},{"$f":"'Technický list'!C600","v":3},{"$f":"VLOOKUP(E441,'Technický list'!$AU$584:$BD$600,5,0)","v":"-"},"n.a.",null,{"$f":"VLOOKUP(E441,'Kapitola 6'!$C$6:$D$120,2,0)","v":"Jak organizace zajišťuje rovné příležitosti při náboru a během kariéry všech?"}]
[]
[null,null,"Zpráva o souladu s ISO 50001"]
[null,null,null,null,null,"Vaše skóre ","Minimální skóre pro ISO 50001"]
[null,null,null,null,"KAPITOLA 1: Podniková kultura vedení "]
[null,null,null,null,{"$f":"'Technický list'!B10","v":"Q1.1"},{"$f":"'Technický list'!C10","v":4},{"$f":"VLOOKUP(E446,'Technický list'!$AU$10:$BD$25,6,0)","v":3},{"$f":"IF(G446=\"-\",\"n.a.\",IF(F446-G446>-1,\"v souladu\",\"zvyšte skóre\"))","v":"v souladu"},null,{"$f":"VLOOKUP(E446,'Kapitola 1'!$C$6:$D$112,2,0)","v":"Jak se projevuje závazek plnit povinnosti týkající se dodržování předpisů a zásad Responsible Care = RC (tj. ochrana a podpora zdraví a bezpečnost lidí, životního prostředí a udržitelnosti) na všech úrovních organizace?\n"}]
[null,null,null,null,{"$f":"'Technický list'!B11","v":"Q1.2"},{"$f":"'Technický list'!C11","v":4},{"$f":"VLOOKUP(E447,'Technický list'!$AU$10:$BD$25,6,0)","v":3},{"$f":"IF(G447=\"-\",\"n.a.\",IF(F447-G447>-1,\"v souladu\",\"zvyšte skóre\"))","v":"v souladu"},null,{"$f":"VLOOKUP(E447,'Kapitola 1'!$C$6:$D$112,2,0)","v":"Jakým způsobem řídí organizace příslušná rizika a příležitosti?  "}]
[null,null,null,null,{"$f":"'Technický list'!B12","v":"Q1.3"},{"$f":"'Technický list'!C12","v":4},{"$f":"VLOOKUP(E448,'Technický list'!$AU$10:$BD$25,6,0)","v":2},{"$f":"IF(G448=\"-\",\"n.a.\",IF(F448-G448>-1,\"v souladu\",\"zvyšte skóre\"))","v":"v souladu"},null,{"$f":"VLOOKUP(E448,'Kapitola 1'!$C$6:$D$112,2,0)","v":"Jakým způsobem monitoruje organizace svoje zákonné povinnosti? "}]
[null,null,null,null,{"$f":"'Technický list'!B13","v":"Q1.4"},{"$f":"'Technický list'!C13","v":3},{"$f":"VLOOKUP(E449,'Technický list'!$AU$10:$BD$25,6,0)","v":2},{"$f":"IF(G449=\"-\",\"n.a.\",IF(F449-G449>-1,\"v souladu\",\"zvyšte skóre\"))","v":"v souladu"},null,{"$f":"VLOOKUP(E449,'Kapitola 1'!$C$6:$D$112,2,0)","v":"Jakým způsobem top management zajišťuje, že jednotlivé aspekty HSE&S (zdraví, bezpečnosti, ochrany životního prostředí & udržitelnosti) jsou přiřazeny stanoveným rolím v organizaci?"}]
[null,null,null,null,{"$f":"'Technický list'!B14","v":"Q1.5"},{"$f":"'Technický list'!C14","v":3},{"$f":"VLOOKUP(E450,'Technický list'!$AU$10:$BD$25,6,0)","v":3},{"$f":"IF(G450=\"-\",\"n.a.\",IF(F450-G450>-1,\"v souladu\",\"zvyšte skóre\"))","v":"v souladu"},null,{"$f":"VLOOKUP(E450,'Kapitola 1'!$C$6:$D$112,2,0)","v":"Jakým způsobem se top management podílí na řešení záležitostí HSE&S?"}]
[null,null,null,null,{"$f":"'Technický list'!B15","v":"Q1.6"},{"$f":"'Technický list'!C15","v":3},{"$f":"VLOOKUP(E451,'Technický list'!$AU$10:$BD$25,6,0)","v":"-"},{"$f":"IF(G451=\"-\",\"n.a.\",IF(F451-G451>-1,\"compliant\",\"increase score\"))","v":"n.a."},null,{"$f":"VLOOKUP(E451,'Kapitola 1'!$C$6:$D$112,2,0)","v":"Jakým způsobem jsou odpovědnosti HSE&S začleněny do popisů pracovní náplně nebo ročních cílů?\n"}]
[null,null,null,null,{"$f":"'Technický list'!B16","v":"Q1.7"},{"$f":"'Technický list'!C16","v":3},{"$f":"VLOOKUP(E452,'Technický list'!$AU$10:$BD$25,6,0)","v":3},{"$f":"IF(G452=\"-\",\"n.a.\",IF(F452-G452>-1,\"v souladu\",\"zvyšte skóre\"))","v":"v souladu"},null,{"$f":"VLOOKUP(E452,'Kapitola 1'!$C$6:$D$112,2,0)","v":"Jakým způsobem se řídí (nejdůležitější) procesy v souvislosti s HSE&S?"}]
[null,null,null,null,{"$f":"'Technický list'!B17","v":"Q1.8"},{"$f":"'Technický list'!C17","v":3},{"$f":"VLOOKUP(E453,'Technický list'!$AU$10:$BD$25,6,0)","v":3},"v souladu",null,{"$f":"VLOOKUP(E453,'Kapitola 1'!$C$6:$D$112,2,0)","v":"Jakým způsobem top management zajišťuje neustálé zlepšování výkonu v oblasti HSE&S (zdraví, bezpečnosti, životního prostředí, energetiky a udržitelnosti)?"}]
[null,null,null,null,{"$f":"'Technický list'!B18","v":"Q1.9"},{"$f":"'Technický list'!C18","v":4},{"$f":"VLOOKUP(E454,'Technický list'!$AU$10:$BD$25,6,0)","v":3},"v souladu",null,{"$f":"VLOOKUP(E454,'Kapitola 1'!$C$6:$D$112,2,0)","v":"Jak jsou organizovány interní audity?"}]
[null,null,null,null,{"$f":"'Technický list'!B19","v":"Q1.10"},{"$f":"'Technický list'!C19","v":4},{"$f":"VLOOKUP(E455,'Technický list'!$AU$10:$BD$25,6,0)","v":3},"v souladu",null,{"$f":"VLOOKUP(E455,'Kapitola 1'!$C$6:$D$112,2,0)","v":"Jakým způsobem probíhá vyšetřování?"}]
[null,null,null,null,{"$f":"'Technický list'!B20","v":"Q1.11"},{"$f":"'Technický list'!C20","v":3},{"$f":"VLOOKUP(E456,'Technický list'!$AU$10:$BD$25,6,0)","v":3},"v souladu",null,{"$f":"VLOOKUP(E456,'Kapitola 1'!$C$6:$D$112,2,0)","v":"Jakým způsobem organizace zajišťuje procesy, čas a zdroje potřebné pro zlepšování procesů řízení HSE&S?"}]
[null,null,null,null,{"$f":"'Technický list'!B21","v":"Q1.12"},{"$f":"'Technický list'!C21","v":3},{"$f":"VLOOKUP(E457,'Technický list'!$AU$10:$BD$25,6,0)","v":3},"v souladu",null,{"$f":"VLOOKUP(E457,'Kapitola 1'!$C$6:$D$112,2,0)","v":"Jak organizace zajišťuje, že zaměstnanci jsou si vědomi politik a procesů týkajících se zdraví, bezpečnosti, životního prostředí, energetiky a udržitelnosti?"}]
[null,null,null,null,{"$f":"'Technický list'!B22","v":"Q1.13"},{"$f":"'Technický list'!C22","v":3},{"$f":"VLOOKUP(E458,'Technický list'!$AU$10:$BD$25,6,0)","v":3},"v souladu",null,{"$f":"VLOOKUP(E458,'Kapitola 1'!$C$6:$D$112,2,0)","v":"Jakým způsobem organizace zajišťuje správné kompetence pracovníků, pokud jde o aspekty HSE&S týkající se jejich práce?"}]
[null,null,null,null,{"$f":"'Technický list'!B23","v":"Q1.14"},{"$f":"'Technický list'!C23","v":3},{"$f":"VLOOKUP(E459,'Technický list'!$AU$10:$BD$25,6,0)","v":2},"v souladu",null,{"$f":"VLOOKUP(E459,'Kapitola 1'!$C$6:$D$112,2,0)","v":"Jaká je struktura zapojení zaměstnanců?"}]
[null,null,null,null,{"$f":"'Technický list'!B24","v":"Q1.15"},{"$f":"'Technický list'!C24","v":3},{"$f":"VLOOKUP(E460,'Technický list'!$AU$10:$BD$25,6,0)","v":3},"v souladu",null,{"$f":"VLOOKUP(E460,'Kapitola 1'!$C$6:$D$112,2,0)","v":"Jakým způsobem se řídí dokumentace HSE&S?"}]
[null,null,null,null,{"$f":"'Technický list'!B25","v":"Q1.16"},{"$f":"'Technický list'!C25","v":3},{"$f":"VLOOKUP(E461,'Technický list'!$AU$10:$BD$25,6,0)","v":3},"v souladu",null,{"$f":"VLOOKUP(E461,'Kapitola 1'!$C$6:$D$112,2,0)","v":"Jakým způsobem jsou řízeny změny potenciálně ovlivňující HSE&S (zdraví, bezpečnost, životní prostředí, energetiku a udržitelnost)?"}]
[null,null,null,null,"KAPITOLA 2: Ochrana lidí a životního prostředí"]
[null,null,null,null,{"$f":"'Technický list'!B124","v":"Q2.1"},{"$f":"'Technický list'!C124","v":3},{"$f":"VLOOKUP(E463,'Technický list'!$AU$124:$BD$168,6,0)","v":"-"},{"$f":"IF(G463=\"-\",\"n.a.\",IF(F463-G463>-1,\"compliant\",\"increase score\"))","v":"n.a."},null,{"$f":"VLOOKUP(E463,'Kapitola 2'!$C$6:$D$282,2,0)","v":"Jak se management zavázal k ochraně zdraví a bezpečnosti při práci (dále jen \"BOZP\")?"}]
[null,null,null,null,{"$f":"'Technický list'!B125","v":"Q2.2"},{"$f":"'Technický list'!C125","v":4},{"$f":"VLOOKUP(E464,'Technický list'!$AU$124:$BD$168,6,0)","v":"-"},"n.a.",null,{"$f":"VLOOKUP(E464,'Kapitola 2'!$C$6:$D$282,2,0)","v":"Jakým způsobem se určují rizika a expozice v souvislosti s BOZP?"}]
[null,null,null,null,{"$f":"'Technický list'!B126","v":"Q2.3"},{"$f":"'Technický list'!C126","v":3},{"$f":"VLOOKUP(E465,'Technický list'!$AU$124:$BD$168,6,0)","v":"-"},"n.a.",null,{"$f":"VLOOKUP(E465,'Kapitola 2'!$C$6:$D$282,2,0)","v":"Jakým způsobem se posuzují zdravotní požadavky?"}]
[null,null,null,null,{"$f":"'Technický list'!B127","v":"Q2.4"},{"$f":"'Technický list'!C127","v":4},{"$f":"VLOOKUP(E466,'Technický list'!$AU$124:$BD$168,6,0)","v":"-"},"n.a.",null,{"$f":"VLOOKUP(E466,'Kapitola 2'!$C$6:$D$282,2,0)","v":"Jakým způsobem zlepšuje organizace BOZP?"}]
[null,null,null,null,{"$f":"'Technický list'!B128","v":"Q2.5"},{"$f":"'Technický list'!C128","v":2},{"$f":"VLOOKUP(E467,'Technický list'!$AU$124:$BD$168,6,0)","v":"-"},"n.a.",null,{"$f":"VLOOKUP(E467,'Kapitola 2'!$C$6:$D$282,2,0)","v":"Jakým způsobem probíhá údržba a udržování pořádku s cílem zajistit bezpečnost provozů, zařízení, nástrojů a (bezpečnostních) pomůcek?"}]
[null,null,null,null,{"$f":"'Technický list'!B129","v":"Q2.6"},{"$f":"'Technický list'!C129","v":3},{"$f":"VLOOKUP(E468,'Technický list'!$AU$124:$BD$168,6,0)","v":"-"},"n.a.",null,{"$f":"VLOOKUP(E468,'Kapitola 2'!$C$6:$D$282,2,0)","v":"Jak se ověřuje správný výběr, údržba a používání zdravotního a bezpečnostního vybavení (např. osobních ochranných prostředků = OOPP)?"}]
[null,null,null,null,{"$f":"'Technický list'!B130","v":"Q2.7"},{"$f":"'Technický list'!C130","v":2},{"$f":"VLOOKUP(E469,'Technický list'!$AU$124:$BD$168,6,0)","v":"-"},"n.a.",null,{"$f":"VLOOKUP(E469,'Kapitola 2'!$C$6:$D$282,2,0)","v":"Jak se organizace stará o stres a tělesné a duševní zdraví zaměstnanců?"}]
[null,null,null,null,{"$f":"'Technický list'!B131","v":"Q2.8"},{"$f":"'Technický list'!C131","v":3},{"$f":"VLOOKUP(E470,'Technický list'!$AU$124:$BD$168,6,0)","v":"-"},"n.a.",null,{"$f":"VLOOKUP(E470,'Kapitola 2'!$C$6:$D$282,2,0)","v":"Jakým způsobem se vyšetřují onemocnění, zranění, incidenty a potenciálně nebezpečné situace na pracovišti?"}]
[null,null,null,null,{"$f":"'Technický list'!B132","v":"Q2.9"},{"$f":"'Technický list'!C132","v":4},{"$f":"VLOOKUP(E471,'Technický list'!$AU$124:$BD$168,6,0)","v":"-"},"n.a.",null,{"$f":"VLOOKUP(E471,'Kapitola 2'!$C$6:$D$282,2,0)","v":"Jak je organizace připravena na mimořádné události?"}]
[null,null,null,null,{"$f":"'Technický list'!B133","v":"Q2.10"},{"$f":"'Technický list'!C133","v":3},{"$f":"VLOOKUP(E472,'Technický list'!$AU$124:$BD$168,6,0)","v":3},{"$f":"IF(G472=\"-\",\"n.a.\",IF(F472-G472>-1,\"v souladu\",\"zvyšte skóre\"))","v":"v souladu"},null,{"$f":"VLOOKUP(E472,'Kapitola 2'!$C$6:$D$282,2,0)","v":"Jakým způsobem zajišťuje organizace správně kompetence všech pracovníků, týkající se požadavků BOZP, které souvisí s jejich pracovní náplní?"}]
[null,null,null,null,{"$f":"'Technický list'!B134","v":"Q2.11"},{"$f":"'Technický list'!C134","v":3},{"$f":"VLOOKUP(E473,'Technický list'!$AU$124:$BD$168,6,0)","v":"-"},"n.a.",null,{"$f":"VLOOKUP(E473,'Kapitola 2'!$C$6:$D$282,2,0)","v":"Jakým způsobem se vedení staví k procesní bezpečnosti?\n\n"}]
[null,null,null,null,{"$f":"'Technický list'!B135","v":"Q2.12"},{"$f":"'Technický list'!C135","v":4},{"$f":"VLOOKUP(E474,'Technický list'!$AU$124:$BD$168,6,0)","v":"-"},"n.a.",null,{"$f":"VLOOKUP(E474,'Kapitola 2'!$C$6:$D$282,2,0)","v":"Jakým způsobem je vypracována identifikace a popis bezpečnosti procesů, zařízení a pracovišť organizace?"}]
[null,null,null,null,{"$f":"'Technický list'!B136","v":"Q2.13"},{"$f":"'Technický list'!C136","v":3},{"$f":"VLOOKUP(E475,'Technický list'!$AU$124:$BD$168,6,0)","v":"-"},"n.a.",null,{"$f":"VLOOKUP(E475,'Kapitola 2'!$C$6:$D$282,2,0)","v":"Jakým způsobem se zlepšuje procesní bezpečnost po nehodách a incidentech?"}]
[null,null,null,null,{"$f":"'Technický list'!B137","v":"Q2.14"},{"$f":"'Technický list'!C137","v":1},{"$f":"VLOOKUP(E476,'Technický list'!$AU$124:$BD$168,6,0)","v":"-"},"n.a.",null,{"$f":"VLOOKUP(E476,'Kapitola 2'!$C$6:$D$282,2,0)","v":"Jakým způsobem se provádějí audity a inspekce procesní bezpečnosti?"}]
[null,null,null,null,{"$f":"'Technický list'!B138","v":"Q2.15"},{"$f":"'Technický list'!C138","v":3},{"$f":"VLOOKUP(E477,'Technický list'!$AU$124:$BD$168,6,0)","v":"-"},"n.a.",null,{"$f":"VLOOKUP(E477,'Kapitola 2'!$C$6:$D$282,2,0)","v":"Jakým způsobem se prověřují a zlepšují pracovní pokyny?"}]
[null,null,null,null,{"$f":"'Technický list'!B139","v":"Q2.16"},{"$f":"'Technický list'!C139","v":4},{"$f":"VLOOKUP(E478,'Technický list'!$AU$124:$BD$168,6,0)","v":"-"},"n.a.",null,{"$f":"VLOOKUP(E478,'Kapitola 2'!$C$6:$D$282,2,0)","v":"Jak je navrhována a dokumnetována instalace nových zařízení?"}]
[null,null,null,null,{"$f":"'Technický list'!B140","v":"Q2.17"},{"$f":"'Technický list'!C140","v":4},{"$f":"VLOOKUP(E479,'Technický list'!$AU$124:$BD$168,6,0)","v":"-"},"n.a.",null,{"$f":"VLOOKUP(E479,'Kapitola 2'!$C$6:$D$282,2,0)","v":"Jakým způsobem probíhá kontrola zřizování instalace?"}]
[null,null,null,null,{"$f":"'Technický list'!B141","v":"Q2.18"},{"$f":"'Technický list'!C141","v":3},{"$f":"VLOOKUP(E480,'Technický list'!$AU$124:$BD$168,6,0)","v":"-"},"n.a.",null,{"$f":"VLOOKUP(E480,'Kapitola 2'!$C$6:$D$282,2,0)","v":"Jakým způsobem je zaručena ochrana zařízení, aby jediná chyba neměla katastrofické následky?"}]
[null,null,null,null,{"$f":"'Technický list'!B142","v":"Q2.19"},{"$f":"'Technický list'!C142","v":3},{"$f":"VLOOKUP(E481,'Technický list'!$AU$124:$BD$168,6,0)","v":"-"},"n.a.",null,{"$f":"VLOOKUP(E481,'Kapitola 2'!$C$6:$D$282,2,0)","v":"Byly zřízeny programy preventivní údržby a péče, které zaručují bezpečnost provozů, nástrojů a zařízení?"}]
[null,null,null,null,{"$f":"'Technický list'!B143","v":"Q2.20"},{"$f":"'Technický list'!C143","v":4},{"$f":"VLOOKUP(E482,'Technický list'!$AU$124:$BD$168,6,0)","v":"-"},"n.a.",null,{"$f":"VLOOKUP(E482,'Kapitola 2'!$C$6:$D$282,2,0)","v":"Jakým způsobem se řídí procesy během mimořádných událostí v případě přerušení dodávky energie nebo služeb?"}]
[null,null,null,null,{"$f":"'Technický list'!B144","v":"Q2.21"},{"$f":"'Technický list'!C144","v":3},{"$f":"VLOOKUP(E483,'Technický list'!$AU$124:$BD$168,6,0)","v":"-"},"n.a.",null,{"$f":"VLOOKUP(E483,'Kapitola 2'!$C$6:$D$282,2,0)","v":"Jak se připravují havarijní plány?"}]
[null,null,null,null,{"$f":"'Technický list'!B145","v":"Q2.22"},{"$f":"'Technický list'!C145","v":2},{"$f":"VLOOKUP(E484,'Technický list'!$AU$124:$BD$168,6,0)","v":"-"},"n.a.",null,{"$f":"VLOOKUP(E484,'Kapitola 2'!$C$6:$D$282,2,0)","v":"Jakým způsobem jsou zabezpečeny kompetence a školení zaměstnanců a dodavatelů zapojených do procesů?"}]
[null,null,null,null,{"$f":"'Technický list'!B146","v":"Q2.23"},{"$f":"'Technický list'!C146","v":4},{"$f":"VLOOKUP(E485,'Technický list'!$AU$124:$BD$168,6,0)","v":"-"},"n.a.",null,{"$f":"VLOOKUP(E485,'Kapitola 2'!$C$6:$D$282,2,0)","v":"Jakým způsobem se sdílejí informace o rizicích látek a přípravků?"}]
[null,null,null,null,{"$f":"'Technický list'!B147","v":"Q2.24"},{"$f":"'Technický list'!C147","v":4},{"$f":"VLOOKUP(E486,'Technický list'!$AU$124:$BD$168,6,0)","v":"-"},"n.a.",null,{"$f":"VLOOKUP(E486,'Kapitola 2'!$C$6:$D$282,2,0)","v":"Jak se sdílejí informace o procesu?"}]
[null,null,null,null,{"$f":"'Technický list'!B148","v":"Q2.25"},{"$f":"'Technický list'!C148","v":3},{"$f":"VLOOKUP(E487,'Technický list'!$AU$124:$BD$168,6,0)","v":"-"},"n.a.",null,{"$f":"VLOOKUP(E487,'Kapitola 2'!$C$6:$D$282,2,0)","v":"Jakým způsobem organizace hodnotí své logistické partnery z hlediska HSE&S, energetické účinnosti a emisí skleníkových plynů?"}]
[null,null,null,null,{"$f":"'Technický list'!B149","v":"Q2.26"},{"$f":"'Technický list'!C149","v":4},{"$f":"VLOOKUP(E488,'Technický list'!$AU$124:$BD$168,6,0)","v":"-"},"n.a.",null,{"$f":"VLOOKUP(E488,'Kapitola 2'!$C$6:$D$282,2,0)","v":"Jakým způsobem organizace zabraňuje a reaguje na dopravní nehody?"}]
[null,null,null,null,{"$f":"'Technický list'!B150","v":"Q2.27"},{"$f":"'Technický list'!C150","v":4},{"$f":"VLOOKUP(E489,'Technický list'!$AU$124:$BD$168,6,0)","v":"-"},"n.a.",null,{"$f":"VLOOKUP(E489,'Kapitola 2'!$C$6:$D$282,2,0)","v":"Jakým způsobem organizace identifikuje bezpečnostní problémy?"}]
[null,null,null,null,{"$f":"'Technický list'!B151","v":"Q2.28"},{"$f":"'Technický list'!C151","v":4},{"$f":"VLOOKUP(E490,'Technický list'!$AU$124:$BD$168,6,0)","v":"-"},"n.a.",null,{"$f":"VLOOKUP(E490,'Kapitola 2'!$C$6:$D$282,2,0)","v":"Jakým způsobem se kontroluje příchod a odchod pracovníků a materiálu na pracovišti a v oblastech s omezeným vstupem?"}]
[null,null,null,null,{"$f":"'Technický list'!B152","v":"Q2.29"},{"$f":"'Technický list'!C152","v":4},{"$f":"VLOOKUP(E491,'Technický list'!$AU$124:$BD$168,6,0)","v":"-"},"n.a.",null,{"$f":"VLOOKUP(E491,'Kapitola 2'!$C$6:$D$282,2,0)","v":"Jakým způsobem se kontroluje kybernetická bezpečnost?"}]
[null,null,null,null,{"$f":"'Technický list'!B153","v":"Q2.30"},{"$f":"'Technický list'!C153","v":4},{"$f":"VLOOKUP(E492,'Technický list'!$AU$124:$BD$168,6,0)","v":"-"},"n.a.",null,{"$f":"VLOOKUP(E492,'Kapitola 2'!$C$6:$D$282,2,0)","v":"Jakým způsobem probíhá komunikace a výměna informací v případě bezpečnostní krize?"}]
[null,null,null,null,{"$f":"'Technický list'!B154","v":"Q2.31"},{"$f":"'Technický list'!C154","v":3},{"$f":"VLOOKUP(E493,'Technický list'!$AU$124:$BD$168,6,0)","v":"-"},"n.a.",null,{"$f":"VLOOKUP(E493,'Kapitola 2'!$C$6:$D$282,2,0)","v":"Jak se organizace vyrovnává s podezřelým chováním (včetně rizik radikalizace = souhlas a podopra extrémních názorů)"}]
[null,null,null,null,{"$f":"'Technický list'!B155","v":"Q2.32"},{"$f":"'Technický list'!C155","v":3},{"$f":"VLOOKUP(E494,'Technický list'!$AU$124:$BD$168,6,0)","v":"-"},"n.a.",null,{"$f":"VLOOKUP(E494,'Kapitola 2'!$C$6:$D$282,2,0)","v":"Jakým způsobem školí organizace pracovníky v oblasti ostrahy ve vazbě na bezpečnostní rizika?  "}]
[null,null,null,null,{"$f":"'Technický list'!B156","v":"Q2.33"},{"$f":"'Technický list'!C156","v":4},{"$f":"VLOOKUP(E495,'Technický list'!$AU$124:$BD$168,6,0)","v":"-"},"n.a.",null,{"$f":"VLOOKUP(E495,'Kapitola 2'!$C$6:$D$282,2,0)","v":"Jakým způsobem se posuzuje potenciální vliv organizace na životní prostředí?"}]
[null,null,null,null,{"$f":"'Technický list'!B157","v":"Q2.34"},{"$f":"'Technický list'!C157","v":4},{"$f":"VLOOKUP(E496,'Technický list'!$AU$124:$BD$168,6,0)","v":4},{"$f":"IF(G496=\"-\",\"n.a.\",IF(F496-G496>-1,\"v souladu\",\"zvyšte skóre\"))","v":"v souladu"},null,{"$f":"VLOOKUP(E496,'Kapitola 2'!$C$6:$D$282,2,0)","v":"Jakým způsobem se řídí environmentální výkonnost?"}]
[null,null,null,null,{"$f":"'Technický list'!B158","v":"Q2.35"},{"$f":"'Technický list'!C158","v":3},{"$f":"VLOOKUP(E497,'Technický list'!$AU$124:$BD$168,6,0)","v":"-"},"n.a.",null,{"$f":"VLOOKUP(E497,'Kapitola 2'!$C$6:$D$282,2,0)","v":"Jak organizace nakládá s odpadem?"}]
[null,null,null,null,{"$f":"'Technický list'!B159","v":"Q2.36"},{"$f":"'Technický list'!C159","v":3},{"$f":"VLOOKUP(E498,'Technický list'!$AU$124:$BD$168,6,0)","v":"-"},"n.a.",null,{"$f":"VLOOKUP(E498,'Kapitola 2'!$C$6:$D$282,2,0)","v":"Jakým způsobem řídí organizace rizika týkající se podzemních vod?"}]
[null,null,null,null,{"$f":"'Technický list'!B160","v":"Q2.37"},{"$f":"'Technický list'!C160","v":3},{"$f":"VLOOKUP(E499,'Technický list'!$AU$124:$BD$168,6,0)","v":"-"},"n.a.",null,{"$f":"VLOOKUP(E499,'Kapitola 2'!$C$6:$D$282,2,0)","v":"Jakým způsobem řídí organizace rizika týkající se znečištění půdy?"}]
[null,null,null,null,{"$f":"'Technický list'!B161","v":"Q2.38"},{"$f":"'Technický list'!C161","v":4},{"$f":"VLOOKUP(E500,'Technický list'!$AU$124:$BD$168,6,0)","v":"-"},"n.a.",null,{"$f":"VLOOKUP(E500,'Kapitola 2'!$C$6:$D$282,2,0)","v":"Jakým způsobem řídí organizace existující znečištění půdy?\n"}]
[null,null,null,null,{"$f":"'Technický list'!B162","v":"Q2.39"},{"$f":"'Technický list'!C162","v":3},{"$f":"VLOOKUP(E501,'Technický list'!$AU$124:$BD$168,6,0)","v":"-"},"n.a.",null,{"$f":"VLOOKUP(E501,'Kapitola 2'!$C$6:$D$282,2,0)","v":"Jakým způsobem organizace řídí své emise škodlivin do ovzduší?"}]
[null,null,null,null,{"$f":"'Technický list'!B163","v":"Q2.40"},{"$f":"'Technický list'!C163","v":4},{"$f":"VLOOKUP(E502,'Technický list'!$AU$124:$BD$168,6,0)","v":"-"},"n.a.",null,{"$f":"VLOOKUP(E502,'Kapitola 2'!$C$6:$D$282,2,0)","v":"Jakým způsobem organizace řídí své emise škodlivin do vody?"}]
[null,null,null,null,{"$f":"'Technický list'!B164","v":"Q2.41"},{"$f":"'Technický list'!C164","v":3},{"$f":"VLOOKUP(E503,'Technický list'!$AU$124:$BD$168,6,0)","v":"-"},"n.a.",null,{"$f":"VLOOKUP(E503,'Kapitola 2'!$C$6:$D$282,2,0)","v":"Jakým způsobem organizace řídí své emise hluku?"}]
[null,null,null,null,{"$f":"'Technický list'!B165","v":"Q2.42"},{"$f":"'Technický list'!C165","v":4},{"$f":"VLOOKUP(E504,'Technický list'!$AU$124:$BD$168,6,0)","v":"-"},"n.a.",null,{"$f":"VLOOKUP(E504,'Kapitola 2'!$C$6:$D$282,2,0)","v":"Jakým způsobem organizace řídí své emise zápachu?"}]
[null,null,null,null,{"$f":"'Technický list'!B166","v":"Q2.43"},{"$f":"'Technický list'!C166","v":4},{"$f":"VLOOKUP(E505,'Technický list'!$AU$124:$BD$168,6,0)","v":"-"},"n.a.",null,{"$f":"VLOOKUP(E505,'Kapitola 2'!$C$6:$D$282,2,0)","v":"Jakým způsobem organizace zabraňuje a řídí havarijní emise do prostředí?"}]
[null,null,null,null,{"$f":"'Technický list'!B167","v":"Q2.44"},{"$f":"'Technický list'!C167","v":4},{"$f":"VLOOKUP(E506,'Technický list'!$AU$124:$BD$168,6,0)","v":"-"},"n.a.",null,{"$f":"VLOOKUP(E506,'Kapitola 2'!$C$6:$D$282,2,0)","v":"Jakým způsobem zajišťuje organizace správně kompetence všech pracovníků, týkající se environmentálních požadavků, které souvisejí s jejich pracovní náplní?"}]
[null,null,null,null,{"$f":"'Technický list'!B168","v":"Q2.45"},{"$f":"'Technický list'!C168","v":3},{"$f":"VLOOKUP(E507,'Technický list'!$AU$124:$BD$168,6,0)","v":"-"},"n.a.",null,{"$f":"VLOOKUP(E507,'Kapitola 2'!$C$6:$D$282,2,0)","v":"Jakým způsobem jsou zainteresované strany organizace informovány o environmentálních aspektech a jejich možných dopadech?"}]
[null,null,null,null,"KAPITOLA 3: Posílení systémů řízení chemických látek"]
[null,null,null,null,{"$f":"'Technický list'!B406","v":"Q3.1"},{"$f":"'Technický list'!$C$406","v":3},{"$f":"VLOOKUP(E509,'Technický list'!$AU$406:$BD$418,6,0)","v":4},{"$f":"IF(G509=\"-\",\"n.a.\",IF(F509-G509>-1,\"v souladu\",\"zvyšte skóre\"))","v":"zvyšte skóre"},null,{"$f":"VLOOKUP(E509,'Kapitola 3'!$C$6:$D$89,2,0)","v":"Zavedla organizace proces pro navrhování a vývoj nových \nproduktů a služeb?"}]
[null,null,null,null,{"$f":"'Technický list'!B407","v":"Q3.2"},{"$f":"'Technický list'!$C$407","v":2},{"$f":"VLOOKUP(E510,'Technický list'!$AU$406:$BD$418,6,0)","v":"-"},{"$f":"IF(G510=\"-\",\"n.a.\",IF(F510-G510>-1,\"compliant\",\"increase score\"))","v":"n.a."},null,{"$f":"VLOOKUP(E510,'Kapitola 3'!$C$6:$D$89,2,0)","v":"Má organizace k dispozici proces hodnocení a stanovení priorit svých produktů pro charakterizaci rizik a řízení rizik?\n\n\n"}]
[null,null,null,null,{"$f":"'Technický list'!B408","v":"Q3.3"},{"$f":"'Technický list'!$C$408","v":3},{"$f":"VLOOKUP(E511,'Technický list'!$AU$406:$BD$418,6,0)","v":"-"},"n.a.",null,{"$f":"VLOOKUP(E511,'Kapitola 3'!$C$6:$D$89,2,0)","v":"Zavedla organizace systém pro sledování použitelnosti, změn a dodržování interních a externích požadavků souvisejících s řízením bezpečnosti chemických látek?"}]
[null,null,null,null,{"$f":"'Technický list'!B409","v":"Q3.4"},{"$f":"'Technický list'!$C$409","v":2},{"$f":"VLOOKUP(E512,'Technický list'!$AU$406:$BD$418,6,0)","v":"-"},"n.a.",null,{"$f":"VLOOKUP(E512,'Kapitola 3'!$C$6:$D$89,2,0)","v":"Zavedla organizace systém na správu existujících informací o rizicích svých produktů?"}]
[null,null,null,null,{"$f":"'Technický list'!B410","v":"Q3.5"},{"$f":"'Technický list'!$C$410","v":2},{"$f":"VLOOKUP(E513,'Technický list'!$AU$406:$BD$418,6,0)","v":"-"},"n.a.",null,{"$f":"VLOOKUP(E513,'Kapitola 3'!$C$6:$D$89,2,0)","v":"Zavedla organizace proces řízení informací o používání a expozici svých produktů?"}]
[null,null,null,null,{"$f":"'Technický list'!B411","v":"Q3.6"},{"$f":"'Technický list'!$C$411","v":4},{"$f":"VLOOKUP(E514,'Technický list'!$AU$406:$BD$418,6,0)","v":"-"},"n.a.",null,{"$f":"VLOOKUP(E514,'Kapitola 3'!$C$6:$D$89,2,0)","v":"Zavedla organizace proces na správu nových informací?"}]
[null,null,null,null,{"$f":"'Technický list'!B412","v":"Q3.7"},{"$f":"'Technický list'!$C$412","v":3},{"$f":"VLOOKUP(E515,'Technický list'!$AU$406:$BD$418,6,0)","v":"-"},"n.a.",null,{"$f":"VLOOKUP(E515,'Kapitola 3'!$C$6:$D$89,2,0)","v":"Zavedla organizace proces charakterizace rizik na základě shromážděných informací?"}]
[null,null,null,null,{"$f":"'Technický list'!B413","v":"Q3.8"},{"$f":"'Technický list'!$C$413","v":4},{"$f":"VLOOKUP(E516,'Technický list'!$AU$406:$BD$418,6,0)","v":"-"},"n.a.",null,{"$f":"VLOOKUP(E516,'Kapitola 3'!$C$6:$D$89,2,0)","v":"Zavedla organizace proces řízení rizik na základě shromážděných informací?"}]
[null,null,null,null,{"$f":"'Technický list'!B414","v":"Q3.9"},{"$f":"'Technický list'!$C$414","v":4},{"$f":"VLOOKUP(E517,'Technický list'!$AU$406:$BD$418,6,0)","v":"-"},"n.a.",null,{"$f":"VLOOKUP(E517,'Kapitola 3'!$C$6:$D$89,2,0)","v":"Zavedla organizace účinný proces sledování svých produktů po dodání a provádění nápravných opatření?\n"}]
[null,null,null,null,{"$f":"'Technický list'!B415","v":"Q3.10"},{"$f":"'Technický list'!$C$415","v":4},{"$f":"VLOOKUP(E518,'Technický list'!$AU$406:$BD$418,6,0)","v":"-"},"n.a.",null,{"$f":"VLOOKUP(E518,'Kapitola 3'!$C$6:$D$89,2,0)","v":"Poskytuje organizace efektivní komunikaci v rámci dodavatelského řetězce ohledně opatření k řízení rizik, které se vztahují na jejich produkty?"}]
[null,null,null,null,"KAPITOLA 4: Působení na obchodní partnery"]
[null,null,null,null,{"$f":"'Technický list'!B482","v":"Q4.1"},{"$f":"'Technický list'!C593","v":2},{"$f":"VLOOKUP(E520,'Technický list'!$AU$482:$BD$489,6,0)","v":3},{"$f":"IF(G520=\"-\",\"n.a.\",IF(F520-G520>-1,\"v souladu\",\"zvyšte skóre\"))","v":"zvyšte skóre"},null,{"$f":"VLOOKUP(E520,'Kapitola 4'!$C$6:$D$91,2,0)","v":"Jak se organizace zavázala k odpovědnému získávání zdrojů?"}]
[null,null,null,null,{"$f":"'Technický list'!B483","v":"Q4.2"},{"$f":"'Technický list'!C594","v":3},{"$f":"VLOOKUP(E521,'Technický list'!$AU$482:$BD$489,6,0)","v":"-"},{"$f":"IF(G521=\"-\",\"n.a.\",IF(F521-G521>-1,\"compliant\",\"increase score\"))","v":"n.a."},null,{"$f":"VLOOKUP(E521,'Kapitola 4'!$C$6:$D$91,2,0)","v":"Jak organizace zlepšuje spolupráci v dodavatelském řetězci?"}]
[null,null,null,null,{"$f":"'Technický list'!B484","v":"Q4.3"},{"$f":"'Technický list'!C595","v":1},{"$f":"VLOOKUP(E522,'Technický list'!$AU$482:$BD$489,6,0)","v":"-"},"n.a.",null,{"$f":"VLOOKUP(E522,'Kapitola 4'!$C$6:$D$91,2,0)","v":"Jakým způsobem vyjadřuje organizace svůj závazek vůči podnikatelské etice?"}]
[null,null,null,null,{"$f":"'Technický list'!B485","v":"Q4.4"},{"$f":"'Technický list'!C596","v":2},{"$f":"VLOOKUP(E523,'Technický list'!$AU$482:$BD$489,6,0)","v":"-"},"n.a.",null,{"$f":"VLOOKUP(E523,'Kapitola 4'!$C$6:$D$91,2,0)","v":"Jakým způsobem řeší organizace sociální problematiku a lidská práva v rámci spolupráce s obchodními partnery?"}]
[null,null,null,null,{"$f":"'Technický list'!B486","v":"Q4.5"},{"$f":"'Technický list'!C597","v":3},{"$f":"VLOOKUP(E524,'Technický list'!$AU$482:$BD$489,6,0)","v":"-"},"n.a.",null,{"$f":"VLOOKUP(E524,'Kapitola 4'!$C$6:$D$91,2,0)","v":"Jakým způsobem zabraňuje organizace dětské práci?\nOrganizace\n1-\tzavedla systém ověřování věku; \n2-\tnezaměstnává děti mladší 15 let (v závislosti na místní legislativy). Jedinou výjimku představují učni, školní praxe nebo vzdělávací stáže; \n3-\tzaručuje, aby pracovní náplň osob mladších než 18 let neovlivňovala jejich školní docházku (doba strávená dopravou do práce a školy a z práce a školy, školní docházkou a prací je méně než 10 hodin denně );\n4-\tzajišťuje, že pracovní náplň mladých pracovníků není duševně, fyzicky, společensky ani morálně nebezpečná a škodlivá."}]
[null,null,null,null,{"$f":"'Technický list'!B487","v":"Q4.6"},{"$f":"'Technický list'!C598","v":2},{"$f":"VLOOKUP(E525,'Technický list'!$AU$482:$BD$489,6,0)","v":"-"},"n.a.",null,{"$f":"VLOOKUP(E525,'Kapitola 4'!$C$6:$D$91,2,0)","v":"Jakým způsobem zabezpečuje organizace splnění svých požadavků ze strany logistických partnerů?"}]
[null,null,null,null,{"$f":"'Technický list'!B488","v":"Q4.7"},{"$f":"'Technický list'!C599","v":2},{"$f":"VLOOKUP(E526,'Technický list'!$AU$482:$BD$489,6,0)","v":"-"},"n.a.",null,{"$f":"VLOOKUP(E526,'Kapitola 4'!$C$6:$D$91,2,0)","v":"Jakým způsobem organizace chrání a zabezpečuje majetek a údaje následných uživatelů nebo externích poskytovatelů, které se používají nebo začleňují do produktů a služeb?"}]
[null,null,null,null,{"$f":"'Technický list'!B489","v":"Q4.8"},{"$f":"'Technický list'!C600","v":3},{"$f":"VLOOKUP(E527,'Technický list'!$AU$482:$BD$489,6,0)","v":"-"},"n.a.",null,{"$f":"VLOOKUP(E527,'Kapitola 4'!$C$6:$D$91,2,0)","v":"Co zahrnuje dialog s následnými uživateli?"}]
[null,null,null,null,"KAPITOLA 5: Zapojení zainteresovaných stran"]
[null,null,null,null,{"$f":"'Technický list'!B544","v":"Q5.1"},{"$f":"'Technický list'!C544","v":3},{"$f":"VLOOKUP(E529,'Technický list'!$AU$544:$BD$548,6,0)","v":3},{"$f":"IF(G529=\"-\",\"n.a.\",IF(F529-G529>-1,\"v souladu\",\"zvyšte skóre\"))","v":"v souladu"},null,{"$f":"VLOOKUP(E529,'Kapitola 5'!$C$6:$D$89,2,0)","v":"Jakým způsobem zapojuje organizace své externí zainteresované strany a naplňuje jejich očekávání?"}]
[null,null,null,null,{"$f":"'Technický list'!B545","v":"Q5.2"},{"$f":"'Technický list'!C545","v":4},{"$f":"VLOOKUP(E530,'Technický list'!$AU$544:$BD$548,6,0)","v":"-"},{"$f":"IF(G530=\"-\",\"n.a.\",IF(F530-G530>-1,\"compliant\",\"increase score\"))","v":"n.a."},null,{"$f":"VLOOKUP(E530,'Kapitola 5'!$C$6:$D$89,2,0)","v":"Jakým způsobem vede organizace dialog s veřejností, úřady a dalšími zainteresovanými stranami, včetně místních komunit a zákazníků v souvislosti s HSE&S v rámci jejich činností, produktů a služeb?"}]
[null,null,null,null,{"$f":"'Technický list'!B546","v":"Q5.3"},{"$f":"'Technický list'!C546","v":2},{"$f":"VLOOKUP(E531,'Technický list'!$AU$544:$BD$548,6,0)","v":"-"},"n.a.",null,{"$f":"VLOOKUP(E531,'Kapitola 5'!$C$6:$D$89,2,0)","v":"Jakým způsobem zveřejňuje organizace informace týkající se\n HSE&S?"}]
[null,null,null,null,{"$f":"'Technický list'!B547","v":"Q5.4"},{"$f":"'Technický list'!C547","v":2},{"$f":"VLOOKUP(E532,'Technický list'!$AU$544:$BD$548,6,0)","v":"-"},"n.a.",null,{"$f":"VLOOKUP(E532,'Kapitola 5'!$C$6:$D$89,2,0)","v":"Jakým způsobem podporuje organizace místní komunity?"}]
[null,null,null,null,{"$f":"'Technický list'!B548","v":"Q5.5"},{"$f":"'Technický list'!C548","v":3},{"$f":"VLOOKUP(E533,'Technický list'!$AU$544:$BD$548,6,0)","v":"-"},"n.a.",null,{"$f":"VLOOKUP(E533,'Kapitola 5'!$C$6:$D$89,2,0)","v":"Jakým způsobem stimuluje organizace místní zaměstnanost a vzdělávání?"}]
[null,null,null,null,"KAPITOLA 6: Přispívání k udržitelnosti"]
[null,null,null,null,{"$f":"'Technický list'!B584","v":"Q6.1"},{"$f":"'Technický list'!C584","v":2},{"$f":"VLOOKUP(E535,'Technický list'!$AU$584:$BD$600,6,0)","v":"-"},{"$f":"IF(G535=\"-\",\"n.a.\",IF(F535-G535>-1,\"compliant\",\"increase score\"))","v":"n.a."},null,{"$f":"VLOOKUP(E535,'Kapitola 6'!$C$6:$D$120,2,0)","v":"Jakým způsobem definuje organizace významné problémy a závažnost?"}]
[null,null,null,null,{"$f":"'Technický list'!B585","v":"Q6.2"},{"$f":"'Technický list'!C585","v":2},{"$f":"VLOOKUP(E536,'Technický list'!$AU$584:$BD$600,6,0)","v":"-"},{"$f":"IF(G536=\"-\",\"n.a.\",IF(F536-G536>-1,\"compliant\",\"increase score\"))","v":"n.a."},null,{"$f":"VLOOKUP(E536,'Kapitola 6'!$C$6:$D$120,2,0)","v":"Jakým způsobem hodlá organizace přispívat k udržitelnému rozvoji?"}]
[null,null,null,null,{"$f":"'Technický list'!B586","v":"Q6.3"},{"$f":"'Technický list'!C586","v":3},{"$f":"VLOOKUP(E537,'Technický list'!$AU$584:$BD$600,6,0)","v":"-"},"n.a.",null,{"$f":"VLOOKUP(E537,'Kapitola 6'!$C$6:$D$120,2,0)","v":"Jakým způsobem komunikuje organizace zainteresovaných stran na téma udržitelnosti?"}]
[null,null,null,null,{"$f":"'Technický list'!B587","v":"Q6.4"},{"$f":"'Technický list'!C587","v":2},{"$f":"VLOOKUP(E538,'Technický list'!$AU$584:$BD$600,6,0)","v":"-"},"n.a.",null,{"$f":"VLOOKUP(E538,'Kapitola 6'!$C$6:$D$120,2,0)","v":"Má organizace zavedený proces navrhování výrobků s lepšími výsledky udržitelnosti?"}]
[null,null,null,null,{"$f":"'Technický list'!B588","v":"Q6.5"},{"$f":"'Technický list'!C588","v":2},{"$f":"VLOOKUP(E539,'Technický list'!$AU$584:$BD$600,6,0)","v":"-"},"n.a.",null,{"$f":"VLOOKUP(E539,'Kapitola 6'!$C$6:$D$120,2,0)","v":"Jakým způsobem zvyšuje organizace efektivnost zdrojů ve svých výrobních procesech?"}]
[null,null,null,null,{"$f":"'Technický list'!B589","v":"Q6.6"},{"$f":"'Technický list'!C589","v":1},{"$f":"VLOOKUP(E540,'Technický list'!$AU$584:$BD$600,6,0)","v":"-"},"n.a.",null,{"$f":"VLOOKUP(E540,'Kapitola 6'!$C$6:$D$120,2,0)","v":"Jakým způsobem stimuluje organizace oběhové hospodářství prostřednictvím svých produktů?"}]
[null,null,null,null,{"$f":"'Technický list'!B590","v":"Q6.7"},{"$f":"'Technický list'!C590","v":3},{"$f":"VLOOKUP(E541,'Technický list'!$AU$584:$BD$600,6,0)","v":"-"},"n.a.",null,{"$f":"VLOOKUP(E541,'Kapitola 6'!$C$6:$D$120,2,0)","v":"Jakým způsobem podporuje organizace inovace při vývoji produktů a řešení, které odpovídají výzvám udržitelnosti?"}]
[null,null,null,null,{"$f":"'Technický list'!B591","v":"Q6.8"},{"$f":"'Technický list'!C591","v":3},{"$f":"VLOOKUP(E542,'Technický list'!$AU$584:$BD$600,6,0)","v":"-"},"n.a.",null,{"$f":"VLOOKUP(E542,'Kapitola 6'!$C$6:$D$120,2,0)","v":"Jakým způsobem stimuluje organizace inovaci a spolupráci?"}]
[null,null,null,null,{"$f":"'Technický list'!B592","v":"Q6.9"},{"$f":"'Technický list'!C592","v":1},{"$f":"VLOOKUP(E543,'Technický list'!$AU$584:$BD$600,6,0)","v":"-"},"n.a.",null,{"$f":"VLOOKUP(E543,'Kapitola 6'!$C$6:$D$120,2,0)","v":"Jakým způsobem podporuje organizace udržitelné způsoby spotřeby?"}]
[null,null,null,null,{"$f":"'Technický list'!B593","v":"Q6.10"},{"$f":"'Technický list'!C593","v":2},{"$f":"VLOOKUP(E544,'Technický list'!$AU$584:$BD$600,6,0)","v":"-"},"n.a.",null,{"$f":"VLOOKUP(E544,'Kapitola 6'!$C$6:$D$120,2,0)","v":"Jakým způsobem organizace kontroluje a optimalizuje spotřebu vody?"}]
[null,null,null,null,{"$f":"'Technický list'!B594","v":"Q6.11"},{"$f":"'Technický list'!C594","v":3},{"$f":"VLOOKUP(E545,'Technický list'!$AU$584:$BD$600,6,0)","v":"-"},"n.a.",null,{"$f":"VLOOKUP(E545,'Kapitola 6'!$C$6:$D$120,2,0)","v":"Jakým způsobem se řídí vliv organizace na biodiverzitu a ekosystém?"}]
[null,null,null,null,{"$f":"'Technický list'!B595","v":"Q6.12"},{"$f":"'Technický list'!C595","v":1},{"$f":"VLOOKUP(E546,'Technický list'!$AU$584:$BD$600,6,0)","v":"-"},"n.a.",null,{"$f":"VLOOKUP(E546,'Kapitola 6'!$C$6:$D$120,2,0)","v":"Jakým způsobem posuzuje organizace svou závislost na přírodních zdrojích (ekosystémech)?"}]
[null,null,null,null,{"$f":"'Technický list'!B596","v":"Q6.13"},{"$f":"'Technický list'!C596","v":2},{"$f":"VLOOKUP(E547,'Technický list'!$AU$584:$BD$600,6,0)","v":4},{"$f":"IF(G547=\"-\",\"n.a.\",IF(F547-G547>-1,\"v souladu\",\"zvyšte skóre\"))","v":"zvyšte skóre"},null,{"$f":"VLOOKUP(E547,'Kapitola 6'!$C$6:$D$120,2,0)","v":"Jakým způsobem řídí organizace svou spotřebu energie?"}]
[null,null,null,null,{"$f":"'Technický list'!B597","v":"Q6.14"},{"$f":"'Technický list'!C597","v":3},{"$f":"VLOOKUP(E548,'Technický list'!$AU$584:$BD$600,6,0)","v":"-"},"n.a.",null,{"$f":"VLOOKUP(E548,'Kapitola 6'!$C$6:$D$120,2,0)","v":"Jakým způsobem řídí organizace emise skleníkových plynů (kromě úspor energie)?"}]
[null,null,null,null,{"$f":"'Technický list'!B598","v":"Q6.15"},{"$f":"'Technický list'!C598","v":2},{"$f":"VLOOKUP(E549,'Technický list'!$AU$584:$BD$600,6,0)","v":"-"},"n.a.",null,{"$f":"VLOOKUP(E549,'Kapitola 6'!$C$6:$D$120,2,0)","v":"Jaká je strategie organizace na snižování emisí skleníkových plynů?"}]
[null,null,null,null,{"$f":"'Technický list'!B599","v":"Q6.16"},{"$f":"'Technický list'!C599","v":2},{"$f":"VLOOKUP(E550,'Technický list'!$AU$584:$BD$600,6,0)","v":"-"},"n.a.",null,{"$f":"VLOOKUP(E550,'Kapitola 6'!$C$6:$D$120,2,0)","v":"Jakým způsobem se organizace připravuje na klimatické změny? "}]
[null,null,null,null,{"$f":"'Technický list'!B600","v":"Q6.17"},{"$f":"'Technický list'!C600","v":3},{"$f":"VLOOKUP(E551,'Technický list'!$AU$584:$BD$600,6,0)","v":"-"},"n.a.",null,{"$f":"VLOOKUP(E551,'Kapitola 6'!$C$6:$D$120,2,0)","v":"Jak organizace zajišťuje rovné příležitosti při náboru a během kariéry všech?"}]
[]
[null,null,"Zpráva o souladu s EMAS"]
[null,null,null,null,null,"Vaše skóre ","Minimální skóre pro EMAS"]
[null,null,null,null,"KAPITOLA 1: Podniková kultura vedení "]
[null,null,null,null,{"$f":"'Technický list'!B10","v":"Q1.1"},{"$f":"'Technický list'!C10","v":4},{"$f":"VLOOKUP(E556,'Technický list'!$AU$10:$BD$25,7,0)","v":3},{"$f":"IF(G556=\"-\",\"n.a.\",IF(F556-G556>-1,\"v souladu\",\"zvyšte skóre\"))","v":"v souladu"},null,{"$f":"VLOOKUP(E556,'Kapitola 1'!$C$6:$D$112,2,0)","v":"Jak se projevuje závazek plnit povinnosti týkající se dodržování předpisů a zásad Responsible Care = RC (tj. ochrana a podpora zdraví a bezpečnost lidí, životního prostředí a udržitelnosti) na všech úrovních organizace?\n"}]
[null,null,null,null,{"$f":"'Technický list'!B11","v":"Q1.2"},{"$f":"'Technický list'!C11","v":4},{"$f":"VLOOKUP(E557,'Technický list'!$AU$10:$BD$25,7,0)","v":3},{"$f":"IF(G557=\"-\",\"n.a.\",IF(F557-G557>-1,\"v souladu\",\"zvyšte skóre\"))","v":"v souladu"},null,{"$f":"VLOOKUP(E557,'Kapitola 1'!$C$6:$D$112,2,0)","v":"Jakým způsobem řídí organizace příslušná rizika a příležitosti?  "}]
[null,null,null,null,{"$f":"'Technický list'!B12","v":"Q1.3"},{"$f":"'Technický list'!C12","v":4},{"$f":"VLOOKUP(E558,'Technický list'!$AU$10:$BD$25,7,0)","v":2},{"$f":"IF(G558=\"-\",\"n.a.\",IF(F558-G558>-1,\"v souladu\",\"zvyšte skóre\"))","v":"v souladu"},null,{"$f":"VLOOKUP(E558,'Kapitola 1'!$C$6:$D$112,2,0)","v":"Jakým způsobem monitoruje organizace svoje zákonné povinnosti? "}]
[null,null,null,null,{"$f":"'Technický list'!B13","v":"Q1.4"},{"$f":"'Technický list'!C13","v":3},{"$f":"VLOOKUP(E559,'Technický list'!$AU$10:$BD$25,7,0)","v":2},{"$f":"IF(G559=\"-\",\"n.a.\",IF(F559-G559>-1,\"v souladu\",\"zvyšte skóre\"))","v":"v souladu"},null,{"$f":"VLOOKUP(E559,'Kapitola 1'!$C$6:$D$112,2,0)","v":"Jakým způsobem top management zajišťuje, že jednotlivé aspekty HSE&S (zdraví, bezpečnosti, ochrany životního prostředí & udržitelnosti) jsou přiřazeny stanoveným rolím v organizaci?"}]
[null,null,null,null,{"$f":"'Technický list'!B14","v":"Q1.5"},{"$f":"'Technický list'!C14","v":3},{"$f":"VLOOKUP(E560,'Technický list'!$AU$10:$BD$25,7,0)","v":3},{"$f":"IF(G560=\"-\",\"n.a.\",IF(F560-G560>-1,\"v souladu\",\"zvyšte skóre\"))","v":"v souladu"},null,{"$f":"VLOOKUP(E560,'Kapitola 1'!$C$6:$D$112,2,0)","v":"Jakým způsobem se top management podílí na řešení záležitostí HSE&S?"}]
[null,null,null,null,{"$f":"'Technický list'!B15","v":"Q1.6"},{"$f":"'Technický list'!C15","v":3},{"$f":"VLOOKUP(E561,'Technický list'!$AU$10:$BD$25,7,0)","v":"-"},{"$f":"IF(G561=\"-\",\"n.a.\",IF(F561-G561>-1,\"compliant\",\"increase score\"))","v":"n.a."},null,{"$f":"VLOOKUP(E561,'Kapitola 1'!$C$6:$D$112,2,0)","v":"Jakým způsobem jsou odpovědnosti HSE&S začleněny do popisů pracovní náplně nebo ročních cílů?\n"}]
[null,null,null,null,{"$f":"'Technický list'!B16","v":"Q1.7"},{"$f":"'Technický list'!C16","v":3},{"$f":"VLOOKUP(E562,'Technický list'!$AU$10:$BD$25,7,0)","v":4},{"$f":"IF(G562=\"-\",\"n.a.\",IF(F562-G562>-1,\"v souladu\",\"zvyšte skóre\"))","v":"zvyšte skóre"},null,{"$f":"VLOOKUP(E562,'Kapitola 1'!$C$6:$D$112,2,0)","v":"Jakým způsobem se řídí (nejdůležitější) procesy v souvislosti s HSE&S?"}]
[null,null,null,null,{"$f":"'Technický list'!B17","v":"Q1.8"},{"$f":"'Technický list'!C17","v":3},{"$f":"VLOOKUP(E563,'Technický list'!$AU$10:$BD$25,7,0)","v":3},"v souladu",null,{"$f":"VLOOKUP(E563,'Kapitola 1'!$C$6:$D$112,2,0)","v":"Jakým způsobem top management zajišťuje neustálé zlepšování výkonu v oblasti HSE&S (zdraví, bezpečnosti, životního prostředí, energetiky a udržitelnosti)?"}]
[null,null,null,null,{"$f":"'Technický list'!B18","v":"Q1.9"},{"$f":"'Technický list'!C18","v":4},{"$f":"VLOOKUP(E564,'Technický list'!$AU$10:$BD$25,7,0)","v":3},"v souladu",null,{"$f":"VLOOKUP(E564,'Kapitola 1'!$C$6:$D$112,2,0)","v":"Jak jsou organizovány interní audity?"}]
[null,null,null,null,{"$f":"'Technický list'!B19","v":"Q1.10"},{"$f":"'Technický list'!C19","v":4},{"$f":"VLOOKUP(E565,'Technický list'!$AU$10:$BD$25,7,0)","v":3},"v souladu",null,{"$f":"VLOOKUP(E565,'Kapitola 1'!$C$6:$D$112,2,0)","v":"Jakým způsobem probíhá vyšetřování?"}]
[null,null,null,null,{"$f":"'Technický list'!B20","v":"Q1.11"},{"$f":"'Technický list'!C20","v":3},{"$f":"VLOOKUP(E566,'Technický list'!$AU$10:$BD$25,7,0)","v":3},"v souladu",null,{"$f":"VLOOKUP(E566,'Kapitola 1'!$C$6:$D$112,2,0)","v":"Jakým způsobem organizace zajišťuje procesy, čas a zdroje potřebné pro zlepšování procesů řízení HSE&S?"}]
[null,null,null,null,{"$f":"'Technický list'!B21","v":"Q1.12"},{"$f":"'Technický list'!C21","v":3},{"$f":"VLOOKUP(E567,'Technický list'!$AU$10:$BD$25,7,0)","v":3},"v souladu",null,{"$f":"VLOOKUP(E567,'Kapitola 1'!$C$6:$D$112,2,0)","v":"Jak organizace zajišťuje, že zaměstnanci jsou si vědomi politik a procesů týkajících se zdraví, bezpečnosti, životního prostředí, energetiky a udržitelnosti?"}]
[null,null,null,null,{"$f":"'Technický list'!B22","v":"Q1.13"},{"$f":"'Technický list'!C22","v":3},{"$f":"VLOOKUP(E568,'Technický list'!$AU$10:$BD$25,7,0)","v":3},"v souladu",null,{"$f":"VLOOKUP(E568,'Kapitola 1'!$C$6:$D$112,2,0)","v":"Jakým způsobem organizace zajišťuje správné kompetence pracovníků, pokud jde o aspekty HSE&S týkající se jejich práce?"}]
[null,null,null,null,{"$f":"'Technický list'!B23","v":"Q1.14"},{"$f":"'Technický list'!C23","v":3},{"$f":"VLOOKUP(E569,'Technický list'!$AU$10:$BD$25,7,0)","v":3},"v souladu",null,{"$f":"VLOOKUP(E569,'Kapitola 1'!$C$6:$D$112,2,0)","v":"Jaká je struktura zapojení zaměstnanců?"}]
[null,null,null,null,{"$f":"'Technický list'!B24","v":"Q1.15"},{"$f":"'Technický list'!C24","v":3},{"$f":"VLOOKUP(E570,'Technický list'!$AU$10:$BD$25,7,0)","v":3},"v souladu",null,{"$f":"VLOOKUP(E570,'Kapitola 1'!$C$6:$D$112,2,0)","v":"Jakým způsobem se řídí dokumentace HSE&S?"}]
[null,null,null,null,{"$f":"'Technický list'!B25","v":"Q1.16"},{"$f":"'Technický list'!C25","v":3},{"$f":"VLOOKUP(E571,'Technický list'!$AU$10:$BD$25,7,0)","v":3},"v souladu",null,{"$f":"VLOOKUP(E571,'Kapitola 1'!$C$6:$D$112,2,0)","v":"Jakým způsobem jsou řízeny změny potenciálně ovlivňující HSE&S (zdraví, bezpečnost, životní prostředí, energetiku a udržitelnost)?"}]
[null,null,null,null,"KAPITOLA 2: Ochrana lidí a životního prostředí"]
[null,null,null,null,{"$f":"'Technický list'!B124","v":"Q2.1"},{"$f":"'Technický list'!C124","v":3},{"$f":"VLOOKUP(E573,'Technický list'!$AU$124:$BD$168,7,0)","v":"-"},"n.a.",null,{"$f":"VLOOKUP(E573,'Kapitola 2'!$C$6:$D$282,2,0)","v":"Jak se management zavázal k ochraně zdraví a bezpečnosti při práci (dále jen \"BOZP\")?"}]
[null,null,null,null,{"$f":"'Technický list'!B125","v":"Q2.2"},{"$f":"'Technický list'!C125","v":4},{"$f":"VLOOKUP(E574,'Technický list'!$AU$124:$BD$168,7,0)","v":"-"},{"$f":"IF(G574=\"-\",\"n.a.\",IF(F574-G574>-1,\"compliant\",\"increase score\"))","v":"n.a."},null,{"$f":"VLOOKUP(E574,'Kapitola 2'!$C$6:$D$282,2,0)","v":"Jakým způsobem se určují rizika a expozice v souvislosti s BOZP?"}]
[null,null,null,null,{"$f":"'Technický list'!B126","v":"Q2.3"},{"$f":"'Technický list'!C126","v":3},{"$f":"VLOOKUP(E575,'Technický list'!$AU$124:$BD$168,7,0)","v":"-"},"n.a.",null,{"$f":"VLOOKUP(E575,'Kapitola 2'!$C$6:$D$282,2,0)","v":"Jakým způsobem se posuzují zdravotní požadavky?"}]
[null,null,null,null,{"$f":"'Technický list'!B127","v":"Q2.4"},{"$f":"'Technický list'!C127","v":4},{"$f":"VLOOKUP(E576,'Technický list'!$AU$124:$BD$168,7,0)","v":"-"},"n.a.",null,{"$f":"VLOOKUP(E576,'Kapitola 2'!$C$6:$D$282,2,0)","v":"Jakým způsobem zlepšuje organizace BOZP?"}]
[null,null,null,null,{"$f":"'Technický list'!B128","v":"Q2.5"},{"$f":"'Technický list'!C128","v":2},{"$f":"VLOOKUP(E577,'Technický list'!$AU$124:$BD$168,7,0)","v":"-"},"n.a.",null,{"$f":"VLOOKUP(E577,'Kapitola 2'!$C$6:$D$282,2,0)","v":"Jakým způsobem probíhá údržba a udržování pořádku s cílem zajistit bezpečnost provozů, zařízení, nástrojů a (bezpečnostních) pomůcek?"}]
[null,null,null,null,{"$f":"'Technický list'!B129","v":"Q2.6"},{"$f":"'Technický list'!C129","v":3},{"$f":"VLOOKUP(E578,'Technický list'!$AU$124:$BD$168,7,0)","v":"-"},"n.a.",null,{"$f":"VLOOKUP(E578,'Kapitola 2'!$C$6:$D$282,2,0)","v":"Jak se ověřuje správný výběr, údržba a používání zdravotního a bezpečnostního vybavení (např. osobních ochranných prostředků = OOPP)?"}]
[null,null,null,null,{"$f":"'Technický list'!B130","v":"Q2.7"},{"$f":"'Technický list'!C130","v":2},{"$f":"VLOOKUP(E579,'Technický list'!$AU$124:$BD$168,7,0)","v":"-"},"n.a.",null,{"$f":"VLOOKUP(E579,'Kapitola 2'!$C$6:$D$282,2,0)","v":"Jak se organizace stará o stres a tělesné a duševní zdraví zaměstnanců?"}]
[null,null,null,null,{"$f":"'Technický list'!B131","v":"Q2.8"},{"$f":"'Technický list'!C131","v":3},{"$f":"VLOOKUP(E580,'Technický list'!$AU$124:$BD$168,7,0)","v":"-"},"n.a.",null,{"$f":"VLOOKUP(E580,'Kapitola 2'!$C$6:$D$282,2,0)","v":"Jakým způsobem se vyšetřují onemocnění, zranění, incidenty a potenciálně nebezpečné situace na pracovišti?"}]
[null,null,null,null,{"$f":"'Technický list'!B132","v":"Q2.9"},{"$f":"'Technický list'!C132","v":4},{"$f":"VLOOKUP(E581,'Technický list'!$AU$124:$BD$168,7,0)","v":"-"},"n.a.",null,{"$f":"VLOOKUP(E581,'Kapitola 2'!$C$6:$D$282,2,0)","v":"Jak je organizace připravena na mimořádné události?"}]
[null,null,null,null,{"$f":"'Technický list'!B133","v":"Q2.10"},{"$f":"'Technický list'!C133","v":3},{"$f":"VLOOKUP(E582,'Technický list'!$AU$124:$BD$168,7,0)","v":3},{"$f":"IF(G582=\"-\",\"n.a.\",IF(F582-G582>-1,\"v souladu\",\"zvyšte skóre\"))","v":"v souladu"},null,{"$f":"VLOOKUP(E582,'Kapitola 2'!$C$6:$D$282,2,0)","v":"Jakým způsobem zajišťuje organizace správně kompetence všech pracovníků, týkající se požadavků BOZP, které souvisí s jejich pracovní náplní?"}]
[null,null,null,null,{"$f":"'Technický list'!B134","v":"Q2.11"},{"$f":"'Technický list'!C134","v":3},{"$f":"VLOOKUP(E583,'Technický list'!$AU$124:$BD$168,7,0)","v":"-"},"n.a.",null,{"$f":"VLOOKUP(E583,'Kapitola 2'!$C$6:$D$282,2,0)","v":"Jakým způsobem se vedení staví k procesní bezpečnosti?\n\n"}]
[null,null,null,null,{"$f":"'Technický list'!B135","v":"Q2.12"},{"$f":"'Technický list'!C135","v":4},{"$f":"VLOOKUP(E584,'Technický list'!$AU$124:$BD$168,7,0)","v":"-"},"n.a.",null,{"$f":"VLOOKUP(E584,'Kapitola 2'!$C$6:$D$282,2,0)","v":"Jakým způsobem je vypracována identifikace a popis bezpečnosti procesů, zařízení a pracovišť organizace?"}]
[null,null,null,null,{"$f":"'Technický list'!B136","v":"Q2.13"},{"$f":"'Technický list'!C136","v":3},{"$f":"VLOOKUP(E585,'Technický list'!$AU$124:$BD$168,7,0)","v":"-"},"n.a.",null,{"$f":"VLOOKUP(E585,'Kapitola 2'!$C$6:$D$282,2,0)","v":"Jakým způsobem se zlepšuje procesní bezpečnost po nehodách a incidentech?"}]
[null,null,null,null,{"$f":"'Technický list'!B137","v":"Q2.14"},{"$f":"'Technický list'!C137","v":1},{"$f":"VLOOKUP(E586,'Technický list'!$AU$124:$BD$168,7,0)","v":"-"},"n.a.",null,{"$f":"VLOOKUP(E586,'Kapitola 2'!$C$6:$D$282,2,0)","v":"Jakým způsobem se provádějí audity a inspekce procesní bezpečnosti?"}]
[null,null,null,null,{"$f":"'Technický list'!B138","v":"Q2.15"},{"$f":"'Technický list'!C138","v":3},{"$f":"VLOOKUP(E587,'Technický list'!$AU$124:$BD$168,7,0)","v":"-"},"n.a.",null,{"$f":"VLOOKUP(E587,'Kapitola 2'!$C$6:$D$282,2,0)","v":"Jakým způsobem se prověřují a zlepšují pracovní pokyny?"}]
[null,null,null,null,{"$f":"'Technický list'!B139","v":"Q2.16"},{"$f":"'Technický list'!C139","v":4},{"$f":"VLOOKUP(E588,'Technický list'!$AU$124:$BD$168,7,0)","v":"-"},"n.a.",null,{"$f":"VLOOKUP(E588,'Kapitola 2'!$C$6:$D$282,2,0)","v":"Jak je navrhována a dokumnetována instalace nových zařízení?"}]
[null,null,null,null,{"$f":"'Technický list'!B140","v":"Q2.17"},{"$f":"'Technický list'!C140","v":4},{"$f":"VLOOKUP(E589,'Technický list'!$AU$124:$BD$168,7,0)","v":"-"},"n.a.",null,{"$f":"VLOOKUP(E589,'Kapitola 2'!$C$6:$D$282,2,0)","v":"Jakým způsobem probíhá kontrola zřizování instalace?"}]
[null,null,null,null,{"$f":"'Technický list'!B141","v":"Q2.18"},{"$f":"'Technický list'!C141","v":3},{"$f":"VLOOKUP(E590,'Technický list'!$AU$124:$BD$168,7,0)","v":"-"},"n.a.",null,{"$f":"VLOOKUP(E590,'Kapitola 2'!$C$6:$D$282,2,0)","v":"Jakým způsobem je zaručena ochrana zařízení, aby jediná chyba neměla katastrofické následky?"}]
[null,null,null,null,{"$f":"'Technický list'!B142","v":"Q2.19"},{"$f":"'Technický list'!C142","v":3},{"$f":"VLOOKUP(E591,'Technický list'!$AU$124:$BD$168,7,0)","v":"-"},"n.a.",null,{"$f":"VLOOKUP(E591,'Kapitola 2'!$C$6:$D$282,2,0)","v":"Byly zřízeny programy preventivní údržby a péče, které zaručují bezpečnost provozů, nástrojů a zařízení?"}]
[null,null,null,null,{"$f":"'Technický list'!B143","v":"Q2.20"},{"$f":"'Technický list'!C143","v":4},{"$f":"VLOOKUP(E592,'Technický list'!$AU$124:$BD$168,7,0)","v":"-"},"n.a.",null,{"$f":"VLOOKUP(E592,'Kapitola 2'!$C$6:$D$282,2,0)","v":"Jakým způsobem se řídí procesy během mimořádných událostí v případě přerušení dodávky energie nebo služeb?"}]
[null,null,null,null,{"$f":"'Technický list'!B144","v":"Q2.21"},{"$f":"'Technický list'!C144","v":3},{"$f":"VLOOKUP(E593,'Technický list'!$AU$124:$BD$168,7,0)","v":"-"},"n.a.",null,{"$f":"VLOOKUP(E593,'Kapitola 2'!$C$6:$D$282,2,0)","v":"Jak se připravují havarijní plány?"}]
[null,null,null,null,{"$f":"'Technický list'!B145","v":"Q2.22"},{"$f":"'Technický list'!C145","v":2},{"$f":"VLOOKUP(E594,'Technický list'!$AU$124:$BD$168,7,0)","v":"-"},"n.a.",null,{"$f":"VLOOKUP(E594,'Kapitola 2'!$C$6:$D$282,2,0)","v":"Jakým způsobem jsou zabezpečeny kompetence a školení zaměstnanců a dodavatelů zapojených do procesů?"}]
[null,null,null,null,{"$f":"'Technický list'!B146","v":"Q2.23"},{"$f":"'Technický list'!C146","v":4},{"$f":"VLOOKUP(E595,'Technický list'!$AU$124:$BD$168,7,0)","v":"-"},"n.a.",null,{"$f":"VLOOKUP(E595,'Kapitola 2'!$C$6:$D$282,2,0)","v":"Jakým způsobem se sdílejí informace o rizicích látek a přípravků?"}]
[null,null,null,null,{"$f":"'Technický list'!B147","v":"Q2.24"},{"$f":"'Technický list'!C147","v":4},{"$f":"VLOOKUP(E596,'Technický list'!$AU$124:$BD$168,7,0)","v":"-"},"n.a.",null,{"$f":"VLOOKUP(E596,'Kapitola 2'!$C$6:$D$282,2,0)","v":"Jak se sdílejí informace o procesu?"}]
[null,null,null,null,{"$f":"'Technický list'!B148","v":"Q2.25"},{"$f":"'Technický list'!C148","v":3},{"$f":"VLOOKUP(E597,'Technický list'!$AU$124:$BD$168,7,0)","v":"-"},"n.a.",null,{"$f":"VLOOKUP(E597,'Kapitola 2'!$C$6:$D$282,2,0)","v":"Jakým způsobem organizace hodnotí své logistické partnery z hlediska HSE&S, energetické účinnosti a emisí skleníkových plynů?"}]
[null,null,null,null,{"$f":"'Technický list'!B149","v":"Q2.26"},{"$f":"'Technický list'!C149","v":4},{"$f":"VLOOKUP(E598,'Technický list'!$AU$124:$BD$168,7,0)","v":"-"},"n.a.",null,{"$f":"VLOOKUP(E598,'Kapitola 2'!$C$6:$D$282,2,0)","v":"Jakým způsobem organizace zabraňuje a reaguje na dopravní nehody?"}]
[null,null,null,null,{"$f":"'Technický list'!B150","v":"Q2.27"},{"$f":"'Technický list'!C150","v":4},{"$f":"VLOOKUP(E599,'Technický list'!$AU$124:$BD$168,7,0)","v":"-"},"n.a.",null,{"$f":"VLOOKUP(E599,'Kapitola 2'!$C$6:$D$282,2,0)","v":"Jakým způsobem organizace identifikuje bezpečnostní problémy?"}]
[null,null,null,null,{"$f":"'Technický list'!B151","v":"Q2.28"},{"$f":"'Technický list'!C151","v":4},{"$f":"VLOOKUP(E600,'Technický list'!$AU$124:$BD$168,7,0)","v":"-"},"n.a.",null,{"$f":"VLOOKUP(E600,'Kapitola 2'!$C$6:$D$282,2,0)","v":"Jakým způsobem se kontroluje příchod a odchod pracovníků a materiálu na pracovišti a v oblastech s omezeným vstupem?"}]
[null,null,null,null,{"$f":"'Technický list'!B152","v":"Q2.29"},{"$f":"'Technický list'!C152","v":4},{"$f":"VLOOKUP(E601,'Technický list'!$AU$124:$BD$168,7,0)","v":"-"},"n.a.",null,{"$f":"VLOOKUP(E601,'Kapitola 2'!$C$6:$D$282,2,0)","v":"Jakým způsobem se kontroluje kybernetická bezpečnost?"}]
[null,null,null,null,{"$f":"'Technický list'!B153","v":"Q2.30"},{"$f":"'Technický list'!C153","v":4},{"$f":"VLOOKUP(E602,'Technický list'!$AU$124:$BD$168,7,0)","v":"-"},"n.a.",null,{"$f":"VLOOKUP(E602,'Kapitola 2'!$C$6:$D$282,2,0)","v":"Jakým způsobem probíhá komunikace a výměna informací v případě bezpečnostní krize?"}]
[null,null,null,null,{"$f":"'Technický list'!B154","v":"Q2.31"},{"$f":"'Technický list'!C154","v":3},{"$f":"VLOOKUP(E603,'Technický list'!$AU$124:$BD$168,7,0)","v":"-"},"n.a.",null,{"$f":"VLOOKUP(E603,'Kapitola 2'!$C$6:$D$282,2,0)","v":"Jak se organizace vyrovnává s podezřelým chováním (včetně rizik radikalizace = souhlas a podopra extrémních názorů)"}]
[null,null,null,null,{"$f":"'Technický list'!B155","v":"Q2.32"},{"$f":"'Technický list'!C155","v":3},{"$f":"VLOOKUP(E604,'Technický list'!$AU$124:$BD$168,7,0)","v":"-"},"n.a.",null,{"$f":"VLOOKUP(E604,'Kapitola 2'!$C$6:$D$282,2,0)","v":"Jakým způsobem školí organizace pracovníky v oblasti ostrahy ve vazbě na bezpečnostní rizika?  "}]
[null,null,null,null,{"$f":"'Technický list'!B156","v":"Q2.33"},{"$f":"'Technický list'!C156","v":4},{"$f":"VLOOKUP(E605,'Technický list'!$AU$124:$BD$168,7,0)","v":3},{"$f":"IF(G605=\"-\",\"n.a.\",IF(F605-G605>-1,\"v souladu\",\"zvyšte skóre\"))","v":"v souladu"},null,{"$f":"VLOOKUP(E605,'Kapitola 2'!$C$6:$D$282,2,0)","v":"Jakým způsobem se posuzuje potenciální vliv organizace na životní prostředí?"}]
[null,null,null,null,{"$f":"'Technický list'!B157","v":"Q2.34"},{"$f":"'Technický list'!C157","v":4},{"$f":"VLOOKUP(E606,'Technický list'!$AU$124:$BD$168,7,0)","v":4},"v souladu",null,{"$f":"VLOOKUP(E606,'Kapitola 2'!$C$6:$D$282,2,0)","v":"Jakým způsobem se řídí environmentální výkonnost?"}]
[null,null,null,null,{"$f":"'Technický list'!B158","v":"Q2.35"},{"$f":"'Technický list'!C158","v":3},{"$f":"VLOOKUP(E607,'Technický list'!$AU$124:$BD$168,7,0)","v":3},"v souladu",null,{"$f":"VLOOKUP(E607,'Kapitola 2'!$C$6:$D$282,2,0)","v":"Jak organizace nakládá s odpadem?"}]
[null,null,null,null,{"$f":"'Technický list'!B159","v":"Q2.36"},{"$f":"'Technický list'!C159","v":3},{"$f":"VLOOKUP(E608,'Technický list'!$AU$124:$BD$168,7,0)","v":3},"v souladu",null,{"$f":"VLOOKUP(E608,'Kapitola 2'!$C$6:$D$282,2,0)","v":"Jakým způsobem řídí organizace rizika týkající se podzemních vod?"}]
[null,null,null,null,{"$f":"'Technický list'!B160","v":"Q2.37"},{"$f":"'Technický list'!C160","v":3},{"$f":"VLOOKUP(E609,'Technický list'!$AU$124:$BD$168,7,0)","v":3},"v souladu",null,{"$f":"VLOOKUP(E609,'Kapitola 2'!$C$6:$D$282,2,0)","v":"Jakým způsobem řídí organizace rizika týkající se znečištění půdy?"}]
[null,null,null,null,{"$f":"'Technický list'!B161","v":"Q2.38"},{"$f":"'Technický list'!C161","v":4},{"$f":"VLOOKUP(E610,'Technický list'!$AU$124:$BD$168,7,0)","v":3},"v souladu",null,{"$f":"VLOOKUP(E610,'Kapitola 2'!$C$6:$D$282,2,0)","v":"Jakým způsobem řídí organizace existující znečištění půdy?\n"}]
[null,null,null,null,{"$f":"'Technický list'!B162","v":"Q2.39"},{"$f":"'Technický list'!C162","v":3},{"$f":"VLOOKUP(E611,'Technický list'!$AU$124:$BD$168,7,0)","v":3},"v souladu",null,{"$f":"VLOOKUP(E611,'Kapitola 2'!$C$6:$D$282,2,0)","v":"Jakým způsobem organizace řídí své emise škodlivin do ovzduší?"}]
[null,null,null,null,{"$f":"'Technický list'!B163","v":"Q2.40"},{"$f":"'Technický list'!C163","v":4},{"$f":"VLOOKUP(E612,'Technický list'!$AU$124:$BD$168,7,0)","v":3},"v souladu",null,{"$f":"VLOOKUP(E612,'Kapitola 2'!$C$6:$D$282,2,0)","v":"Jakým způsobem organizace řídí své emise škodlivin do vody?"}]
[null,null,null,null,{"$f":"'Technický list'!B164","v":"Q2.41"},{"$f":"'Technický list'!C164","v":3},{"$f":"VLOOKUP(E613,'Technický list'!$AU$124:$BD$168,7,0)","v":3},"v souladu",null,{"$f":"VLOOKUP(E613,'Kapitola 2'!$C$6:$D$282,2,0)","v":"Jakým způsobem organizace řídí své emise hluku?"}]
[null,null,null,null,{"$f":"'Technický list'!B165","v":"Q2.42"},{"$f":"'Technický list'!C165","v":4},{"$f":"VLOOKUP(E614,'Technický list'!$AU$124:$BD$168,7,0)","v":3},"v souladu",null,{"$f":"VLOOKUP(E614,'Kapitola 2'!$C$6:$D$282,2,0)","v":"Jakým způsobem organizace řídí své emise zápachu?"}]
[null,null,null,null,{"$f":"'Technický list'!B166","v":"Q2.43"},{"$f":"'Technický list'!C166","v":4},{"$f":"VLOOKUP(E615,'Technický list'!$AU$124:$BD$168,7,0)","v":3},"v souladu",null,{"$f":"VLOOKUP(E615,'Kapitola 2'!$C$6:$D$282,2,0)","v":"Jakým způsobem organizace zabraňuje a řídí havarijní emise do prostředí?"}]
[null,null,null,null,{"$f":"'Technický list'!B167","v":"Q2.44"},{"$f":"'Technický list'!C167","v":4},{"$f":"VLOOKUP(E616,'Technický list'!$AU$124:$BD$168,7,0)","v":3},"v souladu",null,{"$f":"VLOOKUP(E616,'Kapitola 2'!$C$6:$D$282,2,0)","v":"Jakým způsobem zajišťuje organizace správně kompetence všech pracovníků, týkající se environmentálních požadavků, které souvisejí s jejich pracovní náplní?"}]
[null,null,null,null,{"$f":"'Technický list'!B168","v":"Q2.45"},{"$f":"'Technický list'!C168","v":3},{"$f":"VLOOKUP(E617,'Technický list'!$AU$124:$BD$168,7,0)","v":2},"v souladu",null,{"$f":"VLOOKUP(E617,'Kapitola 2'!$C$6:$D$282,2,0)","v":"Jakým způsobem jsou zainteresované strany organizace informovány o environmentálních aspektech a jejich možných dopadech?"}]
[null,null,null,null,"KAPITOLA 3: Posílení systémů řízení chemických látek"]
[null,null,null,null,{"$f":"'Technický list'!$B$406","v":"Q3.1"},{"$f":"'Technický list'!$C$406","v":3},{"$f":"VLOOKUP(E619,'Technický list'!$AU$406:$BD$418,7,0)","v":"-"},{"$f":"IF(G619=\"-\",\"n.a.\",IF(F619-G619>-1,\"compliant\",\"increase score\"))","v":"n.a."},null,{"$f":"VLOOKUP(E619,'Kapitola 3'!$C$6:$D$89,2,0)","v":"Zavedla organizace proces pro navrhování a vývoj nových \nproduktů a služeb?"}]
[null,null,null,null,{"$f":"'Technický list'!$B$407","v":"Q3.2"},{"$f":"'Technický list'!$C$407","v":2},{"$f":"VLOOKUP(E620,'Technický list'!$AU$406:$BD$418,7,0)","v":"-"},"n.a.",null,{"$f":"VLOOKUP(E620,'Kapitola 3'!$C$6:$D$89,2,0)","v":"Má organizace k dispozici proces hodnocení a stanovení priorit svých produktů pro charakterizaci rizik a řízení rizik?\n\n\n"}]
[null,null,null,null,{"$f":"'Technický list'!$B$408","v":"Q3.3"},{"$f":"'Technický list'!$C$408","v":3},{"$f":"VLOOKUP(E621,'Technický list'!$AU$406:$BD$418,7,0)","v":"-"},"n.a.",null,{"$f":"VLOOKUP(E621,'Kapitola 3'!$C$6:$D$89,2,0)","v":"Zavedla organizace systém pro sledování použitelnosti, změn a dodržování interních a externích požadavků souvisejících s řízením bezpečnosti chemických látek?"}]
[null,null,null,null,{"$f":"'Technický list'!$B$409","v":"Q3.4"},{"$f":"'Technický list'!$C$409","v":2},{"$f":"VLOOKUP(E622,'Technický list'!$AU$406:$BD$418,7,0)","v":"-"},"n.a.",null,{"$f":"VLOOKUP(E622,'Kapitola 3'!$C$6:$D$89,2,0)","v":"Zavedla organizace systém na správu existujících informací o rizicích svých produktů?"}]
[null,null,null,null,{"$f":"'Technický list'!$B$410","v":"Q3.5"},{"$f":"'Technický list'!$C$410","v":2},{"$f":"VLOOKUP(E623,'Technický list'!$AU$406:$BD$418,7,0)","v":"-"},"n.a.",null,{"$f":"VLOOKUP(E623,'Kapitola 3'!$C$6:$D$89,2,0)","v":"Zavedla organizace proces řízení informací o používání a expozici svých produktů?"}]
[null,null,null,null,{"$f":"'Technický list'!$B$411","v":"Q3.6"},{"$f":"'Technický list'!$C$411","v":4},{"$f":"VLOOKUP(E624,'Technický list'!$AU$406:$BD$418,7,0)","v":"-"},"n.a.",null,{"$f":"VLOOKUP(E624,'Kapitola 3'!$C$6:$D$89,2,0)","v":"Zavedla organizace proces na správu nových informací?"}]
[null,null,null,null,{"$f":"'Technický list'!$B$412","v":"Q3.7"},{"$f":"'Technický list'!$C$412","v":3},{"$f":"VLOOKUP(E625,'Technický list'!$AU$406:$BD$418,7,0)","v":"-"},"n.a.",null,{"$f":"VLOOKUP(E625,'Kapitola 3'!$C$6:$D$89,2,0)","v":"Zavedla organizace proces charakterizace rizik na základě shromážděných informací?"}]
[null,null,null,null,{"$f":"'Technický list'!$B$413","v":"Q3.8"},{"$f":"'Technický list'!$C$413","v":4},{"$f":"VLOOKUP(E626,'Technický list'!$AU$406:$BD$418,7,0)","v":"-"},"n.a.",null,{"$f":"VLOOKUP(E626,'Kapitola 3'!$C$6:$D$89,2,0)","v":"Zavedla organizace proces řízení rizik na základě shromážděných informací?"}]
[null,null,null,null,{"$f":"'Technický list'!$B$414","v":"Q3.9"},{"$f":"'Technický list'!$C$414","v":4},{"$f":"VLOOKUP(E627,'Technický list'!$AU$406:$BD$418,7,0)","v":"-"},"n.a.",null,{"$f":"VLOOKUP(E627,'Kapitola 3'!$C$6:$D$89,2,0)","v":"Zavedla organizace účinný proces sledování svých produktů po dodání a provádění nápravných opatření?\n"}]
[null,null,null,null,{"$f":"'Technický list'!$B$415","v":"Q3.10"},{"$f":"'Technický list'!$C$415","v":4},{"$f":"VLOOKUP(E628,'Technický list'!$AU$406:$BD$418,7,0)","v":"-"},"n.a.",null,{"$f":"VLOOKUP(E628,'Kapitola 3'!$C$6:$D$89,2,0)","v":"Poskytuje organizace efektivní komunikaci v rámci dodavatelského řetězce ohledně opatření k řízení rizik, které se vztahují na jejich produkty?"}]
[null,null,null,null,"KAPITOLA 4: Působení na obchodní partnery"]
[null,null,null,null,{"$f":"'Technický list'!B482","v":"Q4.1"},{"$f":"'Technický list'!C482","v":3},{"$f":"VLOOKUP(E630,'Technický list'!$AU$482:$BD$489,7,0)","v":"-"},{"$f":"IF(G630=\"-\",\"n.a.\",IF(F630-G630>-1,\"compliant\",\"increase score\"))","v":"n.a."},null,{"$f":"VLOOKUP(E630,'Kapitola 4'!$C$6:$D$91,2,0)","v":"Jak se organizace zavázala k odpovědnému získávání zdrojů?"}]
[null,null,null,null,{"$f":"'Technický list'!B483","v":"Q4.2"},{"$f":"'Technický list'!C483","v":4},{"$f":"VLOOKUP(E631,'Technický list'!$AU$482:$BD$489,7,0)","v":"-"},{"$f":"IF(G631=\"-\",\"n.a.\",IF(F631-G631>-1,\"compliant\",\"increase score\"))","v":"n.a."},null,{"$f":"VLOOKUP(E631,'Kapitola 4'!$C$6:$D$91,2,0)","v":"Jak organizace zlepšuje spolupráci v dodavatelském řetězci?"}]
[null,null,null,null,{"$f":"'Technický list'!B484","v":"Q4.3"},{"$f":"'Technický list'!C484","v":3},{"$f":"VLOOKUP(E632,'Technický list'!$AU$482:$BD$489,7,0)","v":"-"},"n.a.",null,{"$f":"VLOOKUP(E632,'Kapitola 4'!$C$6:$D$91,2,0)","v":"Jakým způsobem vyjadřuje organizace svůj závazek vůči podnikatelské etice?"}]
[null,null,null,null,{"$f":"'Technický list'!B485","v":"Q4.4"},{"$f":"'Technický list'!C485","v":2},{"$f":"VLOOKUP(E633,'Technický list'!$AU$482:$BD$489,7,0)","v":"-"},"n.a.",null,{"$f":"VLOOKUP(E633,'Kapitola 4'!$C$6:$D$91,2,0)","v":"Jakým způsobem řeší organizace sociální problematiku a lidská práva v rámci spolupráce s obchodními partnery?"}]
[null,null,null,null,{"$f":"'Technický list'!B486","v":"Q4.5"},{"$f":"'Technický list'!C486","v":4},{"$f":"VLOOKUP(E634,'Technický list'!$AU$482:$BD$489,7,0)","v":"-"},"n.a.",null,{"$f":"VLOOKUP(E634,'Kapitola 4'!$C$6:$D$91,2,0)","v":"Jakým způsobem zabraňuje organizace dětské práci?\nOrganizace\n1-\tzavedla systém ověřování věku; \n2-\tnezaměstnává děti mladší 15 let (v závislosti na místní legislativy). Jedinou výjimku představují učni, školní praxe nebo vzdělávací stáže; \n3-\tzaručuje, aby pracovní náplň osob mladších než 18 let neovlivňovala jejich školní docházku (doba strávená dopravou do práce a školy a z práce a školy, školní docházkou a prací je méně než 10 hodin denně );\n4-\tzajišťuje, že pracovní náplň mladých pracovníků není duševně, fyzicky, společensky ani morálně nebezpečná a škodlivá."}]
[null,null,null,null,{"$f":"'Technický list'!B487","v":"Q4.6"},{"$f":"'Technický list'!C487","v":3},{"$f":"VLOOKUP(E635,'Technický list'!$AU$482:$BD$489,7,0)","v":"-"},"n.a.",null,{"$f":"VLOOKUP(E635,'Kapitola 4'!$C$6:$D$91,2,0)","v":"Jakým způsobem zabezpečuje organizace splnění svých požadavků ze strany logistických partnerů?"}]
[null,null,null,null,{"$f":"'Technický list'!B488","v":"Q4.7"},{"$f":"'Technický list'!C488","v":1},{"$f":"VLOOKUP(E636,'Technický list'!$AU$482:$BD$489,7,0)","v":"-"},"n.a.",null,{"$f":"VLOOKUP(E636,'Kapitola 4'!$C$6:$D$91,2,0)","v":"Jakým způsobem organizace chrání a zabezpečuje majetek a údaje následných uživatelů nebo externích poskytovatelů, které se používají nebo začleňují do produktů a služeb?"}]
[null,null,null,null,{"$f":"'Technický list'!B489","v":"Q4.8"},{"$f":"'Technický list'!C489","v":4},{"$f":"VLOOKUP(E637,'Technický list'!$AU$482:$BD$489,7,0)","v":"-"},"n.a.",null,{"$f":"VLOOKUP(E637,'Kapitola 4'!$C$6:$D$91,2,0)","v":"Co zahrnuje dialog s následnými uživateli?"}]
[null,null,null,null,"KAPITOLA 5: Zapojení zainteresovaných stran"]
[null,null,null,null,{"$f":"'Technický list'!B544","v":"Q5.1"},{"$f":"'Technický list'!C544","v":3},{"$f":"VLOOKUP(E639,'Technický list'!$AU$544:$BD$548,7,0)","v":3},{"$f":"IF(G639=\"-\",\"n.a.\",IF(F639-G639>-1,\"v souladu\",\"zvyšte skóre\"))","v":"v souladu"},null,{"$f":"VLOOKUP(E639,'Kapitola 5'!$C$6:$D$89,2,0)","v":"Jakým způsobem zapojuje organizace své externí zainteresované strany a naplňuje jejich očekávání?"}]
[null,null,null,null,{"$f":"'Technický list'!B545","v":"Q5.2"},{"$f":"'Technický list'!C545","v":4},{"$f":"VLOOKUP(E640,'Technický list'!$AU$544:$BD$548,7,0)","v":3},{"$f":"IF(G640=\"-\",\"n.a.\",IF(F640-G640>-1,\"v souladu\",\"zvyšte skóre\"))","v":"v souladu"},null,{"$f":"VLOOKUP(E640,'Kapitola 5'!$C$6:$D$89,2,0)","v":"Jakým způsobem vede organizace dialog s veřejností, úřady a dalšími zainteresovanými stranami, včetně místních komunit a zákazníků v souvislosti s HSE&S v rámci jejich činností, produktů a služeb?"}]
[null,null,null,null,{"$f":"'Technický list'!B546","v":"Q5.3"},{"$f":"'Technický list'!C546","v":2},{"$f":"VLOOKUP(E641,'Technický list'!$AU$544:$BD$548,7,0)","v":3},{"$f":"IF(G641=\"-\",\"n.a.\",IF(F641-G641>-1,\"v souladu\",\"zvyšte skóre\"))","v":"zvyšte skóre"},null,{"$f":"VLOOKUP(E641,'Kapitola 5'!$C$6:$D$89,2,0)","v":"Jakým způsobem zveřejňuje organizace informace týkající se\n HSE&S?"}]
[null,null,null,null,{"$f":"'Technický list'!B547","v":"Q5.4"},{"$f":"'Technický list'!C547","v":2},{"$f":"VLOOKUP(E642,'Technický list'!$AU$544:$BD$548,7,0)","v":"-"},{"$f":"IF(G642=\"-\",\"n.a.\",IF(F642-G642>-1,\"compliant\",\"increase score\"))","v":"n.a."},null,{"$f":"VLOOKUP(E642,'Kapitola 5'!$C$6:$D$89,2,0)","v":"Jakým způsobem podporuje organizace místní komunity?"}]
[null,null,null,null,{"$f":"'Technický list'!B548","v":"Q5.5"},{"$f":"'Technický list'!C548","v":3},{"$f":"VLOOKUP(E643,'Technický list'!$AU$544:$BD$548,7,0)","v":"-"},"n.a.",null,{"$f":"VLOOKUP(E643,'Kapitola 5'!$C$6:$D$89,2,0)","v":"Jakým způsobem stimuluje organizace místní zaměstnanost a vzdělávání?"}]
[null,null,null,null,"KAPITOLA 6: Přispívání k udržitelnosti"]
[null,null,null,null,{"$f":"'Technický list'!B584","v":"Q6.1"},{"$f":"'Technický list'!C584","v":2},{"$f":"VLOOKUP(E645,'Technický list'!$AU$584:$BD$600,7,0)","v":"-"},{"$f":"IF(G645=\"-\",\"n.a.\",IF(F645-G645>-1,\"compliant\",\"increase score\"))","v":"n.a."},null,{"$f":"VLOOKUP(E645,'Kapitola 6'!$C$6:$D$120,2,0)","v":"Jakým způsobem definuje organizace významné problémy a závažnost?"}]
[null,null,null,null,{"$f":"'Technický list'!B585","v":"Q6.2"},{"$f":"'Technický list'!C585","v":2},{"$f":"VLOOKUP(E646,'Technický list'!$AU$584:$BD$600,7,0)","v":"-"},{"$f":"IF(G646=\"-\",\"n.a.\",IF(F646-G646>-1,\"compliant\",\"increase score\"))","v":"n.a."},null,{"$f":"VLOOKUP(E646,'Kapitola 6'!$C$6:$D$120,2,0)","v":"Jakým způsobem hodlá organizace přispívat k udržitelnému rozvoji?"}]
[null,null,null,null,{"$f":"'Technický list'!B586","v":"Q6.3"},{"$f":"'Technický list'!C586","v":3},{"$f":"VLOOKUP(E647,'Technický list'!$AU$584:$BD$600,7,0)","v":"-"},"n.a.",null,{"$f":"VLOOKUP(E647,'Kapitola 6'!$C$6:$D$120,2,0)","v":"Jakým způsobem komunikuje organizace zainteresovaných stran na téma udržitelnosti?"}]
[null,null,null,null,{"$f":"'Technický list'!B587","v":"Q6.4"},{"$f":"'Technický list'!C587","v":2},{"$f":"VLOOKUP(E648,'Technický list'!$AU$584:$BD$600,7,0)","v":"-"},"n.a.",null,{"$f":"VLOOKUP(E648,'Kapitola 6'!$C$6:$D$120,2,0)","v":"Má organizace zavedený proces navrhování výrobků s lepšími výsledky udržitelnosti?"}]
[null,null,null,null,{"$f":"'Technický list'!B588","v":"Q6.5"},{"$f":"'Technický list'!C588","v":2},{"$f":"VLOOKUP(E649,'Technický list'!$AU$584:$BD$600,7,0)","v":"-"},"n.a.",null,{"$f":"VLOOKUP(E649,'Kapitola 6'!$C$6:$D$120,2,0)","v":"Jakým způsobem zvyšuje organizace efektivnost zdrojů ve svých výrobních procesech?"}]
[null,null,null,null,{"$f":"'Technický list'!B589","v":"Q6.6"},{"$f":"'Technický list'!C589","v":1},{"$f":"VLOOKUP(E650,'Technický list'!$AU$584:$BD$600,7,0)","v":"-"},"n.a.",null,{"$f":"VLOOKUP(E650,'Kapitola 6'!$C$6:$D$120,2,0)","v":"Jakým způsobem stimuluje organizace oběhové hospodářství prostřednictvím svých produktů?"}]
[null,null,null,null,{"$f":"'Technický list'!B590","v":"Q6.7"},{"$f":"'Technický list'!C590","v":3},{"$f":"VLOOKUP(E651,'Technický list'!$AU$584:$BD$600,7,0)","v":"-"},"n.a.",null,{"$f":"VLOOKUP(E651,'Kapitola 6'!$C$6:$D$120,2,0)","v":"Jakým způsobem podporuje organizace inovace při vývoji produktů a řešení, které odpovídají výzvám udržitelnosti?"}]
[null,null,null,null,{"$f":"'Technický list'!B591","v":"Q6.8"},{"$f":"'Technický list'!C591","v":3},{"$f":"VLOOKUP(E652,'Technický list'!$AU$584:$BD$600,7,0)","v":"-"},"n.a.",null,{"$f":"VLOOKUP(E652,'Kapitola 6'!$C$6:$D$120,2,0)","v":"Jakým způsobem stimuluje organizace inovaci a spolupráci?"}]
[null,null,null,null,{"$f":"'Technický list'!B592","v":"Q6.9"},{"$f":"'Technický list'!C592","v":1},{"$f":"VLOOKUP(E653,'Technický list'!$AU$584:$BD$600,7,0)","v":"-"},"n.a.",null,{"$f":"VLOOKUP(E653,'Kapitola 6'!$C$6:$D$120,2,0)","v":"Jakým způsobem podporuje organizace udržitelné způsoby spotřeby?"}]
[null,null,null,null,{"$f":"'Technický list'!B593","v":"Q6.10"},{"$f":"'Technický list'!C593","v":2},{"$f":"VLOOKUP(E654,'Technický list'!$AU$584:$BD$600,7,0)","v":"-"},"n.a.",null,{"$f":"VLOOKUP(E654,'Kapitola 6'!$C$6:$D$120,2,0)","v":"Jakým způsobem organizace kontroluje a optimalizuje spotřebu vody?"}]
[null,null,null,null,{"$f":"'Technický list'!B594","v":"Q6.11"},{"$f":"'Technický list'!C594","v":3},{"$f":"VLOOKUP(E655,'Technický list'!$AU$584:$BD$600,7,0)","v":"-"},"n.a.",null,{"$f":"VLOOKUP(E655,'Kapitola 6'!$C$6:$D$120,2,0)","v":"Jakým způsobem se řídí vliv organizace na biodiverzitu a ekosystém?"}]
[null,null,null,null,{"$f":"'Technický list'!B595","v":"Q6.12"},{"$f":"'Technický list'!C595","v":1},{"$f":"VLOOKUP(E656,'Technický list'!$AU$584:$BD$600,7,0)","v":"-"},"n.a.",null,{"$f":"VLOOKUP(E656,'Kapitola 6'!$C$6:$D$120,2,0)","v":"Jakým způsobem posuzuje organizace svou závislost na přírodních zdrojích (ekosystémech)?"}]
[null,null,null,null,{"$f":"'Technický list'!B596","v":"Q6.13"},{"$f":"'Technický list'!C596","v":2},{"$f":"VLOOKUP(E657,'Technický list'!$AU$584:$BD$600,7,0)","v":"-"},"n.a.",null,{"$f":"VLOOKUP(E657,'Kapitola 6'!$C$6:$D$120,2,0)","v":"Jakým způsobem řídí organizace svou spotřebu energie?"}]
[null,null,null,null,{"$f":"'Technický list'!B597","v":"Q6.14"},{"$f":"'Technický list'!C597","v":3},{"$f":"VLOOKUP(E658,'Technický list'!$AU$584:$BD$600,7,0)","v":"-"},"n.a.",null,{"$f":"VLOOKUP(E658,'Kapitola 6'!$C$6:$D$120,2,0)","v":"Jakým způsobem řídí organizace emise skleníkových plynů (kromě úspor energie)?"}]
[null,null,null,null,{"$f":"'Technický list'!B598","v":"Q6.15"},{"$f":"'Technický list'!C598","v":2},{"$f":"VLOOKUP(E659,'Technický list'!$AU$584:$BD$600,7,0)","v":"-"},"n.a.",null,{"$f":"VLOOKUP(E659,'Kapitola 6'!$C$6:$D$120,2,0)","v":"Jaká je strategie organizace na snižování emisí skleníkových plynů?"}]
[null,null,null,null,{"$f":"'Technický list'!B599","v":"Q6.16"},{"$f":"'Technický list'!C599","v":2},{"$f":"VLOOKUP(E660,'Technický list'!$AU$584:$BD$600,7,0)","v":3},{"$f":"IF(G660=\"-\",\"n.a.\",IF(F660-G660>-1,\"v souladu\",\"zvyšte skóre\"))","v":"zvyšte skóre"},null,{"$f":"VLOOKUP(E660,'Kapitola 6'!$C$6:$D$120,2,0)","v":"Jakým způsobem se organizace připravuje na klimatické změny? "}]
[null,null,null,null,{"$f":"'Technický list'!B600","v":"Q6.17"},{"$f":"'Technický list'!C600","v":3},{"$f":"VLOOKUP(E661,'Technický list'!$AU$584:$BD$600,7,0)","v":"-"},"n.a.",null,{"$f":"VLOOKUP(E661,'Kapitola 6'!$C$6:$D$120,2,0)","v":"Jak organizace zajišťuje rovné příležitosti při náboru a během kariéry všech?"}]
[]
[null,null,"Zpráva o souladu s RC 14001"]
[null,null,null,null,null,"Vaše skóre ","Minimální skóre pro RC 14001"]
[null,null,null,null,"KAPITOLA 1: Podniková kultura vedení "]
[null,null,null,null,{"$f":"'Technický list'!B10","v":"Q1.1"},{"$f":"'Technický list'!C10","v":4},{"$f":"VLOOKUP(E666,'Technický list'!$AU$10:$BD$25,8,0)","v":3},{"$f":"IF(G666=\"-\",\"n.a.\",IF(F666-G666>-1,\"v souladu\",\"zvyšte skóre\"))","v":"v souladu"},null,{"$f":"VLOOKUP(E666,'Kapitola 1'!$C$6:$D$112,2,0)","v":"Jak se projevuje závazek plnit povinnosti týkající se dodržování předpisů a zásad Responsible Care = RC (tj. ochrana a podpora zdraví a bezpečnost lidí, životního prostředí a udržitelnosti) na všech úrovních organizace?\n"}]
[null,null,null,null,{"$f":"'Technický list'!B11","v":"Q1.2"},{"$f":"'Technický list'!C11","v":4},{"$f":"VLOOKUP(E667,'Technický list'!$AU$10:$BD$25,8,0)","v":3},"v souladu",null,{"$f":"VLOOKUP(E667,'Kapitola 1'!$C$6:$D$112,2,0)","v":"Jakým způsobem řídí organizace příslušná rizika a příležitosti?  "}]
[null,null,null,null,{"$f":"'Technický list'!B12","v":"Q1.3"},{"$f":"'Technický list'!C12","v":4},{"$f":"VLOOKUP(E668,'Technický list'!$AU$10:$BD$25,8,0)","v":2},"v souladu",null,{"$f":"VLOOKUP(E668,'Kapitola 1'!$C$6:$D$112,2,0)","v":"Jakým způsobem monitoruje organizace svoje zákonné povinnosti? "}]
[null,null,null,null,{"$f":"'Technický list'!B13","v":"Q1.4"},{"$f":"'Technický list'!C13","v":3},{"$f":"VLOOKUP(E669,'Technický list'!$AU$10:$BD$25,8,0)","v":2},"v souladu",null,{"$f":"VLOOKUP(E669,'Kapitola 1'!$C$6:$D$112,2,0)","v":"Jakým způsobem top management zajišťuje, že jednotlivé aspekty HSE&S (zdraví, bezpečnosti, ochrany životního prostředí & udržitelnosti) jsou přiřazeny stanoveným rolím v organizaci?"}]
[null,null,null,null,{"$f":"'Technický list'!B14","v":"Q1.5"},{"$f":"'Technický list'!C14","v":3},{"$f":"VLOOKUP(E670,'Technický list'!$AU$10:$BD$25,8,0)","v":3},"v souladu",null,{"$f":"VLOOKUP(E670,'Kapitola 1'!$C$6:$D$112,2,0)","v":"Jakým způsobem se top management podílí na řešení záležitostí HSE&S?"}]
[null,null,null,null,{"$f":"'Technický list'!B15","v":"Q1.6"},{"$f":"'Technický list'!C15","v":3},{"$f":"VLOOKUP(E671,'Technický list'!$AU$10:$BD$25,8,0)","v":3},"v souladu",null,{"$f":"VLOOKUP(E671,'Kapitola 1'!$C$6:$D$112,2,0)","v":"Jakým způsobem jsou odpovědnosti HSE&S začleněny do popisů pracovní náplně nebo ročních cílů?\n"}]
[null,null,null,null,{"$f":"'Technický list'!B16","v":"Q1.7"},{"$f":"'Technický list'!C16","v":3},{"$f":"VLOOKUP(E672,'Technický list'!$AU$10:$BD$25,8,0)","v":3},"v souladu",null,{"$f":"VLOOKUP(E672,'Kapitola 1'!$C$6:$D$112,2,0)","v":"Jakým způsobem se řídí (nejdůležitější) procesy v souvislosti s HSE&S?"}]
[null,null,null,null,{"$f":"'Technický list'!B17","v":"Q1.8"},{"$f":"'Technický list'!C17","v":3},{"$f":"VLOOKUP(E673,'Technický list'!$AU$10:$BD$25,8,0)","v":3},"v souladu",null,{"$f":"VLOOKUP(E673,'Kapitola 1'!$C$6:$D$112,2,0)","v":"Jakým způsobem top management zajišťuje neustálé zlepšování výkonu v oblasti HSE&S (zdraví, bezpečnosti, životního prostředí, energetiky a udržitelnosti)?"}]
[null,null,null,null,{"$f":"'Technický list'!B18","v":"Q1.9"},{"$f":"'Technický list'!C18","v":4},{"$f":"VLOOKUP(E674,'Technický list'!$AU$10:$BD$25,8,0)","v":3},"v souladu",null,{"$f":"VLOOKUP(E674,'Kapitola 1'!$C$6:$D$112,2,0)","v":"Jak jsou organizovány interní audity?"}]
[null,null,null,null,{"$f":"'Technický list'!B19","v":"Q1.10"},{"$f":"'Technický list'!C19","v":4},{"$f":"VLOOKUP(E675,'Technický list'!$AU$10:$BD$25,8,0)","v":3},"v souladu",null,{"$f":"VLOOKUP(E675,'Kapitola 1'!$C$6:$D$112,2,0)","v":"Jakým způsobem probíhá vyšetřování?"}]
[null,null,null,null,{"$f":"'Technický list'!B20","v":"Q1.11"},{"$f":"'Technický list'!C20","v":3},{"$f":"VLOOKUP(E676,'Technický list'!$AU$10:$BD$25,8,0)","v":3},"v souladu",null,{"$f":"VLOOKUP(E676,'Kapitola 1'!$C$6:$D$112,2,0)","v":"Jakým způsobem organizace zajišťuje procesy, čas a zdroje potřebné pro zlepšování procesů řízení HSE&S?"}]
[null,null,null,null,{"$f":"'Technický list'!B21","v":"Q1.12"},{"$f":"'Technický list'!C21","v":3},{"$f":"VLOOKUP(E677,'Technický list'!$AU$10:$BD$25,8,0)","v":3},"v souladu",null,{"$f":"VLOOKUP(E677,'Kapitola 1'!$C$6:$D$112,2,0)","v":"Jak organizace zajišťuje, že zaměstnanci jsou si vědomi politik a procesů týkajících se zdraví, bezpečnosti, životního prostředí, energetiky a udržitelnosti?"}]
[null,null,null,null,{"$f":"'Technický list'!B22","v":"Q1.13"},{"$f":"'Technický list'!C22","v":3},{"$f":"VLOOKUP(E678,'Technický list'!$AU$10:$BD$25,8,0)","v":3},"v souladu",null,{"$f":"VLOOKUP(E678,'Kapitola 1'!$C$6:$D$112,2,0)","v":"Jakým způsobem organizace zajišťuje správné kompetence pracovníků, pokud jde o aspekty HSE&S týkající se jejich práce?"}]
[null,null,null,null,{"$f":"'Technický list'!B23","v":"Q1.14"},{"$f":"'Technický list'!C23","v":3},{"$f":"VLOOKUP(E679,'Technický list'!$AU$10:$BD$25,8,0)","v":2},"v souladu",null,{"$f":"VLOOKUP(E679,'Kapitola 1'!$C$6:$D$112,2,0)","v":"Jaká je struktura zapojení zaměstnanců?"}]
[null,null,null,null,{"$f":"'Technický list'!B24","v":"Q1.15"},{"$f":"'Technický list'!C24","v":3},{"$f":"VLOOKUP(E680,'Technický list'!$AU$10:$BD$25,8,0)","v":3},"v souladu",null,{"$f":"VLOOKUP(E680,'Kapitola 1'!$C$6:$D$112,2,0)","v":"Jakým způsobem se řídí dokumentace HSE&S?"}]
[null,null,null,null,{"$f":"'Technický list'!B25","v":"Q1.16"},{"$f":"'Technický list'!C25","v":3},{"$f":"VLOOKUP(E681,'Technický list'!$AU$10:$BD$25,8,0)","v":3},"v souladu",null,{"$f":"VLOOKUP(E681,'Kapitola 1'!$C$6:$D$112,2,0)","v":"Jakým způsobem jsou řízeny změny potenciálně ovlivňující HSE&S (zdraví, bezpečnost, životní prostředí, energetiku a udržitelnost)?"}]
[null,null,null,null,"KAPITOLA 2: Ochrana lidí a životního prostředí"]
[null,null,null,null,{"$f":"'Technický list'!B124","v":"Q2.1"},{"$f":"'Technický list'!C124","v":3},{"$f":"VLOOKUP(E683,'Technický list'!$AU$124:$BD$168,8,0)","v":2},{"$f":"IF(G683=\"-\",\"n.a.\",IF(F683-G683>-1,\"v souladu\",\"zvyšte skóre\"))","v":"v souladu"},null,{"$f":"VLOOKUP(E683,'Kapitola 2'!$C$6:$D$282,2,0)","v":"Jak se management zavázal k ochraně zdraví a bezpečnosti při práci (dále jen \"BOZP\")?"}]
[null,null,null,null,{"$f":"'Technický list'!B125","v":"Q2.2"},{"$f":"'Technický list'!C125","v":4},{"$f":"VLOOKUP(E684,'Technický list'!$AU$124:$BD$168,8,0)","v":"-"},{"$f":"IF(G684=\"-\",\"n.a.\",IF(F684-G684>-1,\"compliant\",\"increase score\"))","v":"n.a."},null,{"$f":"VLOOKUP(E684,'Kapitola 2'!$C$6:$D$282,2,0)","v":"Jakým způsobem se určují rizika a expozice v souvislosti s BOZP?"}]
[null,null,null,null,{"$f":"'Technický list'!B126","v":"Q2.3"},{"$f":"'Technický list'!C126","v":3},{"$f":"VLOOKUP(E685,'Technický list'!$AU$124:$BD$168,8,0)","v":"-"},"n.a.",null,{"$f":"VLOOKUP(E685,'Kapitola 2'!$C$6:$D$282,2,0)","v":"Jakým způsobem se posuzují zdravotní požadavky?"}]
[null,null,null,null,{"$f":"'Technický list'!B127","v":"Q2.4"},{"$f":"'Technický list'!C127","v":4},{"$f":"VLOOKUP(E686,'Technický list'!$AU$124:$BD$168,8,0)","v":3},{"$f":"IF(G686=\"-\",\"n.a.\",IF(F686-G686>-1,\"v souladu\",\"zvyšte skóre\"))","v":"v souladu"},null,{"$f":"VLOOKUP(E686,'Kapitola 2'!$C$6:$D$282,2,0)","v":"Jakým způsobem zlepšuje organizace BOZP?"}]
[null,null,null,null,{"$f":"'Technický list'!B128","v":"Q2.5"},{"$f":"'Technický list'!C128","v":2},{"$f":"VLOOKUP(E687,'Technický list'!$AU$124:$BD$168,8,0)","v":"-"},"n.a.",null,{"$f":"VLOOKUP(E687,'Kapitola 2'!$C$6:$D$282,2,0)","v":"Jakým způsobem probíhá údržba a udržování pořádku s cílem zajistit bezpečnost provozů, zařízení, nástrojů a (bezpečnostních) pomůcek?"}]
[null,null,null,null,{"$f":"'Technický list'!B129","v":"Q2.6"},{"$f":"'Technický list'!C129","v":3},{"$f":"VLOOKUP(E688,'Technický list'!$AU$124:$BD$168,8,0)","v":"-"},"n.a.",null,{"$f":"VLOOKUP(E688,'Kapitola 2'!$C$6:$D$282,2,0)","v":"Jak se ověřuje správný výběr, údržba a používání zdravotního a bezpečnostního vybavení (např. osobních ochranných prostředků = OOPP)?"}]
[null,null,null,null,{"$f":"'Technický list'!B130","v":"Q2.7"},{"$f":"'Technický list'!C130","v":2},{"$f":"VLOOKUP(E689,'Technický list'!$AU$124:$BD$168,8,0)","v":3},{"$f":"IF(G689=\"-\",\"n.a.\",IF(F689-G689>-1,\"v souladu\",\"zvyšte skóre\"))","v":"zvyšte skóre"},null,{"$f":"VLOOKUP(E689,'Kapitola 2'!$C$6:$D$282,2,0)","v":"Jak se organizace stará o stres a tělesné a duševní zdraví zaměstnanců?"}]
[null,null,null,null,{"$f":"'Technický list'!B131","v":"Q2.8"},{"$f":"'Technický list'!C131","v":3},{"$f":"VLOOKUP(E690,'Technický list'!$AU$124:$BD$168,8,0)","v":4},{"$f":"IF(G690=\"-\",\"n.a.\",IF(F690-G690>-1,\"v souladu\",\"zvyšte skóre\"))","v":"zvyšte skóre"},null,{"$f":"VLOOKUP(E690,'Kapitola 2'!$C$6:$D$282,2,0)","v":"Jakým způsobem se vyšetřují onemocnění, zranění, incidenty a potenciálně nebezpečné situace na pracovišti?"}]
[null,null,null,null,{"$f":"'Technický list'!B132","v":"Q2.9"},{"$f":"'Technický list'!C132","v":4},{"$f":"VLOOKUP(E691,'Technický list'!$AU$124:$BD$168,8,0)","v":3},{"$f":"IF(G691=\"-\",\"n.a.\",IF(F691-G691>-1,\"v souladu\",\"zvyšte skóre\"))","v":"v souladu"},null,{"$f":"VLOOKUP(E691,'Kapitola 2'!$C$6:$D$282,2,0)","v":"Jak je organizace připravena na mimořádné události?"}]
[null,null,null,null,{"$f":"'Technický list'!B133","v":"Q2.10"},{"$f":"'Technický list'!C133","v":3},{"$f":"VLOOKUP(E692,'Technický list'!$AU$124:$BD$168,8,0)","v":3},{"$f":"IF(G692=\"-\",\"n.a.\",IF(F692-G692>-1,\"v souladu\",\"zvyšte skóre\"))","v":"v souladu"},null,{"$f":"VLOOKUP(E692,'Kapitola 2'!$C$6:$D$282,2,0)","v":"Jakým způsobem zajišťuje organizace správně kompetence všech pracovníků, týkající se požadavků BOZP, které souvisí s jejich pracovní náplní?"}]
[null,null,null,null,{"$f":"'Technický list'!B134","v":"Q2.11"},{"$f":"'Technický list'!C134","v":3},{"$f":"VLOOKUP(E693,'Technický list'!$AU$124:$BD$168,8,0)","v":"-"},"n.a.",null,{"$f":"VLOOKUP(E693,'Kapitola 2'!$C$6:$D$282,2,0)","v":"Jakým způsobem se vedení staví k procesní bezpečnosti?\n\n"}]
[null,null,null,null,{"$f":"'Technický list'!B135","v":"Q2.12"},{"$f":"'Technický list'!C135","v":4},{"$f":"VLOOKUP(E694,'Technický list'!$AU$124:$BD$168,8,0)","v":"-"},"n.a.",null,{"$f":"VLOOKUP(E694,'Kapitola 2'!$C$6:$D$282,2,0)","v":"Jakým způsobem je vypracována identifikace a popis bezpečnosti procesů, zařízení a pracovišť organizace?"}]
[null,null,null,null,{"$f":"'Technický list'!B136","v":"Q2.13"},{"$f":"'Technický list'!C136","v":3},{"$f":"VLOOKUP(E695,'Technický list'!$AU$124:$BD$168,8,0)","v":"-"},"n.a.",null,{"$f":"VLOOKUP(E695,'Kapitola 2'!$C$6:$D$282,2,0)","v":"Jakým způsobem se zlepšuje procesní bezpečnost po nehodách a incidentech?"}]
[null,null,null,null,{"$f":"'Technický list'!B137","v":"Q2.14"},{"$f":"'Technický list'!C137","v":1},{"$f":"VLOOKUP(E696,'Technický list'!$AU$124:$BD$168,8,0)","v":"-"},"n.a.",null,{"$f":"VLOOKUP(E696,'Kapitola 2'!$C$6:$D$282,2,0)","v":"Jakým způsobem se provádějí audity a inspekce procesní bezpečnosti?"}]
[null,null,null,null,{"$f":"'Technický list'!B138","v":"Q2.15"},{"$f":"'Technický list'!C138","v":3},{"$f":"VLOOKUP(E697,'Technický list'!$AU$124:$BD$168,8,0)","v":"-"},"n.a.",null,{"$f":"VLOOKUP(E697,'Kapitola 2'!$C$6:$D$282,2,0)","v":"Jakým způsobem se prověřují a zlepšují pracovní pokyny?"}]
[null,null,null,null,{"$f":"'Technický list'!B139","v":"Q2.16"},{"$f":"'Technický list'!C139","v":4},{"$f":"VLOOKUP(E698,'Technický list'!$AU$124:$BD$168,8,0)","v":"-"},"n.a.",null,{"$f":"VLOOKUP(E698,'Kapitola 2'!$C$6:$D$282,2,0)","v":"Jak je navrhována a dokumnetována instalace nových zařízení?"}]
[null,null,null,null,{"$f":"'Technický list'!B140","v":"Q2.17"},{"$f":"'Technický list'!C140","v":4},{"$f":"VLOOKUP(E699,'Technický list'!$AU$124:$BD$168,8,0)","v":"-"},"n.a.",null,{"$f":"VLOOKUP(E699,'Kapitola 2'!$C$6:$D$282,2,0)","v":"Jakým způsobem probíhá kontrola zřizování instalace?"}]
[null,null,null,null,{"$f":"'Technický list'!B141","v":"Q2.18"},{"$f":"'Technický list'!C141","v":3},{"$f":"VLOOKUP(E700,'Technický list'!$AU$124:$BD$168,8,0)","v":"-"},"n.a.",null,{"$f":"VLOOKUP(E700,'Kapitola 2'!$C$6:$D$282,2,0)","v":"Jakým způsobem je zaručena ochrana zařízení, aby jediná chyba neměla katastrofické následky?"}]
[null,null,null,null,{"$f":"'Technický list'!B142","v":"Q2.19"},{"$f":"'Technický list'!C142","v":3},{"$f":"VLOOKUP(E701,'Technický list'!$AU$124:$BD$168,8,0)","v":"-"},"n.a.",null,{"$f":"VLOOKUP(E701,'Kapitola 2'!$C$6:$D$282,2,0)","v":"Byly zřízeny programy preventivní údržby a péče, které zaručují bezpečnost provozů, nástrojů a zařízení?"}]
[null,null,null,null,{"$f":"'Technický list'!B143","v":"Q2.20"},{"$f":"'Technický list'!C143","v":4},{"$f":"VLOOKUP(E702,'Technický list'!$AU$124:$BD$168,8,0)","v":"-"},"n.a.",null,{"$f":"VLOOKUP(E702,'Kapitola 2'!$C$6:$D$282,2,0)","v":"Jakým způsobem se řídí procesy během mimořádných událostí v případě přerušení dodávky energie nebo služeb?"}]
[null,null,null,null,{"$f":"'Technický list'!B144","v":"Q2.21"},{"$f":"'Technický list'!C144","v":3},{"$f":"VLOOKUP(E703,'Technický list'!$AU$124:$BD$168,8,0)","v":"-"},"n.a.",null,{"$f":"VLOOKUP(E703,'Kapitola 2'!$C$6:$D$282,2,0)","v":"Jak se připravují havarijní plány?"}]
[null,null,null,null,{"$f":"'Technický list'!B145","v":"Q2.22"},{"$f":"'Technický list'!C145","v":2},{"$f":"VLOOKUP(E704,'Technický list'!$AU$124:$BD$168,8,0)","v":"-"},"n.a.",null,{"$f":"VLOOKUP(E704,'Kapitola 2'!$C$6:$D$282,2,0)","v":"Jakým způsobem jsou zabezpečeny kompetence a školení zaměstnanců a dodavatelů zapojených do procesů?"}]
[null,null,null,null,{"$f":"'Technický list'!B146","v":"Q2.23"},{"$f":"'Technický list'!C146","v":4},{"$f":"VLOOKUP(E705,'Technický list'!$AU$124:$BD$168,8,0)","v":"-"},"n.a.",null,{"$f":"VLOOKUP(E705,'Kapitola 2'!$C$6:$D$282,2,0)","v":"Jakým způsobem se sdílejí informace o rizicích látek a přípravků?"}]
[null,null,null,null,{"$f":"'Technický list'!B147","v":"Q2.24"},{"$f":"'Technický list'!C147","v":4},{"$f":"VLOOKUP(E706,'Technický list'!$AU$124:$BD$168,8,0)","v":"-"},"n.a.",null,{"$f":"VLOOKUP(E706,'Kapitola 2'!$C$6:$D$282,2,0)","v":"Jak se sdílejí informace o procesu?"}]
[null,null,null,null,{"$f":"'Technický list'!B148","v":"Q2.25"},{"$f":"'Technický list'!C148","v":3},{"$f":"VLOOKUP(E707,'Technický list'!$AU$124:$BD$168,8,0)","v":"-"},"n.a.",null,{"$f":"VLOOKUP(E707,'Kapitola 2'!$C$6:$D$282,2,0)","v":"Jakým způsobem organizace hodnotí své logistické partnery z hlediska HSE&S, energetické účinnosti a emisí skleníkových plynů?"}]
[null,null,null,null,{"$f":"'Technický list'!B149","v":"Q2.26"},{"$f":"'Technický list'!C149","v":4},{"$f":"VLOOKUP(E708,'Technický list'!$AU$124:$BD$168,8,0)","v":"-"},"n.a.",null,{"$f":"VLOOKUP(E708,'Kapitola 2'!$C$6:$D$282,2,0)","v":"Jakým způsobem organizace zabraňuje a reaguje na dopravní nehody?"}]
[null,null,null,null,{"$f":"'Technický list'!B150","v":"Q2.27"},{"$f":"'Technický list'!C150","v":4},{"$f":"VLOOKUP(E709,'Technický list'!$AU$124:$BD$168,8,0)","v":"-"},"n.a.",null,{"$f":"VLOOKUP(E709,'Kapitola 2'!$C$6:$D$282,2,0)","v":"Jakým způsobem organizace identifikuje bezpečnostní problémy?"}]
[null,null,null,null,{"$f":"'Technický list'!B151","v":"Q2.28"},{"$f":"'Technický list'!C151","v":4},{"$f":"VLOOKUP(E710,'Technický list'!$AU$124:$BD$168,8,0)","v":"-"},"n.a.",null,{"$f":"VLOOKUP(E710,'Kapitola 2'!$C$6:$D$282,2,0)","v":"Jakým způsobem se kontroluje příchod a odchod pracovníků a materiálu na pracovišti a v oblastech s omezeným vstupem?"}]
[null,null,null,null,{"$f":"'Technický list'!B152","v":"Q2.29"},{"$f":"'Technický list'!C152","v":4},{"$f":"VLOOKUP(E711,'Technický list'!$AU$124:$BD$168,8,0)","v":"-"},"n.a.",null,{"$f":"VLOOKUP(E711,'Kapitola 2'!$C$6:$D$282,2,0)","v":"Jakým způsobem se kontroluje kybernetická bezpečnost?"}]
[null,null,null,null,{"$f":"'Technický list'!B153","v":"Q2.30"},{"$f":"'Technický list'!C153","v":4},{"$f":"VLOOKUP(E712,'Technický list'!$AU$124:$BD$168,8,0)","v":"-"},"n.a.",null,{"$f":"VLOOKUP(E712,'Kapitola 2'!$C$6:$D$282,2,0)","v":"Jakým způsobem probíhá komunikace a výměna informací v případě bezpečnostní krize?"}]
[null,null,null,null,{"$f":"'Technický list'!B154","v":"Q2.31"},{"$f":"'Technický list'!C154","v":3},{"$f":"VLOOKUP(E713,'Technický list'!$AU$124:$BD$168,8,0)","v":"-"},"n.a.",null,{"$f":"VLOOKUP(E713,'Kapitola 2'!$C$6:$D$282,2,0)","v":"Jak se organizace vyrovnává s podezřelým chováním (včetně rizik radikalizace = souhlas a podopra extrémních názorů)"}]
[null,null,null,null,{"$f":"'Technický list'!B155","v":"Q2.32"},{"$f":"'Technický list'!C155","v":3},{"$f":"VLOOKUP(E714,'Technický list'!$AU$124:$BD$168,8,0)","v":"-"},"n.a.",null,{"$f":"VLOOKUP(E714,'Kapitola 2'!$C$6:$D$282,2,0)","v":"Jakým způsobem školí organizace pracovníky v oblasti ostrahy ve vazbě na bezpečnostní rizika?  "}]
[null,null,null,null,{"$f":"'Technický list'!B156","v":"Q2.33"},{"$f":"'Technický list'!C156","v":4},{"$f":"VLOOKUP(E715,'Technický list'!$AU$124:$BD$168,8,0)","v":3},{"$f":"IF(G715=\"-\",\"n.a.\",IF(F715-G715>-1,\"v souladu\",\"zvyšte skóre\"))","v":"v souladu"},null,{"$f":"VLOOKUP(E715,'Kapitola 2'!$C$6:$D$282,2,0)","v":"Jakým způsobem se posuzuje potenciální vliv organizace na životní prostředí?"}]
[null,null,null,null,{"$f":"'Technický list'!B157","v":"Q2.34"},{"$f":"'Technický list'!C157","v":4},{"$f":"VLOOKUP(E716,'Technický list'!$AU$124:$BD$168,8,0)","v":4},"v souladu",null,{"$f":"VLOOKUP(E716,'Kapitola 2'!$C$6:$D$282,2,0)","v":"Jakým způsobem se řídí environmentální výkonnost?"}]
[null,null,null,null,{"$f":"'Technický list'!B158","v":"Q2.35"},{"$f":"'Technický list'!C158","v":3},{"$f":"VLOOKUP(E717,'Technický list'!$AU$124:$BD$168,8,0)","v":3},"v souladu",null,{"$f":"VLOOKUP(E717,'Kapitola 2'!$C$6:$D$282,2,0)","v":"Jak organizace nakládá s odpadem?"}]
[null,null,null,null,{"$f":"'Technický list'!B159","v":"Q2.36"},{"$f":"'Technický list'!C159","v":3},{"$f":"VLOOKUP(E718,'Technický list'!$AU$124:$BD$168,8,0)","v":3},"v souladu",null,{"$f":"VLOOKUP(E718,'Kapitola 2'!$C$6:$D$282,2,0)","v":"Jakým způsobem řídí organizace rizika týkající se podzemních vod?"}]
[null,null,null,null,{"$f":"'Technický list'!B160","v":"Q2.37"},{"$f":"'Technický list'!C160","v":3},{"$f":"VLOOKUP(E719,'Technický list'!$AU$124:$BD$168,8,0)","v":3},"v souladu",null,{"$f":"VLOOKUP(E719,'Kapitola 2'!$C$6:$D$282,2,0)","v":"Jakým způsobem řídí organizace rizika týkající se znečištění půdy?"}]
[null,null,null,null,{"$f":"'Technický list'!B161","v":"Q2.38"},{"$f":"'Technický list'!C161","v":4},{"$f":"VLOOKUP(E720,'Technický list'!$AU$124:$BD$168,8,0)","v":3},"v souladu",null,{"$f":"VLOOKUP(E720,'Kapitola 2'!$C$6:$D$282,2,0)","v":"Jakým způsobem řídí organizace existující znečištění půdy?\n"}]
[null,null,null,null,{"$f":"'Technický list'!B162","v":"Q2.39"},{"$f":"'Technický list'!C162","v":3},{"$f":"VLOOKUP(E721,'Technický list'!$AU$124:$BD$168,8,0)","v":3},"v souladu",null,{"$f":"VLOOKUP(E721,'Kapitola 2'!$C$6:$D$282,2,0)","v":"Jakým způsobem organizace řídí své emise škodlivin do ovzduší?"}]
[null,null,null,null,{"$f":"'Technický list'!B163","v":"Q2.40"},{"$f":"'Technický list'!C163","v":4},{"$f":"VLOOKUP(E722,'Technický list'!$AU$124:$BD$168,8,0)","v":3},"v souladu",null,{"$f":"VLOOKUP(E722,'Kapitola 2'!$C$6:$D$282,2,0)","v":"Jakým způsobem organizace řídí své emise škodlivin do vody?"}]
[null,null,null,null,{"$f":"'Technický list'!B164","v":"Q2.41"},{"$f":"'Technický list'!C164","v":3},{"$f":"VLOOKUP(E723,'Technický list'!$AU$124:$BD$168,8,0)","v":3},"v souladu",null,{"$f":"VLOOKUP(E723,'Kapitola 2'!$C$6:$D$282,2,0)","v":"Jakým způsobem organizace řídí své emise hluku?"}]
[null,null,null,null,{"$f":"'Technický list'!B165","v":"Q2.42"},{"$f":"'Technický list'!C165","v":4},{"$f":"VLOOKUP(E724,'Technický list'!$AU$124:$BD$168,8,0)","v":3},"v souladu",null,{"$f":"VLOOKUP(E724,'Kapitola 2'!$C$6:$D$282,2,0)","v":"Jakým způsobem organizace řídí své emise zápachu?"}]
[null,null,null,null,{"$f":"'Technický list'!B166","v":"Q2.43"},{"$f":"'Technický list'!C166","v":4},{"$f":"VLOOKUP(E725,'Technický list'!$AU$124:$BD$168,8,0)","v":3},"v souladu",null,{"$f":"VLOOKUP(E725,'Kapitola 2'!$C$6:$D$282,2,0)","v":"Jakým způsobem organizace zabraňuje a řídí havarijní emise do prostředí?"}]
[null,null,null,null,{"$f":"'Technický list'!B167","v":"Q2.44"},{"$f":"'Technický list'!C167","v":4},{"$f":"VLOOKUP(E726,'Technický list'!$AU$124:$BD$168,8,0)","v":3},"v souladu",null,{"$f":"VLOOKUP(E726,'Kapitola 2'!$C$6:$D$282,2,0)","v":"Jakým způsobem zajišťuje organizace správně kompetence všech pracovníků, týkající se environmentálních požadavků, které souvisejí s jejich pracovní náplní?"}]
[null,null,null,null,{"$f":"'Technický list'!B168","v":"Q2.45"},{"$f":"'Technický list'!C168","v":3},{"$f":"VLOOKUP(E727,'Technický list'!$AU$124:$BD$168,8,0)","v":2},"v souladu",null,{"$f":"VLOOKUP(E727,'Kapitola 2'!$C$6:$D$282,2,0)","v":"Jakým způsobem jsou zainteresované strany organizace informovány o environmentálních aspektech a jejich možných dopadech?"}]
[null,null,null,null,"KAPITOLA 3: Posílení systémů řízení chemických látek"]
[null,null,null,null,{"$f":"'Technický list'!$B$406","v":"Q3.1"},{"$f":"'Technický list'!$C$406","v":3},{"$f":"VLOOKUP(E729,'Technický list'!$AU$406:$BD$418,8,0)","v":"-"},{"$f":"IF(G729=\"-\",\"n.a.\",IF(F729-G729>-1,\"compliant\",\"increase score\"))","v":"n.a."},null,{"$f":"VLOOKUP(E729,'Kapitola 3'!$C$6:$D$89,2,0)","v":"Zavedla organizace proces pro navrhování a vývoj nových \nproduktů a služeb?"}]
[null,null,null,null,{"$f":"'Technický list'!$B$407","v":"Q3.2"},{"$f":"'Technický list'!$C$407","v":2},{"$f":"VLOOKUP(E730,'Technický list'!$AU$406:$BD$418,8,0)","v":1},{"$f":"IF(G730=\"-\",\"n.a.\",IF(F730-G730>-1,\"v souladu\",\"zvyšte skóre\"))","v":"v souladu"},null,{"$f":"VLOOKUP(E730,'Kapitola 3'!$C$6:$D$89,2,0)","v":"Má organizace k dispozici proces hodnocení a stanovení priorit svých produktů pro charakterizaci rizik a řízení rizik?\n\n\n"}]
[null,null,null,null,{"$f":"'Technický list'!$B$408","v":"Q3.3"},{"$f":"'Technický list'!$C$408","v":3},{"$f":"VLOOKUP(E731,'Technický list'!$AU$406:$BD$418,8,0)","v":1},{"$f":"IF(G731=\"-\",\"n.a.\",IF(F731-G731>-1,\"v souladu\",\"zvyšte skóre\"))","v":"v souladu"},null,{"$f":"VLOOKUP(E731,'Kapitola 3'!$C$6:$D$89,2,0)","v":"Zavedla organizace systém pro sledování použitelnosti, změn a dodržování interních a externích požadavků souvisejících s řízením bezpečnosti chemických látek?"}]
[null,null,null,null,{"$f":"'Technický list'!$B$409","v":"Q3.4"},{"$f":"'Technický list'!$C$409","v":2},{"$f":"VLOOKUP(E732,'Technický list'!$AU$406:$BD$418,8,0)","v":4},{"$f":"IF(G732=\"-\",\"n.a.\",IF(F732-G732>-1,\"v souladu\",\"zvyšte skóre\"))","v":"zvyšte skóre"},null,{"$f":"VLOOKUP(E732,'Kapitola 3'!$C$6:$D$89,2,0)","v":"Zavedla organizace systém na správu existujících informací o rizicích svých produktů?"}]
[null,null,null,null,{"$f":"'Technický list'!$B$410","v":"Q3.5"},{"$f":"'Technický list'!$C$410","v":2},{"$f":"VLOOKUP(E733,'Technický list'!$AU$406:$BD$418,8,0)","v":"-"},"n.a.",null,{"$f":"VLOOKUP(E733,'Kapitola 3'!$C$6:$D$89,2,0)","v":"Zavedla organizace proces řízení informací o používání a expozici svých produktů?"}]
[null,null,null,null,{"$f":"'Technický list'!$B$411","v":"Q3.6"},{"$f":"'Technický list'!$C$411","v":4},{"$f":"VLOOKUP(E734,'Technický list'!$AU$406:$BD$418,8,0)","v":1},{"$f":"IF(G734=\"-\",\"n.a.\",IF(F734-G734>-1,\"v souladu\",\"zvyšte skóre\"))","v":"v souladu"},null,{"$f":"VLOOKUP(E734,'Kapitola 3'!$C$6:$D$89,2,0)","v":"Zavedla organizace proces na správu nových informací?"}]
[null,null,null,null,{"$f":"'Technický list'!$B$412","v":"Q3.7"},{"$f":"'Technický list'!$C$412","v":3},{"$f":"VLOOKUP(E735,'Technický list'!$AU$406:$BD$418,8,0)","v":4},{"$f":"IF(G735=\"-\",\"n.a.\",IF(F735-G735>-1,\"v souladu\",\"zvyšte skóre\"))","v":"zvyšte skóre"},null,{"$f":"VLOOKUP(E735,'Kapitola 3'!$C$6:$D$89,2,0)","v":"Zavedla organizace proces charakterizace rizik na základě shromážděných informací?"}]
[null,null,null,null,{"$f":"'Technický list'!$B$413","v":"Q3.8"},{"$f":"'Technický list'!$C$413","v":4},{"$f":"VLOOKUP(E736,'Technický list'!$AU$406:$BD$418,8,0)","v":4},{"$f":"IF(G736=\"-\",\"n.a.\",IF(F736-G736>-1,\"v souladu\",\"zvyšte skóre\"))","v":"v souladu"},null,{"$f":"VLOOKUP(E736,'Kapitola 3'!$C$6:$D$89,2,0)","v":"Zavedla organizace proces řízení rizik na základě shromážděných informací?"}]
[null,null,null,null,{"$f":"'Technický list'!$B$414","v":"Q3.9"},{"$f":"'Technický list'!$C$414","v":4},{"$f":"VLOOKUP(E737,'Technický list'!$AU$406:$BD$418,8,0)","v":4},{"$f":"IF(G737=\"-\",\"n.a.\",IF(F737-G737>-1,\"v souladu\",\"zvyšte skóre\"))","v":"v souladu"},null,{"$f":"VLOOKUP(E737,'Kapitola 3'!$C$6:$D$89,2,0)","v":"Zavedla organizace účinný proces sledování svých produktů po dodání a provádění nápravných opatření?\n"}]
[null,null,null,null,{"$f":"'Technický list'!$B$415","v":"Q3.10"},{"$f":"'Technický list'!$C$415","v":4},{"$f":"VLOOKUP(E738,'Technický list'!$AU$406:$BD$418,8,0)","v":4},{"$f":"IF(G738=\"-\",\"n.a.\",IF(F738-G738>-1,\"v souladu\",\"zvyšte skóre\"))","v":"v souladu"},null,{"$f":"VLOOKUP(E738,'Kapitola 3'!$C$6:$D$89,2,0)","v":"Poskytuje organizace efektivní komunikaci v rámci dodavatelského řetězce ohledně opatření k řízení rizik, které se vztahují na jejich produkty?"}]
[null,null,null,null,"KAPITOLA 4: Působení na obchodní partnery"]
[null,null,null,null,{"$f":"'Technický list'!B482","v":"Q4.1"},{"$f":"'Technický list'!C482","v":3},{"$f":"VLOOKUP(E740,'Technický list'!$AU$482:$BD$489,8,0)","v":"-"},{"$f":"IF(G740=\"-\",\"n.a.\",IF(F740-G740>-1,\"compliant\",\"increase score\"))","v":"n.a."},null,{"$f":"VLOOKUP(E740,'Kapitola 4'!$C$6:$D$91,2,0)","v":"Jak se organizace zavázala k odpovědnému získávání zdrojů?"}]
[null,null,null,null,{"$f":"'Technický list'!B483","v":"Q4.2"},{"$f":"'Technický list'!C483","v":4},{"$f":"VLOOKUP(E741,'Technický list'!$AU$482:$BD$489,8,0)","v":"-"},{"$f":"IF(G741=\"-\",\"n.a.\",IF(F741-G741>-1,\"compliant\",\"increase score\"))","v":"n.a."},null,{"$f":"VLOOKUP(E741,'Kapitola 4'!$C$6:$D$91,2,0)","v":"Jak organizace zlepšuje spolupráci v dodavatelském řetězci?"}]
[null,null,null,null,{"$f":"'Technický list'!B484","v":"Q4.3"},{"$f":"'Technický list'!C484","v":3},{"$f":"VLOOKUP(E742,'Technický list'!$AU$482:$BD$489,8,0)","v":"-"},"n.a.",null,{"$f":"VLOOKUP(E742,'Kapitola 4'!$C$6:$D$91,2,0)","v":"Jakým způsobem vyjadřuje organizace svůj závazek vůči podnikatelské etice?"}]
[null,null,null,null,{"$f":"'Technický list'!B485","v":"Q4.4"},{"$f":"'Technický list'!C485","v":2},{"$f":"VLOOKUP(E743,'Technický list'!$AU$482:$BD$489,8,0)","v":"-"},"n.a.",null,{"$f":"VLOOKUP(E743,'Kapitola 4'!$C$6:$D$91,2,0)","v":"Jakým způsobem řeší organizace sociální problematiku a lidská práva v rámci spolupráce s obchodními partnery?"}]
[null,null,null,null,{"$f":"'Technický list'!B486","v":"Q4.5"},{"$f":"'Technický list'!C486","v":4},{"$f":"VLOOKUP(E744,'Technický list'!$AU$482:$BD$489,8,0)","v":"-"},"n.a.",null,{"$f":"VLOOKUP(E744,'Kapitola 4'!$C$6:$D$91,2,0)","v":"Jakým způsobem zabraňuje organizace dětské práci?\nOrganizace\n1-\tzavedla systém ověřování věku; \n2-\tnezaměstnává děti mladší 15 let (v závislosti na místní legislativy). Jedinou výjimku představují učni, školní praxe nebo vzdělávací stáže; \n3-\tzaručuje, aby pracovní náplň osob mladších než 18 let neovlivňovala jejich školní docházku (doba strávená dopravou do práce a školy a z práce a školy, školní docházkou a prací je méně než 10 hodin denně );\n4-\tzajišťuje, že pracovní náplň mladých pracovníků není duševně, fyzicky, společensky ani morálně nebezpečná a škodlivá."}]
[null,null,null,null,{"$f":"'Technický list'!B487","v":"Q4.6"},{"$f":"'Technický list'!C487","v":3},{"$f":"VLOOKUP(E745,'Technický list'!$AU$482:$BD$489,8,0)","v":"-"},"n.a.",null,{"$f":"VLOOKUP(E745,'Kapitola 4'!$C$6:$D$91,2,0)","v":"Jakým způsobem zabezpečuje organizace splnění svých požadavků ze strany logistických partnerů?"}]
[null,null,null,null,{"$f":"'Technický list'!B488","v":"Q4.7"},{"$f":"'Technický list'!C488","v":1},{"$f":"VLOOKUP(E746,'Technický list'!$AU$482:$BD$489,8,0)","v":"-"},"n.a.",null,{"$f":"VLOOKUP(E746,'Kapitola 4'!$C$6:$D$91,2,0)","v":"Jakým způsobem organizace chrání a zabezpečuje majetek a údaje následných uživatelů nebo externích poskytovatelů, které se používají nebo začleňují do produktů a služeb?"}]
[null,null,null,null,{"$f":"'Technický list'!B489","v":"Q4.8"},{"$f":"'Technický list'!C489","v":4},{"$f":"VLOOKUP(E747,'Technický list'!$AU$482:$BD$489,8,0)","v":"-"},"n.a.",null,{"$f":"VLOOKUP(E747,'Kapitola 4'!$C$6:$D$91,2,0)","v":"Co zahrnuje dialog s následnými uživateli?"}]
[null,null,null,null,"KAPITOLA 5: Zapojení zainteresovaných stran"]
[null,null,null,null,{"$f":"'Technický list'!B544","v":"Q5.1"},{"$f":"'Technický list'!C544","v":3},{"$f":"VLOOKUP(E749,'Technický list'!$AU$544:$BD$548,8,0)","v":3},{"$f":"IF(G749=\"-\",\"n.a.\",IF(F749-G749>-1,\"v souladu\",\"zvyšte skóre\"))","v":"v souladu"},null,{"$f":"VLOOKUP(E749,'Kapitola 5'!$C$6:$D$89,2,0)","v":"Jakým způsobem zapojuje organizace své externí zainteresované strany a naplňuje jejich očekávání?"}]
[null,null,null,null,{"$f":"'Technický list'!B545","v":"Q5.2"},{"$f":"'Technický list'!C545","v":4},{"$f":"VLOOKUP(E750,'Technický list'!$AU$544:$BD$548,8,0)","v":"-"},{"$f":"IF(G750=\"-\",\"n.a.\",IF(F750-G750>-1,\"compliant\",\"increase score\"))","v":"n.a."},null,{"$f":"VLOOKUP(E750,'Kapitola 5'!$C$6:$D$89,2,0)","v":"Jakým způsobem vede organizace dialog s veřejností, úřady a dalšími zainteresovanými stranami, včetně místních komunit a zákazníků v souvislosti s HSE&S v rámci jejich činností, produktů a služeb?"}]
[null,null,null,null,{"$f":"'Technický list'!B546","v":"Q5.3"},{"$f":"'Technický list'!C546","v":2},{"$f":"VLOOKUP(E751,'Technický list'!$AU$544:$BD$548,8,0)","v":"-"},"n.a.",null,{"$f":"VLOOKUP(E751,'Kapitola 5'!$C$6:$D$89,2,0)","v":"Jakým způsobem zveřejňuje organizace informace týkající se\n HSE&S?"}]
[null,null,null,null,{"$f":"'Technický list'!B547","v":"Q5.4"},{"$f":"'Technický list'!C547","v":2},{"$f":"VLOOKUP(E752,'Technický list'!$AU$544:$BD$548,8,0)","v":"-"},"n.a.",null,{"$f":"VLOOKUP(E752,'Kapitola 5'!$C$6:$D$89,2,0)","v":"Jakým způsobem podporuje organizace místní komunity?"}]
[null,null,null,null,{"$f":"'Technický list'!B548","v":"Q5.5"},{"$f":"'Technický list'!C548","v":3},{"$f":"VLOOKUP(E753,'Technický list'!$AU$544:$BD$548,8,0)","v":"-"},"n.a.",null,{"$f":"VLOOKUP(E753,'Kapitola 5'!$C$6:$D$89,2,0)","v":"Jakým způsobem stimuluje organizace místní zaměstnanost a vzdělávání?"}]
[null,null,null,null,"KAPITOLA 6: Přispívání k udržitelnosti"]
[null,null,null,null,{"$f":"'Technický list'!B584","v":"Q6.1"},{"$f":"'Technický list'!C584","v":2},{"$f":"VLOOKUP(E755,'Technický list'!$AU$584:$BD$600,8,0)","v":"-"},{"$f":"IF(G755=\"-\",\"n.a.\",IF(F755-G755>-1,\"compliant\",\"increase score\"))","v":"n.a."},null,{"$f":"VLOOKUP(E755,'Kapitola 6'!$C$6:$D$120,2,0)","v":"Jakým způsobem definuje organizace významné problémy a závažnost?"}]
[null,null,null,null,{"$f":"'Technický list'!B585","v":"Q6.2"},{"$f":"'Technický list'!C585","v":2},{"$f":"VLOOKUP(E756,'Technický list'!$AU$584:$BD$600,8,0)","v":"-"},{"$f":"IF(G756=\"-\",\"n.a.\",IF(F756-G756>-1,\"compliant\",\"increase score\"))","v":"n.a."},null,{"$f":"VLOOKUP(E756,'Kapitola 6'!$C$6:$D$120,2,0)","v":"Jakým způsobem hodlá organizace přispívat k udržitelnému rozvoji?"}]
[null,null,null,null,{"$f":"'Technický list'!B586","v":"Q6.3"},{"$f":"'Technický list'!C586","v":3},{"$f":"VLOOKUP(E757,'Technický list'!$AU$584:$BD$600,8,0)","v":"-"},"n.a.",null,{"$f":"VLOOKUP(E757,'Kapitola 6'!$C$6:$D$120,2,0)","v":"Jakým způsobem komunikuje organizace zainteresovaných stran na téma udržitelnosti?"}]
[null,null,null,null,{"$f":"'Technický list'!B587","v":"Q6.4"},{"$f":"'Technický list'!C587","v":2},{"$f":"VLOOKUP(E758,'Technický list'!$AU$584:$BD$600,8,0)","v":"-"},"n.a.",null,{"$f":"VLOOKUP(E758,'Kapitola 6'!$C$6:$D$120,2,0)","v":"Má organizace zavedený proces navrhování výrobků s lepšími výsledky udržitelnosti?"}]
[null,null,null,null,{"$f":"'Technický list'!B588","v":"Q6.5"},{"$f":"'Technický list'!C588","v":2},{"$f":"VLOOKUP(E759,'Technický list'!$AU$584:$BD$600,8,0)","v":"-"},"n.a.",null,{"$f":"VLOOKUP(E759,'Kapitola 6'!$C$6:$D$120,2,0)","v":"Jakým způsobem zvyšuje organizace efektivnost zdrojů ve svých výrobních procesech?"}]
[null,null,null,null,{"$f":"'Technický list'!B589","v":"Q6.6"},{"$f":"'Technický list'!C589","v":1},{"$f":"VLOOKUP(E760,'Technický list'!$AU$584:$BD$600,8,0)","v":"-"},"n.a.",null,{"$f":"VLOOKUP(E760,'Kapitola 6'!$C$6:$D$120,2,0)","v":"Jakým způsobem stimuluje organizace oběhové hospodářství prostřednictvím svých produktů?"}]
[null,null,null,null,{"$f":"'Technický list'!B590","v":"Q6.7"},{"$f":"'Technický list'!C590","v":3},{"$f":"VLOOKUP(E761,'Technický list'!$AU$584:$BD$600,8,0)","v":"-"},"n.a.",null,{"$f":"VLOOKUP(E761,'Kapitola 6'!$C$6:$D$120,2,0)","v":"Jakým způsobem podporuje organizace inovace při vývoji produktů a řešení, které odpovídají výzvám udržitelnosti?"}]
[null,null,null,null,{"$f":"'Technický list'!B591","v":"Q6.8"},{"$f":"'Technický list'!C591","v":3},{"$f":"VLOOKUP(E762,'Technický list'!$AU$584:$BD$600,8,0)","v":"-"},"n.a.",null,{"$f":"VLOOKUP(E762,'Kapitola 6'!$C$6:$D$120,2,0)","v":"Jakým způsobem stimuluje organizace inovaci a spolupráci?"}]
[null,null,null,null,{"$f":"'Technický list'!B592","v":"Q6.9"},{"$f":"'Technický list'!C592","v":1},{"$f":"VLOOKUP(E763,'Technický list'!$AU$584:$BD$600,8,0)","v":"-"},"n.a.",null,{"$f":"VLOOKUP(E763,'Kapitola 6'!$C$6:$D$120,2,0)","v":"Jakým způsobem podporuje organizace udržitelné způsoby spotřeby?"}]
[null,null,null,null,{"$f":"'Technický list'!B593","v":"Q6.10"},{"$f":"'Technický list'!C593","v":2},{"$f":"VLOOKUP(E764,'Technický list'!$AU$584:$BD$600,8,0)","v":"-"},"n.a.",null,{"$f":"VLOOKUP(E764,'Kapitola 6'!$C$6:$D$120,2,0)","v":"Jakým způsobem organizace kontroluje a optimalizuje spotřebu vody?"}]
[null,null,null,null,{"$f":"'Technický list'!B594","v":"Q6.11"},{"$f":"'Technický list'!C594","v":3},{"$f":"VLOOKUP(E765,'Technický list'!$AU$584:$BD$600,8,0)","v":"-"},"n.a.",null,{"$f":"VLOOKUP(E765,'Kapitola 6'!$C$6:$D$120,2,0)","v":"Jakým způsobem se řídí vliv organizace na biodiverzitu a ekosystém?"}]
[null,null,null,null,{"$f":"'Technický list'!B595","v":"Q6.12"},{"$f":"'Technický list'!C595","v":1},{"$f":"VLOOKUP(E766,'Technický list'!$AU$584:$BD$600,8,0)","v":"-"},"n.a.",null,{"$f":"VLOOKUP(E766,'Kapitola 6'!$C$6:$D$120,2,0)","v":"Jakým způsobem posuzuje organizace svou závislost na přírodních zdrojích (ekosystémech)?"}]
[null,null,null,null,{"$f":"'Technický list'!B596","v":"Q6.13"},{"$f":"'Technický list'!C596","v":2},{"$f":"VLOOKUP(E767,'Technický list'!$AU$584:$BD$600,8,0)","v":"-"},"n.a.",null,{"$f":"VLOOKUP(E767,'Kapitola 6'!$C$6:$D$120,2,0)","v":"Jakým způsobem řídí organizace svou spotřebu energie?"}]
[null,null,null,null,{"$f":"'Technický list'!B597","v":"Q6.14"},{"$f":"'Technický list'!C597","v":3},{"$f":"VLOOKUP(E768,'Technický list'!$AU$584:$BD$600,8,0)","v":"-"},"n.a.",null,{"$f":"VLOOKUP(E768,'Kapitola 6'!$C$6:$D$120,2,0)","v":"Jakým způsobem řídí organizace emise skleníkových plynů (kromě úspor energie)?"}]
[null,null,null,null,{"$f":"'Technický list'!B598","v":"Q6.15"},{"$f":"'Technický list'!C598","v":2},{"$f":"VLOOKUP(E769,'Technický list'!$AU$584:$BD$600,8,0)","v":"-"},"n.a.",null,{"$f":"VLOOKUP(E769,'Kapitola 6'!$C$6:$D$120,2,0)","v":"Jaká je strategie organizace na snižování emisí skleníkových plynů?"}]
[null,null,null,null,{"$f":"'Technický list'!B599","v":"Q6.16"},{"$f":"'Technický list'!C599","v":2},{"$f":"VLOOKUP(E770,'Technický list'!$AU$584:$BD$600,8,0)","v":3},{"$f":"IF(G770=\"-\",\"n.a.\",IF(F770-G770>-1,\"v souladu\",\"zvyšte skóre\"))","v":"zvyšte skóre"},null,{"$f":"VLOOKUP(E770,'Kapitola 6'!$C$6:$D$120,2,0)","v":"Jakým způsobem se organizace připravuje na klimatické změny? "}]
[null,null,null,null,{"$f":"'Technický list'!B600","v":"Q6.17"},{"$f":"'Technický list'!C600","v":3},{"$f":"VLOOKUP(E771,'Technický list'!$AU$584:$BD$600,8,0)","v":"-"},"n.a.",null,{"$f":"VLOOKUP(E771,'Kapitola 6'!$C$6:$D$120,2,0)","v":"Jak organizace zajišťuje rovné příležitosti při náboru a během kariéry všech?"}]
[]
[null,null,"Zpráva o souladu s RCMS"]
[null,null,null,null,null,"Vaše skóre ","Minimální skóre pro RCMS"]
[null,null,null,null,"KAPITOLA 1: Podniková kultura vedení "]
[null,null,null,null,{"$f":"'Technický list'!B10","v":"Q1.1"},{"$f":"'Technický list'!C10","v":4},{"$f":"VLOOKUP(E776,'Technický list'!$AU$10:$BD$25,9,0)","v":4},{"$f":"IF(G776=\"-\",\"n.a.\",IF(F776-G776>-1,\"v souladu\",\"zvyšte skóre\"))","v":"v souladu"},null,{"$f":"VLOOKUP(E776,'Kapitola 1'!$C$6:$D$112,2,0)","v":"Jak se projevuje závazek plnit povinnosti týkající se dodržování předpisů a zásad Responsible Care = RC (tj. ochrana a podpora zdraví a bezpečnost lidí, životního prostředí a udržitelnosti) na všech úrovních organizace?\n"}]
[null,null,null,null,{"$f":"'Technický list'!B11","v":"Q1.2"},{"$f":"'Technický list'!C11","v":4},{"$f":"VLOOKUP(E777,'Technický list'!$AU$10:$BD$25,9,0)","v":"-"},{"$f":"IF(G777=\"-\",\"n.a.\",IF(F777-G777>-1,\"compliant\",\"increase score\"))","v":"n.a."},null,{"$f":"VLOOKUP(E777,'Kapitola 1'!$C$6:$D$112,2,0)","v":"Jakým způsobem řídí organizace příslušná rizika a příležitosti?  "}]
[null,null,null,null,{"$f":"'Technický list'!B12","v":"Q1.3"},{"$f":"'Technický list'!C12","v":4},{"$f":"VLOOKUP(E778,'Technický list'!$AU$10:$BD$25,9,0)","v":2},{"$f":"IF(G778=\"-\",\"n.a.\",IF(F778-G778>-1,\"v souladu\",\"zvyšte skóre\"))","v":"v souladu"},null,{"$f":"VLOOKUP(E778,'Kapitola 1'!$C$6:$D$112,2,0)","v":"Jakým způsobem monitoruje organizace svoje zákonné povinnosti? "}]
[null,null,null,null,{"$f":"'Technický list'!B13","v":"Q1.4"},{"$f":"'Technický list'!C13","v":3},{"$f":"VLOOKUP(E779,'Technický list'!$AU$10:$BD$25,9,0)","v":2},{"$f":"IF(G779=\"-\",\"n.a.\",IF(F779-G779>-1,\"v souladu\",\"zvyšte skóre\"))","v":"v souladu"},null,{"$f":"VLOOKUP(E779,'Kapitola 1'!$C$6:$D$112,2,0)","v":"Jakým způsobem top management zajišťuje, že jednotlivé aspekty HSE&S (zdraví, bezpečnosti, ochrany životního prostředí & udržitelnosti) jsou přiřazeny stanoveným rolím v organizaci?"}]
[null,null,null,null,{"$f":"'Technický list'!B14","v":"Q1.5"},{"$f":"'Technický list'!C14","v":3},{"$f":"VLOOKUP(E780,'Technický list'!$AU$10:$BD$25,9,0)","v":"-"},"n.a.",null,{"$f":"VLOOKUP(E780,'Kapitola 1'!$C$6:$D$112,2,0)","v":"Jakým způsobem se top management podílí na řešení záležitostí HSE&S?"}]
[null,null,null,null,{"$f":"'Technický list'!B15","v":"Q1.6"},{"$f":"'Technický list'!C15","v":3},{"$f":"VLOOKUP(E781,'Technický list'!$AU$10:$BD$25,9,0)","v":"-"},"n.a.",null,{"$f":"VLOOKUP(E781,'Kapitola 1'!$C$6:$D$112,2,0)","v":"Jakým způsobem jsou odpovědnosti HSE&S začleněny do popisů pracovní náplně nebo ročních cílů?\n"}]
[null,null,null,null,{"$f":"'Technický list'!B16","v":"Q1.7"},{"$f":"'Technický list'!C16","v":3},{"$f":"VLOOKUP(E782,'Technický list'!$AU$10:$BD$25,9,0)","v":3},{"$f":"IF(G782=\"-\",\"n.a.\",IF(F782-G782>-1,\"v souladu\",\"zvyšte skóre\"))","v":"v souladu"},null,{"$f":"VLOOKUP(E782,'Kapitola 1'!$C$6:$D$112,2,0)","v":"Jakým způsobem se řídí (nejdůležitější) procesy v souvislosti s HSE&S?"}]
[null,null,null,null,{"$f":"'Technický list'!B17","v":"Q1.8"},{"$f":"'Technický list'!C17","v":3},{"$f":"VLOOKUP(E783,'Technický list'!$AU$10:$BD$25,9,0)","v":3},"v souladu",null,{"$f":"VLOOKUP(E783,'Kapitola 1'!$C$6:$D$112,2,0)","v":"Jakým způsobem top management zajišťuje neustálé zlepšování výkonu v oblasti HSE&S (zdraví, bezpečnosti, životního prostředí, energetiky a udržitelnosti)?"}]
[null,null,null,null,{"$f":"'Technický list'!B18","v":"Q1.9"},{"$f":"'Technický list'!C18","v":4},{"$f":"VLOOKUP(E784,'Technický list'!$AU$10:$BD$25,9,0)","v":3},"v souladu",null,{"$f":"VLOOKUP(E784,'Kapitola 1'!$C$6:$D$112,2,0)","v":"Jak jsou organizovány interní audity?"}]
[null,null,null,null,{"$f":"'Technický list'!B19","v":"Q1.10"},{"$f":"'Technický list'!C19","v":4},{"$f":"VLOOKUP(E785,'Technický list'!$AU$10:$BD$25,9,0)","v":3},"v souladu",null,{"$f":"VLOOKUP(E785,'Kapitola 1'!$C$6:$D$112,2,0)","v":"Jakým způsobem probíhá vyšetřování?"}]
[null,null,null,null,{"$f":"'Technický list'!B20","v":"Q1.11"},{"$f":"'Technický list'!C20","v":3},{"$f":"VLOOKUP(E786,'Technický list'!$AU$10:$BD$25,9,0)","v":3},"v souladu",null,{"$f":"VLOOKUP(E786,'Kapitola 1'!$C$6:$D$112,2,0)","v":"Jakým způsobem organizace zajišťuje procesy, čas a zdroje potřebné pro zlepšování procesů řízení HSE&S?"}]
[null,null,null,null,{"$f":"'Technický list'!B21","v":"Q1.12"},{"$f":"'Technický list'!C21","v":3},{"$f":"VLOOKUP(E787,'Technický list'!$AU$10:$BD$25,9,0)","v":4},"zvyšte skóre",null,{"$f":"VLOOKUP(E787,'Kapitola 1'!$C$6:$D$112,2,0)","v":"Jak organizace zajišťuje, že zaměstnanci jsou si vědomi politik a procesů týkajících se zdraví, bezpečnosti, životního prostředí, energetiky a udržitelnosti?"}]
[null,null,null,null,{"$f":"'Technický list'!B22","v":"Q1.13"},{"$f":"'Technický list'!C22","v":3},{"$f":"VLOOKUP(E788,'Technický list'!$AU$10:$BD$25,9,0)","v":3},"v souladu",null,{"$f":"VLOOKUP(E788,'Kapitola 1'!$C$6:$D$112,2,0)","v":"Jakým způsobem organizace zajišťuje správné kompetence pracovníků, pokud jde o aspekty HSE&S týkající se jejich práce?"}]
[null,null,null,null,{"$f":"'Technický list'!B23","v":"Q1.14"},{"$f":"'Technický list'!C23","v":3},{"$f":"VLOOKUP(E789,'Technický list'!$AU$10:$BD$25,9,0)","v":3},"v souladu",null,{"$f":"VLOOKUP(E789,'Kapitola 1'!$C$6:$D$112,2,0)","v":"Jaká je struktura zapojení zaměstnanců?"}]
[null,null,null,null,{"$f":"'Technický list'!B24","v":"Q1.15"},{"$f":"'Technický list'!C24","v":3},{"$f":"VLOOKUP(E790,'Technický list'!$AU$10:$BD$25,9,0)","v":3},"v souladu",null,{"$f":"VLOOKUP(E790,'Kapitola 1'!$C$6:$D$112,2,0)","v":"Jakým způsobem se řídí dokumentace HSE&S?"}]
[null,null,null,null,{"$f":"'Technický list'!B25","v":"Q1.16"},{"$f":"'Technický list'!C25","v":3},{"$f":"VLOOKUP(E791,'Technický list'!$AU$10:$BD$25,9,0)","v":3},"v souladu",null,{"$f":"VLOOKUP(E791,'Kapitola 1'!$C$6:$D$112,2,0)","v":"Jakým způsobem jsou řízeny změny potenciálně ovlivňující HSE&S (zdraví, bezpečnost, životní prostředí, energetiku a udržitelnost)?"}]
[null,null,null,null,"KAPITOLA 2: Ochrana lidí a životního prostředí"]
[null,null,null,null,{"$f":"'Technický list'!B124","v":"Q2.1"},{"$f":"'Technický list'!C124","v":3},{"$f":"VLOOKUP(E793,'Technický list'!$AU$124:$BD$168,9,0)","v":"-"},"n.a.",null,{"$f":"VLOOKUP(E793,'Kapitola 2'!$C$6:$D$282,2,0)","v":"Jak se management zavázal k ochraně zdraví a bezpečnosti při práci (dále jen \"BOZP\")?"}]
[null,null,null,null,{"$f":"'Technický list'!B125","v":"Q2.2"},{"$f":"'Technický list'!C125","v":4},{"$f":"VLOOKUP(E794,'Technický list'!$AU$124:$BD$168,9,0)","v":"-"},{"$f":"IF(G794=\"-\",\"n.a.\",IF(F794-G794>-1,\"compliant\",\"increase score\"))","v":"n.a."},null,{"$f":"VLOOKUP(E794,'Kapitola 2'!$C$6:$D$282,2,0)","v":"Jakým způsobem se určují rizika a expozice v souvislosti s BOZP?"}]
[null,null,null,null,{"$f":"'Technický list'!B126","v":"Q2.3"},{"$f":"'Technický list'!C126","v":3},{"$f":"VLOOKUP(E795,'Technický list'!$AU$124:$BD$168,9,0)","v":"-"},"n.a.",null,{"$f":"VLOOKUP(E795,'Kapitola 2'!$C$6:$D$282,2,0)","v":"Jakým způsobem se posuzují zdravotní požadavky?"}]
[null,null,null,null,{"$f":"'Technický list'!B127","v":"Q2.4"},{"$f":"'Technický list'!C127","v":4},{"$f":"VLOOKUP(E796,'Technický list'!$AU$124:$BD$168,9,0)","v":"-"},"n.a.",null,{"$f":"VLOOKUP(E796,'Kapitola 2'!$C$6:$D$282,2,0)","v":"Jakým způsobem zlepšuje organizace BOZP?"}]
[null,null,null,null,{"$f":"'Technický list'!B128","v":"Q2.5"},{"$f":"'Technický list'!C128","v":2},{"$f":"VLOOKUP(E797,'Technický list'!$AU$124:$BD$168,9,0)","v":"-"},"n.a.",null,{"$f":"VLOOKUP(E797,'Kapitola 2'!$C$6:$D$282,2,0)","v":"Jakým způsobem probíhá údržba a udržování pořádku s cílem zajistit bezpečnost provozů, zařízení, nástrojů a (bezpečnostních) pomůcek?"}]
[null,null,null,null,{"$f":"'Technický list'!B129","v":"Q2.6"},{"$f":"'Technický list'!C129","v":3},{"$f":"VLOOKUP(E798,'Technický list'!$AU$124:$BD$168,9,0)","v":"-"},"n.a.",null,{"$f":"VLOOKUP(E798,'Kapitola 2'!$C$6:$D$282,2,0)","v":"Jak se ověřuje správný výběr, údržba a používání zdravotního a bezpečnostního vybavení (např. osobních ochranných prostředků = OOPP)?"}]
[null,null,null,null,{"$f":"'Technický list'!B130","v":"Q2.7"},{"$f":"'Technický list'!C130","v":2},{"$f":"VLOOKUP(E799,'Technický list'!$AU$124:$BD$168,9,0)","v":"-"},"n.a.",null,{"$f":"VLOOKUP(E799,'Kapitola 2'!$C$6:$D$282,2,0)","v":"Jak se organizace stará o stres a tělesné a duševní zdraví zaměstnanců?"}]
[null,null,null,null,{"$f":"'Technický list'!B131","v":"Q2.8"},{"$f":"'Technický list'!C131","v":3},{"$f":"VLOOKUP(E800,'Technický list'!$AU$124:$BD$168,9,0)","v":"-"},"n.a.",null,{"$f":"VLOOKUP(E800,'Kapitola 2'!$C$6:$D$282,2,0)","v":"Jakým způsobem se vyšetřují onemocnění, zranění, incidenty a potenciálně nebezpečné situace na pracovišti?"}]
[null,null,null,null,{"$f":"'Technický list'!B132","v":"Q2.9"},{"$f":"'Technický list'!C132","v":4},{"$f":"VLOOKUP(E801,'Technický list'!$AU$124:$BD$168,9,0)","v":"-"},"n.a.",null,{"$f":"VLOOKUP(E801,'Kapitola 2'!$C$6:$D$282,2,0)","v":"Jak je organizace připravena na mimořádné události?"}]
[null,null,null,null,{"$f":"'Technický list'!B133","v":"Q2.10"},{"$f":"'Technický list'!C133","v":3},{"$f":"VLOOKUP(E802,'Technický list'!$AU$124:$BD$168,9,0)","v":"-"},"n.a.",null,{"$f":"VLOOKUP(E802,'Kapitola 2'!$C$6:$D$282,2,0)","v":"Jakým způsobem zajišťuje organizace správně kompetence všech pracovníků, týkající se požadavků BOZP, které souvisí s jejich pracovní náplní?"}]
[null,null,null,null,{"$f":"'Technický list'!B134","v":"Q2.11"},{"$f":"'Technický list'!C134","v":3},{"$f":"VLOOKUP(E803,'Technický list'!$AU$124:$BD$168,9,0)","v":"-"},"n.a.",null,{"$f":"VLOOKUP(E803,'Kapitola 2'!$C$6:$D$282,2,0)","v":"Jakým způsobem se vedení staví k procesní bezpečnosti?\n\n"}]
[null,null,null,null,{"$f":"'Technický list'!B135","v":"Q2.12"},{"$f":"'Technický list'!C135","v":4},{"$f":"VLOOKUP(E804,'Technický list'!$AU$124:$BD$168,9,0)","v":"-"},"n.a.",null,{"$f":"VLOOKUP(E804,'Kapitola 2'!$C$6:$D$282,2,0)","v":"Jakým způsobem je vypracována identifikace a popis bezpečnosti procesů, zařízení a pracovišť organizace?"}]
[null,null,null,null,{"$f":"'Technický list'!B136","v":"Q2.13"},{"$f":"'Technický list'!C136","v":3},{"$f":"VLOOKUP(E805,'Technický list'!$AU$124:$BD$168,9,0)","v":"-"},"n.a.",null,{"$f":"VLOOKUP(E805,'Kapitola 2'!$C$6:$D$282,2,0)","v":"Jakým způsobem se zlepšuje procesní bezpečnost po nehodách a incidentech?"}]
[null,null,null,null,{"$f":"'Technický list'!B137","v":"Q2.14"},{"$f":"'Technický list'!C137","v":1},{"$f":"VLOOKUP(E806,'Technický list'!$AU$124:$BD$168,9,0)","v":"-"},"n.a.",null,{"$f":"VLOOKUP(E806,'Kapitola 2'!$C$6:$D$282,2,0)","v":"Jakým způsobem se provádějí audity a inspekce procesní bezpečnosti?"}]
[null,null,null,null,{"$f":"'Technický list'!B138","v":"Q2.15"},{"$f":"'Technický list'!C138","v":3},{"$f":"VLOOKUP(E807,'Technický list'!$AU$124:$BD$168,9,0)","v":"-"},"n.a.",null,{"$f":"VLOOKUP(E807,'Kapitola 2'!$C$6:$D$282,2,0)","v":"Jakým způsobem se prověřují a zlepšují pracovní pokyny?"}]
[null,null,null,null,{"$f":"'Technický list'!B139","v":"Q2.16"},{"$f":"'Technický list'!C139","v":4},{"$f":"VLOOKUP(E808,'Technický list'!$AU$124:$BD$168,9,0)","v":"-"},"n.a.",null,{"$f":"VLOOKUP(E808,'Kapitola 2'!$C$6:$D$282,2,0)","v":"Jak je navrhována a dokumnetována instalace nových zařízení?"}]
[null,null,null,null,{"$f":"'Technický list'!B140","v":"Q2.17"},{"$f":"'Technický list'!C140","v":4},{"$f":"VLOOKUP(E809,'Technický list'!$AU$124:$BD$168,9,0)","v":"-"},"n.a.",null,{"$f":"VLOOKUP(E809,'Kapitola 2'!$C$6:$D$282,2,0)","v":"Jakým způsobem probíhá kontrola zřizování instalace?"}]
[null,null,null,null,{"$f":"'Technický list'!B141","v":"Q2.18"},{"$f":"'Technický list'!C141","v":3},{"$f":"VLOOKUP(E810,'Technický list'!$AU$124:$BD$168,9,0)","v":"-"},"n.a.",null,{"$f":"VLOOKUP(E810,'Kapitola 2'!$C$6:$D$282,2,0)","v":"Jakým způsobem je zaručena ochrana zařízení, aby jediná chyba neměla katastrofické následky?"}]
[null,null,null,null,{"$f":"'Technický list'!B142","v":"Q2.19"},{"$f":"'Technický list'!C142","v":3},{"$f":"VLOOKUP(E811,'Technický list'!$AU$124:$BD$168,9,0)","v":"-"},"n.a.",null,{"$f":"VLOOKUP(E811,'Kapitola 2'!$C$6:$D$282,2,0)","v":"Byly zřízeny programy preventivní údržby a péče, které zaručují bezpečnost provozů, nástrojů a zařízení?"}]
[null,null,null,null,{"$f":"'Technický list'!B143","v":"Q2.20"},{"$f":"'Technický list'!C143","v":4},{"$f":"VLOOKUP(E812,'Technický list'!$AU$124:$BD$168,9,0)","v":"-"},"n.a.",null,{"$f":"VLOOKUP(E812,'Kapitola 2'!$C$6:$D$282,2,0)","v":"Jakým způsobem se řídí procesy během mimořádných událostí v případě přerušení dodávky energie nebo služeb?"}]
[null,null,null,null,{"$f":"'Technický list'!B144","v":"Q2.21"},{"$f":"'Technický list'!C144","v":3},{"$f":"VLOOKUP(E813,'Technický list'!$AU$124:$BD$168,9,0)","v":"-"},"n.a.",null,{"$f":"VLOOKUP(E813,'Kapitola 2'!$C$6:$D$282,2,0)","v":"Jak se připravují havarijní plány?"}]
[null,null,null,null,{"$f":"'Technický list'!B145","v":"Q2.22"},{"$f":"'Technický list'!C145","v":2},{"$f":"VLOOKUP(E814,'Technický list'!$AU$124:$BD$168,9,0)","v":"-"},"n.a.",null,{"$f":"VLOOKUP(E814,'Kapitola 2'!$C$6:$D$282,2,0)","v":"Jakým způsobem jsou zabezpečeny kompetence a školení zaměstnanců a dodavatelů zapojených do procesů?"}]
[null,null,null,null,{"$f":"'Technický list'!B146","v":"Q2.23"},{"$f":"'Technický list'!C146","v":4},{"$f":"VLOOKUP(E815,'Technický list'!$AU$124:$BD$168,9,0)","v":"-"},"n.a.",null,{"$f":"VLOOKUP(E815,'Kapitola 2'!$C$6:$D$282,2,0)","v":"Jakým způsobem se sdílejí informace o rizicích látek a přípravků?"}]
[null,null,null,null,{"$f":"'Technický list'!B147","v":"Q2.24"},{"$f":"'Technický list'!C147","v":4},{"$f":"VLOOKUP(E816,'Technický list'!$AU$124:$BD$168,9,0)","v":"-"},"n.a.",null,{"$f":"VLOOKUP(E816,'Kapitola 2'!$C$6:$D$282,2,0)","v":"Jak se sdílejí informace o procesu?"}]
[null,null,null,null,{"$f":"'Technický list'!B148","v":"Q2.25"},{"$f":"'Technický list'!C148","v":3},{"$f":"VLOOKUP(E817,'Technický list'!$AU$124:$BD$168,9,0)","v":"-"},"n.a.",null,{"$f":"VLOOKUP(E817,'Kapitola 2'!$C$6:$D$282,2,0)","v":"Jakým způsobem organizace hodnotí své logistické partnery z hlediska HSE&S, energetické účinnosti a emisí skleníkových plynů?"}]
[null,null,null,null,{"$f":"'Technický list'!B149","v":"Q2.26"},{"$f":"'Technický list'!C149","v":4},{"$f":"VLOOKUP(E818,'Technický list'!$AU$124:$BD$168,9,0)","v":"-"},"n.a.",null,{"$f":"VLOOKUP(E818,'Kapitola 2'!$C$6:$D$282,2,0)","v":"Jakým způsobem organizace zabraňuje a reaguje na dopravní nehody?"}]
[null,null,null,null,{"$f":"'Technický list'!B150","v":"Q2.27"},{"$f":"'Technický list'!C150","v":4},{"$f":"VLOOKUP(E819,'Technický list'!$AU$124:$BD$168,9,0)","v":"-"},"n.a.",null,{"$f":"VLOOKUP(E819,'Kapitola 2'!$C$6:$D$282,2,0)","v":"Jakým způsobem organizace identifikuje bezpečnostní problémy?"}]
[null,null,null,null,{"$f":"'Technický list'!B151","v":"Q2.28"},{"$f":"'Technický list'!C151","v":4},{"$f":"VLOOKUP(E820,'Technický list'!$AU$124:$BD$168,9,0)","v":"-"},"n.a.",null,{"$f":"VLOOKUP(E820,'Kapitola 2'!$C$6:$D$282,2,0)","v":"Jakým způsobem se kontroluje příchod a odchod pracovníků a materiálu na pracovišti a v oblastech s omezeným vstupem?"}]
[null,null,null,null,{"$f":"'Technický list'!B152","v":"Q2.29"},{"$f":"'Technický list'!C152","v":4},{"$f":"VLOOKUP(E821,'Technický list'!$AU$124:$BD$168,9,0)","v":"-"},"n.a.",null,{"$f":"VLOOKUP(E821,'Kapitola 2'!$C$6:$D$282,2,0)","v":"Jakým způsobem se kontroluje kybernetická bezpečnost?"}]
[null,null,null,null,{"$f":"'Technický list'!B153","v":"Q2.30"},{"$f":"'Technický list'!C153","v":4},{"$f":"VLOOKUP(E822,'Technický list'!$AU$124:$BD$168,9,0)","v":"-"},"n.a.",null,{"$f":"VLOOKUP(E822,'Kapitola 2'!$C$6:$D$282,2,0)","v":"Jakým způsobem probíhá komunikace a výměna informací v případě bezpečnostní krize?"}]
[null,null,null,null,{"$f":"'Technický list'!B154","v":"Q2.31"},{"$f":"'Technický list'!C154","v":3},{"$f":"VLOOKUP(E823,'Technický list'!$AU$124:$BD$168,9,0)","v":"-"},"n.a.",null,{"$f":"VLOOKUP(E823,'Kapitola 2'!$C$6:$D$282,2,0)","v":"Jak se organizace vyrovnává s podezřelým chováním (včetně rizik radikalizace = souhlas a podopra extrémních názorů)"}]
[null,null,null,null,{"$f":"'Technický list'!B155","v":"Q2.32"},{"$f":"'Technický list'!C155","v":3},{"$f":"VLOOKUP(E824,'Technický list'!$AU$124:$BD$168,9,0)","v":"-"},"n.a.",null,{"$f":"VLOOKUP(E824,'Kapitola 2'!$C$6:$D$282,2,0)","v":"Jakým způsobem školí organizace pracovníky v oblasti ostrahy ve vazbě na bezpečnostní rizika?  "}]
[null,null,null,null,{"$f":"'Technický list'!B156","v":"Q2.33"},{"$f":"'Technický list'!C156","v":4},{"$f":"VLOOKUP(E825,'Technický list'!$AU$124:$BD$168,9,0)","v":3},{"$f":"IF(G825=\"-\",\"n.a.\",IF(F825-G825>-1,\"v souladu\",\"zvyšte skóre\"))","v":"v souladu"},null,{"$f":"VLOOKUP(E825,'Kapitola 2'!$C$6:$D$282,2,0)","v":"Jakým způsobem se posuzuje potenciální vliv organizace na životní prostředí?"}]
[null,null,null,null,{"$f":"'Technický list'!B157","v":"Q2.34"},{"$f":"'Technický list'!C157","v":4},{"$f":"VLOOKUP(E826,'Technický list'!$AU$124:$BD$168,9,0)","v":"-"},"n.a.",null,{"$f":"VLOOKUP(E826,'Kapitola 2'!$C$6:$D$282,2,0)","v":"Jakým způsobem se řídí environmentální výkonnost?"}]
[null,null,null,null,{"$f":"'Technický list'!B158","v":"Q2.35"},{"$f":"'Technický list'!C158","v":3},{"$f":"VLOOKUP(E827,'Technický list'!$AU$124:$BD$168,9,0)","v":3},{"$f":"IF(G827=\"-\",\"n.a.\",IF(F827-G827>-1,\"v souladu\",\"zvyšte skóre\"))","v":"v souladu"},null,{"$f":"VLOOKUP(E827,'Kapitola 2'!$C$6:$D$282,2,0)","v":"Jak organizace nakládá s odpadem?"}]
[null,null,null,null,{"$f":"'Technický list'!B159","v":"Q2.36"},{"$f":"'Technický list'!C159","v":3},{"$f":"VLOOKUP(E828,'Technický list'!$AU$124:$BD$168,9,0)","v":3},"v souladu",null,{"$f":"VLOOKUP(E828,'Kapitola 2'!$C$6:$D$282,2,0)","v":"Jakým způsobem řídí organizace rizika týkající se podzemních vod?"}]
[null,null,null,null,{"$f":"'Technický list'!B160","v":"Q2.37"},{"$f":"'Technický list'!C160","v":3},{"$f":"VLOOKUP(E829,'Technický list'!$AU$124:$BD$168,9,0)","v":3},"v souladu",null,{"$f":"VLOOKUP(E829,'Kapitola 2'!$C$6:$D$282,2,0)","v":"Jakým způsobem řídí organizace rizika týkající se znečištění půdy?"}]
[null,null,null,null,{"$f":"'Technický list'!B161","v":"Q2.38"},{"$f":"'Technický list'!C161","v":4},{"$f":"VLOOKUP(E830,'Technický list'!$AU$124:$BD$168,9,0)","v":3},"v souladu",null,{"$f":"VLOOKUP(E830,'Kapitola 2'!$C$6:$D$282,2,0)","v":"Jakým způsobem řídí organizace existující znečištění půdy?\n"}]
[null,null,null,null,{"$f":"'Technický list'!B162","v":"Q2.39"},{"$f":"'Technický list'!C162","v":3},{"$f":"VLOOKUP(E831,'Technický list'!$AU$124:$BD$168,9,0)","v":3},"v souladu",null,{"$f":"VLOOKUP(E831,'Kapitola 2'!$C$6:$D$282,2,0)","v":"Jakým způsobem organizace řídí své emise škodlivin do ovzduší?"}]
[null,null,null,null,{"$f":"'Technický list'!B163","v":"Q2.40"},{"$f":"'Technický list'!C163","v":4},{"$f":"VLOOKUP(E832,'Technický list'!$AU$124:$BD$168,9,0)","v":3},"v souladu",null,{"$f":"VLOOKUP(E832,'Kapitola 2'!$C$6:$D$282,2,0)","v":"Jakým způsobem organizace řídí své emise škodlivin do vody?"}]
[null,null,null,null,{"$f":"'Technický list'!B164","v":"Q2.41"},{"$f":"'Technický list'!C164","v":3},{"$f":"VLOOKUP(E833,'Technický list'!$AU$124:$BD$168,9,0)","v":3},"v souladu",null,{"$f":"VLOOKUP(E833,'Kapitola 2'!$C$6:$D$282,2,0)","v":"Jakým způsobem organizace řídí své emise hluku?"}]
[null,null,null,null,{"$f":"'Technický list'!B165","v":"Q2.42"},{"$f":"'Technický list'!C165","v":4},{"$f":"VLOOKUP(E834,'Technický list'!$AU$124:$BD$168,9,0)","v":3},"v souladu",null,{"$f":"VLOOKUP(E834,'Kapitola 2'!$C$6:$D$282,2,0)","v":"Jakým způsobem organizace řídí své emise zápachu?"}]
[null,null,null,null,{"$f":"'Technický list'!B166","v":"Q2.43"},{"$f":"'Technický list'!C166","v":4},{"$f":"VLOOKUP(E835,'Technický list'!$AU$124:$BD$168,9,0)","v":"-"},"n.a.",null,{"$f":"VLOOKUP(E835,'Kapitola 2'!$C$6:$D$282,2,0)","v":"Jakým způsobem organizace zabraňuje a řídí havarijní emise do prostředí?"}]
[null,null,null,null,{"$f":"'Technický list'!B167","v":"Q2.44"},{"$f":"'Technický list'!C167","v":4},{"$f":"VLOOKUP(E836,'Technický list'!$AU$124:$BD$168,9,0)","v":3},{"$f":"IF(G836=\"-\",\"n.a.\",IF(F836-G836>-1,\"v souladu\",\"zvyšte skóre\"))","v":"v souladu"},null,{"$f":"VLOOKUP(E836,'Kapitola 2'!$C$6:$D$282,2,0)","v":"Jakým způsobem zajišťuje organizace správně kompetence všech pracovníků, týkající se environmentálních požadavků, které souvisejí s jejich pracovní náplní?"}]
[null,null,null,null,{"$f":"'Technický list'!B168","v":"Q2.45"},{"$f":"'Technický list'!C168","v":3},{"$f":"VLOOKUP(E837,'Technický list'!$AU$124:$BD$168,9,0)","v":2},{"$f":"IF(G837=\"-\",\"n.a.\",IF(F837-G837>-1,\"v souladu\",\"zvyšte skóre\"))","v":"v souladu"},null,{"$f":"VLOOKUP(E837,'Kapitola 2'!$C$6:$D$282,2,0)","v":"Jakým způsobem jsou zainteresované strany organizace informovány o environmentálních aspektech a jejich možných dopadech?"}]
[null,null,null,null,"KAPITOLA 3: Posílení systémů řízení chemických látek"]
[null,null,null,null,{"$f":"'Technický list'!$B$406","v":"Q3.1"},{"$f":"'Technický list'!$C$406","v":3},{"$f":"VLOOKUP(E839,'Technický list'!$AU$406:$BD$418,9,0)","v":3},{"$f":"IF(G839=\"-\",\"n.a.\",IF(F839-G839>-1,\"v souladu\",\"zvyšte skóre\"))","v":"v souladu"},null,{"$f":"VLOOKUP(E839,'Kapitola 3'!$C$6:$D$89,2,0)","v":"Zavedla organizace proces pro navrhování a vývoj nových \nproduktů a služeb?"}]
[null,null,null,null,{"$f":"'Technický list'!$B$407","v":"Q3.2"},{"$f":"'Technický list'!$C$407","v":2},{"$f":"VLOOKUP(E840,'Technický list'!$AU$406:$BD$418,9,0)","v":2},{"$f":"IF(G840=\"-\",\"n.a.\",IF(F840-G840>-1,\"v souladu\",\"zvyšte skóre\"))","v":"v souladu"},null,{"$f":"VLOOKUP(E840,'Kapitola 3'!$C$6:$D$89,2,0)","v":"Má organizace k dispozici proces hodnocení a stanovení priorit svých produktů pro charakterizaci rizik a řízení rizik?\n\n\n"}]
[null,null,null,null,{"$f":"'Technický list'!$B$408","v":"Q3.3"},{"$f":"'Technický list'!$C$408","v":3},{"$f":"VLOOKUP(E841,'Technický list'!$AU$406:$BD$418,9,0)","v":"-"},{"$f":"IF(G841=\"-\",\"n.a.\",IF(F841-G841>-1,\"compliant\",\"increase score\"))","v":"n.a."},null,{"$f":"VLOOKUP(E841,'Kapitola 3'!$C$6:$D$89,2,0)","v":"Zavedla organizace systém pro sledování použitelnosti, změn a dodržování interních a externích požadavků souvisejících s řízením bezpečnosti chemických látek?"}]
[null,null,null,null,{"$f":"'Technický list'!$B$409","v":"Q3.4"},{"$f":"'Technický list'!$C$409","v":2},{"$f":"VLOOKUP(E842,'Technický list'!$AU$406:$BD$418,9,0)","v":4},{"$f":"IF(G842=\"-\",\"n.a.\",IF(F842-G842>-1,\"v souladu\",\"zvyšte skóre\"))","v":"zvyšte skóre"},null,{"$f":"VLOOKUP(E842,'Kapitola 3'!$C$6:$D$89,2,0)","v":"Zavedla organizace systém na správu existujících informací o rizicích svých produktů?"}]
[null,null,null,null,{"$f":"'Technický list'!$B$410","v":"Q3.5"},{"$f":"'Technický list'!$C$410","v":2},{"$f":"VLOOKUP(E843,'Technický list'!$AU$406:$BD$418,9,0)","v":"-"},"n.a.",null,{"$f":"VLOOKUP(E843,'Kapitola 3'!$C$6:$D$89,2,0)","v":"Zavedla organizace proces řízení informací o používání a expozici svých produktů?"}]
[null,null,null,null,{"$f":"'Technický list'!$B$411","v":"Q3.6"},{"$f":"'Technický list'!$C$411","v":4},{"$f":"VLOOKUP(E844,'Technický list'!$AU$406:$BD$418,9,0)","v":"-"},"n.a.",null,{"$f":"VLOOKUP(E844,'Kapitola 3'!$C$6:$D$89,2,0)","v":"Zavedla organizace proces na správu nových informací?"}]
[null,null,null,null,{"$f":"'Technický list'!$B$412","v":"Q3.7"},{"$f":"'Technický list'!$C$412","v":3},{"$f":"VLOOKUP(E845,'Technický list'!$AU$406:$BD$418,9,0)","v":4},{"$f":"IF(G845=\"-\",\"n.a.\",IF(F845-G845>-1,\"v souladu\",\"zvyšte skóre\"))","v":"zvyšte skóre"},null,{"$f":"VLOOKUP(E845,'Kapitola 3'!$C$6:$D$89,2,0)","v":"Zavedla organizace proces charakterizace rizik na základě shromážděných informací?"}]
[null,null,null,null,{"$f":"'Technický list'!$B$413","v":"Q3.8"},{"$f":"'Technický list'!$C$413","v":4},{"$f":"VLOOKUP(E846,'Technický list'!$AU$406:$BD$418,9,0)","v":4},{"$f":"IF(G846=\"-\",\"n.a.\",IF(F846-G846>-1,\"v souladu\",\"zvyšte skóre\"))","v":"v souladu"},null,{"$f":"VLOOKUP(E846,'Kapitola 3'!$C$6:$D$89,2,0)","v":"Zavedla organizace proces řízení rizik na základě shromážděných informací?"}]
[null,null,null,null,{"$f":"'Technický list'!$B$414","v":"Q3.9"},{"$f":"'Technický list'!$C$414","v":4},{"$f":"VLOOKUP(E847,'Technický list'!$AU$406:$BD$418,9,0)","v":4},{"$f":"IF(G847=\"-\",\"n.a.\",IF(F847-G847>-1,\"v souladu\",\"zvyšte skóre\"))","v":"v souladu"},null,{"$f":"VLOOKUP(E847,'Kapitola 3'!$C$6:$D$89,2,0)","v":"Zavedla organizace účinný proces sledování svých produktů po dodání a provádění nápravných opatření?\n"}]
[null,null,null,null,{"$f":"'Technický list'!$B$415","v":"Q3.10"},{"$f":"'Technický list'!$C$415","v":4},{"$f":"VLOOKUP(E848,'Technický list'!$AU$406:$BD$418,9,0)","v":4},{"$f":"IF(G848=\"-\",\"n.a.\",IF(F848-G848>-1,\"v souladu\",\"zvyšte skóre\"))","v":"v souladu"},null,{"$f":"VLOOKUP(E848,'Kapitola 3'!$C$6:$D$89,2,0)","v":"Poskytuje organizace efektivní komunikaci v rámci dodavatelského řetězce ohledně opatření k řízení rizik, které se vztahují na jejich produkty?"}]
[null,null,null,null,"KAPITOLA 4: Působení na obchodní partnery"]
[null,null,null,null,{"$f":"'Technický list'!B482","v":"Q4.1"},{"$f":"'Technický list'!C482","v":3},{"$f":"VLOOKUP(E850,'Technický list'!$AU$482:$BD$489,9,0)","v":3},{"$f":"IF(G850=\"-\",\"n.a.\",IF(F850-G850>-1,\"v souladu\",\"zvyšte skóre\"))","v":"v souladu"},null,{"$f":"VLOOKUP(E850,'Kapitola 4'!$C$6:$D$91,2,0)","v":"Jak se organizace zavázala k odpovědnému získávání zdrojů?"}]
[null,null,null,null,{"$f":"'Technický list'!B483","v":"Q4.2"},{"$f":"'Technický list'!C483","v":4},{"$f":"VLOOKUP(E851,'Technický list'!$AU$482:$BD$489,9,0)","v":"-"},{"$f":"IF(G851=\"-\",\"n.a.\",IF(F851-G851>-1,\"compliant\",\"increase score\"))","v":"n.a."},null,{"$f":"VLOOKUP(E851,'Kapitola 4'!$C$6:$D$91,2,0)","v":"Jak organizace zlepšuje spolupráci v dodavatelském řetězci?"}]
[null,null,null,null,{"$f":"'Technický list'!B484","v":"Q4.3"},{"$f":"'Technický list'!C484","v":3},{"$f":"VLOOKUP(E852,'Technický list'!$AU$482:$BD$489,9,0)","v":"-"},"n.a.",null,{"$f":"VLOOKUP(E852,'Kapitola 4'!$C$6:$D$91,2,0)","v":"Jakým způsobem vyjadřuje organizace svůj závazek vůči podnikatelské etice?"}]
[null,null,null,null,{"$f":"'Technický list'!B485","v":"Q4.4"},{"$f":"'Technický list'!C485","v":2},{"$f":"VLOOKUP(E853,'Technický list'!$AU$482:$BD$489,9,0)","v":"-"},"n.a.",null,{"$f":"VLOOKUP(E853,'Kapitola 4'!$C$6:$D$91,2,0)","v":"Jakým způsobem řeší organizace sociální problematiku a lidská práva v rámci spolupráce s obchodními partnery?"}]
[null,null,null,null,{"$f":"'Technický list'!B486","v":"Q4.5"},{"$f":"'Technický list'!C486","v":4},{"$f":"VLOOKUP(E854,'Technický list'!$AU$482:$BD$489,9,0)","v":"-"},"n.a.",null,{"$f":"VLOOKUP(E854,'Kapitola 4'!$C$6:$D$91,2,0)","v":"Jakým způsobem zabraňuje organizace dětské práci?\nOrganizace\n1-\tzavedla systém ověřování věku; \n2-\tnezaměstnává děti mladší 15 let (v závislosti na místní legislativy). Jedinou výjimku představují učni, školní praxe nebo vzdělávací stáže; \n3-\tzaručuje, aby pracovní náplň osob mladších než 18 let neovlivňovala jejich školní docházku (doba strávená dopravou do práce a školy a z práce a školy, školní docházkou a prací je méně než 10 hodin denně );\n4-\tzajišťuje, že pracovní náplň mladých pracovníků není duševně, fyzicky, společensky ani morálně nebezpečná a škodlivá."}]
[null,null,null,null,{"$f":"'Technický list'!B487","v":"Q4.6"},{"$f":"'Technický list'!C487","v":3},{"$f":"VLOOKUP(E855,'Technický list'!$AU$482:$BD$489,9,0)","v":3},{"$f":"IF(G855=\"-\",\"n.a.\",IF(F855-G855>-1,\"v souladu\",\"zvyšte skóre\"))","v":"v souladu"},null,{"$f":"VLOOKUP(E855,'Kapitola 4'!$C$6:$D$91,2,0)","v":"Jakým způsobem zabezpečuje organizace splnění svých požadavků ze strany logistických partnerů?"}]
[null,null,null,null,{"$f":"'Technický list'!B488","v":"Q4.7"},{"$f":"'Technický list'!C488","v":1},{"$f":"VLOOKUP(E856,'Technický list'!$AU$482:$BD$489,9,0)","v":"-"},"n.a.",null,{"$f":"VLOOKUP(E856,'Kapitola 4'!$C$6:$D$91,2,0)","v":"Jakým způsobem organizace chrání a zabezpečuje majetek a údaje následných uživatelů nebo externích poskytovatelů, které se používají nebo začleňují do produktů a služeb?"}]
[null,null,null,null,{"$f":"'Technický list'!B489","v":"Q4.8"},{"$f":"'Technický list'!C489","v":4},{"$f":"VLOOKUP(E857,'Technický list'!$AU$482:$BD$489,9,0)","v":"-"},"n.a.",null,{"$f":"VLOOKUP(E857,'Kapitola 4'!$C$6:$D$91,2,0)","v":"Co zahrnuje dialog s následnými uživateli?"}]
[null,null,null,null,"KAPITOLA 5: Zapojení zainteresovaných stran"]
[null,null,null,null,{"$f":"'Technický list'!B544","v":"Q5.1"},{"$f":"'Technický list'!C544","v":3},{"$f":"VLOOKUP(E859,'Technický list'!$AU$544:$BD$548,9,0)","v":4},{"$f":"IF(G859=\"-\",\"n.a.\",IF(F859-G859>-1,\"v souladu\",\"zvyšte skóre\"))","v":"zvyšte skóre"},null,{"$f":"VLOOKUP(E859,'Kapitola 5'!$C$6:$D$89,2,0)","v":"Jakým způsobem zapojuje organizace své externí zainteresované strany a naplňuje jejich očekávání?"}]
[null,null,null,null,{"$f":"'Technický list'!B545","v":"Q5.2"},{"$f":"'Technický list'!C545","v":4},{"$f":"VLOOKUP(E860,'Technický list'!$AU$544:$BD$548,9,0)","v":4},{"$f":"IF(G860=\"-\",\"n.a.\",IF(F860-G860>-1,\"v souladu\",\"zvyšte skóre\"))","v":"v souladu"},null,{"$f":"VLOOKUP(E860,'Kapitola 5'!$C$6:$D$89,2,0)","v":"Jakým způsobem vede organizace dialog s veřejností, úřady a dalšími zainteresovanými stranami, včetně místních komunit a zákazníků v souvislosti s HSE&S v rámci jejich činností, produktů a služeb?"}]
[null,null,null,null,{"$f":"'Technický list'!B546","v":"Q5.3"},{"$f":"'Technický list'!C546","v":2},{"$f":"VLOOKUP(E861,'Technický list'!$AU$544:$BD$548,9,0)","v":"-"},{"$f":"IF(G861=\"-\",\"n.a.\",IF(F861-G861>-1,\"compliant\",\"increase score\"))","v":"n.a."},null,{"$f":"VLOOKUP(E861,'Kapitola 5'!$C$6:$D$89,2,0)","v":"Jakým způsobem zveřejňuje organizace informace týkající se\n HSE&S?"}]
[null,null,null,null,{"$f":"'Technický list'!B547","v":"Q5.4"},{"$f":"'Technický list'!C547","v":2},{"$f":"VLOOKUP(E862,'Technický list'!$AU$544:$BD$548,9,0)","v":"-"},"n.a.",null,{"$f":"VLOOKUP(E862,'Kapitola 5'!$C$6:$D$89,2,0)","v":"Jakým způsobem podporuje organizace místní komunity?"}]
[null,null,null,null,{"$f":"'Technický list'!B548","v":"Q5.5"},{"$f":"'Technický list'!C548","v":3},{"$f":"VLOOKUP(E863,'Technický list'!$AU$544:$BD$548,9,0)","v":"-"},"n.a.",null,{"$f":"VLOOKUP(E863,'Kapitola 5'!$C$6:$D$89,2,0)","v":"Jakým způsobem stimuluje organizace místní zaměstnanost a vzdělávání?"}]
[null,null,null,null,"KAPITOLA 6: Přispívání k udržitelnosti"]
[null,null,null,null,{"$f":"'Technický list'!B584","v":"Q6.1"},{"$f":"'Technický list'!C584","v":2},{"$f":"VLOOKUP(E865,'Technický list'!$AU$584:$BD$600,9,0)","v":"-"},{"$f":"IF(G865=\"-\",\"n.a.\",IF(F865-G865>-1,\"compliant\",\"increase score\"))","v":"n.a."},null,{"$f":"VLOOKUP(E865,'Kapitola 6'!$C$6:$D$120,2,0)","v":"Jakým způsobem definuje organizace významné problémy a závažnost?"}]
[null,null,null,null,{"$f":"'Technický list'!B585","v":"Q6.2"},{"$f":"'Technický list'!C585","v":2},{"$f":"VLOOKUP(E866,'Technický list'!$AU$584:$BD$600,9,0)","v":"-"},{"$f":"IF(G866=\"-\",\"n.a.\",IF(F866-G866>-1,\"compliant\",\"increase score\"))","v":"n.a."},null,{"$f":"VLOOKUP(E866,'Kapitola 6'!$C$6:$D$120,2,0)","v":"Jakým způsobem hodlá organizace přispívat k udržitelnému rozvoji?"}]
[null,null,null,null,{"$f":"'Technický list'!B586","v":"Q6.3"},{"$f":"'Technický list'!C586","v":3},{"$f":"VLOOKUP(E867,'Technický list'!$AU$584:$BD$600,9,0)","v":"-"},"n.a.",null,{"$f":"VLOOKUP(E867,'Kapitola 6'!$C$6:$D$120,2,0)","v":"Jakým způsobem komunikuje organizace zainteresovaných stran na téma udržitelnosti?"}]
[null,null,null,null,{"$f":"'Technický list'!B587","v":"Q6.4"},{"$f":"'Technický list'!C587","v":2},{"$f":"VLOOKUP(E868,'Technický list'!$AU$584:$BD$600,9,0)","v":"-"},"n.a.",null,{"$f":"VLOOKUP(E868,'Kapitola 6'!$C$6:$D$120,2,0)","v":"Má organizace zavedený proces navrhování výrobků s lepšími výsledky udržitelnosti?"}]
[null,null,null,null,{"$f":"'Technický list'!B588","v":"Q6.5"},{"$f":"'Technický list'!C588","v":2},{"$f":"VLOOKUP(E869,'Technický list'!$AU$584:$BD$600,9,0)","v":"-"},"n.a.",null,{"$f":"VLOOKUP(E869,'Kapitola 6'!$C$6:$D$120,2,0)","v":"Jakým způsobem zvyšuje organizace efektivnost zdrojů ve svých výrobních procesech?"}]
[null,null,null,null,{"$f":"'Technický list'!B589","v":"Q6.6"},{"$f":"'Technický list'!C589","v":1},{"$f":"VLOOKUP(E870,'Technický list'!$AU$584:$BD$600,9,0)","v":"-"},"n.a.",null,{"$f":"VLOOKUP(E870,'Kapitola 6'!$C$6:$D$120,2,0)","v":"Jakým způsobem stimuluje organizace oběhové hospodářství prostřednictvím svých produktů?"}]
[null,null,null,null,{"$f":"'Technický list'!B590","v":"Q6.7"},{"$f":"'Technický list'!C590","v":3},{"$f":"VLOOKUP(E871,'Technický list'!$AU$584:$BD$600,9,0)","v":"-"},"n.a.",null,{"$f":"VLOOKUP(E871,'Kapitola 6'!$C$6:$D$120,2,0)","v":"Jakým způsobem podporuje organizace inovace při vývoji produktů a řešení, které odpovídají výzvám udržitelnosti?"}]
[null,null,null,null,{"$f":"'Technický list'!B591","v":"Q6.8"},{"$f":"'Technický list'!C591","v":3},{"$f":"VLOOKUP(E872,'Technický list'!$AU$584:$BD$600,9,0)","v":"-"},"n.a.",null,{"$f":"VLOOKUP(E872,'Kapitola 6'!$C$6:$D$120,2,0)","v":"Jakým způsobem stimuluje organizace inovaci a spolupráci?"}]
[null,null,null,null,{"$f":"'Technický list'!B592","v":"Q6.9"},{"$f":"'Technický list'!C592","v":1},{"$f":"VLOOKUP(E873,'Technický list'!$AU$584:$BD$600,9,0)","v":"-"},"n.a.",null,{"$f":"VLOOKUP(E873,'Kapitola 6'!$C$6:$D$120,2,0)","v":"Jakým způsobem podporuje organizace udržitelné způsoby spotřeby?"}]
[null,null,null,null,{"$f":"'Technický list'!B593","v":"Q6.10"},{"$f":"'Technický list'!C593","v":2},{"$f":"VLOOKUP(E874,'Technický list'!$AU$584:$BD$600,9,0)","v":"-"},"n.a.",null,{"$f":"VLOOKUP(E874,'Kapitola 6'!$C$6:$D$120,2,0)","v":"Jakým způsobem organizace kontroluje a optimalizuje spotřebu vody?"}]
[null,null,null,null,{"$f":"'Technický list'!B594","v":"Q6.11"},{"$f":"'Technický list'!C594","v":3},{"$f":"VLOOKUP(E875,'Technický list'!$AU$584:$BD$600,9,0)","v":"-"},"n.a.",null,{"$f":"VLOOKUP(E875,'Kapitola 6'!$C$6:$D$120,2,0)","v":"Jakým způsobem se řídí vliv organizace na biodiverzitu a ekosystém?"}]
[null,null,null,null,{"$f":"'Technický list'!B595","v":"Q6.12"},{"$f":"'Technický list'!C595","v":1},{"$f":"VLOOKUP(E876,'Technický list'!$AU$584:$BD$600,9,0)","v":"-"},"n.a.",null,{"$f":"VLOOKUP(E876,'Kapitola 6'!$C$6:$D$120,2,0)","v":"Jakým způsobem posuzuje organizace svou závislost na přírodních zdrojích (ekosystémech)?"}]
[null,null,null,null,{"$f":"'Technický list'!B596","v":"Q6.13"},{"$f":"'Technický list'!C596","v":2},{"$f":"VLOOKUP(E877,'Technický list'!$AU$584:$BD$600,9,0)","v":"-"},"n.a.",null,{"$f":"VLOOKUP(E877,'Kapitola 6'!$C$6:$D$120,2,0)","v":"Jakým způsobem řídí organizace svou spotřebu energie?"}]
[null,null,null,null,{"$f":"'Technický list'!B597","v":"Q6.14"},{"$f":"'Technický list'!C597","v":3},{"$f":"VLOOKUP(E878,'Technický list'!$AU$584:$BD$600,9,0)","v":"-"},"n.a.",null,{"$f":"VLOOKUP(E878,'Kapitola 6'!$C$6:$D$120,2,0)","v":"Jakým způsobem řídí organizace emise skleníkových plynů (kromě úspor energie)?"}]
[null,null,null,null,{"$f":"'Technický list'!B598","v":"Q6.15"},{"$f":"'Technický list'!C598","v":2},{"$f":"VLOOKUP(E879,'Technický list'!$AU$584:$BD$600,9,0)","v":"-"},"n.a.",null,{"$f":"VLOOKUP(E879,'Kapitola 6'!$C$6:$D$120,2,0)","v":"Jaká je strategie organizace na snižování emisí skleníkových plynů?"}]
[null,null,null,null,{"$f":"'Technický list'!B599","v":"Q6.16"},{"$f":"'Technický list'!C599","v":2},{"$f":"VLOOKUP(E880,'Technický list'!$AU$584:$BD$600,9,0)","v":3},{"$f":"IF(G880=\"-\",\"n.a.\",IF(F880-G880>-1,\"v souladu\",\"zvyšte skóre\"))","v":"zvyšte skóre"},null,{"$f":"VLOOKUP(E880,'Kapitola 6'!$C$6:$D$120,2,0)","v":"Jakým způsobem se organizace připravuje na klimatické změny? "}]
[null,null,null,null,{"$f":"'Technický list'!B600","v":"Q6.17"},{"$f":"'Technický list'!C600","v":3},{"$f":"VLOOKUP(E881,'Technický list'!$AU$584:$BD$600,9,0)","v":"-"},"n.a.",null,{"$f":"VLOOKUP(E881,'Kapitola 6'!$C$6:$D$120,2,0)","v":"Jak organizace zajišťuje rovné příležitosti při náboru a během kariéry všech?"}]
[]
[null,null,"Zpráva o souladu s GHS"]
[null,null,null,null,null,"Vaše skóre ","Minimální skóre pro RCMS"]
[null,null,null,null,"KAPITOLA 1: Podniková kultura vedení "]
[null,null,null,null,{"$f":"'Technický list'!B10","v":"Q1.1"},{"$f":"'Technický list'!C10","v":4},{"$f":"VLOOKUP(E886,'Technický list'!$AU$10:$BD$25,10,0)","v":"-"},{"$f":"IF(G886=\"-\",\"n.a.\",IF(F886-G886>-1,\"compliant\",\"increase score\"))","v":"n.a."},null,{"$f":"VLOOKUP(E886,'Kapitola 1'!$C$6:$D$112,2,0)","v":"Jak se projevuje závazek plnit povinnosti týkající se dodržování předpisů a zásad Responsible Care = RC (tj. ochrana a podpora zdraví a bezpečnost lidí, životního prostředí a udržitelnosti) na všech úrovních organizace?\n"}]
[null,null,null,null,{"$f":"'Technický list'!B11","v":"Q1.2"},{"$f":"'Technický list'!C11","v":4},{"$f":"VLOOKUP(E887,'Technický list'!$AU$10:$BD$25,10,0)","v":"-"},"n.a.",null,{"$f":"VLOOKUP(E887,'Kapitola 1'!$C$6:$D$112,2,0)","v":"Jakým způsobem řídí organizace příslušná rizika a příležitosti?  "}]
[null,null,null,null,{"$f":"'Technický list'!B12","v":"Q1.3"},{"$f":"'Technický list'!C12","v":4},{"$f":"VLOOKUP(E888,'Technický list'!$AU$10:$BD$25,10,0)","v":"-"},"n.a.",null,{"$f":"VLOOKUP(E888,'Kapitola 1'!$C$6:$D$112,2,0)","v":"Jakým způsobem monitoruje organizace svoje zákonné povinnosti? "}]
[null,null,null,null,{"$f":"'Technický list'!B13","v":"Q1.4"},{"$f":"'Technický list'!C13","v":3},{"$f":"VLOOKUP(E889,'Technický list'!$AU$10:$BD$25,10,0)","v":"-"},"n.a.",null,{"$f":"VLOOKUP(E889,'Kapitola 1'!$C$6:$D$112,2,0)","v":"Jakým způsobem top management zajišťuje, že jednotlivé aspekty HSE&S (zdraví, bezpečnosti, ochrany životního prostředí & udržitelnosti) jsou přiřazeny stanoveným rolím v organizaci?"}]
[null,null,null,null,{"$f":"'Technický list'!B14","v":"Q1.5"},{"$f":"'Technický list'!C14","v":3},{"$f":"VLOOKUP(E890,'Technický list'!$AU$10:$BD$25,10,0)","v":"-"},"n.a.",null,{"$f":"VLOOKUP(E890,'Kapitola 1'!$C$6:$D$112,2,0)","v":"Jakým způsobem se top management podílí na řešení záležitostí HSE&S?"}]
[null,null,null,null,{"$f":"'Technický list'!B15","v":"Q1.6"},{"$f":"'Technický list'!C15","v":3},{"$f":"VLOOKUP(E891,'Technický list'!$AU$10:$BD$25,10,0)","v":"-"},"n.a.",null,{"$f":"VLOOKUP(E891,'Kapitola 1'!$C$6:$D$112,2,0)","v":"Jakým způsobem jsou odpovědnosti HSE&S začleněny do popisů pracovní náplně nebo ročních cílů?\n"}]
[null,null,null,null,{"$f":"'Technický list'!B16","v":"Q1.7"},{"$f":"'Technický list'!C16","v":3},{"$f":"VLOOKUP(E892,'Technický list'!$AU$10:$BD$25,10,0)","v":"-"},"n.a.",null,{"$f":"VLOOKUP(E892,'Kapitola 1'!$C$6:$D$112,2,0)","v":"Jakým způsobem se řídí (nejdůležitější) procesy v souvislosti s HSE&S?"}]
[null,null,null,null,{"$f":"'Technický list'!B17","v":"Q1.8"},{"$f":"'Technický list'!C17","v":3},{"$f":"VLOOKUP(E893,'Technický list'!$AU$10:$BD$25,10,0)","v":"-"},"n.a.",null,{"$f":"VLOOKUP(E893,'Kapitola 1'!$C$6:$D$112,2,0)","v":"Jakým způsobem top management zajišťuje neustálé zlepšování výkonu v oblasti HSE&S (zdraví, bezpečnosti, životního prostředí, energetiky a udržitelnosti)?"}]
[null,null,null,null,{"$f":"'Technický list'!B18","v":"Q1.9"},{"$f":"'Technický list'!C18","v":4},{"$f":"VLOOKUP(E894,'Technický list'!$AU$10:$BD$25,10,0)","v":"-"},"n.a.",null,{"$f":"VLOOKUP(E894,'Kapitola 1'!$C$6:$D$112,2,0)","v":"Jak jsou organizovány interní audity?"}]
[null,null,null,null,{"$f":"'Technický list'!B19","v":"Q1.10"},{"$f":"'Technický list'!C19","v":4},{"$f":"VLOOKUP(E895,'Technický list'!$AU$10:$BD$25,10,0)","v":"-"},"n.a.",null,{"$f":"VLOOKUP(E895,'Kapitola 1'!$C$6:$D$112,2,0)","v":"Jakým způsobem probíhá vyšetřování?"}]
[null,null,null,null,{"$f":"'Technický list'!B20","v":"Q1.11"},{"$f":"'Technický list'!C20","v":3},{"$f":"VLOOKUP(E896,'Technický list'!$AU$10:$BD$25,10,0)","v":"-"},"n.a.",null,{"$f":"VLOOKUP(E896,'Kapitola 1'!$C$6:$D$112,2,0)","v":"Jakým způsobem organizace zajišťuje procesy, čas a zdroje potřebné pro zlepšování procesů řízení HSE&S?"}]
[null,null,null,null,{"$f":"'Technický list'!B21","v":"Q1.12"},{"$f":"'Technický list'!C21","v":3},{"$f":"VLOOKUP(E897,'Technický list'!$AU$10:$BD$25,10,0)","v":"-"},"n.a.",null,{"$f":"VLOOKUP(E897,'Kapitola 1'!$C$6:$D$112,2,0)","v":"Jak organizace zajišťuje, že zaměstnanci jsou si vědomi politik a procesů týkajících se zdraví, bezpečnosti, životního prostředí, energetiky a udržitelnosti?"}]
[null,null,null,null,{"$f":"'Technický list'!B22","v":"Q1.13"},{"$f":"'Technický list'!C22","v":3},{"$f":"VLOOKUP(E898,'Technický list'!$AU$10:$BD$25,10,0)","v":"-"},"n.a.",null,{"$f":"VLOOKUP(E898,'Kapitola 1'!$C$6:$D$112,2,0)","v":"Jakým způsobem organizace zajišťuje správné kompetence pracovníků, pokud jde o aspekty HSE&S týkající se jejich práce?"}]
[null,null,null,null,{"$f":"'Technický list'!B23","v":"Q1.14"},{"$f":"'Technický list'!C23","v":3},{"$f":"VLOOKUP(E899,'Technický list'!$AU$10:$BD$25,10,0)","v":"-"},"n.a.",null,{"$f":"VLOOKUP(E899,'Kapitola 1'!$C$6:$D$112,2,0)","v":"Jaká je struktura zapojení zaměstnanců?"}]
[null,null,null,null,{"$f":"'Technický list'!B24","v":"Q1.15"},{"$f":"'Technický list'!C24","v":3},{"$f":"VLOOKUP(E900,'Technický list'!$AU$10:$BD$25,10,0)","v":"-"},"n.a.",null,{"$f":"VLOOKUP(E900,'Kapitola 1'!$C$6:$D$112,2,0)","v":"Jakým způsobem se řídí dokumentace HSE&S?"}]
[null,null,null,null,{"$f":"'Technický list'!B25","v":"Q1.16"},{"$f":"'Technický list'!C25","v":3},{"$f":"VLOOKUP(E901,'Technický list'!$AU$10:$BD$25,10,0)","v":"-"},"n.a.",null,{"$f":"VLOOKUP(E901,'Kapitola 1'!$C$6:$D$112,2,0)","v":"Jakým způsobem jsou řízeny změny potenciálně ovlivňující HSE&S (zdraví, bezpečnost, životní prostředí, energetiku a udržitelnost)?"}]
[null,null,null,null,"KAPITOLA 2: Ochrana lidí a životního prostředí"]
[null,null,null,null,{"$f":"'Technický list'!B124","v":"Q2.1"},{"$f":"'Technický list'!C124","v":3},{"$f":"VLOOKUP(E903,'Technický list'!$AU$124:$BD$168,10,0)","v":"-"},{"$f":"IF(G903=\"-\",\"n.a.\",IF(F903-G903>-1,\"compliant\",\"increase score\"))","v":"n.a."},null,{"$f":"VLOOKUP(E903,'Kapitola 2'!$C$6:$D$282,2,0)","v":"Jak se management zavázal k ochraně zdraví a bezpečnosti při práci (dále jen \"BOZP\")?"}]
[null,null,null,null,{"$f":"'Technický list'!B125","v":"Q2.2"},{"$f":"'Technický list'!C125","v":4},{"$f":"VLOOKUP(E904,'Technický list'!$AU$124:$BD$168,10,0)","v":"-"},"n.a.",null,{"$f":"VLOOKUP(E904,'Kapitola 2'!$C$6:$D$282,2,0)","v":"Jakým způsobem se určují rizika a expozice v souvislosti s BOZP?"}]
[null,null,null,null,{"$f":"'Technický list'!B126","v":"Q2.3"},{"$f":"'Technický list'!C126","v":3},{"$f":"VLOOKUP(E905,'Technický list'!$AU$124:$BD$168,10,0)","v":"-"},"n.a.",null,{"$f":"VLOOKUP(E905,'Kapitola 2'!$C$6:$D$282,2,0)","v":"Jakým způsobem se posuzují zdravotní požadavky?"}]
[null,null,null,null,{"$f":"'Technický list'!B127","v":"Q2.4"},{"$f":"'Technický list'!C127","v":4},{"$f":"VLOOKUP(E906,'Technický list'!$AU$124:$BD$168,10,0)","v":"-"},"n.a.",null,{"$f":"VLOOKUP(E906,'Kapitola 2'!$C$6:$D$282,2,0)","v":"Jakým způsobem zlepšuje organizace BOZP?"}]
[null,null,null,null,{"$f":"'Technický list'!B128","v":"Q2.5"},{"$f":"'Technický list'!C128","v":2},{"$f":"VLOOKUP(E907,'Technický list'!$AU$124:$BD$168,10,0)","v":"-"},"n.a.",null,{"$f":"VLOOKUP(E907,'Kapitola 2'!$C$6:$D$282,2,0)","v":"Jakým způsobem probíhá údržba a udržování pořádku s cílem zajistit bezpečnost provozů, zařízení, nástrojů a (bezpečnostních) pomůcek?"}]
[null,null,null,null,{"$f":"'Technický list'!B129","v":"Q2.6"},{"$f":"'Technický list'!C129","v":3},{"$f":"VLOOKUP(E908,'Technický list'!$AU$124:$BD$168,10,0)","v":"-"},"n.a.",null,{"$f":"VLOOKUP(E908,'Kapitola 2'!$C$6:$D$282,2,0)","v":"Jak se ověřuje správný výběr, údržba a používání zdravotního a bezpečnostního vybavení (např. osobních ochranných prostředků = OOPP)?"}]
[null,null,null,null,{"$f":"'Technický list'!B130","v":"Q2.7"},{"$f":"'Technický list'!C130","v":2},{"$f":"VLOOKUP(E909,'Technický list'!$AU$124:$BD$168,10,0)","v":"-"},"n.a.",null,{"$f":"VLOOKUP(E909,'Kapitola 2'!$C$6:$D$282,2,0)","v":"Jak se organizace stará o stres a tělesné a duševní zdraví zaměstnanců?"}]
[null,null,null,null,{"$f":"'Technický list'!B131","v":"Q2.8"},{"$f":"'Technický list'!C131","v":3},{"$f":"VLOOKUP(E910,'Technický list'!$AU$124:$BD$168,10,0)","v":"-"},"n.a.",null,{"$f":"VLOOKUP(E910,'Kapitola 2'!$C$6:$D$282,2,0)","v":"Jakým způsobem se vyšetřují onemocnění, zranění, incidenty a potenciálně nebezpečné situace na pracovišti?"}]
[null,null,null,null,{"$f":"'Technický list'!B132","v":"Q2.9"},{"$f":"'Technický list'!C132","v":4},{"$f":"VLOOKUP(E911,'Technický list'!$AU$124:$BD$168,10,0)","v":"-"},"n.a.",null,{"$f":"VLOOKUP(E911,'Kapitola 2'!$C$6:$D$282,2,0)","v":"Jak je organizace připravena na mimořádné události?"}]
[null,null,null,null,{"$f":"'Technický list'!B133","v":"Q2.10"},{"$f":"'Technický list'!C133","v":3},{"$f":"VLOOKUP(E912,'Technický list'!$AU$124:$BD$168,10,0)","v":"-"},"n.a.",null,{"$f":"VLOOKUP(E912,'Kapitola 2'!$C$6:$D$282,2,0)","v":"Jakým způsobem zajišťuje organizace správně kompetence všech pracovníků, týkající se požadavků BOZP, které souvisí s jejich pracovní náplní?"}]
[null,null,null,null,{"$f":"'Technický list'!B134","v":"Q2.11"},{"$f":"'Technický list'!C134","v":3},{"$f":"VLOOKUP(E913,'Technický list'!$AU$124:$BD$168,10,0)","v":"-"},"n.a.",null,{"$f":"VLOOKUP(E913,'Kapitola 2'!$C$6:$D$282,2,0)","v":"Jakým způsobem se vedení staví k procesní bezpečnosti?\n\n"}]
[null,null,null,null,{"$f":"'Technický list'!B135","v":"Q2.12"},{"$f":"'Technický list'!C135","v":4},{"$f":"VLOOKUP(E914,'Technický list'!$AU$124:$BD$168,10,0)","v":"-"},"n.a.",null,{"$f":"VLOOKUP(E914,'Kapitola 2'!$C$6:$D$282,2,0)","v":"Jakým způsobem je vypracována identifikace a popis bezpečnosti procesů, zařízení a pracovišť organizace?"}]
[null,null,null,null,{"$f":"'Technický list'!B136","v":"Q2.13"},{"$f":"'Technický list'!C136","v":3},{"$f":"VLOOKUP(E915,'Technický list'!$AU$124:$BD$168,10,0)","v":"-"},"n.a.",null,{"$f":"VLOOKUP(E915,'Kapitola 2'!$C$6:$D$282,2,0)","v":"Jakým způsobem se zlepšuje procesní bezpečnost po nehodách a incidentech?"}]
[null,null,null,null,{"$f":"'Technický list'!B137","v":"Q2.14"},{"$f":"'Technický list'!C137","v":1},{"$f":"VLOOKUP(E916,'Technický list'!$AU$124:$BD$168,10,0)","v":"-"},"n.a.",null,{"$f":"VLOOKUP(E916,'Kapitola 2'!$C$6:$D$282,2,0)","v":"Jakým způsobem se provádějí audity a inspekce procesní bezpečnosti?"}]
[null,null,null,null,{"$f":"'Technický list'!B138","v":"Q2.15"},{"$f":"'Technický list'!C138","v":3},{"$f":"VLOOKUP(E917,'Technický list'!$AU$124:$BD$168,10,0)","v":"-"},"n.a.",null,{"$f":"VLOOKUP(E917,'Kapitola 2'!$C$6:$D$282,2,0)","v":"Jakým způsobem se prověřují a zlepšují pracovní pokyny?"}]
[null,null,null,null,{"$f":"'Technický list'!B139","v":"Q2.16"},{"$f":"'Technický list'!C139","v":4},{"$f":"VLOOKUP(E918,'Technický list'!$AU$124:$BD$168,10,0)","v":"-"},"n.a.",null,{"$f":"VLOOKUP(E918,'Kapitola 2'!$C$6:$D$282,2,0)","v":"Jak je navrhována a dokumnetována instalace nových zařízení?"}]
[null,null,null,null,{"$f":"'Technický list'!B140","v":"Q2.17"},{"$f":"'Technický list'!C140","v":4},{"$f":"VLOOKUP(E919,'Technický list'!$AU$124:$BD$168,10,0)","v":"-"},"n.a.",null,{"$f":"VLOOKUP(E919,'Kapitola 2'!$C$6:$D$282,2,0)","v":"Jakým způsobem probíhá kontrola zřizování instalace?"}]
[null,null,null,null,{"$f":"'Technický list'!B141","v":"Q2.18"},{"$f":"'Technický list'!C141","v":3},{"$f":"VLOOKUP(E920,'Technický list'!$AU$124:$BD$168,10,0)","v":"-"},"n.a.",null,{"$f":"VLOOKUP(E920,'Kapitola 2'!$C$6:$D$282,2,0)","v":"Jakým způsobem je zaručena ochrana zařízení, aby jediná chyba neměla katastrofické následky?"}]
[null,null,null,null,{"$f":"'Technický list'!B142","v":"Q2.19"},{"$f":"'Technický list'!C142","v":3},{"$f":"VLOOKUP(E921,'Technický list'!$AU$124:$BD$168,10,0)","v":"-"},"n.a.",null,{"$f":"VLOOKUP(E921,'Kapitola 2'!$C$6:$D$282,2,0)","v":"Byly zřízeny programy preventivní údržby a péče, které zaručují bezpečnost provozů, nástrojů a zařízení?"}]
[null,null,null,null,{"$f":"'Technický list'!B143","v":"Q2.20"},{"$f":"'Technický list'!C143","v":4},{"$f":"VLOOKUP(E922,'Technický list'!$AU$124:$BD$168,10,0)","v":"-"},"n.a.",null,{"$f":"VLOOKUP(E922,'Kapitola 2'!$C$6:$D$282,2,0)","v":"Jakým způsobem se řídí procesy během mimořádných událostí v případě přerušení dodávky energie nebo služeb?"}]
[null,null,null,null,{"$f":"'Technický list'!B144","v":"Q2.21"},{"$f":"'Technický list'!C144","v":3},{"$f":"VLOOKUP(E923,'Technický list'!$AU$124:$BD$168,10,0)","v":"-"},"n.a.",null,{"$f":"VLOOKUP(E923,'Kapitola 2'!$C$6:$D$282,2,0)","v":"Jak se připravují havarijní plány?"}]
[null,null,null,null,{"$f":"'Technický list'!B145","v":"Q2.22"},{"$f":"'Technický list'!C145","v":2},{"$f":"VLOOKUP(E924,'Technický list'!$AU$124:$BD$168,10,0)","v":"-"},"n.a.",null,{"$f":"VLOOKUP(E924,'Kapitola 2'!$C$6:$D$282,2,0)","v":"Jakým způsobem jsou zabezpečeny kompetence a školení zaměstnanců a dodavatelů zapojených do procesů?"}]
[null,null,null,null,{"$f":"'Technický list'!B146","v":"Q2.23"},{"$f":"'Technický list'!C146","v":4},{"$f":"VLOOKUP(E925,'Technický list'!$AU$124:$BD$168,10,0)","v":"-"},"n.a.",null,{"$f":"VLOOKUP(E925,'Kapitola 2'!$C$6:$D$282,2,0)","v":"Jakým způsobem se sdílejí informace o rizicích látek a přípravků?"}]
[null,null,null,null,{"$f":"'Technický list'!B147","v":"Q2.24"},{"$f":"'Technický list'!C147","v":4},{"$f":"VLOOKUP(E926,'Technický list'!$AU$124:$BD$168,10,0)","v":"-"},"n.a.",null,{"$f":"VLOOKUP(E926,'Kapitola 2'!$C$6:$D$282,2,0)","v":"Jak se sdílejí informace o procesu?"}]
[null,null,null,null,{"$f":"'Technický list'!B148","v":"Q2.25"},{"$f":"'Technický list'!C148","v":3},{"$f":"VLOOKUP(E927,'Technický list'!$AU$124:$BD$168,10,0)","v":"-"},"n.a.",null,{"$f":"VLOOKUP(E927,'Kapitola 2'!$C$6:$D$282,2,0)","v":"Jakým způsobem organizace hodnotí své logistické partnery z hlediska HSE&S, energetické účinnosti a emisí skleníkových plynů?"}]
[null,null,null,null,{"$f":"'Technický list'!B149","v":"Q2.26"},{"$f":"'Technický list'!C149","v":4},{"$f":"VLOOKUP(E928,'Technický list'!$AU$124:$BD$168,10,0)","v":"-"},"n.a.",null,{"$f":"VLOOKUP(E928,'Kapitola 2'!$C$6:$D$282,2,0)","v":"Jakým způsobem organizace zabraňuje a reaguje na dopravní nehody?"}]
[null,null,null,null,{"$f":"'Technický list'!B150","v":"Q2.27"},{"$f":"'Technický list'!C150","v":4},{"$f":"VLOOKUP(E929,'Technický list'!$AU$124:$BD$168,10,0)","v":"-"},"n.a.",null,{"$f":"VLOOKUP(E929,'Kapitola 2'!$C$6:$D$282,2,0)","v":"Jakým způsobem organizace identifikuje bezpečnostní problémy?"}]
[null,null,null,null,{"$f":"'Technický list'!B151","v":"Q2.28"},{"$f":"'Technický list'!C151","v":4},{"$f":"VLOOKUP(E930,'Technický list'!$AU$124:$BD$168,10,0)","v":"-"},"n.a.",null,{"$f":"VLOOKUP(E930,'Kapitola 2'!$C$6:$D$282,2,0)","v":"Jakým způsobem se kontroluje příchod a odchod pracovníků a materiálu na pracovišti a v oblastech s omezeným vstupem?"}]
[null,null,null,null,{"$f":"'Technický list'!B152","v":"Q2.29"},{"$f":"'Technický list'!C152","v":4},{"$f":"VLOOKUP(E931,'Technický list'!$AU$124:$BD$168,10,0)","v":"-"},"n.a.",null,{"$f":"VLOOKUP(E931,'Kapitola 2'!$C$6:$D$282,2,0)","v":"Jakým způsobem se kontroluje kybernetická bezpečnost?"}]
[null,null,null,null,{"$f":"'Technický list'!B153","v":"Q2.30"},{"$f":"'Technický list'!C153","v":4},{"$f":"VLOOKUP(E932,'Technický list'!$AU$124:$BD$168,10,0)","v":"-"},"n.a.",null,{"$f":"VLOOKUP(E932,'Kapitola 2'!$C$6:$D$282,2,0)","v":"Jakým způsobem probíhá komunikace a výměna informací v případě bezpečnostní krize?"}]
[null,null,null,null,{"$f":"'Technický list'!B154","v":"Q2.31"},{"$f":"'Technický list'!C154","v":3},{"$f":"VLOOKUP(E933,'Technický list'!$AU$124:$BD$168,10,0)","v":"-"},"n.a.",null,{"$f":"VLOOKUP(E933,'Kapitola 2'!$C$6:$D$282,2,0)","v":"Jak se organizace vyrovnává s podezřelým chováním (včetně rizik radikalizace = souhlas a podopra extrémních názorů)"}]
[null,null,null,null,{"$f":"'Technický list'!B155","v":"Q2.32"},{"$f":"'Technický list'!C155","v":3},{"$f":"VLOOKUP(E934,'Technický list'!$AU$124:$BD$168,10,0)","v":"-"},"n.a.",null,{"$f":"VLOOKUP(E934,'Kapitola 2'!$C$6:$D$282,2,0)","v":"Jakým způsobem školí organizace pracovníky v oblasti ostrahy ve vazbě na bezpečnostní rizika?  "}]
[null,null,null,null,{"$f":"'Technický list'!B156","v":"Q2.33"},{"$f":"'Technický list'!C156","v":4},{"$f":"VLOOKUP(E935,'Technický list'!$AU$124:$BD$168,10,0)","v":"-"},"n.a.",null,{"$f":"VLOOKUP(E935,'Kapitola 2'!$C$6:$D$282,2,0)","v":"Jakým způsobem se posuzuje potenciální vliv organizace na životní prostředí?"}]
[null,null,null,null,{"$f":"'Technický list'!B157","v":"Q2.34"},{"$f":"'Technický list'!C157","v":4},{"$f":"VLOOKUP(E936,'Technický list'!$AU$124:$BD$168,10,0)","v":"-"},"n.a.",null,{"$f":"VLOOKUP(E936,'Kapitola 2'!$C$6:$D$282,2,0)","v":"Jakým způsobem se řídí environmentální výkonnost?"}]
[null,null,null,null,{"$f":"'Technický list'!B158","v":"Q2.35"},{"$f":"'Technický list'!C158","v":3},{"$f":"VLOOKUP(E937,'Technický list'!$AU$124:$BD$168,10,0)","v":"-"},"n.a.",null,{"$f":"VLOOKUP(E937,'Kapitola 2'!$C$6:$D$282,2,0)","v":"Jak organizace nakládá s odpadem?"}]
[null,null,null,null,{"$f":"'Technický list'!B159","v":"Q2.36"},{"$f":"'Technický list'!C159","v":3},{"$f":"VLOOKUP(E938,'Technický list'!$AU$124:$BD$168,10,0)","v":"-"},"n.a.",null,{"$f":"VLOOKUP(E938,'Kapitola 2'!$C$6:$D$282,2,0)","v":"Jakým způsobem řídí organizace rizika týkající se podzemních vod?"}]
[null,null,null,null,{"$f":"'Technický list'!B160","v":"Q2.37"},{"$f":"'Technický list'!C160","v":3},{"$f":"VLOOKUP(E939,'Technický list'!$AU$124:$BD$168,10,0)","v":"-"},"n.a.",null,{"$f":"VLOOKUP(E939,'Kapitola 2'!$C$6:$D$282,2,0)","v":"Jakým způsobem řídí organizace rizika týkající se znečištění půdy?"}]
[null,null,null,null,{"$f":"'Technický list'!B161","v":"Q2.38"},{"$f":"'Technický list'!C161","v":4},{"$f":"VLOOKUP(E940,'Technický list'!$AU$124:$BD$168,10,0)","v":"-"},"n.a.",null,{"$f":"VLOOKUP(E940,'Kapitola 2'!$C$6:$D$282,2,0)","v":"Jakým způsobem řídí organizace existující znečištění půdy?\n"}]
[null,null,null,null,{"$f":"'Technický list'!B162","v":"Q2.39"},{"$f":"'Technický list'!C162","v":3},{"$f":"VLOOKUP(E941,'Technický list'!$AU$124:$BD$168,10,0)","v":"-"},"n.a.",null,{"$f":"VLOOKUP(E941,'Kapitola 2'!$C$6:$D$282,2,0)","v":"Jakým způsobem organizace řídí své emise škodlivin do ovzduší?"}]
[null,null,null,null,{"$f":"'Technický list'!B163","v":"Q2.40"},{"$f":"'Technický list'!C163","v":4},{"$f":"VLOOKUP(E942,'Technický list'!$AU$124:$BD$168,10,0)","v":"-"},"n.a.",null,{"$f":"VLOOKUP(E942,'Kapitola 2'!$C$6:$D$282,2,0)","v":"Jakým způsobem organizace řídí své emise škodlivin do vody?"}]
[null,null,null,null,{"$f":"'Technický list'!B164","v":"Q2.41"},{"$f":"'Technický list'!C164","v":3},{"$f":"VLOOKUP(E943,'Technický list'!$AU$124:$BD$168,10,0)","v":"-"},"n.a.",null,{"$f":"VLOOKUP(E943,'Kapitola 2'!$C$6:$D$282,2,0)","v":"Jakým způsobem organizace řídí své emise hluku?"}]
[null,null,null,null,{"$f":"'Technický list'!B165","v":"Q2.42"},{"$f":"'Technický list'!C165","v":4},{"$f":"VLOOKUP(E944,'Technický list'!$AU$124:$BD$168,10,0)","v":"-"},"n.a.",null,{"$f":"VLOOKUP(E944,'Kapitola 2'!$C$6:$D$282,2,0)","v":"Jakým způsobem organizace řídí své emise zápachu?"}]
[null,null,null,null,{"$f":"'Technický list'!B166","v":"Q2.43"},{"$f":"'Technický list'!C166","v":4},{"$f":"VLOOKUP(E945,'Technický list'!$AU$124:$BD$168,10,0)","v":"-"},"n.a.",null,{"$f":"VLOOKUP(E945,'Kapitola 2'!$C$6:$D$282,2,0)","v":"Jakým způsobem organizace zabraňuje a řídí havarijní emise do prostředí?"}]
[null,null,null,null,{"$f":"'Technický list'!B167","v":"Q2.44"},{"$f":"'Technický list'!C167","v":4},{"$f":"VLOOKUP(E946,'Technický list'!$AU$124:$BD$168,10,0)","v":"-"},"n.a.",null,{"$f":"VLOOKUP(E946,'Kapitola 2'!$C$6:$D$282,2,0)","v":"Jakým způsobem zajišťuje organizace správně kompetence všech pracovníků, týkající se environmentálních požadavků, které souvisejí s jejich pracovní náplní?"}]
[null,null,null,null,{"$f":"'Technický list'!B168","v":"Q2.45"},{"$f":"'Technický list'!C168","v":3},{"$f":"VLOOKUP(E947,'Technický list'!$AU$124:$BD$168,10,0)","v":"-"},"n.a.",null,{"$f":"VLOOKUP(E947,'Kapitola 2'!$C$6:$D$282,2,0)","v":"Jakým způsobem jsou zainteresované strany organizace informovány o environmentálních aspektech a jejich možných dopadech?"}]
[null,null,null,null,"KAPITOLA 3: Posílení systémů řízení chemických látek"]
[null,null,null,null,{"$f":"'Technický list'!$B$406","v":"Q3.1"},{"$f":"'Technický list'!$C$406","v":3},{"$f":"VLOOKUP(E949,'Technický list'!$AU$406:$BD$418,10,0)","v":"-"},{"$f":"IF(G949=\"-\",\"n.a.\",IF(F949-G949>-1,\"compliant\",\"increase score\"))","v":"n.a."},null,{"$f":"VLOOKUP(E949,'Kapitola 3'!$C$6:$D$89,2,0)","v":"Zavedla organizace proces pro navrhování a vývoj nových \nproduktů a služeb?"}]
[null,null,null,null,{"$f":"'Technický list'!$B$407","v":"Q3.2"},{"$f":"'Technický list'!$C$407","v":2},{"$f":"VLOOKUP(E950,'Technický list'!$AU$406:$BD$418,10,0)","v":"-"},"n.a.",null,{"$f":"VLOOKUP(E950,'Kapitola 3'!$C$6:$D$89,2,0)","v":"Má organizace k dispozici proces hodnocení a stanovení priorit svých produktů pro charakterizaci rizik a řízení rizik?\n\n\n"}]
[null,null,null,null,{"$f":"'Technický list'!$B$408","v":"Q3.3"},{"$f":"'Technický list'!$C$408","v":3},{"$f":"VLOOKUP(E951,'Technický list'!$AU$406:$BD$418,10,0)","v":3},{"$f":"IF(G951=\"-\",\"n.a.\",IF(F951-G951>-1,\"v souladu\",\"zvyšte skóre\"))","v":"v souladu"},null,{"$f":"VLOOKUP(E951,'Kapitola 3'!$C$6:$D$89,2,0)","v":"Zavedla organizace systém pro sledování použitelnosti, změn a dodržování interních a externích požadavků souvisejících s řízením bezpečnosti chemických látek?"}]
[null,null,null,null,{"$f":"'Technický list'!$B$409","v":"Q3.4"},{"$f":"'Technický list'!$C$409","v":2},{"$f":"VLOOKUP(E952,'Technický list'!$AU$406:$BD$418,10,0)","v":"-"},"n.a.",null,{"$f":"VLOOKUP(E952,'Kapitola 3'!$C$6:$D$89,2,0)","v":"Zavedla organizace systém na správu existujících informací o rizicích svých produktů?"}]
[null,null,null,null,{"$f":"'Technický list'!$B$410","v":"Q3.5"},{"$f":"'Technický list'!$C$410","v":2},{"$f":"VLOOKUP(E953,'Technický list'!$AU$406:$BD$418,10,0)","v":"-"},"n.a.",null,{"$f":"VLOOKUP(E953,'Kapitola 3'!$C$6:$D$89,2,0)","v":"Zavedla organizace proces řízení informací o používání a expozici svých produktů?"}]
[null,null,null,null,{"$f":"'Technický list'!$B$411","v":"Q3.6"},{"$f":"'Technický list'!$C$411","v":4},{"$f":"VLOOKUP(E954,'Technický list'!$AU$406:$BD$418,10,0)","v":"-"},"n.a.",null,{"$f":"VLOOKUP(E954,'Kapitola 3'!$C$6:$D$89,2,0)","v":"Zavedla organizace proces na správu nových informací?"}]
[null,null,null,null,{"$f":"'Technický list'!$B$412","v":"Q3.7"},{"$f":"'Technický list'!$C$412","v":3},{"$f":"VLOOKUP(E955,'Technický list'!$AU$406:$BD$418,10,0)","v":"-"},"n.a.",null,{"$f":"VLOOKUP(E955,'Kapitola 3'!$C$6:$D$89,2,0)","v":"Zavedla organizace proces charakterizace rizik na základě shromážděných informací?"}]
[null,null,null,null,{"$f":"'Technický list'!$B$413","v":"Q3.8"},{"$f":"'Technický list'!$C$413","v":4},{"$f":"VLOOKUP(E956,'Technický list'!$AU$406:$BD$418,10,0)","v":1},{"$f":"IF(G956=\"-\",\"n.a.\",IF(F956-G956>-1,\"v souladu\",\"zvyšte skóre\"))","v":"v souladu"},null,{"$f":"VLOOKUP(E956,'Kapitola 3'!$C$6:$D$89,2,0)","v":"Zavedla organizace proces řízení rizik na základě shromážděných informací?"}]
[null,null,null,null,{"$f":"'Technický list'!$B$414","v":"Q3.9"},{"$f":"'Technický list'!$C$414","v":4},{"$f":"VLOOKUP(E957,'Technický list'!$AU$406:$BD$418,10,0)","v":"-"},"n.a.",null,{"$f":"VLOOKUP(E957,'Kapitola 3'!$C$6:$D$89,2,0)","v":"Zavedla organizace účinný proces sledování svých produktů po dodání a provádění nápravných opatření?\n"}]
[null,null,null,null,{"$f":"'Technický list'!$B$415","v":"Q3.10"},{"$f":"'Technický list'!$C$415","v":4},{"$f":"VLOOKUP(E958,'Technický list'!$AU$406:$BD$418,10,0)","v":1},{"$f":"IF(G958=\"-\",\"n.a.\",IF(F958-G958>-1,\"v souladu\",\"zvyšte skóre\"))","v":"v souladu"},null,{"$f":"VLOOKUP(E958,'Kapitola 3'!$C$6:$D$89,2,0)","v":"Poskytuje organizace efektivní komunikaci v rámci dodavatelského řetězce ohledně opatření k řízení rizik, které se vztahují na jejich produkty?"}]
[null,null,null,null,"KAPITOLA 4: Působení na obchodní partnery"]
[null,null,null,null,{"$f":"'Technický list'!B482","v":"Q4.1"},{"$f":"'Technický list'!C482","v":3},{"$f":"VLOOKUP(E960,'Technický list'!$AU$482:$BD$489,10,0)","v":"-"},{"$f":"IF(G960=\"-\",\"n.a.\",IF(F960-G960>-1,\"compliant\",\"increase score\"))","v":"n.a."},null,{"$f":"VLOOKUP(E960,'Kapitola 4'!$C$6:$D$91,2,0)","v":"Jak se organizace zavázala k odpovědnému získávání zdrojů?"}]
[null,null,null,null,{"$f":"'Technický list'!B483","v":"Q4.2"},{"$f":"'Technický list'!C483","v":4},{"$f":"VLOOKUP(E961,'Technický list'!$AU$482:$BD$489,10,0)","v":"-"},"n.a.",null,{"$f":"VLOOKUP(E961,'Kapitola 4'!$C$6:$D$91,2,0)","v":"Jak organizace zlepšuje spolupráci v dodavatelském řetězci?"}]
[null,null,null,null,{"$f":"'Technický list'!B484","v":"Q4.3"},{"$f":"'Technický list'!C484","v":3},{"$f":"VLOOKUP(E962,'Technický list'!$AU$482:$BD$489,10,0)","v":"-"},"n.a.",null,{"$f":"VLOOKUP(E962,'Kapitola 4'!$C$6:$D$91,2,0)","v":"Jakým způsobem vyjadřuje organizace svůj závazek vůči podnikatelské etice?"}]
[null,null,null,null,{"$f":"'Technický list'!B485","v":"Q4.4"},{"$f":"'Technický list'!C485","v":2},{"$f":"VLOOKUP(E963,'Technický list'!$AU$482:$BD$489,10,0)","v":"-"},"n.a.",null,{"$f":"VLOOKUP(E963,'Kapitola 4'!$C$6:$D$91,2,0)","v":"Jakým způsobem řeší organizace sociální problematiku a lidská práva v rámci spolupráce s obchodními partnery?"}]
[null,null,null,null,{"$f":"'Technický list'!B486","v":"Q4.5"},{"$f":"'Technický list'!C486","v":4},{"$f":"VLOOKUP(E964,'Technický list'!$AU$482:$BD$489,10,0)","v":"-"},"n.a.",null,{"$f":"VLOOKUP(E964,'Kapitola 4'!$C$6:$D$91,2,0)","v":"Jakým způsobem zabraňuje organizace dětské práci?\nOrganizace\n1-\tzavedla systém ověřování věku; \n2-\tnezaměstnává děti mladší 15 let (v závislosti na místní legislativy). Jedinou výjimku představují učni, školní praxe nebo vzdělávací stáže; \n3-\tzaručuje, aby pracovní náplň osob mladších než 18 let neovlivňovala jejich školní docházku (doba strávená dopravou do práce a školy a z práce a školy, školní docházkou a prací je méně než 10 hodin denně );\n4-\tzajišťuje, že pracovní náplň mladých pracovníků není duševně, fyzicky, společensky ani morálně nebezpečná a škodlivá."}]
[null,null,null,null,{"$f":"'Technický list'!B487","v":"Q4.6"},{"$f":"'Technický list'!C487","v":3},{"$f":"VLOOKUP(E965,'Technický list'!$AU$482:$BD$489,10,0)","v":"-"},"n.a.",null,{"$f":"VLOOKUP(E965,'Kapitola 4'!$C$6:$D$91,2,0)","v":"Jakým způsobem zabezpečuje organizace splnění svých požadavků ze strany logistických partnerů?"}]
[null,null,null,null,{"$f":"'Technický list'!B488","v":"Q4.7"},{"$f":"'Technický list'!C488","v":1},{"$f":"VLOOKUP(E966,'Technický list'!$AU$482:$BD$489,10,0)","v":"-"},"n.a.",null,{"$f":"VLOOKUP(E966,'Kapitola 4'!$C$6:$D$91,2,0)","v":"Jakým způsobem organizace chrání a zabezpečuje majetek a údaje následných uživatelů nebo externích poskytovatelů, které se používají nebo začleňují do produktů a služeb?"}]
[null,null,null,null,{"$f":"'Technický list'!B489","v":"Q4.8"},{"$f":"'Technický list'!C489","v":4},{"$f":"VLOOKUP(E967,'Technický list'!$AU$482:$BD$489,10,0)","v":"-"},"n.a.",null,{"$f":"VLOOKUP(E967,'Kapitola 4'!$C$6:$D$91,2,0)","v":"Co zahrnuje dialog s následnými uživateli?"}]
[null,null,null,null,"KAPITOLA 5: Zapojení zainteresovaných stran"]
[null,null,null,null,{"$f":"'Technický list'!B544","v":"Q5.1"},{"$f":"'Technický list'!C544","v":3},{"$f":"VLOOKUP(E969,'Technický list'!$AU$544:$BD$548,10,0)","v":"-"},{"$f":"IF(G969=\"-\",\"n.a.\",IF(F969-G969>-1,\"compliant\",\"increase score\"))","v":"n.a."},null,{"$f":"VLOOKUP(E969,'Kapitola 5'!$C$6:$D$89,2,0)","v":"Jakým způsobem zapojuje organizace své externí zainteresované strany a naplňuje jejich očekávání?"}]
[null,null,null,null,{"$f":"'Technický list'!B545","v":"Q5.2"},{"$f":"'Technický list'!C545","v":4},{"$f":"VLOOKUP(E970,'Technický list'!$AU$544:$BD$548,10,0)","v":"-"},"n.a.",null,{"$f":"VLOOKUP(E970,'Kapitola 5'!$C$6:$D$89,2,0)","v":"Jakým způsobem vede organizace dialog s veřejností, úřady a dalšími zainteresovanými stranami, včetně místních komunit a zákazníků v souvislosti s HSE&S v rámci jejich činností, produktů a služeb?"}]
[null,null,null,null,{"$f":"'Technický list'!B546","v":"Q5.3"},{"$f":"'Technický list'!C546","v":2},{"$f":"VLOOKUP(E971,'Technický list'!$AU$544:$BD$548,10,0)","v":"-"},"n.a.",null,{"$f":"VLOOKUP(E971,'Kapitola 5'!$C$6:$D$89,2,0)","v":"Jakým způsobem zveřejňuje organizace informace týkající se\n HSE&S?"}]
[null,null,null,null,{"$f":"'Technický list'!B547","v":"Q5.4"},{"$f":"'Technický list'!C547","v":2},{"$f":"VLOOKUP(E972,'Technický list'!$AU$544:$BD$548,10,0)","v":"-"},"n.a.",null,{"$f":"VLOOKUP(E972,'Kapitola 5'!$C$6:$D$89,2,0)","v":"Jakým způsobem podporuje organizace místní komunity?"}]
[null,null,null,null,{"$f":"'Technický list'!B548","v":"Q5.5"},{"$f":"'Technický list'!C548","v":3},{"$f":"VLOOKUP(E973,'Technický list'!$AU$544:$BD$548,10,0)","v":"-"},"n.a.",null,{"$f":"VLOOKUP(E973,'Kapitola 5'!$C$6:$D$89,2,0)","v":"Jakým způsobem stimuluje organizace místní zaměstnanost a vzdělávání?"}]
[null,null,null,null,"KAPITOLA 6: Přispívání k udržitelnosti"]
[null,null,null,null,{"$f":"'Technický list'!B584","v":"Q6.1"},{"$f":"'Technický list'!C584","v":2},{"$f":"VLOOKUP(E975,'Technický list'!$AU$584:$BD$600,10,0)","v":"-"},{"$f":"IF(G975=\"-\",\"n.a.\",IF(F975-G975>-1,\"compliant\",\"increase score\"))","v":"n.a."},null,{"$f":"VLOOKUP(E975,'Kapitola 6'!$C$6:$D$120,2,0)","v":"Jakým způsobem definuje organizace významné problémy a závažnost?"}]
[null,null,null,null,{"$f":"'Technický list'!B585","v":"Q6.2"},{"$f":"'Technický list'!C585","v":2},{"$f":"VLOOKUP(E976,'Technický list'!$AU$584:$BD$600,10,0)","v":"-"},{"$f":"IF(G976=\"-\",\"n.a.\",IF(F976-G976>-1,\"compliant\",\"increase score\"))","v":"n.a."},null,{"$f":"VLOOKUP(E976,'Kapitola 6'!$C$6:$D$120,2,0)","v":"Jakým způsobem hodlá organizace přispívat k udržitelnému rozvoji?"}]
[null,null,null,null,{"$f":"'Technický list'!B586","v":"Q6.3"},{"$f":"'Technický list'!C586","v":3},{"$f":"VLOOKUP(E977,'Technický list'!$AU$584:$BD$600,10,0)","v":"-"},"n.a.",null,{"$f":"VLOOKUP(E977,'Kapitola 6'!$C$6:$D$120,2,0)","v":"Jakým způsobem komunikuje organizace zainteresovaných stran na téma udržitelnosti?"}]
[null,null,null,null,{"$f":"'Technický list'!B587","v":"Q6.4"},{"$f":"'Technický list'!C587","v":2},{"$f":"VLOOKUP(E978,'Technický list'!$AU$584:$BD$600,10,0)","v":"-"},"n.a.",null,{"$f":"VLOOKUP(E978,'Kapitola 6'!$C$6:$D$120,2,0)","v":"Má organizace zavedený proces navrhování výrobků s lepšími výsledky udržitelnosti?"}]
[null,null,null,null,{"$f":"'Technický list'!B588","v":"Q6.5"},{"$f":"'Technický list'!C588","v":2},{"$f":"VLOOKUP(E979,'Technický list'!$AU$584:$BD$600,10,0)","v":"-"},"n.a.",null,{"$f":"VLOOKUP(E979,'Kapitola 6'!$C$6:$D$120,2,0)","v":"Jakým způsobem zvyšuje organizace efektivnost zdrojů ve svých výrobních procesech?"}]
[null,null,null,null,{"$f":"'Technický list'!B589","v":"Q6.6"},{"$f":"'Technický list'!C589","v":1},{"$f":"VLOOKUP(E980,'Technický list'!$AU$584:$BD$600,10,0)","v":"-"},"n.a.",null,{"$f":"VLOOKUP(E980,'Kapitola 6'!$C$6:$D$120,2,0)","v":"Jakým způsobem stimuluje organizace oběhové hospodářství prostřednictvím svých produktů?"}]
[null,null,null,null,{"$f":"'Technický list'!B590","v":"Q6.7"},{"$f":"'Technický list'!C590","v":3},{"$f":"VLOOKUP(E981,'Technický list'!$AU$584:$BD$600,10,0)","v":"-"},"n.a.",null,{"$f":"VLOOKUP(E981,'Kapitola 6'!$C$6:$D$120,2,0)","v":"Jakým způsobem podporuje organizace inovace při vývoji produktů a řešení, které odpovídají výzvám udržitelnosti?"}]
[null,null,null,null,{"$f":"'Technický list'!B591","v":"Q6.8"},{"$f":"'Technický list'!C591","v":3},{"$f":"VLOOKUP(E982,'Technický list'!$AU$584:$BD$600,10,0)","v":"-"},"n.a.",null,{"$f":"VLOOKUP(E982,'Kapitola 6'!$C$6:$D$120,2,0)","v":"Jakým způsobem stimuluje organizace inovaci a spolupráci?"}]
[null,null,null,null,{"$f":"'Technický list'!B592","v":"Q6.9"},{"$f":"'Technický list'!C592","v":1},{"$f":"VLOOKUP(E983,'Technický list'!$AU$584:$BD$600,10,0)","v":"-"},"n.a.",null,{"$f":"VLOOKUP(E983,'Kapitola 6'!$C$6:$D$120,2,0)","v":"Jakým způsobem podporuje organizace udržitelné způsoby spotřeby?"}]
[null,null,null,null,{"$f":"'Technický list'!B593","v":"Q6.10"},{"$f":"'Technický list'!C593","v":2},{"$f":"VLOOKUP(E984,'Technický list'!$AU$584:$BD$600,10,0)","v":"-"},"n.a.",null,{"$f":"VLOOKUP(E984,'Kapitola 6'!$C$6:$D$120,2,0)","v":"Jakým způsobem organizace kontroluje a optimalizuje spotřebu vody?"}]
[null,null,null,null,{"$f":"'Technický list'!B594","v":"Q6.11"},{"$f":"'Technický list'!C594","v":3},{"$f":"VLOOKUP(E985,'Technický list'!$AU$584:$BD$600,10,0)","v":"-"},"n.a.",null,{"$f":"VLOOKUP(E985,'Kapitola 6'!$C$6:$D$120,2,0)","v":"Jakým způsobem se řídí vliv organizace na biodiverzitu a ekosystém?"}]
[null,null,null,null,{"$f":"'Technický list'!B595","v":"Q6.12"},{"$f":"'Technický list'!C595","v":1},{"$f":"VLOOKUP(E986,'Technický list'!$AU$584:$BD$600,10,0)","v":"-"},"n.a.",null,{"$f":"VLOOKUP(E986,'Kapitola 6'!$C$6:$D$120,2,0)","v":"Jakým způsobem posuzuje organizace svou závislost na přírodních zdrojích (ekosystémech)?"}]
[null,null,null,null,{"$f":"'Technický list'!B596","v":"Q6.13"},{"$f":"'Technický list'!C596","v":2},{"$f":"VLOOKUP(E987,'Technický list'!$AU$584:$BD$600,10,0)","v":"-"},"n.a.",null,{"$f":"VLOOKUP(E987,'Kapitola 6'!$C$6:$D$120,2,0)","v":"Jakým způsobem řídí organizace svou spotřebu energie?"}]
[null,null,null,null,{"$f":"'Technický list'!B597","v":"Q6.14"},{"$f":"'Technický list'!C597","v":3},{"$f":"VLOOKUP(E988,'Technický list'!$AU$584:$BD$600,10,0)","v":"-"},"n.a.",null,{"$f":"VLOOKUP(E988,'Kapitola 6'!$C$6:$D$120,2,0)","v":"Jakým způsobem řídí organizace emise skleníkových plynů (kromě úspor energie)?"}]
[null,null,null,null,{"$f":"'Technický list'!B598","v":"Q6.15"},{"$f":"'Technický list'!C598","v":2},{"$f":"VLOOKUP(E989,'Technický list'!$AU$584:$BD$600,10,0)","v":"-"},"n.a.",null,{"$f":"VLOOKUP(E989,'Kapitola 6'!$C$6:$D$120,2,0)","v":"Jaká je strategie organizace na snižování emisí skleníkových plynů?"}]
[null,null,null,null,{"$f":"'Technický list'!B599","v":"Q6.16"},{"$f":"'Technický list'!C599","v":2},{"$f":"VLOOKUP(E990,'Technický list'!$AU$584:$BD$600,10,0)","v":"-"},"n.a.",null,{"$f":"VLOOKUP(E990,'Kapitola 6'!$C$6:$D$120,2,0)","v":"Jakým způsobem se organizace připravuje na klimatické změny? "}]
[null,null,null,null,{"$f":"'Technický list'!B600","v":"Q6.17"},{"$f":"'Technický list'!C600","v":3},{"$f":"VLOOKUP(E991,'Technický list'!$AU$584:$BD$600,10,0)","v":"-"},"n.a.",null,{"$f":"VLOOKUP(E991,'Kapitola 6'!$C$6:$D$120,2,0)","v":"Jak organizace zajišťuje rovné příležitosti při náboru a během kariéry všech?"}]

{"sheet":"Zpráva SDG","index":13,"n_rows":109,"n_cols":22,"rows_kept":109,"cut":false,"hidden":false,"merged":[]}
[]
[null,null,null,"Vaše odpověď"]
[]
[null,{"$f":"'SDG – Technický list '!B3","v":"Q1.1"},{"$f":"VLOOKUP(B4,'Kapitola 1'!$C$6:$D$112,2,0)","v":"Jak se projevuje závazek plnit povinnosti týkající se dodržování předpisů a zásad Responsible Care = RC (tj. ochrana a podpora zdraví a bezpečnost lidí, životního prostředí a udržitelnosti) na všech úrovních organizace?\n"},{"$f":"'SDG – Technický list '!C3","v":4},{"$f":"COUNTIF(F4:V4,\"\")","v":17},{"$f":"IF('SDG – Technický list '!D3=\"\",\"\",IF($D4=\"\",\"please complete\",IF($D4>'SDG – Technický list '!D3-1,\":-)\",CONCATENATE(\"increase until \",'SDG – Technický list '!D3))))","v":""},{"$f":"IF('SDG – Technický list '!E3=\"\",\"\",IF($D4=\"\",\"please complete\",IF($D4>'SDG – Technický list '!E3-1,\":-)\",CONCATENATE(\"increase until \",'SDG – Technický list '!E3))))","v":""},{"$f":"IF('SDG – Technický list '!F3=\"\",\"\",IF($D4=\"\",\"please complete\",IF($D4>'SDG – Technický list '!F3-1,\":-)\",CONCATENATE(\"increase until \",'SDG – Technický list '!F3))))","v":""},{"$f":"IF('SDG – Technický list '!G3=\"\",\"\",IF($D4=\"\",\"please complete\",IF($D4>'SDG – Technický list '!G3-1,\":-)\",CONCATENATE(\"increase until \",'SDG – Technický list '!G3))))","v":""},{"$f":"IF('SDG – Technický list '!H3=\"\",\"\",IF($D4=\"\",\"please complete\",IF($D4>'SDG – Technický list '!H3-1,\":-)\",CONCATENATE(\"increase until \",'SDG – Technický list '!H3))))","v":""},{"$f":"IF('SDG – Technický list '!I3=\"\",\"\",IF($D4=\"\",\"please complete\",IF($D4>'SDG – Technický list '!I3-1,\":-)\",CONCATENATE(\"increase until \",'SDG – Technický list '!I3))))","v":""},{"$f":"IF('SDG – Technický list '!J3=\"\",\"\",IF($D4=\"\",\"please complete\",IF($D4>'SDG – Technický list '!J3-1,\":-)\",CONCATENATE(\"increase until \",'SDG – Technický list '!J3))))","v":""},{"$f":"IF('SDG – Technický list '!K3=\"\",\"\",IF($D4=\"\",\"please complete\",IF($D4>'SDG – Technický list '!K3-1,\":-)\",CONCATENATE(\"increase until \",'SDG – Technický list '!K3))))","v":""},{"$f":"IF('SDG – Technický list '!L3=\"\",\"\",IF($D4=\"\",\"please complete\",IF($D4>'SDG – Technický list '!L3-1,\":-)\",CONCATENATE(\"increase until \",'SDG – Technický list '!L3))))","v":""},{"$f":"IF('SDG – Technický list '!M3=\"\",\"\",IF($D4=\"\",\"please complete\",IF($D4>'SDG – Technický list '!M3-1,\":-)\",CONCATENATE(\"increase until \",'SDG – Technický list '!M3))))","v":""},{"$f":"IF('SDG – Technický list '!N3=\"\",\"\",IF($D4=\"\",\"please complete\",IF($D4>'SDG – Technický list '!N3-1,\":-)\",CONCATENATE(\"increase until \",'SDG – Technický list '!N3))))","v":""},{"$f":"IF('SDG – Technický list '!O3=\"\",\"\",IF($D4=\"\",\"please complete\",IF($D4>'SDG – Technický list '!O3-1,\":-)\",CONCATENATE(\"increase until \",'SDG – Technický list '!O3))))","v":""},{"$f":"IF('SDG – Technický list '!P3=\"\",\"\",IF($D4=\"\",\"please complete\",IF($D4>'SDG – Technický list '!P3-1,\":-)\",CONCATENATE(\"increase until \",'SDG – Technický list '!P3))))","v":""},{"$f":"IF('SDG – Technický list '!Q3=\"\",\"\",IF($D4=\"\",\"please complete\",IF($D4>'SDG – Technický list '!Q3-1,\":-)\",CONCATENATE(\"increase until \",'SDG – Technický list '!Q3))))","v":""},{"$f":"IF('SDG – Technický list '!R3=\"\",\"\",IF($D4=\"\",\"please complete\",IF($D4>'SDG – Technický list '!R3-1,\":-)\",CONCATENATE(\"increase until \",'SDG – Technický list '!R3))))","v":""},{"$f":"IF('SDG – Technický list '!S3=\"\",\"\",IF($D4=\"\",\"please complete\",IF($D4>'SDG – Technický list '!S3-1,\":-)\",CONCATENATE(\"increase until \",'SDG – Technický list '!S3))))","v":""},{"$f":"IF('SDG – Technický list '!T3=\"\",\"\",IF($D4=\"\",\"please complete\",IF($D4>'SDG – Technický list '!T3-1,\":-)\",CONCATENATE(\"increase until \",'SDG – Technický list '!T3))))","v":""}]
[null,{"$f":"'SDG – Technický list '!B4","v":"Q1.2"},{"$f":"VLOOKUP(B5,'Kapitola 1'!$C$6:$D$112,2,0)","v":"Jakým způsobem řídí organizace příslušná rizika a příležitosti?  "},{"$f":"'SDG – Technický list '!C4","v":4},{"$f":"COUNTIF(F5:V5,\"\")","v":17},{"$f":"IF('SDG – Technický list '!D4=\"\",\"\",IF($D5=\"\",\"please complete\",IF($D5>'SDG – Technický list '!D4-1,\":-)\",CONCATENATE(\"increase until \",'SDG – Technický list '!D4))))","v":""},{"$f":"IF('SDG – Technický list '!E4=\"\",\"\",IF($D5=\"\",\"please complete\",IF($D5>'SDG – Technický list '!E4-1,\":-)\",CONCATENATE(\"increase until \",'SDG – Technický list '!E4))))","v":""},{"$f":"IF('SDG – Technický list '!F4=\"\",\"\",IF($D5=\"\",\"please complete\",IF($D5>'SDG – Technický list '!F4-1,\":-)\",CONCATENATE(\"increase until \",'SDG – Technický list '!F4))))","v":""},{"$f":"IF('SDG – Technický list '!G4=\"\",\"\",IF($D5=\"\",\"please complete\",IF($D5>'SDG – Technický list '!G4-1,\":-)\",CONCATENATE(\"increase until \",'SDG – Technický list '!G4))))","v":""},{"$f":"IF('SDG – Technický list '!H4=\"\",\"\",IF($D5=\"\",\"please complete\",IF($D5>'SDG – Technický list '!H4-1,\":-)\",CONCATENATE(\"increase until \",'SDG – Technický list '!H4))))","v":""},{"$f":"IF('SDG – Technický list '!I4=\"\",\"\",IF($D5=\"\",\"please complete\",IF($D5>'SDG – Technický list '!I4-1,\":-)\",CONCATENATE(\"increase until \",'SDG – Technický list '!I4))))","v":""},{"$f":"IF('SDG – Technický list '!J4=\"\",\"\",IF($D5=\"\",\"please complete\",IF($D5>'SDG – Technický list '!J4-1,\":-)\",CONCATENATE(\"increase until \",'SDG – Technický list '!J4))))","v":""},{"$f":"IF('SDG – Technický list '!K4=\"\",\"\",IF($D5=\"\",\"please complete\",IF($D5>'SDG – Technický list '!K4-1,\":-)\",CONCATENATE(\"increase until \",'SDG – Technický list '!K4))))","v":""},{"$f":"IF('SDG – Technický list '!L4=\"\",\"\",IF($D5=\"\",\"please complete\",IF($D5>'SDG – Technický list '!L4-1,\":-)\",CONCATENATE(\"increase until \",'SDG – Technický list '!L4))))","v":""},{"$f":"IF('SDG – Technický list '!M4=\"\",\"\",IF($D5=\"\",\"please complete\",IF($D5>'SDG – Technický list '!M4-1,\":-)\",CONCATENATE(\"increase until \",'SDG – Technický list '!M4))))","v":""},{"$f":"IF('SDG – Technický list '!N4=\"\",\"\",IF($D5=\"\",\"please complete\",IF($D5>'SDG – Technický list '!N4-1,\":-)\",CONCATENATE(\"increase until \",'SDG – Technický list '!N4))))","v":""},{"$f":"IF('SDG – Technický list '!O4=\"\",\"\",IF($D5=\"\",\"please complete\",IF($D5>'SDG – Technický list '!O4-1,\":-)\",CONCATENATE(\"increase until \",'SDG – Technický list '!O4))))","v":""},{"$f":"IF('SDG – Technický list '!P4=\"\",\"\",IF($D5=\"\",\"please complete\",IF($D5>'SDG – Technický list '!P4-1,\":-)\",CONCATENATE(\"increase until \",'SDG – Technický list '!P4))))","v":""},{"$f":"IF('SDG – Technický list '!Q4=\"\",\"\",IF($D5=\"\",\"please complete\",IF($D5>'SDG – Technický list '!Q4-1,\":-)\",CONCATENATE(\"increase until \",'SDG – Technický list '!Q4))))","v":""},{"$f":"IF('SDG – Technický list '!R4=\"\",\"\",IF($D5=\"\",\"please complete\",IF($D5>'SDG – Technický list '!R4-1,\":-)\",CONCATENATE(\"increase until \",'SDG – Technický list '!R4))))","v":""},{"$f":"IF('SDG – Technický list '!S4=\"\",\"\",IF($D5=\"\",\"please complete\",IF($D5>'SDG – Technický list '!S4-1,\":-)\",CONCATENATE(\"increase until \",'SDG – Technický list '!S4))))","v":""},{"$f":"IF('SDG – Technický list '!T4=\"\",\"\",IF($D5=\"\",\"please complete\",IF($D5>'SDG – Technický list '!T4-1,\":-)\",CONCATENATE(\"increase until \",'SDG – Technický list '!T4))))","v":""}]
[null,{"$f":"'SDG – Technický list '!B5","v":"Q1.3"},{"$f":"VLOOKUP(B6,'Kapitola 1'!$C$6:$D$112,2,0)","v":"Jakým způsobem monitoruje organizace svoje zákonné povinnosti? "},{"$f":"'SDG – Technický list '!C5","v":4},17,{"$f":"IF('SDG – Technický list '!D5=\"\",\"\",IF($D6=\"\",\"please complete\",IF($D6>'SDG – Technický list '!D5-1,\":-)\",CONCATENATE(\"increase until \",'SDG – Technický list '!D5))))","v":""},{"$f":"IF('SDG – Technický list '!E5=\"\",\"\",IF($D6=\"\",\"please complete\",IF($D6>'SDG – Technický list '!E5-1,\":-)\",CONCATENATE(\"increase until \",'SDG – Technický list '!E5))))","v":""},{"$f":"IF('SDG – Technický list '!F5=\"\",\"\",IF($D6=\"\",\"please complete\",IF($D6>'SDG – Technický list '!F5-1,\":-)\",CONCATENATE(\"increase until \",'SDG – Technický list '!F5))))","v":""},{"$f":"IF('SDG – Technický list '!G5=\"\",\"\",IF($D6=\"\",\"please complete\",IF($D6>'SDG – Technický list '!G5-1,\":-)\",CONCATENATE(\"increase until \",'SDG – Technický list '!G5))))","v":""},{"$f":"IF('SDG – Technický list '!H5=\"\",\"\",IF($D6=\"\",\"please complete\",IF($D6>'SDG – Technický list '!H5-1,\":-)\",CONCATENATE(\"increase until \",'SDG – Technický list '!H5))))","v":""},{"$f":"IF('SDG – Technický list '!I5=\"\",\"\",IF($D6=\"\",\"please complete\",IF($D6>'SDG – Technický list '!I5-1,\":-)\",CONCATENATE(\"increase until \",'SDG – Technický list '!I5))))","v":""},{"$f":"IF('SDG – Technický list '!J5=\"\",\"\",IF($D6=\"\",\"please complete\",IF($D6>'SDG – Technický list '!J5-1,\":-)\",CONCATENATE(\"increase until \",'SDG – Technický list '!J5))))","v":""},{"$f":"IF('SDG – Technický list '!K5=\"\",\"\",IF($D6=\"\",\"please complete\",IF($D6>'SDG – Technický list '!K5-1,\":-)\",CONCATENATE(\"increase until \",'SDG – Technický list '!K5))))","v":""},{"$f":"IF('SDG – Technický list '!L5=\"\",\"\",IF($D6=\"\",\"please complete\",IF($D6>'SDG – Technický list '!L5-1,\":-)\",CONCATENATE(\"increase until \",'SDG – Technický list '!L5))))","v":""},{"$f":"IF('SDG – Technický list '!M5=\"\",\"\",IF($D6=\"\",\"please complete\",IF($D6>'SDG – Technický list '!M5-1,\":-)\",CONCATENATE(\"increase until \",'SDG – Technický list '!M5))))","v":""},{"$f":"IF('SDG – Technický list '!N5=\"\",\"\",IF($D6=\"\",\"please complete\",IF($D6>'SDG – Technický list '!N5-1,\":-)\",CONCATENATE(\"increase until \",'SDG – Technický list '!N5))))","v":""},{"$f":"IF('SDG – Technický list '!O5=\"\",\"\",IF($D6=\"\",\"please complete\",IF($D6>'SDG – Technický list '!O5-1,\":-)\",CONCATENATE(\"increase until \",'SDG – Technický list '!O5))))","v":""},{"$f":"IF('SDG – Technický list '!P5=\"\",\"\",IF($D6=\"\",\"please complete\",IF($D6>'SDG – Technický list '!P5-1,\":-)\",CONCATENATE(\"increase until \",'SDG – Technický list '!P5))))","v":""},{"$f":"IF('SDG – Technický list '!Q5=\"\",\"\",IF($D6=\"\",\"please complete\",IF($D6>'SDG – Technický list '!Q5-1,\":-)\",CONCATENATE(\"increase until \",'SDG – Technický list '!Q5))))","v":""},{"$f":"IF('SDG – Technický list '!R5=\"\",\"\",IF($D6=\"\",\"please complete\",IF($D6>'SDG – Technický list '!R5-1,\":-)\",CONCATENATE(\"increase until \",'SDG – Technický list '!R5))))","v":""},{"$f":"IF('SDG – Technický list '!S5=\"\",\"\",IF($D6=\"\",\"please complete\",IF($D6>'SDG – Technický list '!S5-1,\":-)\",CONCATENATE(\"increase until \",'SDG – Technický list '!S5))))","v":""},{"$f":"IF('SDG – Technický list '!T5=\"\",\"\",IF($D6=\"\",\"please complete\",IF($D6>'SDG – Technický list '!T5-1,\":-)\",CONCATENATE(\"increase until \",'SDG – Technický list '!T5))))","v":""}]
[null,{"$f":"'SDG – Technický list '!B6","v":"Q1.4"},{"$f":"VLOOKUP(B7,'Kapitola 1'!$C$6:$D$112,2,0)","v":"Jakým způsobem top management zajišťuje, že jednotlivé aspekty HSE&S (zdraví, bezpečnosti, ochrany životního prostředí & udržitelnosti) jsou přiřazeny stanoveným rolím v organizaci?"},{"$f":"'SDG – Technický list '!C6","v":3},17,{"$f":"IF('SDG – Technický list '!D6=\"\",\"\",IF($D7=\"\",\"please complete\",IF($D7>'SDG – Technický list '!D6-1,\":-)\",CONCATENATE(\"increase until \",'SDG – Technický list '!D6))))","v":""},{"$f":"IF('SDG – Technický list '!E6=\"\",\"\",IF($D7=\"\",\"please complete\",IF($D7>'SDG – Technický list '!E6-1,\":-)\",CONCATENATE(\"increase until \",'SDG – Technický list '!E6))))","v":""},{"$f":"IF('SDG – Technický list '!F6=\"\",\"\",IF($D7=\"\",\"please complete\",IF($D7>'SDG – Technický list '!F6-1,\":-)\",CONCATENATE(\"increase until \",'SDG – Technický list '!F6))))","v":""},{"$f":"IF('SDG – Technický list '!G6=\"\",\"\",IF($D7=\"\",\"please complete\",IF($D7>'SDG – Technický list '!G6-1,\":-)\",CONCATENATE(\"increase until \",'SDG – Technický list '!G6))))","v":""},{"$f":"IF('SDG – Technický list '!H6=\"\",\"\",IF($D7=\"\",\"please complete\",IF($D7>'SDG – Technický list '!H6-1,\":-)\",CONCATENATE(\"increase until \",'SDG – Technický list '!H6))))","v":""},{"$f":"IF('SDG – Technický list '!I6=\"\",\"\",IF($D7=\"\",\"please complete\",IF($D7>'SDG – Technický list '!I6-1,\":-)\",CONCATENATE(\"increase until \",'SDG – Technický list '!I6))))","v":""},{"$f":"IF('SDG – Technický list '!J6=\"\",\"\",IF($D7=\"\",\"please complete\",IF($D7>'SDG – Technický list '!J6-1,\":-)\",CONCATENATE(\"increase until \",'SDG – Technický list '!J6))))","v":""},{"$f":"IF('SDG – Technický list '!K6=\"\",\"\",IF($D7=\"\",\"please complete\",IF($D7>'SDG – Technický list '!K6-1,\":-)\",CONCATENATE(\"increase until \",'SDG – Technický list '!K6))))","v":""},{"$f":"IF('SDG – Technický list '!L6=\"\",\"\",IF($D7=\"\",\"please complete\",IF($D7>'SDG – Technický list '!L6-1,\":-)\",CONCATENATE(\"increase until \",'SDG – Technický list '!L6))))","v":""},{"$f":"IF('SDG – Technický list '!M6=\"\",\"\",IF($D7=\"\",\"please complete\",IF($D7>'SDG – Technický list '!M6-1,\":-)\",CONCATENATE(\"increase until \",'SDG – Technický list '!M6))))","v":""},{"$f":"IF('SDG – Technický list '!N6=\"\",\"\",IF($D7=\"\",\"please complete\",IF($D7>'SDG – Technický list '!N6-1,\":-)\",CONCATENATE(\"increase until \",'SDG – Technický list '!N6))))","v":""},{"$f":"IF('SDG – Technický list '!O6=\"\",\"\",IF($D7=\"\",\"please complete\",IF($D7>'SDG – Technický list '!O6-1,\":-)\",CONCATENATE(\"increase until \",'SDG – Technický list '!O6))))","v":""},{"$f":"IF('SDG – Technický list '!P6=\"\",\"\",IF($D7=\"\",\"please complete\",IF($D7>'SDG – Technický list '!P6-1,\":-)\",CONCATENATE(\"increase until \",'SDG – Technický list '!P6))))","v":""},{"$f":"IF('SDG – Technický list '!Q6=\"\",\"\",IF($D7=\"\",\"please complete\",IF($D7>'SDG – Technický list '!Q6-1,\":-)\",CONCATENATE(\"increase until \",'SDG – Technický list '!Q6))))","v":""},{"$f":"IF('SDG – Technický list '!R6=\"\",\"\",IF($D7=\"\",\"please complete\",IF($D7>'SDG – Technický list '!R6-1,\":-)\",CONCATENATE(\"increase until \",'SDG – Technický list '!R6))))","v":""},{"$f":"IF('SDG – Technický list '!S6=\"\",\"\",IF($D7=\"\",\"please complete\",IF($D7>'SDG – Technický list '!S6-1,\":-)\",CONCATENATE(\"increase until \",'SDG – Technický list '!S6))))","v":""},{"$f":"IF('SDG – Technický list '!T6=\"\",\"\",IF($D7=\"\",\"please complete\",IF($D7>'SDG – Technický list '!T6-1,\":-)\",CONCATENATE(\"increase until \",'SDG – Technický list '!T6))))","v":""}]
[null,{"$f":"'SDG – Technický list '!B7","v":"Q1.5"},{"$f":"VLOOKUP(B8,'Kapitola 1'!$C$6:$D$112,2,0)","v":"Jakým způsobem se top management podílí na řešení záležitostí HSE&S?"},{"$f":"'SDG – Technický list '!C7","v":3},17,{"$f":"IF('SDG – Technický list '!D7=\"\",\"\",IF($D8=\"\",\"please complete\",IF($D8>'SDG – Technický list '!D7-1,\":-)\",CONCATENATE(\"increase until \",'SDG – Technický list '!D7))))","v":""},{"$f":"IF('SDG – Technický list '!E7=\"\",\"\",IF($D8=\"\",\"please complete\",IF($D8>'SDG – Technický list '!E7-1,\":-)\",CONCATENATE(\"increase until \",'SDG – Technický list '!E7))))","v":""},{"$f":"IF('SDG – Technický list '!F7=\"\",\"\",IF($D8=\"\",\"please complete\",IF($D8>'SDG – Technický list '!F7-1,\":-)\",CONCATENATE(\"increase until \",'SDG – Technický list '!F7))))","v":""},{"$f":"IF('SDG – Technický list '!G7=\"\",\"\",IF($D8=\"\",\"please complete\",IF($D8>'SDG – Technický list '!G7-1,\":-)\",CONCATENATE(\"increase until \",'SDG – Technický list '!G7))))","v":""},{"$f":"IF('SDG – Technický list '!H7=\"\",\"\",IF($D8=\"\",\"please complete\",IF($D8>'SDG – Technický list '!H7-1,\":-)\",CONCATENATE(\"increase until \",'SDG – Technický list '!H7))))","v":""},{"$f":"IF('SDG – Technický list '!I7=\"\",\"\",IF($D8=\"\",\"please complete\",IF($D8>'SDG – Technický list '!I7-1,\":-)\",CONCATENATE(\"increase until \",'SDG – Technický list '!I7))))","v":""},{"$f":"IF('SDG – Technický list '!J7=\"\",\"\",IF($D8=\"\",\"please complete\",IF($D8>'SDG – Technický list '!J7-1,\":-)\",CONCATENATE(\"increase until \",'SDG – Technický list '!J7))))","v":""},{"$f":"IF('SDG – Technický list '!K7=\"\",\"\",IF($D8=\"\",\"please complete\",IF($D8>'SDG – Technický list '!K7-1,\":-)\",CONCATENATE(\"increase until \",'SDG – Technický list '!K7))))","v":""},{"$f":"IF('SDG – Technický list '!L7=\"\",\"\",IF($D8=\"\",\"please complete\",IF($D8>'SDG – Technický list '!L7-1,\":-)\",CONCATENATE(\"increase until \",'SDG – Technický list '!L7))))","v":""},{"$f":"IF('SDG – Technický list '!M7=\"\",\"\",IF($D8=\"\",\"please complete\",IF($D8>'SDG – Technický list '!M7-1,\":-)\",CONCATENATE(\"increase until \",'SDG – Technický list '!M7))))","v":""},{"$f":"IF('SDG – Technický list '!N7=\"\",\"\",IF($D8=\"\",\"please complete\",IF($D8>'SDG – Technický list '!N7-1,\":-)\",CONCATENATE(\"increase until \",'SDG – Technický list '!N7))))","v":""},{"$f":"IF('SDG – Technický list '!O7=\"\",\"\",IF($D8=\"\",\"please complete\",IF($D8>'SDG – Technický list '!O7-1,\":-)\",CONCATENATE(\"increase until \",'SDG – Technický list '!O7))))","v":""},{"$f":"IF('SDG – Technický list '!P7=\"\",\"\",IF($D8=\"\",\"please complete\",IF($D8>'SDG – Technický list '!P7-1,\":-)\",CONCATENATE(\"increase until \",'SDG – Technický list '!P7))))","v":""},{"$f":"IF('SDG – Technický list '!Q7=\"\",\"\",IF($D8=\"\",\"please complete\",IF($D8>'SDG – Technický list '!Q7-1,\":-)\",CONCATENATE(\"increase until \",'SDG – Technický list '!Q7))))","v":""},{"$f":"IF('SDG – Technický list '!R7=\"\",\"\",IF($D8=\"\",\"please complete\",IF($D8>'SDG – Technický list '!R7-1,\":-)\",CONCATENATE(\"increase until \",'SDG – Technický list '!R7))))","v":""},{"$f":"IF('SDG – Technický list '!S7=\"\",\"\",IF($D8=\"\",\"please complete\",IF($D8>'SDG – Technický list '!S7-1,\":-)\",CONCATENATE(\"increase until \",'SDG – Technický list '!S7))))","v":""},{"$f":"IF('SDG – Technický list '!T7=\"\",\"\",IF($D8=\"\",\"please complete\",IF($D8>'SDG – Technický list '!T7-1,\":-)\",CONCATENATE(\"increase until \",'SDG – Technický list '!T7))))","v":""}]
[null,{"$f":"'SDG – Technický list '!B8","v":"Q1.6"},{"$f":"VLOOKUP(B9,'Kapitola 1'!$C$6:$D$112,2,0)","v":"Jakým způsobem jsou odpovědnosti HSE&S začleněny do popisů pracovní náplně nebo ročních cílů?\n"},{"$f":"'SDG – Technický list '!C8","v":3},17,{"$f":"IF('SDG – Technický list '!D8=\"\",\"\",IF($D9=\"\",\"please complete\",IF($D9>'SDG – Technický list '!D8-1,\":-)\",CONCATENATE(\"increase until \",'SDG – Technický list '!D8))))","v":""},{"$f":"IF('SDG – Technický list '!E8=\"\",\"\",IF($D9=\"\",\"please complete\",IF($D9>'SDG – Technický list '!E8-1,\":-)\",CONCATENATE(\"increase until \",'SDG – Technický list '!E8))))","v":""},{"$f":"IF('SDG – Technický list '!F8=\"\",\"\",IF($D9=\"\",\"please complete\",IF($D9>'SDG – Technický list '!F8-1,\":-)\",CONCATENATE(\"increase until \",'SDG – Technický list '!F8))))","v":""},{"$f":"IF('SDG – Technický list '!G8=\"\",\"\",IF($D9=\"\",\"please complete\",IF($D9>'SDG – Technický list '!G8-1,\":-)\",CONCATENATE(\"increase until \",'SDG – Technický list '!G8))))","v":""},{"$f":"IF('SDG – Technický list '!H8=\"\",\"\",IF($D9=\"\",\"please complete\",IF($D9>'SDG – Technický list '!H8-1,\":-)\",CONCATENATE(\"increase until \",'SDG – Technický list '!H8))))","v":""},{"$f":"IF('SDG – Technický list '!I8=\"\",\"\",IF($D9=\"\",\"please complete\",IF($D9>'SDG – Technický list '!I8-1,\":-)\",CONCATENATE(\"increase until \",'SDG – Technický list '!I8))))","v":""},{"$f":"IF('SDG – Technický list '!J8=\"\",\"\",IF($D9=\"\",\"please complete\",IF($D9>'SDG – Technický list '!J8-1,\":-)\",CONCATENATE(\"increase until \",'SDG – Technický list '!J8))))","v":""},{"$f":"IF('SDG – Technický list '!K8=\"\",\"\",IF($D9=\"\",\"please complete\",IF($D9>'SDG – Technický list '!K8-1,\":-)\",CONCATENATE(\"increase until \",'SDG – Technický list '!K8))))","v":""},{"$f":"IF('SDG – Technický list '!L8=\"\",\"\",IF($D9=\"\",\"please complete\",IF($D9>'SDG – Technický list '!L8-1,\":-)\",CONCATENATE(\"increase until \",'SDG – Technický list '!L8))))","v":""},{"$f":"IF('SDG – Technický list '!M8=\"\",\"\",IF($D9=\"\",\"please complete\",IF($D9>'SDG – Technický list '!M8-1,\":-)\",CONCATENATE(\"increase until \",'SDG – Technický list '!M8))))","v":""},{"$f":"IF('SDG – Technický list '!N8=\"\",\"\",IF($D9=\"\",\"please complete\",IF($D9>'SDG – Technický list '!N8-1,\":-)\",CONCATENATE(\"increase until \",'SDG – Technický list '!N8))))","v":""},{"$f":"IF('SDG – Technický list '!O8=\"\",\"\",IF($D9=\"\",\"please complete\",IF($D9>'SDG – Technický list '!O8-1,\":-)\",CONCATENATE(\"increase until \",'SDG – Technický list '!O8))))","v":""},{"$f":"IF('SDG – Technický list '!P8=\"\",\"\",IF($D9=\"\",\"please complete\",IF($D9>'SDG – Technický list '!P8-1,\":-)\",CONCATENATE(\"increase until \",'SDG – Technický list '!P8))))","v":""},{"$f":"IF('SDG – Technický list '!Q8=\"\",\"\",IF($D9=\"\",\"please complete\",IF($D9>'SDG – Technický list '!Q8-1,\":-)\",CONCATENATE(\"increase until \",'SDG – Technický list '!Q8))))","v":""},{"$f":"IF('SDG – Technický list '!R8=\"\",\"\",IF($D9=\"\",\"please complete\",IF($D9>'SDG – Technický list '!R8-1,\":-)\",CONCATENATE(\"increase until \",'SDG – Technický list '!R8))))","v":""},{"$f":"IF('SDG – Technický list '!S8=\"\",\"\",IF($D9=\"\",\"please complete\",IF($D9>'SDG – Technický list '!S8-1,\":-)\",CONCATENATE(\"increase until \",'SDG – Technický list '!S8))))","v":""},{"$f":"IF('SDG – Technický list '!T8=\"\",\"\",IF($D9=\"\",\"please complete\",IF($D9>'SDG – Technický list '!T8-1,\":-)\",CONCATENATE(\"increase until \",'SDG – Technický list '!T8))))","v":""}]
[null,{"$f":"'SDG – Technický list '!B9","v":"Q1.7"},{"$f":"VLOOKUP(B10,'Kapitola 1'!$C$6:$D$112,2,0)","v":"Jakým způsobem se řídí (nejdůležitější) procesy v souvislosti s HSE&S?"},{"$f":"'SDG – Technický list '!C9","v":3},17,{"$f":"IF('SDG – Technický list '!D9=\"\",\"\",IF($D10=\"\",\"please complete\",IF($D10>'SDG – Technický list '!D9-1,\":-)\",CONCATENATE(\"increase until \",'SDG – Technický list '!D9))))","v":""},{"$f":"IF('SDG – Technický list '!E9=\"\",\"\",IF($D10=\"\",\"please complete\",IF($D10>'SDG – Technický list '!E9-1,\":-)\",CONCATENATE(\"increase until \",'SDG – Technický list '!E9))))","v":""},{"$f":"IF('SDG – Technický list '!F9=\"\",\"\",IF($D10=\"\",\"please complete\",IF($D10>'SDG – Technický list '!F9-1,\":-)\",CONCATENATE(\"increase until \",'SDG – Technický list '!F9))))","v":""},{"$f":"IF('SDG – Technický list '!G9=\"\",\"\",IF($D10=\"\",\"please complete\",IF($D10>'SDG – Technický list '!G9-1,\":-)\",CONCATENATE(\"increase until \",'SDG – Technický list '!G9))))","v":""},{"$f":"IF('SDG – Technický list '!H9=\"\",\"\",IF($D10=\"\",\"please complete\",IF($D10>'SDG – Technický list '!H9-1,\":-)\",CONCATENATE(\"increase until \",'SDG – Technický list '!H9))))","v":""},{"$f":"IF('SDG – Technický list '!I9=\"\",\"\",IF($D10=\"\",\"please complete\",IF($D10>'SDG – Technický list '!I9-1,\":-)\",CONCATENATE(\"increase until \",'SDG – Technický list '!I9))))","v":""},{"$f":"IF('SDG – Technický list '!J9=\"\",\"\",IF($D10=\"\",\"please complete\",IF($D10>'SDG – Technický list '!J9-1,\":-)\",CONCATENATE(\"increase until \",'SDG – Technický list '!J9))))","v":""},{"$f":"IF('SDG – Technický list '!K9=\"\",\"\",IF($D10=\"\",\"please complete\",IF($D10>'SDG – Technický list '!K9-1,\":-)\",CONCATENATE(\"increase until \",'SDG – Technický list '!K9))))","v":""},{"$f":"IF('SDG – Technický list '!L9=\"\",\"\",IF($D10=\"\",\"please complete\",IF($D10>'SDG – Technický list '!L9-1,\":-)\",CONCATENATE(\"increase until \",'SDG – Technický list '!L9))))","v":""},{"$f":"IF('SDG – Technický list '!M9=\"\",\"\",IF($D10=\"\",\"please complete\",IF($D10>'SDG – Technický list '!M9-1,\":-)\",CONCATENATE(\"increase until \",'SDG – Technický list '!M9))))","v":""},{"$f":"IF('SDG – Technický list '!N9=\"\",\"\",IF($D10=\"\",\"please complete\",IF($D10>'SDG – Technický list '!N9-1,\":-)\",CONCATENATE(\"increase until \",'SDG – Technický list '!N9))))","v":""},{"$f":"IF('SDG – Technický list '!O9=\"\",\"\",IF($D10=\"\",\"please complete\",IF($D10>'SDG – Technický list '!O9-1,\":-)\",CONCATENATE(\"increase until \",'SDG – Technický list '!O9))))","v":""},{"$f":"IF('SDG – Technický list '!P9=\"\",\"\",IF($D10=\"\",\"please complete\",IF($D10>'SDG – Technický list '!P9-1,\":-)\",CONCATENATE(\"increase until \",'SDG – Technický list '!P9))))","v":""},{"$f":"IF('SDG – Technický list '!Q9=\"\",\"\",IF($D10=\"\",\"please complete\",IF($D10>'SDG – Technický list '!Q9-1,\":-)\",CONCATENATE(\"increase until \",'SDG – Technický list '!Q9))))","v":""},{"$f":"IF('SDG – Technický list '!R9=\"\",\"\",IF($D10=\"\",\"please complete\",IF($D10>'SDG – Technický list '!R9-1,\":-)\",CONCATENATE(\"increase until \",'SDG – Technický list '!R9))))","v":""},{"$f":"IF('SDG – Technický list '!S9=\"\",\"\",IF($D10=\"\",\"please complete\",IF($D10>'SDG – Technický list '!S9-1,\":-)\",CONCATENATE(\"increase until \",'SDG – Technický list '!S9))))","v":""},{"$f":"IF('SDG – Technický list '!T9=\"\",\"\",IF($D10=\"\",\"please complete\",IF($D10>'SDG – Technický list '!T9-1,\":-)\",CONCATENATE(\"increase until \",'SDG – Technický list '!T9))))","v":""}]
[null,{"$f":"'SDG – Technický list '!B10","v":"Q1.8"},{"$f":"VLOOKUP(B11,'Kapitola 1'!$C$6:$D$112,2,0)","v":"Jakým způsobem top management zajišťuje neustálé zlepšování výkonu v oblasti HSE&S (zdraví, bezpečnosti, životního prostředí, energetiky a udržitelnosti)?"},{"$f":"'SDG – Technický list '!C10","v":3},17,{"$f":"IF('SDG – Technický list '!D10=\"\",\"\",IF($D11=\"\",\"please complete\",IF($D11>'SDG – Technický list '!D10-1,\":-)\",CONCATENATE(\"increase until \",'SDG – Technický list '!D10))))","v":""},{"$f":"IF('SDG – Technický list '!E10=\"\",\"\",IF($D11=\"\",\"please complete\",IF($D11>'SDG – Technický list '!E10-1,\":-)\",CONCATENATE(\"increase until \",'SDG – Technický list '!E10))))","v":""},{"$f":"IF('SDG – Technický list '!F10=\"\",\"\",IF($D11=\"\",\"please complete\",IF($D11>'SDG – Technický list '!F10-1,\":-)\",CONCATENATE(\"increase until \",'SDG – Technický list '!F10))))","v":""},{"$f":"IF('SDG – Technický list '!G10=\"\",\"\",IF($D11=\"\",\"please complete\",IF($D11>'SDG – Technický list '!G10-1,\":-)\",CONCATENATE(\"increase until \",'SDG – Technický list '!G10))))","v":""},{"$f":"IF('SDG – Technický list '!H10=\"\",\"\",IF($D11=\"\",\"please complete\",IF($D11>'SDG – Technický list '!H10-1,\":-)\",CONCATENATE(\"increase until \",'SDG – Technický list '!H10))))","v":""},{"$f":"IF('SDG – Technický list '!I10=\"\",\"\",IF($D11=\"\",\"please complete\",IF($D11>'SDG – Technický list '!I10-1,\":-)\",CONCATENATE(\"increase until \",'SDG – Technický list '!I10))))","v":""},{"$f":"IF('SDG – Technický list '!J10=\"\",\"\",IF($D11=\"\",\"please complete\",IF($D11>'SDG – Technický list '!J10-1,\":-)\",CONCATENATE(\"increase until \",'SDG – Technický list '!J10))))","v":""},{"$f":"IF('SDG – Technický list '!K10=\"\",\"\",IF($D11=\"\",\"please complete\",IF($D11>'SDG – Technický list '!K10-1,\":-)\",CONCATENATE(\"increase until \",'SDG – Technický list '!K10))))","v":""},{"$f":"IF('SDG – Technický list '!L10=\"\",\"\",IF($D11=\"\",\"please complete\",IF($D11>'SDG – Technický list '!L10-1,\":-)\",CONCATENATE(\"increase until \",'SDG – Technický list '!L10))))","v":""},{"$f":"IF('SDG – Technický list '!M10=\"\",\"\",IF($D11=\"\",\"please complete\",IF($D11>'SDG – Technický list '!M10-1,\":-)\",CONCATENATE(\"increase until \",'SDG – Technický list '!M10))))","v":""},{"$f":"IF('SDG – Technický list '!N10=\"\",\"\",IF($D11=\"\",\"please complete\",IF($D11>'SDG – Technický list '!N10-1,\":-)\",CONCATENATE(\"increase until \",'SDG – Technický list '!N10))))","v":""},{"$f":"IF('SDG – Technický list '!O10=\"\",\"\",IF($D11=\"\",\"please complete\",IF($D11>'SDG – Technický list '!O10-1,\":-)\",CONCATENATE(\"increase until \",'SDG – Technický list '!O10))))","v":""},{"$f":"IF('SDG – Technický list '!P10=\"\",\"\",IF($D11=\"\",\"please complete\",IF($D11>'SDG – Technický list '!P10-1,\":-)\",CONCATENATE(\"increase until \",'SDG – Technický list '!P10))))","v":""},{"$f":"IF('SDG – Technický list '!Q10=\"\",\"\",IF($D11=\"\",\"please complete\",IF($D11>'SDG – Technický list '!Q10-1,\":-)\",CONCATENATE(\"increase until \",'SDG – Technický list '!Q10))))","v":""},{"$f":"IF('SDG – Technický list '!R10=\"\",\"\",IF($D11=\"\",\"please complete\",IF($D11>'SDG – Technický list '!R10-1,\":-)\",CONCATENATE(\"increase until \",'SDG – Technický list '!R10))))","v":""},{"$f":"IF('SDG – Technický list '!S10=\"\",\"\",IF($D11=\"\",\"please complete\",IF($D11>'SDG – Technický list '!S10-1,\":-)\",CONCATENATE(\"increase until \",'SDG – Technický list '!S10))))","v":""},{"$f":"IF('SDG – Technický list '!T10=\"\",\"\",IF($D11=\"\",\"please complete\",IF($D11>'SDG – Technický list '!T10-1,\":-)\",CONCATENATE(\"increase until \",'SDG – Technický list '!T10))))","v":""}]
[null,{"$f":"'SDG – Technický list '!B11","v":"Q1.9"},{"$f":"VLOOKUP(B12,'Kapitola 1'!$C$6:$D$112,2,0)","v":"Jak jsou organizovány interní audity?"},{"$f":"'SDG – Technický list '!C11","v":4},17,{"$f":"IF('SDG – Technický list '!D11=\"\",\"\",IF($D12=\"\",\"please complete\",IF($D12>'SDG – Technický list '!D11-1,\":-)\",CONCATENATE(\"increase until \",'SDG – Technický list '!D11))))","v":""},{"$f":"IF('SDG – Technický list '!E11=\"\",\"\",IF($D12=\"\",\"please complete\",IF($D12>'SDG – Technický list '!E11-1,\":-)\",CONCATENATE(\"increase until \",'SDG – Technický list '!E11))))","v":""},{"$f":"IF('SDG – Technický list '!F11=\"\",\"\",IF($D12=\"\",\"please complete\",IF($D12>'SDG – Technický list '!F11-1,\":-)\",CONCATENATE(\"increase until \",'SDG – Technický list '!F11))))","v":""},{"$f":"IF('SDG – Technický list '!G11=\"\",\"\",IF($D12=\"\",\"please complete\",IF($D12>'SDG – Technický list '!G11-1,\":-)\",CONCATENATE(\"increase until \",'SDG – Technický list '!G11))))","v":""},{"$f":"IF('SDG – Technický list '!H11=\"\",\"\",IF($D12=\"\",\"please complete\",IF($D12>'SDG – Technický list '!H11-1,\":-)\",CONCATENATE(\"increase until \",'SDG – Technický list '!H11))))","v":""},{"$f":"IF('SDG – Technický list '!I11=\"\",\"\",IF($D12=\"\",\"please complete\",IF($D12>'SDG – Technický list '!I11-1,\":-)\",CONCATENATE(\"increase until \",'SDG – Technický list '!I11))))","v":""},{"$f":"IF('SDG – Technický list '!J11=\"\",\"\",IF($D12=\"\",\"please complete\",IF($D12>'SDG – Technický list '!J11-1,\":-)\",CONCATENATE(\"increase until \",'SDG – Technický list '!J11))))","v":""},{"$f":"IF('SDG – Technický list '!K11=\"\",\"\",IF($D12=\"\",\"please complete\",IF($D12>'SDG – Technický list '!K11-1,\":-)\",CONCATENATE(\"increase until \",'SDG – Technický list '!K11))))","v":""},{"$f":"IF('SDG – Technický list '!L11=\"\",\"\",IF($D12=\"\",\"please complete\",IF($D12>'SDG – Technický list '!L11-1,\":-)\",CONCATENATE(\"increase until \",'SDG – Technický list '!L11))))","v":""},{"$f":"IF('SDG – Technický list '!M11=\"\",\"\",IF($D12=\"\",\"please complete\",IF($D12>'SDG – Technický list '!M11-1,\":-)\",CONCATENATE(\"increase until \",'SDG – Technický list '!M11))))","v":""},{"$f":"IF('SDG – Technický list '!N11=\"\",\"\",IF($D12=\"\",\"please complete\",IF($D12>'SDG – Technický list '!N11-1,\":-)\",CONCATENATE(\"increase until \",'SDG – Technický list '!N11))))","v":""},{"$f":"IF('SDG – Technický list '!O11=\"\",\"\",IF($D12=\"\",\"please complete\",IF($D12>'SDG – Technický list '!O11-1,\":-)\",CONCATENATE(\"increase until \",'SDG – Technický list '!O11))))","v":""},{"$f":"IF('SDG – Technický list '!P11=\"\",\"\",IF($D12=\"\",\"please complete\",IF($D12>'SDG – Technický list '!P11-1,\":-)\",CONCATENATE(\"increase until \",'SDG – Technický list '!P11))))","v":""},{"$f":"IF('SDG – Technický list '!Q11=\"\",\"\",IF($D12=\"\",\"please complete\",IF($D12>'SDG – Technický list '!Q11-1,\":-)\",CONCATENATE(\"increase until \",'SDG – Technický list '!Q11))))","v":""},{"$f":"IF('SDG – Technický list '!R11=\"\",\"\",IF($D12=\"\",\"please complete\",IF($D12>'SDG – Technický list '!R11-1,\":-)\",CONCATENATE(\"increase until \",'SDG – Technický list '!R11))))","v":""},{"$f":"IF('SDG – Technický list '!S11=\"\",\"\",IF($D12=\"\",\"please complete\",IF($D12>'SDG – Technický list '!S11-1,\":-)\",CONCATENATE(\"increase until \",'SDG – Technický list '!S11))))","v":""},{"$f":"IF('SDG – Technický list '!T11=\"\",\"\",IF($D12=\"\",\"please complete\",IF($D12>'SDG – Technický list '!T11-1,\":-)\",CONCATENATE(\"increase until \",'SDG – Technický list '!T11))))","v":""}]
[null,{"$f":"'SDG – Technický list '!B12","v":"Q1.10"},{"$f":"VLOOKUP(B13,'Kapitola 1'!$C$6:$D$112,2,0)","v":"Jakým způsobem probíhá vyšetřování?"},{"$f":"'SDG – Technický list '!C12","v":4},17,{"$f":"IF('SDG – Technický list '!D12=\"\",\"\",IF($D13=\"\",\"please complete\",IF($D13>'SDG – Technický list '!D12-1,\":-)\",CONCATENATE(\"increase until \",'SDG – Technický list '!D12))))","v":""},{"$f":"IF('SDG – Technický list '!E12=\"\",\"\",IF($D13=\"\",\"please complete\",IF($D13>'SDG – Technický list '!E12-1,\":-)\",CONCATENATE(\"increase until \",'SDG – Technický list '!E12))))","v":""},{"$f":"IF('SDG – Technický list '!F12=\"\",\"\",IF($D13=\"\",\"please complete\",IF($D13>'SDG – Technický list '!F12-1,\":-)\",CONCATENATE(\"increase until \",'SDG – Technický list '!F12))))","v":""},{"$f":"IF('SDG – Technický list '!G12=\"\",\"\",IF($D13=\"\",\"please complete\",IF($D13>'SDG – Technický list '!G12-1,\":-)\",CONCATENATE(\"increase until \",'SDG – Technický list '!G12))))","v":""},{"$f":"IF('SDG – Technický list '!H12=\"\",\"\",IF($D13=\"\",\"please complete\",IF($D13>'SDG – Technický list '!H12-1,\":-)\",CONCATENATE(\"increase until \",'SDG – Technický list '!H12))))","v":""},{"$f":"IF('SDG – Technický list '!I12=\"\",\"\",IF($D13=\"\",\"please complete\",IF($D13>'SDG – Technický list '!I12-1,\":-)\",CONCATENATE(\"increase until \",'SDG – Technický list '!I12))))","v":""},{"$f":"IF('SDG – Technický list '!J12=\"\",\"\",IF($D13=\"\",\"please complete\",IF($D13>'SDG – Technický list '!J12-1,\":-)\",CONCATENATE(\"increase until \",'SDG – Technický list '!J12))))","v":""},{"$f":"IF('SDG – Technický list '!K12=\"\",\"\",IF($D13=\"\",\"please complete\",IF($D13>'SDG – Technický list '!K12-1,\":-)\",CONCATENATE(\"increase until \",'SDG – Technický list '!K12))))","v":""},{"$f":"IF('SDG – Technický list '!L12=\"\",\"\",IF($D13=\"\",\"please complete\",IF($D13>'SDG – Technický list '!L12-1,\":-)\",CONCATENATE(\"increase until \",'SDG – Technický list '!L12))))","v":""},{"$f":"IF('SDG – Technický list '!M12=\"\",\"\",IF($D13=\"\",\"please complete\",IF($D13>'SDG – Technický list '!M12-1,\":-)\",CONCATENATE(\"increase until \",'SDG – Technický list '!M12))))","v":""},{"$f":"IF('SDG – Technický list '!N12=\"\",\"\",IF($D13=\"\",\"please complete\",IF($D13>'SDG – Technický list '!N12-1,\":-)\",CONCATENATE(\"increase until \",'SDG – Technický list '!N12))))","v":""},{"$f":"IF('SDG – Technický list '!O12=\"\",\"\",IF($D13=\"\",\"please complete\",IF($D13>'SDG – Technický list '!O12-1,\":-)\",CONCATENATE(\"increase until \",'SDG – Technický list '!O12))))","v":""},{"$f":"IF('SDG – Technický list '!P12=\"\",\"\",IF($D13=\"\",\"please complete\",IF($D13>'SDG – Technický list '!P12-1,\":-)\",CONCATENATE(\"increase until \",'SDG – Technický list '!P12))))","v":""},{"$f":"IF('SDG – Technický list '!Q12=\"\",\"\",IF($D13=\"\",\"please complete\",IF($D13>'SDG – Technický list '!Q12-1,\":-)\",CONCATENATE(\"increase until \",'SDG – Technický list '!Q12))))","v":""},{"$f":"IF('SDG – Technický list '!R12=\"\",\"\",IF($D13=\"\",\"please complete\",IF($D13>'SDG – Technický list '!R12-1,\":-)\",CONCATENATE(\"increase until \",'SDG – Technický list '!R12))))","v":""},{"$f":"IF('SDG – Technický list '!S12=\"\",\"\",IF($D13=\"\",\"please complete\",IF($D13>'SDG – Technický list '!S12-1,\":-)\",CONCATENATE(\"increase until \",'SDG – Technický list '!S12))))","v":""},{"$f":"IF('SDG – Technický list '!T12=\"\",\"\",IF($D13=\"\",\"please complete\",IF($D13>'SDG – Technický list '!T12-1,\":-)\",CONCATENATE(\"increase until \",'SDG – Technický list '!T12))))","v":""}]
[null,{"$f":"'SDG – Technický list '!B13","v":"Q1.11"},{"$f":"VLOOKUP(B14,'Kapitola 1'!$C$6:$D$112,2,0)","v":"Jakým způsobem organizace zajišťuje procesy, čas a zdroje potřebné pro zlepšování procesů řízení HSE&S?"},{"$f":"'SDG – Technický list '!C13","v":3},17,{"$f":"IF('SDG – Technický list '!D13=\"\",\"\",IF($D14=\"\",\"please complete\",IF($D14>'SDG – Technický list '!D13-1,\":-)\",CONCATENATE(\"increase until \",'SDG – Technický list '!D13))))","v":""},{"$f":"IF('SDG – Technický list '!E13=\"\",\"\",IF($D14=\"\",\"please complete\",IF($D14>'SDG – Technický list '!E13-1,\":-)\",CONCATENATE(\"increase until \",'SDG – Technický list '!E13))))","v":""},{"$f":"IF('SDG – Technický list '!F13=\"\",\"\",IF($D14=\"\",\"please complete\",IF($D14>'SDG – Technický list '!F13-1,\":-)\",CONCATENATE(\"increase until \",'SDG – Technický list '!F13))))","v":""},{"$f":"IF('SDG – Technický list '!G13=\"\",\"\",IF($D14=\"\",\"please complete\",IF($D14>'SDG – Technický list '!G13-1,\":-)\",CONCATENATE(\"increase until \",'SDG – Technický list '!G13))))","v":""},{"$f":"IF('SDG – Technický list '!H13=\"\",\"\",IF($D14=\"\",\"please complete\",IF($D14>'SDG – Technický list '!H13-1,\":-)\",CONCATENATE(\"increase until \",'SDG – Technický list '!H13))))","v":""},{"$f":"IF('SDG – Technický list '!I13=\"\",\"\",IF($D14=\"\",\"please complete\",IF($D14>'SDG – Technický list '!I13-1,\":-)\",CONCATENATE(\"increase until \",'SDG – Technický list '!I13))))","v":""},{"$f":"IF('SDG – Technický list '!J13=\"\",\"\",IF($D14=\"\",\"please complete\",IF($D14>'SDG – Technický list '!J13-1,\":-)\",CONCATENATE(\"increase until \",'SDG – Technický list '!J13))))","v":""},{"$f":"IF('SDG – Technický list '!K13=\"\",\"\",IF($D14=\"\",\"please complete\",IF($D14>'SDG – Technický list '!K13-1,\":-)\",CONCATENATE(\"increase until \",'SDG – Technický list '!K13))))","v":""},{"$f":"IF('SDG – Technický list '!L13=\"\",\"\",IF($D14=\"\",\"please complete\",IF($D14>'SDG – Technický list '!L13-1,\":-)\",CONCATENATE(\"increase until \",'SDG – Technický list '!L13))))","v":""},{"$f":"IF('SDG – Technický list '!M13=\"\",\"\",IF($D14=\"\",\"please complete\",IF($D14>'SDG – Technický list '!M13-1,\":-)\",CONCATENATE(\"increase until \",'SDG – Technický list '!M13))))","v":""},{"$f":"IF('SDG – Technický list '!N13=\"\",\"\",IF($D14=\"\",\"please complete\",IF($D14>'SDG – Technický list '!N13-1,\":-)\",CONCATENATE(\"increase until \",'SDG – Technický list '!N13))))","v":""},{"$f":"IF('SDG – Technický list '!O13=\"\",\"\",IF($D14=\"\",\"please complete\",IF($D14>'SDG – Technický list '!O13-1,\":-)\",CONCATENATE(\"increase until \",'SDG – Technický list '!O13))))","v":""},{"$f":"IF('SDG – Technický list '!P13=\"\",\"\",IF($D14=\"\",\"please complete\",IF($D14>'SDG – Technický list '!P13-1,\":-)\",CONCATENATE(\"increase until \",'SDG – Technický list '!P13))))","v":""},{"$f":"IF('SDG – Technický list '!Q13=\"\",\"\",IF($D14=\"\",\"please complete\",IF($D14>'SDG – Technický list '!Q13-1,\":-)\",CONCATENATE(\"increase until \",'SDG – Technický list '!Q13))))","v":""},{"$f":"IF('SDG – Technický list '!R13=\"\",\"\",IF($D14=\"\",\"please complete\",IF($D14>'SDG – Technický list '!R13-1,\":-)\",CONCATENATE(\"increase until \",'SDG – Technický list '!R13))))","v":""},{"$f":"IF('SDG – Technický list '!S13=\"\",\"\",IF($D14=\"\",\"please complete\",IF($D14>'SDG – Technický list '!S13-1,\":-)\",CONCATENATE(\"increase until \",'SDG – Technický list '!S13))))","v":""},{"$f":"IF('SDG – Technický list '!T13=\"\",\"\",IF($D14=\"\",\"please complete\",IF($D14>'SDG – Technický list '!T13-1,\":-)\",CONCATENATE(\"increase until \",'SDG – Technický list '!T13))))","v":""}]
[null,{"$f":"'SDG – Technický list '!B14","v":"Q1.12"},{"$f":"VLOOKUP(B15,'Kapitola 1'!$C$6:$D$112,2,0)","v":"Jak organizace zajišťuje, že zaměstnanci jsou si vědomi politik a procesů týkajících se zdraví, bezpečnosti, životního prostředí, energetiky a udržitelnosti?"},{"$f":"'SDG – Technický list '!C14","v":3},17,{"$f":"IF('SDG – Technický list '!D14=\"\",\"\",IF($D15=\"\",\"please complete\",IF($D15>'SDG – Technický list '!D14-1,\":-)\",CONCATENATE(\"increase until \",'SDG – Technický list '!D14))))","v":""},{"$f":"IF('SDG – Technický list '!E14=\"\",\"\",IF($D15=\"\",\"please complete\",IF($D15>'SDG – Technický list '!E14-1,\":-)\",CONCATENATE(\"increase until \",'SDG – Technický list '!E14))))","v":""},{"$f":"IF('SDG – Technický list '!F14=\"\",\"\",IF($D15=\"\",\"please complete\",IF($D15>'SDG – Technický list '!F14-1,\":-)\",CONCATENATE(\"increase until \",'SDG – Technický list '!F14))))","v":""},{"$f":"IF('SDG – Technický list '!G14=\"\",\"\",IF($D15=\"\",\"please complete\",IF($D15>'SDG – Technický list '!G14-1,\":-)\",CONCATENATE(\"increase until \",'SDG – Technický list '!G14))))","v":""},{"$f":"IF('SDG – Technický list '!H14=\"\",\"\",IF($D15=\"\",\"please complete\",IF($D15>'SDG – Technický list '!H14-1,\":-)\",CONCATENATE(\"increase until \",'SDG – Technický list '!H14))))","v":""},{"$f":"IF('SDG – Technický list '!I14=\"\",\"\",IF($D15=\"\",\"please complete\",IF($D15>'SDG – Technický list '!I14-1,\":-)\",CONCATENATE(\"increase until \",'SDG – Technický list '!I14))))","v":""},{"$f":"IF('SDG – Technický list '!J14=\"\",\"\",IF($D15=\"\",\"please complete\",IF($D15>'SDG – Technický list '!J14-1,\":-)\",CONCATENATE(\"increase until \",'SDG – Technický list '!J14))))","v":""},{"$f":"IF('SDG – Technický list '!K14=\"\",\"\",IF($D15=\"\",\"please complete\",IF($D15>'SDG – Technický list '!K14-1,\":-)\",CONCATENATE(\"increase until \",'SDG – Technický list '!K14))))","v":""},{"$f":"IF('SDG – Technický list '!L14=\"\",\"\",IF($D15=\"\",\"please complete\",IF($D15>'SDG – Technický list '!L14-1,\":-)\",CONCATENATE(\"increase until \",'SDG – Technický list '!L14))))","v":""},{"$f":"IF('SDG – Technický list '!M14=\"\",\"\",IF($D15=\"\",\"please complete\",IF($D15>'SDG – Technický list '!M14-1,\":-)\",CONCATENATE(\"increase until \",'SDG – Technický list '!M14))))","v":""},{"$f":"IF('SDG – Technický list '!N14=\"\",\"\",IF($D15=\"\",\"please complete\",IF($D15>'SDG – Technický list '!N14-1,\":-)\",CONCATENATE(\"increase until \",'SDG – Technický list '!N14))))","v":""},{"$f":"IF('SDG – Technický list '!O14=\"\",\"\",IF($D15=\"\",\"please complete\",IF($D15>'SDG – Technický list '!O14-1,\":-)\",CONCATENATE(\"increase until \",'SDG – Technický list '!O14))))","v":""},{"$f":"IF('SDG – Technický list '!P14=\"\",\"\",IF($D15=\"\",\"please complete\",IF($D15>'SDG – Technický list '!P14-1,\":-)\",CONCATENATE(\"increase until \",'SDG – Technický list '!P14))))","v":""},{"$f":"IF('SDG – Technický list '!Q14=\"\",\"\",IF($D15=\"\",\"please complete\",IF($D15>'SDG – Technický list '!Q14-1,\":-)\",CONCATENATE(\"increase until \",'SDG – Technický list '!Q14))))","v":""},{"$f":"IF('SDG – Technický list '!R14=\"\",\"\",IF($D15=\"\",\"please complete\",IF($D15>'SDG – Technický list '!R14-1,\":-)\",CONCATENATE(\"increase until \",'SDG – Technický list '!R14))))","v":""},{"$f":"IF('SDG – Technický list '!S14=\"\",\"\",IF($D15=\"\",\"please complete\",IF($D15>'SDG – Technický list '!S14-1,\":-)\",CONCATENATE(\"increase until \",'SDG – Technický list '!S14))))","v":""},{"$f":"IF('SDG – Technický list '!T14=\"\",\"\",IF($D15=\"\",\"please complete\",IF($D15>'SDG – Technický list '!T14-1,\":-)\",CONCATENATE(\"increase until \",'SDG – Technický list '!T14))))","v":""}]
[null,{"$f":"'SDG – Technický list '!B15","v":"Q1.13"},{"$f":"VLOOKUP(B16,'Kapitola 1'!$C$6:$D$112,2,0)","v":"Jakým způsobem organizace zajišťuje správné kompetence pracovníků, pokud jde o aspekty HSE&S týkající se jejich práce?"},{"$f":"'SDG – Technický list '!C15","v":3},17,{"$f":"IF('SDG – Technický list '!D15=\"\",\"\",IF($D16=\"\",\"please complete\",IF($D16>'SDG – Technický list '!D15-1,\":-)\",CONCATENATE(\"increase until \",'SDG – Technický list '!D15))))","v":""},{"$f":"IF('SDG – Technický list '!E15=\"\",\"\",IF($D16=\"\",\"please complete\",IF($D16>'SDG – Technický list '!E15-1,\":-)\",CONCATENATE(\"increase until \",'SDG – Technický list '!E15))))","v":""},{"$f":"IF('SDG – Technický list '!F15=\"\",\"\",IF($D16=\"\",\"please complete\",IF($D16>'SDG – Technický list '!F15-1,\":-)\",CONCATENATE(\"increase until \",'SDG – Technický list '!F15))))","v":""},{"$f":"IF('SDG – Technický list '!G15=\"\",\"\",IF($D16=\"\",\"please complete\",IF($D16>'SDG – Technický list '!G15-1,\":-)\",CONCATENATE(\"increase until \",'SDG – Technický list '!G15))))","v":""},{"$f":"IF('SDG – Technický list '!H15=\"\",\"\",IF($D16=\"\",\"please complete\",IF($D16>'SDG – Technický list '!H15-1,\":-)\",CONCATENATE(\"increase until \",'SDG – Technický list '!H15))))","v":""},{"$f":"IF('SDG – Technický list '!I15=\"\",\"\",IF($D16=\"\",\"please complete\",IF($D16>'SDG – Technický list '!I15-1,\":-)\",CONCATENATE(\"increase until \",'SDG – Technický list '!I15))))","v":""},{"$f":"IF('SDG – Technický list '!J15=\"\",\"\",IF($D16=\"\",\"please complete\",IF($D16>'SDG – Technický list '!J15-1,\":-)\",CONCATENATE(\"increase until \",'SDG – Technický list '!J15))))","v":""},{"$f":"IF('SDG – Technický list '!K15=\"\",\"\",IF($D16=\"\",\"please complete\",IF($D16>'SDG – Technický list '!K15-1,\":-)\",CONCATENATE(\"increase until \",'SDG – Technický list '!K15))))","v":""},{"$f":"IF('SDG – Technický list '!L15=\"\",\"\",IF($D16=\"\",\"please complete\",IF($D16>'SDG – Technický list '!L15-1,\":-)\",CONCATENATE(\"increase until \",'SDG – Technický list '!L15))))","v":""},{"$f":"IF('SDG – Technický list '!M15=\"\",\"\",IF($D16=\"\",\"please complete\",IF($D16>'SDG – Technický list '!M15-1,\":-)\",CONCATENATE(\"increase until \",'SDG – Technický list '!M15))))","v":""},{"$f":"IF('SDG – Technický list '!N15=\"\",\"\",IF($D16=\"\",\"please complete\",IF($D16>'SDG – Technický list '!N15-1,\":-)\",CONCATENATE(\"increase until \",'SDG – Technický list '!N15))))","v":""},{"$f":"IF('SDG – Technický list '!O15=\"\",\"\",IF($D16=\"\",\"please complete\",IF($D16>'SDG – Technický list '!O15-1,\":-)\",CONCATENATE(\"increase until \",'SDG – Technický list '!O15))))","v":""},{"$f":"IF('SDG – Technický list '!P15=\"\",\"\",IF($D16=\"\",\"please complete\",IF($D16>'SDG – Technický list '!P15-1,\":-)\",CONCATENATE(\"increase until \",'SDG – Technický list '!P15))))","v":""},{"$f":"IF('SDG – Technický list '!Q15=\"\",\"\",IF($D16=\"\",\"please complete\",IF($D16>'SDG – Technický list '!Q15-1,\":-)\",CONCATENATE(\"increase until \",'SDG – Technický list '!Q15))))","v":""},{"$f":"IF('SDG – Technický list '!R15=\"\",\"\",IF($D16=\"\",\"please complete\",IF($D16>'SDG – Technický list '!R15-1,\":-)\",CONCATENATE(\"increase until \",'SDG – Technický list '!R15))))","v":""},{"$f":"IF('SDG – Technický list '!S15=\"\",\"\",IF($D16=\"\",\"please complete\",IF($D16>'SDG – Technický list '!S15-1,\":-)\",CONCATENATE(\"increase until \",'SDG – Technický list '!S15))))","v":""},{"$f":"IF('SDG – Technický list '!T15=\"\",\"\",IF($D16=\"\",\"please complete\",IF($D16>'SDG – Technický list '!T15-1,\":-)\",CONCATENATE(\"increase until \",'SDG – Technický list '!T15))))","v":""}]
[null,{"$f":"'SDG – Technický list '!B16","v":"Q1.14"},{"$f":"VLOOKUP(B17,'Kapitola 1'!$C$6:$D$112,2,0)","v":"Jaká je struktura zapojení zaměstnanců?"},{"$f":"'SDG – Technický list '!C16","v":3},17,{"$f":"IF('SDG – Technický list '!D16=\"\",\"\",IF($D17=\"\",\"please complete\",IF($D17>'SDG – Technický list '!D16-1,\":-)\",CONCATENATE(\"increase until \",'SDG – Technický list '!D16))))","v":""},{"$f":"IF('SDG – Technický list '!E16=\"\",\"\",IF($D17=\"\",\"please complete\",IF($D17>'SDG – Technický list '!E16-1,\":-)\",CONCATENATE(\"increase until \",'SDG – Technický list '!E16))))","v":""},{"$f":"IF('SDG – Technický list '!F16=\"\",\"\",IF($D17=\"\",\"please complete\",IF($D17>'SDG – Technický list '!F16-1,\":-)\",CONCATENATE(\"increase until \",'SDG – Technický list '!F16))))","v":""},{"$f":"IF('SDG – Technický list '!G16=\"\",\"\",IF($D17=\"\",\"please complete\",IF($D17>'SDG – Technický list '!G16-1,\":-)\",CONCATENATE(\"increase until \",'SDG – Technický list '!G16))))","v":""},{"$f":"IF('SDG – Technický list '!H16=\"\",\"\",IF($D17=\"\",\"please complete\",IF($D17>'SDG – Technický list '!H16-1,\":-)\",CONCATENATE(\"increase until \",'SDG – Technický list '!H16))))","v":""},{"$f":"IF('SDG – Technický list '!I16=\"\",\"\",IF($D17=\"\",\"please complete\",IF($D17>'SDG – Technický list '!I16-1,\":-)\",CONCATENATE(\"increase until \",'SDG – Technický list '!I16))))","v":""},{"$f":"IF('SDG – Technický list '!J16=\"\",\"\",IF($D17=\"\",\"please complete\",IF($D17>'SDG – Technický list '!J16-1,\":-)\",CONCATENATE(\"increase until \",'SDG – Technický list '!J16))))","v":""},{"$f":"IF('SDG – Technický list '!K16=\"\",\"\",IF($D17=\"\",\"please complete\",IF($D17>'SDG – Technický list '!K16-1,\":-)\",CONCATENATE(\"increase until \",'SDG – Technický list '!K16))))","v":""},{"$f":"IF('SDG – Technický list '!L16=\"\",\"\",IF($D17=\"\",\"please complete\",IF($D17>'SDG – Technický list '!L16-1,\":-)\",CONCATENATE(\"increase until \",'SDG – Technický list '!L16))))","v":""},{"$f":"IF('SDG – Technický list '!M16=\"\",\"\",IF($D17=\"\",\"please complete\",IF($D17>'SDG – Technický list '!M16-1,\":-)\",CONCATENATE(\"increase until \",'SDG – Technický list '!M16))))","v":""},{"$f":"IF('SDG – Technický list '!N16=\"\",\"\",IF($D17=\"\",\"please complete\",IF($D17>'SDG – Technický list '!N16-1,\":-)\",CONCATENATE(\"increase until \",'SDG – Technický list '!N16))))","v":""},{"$f":"IF('SDG – Technický list '!O16=\"\",\"\",IF($D17=\"\",\"please complete\",IF($D17>'SDG – Technický list '!O16-1,\":-)\",CONCATENATE(\"increase until \",'SDG – Technický list '!O16))))","v":""},{"$f":"IF('SDG – Technický list '!P16=\"\",\"\",IF($D17=\"\",\"please complete\",IF($D17>'SDG – Technický list '!P16-1,\":-)\",CONCATENATE(\"increase until \",'SDG – Technický list '!P16))))","v":""},{"$f":"IF('SDG – Technický list '!Q16=\"\",\"\",IF($D17=\"\",\"please complete\",IF($D17>'SDG – Technický list '!Q16-1,\":-)\",CONCATENATE(\"increase until \",'SDG – Technický list '!Q16))))","v":""},{"$f":"IF('SDG – Technický list '!R16=\"\",\"\",IF($D17=\"\",\"please complete\",IF($D17>'SDG – Technický list '!R16-1,\":-)\",CONCATENATE(\"increase until \",'SDG – Technický list '!R16))))","v":""},{"$f":"IF('SDG – Technický list '!S16=\"\",\"\",IF($D17=\"\",\"please complete\",IF($D17>'SDG – Technický list '!S16-1,\":-)\",CONCATENATE(\"increase until \",'SDG – Technický list '!S16))))","v":""},{"$f":"IF('SDG – Technický list '!T16=\"\",\"\",IF($D17=\"\",\"please complete\",IF($D17>'SDG – Technický list '!T16-1,\":-)\",CONCATENATE(\"increase until \",'SDG – Technický list '!T16))))","v":""}]
[null,{"$f":"'SDG – Technický list '!B17","v":"Q1.15"},{"$f":"VLOOKUP(B18,'Kapitola 1'!$C$6:$D$112,2,0)","v":"Jakým způsobem se řídí dokumentace HSE&S?"},{"$f":"'SDG – Technický list '!C17","v":3},17,{"$f":"IF('SDG – Technický list '!D17=\"\",\"\",IF($D18=\"\",\"please complete\",IF($D18>'SDG – Technický list '!D17-1,\":-)\",CONCATENATE(\"increase until \",'SDG – Technický list '!D17))))","v":""},{"$f":"IF('SDG – Technický list '!E17=\"\",\"\",IF($D18=\"\",\"please complete\",IF($D18>'SDG – Technický list '!E17-1,\":-)\",CONCATENATE(\"increase until \",'SDG – Technický list '!E17))))","v":""},{"$f":"IF('SDG – Technický list '!F17=\"\",\"\",IF($D18=\"\",\"please complete\",IF($D18>'SDG – Technický list '!F17-1,\":-)\",CONCATENATE(\"increase until \",'SDG – Technický list '!F17))))","v":""},{"$f":"IF('SDG – Technický list '!G17=\"\",\"\",IF($D18=\"\",\"please complete\",IF($D18>'SDG – Technický list '!G17-1,\":-)\",CONCATENATE(\"increase until \",'SDG – Technický list '!G17))))","v":""},{"$f":"IF('SDG – Technický list '!H17=\"\",\"\",IF($D18=\"\",\"please complete\",IF($D18>'SDG – Technický list '!H17-1,\":-)\",CONCATENATE(\"increase until \",'SDG – Technický list '!H17))))","v":""},{"$f":"IF('SDG – Technický list '!I17=\"\",\"\",IF($D18=\"\",\"please complete\",IF($D18>'SDG – Technický list '!I17-1,\":-)\",CONCATENATE(\"increase until \",'SDG – Technický list '!I17))))","v":""},{"$f":"IF('SDG – Technický list '!J17=\"\",\"\",IF($D18=\"\",\"please complete\",IF($D18>'SDG – Technický list '!J17-1,\":-)\",CONCATENATE(\"increase until \",'SDG – Technický list '!J17))))","v":""},{"$f":"IF('SDG – Technický list '!K17=\"\",\"\",IF($D18=\"\",\"please complete\",IF($D18>'SDG – Technický list '!K17-1,\":-)\",CONCATENATE(\"increase until \",'SDG – Technický list '!K17))))","v":""},{"$f":"IF('SDG – Technický list '!L17=\"\",\"\",IF($D18=\"\",\"please complete\",IF($D18>'SDG – Technický list '!L17-1,\":-)\",CONCATENATE(\"increase until \",'SDG – Technický list '!L17))))","v":""},{"$f":"IF('SDG – Technický list '!M17=\"\",\"\",IF($D18=\"\",\"please complete\",IF($D18>'SDG – Technický list '!M17-1,\":-)\",CONCATENATE(\"increase until \",'SDG – Technický list '!M17))))","v":""},{"$f":"IF('SDG – Technický list '!N17=\"\",\"\",IF($D18=\"\",\"please complete\",IF($D18>'SDG – Technický list '!N17-1,\":-)\",CONCATENATE(\"increase until \",'SDG – Technický list '!N17))))","v":""},{"$f":"IF('SDG – Technický list '!O17=\"\",\"\",IF($D18=\"\",\"please complete\",IF($D18>'SDG – Technický list '!O17-1,\":-)\",CONCATENATE(\"increase until \",'SDG – Technický list '!O17))))","v":""},{"$f":"IF('SDG – Technický list '!P17=\"\",\"\",IF($D18=\"\",\"please complete\",IF($D18>'SDG – Technický list '!P17-1,\":-)\",CONCATENATE(\"increase until \",'SDG – Technický list '!P17))))","v":""},{"$f":"IF('SDG – Technický list '!Q17=\"\",\"\",IF($D18=\"\",\"please complete\",IF($D18>'SDG – Technický list '!Q17-1,\":-)\",CONCATENATE(\"increase until \",'SDG – Technický list '!Q17))))","v":""},{"$f":"IF('SDG – Technický list '!R17=\"\",\"\",IF($D18=\"\",\"please complete\",IF($D18>'SDG – Technický list '!R17-1,\":-)\",CONCATENATE(\"increase until \",'SDG – Technický list '!R17))))","v":""},{"$f":"IF('SDG – Technický list '!S17=\"\",\"\",IF($D18=\"\",\"please complete\",IF($D18>'SDG – Technický list '!S17-1,\":-)\",CONCATENATE(\"increase until \",'SDG – Technický list '!S17))))","v":""},{"$f":"IF('SDG – Technický list '!T17=\"\",\"\",IF($D18=\"\",\"please complete\",IF($D18>'SDG – Technický list '!T17-1,\":-)\",CONCATENATE(\"increase until \",'SDG – Technický list '!T17))))","v":""}]
[null,{"$f":"'SDG – Technický list '!B18","v":"Q1.16"},{"$f":"VLOOKUP(B19,'Kapitola 1'!$C$6:$D$112,2,0)","v":"Jakým způsobem jsou řízeny změny potenciálně ovlivňující HSE&S (zdraví, bezpečnost, životní prostředí, energetiku a udržitelnost)?"},{"$f":"'SDG – Technický list '!C18","v":3},17,{"$f":"IF('SDG – Technický list '!D18=\"\",\"\",IF($D19=\"\",\"please complete\",IF($D19>'SDG – Technický list '!D18-1,\":-)\",CONCATENATE(\"increase until \",'SDG – Technický list '!D18))))","v":""},{"$f":"IF('SDG – Technický list '!E18=\"\",\"\",IF($D19=\"\",\"please complete\",IF($D19>'SDG – Technický list '!E18-1,\":-)\",CONCATENATE(\"increase until \",'SDG – Technický list '!E18))))","v":""},{"$f":"IF('SDG – Technický list '!F18=\"\",\"\",IF($D19=\"\",\"please complete\",IF($D19>'SDG – Technický list '!F18-1,\":-)\",CONCATENATE(\"increase until \",'SDG – Technický list '!F18))))","v":""},{"$f":"IF('SDG – Technický list '!G18=\"\",\"\",IF($D19=\"\",\"please complete\",IF($D19>'SDG – Technický list '!G18-1,\":-)\",CONCATENATE(\"increase until \",'SDG – Technický list '!G18))))","v":""},{"$f":"IF('SDG – Technický list '!H18=\"\",\"\",IF($D19=\"\",\"please complete\",IF($D19>'SDG – Technický list '!H18-1,\":-)\",CONCATENATE(\"increase until \",'SDG – Technický list '!H18))))","v":""},{"$f":"IF('SDG – Technický list '!I18=\"\",\"\",IF($D19=\"\",\"please complete\",IF($D19>'SDG – Technický list '!I18-1,\":-)\",CONCATENATE(\"increase until \",'SDG – Technický list '!I18))))","v":""},{"$f":"IF('SDG – Technický list '!J18=\"\",\"\",IF($D19=\"\",\"please complete\",IF($D19>'SDG – Technický list '!J18-1,\":-)\",CONCATENATE(\"increase until \",'SDG – Technický list '!J18))))","v":""},{"$f":"IF('SDG – Technický list '!K18=\"\",\"\",IF($D19=\"\",\"please complete\",IF($D19>'SDG – Technický list '!K18-1,\":-)\",CONCATENATE(\"increase until \",'SDG – Technický list '!K18))))","v":""},{"$f":"IF('SDG – Technický list '!L18=\"\",\"\",IF($D19=\"\",\"please complete\",IF($D19>'SDG – Technický list '!L18-1,\":-)\",CONCATENATE(\"increase until \",'SDG – Technický list '!L18))))","v":""},{"$f":"IF('SDG – Technický list '!M18=\"\",\"\",IF($D19=\"\",\"please complete\",IF($D19>'SDG – Technický list '!M18-1,\":-)\",CONCATENATE(\"increase until \",'SDG – Technický list '!M18))))","v":""},{"$f":"IF('SDG – Technický list '!N18=\"\",\"\",IF($D19=\"\",\"please complete\",IF($D19>'SDG – Technický list '!N18-1,\":-)\",CONCATENATE(\"increase until \",'SDG – Technický list '!N18))))","v":""},{"$f":"IF('SDG – Technický list '!O18=\"\",\"\",IF($D19=\"\",\"please complete\",IF($D19>'SDG – Technický list '!O18-1,\":-)\",CONCATENATE(\"increase until \",'SDG – Technický list '!O18))))","v":""},{"$f":"IF('SDG – Technický list '!P18=\"\",\"\",IF($D19=\"\",\"please complete\",IF($D19>'SDG – Technický list '!P18-1,\":-)\",CONCATENATE(\"increase until \",'SDG – Technický list '!P18))))","v":""},{"$f":"IF('SDG – Technický list '!Q18=\"\",\"\",IF($D19=\"\",\"please complete\",IF($D19>'SDG – Technický list '!Q18-1,\":-)\",CONCATENATE(\"increase until \",'SDG – Technický list '!Q18))))","v":""},{"$f":"IF('SDG – Technický list '!R18=\"\",\"\",IF($D19=\"\",\"please complete\",IF($D19>'SDG – Technický list '!R18-1,\":-)\",CONCATENATE(\"increase until \",'SDG – Technický list '!R18))))","v":""},{"$f":"IF('SDG – Technický list '!S18=\"\",\"\",IF($D19=\"\",\"please complete\",IF($D19>'SDG – Technický list '!S18-1,\":-)\",CONCATENATE(\"increase until \",'SDG – Technický list '!S18))))","v":""},{"$f":"IF('SDG – Technický list '!T18=\"\",\"\",IF($D19=\"\",\"please complete\",IF($D19>'SDG – Technický list '!T18-1,\":-)\",CONCATENATE(\"increase until \",'SDG – Technický list '!T18))))","v":""}]
[]
[null,{"$f":"'SDG – Technický list '!B20","v":"Q2.1"},{"$f":"VLOOKUP(B21,'Kapitola 2'!$C$6:$D$278,2,0)","v":"Jak se management zavázal k ochraně zdraví a bezpečnosti při práci (dále jen \"BOZP\")?"},{"$f":"'SDG – Technický list '!C20","v":3},16,{"$f":"IF('SDG – Technický list '!D20=\"\",\"\",IF($D21=\"\",\"prosím dokončete\",IF($D21>'SDG – Technický list '!D20-1,\":-)\",CONCATENATE(\"zvýšení do \",'SDG – Technický list '!D20))))","v":""},{"$f":"IF('SDG – Technický list '!E20=\"\",\"\",IF($D21=\"\",\"prosím dokončete\",IF($D21>'SDG – Technický list '!E20-1,\":-)\",CONCATENATE(\"zvýšení do \",'SDG – Technický list '!E20))))","v":""},{"$f":"IF('SDG – Technický list '!F20=\"\",\"\",IF($D21=\"\",\"prosím dokončete\",IF($D21>'SDG – Technický list '!F20-1,\":-)\",CONCATENATE(\"zvýšení do \",'SDG – Technický list '!F20))))","v":""},{"$f":"IF('SDG – Technický list '!G20=\"\",\"\",IF($D21=\"\",\"prosím dokončete\",IF($D21>'SDG – Technický list '!G20-1,\":-)\",CONCATENATE(\"zvýšení do \",'SDG – Technický list '!G20))))","v":""},{"$f":"IF('SDG – Technický list '!H20=\"\",\"\",IF($D21=\"\",\"prosím dokončete\",IF($D21>'SDG – Technický list '!H20-1,\":-)\",CONCATENATE(\"zvýšení do \",'SDG – Technický list '!H20))))","v":""},{"$f":"IF('SDG – Technický list '!I20=\"\",\"\",IF($D21=\"\",\"prosím dokončete\",IF($D21>'SDG – Technický list '!I20-1,\":-)\",CONCATENATE(\"zvýšení do \",'SDG – Technický list '!I20))))","v":""},{"$f":"IF('SDG – Technický list '!J20=\"\",\"\",IF($D21=\"\",\"prosím dokončete\",IF($D21>'SDG – Technický list '!J20-1,\":-)\",CONCATENATE(\"zvýšení do \",'SDG – Technický list '!J20))))","v":""},{"$f":"IF('SDG – Technický list '!K20=\"\",\"\",IF($D21=\"\",\"prosím dokončete\",IF($D21>'SDG – Technický list '!K20-1,\":-)\",CONCATENATE(\"zvýšení do \",'SDG – Technický list '!K20))))","v":":-)"},{"$f":"IF('SDG – Technický list '!L20=\"\",\"\",IF($D21=\"\",\"prosím dokončete\",IF($D21>'SDG – Technický list '!L20-1,\":-)\",CONCATENATE(\"zvýšení do \",'SDG – Technický list '!L20))))","v":""},{"$f":"IF('SDG – Technický list '!M20=\"\",\"\",IF($D21=\"\",\"prosím dokončete\",IF($D21>'SDG – Technický list '!M20-1,\":-)\",CONCATENATE(\"zvýšení do \",'SDG – Technický list '!M20))))","v":""},{"$f":"IF('SDG – Technický list '!N20=\"\",\"\",IF($D21=\"\",\"prosím dokončete\",IF($D21>'SDG – Technický list '!N20-1,\":-)\",CONCATENATE(\"zvýšení do \",'SDG – Technický list '!N20))))","v":""},{"$f":"IF('SDG – Technický list '!O20=\"\",\"\",IF($D21=\"\",\"prosím dokončete\",IF($D21>'SDG – Technický list '!O20-1,\":-)\",CONCATENATE(\"zvýšení do \",'SDG – Technický list '!O20))))","v":""},{"$f":"IF('SDG – Technický list '!P20=\"\",\"\",IF($D21=\"\",\"prosím dokončete\",IF($D21>'SDG – Technický list '!P20-1,\":-)\",CONCATENATE(\"zvýšení do \",'SDG – Technický list '!P20))))","v":""},{"$f":"IF('SDG – Technický list '!Q20=\"\",\"\",IF($D21=\"\",\"prosím dokončete\",IF($D21>'SDG – Technický list '!Q20-1,\":-)\",CONCATENATE(\"zvýšení do \",'SDG – Technický list '!Q20))))","v":""},{"$f":"IF('SDG – Technický list '!R20=\"\",\"\",IF($D21=\"\",\"prosím dokončete\",IF($D21>'SDG – Technický list '!R20-1,\":-)\",CONCATENATE(\"zvýšení do \",'SDG – Technický list '!R20))))","v":""},{"$f":"IF('SDG – Technický list '!S20=\"\",\"\",IF($D21=\"\",\"prosím dokončete\",IF($D21>'SDG – Technický list '!S20-1,\":-)\",CONCATENATE(\"zvýšení do \",'SDG – Technický list '!S20))))","v":""},{"$f":"IF('SDG – Technický list '!T20=\"\",\"\",IF($D21=\"\",\"prosím dokončete\",IF($D21>'SDG – Technický list '!T20-1,\":-)\",CONCATENATE(\"zvýšení do \",'SDG – Technický list '!T20))))","v":""}]
[null,{"$f":"'SDG – Technický list '!B21","v":"Q2.2"},{"$f":"VLOOKUP(B22,'Kapitola 2'!$C$6:$D$278,2,0)","v":"Jakým způsobem se určují rizika a expozice v souvislosti s BOZP?"},{"$f":"'SDG – Technický list '!C21","v":4},16,{"$f":"IF('SDG – Technický list '!D21=\"\",\"\",IF($D22=\"\",\"prosím dokončete\",IF($D22>'SDG – Technický list '!D21-1,\":-)\",CONCATENATE(\"zvýšení do \",'SDG – Technický list '!D21))))","v":""},{"$f":"IF('SDG – Technický list '!E21=\"\",\"\",IF($D22=\"\",\"prosím dokončete\",IF($D22>'SDG – Technický list '!E21-1,\":-)\",CONCATENATE(\"zvýšení do \",'SDG – Technický list '!E21))))","v":""},{"$f":"IF('SDG – Technický list '!F21=\"\",\"\",IF($D22=\"\",\"prosím dokončete\",IF($D22>'SDG – Technický list '!F21-1,\":-)\",CONCATENATE(\"zvýšení do \",'SDG – Technický list '!F21))))","v":""},{"$f":"IF('SDG – Technický list '!G21=\"\",\"\",IF($D22=\"\",\"prosím dokončete\",IF($D22>'SDG – Technický list '!G21-1,\":-)\",CONCATENATE(\"zvýšení do \",'SDG – Technický list '!G21))))","v":""},{"$f":"IF('SDG – Technický list '!H21=\"\",\"\",IF($D22=\"\",\"prosím dokončete\",IF($D22>'SDG – Technický list '!H21-1,\":-)\",CONCATENATE(\"zvýšení do \",'SDG – Technický list '!H21))))","v":""},{"$f":"IF('SDG – Technický list '!I21=\"\",\"\",IF($D22=\"\",\"prosím dokončete\",IF($D22>'SDG – Technický list '!I21-1,\":-)\",CONCATENATE(\"zvýšení do \",'SDG – Technický list '!I21))))","v":""},{"$f":"IF('SDG – Technický list '!J21=\"\",\"\",IF($D22=\"\",\"prosím dokončete\",IF($D22>'SDG – Technický list '!J21-1,\":-)\",CONCATENATE(\"zvýšení do \",'SDG – Technický list '!J21))))","v":""},{"$f":"IF('SDG – Technický list '!K21=\"\",\"\",IF($D22=\"\",\"prosím dokončete\",IF($D22>'SDG – Technický list '!K21-1,\":-)\",CONCATENATE(\"zvýšení do \",'SDG – Technický list '!K21))))","v":":-)"},{"$f":"IF('SDG – Technický list '!L21=\"\",\"\",IF($D22=\"\",\"prosím dokončete\",IF($D22>'SDG – Technický list '!L21-1,\":-)\",CONCATENATE(\"zvýšení do \",'SDG – Technický list '!L21))))","v":""},{"$f":"IF('SDG – Technický list '!M21=\"\",\"\",IF($D22=\"\",\"prosím dokončete\",IF($D22>'SDG – Technický list '!M21-1,\":-)\",CONCATENATE(\"zvýšení do \",'SDG – Technický list '!M21))))","v":""},{"$f":"IF('SDG – Technický list '!N21=\"\",\"\",IF($D22=\"\",\"prosím dokončete\",IF($D22>'SDG – Technický list '!N21-1,\":-)\",CONCATENATE(\"zvýšení do \",'SDG – Technický list '!N21))))","v":""},{"$f":"IF('SDG – Technický list '!O21=\"\",\"\",IF($D22=\"\",\"prosím dokončete\",IF($D22>'SDG – Technický list '!O21-1,\":-)\",CONCATENATE(\"zvýšení do \",'SDG – Technický list '!O21))))","v":""},{"$f":"IF('SDG – Technický list '!P21=\"\",\"\",IF($D22=\"\",\"prosím dokončete\",IF($D22>'SDG – Technický list '!P21-1,\":-)\",CONCATENATE(\"zvýšení do \",'SDG – Technický list '!P21))))","v":""},{"$f":"IF('SDG – Technický list '!Q21=\"\",\"\",IF($D22=\"\",\"prosím dokončete\",IF($D22>'SDG – Technický list '!Q21-1,\":-)\",CONCATENATE(\"zvýšení do \",'SDG – Technický list '!Q21))))","v":""},{"$f":"IF('SDG – Technický list '!R21=\"\",\"\",IF($D22=\"\",\"prosím dokončete\",IF($D22>'SDG – Technický list '!R21-1,\":-)\",CONCATENATE(\"zvýšení do \",'SDG – Technický list '!R21))))","v":""},{"$f":"IF('SDG – Technický list '!S21=\"\",\"\",IF($D22=\"\",\"prosím dokončete\",IF($D22>'SDG – Technický list '!S21-1,\":-)\",CONCATENATE(\"zvýšení do \",'SDG – Technický list '!S21))))","v":""},{"$f":"IF('SDG – Technický list '!T21=\"\",\"\",IF($D22=\"\",\"prosím dokončete\",IF($D22>'SDG – Technický list '!T21-1,\":-)\",CONCATENATE(\"zvýšení do \",'SDG – Technický list '!T21))))","v":""}]
[null,{"$f":"'SDG – Technický list '!B22","v":"Q2.3"},{"$f":"VLOOKUP(B23,'Kapitola 2'!$C$6:$D$278,2,0)","v":"Jakým způsobem se posuzují zdravotní požadavky?"},{"$f":"'SDG – Technický list '!C22","v":3},16,{"$f":"IF('SDG – Technický list '!D22=\"\",\"\",IF($D23=\"\",\"prosím dokončete\",IF($D23>'SDG – Technický list '!D22-1,\":-)\",CONCATENATE(\"zvýšení do \",'SDG – Technický list '!D22))))","v":""},{"$f":"IF('SDG – Technický list '!E22=\"\",\"\",IF($D23=\"\",\"prosím dokončete\",IF($D23>'SDG – Technický list '!E22-1,\":-)\",CONCATENATE(\"zvýšení do \",'SDG – Technický list '!E22))))","v":""},{"$f":"IF('SDG – Technický list '!F22=\"\",\"\",IF($D23=\"\",\"prosím dokončete\",IF($D23>'SDG – Technický list '!F22-1,\":-)\",CONCATENATE(\"zvýšení do \",'SDG – Technický list '!F22))))","v":""},{"$f":"IF('SDG – Technický list '!G22=\"\",\"\",IF($D23=\"\",\"prosím dokončete\",IF($D23>'SDG – Technický list '!G22-1,\":-)\",CONCATENATE(\"zvýšení do \",'SDG – Technický list '!G22))))","v":""},{"$f":"IF('SDG – Technický list '!H22=\"\",\"\",IF($D23=\"\",\"prosím dokončete\",IF($D23>'SDG – Technický list '!H22-1,\":-)\",CONCATENATE(\"zvýšení do \",'SDG – Technický list '!H22))))","v":""},{"$f":"IF('SDG – Technický list '!I22=\"\",\"\",IF($D23=\"\",\"prosím dokončete\",IF($D23>'SDG – Technický list '!I22-1,\":-)\",CONCATENATE(\"zvýšení do \",'SDG – Technický list '!I22))))","v":""},{"$f":"IF('SDG – Technický list '!J22=\"\",\"\",IF($D23=\"\",\"prosím dokončete\",IF($D23>'SDG – Technický list '!J22-1,\":-)\",CONCATENATE(\"zvýšení do \",'SDG – Technický list '!J22))))","v":""},{"$f":"IF('SDG – Technický list '!K22=\"\",\"\",IF($D23=\"\",\"prosím dokončete\",IF($D23>'SDG – Technický list '!K22-1,\":-)\",CONCATENATE(\"zvýšení do \",'SDG – Technický list '!K22))))","v":":-)"},{"$f":"IF('SDG – Technický list '!L22=\"\",\"\",IF($D23=\"\",\"prosím dokončete\",IF($D23>'SDG – Technický list '!L22-1,\":-)\",CONCATENATE(\"zvýšení do \",'SDG – Technický list '!L22))))","v":""},{"$f":"IF('SDG – Technický list '!M22=\"\",\"\",IF($D23=\"\",\"prosím dokončete\",IF($D23>'SDG – Technický list '!M22-1,\":-)\",CONCATENATE(\"zvýšení do \",'SDG – Technický list '!M22))))","v":""},{"$f":"IF('SDG – Technický list '!N22=\"\",\"\",IF($D23=\"\",\"prosím dokončete\",IF($D23>'SDG – Technický list '!N22-1,\":-)\",CONCATENATE(\"zvýšení do \",'SDG – Technický list '!N22))))","v":""},{"$f":"IF('SDG – Technický list '!O22=\"\",\"\",IF($D23=\"\",\"prosím dokončete\",IF($D23>'SDG – Technický list '!O22-1,\":-)\",CONCATENATE(\"zvýšení do \",'SDG – Technický list '!O22))))","v":""},{"$f":"IF('SDG – Technický list '!P22=\"\",\"\",IF($D23=\"\",\"prosím dokončete\",IF($D23>'SDG – Technický list '!P22-1,\":-)\",CONCATENATE(\"zvýšení do \",'SDG – Technický list '!P22))))","v":""},{"$f":"IF('SDG – Technický list '!Q22=\"\",\"\",IF($D23=\"\",\"prosím dokončete\",IF($D23>'SDG – Technický list '!Q22-1,\":-)\",CONCATENATE(\"zvýšení do \",'SDG – Technický list '!Q22))))","v":""},{"$f":"IF('SDG – Technický list '!R22=\"\",\"\",IF($D23=\"\",\"prosím dokončete\",IF($D23>'SDG – Technický list '!R22-1,\":-)\",CONCATENATE(\"zvýšení do \",'SDG – Technický list '!R22))))","v":""},{"$f":"IF('SDG – Technický list '!S22=\"\",\"\",IF($D23=\"\",\"prosím dokončete\",IF($D23>'SDG – Technický list '!S22-1,\":-)\",CONCATENATE(\"zvýšení do \",'SDG – Technický list '!S22))))","v":""},{"$f":"IF('SDG – Technický list '!T22=\"\",\"\",IF($D23=\"\",\"prosím dokončete\",IF($D23>'SDG – Technický list '!T22-1,\":-)\",CONCATENATE(\"zvýšení do \",'SDG – Technický list '!T22))))","v":""}]
[null,{"$f":"'SDG – Technický list '!B23","v":"Q2.4"},{"$f":"VLOOKUP(B24,'Kapitola 2'!$C$6:$D$278,2,0)","v":"Jakým způsobem zlepšuje organizace BOZP?"},{"$f":"'SDG – Technický list '!C23","v":4},17,{"$f":"IF('SDG – Technický list '!D23=\"\",\"\",IF($D24=\"\",\"please complete\",IF($D24>'SDG – Technický list '!D23-1,\":-)\",CONCATENATE(\"increase until \",'SDG – Technický list '!D23))))","v":""},{"$f":"IF('SDG – Technický list '!E23=\"\",\"\",IF($D24=\"\",\"please complete\",IF($D24>'SDG – Technický list '!E23-1,\":-)\",CONCATENATE(\"increase until \",'SDG – Technický list '!E23))))","v":""},{"$f":"IF('SDG – Technický list '!F23=\"\",\"\",IF($D24=\"\",\"please complete\",IF($D24>'SDG – Technický list '!F23-1,\":-)\",CONCATENATE(\"increase until \",'SDG – Technický list '!F23))))","v":""},{"$f":"IF('SDG – Technický list '!G23=\"\",\"\",IF($D24=\"\",\"please complete\",IF($D24>'SDG – Technický list '!G23-1,\":-)\",CONCATENATE(\"increase until \",'SDG – Technický list '!G23))))","v":""},{"$f":"IF('SDG – Technický list '!H23=\"\",\"\",IF($D24=\"\",\"please complete\",IF($D24>'SDG – Technický list '!H23-1,\":-)\",CONCATENATE(\"increase until \",'SDG – Technický list '!H23))))","v":""},{"$f":"IF('SDG – Technický list '!I23=\"\",\"\",IF($D24=\"\",\"please complete\",IF($D24>'SDG – Technický list '!I23-1,\":-)\",CONCATENATE(\"increase until \",'SDG – Technický list '!I23))))","v":""},{"$f":"IF('SDG – Technický list '!J23=\"\",\"\",IF($D24=\"\",\"please complete\",IF($D24>'SDG – Technický list '!J23-1,\":-)\",CONCATENATE(\"increase until \",'SDG – Technický list '!J23))))","v":""},{"$f":"IF('SDG – Technický list '!K23=\"\",\"\",IF($D24=\"\",\"please complete\",IF($D24>'SDG – Technický list '!K23-1,\":-)\",CONCATENATE(\"increase until \",'SDG – Technický list '!K23))))","v":""},{"$f":"IF('SDG – Technický list '!L23=\"\",\"\",IF($D24=\"\",\"please complete\",IF($D24>'SDG – Technický list '!L23-1,\":-)\",CONCATENATE(\"increase until \",'SDG – Technický list '!L23))))","v":""},{"$f":"IF('SDG – Technický list '!M23=\"\",\"\",IF($D24=\"\",\"please complete\",IF($D24>'SDG – Technický list '!M23-1,\":-)\",CONCATENATE(\"increase until \",'SDG – Technický list '!M23))))","v":""},{"$f":"IF('SDG – Technický list '!N23=\"\",\"\",IF($D24=\"\",\"please complete\",IF($D24>'SDG – Technický list '!N23-1,\":-)\",CONCATENATE(\"increase until \",'SDG – Technický list '!N23))))","v":""},{"$f":"IF('SDG – Technický list '!O23=\"\",\"\",IF($D24=\"\",\"please complete\",IF($D24>'SDG – Technický list '!O23-1,\":-)\",CONCATENATE(\"increase until \",'SDG – Technický list '!O23))))","v":""},{"$f":"IF('SDG – Technický list '!P23=\"\",\"\",IF($D24=\"\",\"please complete\",IF($D24>'SDG – Technický list '!P23-1,\":-)\",CONCATENATE(\"increase until \",'SDG – Technický list '!P23))))","v":""},{"$f":"IF('SDG – Technický list '!Q23=\"\",\"\",IF($D24=\"\",\"please complete\",IF($D24>'SDG – Technický list '!Q23-1,\":-)\",CONCATENATE(\"increase until \",'SDG – Technický list '!Q23))))","v":""},{"$f":"IF('SDG – Technický list '!R23=\"\",\"\",IF($D24=\"\",\"please complete\",IF($D24>'SDG – Technický list '!R23-1,\":-)\",CONCATENATE(\"increase until \",'SDG – Technický list '!R23))))","v":""},{"$f":"IF('SDG – Technický list '!S23=\"\",\"\",IF($D24=\"\",\"please complete\",IF($D24>'SDG – Technický list '!S23-1,\":-)\",CONCATENATE(\"increase until \",'SDG – Technický list '!S23))))","v":""},{"$f":"IF('SDG – Technický list '!T23=\"\",\"\",IF($D24=\"\",\"please complete\",IF($D24>'SDG – Technický list '!T23-1,\":-)\",CONCATENATE(\"increase until \",'SDG – Technický list '!T23))))","v":""}]
[null,{"$f":"'SDG – Technický list '!B24","v":"Q2.5"},{"$f":"VLOOKUP(B25,'Kapitola 2'!$C$6:$D$278,2,0)","v":"Jakým způsobem probíhá údržba a udržování pořádku s cílem zajistit bezpečnost provozů, zařízení, nástrojů a (bezpečnostních) pomůcek?"},{"$f":"'SDG – Technický list '!C24","v":2},17,{"$f":"IF('SDG – Technický list '!D24=\"\",\"\",IF($D25=\"\",\"please complete\",IF($D25>'SDG – Technický list '!D24-1,\":-)\",CONCATENATE(\"increase until \",'SDG – Technický list '!D24))))","v":""},{"$f":"IF('SDG – Technický list '!E24=\"\",\"\",IF($D25=\"\",\"please complete\",IF($D25>'SDG – Technický list '!E24-1,\":-)\",CONCATENATE(\"increase until \",'SDG – Technický list '!E24))))","v":""},{"$f":"IF('SDG – Technický list '!F24=\"\",\"\",IF($D25=\"\",\"please complete\",IF($D25>'SDG – Technický list '!F24-1,\":-)\",CONCATENATE(\"increase until \",'SDG – Technický list '!F24))))","v":""},{"$f":"IF('SDG – Technický list '!G24=\"\",\"\",IF($D25=\"\",\"please complete\",IF($D25>'SDG – Technický list '!G24-1,\":-)\",CONCATENATE(\"increase until \",'SDG – Technický list '!G24))))","v":""},{"$f":"IF('SDG – Technický list '!H24=\"\",\"\",IF($D25=\"\",\"please complete\",IF($D25>'SDG – Technický list '!H24-1,\":-)\",CONCATENATE(\"increase until \",'SDG – Technický list '!H24))))","v":""},{"$f":"IF('SDG – Technický list '!I24=\"\",\"\",IF($D25=\"\",\"please complete\",IF($D25>'SDG – Technický list '!I24-1,\":-)\",CONCATENATE(\"increase until \",'SDG – Technický list '!I24))))","v":""},{"$f":"IF('SDG – Technický list '!J24=\"\",\"\",IF($D25=\"\",\"please complete\",IF($D25>'SDG – Technický list '!J24-1,\":-)\",CONCATENATE(\"increase until \",'SDG – Technický list '!J24))))","v":""},{"$f":"IF('SDG – Technický list '!K24=\"\",\"\",IF($D25=\"\",\"please complete\",IF($D25>'SDG – Technický list '!K24-1,\":-)\",CONCATENATE(\"increase until \",'SDG – Technický list '!K24))))","v":""},{"$f":"IF('SDG – Technický list '!L24=\"\",\"\",IF($D25=\"\",\"please complete\",IF($D25>'SDG – Technický list '!L24-1,\":-)\",CONCATENATE(\"increase until \",'SDG – Technický list '!L24))))","v":""},{"$f":"IF('SDG – Technický list '!M24=\"\",\"\",IF($D25=\"\",\"please complete\",IF($D25>'SDG – Technický list '!M24-1,\":-)\",CONCATENATE(\"increase until \",'SDG – Technický list '!M24))))","v":""},{"$f":"IF('SDG – Technický list '!N24=\"\",\"\",IF($D25=\"\",\"please complete\",IF($D25>'SDG – Technický list '!N24-1,\":-)\",CONCATENATE(\"increase until \",'SDG – Technický list '!N24))))","v":""},{"$f":"IF('SDG – Technický list '!O24=\"\",\"\",IF($D25=\"\",\"please complete\",IF($D25>'SDG – Technický list '!O24-1,\":-)\",CONCATENATE(\"increase until \",'SDG – Technický list '!O24))))","v":""},{"$f":"IF('SDG – Technický list '!P24=\"\",\"\",IF($D25=\"\",\"please complete\",IF($D25>'SDG – Technický list '!P24-1,\":-)\",CONCATENATE(\"increase until \",'SDG – Technický list '!P24))))","v":""},{"$f":"IF('SDG – Technický list '!Q24=\"\",\"\",IF($D25=\"\",\"please complete\",IF($D25>'SDG – Technický list '!Q24-1,\":-)\",CONCATENATE(\"increase until \",'SDG – Technický list '!Q24))))","v":""},{"$f":"IF('SDG – Technický list '!R24=\"\",\"\",IF($D25=\"\",\"please complete\",IF($D25>'SDG – Technický list '!R24-1,\":-)\",CONCATENATE(\"increase until \",'SDG – Technický list '!R24))))","v":""},{"$f":"IF('SDG – Technický list '!S24=\"\",\"\",IF($D25=\"\",\"please complete\",IF($D25>'SDG – Technický list '!S24-1,\":-)\",CONCATENATE(\"increase until \",'SDG – Technický list '!S24))))","v":""},{"$f":"IF('SDG – Technický list '!T24=\"\",\"\",IF($D25=\"\",\"please complete\",IF($D25>'SDG – Technický list '!T24-1,\":-)\",CONCATENATE(\"increase until \",'SDG – Technický list '!T24))))","v":""}]
[null,{"$f":"'SDG – Technický list '!B25","v":"Q2.6"},{"$f":"VLOOKUP(B26,'Kapitola 2'!$C$6:$D$278,2,0)","v":"Jak se ověřuje správný výběr, údržba a používání zdravotního a bezpečnostního vybavení (např. osobních ochranných prostředků = OOPP)?"},{"$f":"'SDG – Technický list '!C25","v":3},17,{"$f":"IF('SDG – Technický list '!D25=\"\",\"\",IF($D26=\"\",\"please complete\",IF($D26>'SDG – Technický list '!D25-1,\":-)\",CONCATENATE(\"increase until \",'SDG – Technický list '!D25))))","v":""},{"$f":"IF('SDG – Technický list '!E25=\"\",\"\",IF($D26=\"\",\"please complete\",IF($D26>'SDG – Technický list '!E25-1,\":-)\",CONCATENATE(\"increase until \",'SDG – Technický list '!E25))))","v":""},{"$f":"IF('SDG – Technický list '!F25=\"\",\"\",IF($D26=\"\",\"please complete\",IF($D26>'SDG – Technický list '!F25-1,\":-)\",CONCATENATE(\"increase until \",'SDG – Technický list '!F25))))","v":""},{"$f":"IF('SDG – Technický list '!G25=\"\",\"\",IF($D26=\"\",\"please complete\",IF($D26>'SDG – Technický list '!G25-1,\":-)\",CONCATENATE(\"increase until \",'SDG – Technický list '!G25))))","v":""},{"$f":"IF('SDG – Technický list '!H25=\"\",\"\",IF($D26=\"\",\"please complete\",IF($D26>'SDG – Technický list '!H25-1,\":-)\",CONCATENATE(\"increase until \",'SDG – Technický list '!H25))))","v":""},{"$f":"IF('SDG – Technický list '!I25=\"\",\"\",IF($D26=\"\",\"please complete\",IF($D26>'SDG – Technický list '!I25-1,\":-)\",CONCATENATE(\"increase until \",'SDG – Technický list '!I25))))","v":""},{"$f":"IF('SDG – Technický list '!J25=\"\",\"\",IF($D26=\"\",\"please complete\",IF($D26>'SDG – Technický list '!J25-1,\":-)\",CONCATENATE(\"increase until \",'SDG – Technický list '!J25))))","v":""},{"$f":"IF('SDG – Technický list '!K25=\"\",\"\",IF($D26=\"\",\"please complete\",IF($D26>'SDG – Technický list '!K25-1,\":-)\",CONCATENATE(\"increase until \",'SDG – Technický list '!K25))))","v":""},{"$f":"IF('SDG – Technický list '!L25=\"\",\"\",IF($D26=\"\",\"please complete\",IF($D26>'SDG – Technický list '!L25-1,\":-)\",CONCATENATE(\"increase until \",'SDG – Technický list '!L25))))","v":""},{"$f":"IF('SDG – Technický list '!M25=\"\",\"\",IF($D26=\"\",\"please complete\",IF($D26>'SDG – Technický list '!M25-1,\":-)\",CONCATENATE(\"increase until \",'SDG – Technický list '!M25))))","v":""},{"$f":"IF('SDG – Technický list '!N25=\"\",\"\",IF($D26=\"\",\"please complete\",IF($D26>'SDG – Technický list '!N25-1,\":-)\",CONCATENATE(\"increase until \",'SDG – Technický list '!N25))))","v":""},{"$f":"IF('SDG – Technický list '!O25=\"\",\"\",IF($D26=\"\",\"please complete\",IF($D26>'SDG – Technický list '!O25-1,\":-)\",CONCATENATE(\"increase until \",'SDG – Technický list '!O25))))","v":""},{"$f":"IF('SDG – Technický list '!P25=\"\",\"\",IF($D26=\"\",\"please complete\",IF($D26>'SDG – Technický list '!P25-1,\":-)\",CONCATENATE(\"increase until \",'SDG – Technický list '!P25))))","v":""},{"$f":"IF('SDG – Technický list '!Q25=\"\",\"\",IF($D26=\"\",\"please complete\",IF($D26>'SDG – Technický list '!Q25-1,\":-)\",CONCATENATE(\"increase until \",'SDG – Technický list '!Q25))))","v":""},{"$f":"IF('SDG – Technický list '!R25=\"\",\"\",IF($D26=\"\",\"please complete\",IF($D26>'SDG – Technický list '!R25-1,\":-)\",CONCATENATE(\"increase until \",'SDG – Technický list '!R25))))","v":""},{"$f":"IF('SDG – Technický list '!S25=\"\",\"\",IF($D26=\"\",\"please complete\",IF($D26>'SDG – Technický list '!S25-1,\":-)\",CONCATENATE(\"increase until \",'SDG – Technický list '!S25))))","v":""},{"$f":"IF('SDG – Technický list '!T25=\"\",\"\",IF($D26=\"\",\"please complete\",IF($D26>'SDG – Technický list '!T25-1,\":-)\",CONCATENATE(\"increase until \",'SDG – Technický list '!T25))))","v":""}]
[null,{"$f":"'SDG – Technický list '!B26","v":"Q2.7"},{"$f":"VLOOKUP(B27,'Kapitola 2'!$C$6:$D$278,2,0)","v":"Jak se organizace stará o stres a tělesné a duševní zdraví zaměstnanců?"},{"$f":"'SDG – Technický list '!C26","v":2},16,{"$f":"IF('SDG – Technický list '!D26=\"\",\"\",IF($D27=\"\",\"prosím dokončete\",IF($D27>'SDG – Technický list '!D26-1,\":-)\",CONCATENATE(\"zvýšení do \",'SDG – Technický list '!D26))))","v":""},{"$f":"IF('SDG – Technický list '!E26=\"\",\"\",IF($D27=\"\",\"prosím dokončete\",IF($D27>'SDG – Technický list '!E26-1,\":-)\",CONCATENATE(\"zvýšení do \",'SDG – Technický list '!E26))))","v":""},{"$f":"IF('SDG – Technický list '!F26=\"\",\"\",IF($D27=\"\",\"prosím dokončete\",IF($D27>'SDG – Technický list '!F26-1,\":-)\",CONCATENATE(\"zvýšení do \",'SDG – Technický list '!F26))))","v":""},{"$f":"IF('SDG – Technický list '!G26=\"\",\"\",IF($D27=\"\",\"prosím dokončete\",IF($D27>'SDG – Technický list '!G26-1,\":-)\",CONCATENATE(\"zvýšení do \",'SDG – Technický list '!G26))))","v":""},{"$f":"IF('SDG – Technický list '!H26=\"\",\"\",IF($D27=\"\",\"prosím dokončete\",IF($D27>'SDG – Technický list '!H26-1,\":-)\",CONCATENATE(\"zvýšení do \",'SDG – Technický list '!H26))))","v":""},{"$f":"IF('SDG – Technický list '!I26=\"\",\"\",IF($D27=\"\",\"prosím dokončete\",IF($D27>'SDG – Technický list '!I26-1,\":-)\",CONCATENATE(\"zvýšení do \",'SDG – Technický list '!I26))))","v":""},{"$f":"IF('SDG – Technický list '!J26=\"\",\"\",IF($D27=\"\",\"prosím dokončete\",IF($D27>'SDG – Technický list '!J26-1,\":-)\",CONCATENATE(\"zvýšení do \",'SDG – Technický list '!J26))))","v":""},{"$f":"IF('SDG – Technický list '!K26=\"\",\"\",IF($D27=\"\",\"prosím dokončete\",IF($D27>'SDG – Technický list '!K26-1,\":-)\",CONCATENATE(\"zvýšení do \",'SDG – Technický list '!K26))))","v":"zvýšení do 3"},{"$f":"IF('SDG – Technický list '!L26=\"\",\"\",IF($D27=\"\",\"prosím dokončete\",IF($D27>'SDG – Technický list '!L26-1,\":-)\",CONCATENATE(\"zvýšení do \",'SDG – Technický list '!L26))))","v":""},{"$f":"IF('SDG – Technický list '!M26=\"\",\"\",IF($D27=\"\",\"prosím dokončete\",IF($D27>'SDG – Technický list '!M26-1,\":-)\",CONCATENATE(\"zvýšení do \",'SDG – Technický list '!M26))))","v":""},{"$f":"IF('SDG – Technický list '!N26=\"\",\"\",IF($D27=\"\",\"prosím dokončete\",IF($D27>'SDG – Technický list '!N26-1,\":-)\",CONCATENATE(\"zvýšení do \",'SDG – Technický list '!N26))))","v":""},{"$f":"IF('SDG – Technický list '!O26=\"\",\"\",IF($D27=\"\",\"prosím dokončete\",IF($D27>'SDG – Technický list '!O26-1,\":-)\",CONCATENATE(\"zvýšení do \",'SDG – Technický list '!O26))))","v":""},{"$f":"IF('SDG – Technický list '!P26=\"\",\"\",IF($D27=\"\",\"prosím dokončete\",IF($D27>'SDG – Technický list '!P26-1,\":-)\",CONCATENATE(\"zvýšení do \",'SDG – Technický list '!P26))))","v":""},{"$f":"IF('SDG – Technický list '!Q26=\"\",\"\",IF($D27=\"\",\"prosím dokončete\",IF($D27>'SDG – Technický list '!Q26-1,\":-)\",CONCATENATE(\"zvýšení do \",'SDG – Technický list '!Q26))))","v":""},{"$f":"IF('SDG – Technický list '!R26=\"\",\"\",IF($D27=\"\",\"prosím dokončete\",IF($D27>'SDG – Technický list '!R26-1,\":-)\",CONCATENATE(\"zvýšení do \",'SDG – Technický list '!R26))))","v":""},{"$f":"IF('SDG – Technický list '!S26=\"\",\"\",IF($D27=\"\",\"prosím dokončete\",IF($D27>'SDG – Technický list '!S26-1,\":-)\",CONCATENATE(\"zvýšení do \",'SDG – Technický list '!S26))))","v":""},{"$f":"IF('SDG – Technický list '!T26=\"\",\"\",IF($D27=\"\",\"prosím dokončete\",IF($D27>'SDG – Technický list '!T26-1,\":-)\",CONCATENATE(\"zvýšení do \",'SDG – Technický list '!T26))))","v":""}]
[null,{"$f":"'SDG – Technický list '!B27","v":"Q2.8"},{"$f":"VLOOKUP(B28,'Kapitola 2'!$C$6:$D$278,2,0)","v":"Jakým způsobem se vyšetřují onemocnění, zranění, incidenty a potenciálně nebezpečné situace na pracovišti?"},{"$f":"'SDG – Technický list '!C27","v":3},16,{"$f":"IF('SDG – Technický list '!D27=\"\",\"\",IF($D28=\"\",\"prosím dokončete\",IF($D28>'SDG – Technický list '!D27-1,\":-)\",CONCATENATE(\"zvýšení do \",'SDG – Technický list '!D27))))","v":""},{"$f":"IF('SDG – Technický list '!E27=\"\",\"\",IF($D28=\"\",\"prosím dokončete\",IF($D28>'SDG – Technický list '!E27-1,\":-)\",CONCATENATE(\"zvýšení do \",'SDG – Technický list '!E27))))","v":""},{"$f":"IF('SDG – Technický list '!F27=\"\",\"\",IF($D28=\"\",\"prosím dokončete\",IF($D28>'SDG – Technický list '!F27-1,\":-)\",CONCATENATE(\"zvýšení do \",'SDG – Technický list '!F27))))","v":""},{"$f":"IF('SDG – Technický list '!G27=\"\",\"\",IF($D28=\"\",\"prosím dokončete\",IF($D28>'SDG – Technický list '!G27-1,\":-)\",CONCATENATE(\"zvýšení do \",'SDG – Technický list '!G27))))","v":""},{"$f":"IF('SDG – Technický list '!H27=\"\",\"\",IF($D28=\"\",\"prosím dokončete\",IF($D28>'SDG – Technický list '!H27-1,\":-)\",CONCATENATE(\"zvýšení do \",'SDG – Technický list '!H27))))","v":""},{"$f":"IF('SDG – Technický list '!I27=\"\",\"\",IF($D28=\"\",\"prosím dokončete\",IF($D28>'SDG – Technický list '!I27-1,\":-)\",CONCATENATE(\"zvýšení do \",'SDG – Technický list '!I27))))","v":""},{"$f":"IF('SDG – Technický list '!J27=\"\",\"\",IF($D28=\"\",\"prosím dokončete\",IF($D28>'SDG – Technický list '!J27-1,\":-)\",CONCATENATE(\"zvýšení do \",'SDG – Technický list '!J27))))","v":""},{"$f":"IF('SDG – Technický list '!K27=\"\",\"\",IF($D28=\"\",\"prosím dokončete\",IF($D28>'SDG – Technický list '!K27-1,\":-)\",CONCATENATE(\"zvýšení do \",'SDG – Technický list '!K27))))","v":":-)"},{"$f":"IF('SDG – Technický list '!L27=\"\",\"\",IF($D28=\"\",\"prosím dokončete\",IF($D28>'SDG – Technický list '!L27-1,\":-)\",CONCATENATE(\"zvýšení do \",'SDG – Technický list '!L27))))","v":""},{"$f":"IF('SDG – Technický list '!M27=\"\",\"\",IF($D28=\"\",\"prosím dokončete\",IF($D28>'SDG – Technický list '!M27-1,\":-)\",CONCATENATE(\"zvýšení do \",'SDG – Technický list '!M27))))","v":""},{"$f":"IF('SDG – Technický list '!N27=\"\",\"\",IF($D28=\"\",\"prosím dokončete\",IF($D28>'SDG – Technický list '!N27-1,\":-)\",CONCATENATE(\"zvýšení do \",'SDG – Technický list '!N27))))","v":""},{"$f":"IF('SDG – Technický list '!O27=\"\",\"\",IF($D28=\"\",\"prosím dokončete\",IF($D28>'SDG – Technický list '!O27-1,\":-)\",CONCATENATE(\"zvýšení do \",'SDG – Technický list '!O27))))","v":""},{"$f":"IF('SDG – Technický list '!P27=\"\",\"\",IF($D28=\"\",\"prosím dokončete\",IF($D28>'SDG – Technický list '!P27-1,\":-)\",CONCATENATE(\"zvýšení do \",'SDG – Technický list '!P27))))","v":""},{"$f":"IF('SDG – Technický list '!Q27=\"\",\"\",IF($D28=\"\",\"prosím dokončete\",IF($D28>'SDG – Technický list '!Q27-1,\":-)\",CONCATENATE(\"zvýšení do \",'SDG – Technický list '!Q27))))","v":""},{"$f":"IF('SDG – Technický list '!R27=\"\",\"\",IF($D28=\"\",\"prosím dokončete\",IF($D28>'SDG – Technický list '!R27-1,\":-)\",CONCATENATE(\"zvýšení do \",'SDG – Technický list '!R27))))","v":""},{"$f":"IF('SDG – Technický list '!S27=\"\",\"\",IF($D28=\"\",\"prosím dokončete\",IF($D28>'SDG – Technický list '!S27-1,\":-)\",CONCATENATE(\"zvýšení do \",'SDG – Technický list '!S27))))","v":""},{"$f":"IF('SDG – Technický list '!T27=\"\",\"\",IF($D28=\"\",\"prosím dokončete\",IF($D28>'SDG – Technický list '!T27-1,\":-)\",CONCATENATE(\"zvýšení do \",'SDG – Technický list '!T27))))","v":""}]
[null,{"$f":"'SDG – Technický list '!B28","v":"Q2.9"},{"$f":"VLOOKUP(B29,'Kapitola 2'!$C$6:$D$278,2,0)","v":"Jak je organizace připravena na mimořádné události?"},{"$f":"'SDG – Technický list '!C28","v":4},17,{"$f":"IF('SDG – Technický list '!D28=\"\",\"\",IF($D29=\"\",\"please complete\",IF($D29>'SDG – Technický list '!D28-1,\":-)\",CONCATENATE(\"increase until \",'SDG – Technický list '!D28))))","v":""},{"$f":"IF('SDG – Technický list '!E28=\"\",\"\",IF($D29=\"\",\"please complete\",IF($D29>'SDG – Technický list '!E28-1,\":-)\",CONCATENATE(\"increase until \",'SDG – Technický list '!E28))))","v":""},{"$f":"IF('SDG – Technický list '!F28=\"\",\"\",IF($D29=\"\",\"please complete\",IF($D29>'SDG – Technický list '!F28-1,\":-)\",CONCATENATE(\"increase until \",'SDG – Technický list '!F28))))","v":""},{"$f":"IF('SDG – Technický list '!G28=\"\",\"\",IF($D29=\"\",\"please complete\",IF($D29>'SDG – Technický list '!G28-1,\":-)\",CONCATENATE(\"increase until \",'SDG – Technický list '!G28))))","v":""},{"$f":"IF('SDG – Technický list '!H28=\"\",\"\",IF($D29=\"\",\"please complete\",IF($D29>'SDG – Technický list '!H28-1,\":-)\",CONCATENATE(\"increase until \",'SDG – Technický list '!H28))))","v":""},{"$f":"IF('SDG – Technický list '!I28=\"\",\"\",IF($D29=\"\",\"please complete\",IF($D29>'SDG – Technický list '!I28-1,\":-)\",CONCATENATE(\"increase until \",'SDG – Technický list '!I28))))","v":""},{"$f":"IF('SDG – Technický list '!J28=\"\",\"\",IF($D29=\"\",\"please complete\",IF($D29>'SDG – Technický list '!J28-1,\":-)\",CONCATENATE(\"increase until \",'SDG – Technický list '!J28))))","v":""},{"$f":"IF('SDG – Technický list '!K28=\"\",\"\",IF($D29=\"\",\"please complete\",IF($D29>'SDG – Technický list '!K28-1,\":-)\",CONCATENATE(\"increase until \",'SDG – Technický list '!K28))))","v":""},{"$f":"IF('SDG – Technický list '!L28=\"\",\"\",IF($D29=\"\",\"please complete\",IF($D29>'SDG – Technický list '!L28-1,\":-)\",CONCATENATE(\"increase until \",'SDG – Technický list '!L28))))","v":""},{"$f":"IF('SDG – Technický list '!M28=\"\",\"\",IF($D29=\"\",\"please complete\",IF($D29>'SDG – Technický list '!M28-1,\":-)\",CONCATENATE(\"increase until \",'SDG – Technický list '!M28))))","v":""},{"$f":"IF('SDG – Technický list '!N28=\"\",\"\",IF($D29=\"\",\"please complete\",IF($D29>'SDG – Technický list '!N28-1,\":-)\",CONCATENATE(\"increase until \",'SDG – Technický list '!N28))))","v":""},{"$f":"IF('SDG – Technický list '!O28=\"\",\"\",IF($D29=\"\",\"please complete\",IF($D29>'SDG – Technický list '!O28-1,\":-)\",CONCATENATE(\"increase until \",'SDG – Technický list '!O28))))","v":""},{"$f":"IF('SDG – Technický list '!P28=\"\",\"\",IF($D29=\"\",\"please complete\",IF($D29>'SDG – Technický list '!P28-1,\":-)\",CONCATENATE(\"increase until \",'SDG – Technický list '!P28))))","v":""},{"$f":"IF('SDG – Technický list '!Q28=\"\",\"\",IF($D29=\"\",\"please complete\",IF($D29>'SDG – Technický list '!Q28-1,\":-)\",CONCATENATE(\"increase until \",'SDG – Technický list '!Q28))))","v":""},{"$f":"IF('SDG – Technický list '!R28=\"\",\"\",IF($D29=\"\",\"please complete\",IF($D29>'SDG – Technický list '!R28-1,\":-)\",CONCATENATE(\"increase until \",'SDG – Technický list '!R28))))","v":""},{"$f":"IF('SDG – Technický list '!S28=\"\",\"\",IF($D29=\"\",\"please complete\",IF($D29>'SDG – Technický list '!S28-1,\":-)\",CONCATENATE(\"increase until \",'SDG – Technický list '!S28))))","v":""},{"$f":"IF('SDG – Technický list '!T28=\"\",\"\",IF($D29=\"\",\"please complete\",IF($D29>'SDG – Technický list '!T28-1,\":-)\",CONCATENATE(\"increase until \",'SDG – Technický list '!T28))))","v":""}]
[null,{"$f":"'SDG – Technický list '!B29","v":"Q2.10"},{"$f":"VLOOKUP(B30,'Kapitola 2'!$C$6:$D$278,2,0)","v":"Jakým způsobem zajišťuje organizace správně kompetence všech pracovníků, týkající se požadavků BOZP, které souvisí s jejich pracovní náplní?"},{"$f":"'SDG – Technický list '!C29","v":3},16,{"$f":"IF('SDG – Technický list '!D29=\"\",\"\",IF($D30=\"\",\"prosím dokončete\",IF($D30>'SDG – Technický list '!D29-1,\":-)\",CONCATENATE(\"zvýšení do \",'SDG – Technický list '!D29))))","v":""},{"$f":"IF('SDG – Technický list '!E29=\"\",\"\",IF($D30=\"\",\"prosím dokončete\",IF($D30>'SDG – Technický list '!E29-1,\":-)\",CONCATENATE(\"zvýšení do \",'SDG – Technický list '!E29))))","v":""},{"$f":"IF('SDG – Technický list '!F29=\"\",\"\",IF($D30=\"\",\"prosím dokončete\",IF($D30>'SDG – Technický list '!F29-1,\":-)\",CONCATENATE(\"zvýšení do \",'SDG – Technický list '!F29))))","v":""},{"$f":"IF('SDG – Technický list '!G29=\"\",\"\",IF($D30=\"\",\"prosím dokončete\",IF($D30>'SDG – Technický list '!G29-1,\":-)\",CONCATENATE(\"zvýšení do \",'SDG – Technický list '!G29))))","v":""},{"$f":"IF('SDG – Technický list '!H29=\"\",\"\",IF($D30=\"\",\"prosím dokončete\",IF($D30>'SDG – Technický list '!H29-1,\":-)\",CONCATENATE(\"zvýšení do \",'SDG – Technický list '!H29))))","v":""},{"$f":"IF('SDG – Technický list '!I29=\"\",\"\",IF($D30=\"\",\"prosím dokončete\",IF($D30>'SDG – Technický list '!I29-1,\":-)\",CONCATENATE(\"zvýšení do \",'SDG – Technický list '!I29))))","v":""},{"$f":"IF('SDG – Technický list '!J29=\"\",\"\",IF($D30=\"\",\"prosím dokončete\",IF($D30>'SDG – Technický list '!J29-1,\":-)\",CONCATENATE(\"zvýšení do \",'SDG – Technický list '!J29))))","v":""},{"$f":"IF('SDG – Technický list '!K29=\"\",\"\",IF($D30=\"\",\"prosím dokončete\",IF($D30>'SDG – Technický list '!K29-1,\":-)\",CONCATENATE(\"zvýšení do \",'SDG – Technický list '!K29))))","v":":-)"},{"$f":"IF('SDG – Technický list '!L29=\"\",\"\",IF($D30=\"\",\"prosím dokončete\",IF($D30>'SDG – Technický list '!L29-1,\":-)\",CONCATENATE(\"zvýšení do \",'SDG – Technický list '!L29))))","v":""},{"$f":"IF('SDG – Technický list '!M29=\"\",\"\",IF($D30=\"\",\"prosím dokončete\",IF($D30>'SDG – Technický list '!M29-1,\":-)\",CONCATENATE(\"zvýšení do \",'SDG – Technický list '!M29))))","v":""},{"$f":"IF('SDG – Technický list '!N29=\"\",\"\",IF($D30=\"\",\"prosím dokončete\",IF($D30>'SDG – Technický list '!N29-1,\":-)\",CONCATENATE(\"zvýšení do \",'SDG – Technický list '!N29))))","v":""},{"$f":"IF('SDG – Technický list '!O29=\"\",\"\",IF($D30=\"\",\"prosím dokončete\",IF($D30>'SDG – Technický list '!O29-1,\":-)\",CONCATENATE(\"zvýšení do \",'SDG – Technický list '!O29))))","v":""},{"$f":"IF('SDG – Technický list '!P29=\"\",\"\",IF($D30=\"\",\"prosím dokončete\",IF($D30>'SDG – Technický list '!P29-1,\":-)\",CONCATENATE(\"zvýšení do \",'SDG – Technický list '!P29))))","v":""},{"$f":"IF('SDG – Technický list '!Q29=\"\",\"\",IF($D30=\"\",\"prosím dokončete\",IF($D30>'SDG – Technický list '!Q29-1,\":-)\",CONCATENATE(\"zvýšení do \",'SDG – Technický list '!Q29))))","v":""},{"$f":"IF('SDG – Technický list '!R29=\"\",\"\",IF($D30=\"\",\"prosím dokončete\",IF($D30>'SDG – Technický list '!R29-1,\":-)\",CONCATENATE(\"zvýšení do \",'SDG – Technický list '!R29))))","v":""},{"$f":"IF('SDG – Technický list '!S29=\"\",\"\",IF($D30=\"\",\"prosím dokončete\",IF($D30>'SDG – Technický list '!S29-1,\":-)\",CONCATENATE(\"zvýšení do \",'SDG – Technický list '!S29))))","v":""},{"$f":"IF('SDG – Technický list '!T29=\"\",\"\",IF($D30=\"\",\"prosím dokončete\",IF($D30>'SDG – Technický list '!T29-1,\":-)\",CONCATENATE(\"zvýšení do \",'SDG – Technický list '!T29))))","v":""}]
[null,{"$f":"'SDG – Technický list '!B30","v":"Q2.11"},{"$f":"VLOOKUP(B31,'Kapitola 2'!$C$6:$D$278,2,0)","v":"Jakým způsobem se vedení staví k procesní bezpečnosti?\n\n"},{"$f":"'SDG – Technický list '!C30","v":3},17,{"$f":"IF('SDG – Technický list '!D30=\"\",\"\",IF($D31=\"\",\"please complete\",IF($D31>'SDG – Technický list '!D30-1,\":-)\",CONCATENATE(\"increase until \",'SDG – Technický list '!D30))))","v":""},{"$f":"IF('SDG – Technický list '!E30=\"\",\"\",IF($D31=\"\",\"please complete\",IF($D31>'SDG – Technický list '!E30-1,\":-)\",CONCATENATE(\"increase until \",'SDG – Technický list '!E30))))","v":""},{"$f":"IF('SDG – Technický list '!F30=\"\",\"\",IF($D31=\"\",\"please complete\",IF($D31>'SDG – Technický list '!F30-1,\":-)\",CONCATENATE(\"increase until \",'SDG – Technický list '!F30))))","v":""},{"$f":"IF('SDG – Technický list '!G30=\"\",\"\",IF($D31=\"\",\"please complete\",IF($D31>'SDG – Technický list '!G30-1,\":-)\",CONCATENATE(\"increase until \",'SDG – Technický list '!G30))))","v":""},{"$f":"IF('SDG – Technický list '!H30=\"\",\"\",IF($D31=\"\",\"please complete\",IF($D31>'SDG – Technický list '!H30-1,\":-)\",CONCATENATE(\"increase until \",'SDG – Technický list '!H30))))","v":""},{"$f":"IF('SDG – Technický list '!I30=\"\",\"\",IF($D31=\"\",\"please complete\",IF($D31>'SDG – Technický list '!I30-1,\":-)\",CONCATENATE(\"increase until \",'SDG – Technický list '!I30))))","v":""},{"$f":"IF('SDG – Technický list '!J30=\"\",\"\",IF($D31=\"\",\"please complete\",IF($D31>'SDG – Technický list '!J30-1,\":-)\",CONCATENATE(\"increase until \",'SDG – Technický list '!J30))))","v":""},{"$f":"IF('SDG – Technický list '!K30=\"\",\"\",IF($D31=\"\",\"please complete\",IF($D31>'SDG – Technický list '!K30-1,\":-)\",CONCATENATE(\"increase until \",'SDG – Technický list '!K30))))","v":""},{"$f":"IF('SDG – Technický list '!L30=\"\",\"\",IF($D31=\"\",\"please complete\",IF($D31>'SDG – Technický list '!L30-1,\":-)\",CONCATENATE(\"increase until \",'SDG – Technický list '!L30))))","v":""},{"$f":"IF('SDG – Technický list '!M30=\"\",\"\",IF($D31=\"\",\"please complete\",IF($D31>'SDG – Technický list '!M30-1,\":-)\",CONCATENATE(\"increase until \",'SDG – Technický list '!M30))))","v":""},{"$f":"IF('SDG – Technický list '!N30=\"\",\"\",IF($D31=\"\",\"please complete\",IF($D31>'SDG – Technický list '!N30-1,\":-)\",CONCATENATE(\"increase until \",'SDG – Technický list '!N30))))","v":""},{"$f":"IF('SDG – Technický list '!O30=\"\",\"\",IF($D31=\"\",\"please complete\",IF($D31>'SDG – Technický list '!O30-1,\":-)\",CONCATENATE(\"increase until \",'SDG – Technický list '!O30))))","v":""},{"$f":"IF('SDG – Technický list '!P30=\"\",\"\",IF($D31=\"\",\"please complete\",IF($D31>'SDG – Technický list '!P30-1,\":-)\",CONCATENATE(\"increase until \",'SDG – Technický list '!P30))))","v":""},{"$f":"IF('SDG – Technický list '!Q30=\"\",\"\",IF($D31=\"\",\"please complete\",IF($D31>'SDG – Technický list '!Q30-1,\":-)\",CONCATENATE(\"increase until \",'SDG – Technický list '!Q30))))","v":""},{"$f":"IF('SDG – Technický list '!R30=\"\",\"\",IF($D31=\"\",\"please complete\",IF($D31>'SDG – Technický list '!R30-1,\":-)\",CONCATENATE(\"increase until \",'SDG – Technický list '!R30))))","v":""},{"$f":"IF('SDG – Technický list '!S30=\"\",\"\",IF($D31=\"\",\"please complete\",IF($D31>'SDG – Technický list '!S30-1,\":-)\",CONCATENATE(\"increase until \",'SDG – Technický list '!S30))))","v":""},{"$f":"IF('SDG – Technický list '!T30=\"\",\"\",IF($D31=\"\",\"please complete\",IF($D31>'SDG – Technický list '!T30-1,\":-)\",CONCATENATE(\"increase until \",'SDG – Technický list '!T30))))","v":""}]
[null,{"$f":"'SDG – Technický list '!B31","v":"Q2.12"},{"$f":"VLOOKUP(B32,'Kapitola 2'!$C$6:$D$278,2,0)","v":"Jakým způsobem je vypracována identifikace a popis bezpečnosti procesů, zařízení a pracovišť organizace?"},{"$f":"'SDG – Technický list '!C31","v":4},17,{"$f":"IF('SDG – Technický list '!D31=\"\",\"\",IF($D32=\"\",\"please complete\",IF($D32>'SDG – Technický list '!D31-1,\":-)\",CONCATENATE(\"increase until \",'SDG – Technický list '!D31))))","v":""},{"$f":"IF('SDG – Technický list '!E31=\"\",\"\",IF($D32=\"\",\"please complete\",IF($D32>'SDG – Technický list '!E31-1,\":-)\",CONCATENATE(\"increase until \",'SDG – Technický list '!E31))))","v":""},{"$f":"IF('SDG – Technický list '!F31=\"\",\"\",IF($D32=\"\",\"please complete\",IF($D32>'SDG – Technický list '!F31-1,\":-)\",CONCATENATE(\"increase until \",'SDG – Technický list '!F31))))","v":""},{"$f":"IF('SDG – Technický list '!G31=\"\",\"\",IF($D32=\"\",\"please complete\",IF($D32>'SDG – Technický list '!G31-1,\":-)\",CONCATENATE(\"increase until \",'SDG – Technický list '!G31))))","v":""},{"$f":"IF('SDG – Technický list '!H31=\"\",\"\",IF($D32=\"\",\"please complete\",IF($D32>'SDG – Technický list '!H31-1,\":-)\",CONCATENATE(\"increase until \",'SDG – Technický list '!H31))))","v":""},{"$f":"IF('SDG – Technický list '!I31=\"\",\"\",IF($D32=\"\",\"please complete\",IF($D32>'SDG – Technický list '!I31-1,\":-)\",CONCATENATE(\"increase until \",'SDG – Technický list '!I31))))","v":""},{"$f":"IF('SDG – Technický list '!J31=\"\",\"\",IF($D32=\"\",\"please complete\",IF($D32>'SDG – Technický list '!J31-1,\":-)\",CONCATENATE(\"increase until \",'SDG – Technický list '!J31))))","v":""},{"$f":"IF('SDG – Technický list '!K31=\"\",\"\",IF($D32=\"\",\"please complete\",IF($D32>'SDG – Technický list '!K31-1,\":-)\",CONCATENATE(\"increase until \",'SDG – Technický list '!K31))))","v":""},{"$f":"IF('SDG – Technický list '!L31=\"\",\"\",IF($D32=\"\",\"please complete\",IF($D32>'SDG – Technický list '!L31-1,\":-)\",CONCATENATE(\"increase until \",'SDG – Technický list '!L31))))","v":""},{"$f":"IF('SDG – Technický list '!M31=\"\",\"\",IF($D32=\"\",\"please complete\",IF($D32>'SDG – Technický list '!M31-1,\":-)\",CONCATENATE(\"increase until \",'SDG – Technický list '!M31))))","v":""},{"$f":"IF('SDG – Technický list '!N31=\"\",\"\",IF($D32=\"\",\"please complete\",IF($D32>'SDG – Technický list '!N31-1,\":-)\",CONCATENATE(\"increase until \",'SDG – Technický list '!N31))))","v":""},{"$f":"IF('SDG – Technický list '!O31=\"\",\"\",IF($D32=\"\",\"please complete\",IF($D32>'SDG – Technický list '!O31-1,\":-)\",CONCATENATE(\"increase until \",'SDG – Technický list '!O31))))","v":""},{"$f":"IF('SDG – Technický list '!P31=\"\",\"\",IF($D32=\"\",\"please complete\",IF($D32>'SDG – Technický list '!P31-1,\":-)\",CONCATENATE(\"increase until \",'SDG – Technický list '!P31))))","v":""},{"$f":"IF('SDG – Technický list '!Q31=\"\",\"\",IF($D32=\"\",\"please complete\",IF($D32>'SDG – Technický list '!Q31-1,\":-)\",CONCATENATE(\"increase until \",'SDG – Technický list '!Q31))))","v":""},{"$f":"IF('SDG – Technický list '!R31=\"\",\"\",IF($D32=\"\",\"please complete\",IF($D32>'SDG – Technický list '!R31-1,\":-)\",CONCATENATE(\"increase until \",'SDG – Technický list '!R31))))","v":""},{"$f":"IF('SDG – Technický list '!S31=\"\",\"\",IF($D32=\"\",\"please complete\",IF($D32>'SDG – Technický list '!S31-1,\":-)\",CONCATENATE(\"increase until \",'SDG – Technický list '!S31))))","v":""},{"$f":"IF('SDG – Technický list '!T31=\"\",\"\",IF($D32=\"\",\"please complete\",IF($D32>'SDG – Technický list '!T31-1,\":-)\",CONCATENATE(\"increase until \",'SDG – Technický list '!T31))))","v":""}]
[null,{"$f":"'SDG – Technický list '!B32","v":"Q2.13"},{"$f":"VLOOKUP(B33,'Kapitola 2'!$C$6:$D$278,2,0)","v":"Jakým způsobem se zlepšuje procesní bezpečnost po nehodách a incidentech?"},{"$f":"'SDG – Technický list '!C32","v":3},17,{"$f":"IF('SDG – Technický list '!D32=\"\",\"\",IF($D33=\"\",\"please complete\",IF($D33>'SDG – Technický list '!D32-1,\":-)\",CONCATENATE(\"increase until \",'SDG – Technický list '!D32))))","v":""},{"$f":"IF('SDG – Technický list '!E32=\"\",\"\",IF($D33=\"\",\"please complete\",IF($D33>'SDG – Technický list '!E32-1,\":-)\",CONCATENATE(\"increase until \",'SDG – Technický list '!E32))))","v":""},{"$f":"IF('SDG – Technický list '!F32=\"\",\"\",IF($D33=\"\",\"please complete\",IF($D33>'SDG – Technický list '!F32-1,\":-)\",CONCATENATE(\"increase until \",'SDG – Technický list '!F32))))","v":""},{"$f":"IF('SDG – Technický list '!G32=\"\",\"\",IF($D33=\"\",\"please complete\",IF($D33>'SDG – Technický list '!G32-1,\":-)\",CONCATENATE(\"increase until \",'SDG – Technický list '!G32))))","v":""},{"$f":"IF('SDG – Technický list '!H32=\"\",\"\",IF($D33=\"\",\"please complete\",IF($D33>'SDG – Technický list '!H32-1,\":-)\",CONCATENATE(\"increase until \",'SDG – Technický list '!H32))))","v":""},{"$f":"IF('SDG – Technický list '!I32=\"\",\"\",IF($D33=\"\",\"please complete\",IF($D33>'SDG – Technický list '!I32-1,\":-)\",CONCATENATE(\"increase until \",'SDG – Technický list '!I32))))","v":""},{"$f":"IF('SDG – Technický list '!J32=\"\",\"\",IF($D33=\"\",\"please complete\",IF($D33>'SDG – Technický list '!J32-1,\":-)\",CONCATENATE(\"increase until \",'SDG – Technický list '!J32))))","v":""},{"$f":"IF('SDG – Technický list '!K32=\"\",\"\",IF($D33=\"\",\"please complete\",IF($D33>'SDG – Technický list '!K32-1,\":-)\",CONCATENATE(\"increase until \",'SDG – Technický list '!K32))))","v":""},{"$f":"IF('SDG – Technický list '!L32=\"\",\"\",IF($D33=\"\",\"please complete\",IF($D33>'SDG – Technický list '!L32-1,\":-)\",CONCATENATE(\"increase until \",'SDG – Technický list '!L32))))","v":""},{"$f":"IF('SDG – Technický list '!M32=\"\",\"\",IF($D33=\"\",\"please complete\",IF($D33>'SDG – Technický list '!M32-1,\":-)\",CONCATENATE(\"increase until \",'SDG – Technický list '!M32))))","v":""},{"$f":"IF('SDG – Technický list '!N32=\"\",\"\",IF($D33=\"\",\"please complete\",IF($D33>'SDG – Technický list '!N32-1,\":-)\",CONCATENATE(\"increase until \",'SDG – Technický list '!N32))))","v":""},{"$f":"IF('SDG – Technický list '!O32=\"\",\"\",IF($D33=\"\",\"please complete\",IF($D33>'SDG – Technický list '!O32-1,\":-)\",CONCATENATE(\"increase until \",'SDG – Technický list '!O32))))","v":""},{"$f":"IF('SDG – Technický list '!P32=\"\",\"\",IF($D33=\"\",\"please complete\",IF($D33>'SDG – Technický list '!P32-1,\":-)\",CONCATENATE(\"increase until \",'SDG – Technický list '!P32))))","v":""},{"$f":"IF('SDG – Technický list '!Q32=\"\",\"\",IF($D33=\"\",\"please complete\",IF($D33>'SDG – Technický list '!Q32-1,\":-)\",CONCATENATE(\"increase until \",'SDG – Technický list '!Q32))))","v":""},{"$f":"IF('SDG – Technický list '!R32=\"\",\"\",IF($D33=\"\",\"please complete\",IF($D33>'SDG – Technický list '!R32-1,\":-)\",CONCATENATE(\"increase until \",'SDG – Technický list '!R32))))","v":""},{"$f":"IF('SDG – Technický list '!S32=\"\",\"\",IF($D33=\"\",\"please complete\",IF($D33>'SDG – Technický list '!S32-1,\":-)\",CONCATENATE(\"increase until \",'SDG – Technický list '!S32))))","v":""},{"$f":"IF('SDG – Technický list '!T32=\"\",\"\",IF($D33=\"\",\"please complete\",IF($D33>'SDG – Technický list '!T32-1,\":-)\",CONCATENATE(\"increase until \",'SDG – Technický list '!T32))))","v":""}]
[null,{"$f":"'SDG – Technický list '!B33","v":"Q2.14"},{"$f":"VLOOKUP(B34,'Kapitola 2'!$C$6:$D$278,2,0)","v":"Jakým způsobem se provádějí audity a inspekce procesní bezpečnosti?"},{"$f":"'SDG – Technický list '!C33","v":1},17,{"$f":"IF('SDG – Technický list '!D33=\"\",\"\",IF($D34=\"\",\"please complete\",IF($D34>'SDG – Technický list '!D33-1,\":-)\",CONCATENATE(\"increase until \",'SDG – Technický list '!D33))))","v":""},{"$f":"IF('SDG – Technický list '!E33=\"\",\"\",IF($D34=\"\",\"please complete\",IF($D34>'SDG – Technický list '!E33-1,\":-)\",CONCATENATE(\"increase until \",'SDG – Technický list '!E33))))","v":""},{"$f":"IF('SDG – Technický list '!F33=\"\",\"\",IF($D34=\"\",\"please complete\",IF($D34>'SDG – Technický list '!F33-1,\":-)\",CONCATENATE(\"increase until \",'SDG – Technický list '!F33))))","v":""},{"$f":"IF('SDG – Technický list '!G33=\"\",\"\",IF($D34=\"\",\"please complete\",IF($D34>'SDG – Technický list '!G33-1,\":-)\",CONCATENATE(\"increase until \",'SDG – Technický list '!G33))))","v":""},{"$f":"IF('SDG – Technický list '!H33=\"\",\"\",IF($D34=\"\",\"please complete\",IF($D34>'SDG – Technický list '!H33-1,\":-)\",CONCATENATE(\"increase until \",'SDG – Technický list '!H33))))","v":""},{"$f":"IF('SDG – Technický list '!I33=\"\",\"\",IF($D34=\"\",\"please complete\",IF($D34>'SDG – Technický list '!I33-1,\":-)\",CONCATENATE(\"increase until \",'SDG – Technický list '!I33))))","v":""},{"$f":"IF('SDG – Technický list '!J33=\"\",\"\",IF($D34=\"\",\"please complete\",IF($D34>'SDG – Technický list '!J33-1,\":-)\",CONCATENATE(\"increase until \",'SDG – Technický list '!J33))))","v":""},{"$f":"IF('SDG – Technický list '!K33=\"\",\"\",IF($D34=\"\",\"please complete\",IF($D34>'SDG – Technický list '!K33-1,\":-)\",CONCATENATE(\"increase until \",'SDG – Technický list '!K33))))","v":""},{"$f":"IF('SDG – Technický list '!L33=\"\",\"\",IF($D34=\"\",\"please complete\",IF($D34>'SDG – Technický list '!L33-1,\":-)\",CONCATENATE(\"increase until \",'SDG – Technický list '!L33))))","v":""},{"$f":"IF('SDG – Technický list '!M33=\"\",\"\",IF($D34=\"\",\"please complete\",IF($D34>'SDG – Technický list '!M33-1,\":-)\",CONCATENATE(\"increase until \",'SDG – Technický list '!M33))))","v":""},{"$f":"IF('SDG – Technický list '!N33=\"\",\"\",IF($D34=\"\",\"please complete\",IF($D34>'SDG – Technický list '!N33-1,\":-)\",CONCATENATE(\"increase until \",'SDG – Technický list '!N33))))","v":""},{"$f":"IF('SDG – Technický list '!O33=\"\",\"\",IF($D34=\"\",\"please complete\",IF($D34>'SDG – Technický list '!O33-1,\":-)\",CONCATENATE(\"increase until \",'SDG – Technický list '!O33))))","v":""},{"$f":"IF('SDG – Technický list '!P33=\"\",\"\",IF($D34=\"\",\"please complete\",IF($D34>'SDG – Technický list '!P33-1,\":-)\",CONCATENATE(\"increase until \",'SDG – Technický list '!P33))))","v":""},{"$f":"IF('SDG – Technický list '!Q33=\"\",\"\",IF($D34=\"\",\"please complete\",IF($D34>'SDG – Technický list '!Q33-1,\":-)\",CONCATENATE(\"increase until \",'SDG – Technický list '!Q33))))","v":""},{"$f":"IF('SDG – Technický list '!R33=\"\",\"\",IF($D34=\"\",\"please complete\",IF($D34>'SDG – Technický list '!R33-1,\":-)\",CONCATENATE(\"increase until \",'SDG – Technický list '!R33))))","v":""},{"$f":"IF('SDG – Technický list '!S33=\"\",\"\",IF($D34=\"\",\"please complete\",IF($D34>'SDG – Technický list '!S33-1,\":-)\",CONCATENATE(\"increase until \",'SDG – Technický list '!S33))))","v":""},{"$f":"IF('SDG – Technický list '!T33=\"\",\"\",IF($D34=\"\",\"please complete\",IF($D34>'SDG – Technický list '!T33-1,\":-)\",CONCATENATE(\"increase until \",'SDG – Technický list '!T33))))","v":""}]
[null,{"$f":"'SDG – Technický list '!B34","v":"Q2.15"},{"$f":"VLOOKUP(B35,'Kapitola 2'!$C$6:$D$278,2,0)","v":"Jakým způsobem se prověřují a zlepšují pracovní pokyny?"},{"$f":"'SDG – Technický list '!C34","v":3},17,{"$f":"IF('SDG – Technický list '!D34=\"\",\"\",IF($D35=\"\",\"please complete\",IF($D35>'SDG – Technický list '!D34-1,\":-)\",CONCATENATE(\"increase until \",'SDG – Technický list '!D34))))","v":""},{"$f":"IF('SDG – Technický list '!E34=\"\",\"\",IF($D35=\"\",\"please complete\",IF($D35>'SDG – Technický list '!E34-1,\":-)\",CONCATENATE(\"increase until \",'SDG – Technický list '!E34))))","v":""},{"$f":"IF('SDG – Technický list '!F34=\"\",\"\",IF($D35=\"\",\"please complete\",IF($D35>'SDG – Technický list '!F34-1,\":-)\",CONCATENATE(\"increase until \",'SDG – Technický list '!F34))))","v":""},{"$f":"IF('SDG – Technický list '!G34=\"\",\"\",IF($D35=\"\",\"please complete\",IF($D35>'SDG – Technický list '!G34-1,\":-)\",CONCATENATE(\"increase until \",'SDG – Technický list '!G34))))","v":""},{"$f":"IF('SDG – Technický list '!H34=\"\",\"\",IF($D35=\"\",\"please complete\",IF($D35>'SDG – Technický list '!H34-1,\":-)\",CONCATENATE(\"increase until \",'SDG – Technický list '!H34))))","v":""},{"$f":"IF('SDG – Technický list '!I34=\"\",\"\",IF($D35=\"\",\"please complete\",IF($D35>'SDG – Technický list '!I34-1,\":-)\",CONCATENATE(\"increase until \",'SDG – Technický list '!I34))))","v":""},{"$f":"IF('SDG – Technický list '!J34=\"\",\"\",IF($D35=\"\",\"please complete\",IF($D35>'SDG – Technický list '!J34-1,\":-)\",CONCATENATE(\"increase until \",'SDG – Technický list '!J34))))","v":""},{"$f":"IF('SDG – Technický list '!K34=\"\",\"\",IF($D35=\"\",\"please complete\",IF($D35>'SDG – Technický list '!K34-1,\":-)\",CONCATENATE(\"increase until \",'SDG – Technický list '!K34))))","v":""},{"$f":"IF('SDG – Technický list '!L34=\"\",\"\",IF($D35=\"\",\"please complete\",IF($D35>'SDG – Technický list '!L34-1,\":-)\",CONCATENATE(\"increase until \",'SDG – Technický list '!L34))))","v":""},{"$f":"IF('SDG – Technický list '!M34=\"\",\"\",IF($D35=\"\",\"please complete\",IF($D35>'SDG – Technický list '!M34-1,\":-)\",CONCATENATE(\"increase until \",'SDG – Technický list '!M34))))","v":""},{"$f":"IF('SDG – Technický list '!N34=\"\",\"\",IF($D35=\"\",\"please complete\",IF($D35>'SDG – Technický list '!N34-1,\":-)\",CONCATENATE(\"increase until \",'SDG – Technický list '!N34))))","v":""},{"$f":"IF('SDG – Technický list '!O34=\"\",\"\",IF($D35=\"\",\"please complete\",IF($D35>'SDG – Technický list '!O34-1,\":-)\",CONCATENATE(\"increase until \",'SDG – Technický list '!O34))))","v":""},{"$f":"IF('SDG – Technický list '!P34=\"\",\"\",IF($D35=\"\",\"please complete\",IF($D35>'SDG – Technický list '!P34-1,\":-)\",CONCATENATE(\"increase until \",'SDG – Technický list '!P34))))","v":""},{"$f":"IF('SDG – Technický list '!Q34=\"\",\"\",IF($D35=\"\",\"please complete\",IF($D35>'SDG – Technický list '!Q34-1,\":-)\",CONCATENATE(\"increase until \",'SDG – Technický list '!Q34))))","v":""},{"$f":"IF('SDG – Technický list '!R34=\"\",\"\",IF($D35=\"\",\"please complete\",IF($D35>'SDG – Technický list '!R34-1,\":-)\",CONCATENATE(\"increase until \",'SDG – Technický list '!R34))))","v":""},{"$f":"IF('SDG – Technický list '!S34=\"\",\"\",IF($D35=\"\",\"please complete\",IF($D35>'SDG – Technický list '!S34-1,\":-)\",CONCATENATE(\"increase until \",'SDG – Technický list '!S34))))","v":""},{"$f":"IF('SDG – Technický list '!T34=\"\",\"\",IF($D35=\"\",\"please complete\",IF($D35>'SDG – Technický list '!T34-1,\":-)\",CONCATENATE(\"increase until \",'SDG – Technický list '!T34))))","v":""}]
[null,{"$f":"'SDG – Technický list '!B35","v":"Q2.16"},{"$f":"VLOOKUP(B36,'Kapitola 2'!$C$6:$D$278,2,0)","v":"Jak je navrhována a dokumnetována instalace nových zařízení?"},{"$f":"'SDG – Technický list '!C35","v":4},17,{"$f":"IF('SDG – Technický list '!D35=\"\",\"\",IF($D36=\"\",\"please complete\",IF($D36>'SDG – Technický list '!D35-1,\":-)\",CONCATENATE(\"increase until \",'SDG – Technický list '!D35))))","v":""},{"$f":"IF('SDG – Technický list '!E35=\"\",\"\",IF($D36=\"\",\"please complete\",IF($D36>'SDG – Technický list '!E35-1,\":-)\",CONCATENATE(\"increase until \",'SDG – Technický list '!E35))))","v":""},{"$f":"IF('SDG – Technický list '!F35=\"\",\"\",IF($D36=\"\",\"please complete\",IF($D36>'SDG – Technický list '!F35-1,\":-)\",CONCATENATE(\"increase until \",'SDG – Technický list '!F35))))","v":""},{"$f":"IF('SDG – Technický list '!G35=\"\",\"\",IF($D36=\"\",\"please complete\",IF($D36>'SDG – Technický list '!G35-1,\":-)\",CONCATENATE(\"increase until \",'SDG – Technický list '!G35))))","v":""},{"$f":"IF('SDG – Technický list '!H35=\"\",\"\",IF($D36=\"\",\"please complete\",IF($D36>'SDG – Technický list '!H35-1,\":-)\",CONCATENATE(\"increase until \",'SDG – Technický list '!H35))))","v":""},{"$f":"IF('SDG – Technický list '!I35=\"\",\"\",IF($D36=\"\",\"please complete\",IF($D36>'SDG – Technický list '!I35-1,\":-)\",CONCATENATE(\"increase until \",'SDG – Technický list '!I35))))","v":""},{"$f":"IF('SDG – Technický list '!J35=\"\",\"\",IF($D36=\"\",\"please complete\",IF($D36>'SDG – Technický list '!J35-1,\":-)\",CONCATENATE(\"increase until \",'SDG – Technický list '!J35))))","v":""},{"$f":"IF('SDG – Technický list '!K35=\"\",\"\",IF($D36=\"\",\"please complete\",IF($D36>'SDG – Technický list '!K35-1,\":-)\",CONCATENATE(\"increase until \",'SDG – Technický list '!K35))))","v":""},{"$f":"IF('SDG – Technický list '!L35=\"\",\"\",IF($D36=\"\",\"please complete\",IF($D36>'SDG – Technický list '!L35-1,\":-)\",CONCATENATE(\"increase until \",'SDG – Technický list '!L35))))","v":""},{"$f":"IF('SDG – Technický list '!M35=\"\",\"\",IF($D36=\"\",\"please complete\",IF($D36>'SDG – Technický list '!M35-1,\":-)\",CONCATENATE(\"increase until \",'SDG – Technický list '!M35))))","v":""},{"$f":"IF('SDG – Technický list '!N35=\"\",\"\",IF($D36=\"\",\"please complete\",IF($D36>'SDG – Technický list '!N35-1,\":-)\",CONCATENATE(\"increase until \",'SDG – Technický list '!N35))))","v":""},{"$f":"IF('SDG – Technický list '!O35=\"\",\"\",IF($D36=\"\",\"please complete\",IF($D36>'SDG – Technický list '!O35-1,\":-)\",CONCATENATE(\"increase until \",'SDG – Technický list '!O35))))","v":""},{"$f":"IF('SDG – Technický list '!P35=\"\",\"\",IF($D36=\"\",\"please complete\",IF($D36>'SDG – Technický list '!P35-1,\":-)\",CONCATENATE(\"increase until \",'SDG – Technický list '!P35))))","v":""},{"$f":"IF('SDG – Technický list '!Q35=\"\",\"\",IF($D36=\"\",\"please complete\",IF($D36>'SDG – Technický list '!Q35-1,\":-)\",CONCATENATE(\"increase until \",'SDG – Technický list '!Q35))))","v":""},{"$f":"IF('SDG – Technický list '!R35=\"\",\"\",IF($D36=\"\",\"please complete\",IF($D36>'SDG – Technický list '!R35-1,\":-)\",CONCATENATE(\"increase until \",'SDG – Technický list '!R35))))","v":""},{"$f":"IF('SDG – Technický list '!S35=\"\",\"\",IF($D36=\"\",\"please complete\",IF($D36>'SDG – Technický list '!S35-1,\":-)\",CONCATENATE(\"increase until \",'SDG – Technický list '!S35))))","v":""},{"$f":"IF('SDG – Technický list '!T35=\"\",\"\",IF($D36=\"\",\"please complete\",IF($D36>'SDG – Technický list '!T35-1,\":-)\",CONCATENATE(\"increase until \",'SDG – Technický list '!T35))))","v":""}]
[null,{"$f":"'SDG – Technický list '!B36","v":"Q2.17"},{"$f":"VLOOKUP(B37,'Kapitola 2'!$C$6:$D$278,2,0)","v":"Jakým způsobem probíhá kontrola zřizování instalace?"},{"$f":"'SDG – Technický list '!C36","v":4},17,{"$f":"IF('SDG – Technický list '!D36=\"\",\"\",IF($D37=\"\",\"please complete\",IF($D37>'SDG – Technický list '!D36-1,\":-)\",CONCATENATE(\"increase until \",'SDG – Technický list '!D36))))","v":""},{"$f":"IF('SDG – Technický list '!E36=\"\",\"\",IF($D37=\"\",\"please complete\",IF($D37>'SDG – Technický list '!E36-1,\":-)\",CONCATENATE(\"increase until \",'SDG – Technický list '!E36))))","v":""},{"$f":"IF('SDG – Technický list '!F36=\"\",\"\",IF($D37=\"\",\"please complete\",IF($D37>'SDG – Technický list '!F36-1,\":-)\",CONCATENATE(\"increase until \",'SDG – Technický list '!F36))))","v":""},{"$f":"IF('SDG – Technický list '!G36=\"\",\"\",IF($D37=\"\",\"please complete\",IF($D37>'SDG – Technický list '!G36-1,\":-)\",CONCATENATE(\"increase until \",'SDG – Technický list '!G36))))","v":""},{"$f":"IF('SDG – Technický list '!H36=\"\",\"\",IF($D37=\"\",\"please complete\",IF($D37>'SDG – Technický list '!H36-1,\":-)\",CONCATENATE(\"increase until \",'SDG – Technický list '!H36))))","v":""},{"$f":"IF('SDG – Technický list '!I36=\"\",\"\",IF($D37=\"\",\"please complete\",IF($D37>'SDG – Technický list '!I36-1,\":-)\",CONCATENATE(\"increase until \",'SDG – Technický list '!I36))))","v":""},{"$f":"IF('SDG – Technický list '!J36=\"\",\"\",IF($D37=\"\",\"please complete\",IF($D37>'SDG – Technický list '!J36-1,\":-)\",CONCATENATE(\"increase until \",'SDG – Technický list '!J36))))","v":""},{"$f":"IF('SDG – Technický list '!K36=\"\",\"\",IF($D37=\"\",\"please complete\",IF($D37>'SDG – Technický list '!K36-1,\":-)\",CONCATENATE(\"increase until \",'SDG – Technický list '!K36))))","v":""},{"$f":"IF('SDG – Technický list '!L36=\"\",\"\",IF($D37=\"\",\"please complete\",IF($D37>'SDG – Technický list '!L36-1,\":-)\",CONCATENATE(\"increase until \",'SDG – Technický list '!L36))))","v":""},{"$f":"IF('SDG – Technický list '!M36=\"\",\"\",IF($D37=\"\",\"please complete\",IF($D37>'SDG – Technický list '!M36-1,\":-)\",CONCATENATE(\"increase until \",'SDG – Technický list '!M36))))","v":""},{"$f":"IF('SDG – Technický list '!N36=\"\",\"\",IF($D37=\"\",\"please complete\",IF($D37>'SDG – Technický list '!N36-1,\":-)\",CONCATENATE(\"increase until \",'SDG – Technický list '!N36))))","v":""},{"$f":"IF('SDG – Technický list '!O36=\"\",\"\",IF($D37=\"\",\"please complete\",IF($D37>'SDG – Technický list '!O36-1,\":-)\",CONCATENATE(\"increase until \",'SDG – Technický list '!O36))))","v":""},{"$f":"IF('SDG – Technický list '!P36=\"\",\"\",IF($D37=\"\",\"please complete\",IF($D37>'SDG – Technický list '!P36-1,\":-)\",CONCATENATE(\"increase until \",'SDG – Technický list '!P36))))","v":""},{"$f":"IF('SDG – Technický list '!Q36=\"\",\"\",IF($D37=\"\",\"please complete\",IF($D37>'SDG – Technický list '!Q36-1,\":-)\",CONCATENATE(\"increase until \",'SDG – Technický list '!Q36))))","v":""},{"$f":"IF('SDG – Technický list '!R36=\"\",\"\",IF($D37=\"\",\"please complete\",IF($D37>'SDG – Technický list '!R36-1,\":-)\",CONCATENATE(\"increase until \",'SDG – Technický list '!R36))))","v":""},{"$f":"IF('SDG – Technický list '!S36=\"\",\"\",IF($D37=\"\",\"please complete\",IF($D37>'SDG – Technický list '!S36-1,\":-)\",CONCATENATE(\"increase until \",'SDG – Technický list '!S36))))","v":""},{"$f":"IF('SDG – Technický list '!T36=\"\",\"\",IF($D37=\"\",\"please complete\",IF($D37>'SDG – Technický list '!T36-1,\":-)\",CONCATENATE(\"increase until \",'SDG – Technický list '!T36))))","v":""}]
[null,{"$f":"'SDG – Technický list '!B37","v":"Q2.18"},{"$f":"VLOOKUP(B38,'Kapitola 2'!$C$6:$D$278,2,0)","v":"Jakým způsobem je zaručena ochrana zařízení, aby jediná chyba neměla katastrofické následky?"},{"$f":"'SDG – Technický list '!C37","v":3},17,{"$f":"IF('SDG – Technický list '!D37=\"\",\"\",IF($D38=\"\",\"please complete\",IF($D38>'SDG – Technický list '!D37-1,\":-)\",CONCATENATE(\"increase until \",'SDG – Technický list '!D37))))","v":""},{"$f":"IF('SDG – Technický list '!E37=\"\",\"\",IF($D38=\"\",\"please complete\",IF($D38>'SDG – Technický list '!E37-1,\":-)\",CONCATENATE(\"increase until \",'SDG – Technický list '!E37))))","v":""},{"$f":"IF('SDG – Technický list '!F37=\"\",\"\",IF($D38=\"\",\"please complete\",IF($D38>'SDG – Technický list '!F37-1,\":-)\",CONCATENATE(\"increase until \",'SDG – Technický list '!F37))))","v":""},{"$f":"IF('SDG – Technický list '!G37=\"\",\"\",IF($D38=\"\",\"please complete\",IF($D38>'SDG – Technický list '!G37-1,\":-)\",CONCATENATE(\"increase until \",'SDG – Technický list '!G37))))","v":""},{"$f":"IF('SDG – Technický list '!H37=\"\",\"\",IF($D38=\"\",\"please complete\",IF($D38>'SDG – Technický list '!H37-1,\":-)\",CONCATENATE(\"increase until \",'SDG – Technický list '!H37))))","v":""},{"$f":"IF('SDG – Technický list '!I37=\"\",\"\",IF($D38=\"\",\"please complete\",IF($D38>'SDG – Technický list '!I37-1,\":-)\",CONCATENATE(\"increase until \",'SDG – Technický list '!I37))))","v":""},{"$f":"IF('SDG – Technický list '!J37=\"\",\"\",IF($D38=\"\",\"please complete\",IF($D38>'SDG – Technický list '!J37-1,\":-)\",CONCATENATE(\"increase until \",'SDG – Technický list '!J37))))","v":""},{"$f":"IF('SDG – Technický list '!K37=\"\",\"\",IF($D38=\"\",\"please complete\",IF($D38>'SDG – Technický list '!K37-1,\":-)\",CONCATENATE(\"increase until \",'SDG – Technický list '!K37))))","v":""},{"$f":"IF('SDG – Technický list '!L37=\"\",\"\",IF($D38=\"\",\"please complete\",IF($D38>'SDG – Technický list '!L37-1,\":-)\",CONCATENATE(\"increase until \",'SDG – Technický list '!L37))))","v":""},{"$f":"IF('SDG – Technický list '!M37=\"\",\"\",IF($D38=\"\",\"please complete\",IF($D38>'SDG – Technický list '!M37-1,\":-)\",CONCATENATE(\"increase until \",'SDG – Technický list '!M37))))","v":""},{"$f":"IF('SDG – Technický list '!N37=\"\",\"\",IF($D38=\"\",\"please complete\",IF($D38>'SDG – Technický list '!N37-1,\":-)\",CONCATENATE(\"increase until \",'SDG – Technický list '!N37))))","v":""},{"$f":"IF('SDG – Technický list '!O37=\"\",\"\",IF($D38=\"\",\"please complete\",IF($D38>'SDG – Technický list '!O37-1,\":-)\",CONCATENATE(\"increase until \",'SDG – Technický list '!O37))))","v":""},{"$f":"IF('SDG – Technický list '!P37=\"\",\"\",IF($D38=\"\",\"please complete\",IF($D38>'SDG – Technický list '!P37-1,\":-)\",CONCATENATE(\"increase until \",'SDG – Technický list '!P37))))","v":""},{"$f":"IF('SDG – Technický list '!Q37=\"\",\"\",IF($D38=\"\",\"please complete\",IF($D38>'SDG – Technický list '!Q37-1,\":-)\",CONCATENATE(\"increase until \",'SDG – Technický list '!Q37))))","v":""},{"$f":"IF('SDG – Technický list '!R37=\"\",\"\",IF($D38=\"\",\"please complete\",IF($D38>'SDG – Technický list '!R37-1,\":-)\",CONCATENATE(\"increase until \",'SDG – Technický list '!R37))))","v":""},{"$f":"IF('SDG – Technický list '!S37=\"\",\"\",IF($D38=\"\",\"please complete\",IF($D38>'SDG – Technický list '!S37-1,\":-)\",CONCATENATE(\"increase until \",'SDG – Technický list '!S37))))","v":""},{"$f":"IF('SDG – Technický list '!T37=\"\",\"\",IF($D38=\"\",\"please complete\",IF($D38>'SDG – Technický list '!T37-1,\":-)\",CONCATENATE(\"increase until \",'SDG – Technický list '!T37))))","v":""}]
[null,{"$f":"'SDG – Technický list '!B38","v":"Q2.19"},{"$f":"VLOOKUP(B39,'Kapitola 2'!$C$6:$D$278,2,0)","v":"Byly zřízeny programy preventivní údržby a péče, které zaručují bezpečnost provozů, nástrojů a zařízení?"},{"$f":"'SDG – Technický list '!C38","v":3},17,{"$f":"IF('SDG – Technický list '!D38=\"\",\"\",IF($D39=\"\",\"please complete\",IF($D39>'SDG – Technický list '!D38-1,\":-)\",CONCATENATE(\"increase until \",'SDG – Technický list '!D38))))","v":""},{"$f":"IF('SDG – Technický list '!E38=\"\",\"\",IF($D39=\"\",\"please complete\",IF($D39>'SDG – Technický list '!E38-1,\":-)\",CONCATENATE(\"increase until \",'SDG – Technický list '!E38))))","v":""},{"$f":"IF('SDG – Technický list '!F38=\"\",\"\",IF($D39=\"\",\"please complete\",IF($D39>'SDG – Technický list '!F38-1,\":-)\",CONCATENATE(\"increase until \",'SDG – Technický list '!F38))))","v":""},{"$f":"IF('SDG – Technický list '!G38=\"\",\"\",IF($D39=\"\",\"please complete\",IF($D39>'SDG – Technický list '!G38-1,\":-)\",CONCATENATE(\"increase until \",'SDG – Technický list '!G38))))","v":""},{"$f":"IF('SDG – Technický list '!H38=\"\",\"\",IF($D39=\"\",\"please complete\",IF($D39>'SDG – Technický list '!H38-1,\":-)\",CONCATENATE(\"increase until \",'SDG – Technický list '!H38))))","v":""},{"$f":"IF('SDG – Technický list '!I38=\"\",\"\",IF($D39=\"\",\"please complete\",IF($D39>'SDG – Technický list '!I38-1,\":-)\",CONCATENATE(\"increase until \",'SDG – Technický list '!I38))))","v":""},{"$f":"IF('SDG – Technický list '!J38=\"\",\"\",IF($D39=\"\",\"please complete\",IF($D39>'SDG – Technický list '!J38-1,\":-)\",CONCATENATE(\"increase until \",'SDG – Technický list '!J38))))","v":""},{"$f":"IF('SDG – Technický list '!K38=\"\",\"\",IF($D39=\"\",\"please complete\",IF($D39>'SDG – Technický list '!K38-1,\":-)\",CONCATENATE(\"increase until \",'SDG – Technický list '!K38))))","v":""},{"$f":"IF('SDG – Technický list '!L38=\"\",\"\",IF($D39=\"\",\"please complete\",IF($D39>'SDG – Technický list '!L38-1,\":-)\",CONCATENATE(\"increase until \",'SDG – Technický list '!L38))))","v":""},{"$f":"IF('SDG – Technický list '!M38=\"\",\"\",IF($D39=\"\",\"please complete\",IF($D39>'SDG – Technický list '!M38-1,\":-)\",CONCATENATE(\"increase until \",'SDG – Technický list '!M38))))","v":""},{"$f":"IF('SDG – Technický list '!N38=\"\",\"\",IF($D39=\"\",\"please complete\",IF($D39>'SDG – Technický list '!N38-1,\":-)\",CONCATENATE(\"increase until \",'SDG – Technický list '!N38))))","v":""},{"$f":"IF('SDG – Technický list '!O38=\"\",\"\",IF($D39=\"\",\"please complete\",IF($D39>'SDG – Technický list '!O38-1,\":-)\",CONCATENATE(\"increase until \",'SDG – Technický list '!O38))))","v":""},{"$f":"IF('SDG – Technický list '!P38=\"\",\"\",IF($D39=\"\",\"please complete\",IF($D39>'SDG – Technický list '!P38-1,\":-)\",CONCATENATE(\"increase until \",'SDG – Technický list '!P38))))","v":""},{"$f":"IF('SDG – Technický list '!Q38=\"\",\"\",IF($D39=\"\",\"please complete\",IF($D39>'SDG – Technický list '!Q38-1,\":-)\",CONCATENATE(\"increase until \",'SDG – Technický list '!Q38))))","v":""},{"$f":"IF('SDG – Technický list '!R38=\"\",\"\",IF($D39=\"\",\"please complete\",IF($D39>'SDG – Technický list '!R38-1,\":-)\",CONCATENATE(\"increase until \",'SDG – Technický list '!R38))))","v":""},{"$f":"IF('SDG – Technický list '!S38=\"\",\"\",IF($D39=\"\",\"please complete\",IF($D39>'SDG – Technický list '!S38-1,\":-)\",CONCATENATE(\"increase until \",'SDG – Technický list '!S38))))","v":""},{"$f":"IF('SDG – Technický list '!T38=\"\",\"\",IF($D39=\"\",\"please complete\",IF($D39>'SDG – Technický list '!T38-1,\":-)\",CONCATENATE(\"increase until \",'SDG – Technický list '!T38))))","v":""}]
[null,{"$f":"'SDG – Technický list '!B39","v":"Q2.20"},{"$f":"VLOOKUP(B40,'Kapitola 2'!$C$6:$D$278,2,0)","v":"Jakým způsobem se řídí procesy během mimořádných událostí v případě přerušení dodávky energie nebo služeb?"},{"$f":"'SDG – Technický list '!C39","v":4},17,{"$f":"IF('SDG – Technický list '!D39=\"\",\"\",IF($D40=\"\",\"please complete\",IF($D40>'SDG – Technický list '!D39-1,\":-)\",CONCATENATE(\"increase until \",'SDG – Technický list '!D39))))","v":""},{"$f":"IF('SDG – Technický list '!E39=\"\",\"\",IF($D40=\"\",\"please complete\",IF($D40>'SDG – Technický list '!E39-1,\":-)\",CONCATENATE(\"increase until \",'SDG – Technický list '!E39))))","v":""},{"$f":"IF('SDG – Technický list '!F39=\"\",\"\",IF($D40=\"\",\"please complete\",IF($D40>'SDG – Technický list '!F39-1,\":-)\",CONCATENATE(\"increase until \",'SDG – Technický list '!F39))))","v":""},{"$f":"IF('SDG – Technický list '!G39=\"\",\"\",IF($D40=\"\",\"please complete\",IF($D40>'SDG – Technický list '!G39-1,\":-)\",CONCATENATE(\"increase until \",'SDG – Technický list '!G39))))","v":""},{"$f":"IF('SDG – Technický list '!H39=\"\",\"\",IF($D40=\"\",\"please complete\",IF($D40>'SDG – Technický list '!H39-1,\":-)\",CONCATENATE(\"increase until \",'SDG – Technický list '!H39))))","v":""},{"$f":"IF('SDG – Technický list '!I39=\"\",\"\",IF($D40=\"\",\"please complete\",IF($D40>'SDG – Technický list '!I39-1,\":-)\",CONCATENATE(\"increase until \",'SDG – Technický list '!I39))))","v":""},{"$f":"IF('SDG – Technický list '!J39=\"\",\"\",IF($D40=\"\",\"please complete\",IF($D40>'SDG – Technický list '!J39-1,\":-)\",CONCATENATE(\"increase until \",'SDG – Technický list '!J39))))","v":""},{"$f":"IF('SDG – Technický list '!K39=\"\",\"\",IF($D40=\"\",\"please complete\",IF($D40>'SDG – Technický list '!K39-1,\":-)\",CONCATENATE(\"increase until \",'SDG – Technický list '!K39))))","v":""},{"$f":"IF('SDG – Technický list '!L39=\"\",\"\",IF($D40=\"\",\"please complete\",IF($D40>'SDG – Technický list '!L39-1,\":-)\",CONCATENATE(\"increase until \",'SDG – Technický list '!L39))))","v":""},{"$f":"IF('SDG – Technický list '!M39=\"\",\"\",IF($D40=\"\",\"please complete\",IF($D40>'SDG – Technický list '!M39-1,\":-)\",CONCATENATE(\"increase until \",'SDG – Technický list '!M39))))","v":""},{"$f":"IF('SDG – Technický list '!N39=\"\",\"\",IF($D40=\"\",\"please complete\",IF($D40>'SDG – Technický list '!N39-1,\":-)\",CONCATENATE(\"increase until \",'SDG – Technický list '!N39))))","v":""},{"$f":"IF('SDG – Technický list '!O39=\"\",\"\",IF($D40=\"\",\"please complete\",IF($D40>'SDG – Technický list '!O39-1,\":-)\",CONCATENATE(\"increase until \",'SDG – Technický list '!O39))))","v":""},{"$f":"IF('SDG – Technický list '!P39=\"\",\"\",IF($D40=\"\",\"please complete\",IF($D40>'SDG – Technický list '!P39-1,\":-)\",CONCATENATE(\"increase until \",'SDG – Technický list '!P39))))","v":""},{"$f":"IF('SDG – Technický list '!Q39=\"\",\"\",IF($D40=\"\",\"please complete\",IF($D40>'SDG – Technický list '!Q39-1,\":-)\",CONCATENATE(\"increase until \",'SDG – Technický list '!Q39))))","v":""},{"$f":"IF('SDG – Technický list '!R39=\"\",\"\",IF($D40=\"\",\"please complete\",IF($D40>'SDG – Technický list '!R39-1,\":-)\",CONCATENATE(\"increase until \",'SDG – Technický list '!R39))))","v":""},{"$f":"IF('SDG – Technický list '!S39=\"\",\"\",IF($D40=\"\",\"please complete\",IF($D40>'SDG – Technický list '!S39-1,\":-)\",CONCATENATE(\"increase until \",'SDG – Technický list '!S39))))","v":""},{"$f":"IF('SDG – Technický list '!T39=\"\",\"\",IF($D40=\"\",\"please complete\",IF($D40>'SDG – Technický list '!T39-1,\":-)\",CONCATENATE(\"increase until \",'SDG – Technický list '!T39))))","v":""}]
[null,{"$f":"'SDG – Technický list '!B40","v":"Q2.21"},{"$f":"VLOOKUP(B41,'Kapitola 2'!$C$6:$D$278,2,0)","v":"Jak se připravují havarijní plány?"},{"$f":"'SDG – Technický list '!C40","v":3},17,{"$f":"IF('SDG – Technický list '!D40=\"\",\"\",IF($D41=\"\",\"please complete\",IF($D41>'SDG – Technický list '!D40-1,\":-)\",CONCATENATE(\"increase until \",'SDG – Technický list '!D40))))","v":""},{"$f":"IF('SDG – Technický list '!E40=\"\",\"\",IF($D41=\"\",\"please complete\",IF($D41>'SDG – Technický list '!E40-1,\":-)\",CONCATENATE(\"increase until \",'SDG – Technický list '!E40))))","v":""},{"$f":"IF('SDG – Technický list '!F40=\"\",\"\",IF($D41=\"\",\"please complete\",IF($D41>'SDG – Technický list '!F40-1,\":-)\",CONCATENATE(\"increase until \",'SDG – Technický list '!F40))))","v":""},{"$f":"IF('SDG – Technický list '!G40=\"\",\"\",IF($D41=\"\",\"please complete\",IF($D41>'SDG – Technický list '!G40-1,\":-)\",CONCATENATE(\"increase until \",'SDG – Technický list '!G40))))","v":""},{"$f":"IF('SDG – Technický list '!H40=\"\",\"\",IF($D41=\"\",\"please complete\",IF($D41>'SDG – Technický list '!H40-1,\":-)\",CONCATENATE(\"increase until \",'SDG – Technický list '!H40))))","v":""},{"$f":"IF('SDG – Technický list '!I40=\"\",\"\",IF($D41=\"\",\"please complete\",IF($D41>'SDG – Technický list '!I40-1,\":-)\",CONCATENATE(\"increase until \",'SDG – Technický list '!I40))))","v":""},{"$f":"IF('SDG – Technický list '!J40=\"\",\"\",IF($D41=\"\",\"please complete\",IF($D41>'SDG – Technický list '!J40-1,\":-)\",CONCATENATE(\"increase until \",'SDG – Technický list '!J40))))","v":""},{"$f":"IF('SDG – Technický list '!K40=\"\",\"\",IF($D41=\"\",\"please complete\",IF($D41>'SDG – Technický list '!K40-1,\":-)\",CONCATENATE(\"increase until \",'SDG – Technický list '!K40))))","v":""},{"$f":"IF('SDG – Technický list '!L40=\"\",\"\",IF($D41=\"\",\"please complete\",IF($D41>'SDG – Technický list '!L40-1,\":-)\",CONCATENATE(\"increase until \",'SDG – Technický list '!L40))))","v":""},{"$f":"IF('SDG – Technický list '!M40=\"\",\"\",IF($D41=\"\",\"please complete\",IF($D41>'SDG – Technický list '!M40-1,\":-)\",CONCATENATE(\"increase until \",'SDG – Technický list '!M40))))","v":""},{"$f":"IF('SDG – Technický list '!N40=\"\",\"\",IF($D41=\"\",\"please complete\",IF($D41>'SDG – Technický list '!N40-1,\":-)\",CONCATENATE(\"increase until \",'SDG – Technický list '!N40))))","v":""},{"$f":"IF('SDG – Technický list '!O40=\"\",\"\",IF($D41=\"\",\"please complete\",IF($D41>'SDG – Technický list '!O40-1,\":-)\",CONCATENATE(\"increase until \",'SDG – Technický list '!O40))))","v":""},{"$f":"IF('SDG – Technický list '!P40=\"\",\"\",IF($D41=\"\",\"please complete\",IF($D41>'SDG – Technický list '!P40-1,\":-)\",CONCATENATE(\"increase until \",'SDG – Technický list '!P40))))","v":""},{"$f":"IF('SDG – Technický list '!Q40=\"\",\"\",IF($D41=\"\",\"please complete\",IF($D41>'SDG – Technický list '!Q40-1,\":-)\",CONCATENATE(\"increase until \",'SDG – Technický list '!Q40))))","v":""},{"$f":"IF('SDG – Technický list '!R40=\"\",\"\",IF($D41=\"\",\"please complete\",IF($D41>'SDG – Technický list '!R40-1,\":-)\",CONCATENATE(\"increase until \",'SDG – Technický list '!R40))))","v":""},{"$f":"IF('SDG – Technický list '!S40=\"\",\"\",IF($D41=\"\",\"please complete\",IF($D41>'SDG – Technický list '!S40-1,\":-)\",CONCATENATE(\"increase until \",'SDG – Technický list '!S40))))","v":""},{"$f":"IF('SDG – Technický list '!T40=\"\",\"\",IF($D41=\"\",\"please complete\",IF($D41>'SDG – Technický list '!T40-1,\":-)\",CONCATENATE(\"increase until \",'SDG – Technický list '!T40))))","v":""}]
[null,{"$f":"'SDG – Technický list '!B41","v":"Q2.22"},{"$f":"VLOOKUP(B42,'Kapitola 2'!$C$6:$D$278,2,0)","v":"Jakým způsobem jsou zabezpečeny kompetence a školení zaměstnanců a dodavatelů zapojených do procesů?"},{"$f":"'SDG – Technický list '!C41","v":2},17,{"$f":"IF('SDG – Technický list '!D41=\"\",\"\",IF($D42=\"\",\"please complete\",IF($D42>'SDG – Technický list '!D41-1,\":-)\",CONCATENATE(\"increase until \",'SDG – Technický list '!D41))))","v":""},{"$f":"IF('SDG – Technický list '!E41=\"\",\"\",IF($D42=\"\",\"please complete\",IF($D42>'SDG – Technický list '!E41-1,\":-)\",CONCATENATE(\"increase until \",'SDG – Technický list '!E41))))","v":""},{"$f":"IF('SDG – Technický list '!F41=\"\",\"\",IF($D42=\"\",\"please complete\",IF($D42>'SDG – Technický list '!F41-1,\":-)\",CONCATENATE(\"increase until \",'SDG – Technický list '!F41))))","v":""},{"$f":"IF('SDG – Technický list '!G41=\"\",\"\",IF($D42=\"\",\"please complete\",IF($D42>'SDG – Technický list '!G41-1,\":-)\",CONCATENATE(\"increase until \",'SDG – Technický list '!G41))))","v":""},{"$f":"IF('SDG – Technický list '!H41=\"\",\"\",IF($D42=\"\",\"please complete\",IF($D42>'SDG – Technický list '!H41-1,\":-)\",CONCATENATE(\"increase until \",'SDG – Technický list '!H41))))","v":""},{"$f":"IF('SDG – Technický list '!I41=\"\",\"\",IF($D42=\"\",\"please complete\",IF($D42>'SDG – Technický list '!I41-1,\":-)\",CONCATENATE(\"increase until \",'SDG – Technický list '!I41))))","v":""},{"$f":"IF('SDG – Technický list '!J41=\"\",\"\",IF($D42=\"\",\"please complete\",IF($D42>'SDG – Technický list '!J41-1,\":-)\",CONCATENATE(\"increase until \",'SDG – Technický list '!J41))))","v":""},{"$f":"IF('SDG – Technický list '!K41=\"\",\"\",IF($D42=\"\",\"please complete\",IF($D42>'SDG – Technický list '!K41-1,\":-)\",CONCATENATE(\"increase until \",'SDG – Technický list '!K41))))","v":""},{"$f":"IF('SDG – Technický list '!L41=\"\",\"\",IF($D42=\"\",\"please complete\",IF($D42>'SDG – Technický list '!L41-1,\":-)\",CONCATENATE(\"increase until \",'SDG – Technický list '!L41))))","v":""},{"$f":"IF('SDG – Technický list '!M41=\"\",\"\",IF($D42=\"\",\"please complete\",IF($D42>'SDG – Technický list '!M41-1,\":-)\",CONCATENATE(\"increase until \",'SDG – Technický list '!M41))))","v":""},{"$f":"IF('SDG – Technický list '!N41=\"\",\"\",IF($D42=\"\",\"please complete\",IF($D42>'SDG – Technický list '!N41-1,\":-)\",CONCATENATE(\"increase until \",'SDG – Technický list '!N41))))","v":""},{"$f":"IF('SDG – Technický list '!O41=\"\",\"\",IF($D42=\"\",\"please complete\",IF($D42>'SDG – Technický list '!O41-1,\":-)\",CONCATENATE(\"increase until \",'SDG – Technický list '!O41))))","v":""},{"$f":"IF('SDG – Technický list '!P41=\"\",\"\",IF($D42=\"\",\"please complete\",IF($D42>'SDG – Technický list '!P41-1,\":-)\",CONCATENATE(\"increase until \",'SDG – Technický list '!P41))))","v":""},{"$f":"IF('SDG – Technický list '!Q41=\"\",\"\",IF($D42=\"\",\"please complete\",IF($D42>'SDG – Technický list '!Q41-1,\":-)\",CONCATENATE(\"increase until \",'SDG – Technický list '!Q41))))","v":""},{"$f":"IF('SDG – Technický list '!R41=\"\",\"\",IF($D42=\"\",\"please complete\",IF($D42>'SDG – Technický list '!R41-1,\":-)\",CONCATENATE(\"increase until \",'SDG – Technický list '!R41))))","v":""},{"$f":"IF('SDG – Technický list '!S41=\"\",\"\",IF($D42=\"\",\"please complete\",IF($D42>'SDG – Technický list '!S41-1,\":-)\",CONCATENATE(\"increase until \",'SDG – Technický list '!S41))))","v":""},{"$f":"IF('SDG – Technický list '!T41=\"\",\"\",IF($D42=\"\",\"please complete\",IF($D42>'SDG – Technický list '!T41-1,\":-)\",CONCATENATE(\"increase until \",'SDG – Technický list '!T41))))","v":""}]
[null,{"$f":"'SDG – Technický list '!B42","v":"Q2.23"},{"$f":"VLOOKUP(B43,'Kapitola 2'!$C$6:$D$278,2,0)","v":"Jakým způsobem se sdílejí informace o rizicích látek a přípravků?"},{"$f":"'SDG – Technický list '!C42","v":4},17,{"$f":"IF('SDG – Technický list '!D42=\"\",\"\",IF($D43=\"\",\"please complete\",IF($D43>'SDG – Technický list '!D42-1,\":-)\",CONCATENATE(\"increase until \",'SDG – Technický list '!D42))))","v":""},{"$f":"IF('SDG – Technický list '!E42=\"\",\"\",IF($D43=\"\",\"please complete\",IF($D43>'SDG – Technický list '!E42-1,\":-)\",CONCATENATE(\"increase until \",'SDG – Technický list '!E42))))","v":""},{"$f":"IF('SDG – Technický list '!F42=\"\",\"\",IF($D43=\"\",\"please complete\",IF($D43>'SDG – Technický list '!F42-1,\":-)\",CONCATENATE(\"increase until \",'SDG – Technický list '!F42))))","v":""},{"$f":"IF('SDG – Technický list '!G42=\"\",\"\",IF($D43=\"\",\"please complete\",IF($D43>'SDG – Technický list '!G42-1,\":-)\",CONCATENATE(\"increase until \",'SDG – Technický list '!G42))))","v":""},{"$f":"IF('SDG – Technický list '!H42=\"\",\"\",IF($D43=\"\",\"please complete\",IF($D43>'SDG – Technický list '!H42-1,\":-)\",CONCATENATE(\"increase until \",'SDG – Technický list '!H42))))","v":""},{"$f":"IF('SDG – Technický list '!I42=\"\",\"\",IF($D43=\"\",\"please complete\",IF($D43>'SDG – Technický list '!I42-1,\":-)\",CONCATENATE(\"increase until \",'SDG – Technický list '!I42))))","v":""},{"$f":"IF('SDG – Technický list '!J42=\"\",\"\",IF($D43=\"\",\"please complete\",IF($D43>'SDG – Technický list '!J42-1,\":-)\",CONCATENATE(\"increase until \",'SDG – Technický list '!J42))))","v":""},{"$f":"IF('SDG – Technický list '!K42=\"\",\"\",IF($D43=\"\",\"please complete\",IF($D43>'SDG – Technický list '!K42-1,\":-)\",CONCATENATE(\"increase until \",'SDG – Technický list '!K42))))","v":""},{"$f":"IF('SDG – Technický list '!L42=\"\",\"\",IF($D43=\"\",\"please complete\",IF($D43>'SDG – Technický list '!L42-1,\":-)\",CONCATENATE(\"increase until \",'SDG – Technický list '!L42))))","v":""},{"$f":"IF('SDG – Technický list '!M42=\"\",\"\",IF($D43=\"\",\"please complete\",IF($D43>'SDG – Technický list '!M42-1,\":-)\",CONCATENATE(\"increase until \",'SDG – Technický list '!M42))))","v":""},{"$f":"IF('SDG – Technický list '!N42=\"\",\"\",IF($D43=\"\",\"please complete\",IF($D43>'SDG – Technický list '!N42-1,\":-)\",CONCATENATE(\"increase until \",'SDG – Technický list '!N42))))","v":""},{"$f":"IF('SDG – Technický list '!O42=\"\",\"\",IF($D43=\"\",\"please complete\",IF($D43>'SDG – Technický list '!O42-1,\":-)\",CONCATENATE(\"increase until \",'SDG – Technický list '!O42))))","v":""},{"$f":"IF('SDG – Technický list '!P42=\"\",\"\",IF($D43=\"\",\"please complete\",IF($D43>'SDG – Technický list '!P42-1,\":-)\",CONCATENATE(\"increase until \",'SDG – Technický list '!P42))))","v":""},{"$f":"IF('SDG – Technický list '!Q42=\"\",\"\",IF($D43=\"\",\"please complete\",IF($D43>'SDG – Technický list '!Q42-1,\":-)\",CONCATENATE(\"increase until \",'SDG – Technický list '!Q42))))","v":""},{"$f":"IF('SDG – Technický list '!R42=\"\",\"\",IF($D43=\"\",\"please complete\",IF($D43>'SDG – Technický list '!R42-1,\":-)\",CONCATENATE(\"increase until \",'SDG – Technický list '!R42))))","v":""},{"$f":"IF('SDG – Technický list '!S42=\"\",\"\",IF($D43=\"\",\"please complete\",IF($D43>'SDG – Technický list '!S42-1,\":-)\",CONCATENATE(\"increase until \",'SDG – Technický list '!S42))))","v":""},{"$f":"IF('SDG – Technický list '!T42=\"\",\"\",IF($D43=\"\",\"please complete\",IF($D43>'SDG – Technický list '!T42-1,\":-)\",CONCATENATE(\"increase until \",'SDG – Technický list '!T42))))","v":""}]
[null,{"$f":"'SDG – Technický list '!B43","v":"Q2.24"},{"$f":"VLOOKUP(B44,'Kapitola 2'!$C$6:$D$278,2,0)","v":"Jak se sdílejí informace o procesu?"},{"$f":"'SDG – Technický list '!C43","v":4},17,{"$f":"IF('SDG – Technický list '!D43=\"\",\"\",IF($D44=\"\",\"please complete\",IF($D44>'SDG – Technický list '!D43-1,\":-)\",CONCATENATE(\"increase until \",'SDG – Technický list '!D43))))","v":""},{"$f":"IF('SDG – Technický list '!E43=\"\",\"\",IF($D44=\"\",\"please complete\",IF($D44>'SDG – Technický list '!E43-1,\":-)\",CONCATENATE(\"increase until \",'SDG – Technický list '!E43))))","v":""},{"$f":"IF('SDG – Technický list '!F43=\"\",\"\",IF($D44=\"\",\"please complete\",IF($D44>'SDG – Technický list '!F43-1,\":-)\",CONCATENATE(\"increase until \",'SDG – Technický list '!F43))))","v":""},{"$f":"IF('SDG – Technický list '!G43=\"\",\"\",IF($D44=\"\",\"please complete\",IF($D44>'SDG – Technický list '!G43-1,\":-)\",CONCATENATE(\"increase until \",'SDG – Technický list '!G43))))","v":""},{"$f":"IF('SDG – Technický list '!H43=\"\",\"\",IF($D44=\"\",\"please complete\",IF($D44>'SDG – Technický list '!H43-1,\":-)\",CONCATENATE(\"increase until \",'SDG – Technický list '!H43))))","v":""},{"$f":"IF('SDG – Technický list '!I43=\"\",\"\",IF($D44=\"\",\"please complete\",IF($D44>'SDG – Technický list '!I43-1,\":-)\",CONCATENATE(\"increase until \",'SDG – Technický list '!I43))))","v":""},{"$f":"IF('SDG – Technický list '!J43=\"\",\"\",IF($D44=\"\",\"please complete\",IF($D44>'SDG – Technický list '!J43-1,\":-)\",CONCATENATE(\"increase until \",'SDG – Technický list '!J43))))","v":""},{"$f":"IF('SDG – Technický list '!K43=\"\",\"\",IF($D44=\"\",\"please complete\",IF($D44>'SDG – Technický list '!K43-1,\":-)\",CONCATENATE(\"increase until \",'SDG – Technický list '!K43))))","v":""},{"$f":"IF('SDG – Technický list '!L43=\"\",\"\",IF($D44=\"\",\"please complete\",IF($D44>'SDG – Technický list '!L43-1,\":-)\",CONCATENATE(\"increase until \",'SDG – Technický list '!L43))))","v":""},{"$f":"IF('SDG – Technický list '!M43=\"\",\"\",IF($D44=\"\",\"please complete\",IF($D44>'SDG – Technický list '!M43-1,\":-)\",CONCATENATE(\"increase until \",'SDG – Technický list '!M43))))","v":""},{"$f":"IF('SDG – Technický list '!N43=\"\",\"\",IF($D44=\"\",\"please complete\",IF($D44>'SDG – Technický list '!N43-1,\":-)\",CONCATENATE(\"increase until \",'SDG – Technický list '!N43))))","v":""},{"$f":"IF('SDG – Technický list '!O43=\"\",\"\",IF($D44=\"\",\"please complete\",IF($D44>'SDG – Technický list '!O43-1,\":-)\",CONCATENATE(\"increase until \",'SDG – Technický list '!O43))))","v":""},{"$f":"IF('SDG – Technický list '!P43=\"\",\"\",IF($D44=\"\",\"please complete\",IF($D44>'SDG – Technický list '!P43-1,\":-)\",CONCATENATE(\"increase until \",'SDG – Technický list '!P43))))","v":""},{"$f":"IF('SDG – Technický list '!Q43=\"\",\"\",IF($D44=\"\",\"please complete\",IF($D44>'SDG – Technický list '!Q43-1,\":-)\",CONCATENATE(\"increase until \",'SDG – Technický list '!Q43))))","v":""},{"$f":"IF('SDG – Technický list '!R43=\"\",\"\",IF($D44=\"\",\"please complete\",IF($D44>'SDG – Technický list '!R43-1,\":-)\",CONCATENATE(\"increase until \",'SDG – Technický list '!R43))))","v":""},{"$f":"IF('SDG – Technický list '!S43=\"\",\"\",IF($D44=\"\",\"please complete\",IF($D44>'SDG – Technický list '!S43-1,\":-)\",CONCATENATE(\"increase until \",'SDG – Technický list '!S43))))","v":""},{"$f":"IF('SDG – Technický list '!T43=\"\",\"\",IF($D44=\"\",\"please complete\",IF($D44>'SDG – Technický list '!T43-1,\":-)\",CONCATENATE(\"increase until \",'SDG – Technický list '!T43))))","v":""}]
[null,{"$f":"'SDG – Technický list '!B44","v":"Q2.25"},{"$f":"VLOOKUP(B45,'Kapitola 2'!$C$6:$D$278,2,0)","v":"Jakým způsobem organizace hodnotí své logistické partnery z hlediska HSE&S, energetické účinnosti a emisí skleníkových plynů?"},{"$f":"'SDG – Technický list '!C44","v":3},17,{"$f":"IF('SDG – Technický list '!D44=\"\",\"\",IF($D45=\"\",\"please complete\",IF($D45>'SDG – Technický list '!D44-1,\":-)\",CONCATENATE(\"increase until \",'SDG – Technický list '!D44))))","v":""},{"$f":"IF('SDG – Technický list '!E44=\"\",\"\",IF($D45=\"\",\"please complete\",IF($D45>'SDG – Technický list '!E44-1,\":-)\",CONCATENATE(\"increase until \",'SDG – Technický list '!E44))))","v":""},{"$f":"IF('SDG – Technický list '!F44=\"\",\"\",IF($D45=\"\",\"please complete\",IF($D45>'SDG – Technický list '!F44-1,\":-)\",CONCATENATE(\"increase until \",'SDG – Technický list '!F44))))","v":""},{"$f":"IF('SDG – Technický list '!G44=\"\",\"\",IF($D45=\"\",\"please complete\",IF($D45>'SDG – Technický list '!G44-1,\":-)\",CONCATENATE(\"increase until \",'SDG – Technický list '!G44))))","v":""},{"$f":"IF('SDG – Technický list '!H44=\"\",\"\",IF($D45=\"\",\"please complete\",IF($D45>'SDG – Technický list '!H44-1,\":-)\",CONCATENATE(\"increase until \",'SDG – Technický list '!H44))))","v":""},{"$f":"IF('SDG – Technický list '!I44=\"\",\"\",IF($D45=\"\",\"please complete\",IF($D45>'SDG – Technický list '!I44-1,\":-)\",CONCATENATE(\"increase until \",'SDG – Technický list '!I44))))","v":""},{"$f":"IF('SDG – Technický list '!J44=\"\",\"\",IF($D45=\"\",\"please complete\",IF($D45>'SDG – Technický list '!J44-1,\":-)\",CONCATENATE(\"increase until \",'SDG – Technický list '!J44))))","v":""},{"$f":"IF('SDG – Technický list '!K44=\"\",\"\",IF($D45=\"\",\"please complete\",IF($D45>'SDG – Technický list '!K44-1,\":-)\",CONCATENATE(\"increase until \",'SDG – Technický list '!K44))))","v":""},{"$f":"IF('SDG – Technický list '!L44=\"\",\"\",IF($D45=\"\",\"please complete\",IF($D45>'SDG – Technický list '!L44-1,\":-)\",CONCATENATE(\"increase until \",'SDG – Technický list '!L44))))","v":""},{"$f":"IF('SDG – Technický list '!M44=\"\",\"\",IF($D45=\"\",\"please complete\",IF($D45>'SDG – Technický list '!M44-1,\":-)\",CONCATENATE(\"increase until \",'SDG – Technický list '!M44))))","v":""},{"$f":"IF('SDG – Technický list '!N44=\"\",\"\",IF($D45=\"\",\"please complete\",IF($D45>'SDG – Technický list '!N44-1,\":-)\",CONCATENATE(\"increase until \",'SDG – Technický list '!N44))))","v":""},{"$f":"IF('SDG – Technický list '!O44=\"\",\"\",IF($D45=\"\",\"please complete\",IF($D45>'SDG – Technický list '!O44-1,\":-)\",CONCATENATE(\"increase until \",'SDG – Technický list '!O44))))","v":""},{"$f":"IF('SDG – Technický list '!P44=\"\",\"\",IF($D45=\"\",\"please complete\",IF($D45>'SDG – Technický list '!P44-1,\":-)\",CONCATENATE(\"increase until \",'SDG – Technický list '!P44))))","v":""},{"$f":"IF('SDG – Technický list '!Q44=\"\",\"\",IF($D45=\"\",\"please complete\",IF($D45>'SDG – Technický list '!Q44-1,\":-)\",CONCATENATE(\"increase until \",'SDG – Technický list '!Q44))))","v":""},{"$f":"IF('SDG – Technický list '!R44=\"\",\"\",IF($D45=\"\",\"please complete\",IF($D45>'SDG – Technický list '!R44-1,\":-)\",CONCATENATE(\"increase until \",'SDG – Technický list '!R44))))","v":""},{"$f":"IF('SDG – Technický list '!S44=\"\",\"\",IF($D45=\"\",\"please complete\",IF($D45>'SDG – Technický list '!S44-1,\":-)\",CONCATENATE(\"increase until \",'SDG – Technický list '!S44))))","v":""},{"$f":"IF('SDG – Technický list '!T44=\"\",\"\",IF($D45=\"\",\"please complete\",IF($D45>'SDG – Technický list '!T44-1,\":-)\",CONCATENATE(\"increase until \",'SDG – Technický list '!T44))))","v":""}]
[null,{"$f":"'SDG – Technický list '!B45","v":"Q2.26"},{"$f":"VLOOKUP(B46,'Kapitola 2'!$C$6:$D$278,2,0)","v":"Jakým způsobem organizace zabraňuje a reaguje na dopravní nehody?"},{"$f":"'SDG – Technický list '!C45","v":4},17,{"$f":"IF('SDG – Technický list '!D45=\"\",\"\",IF($D46=\"\",\"please complete\",IF($D46>'SDG – Technický list '!D45-1,\":-)\",CONCATENATE(\"increase until \",'SDG – Technický list '!D45))))","v":""},{"$f":"IF('SDG – Technický list '!E45=\"\",\"\",IF($D46=\"\",\"please complete\",IF($D46>'SDG – Technický list '!E45-1,\":-)\",CONCATENATE(\"increase until \",'SDG – Technický list '!E45))))","v":""},{"$f":"IF('SDG – Technický list '!F45=\"\",\"\",IF($D46=\"\",\"please complete\",IF($D46>'SDG – Technický list '!F45-1,\":-)\",CONCATENATE(\"increase until \",'SDG – Technický list '!F45))))","v":""},{"$f":"IF('SDG – Technický list '!G45=\"\",\"\",IF($D46=\"\",\"please complete\",IF($D46>'SDG – Technický list '!G45-1,\":-)\",CONCATENATE(\"increase until \",'SDG – Technický list '!G45))))","v":""},{"$f":"IF('SDG – Technický list '!H45=\"\",\"\",IF($D46=\"\",\"please complete\",IF($D46>'SDG – Technický list '!H45-1,\":-)\",CONCATENATE(\"increase until \",'SDG – Technický list '!H45))))","v":""},{"$f":"IF('SDG – Technický list '!I45=\"\",\"\",IF($D46=\"\",\"please complete\",IF($D46>'SDG – Technický list '!I45-1,\":-)\",CONCATENATE(\"increase until \",'SDG – Technický list '!I45))))","v":""},{"$f":"IF('SDG – Technický list '!J45=\"\",\"\",IF($D46=\"\",\"please complete\",IF($D46>'SDG – Technický list '!J45-1,\":-)\",CONCATENATE(\"increase until \",'SDG – Technický list '!J45))))","v":""},{"$f":"IF('SDG – Technický list '!K45=\"\",\"\",IF($D46=\"\",\"please complete\",IF($D46>'SDG – Technický list '!K45-1,\":-)\",CONCATENATE(\"increase until \",'SDG – Technický list '!K45))))","v":""},{"$f":"IF('SDG – Technický list '!L45=\"\",\"\",IF($D46=\"\",\"please complete\",IF($D46>'SDG – Technický list '!L45-1,\":-)\",CONCATENATE(\"increase until \",'SDG – Technický list '!L45))))","v":""},{"$f":"IF('SDG – Technický list '!M45=\"\",\"\",IF($D46=\"\",\"please complete\",IF($D46>'SDG – Technický list '!M45-1,\":-)\",CONCATENATE(\"increase until \",'SDG – Technický list '!M45))))","v":""},{"$f":"IF('SDG – Technický list '!N45=\"\",\"\",IF($D46=\"\",\"please complete\",IF($D46>'SDG – Technický list '!N45-1,\":-)\",CONCATENATE(\"increase until \",'SDG – Technický list '!N45))))","v":""},{"$f":"IF('SDG – Technický list '!O45=\"\",\"\",IF($D46=\"\",\"please complete\",IF($D46>'SDG – Technický list '!O45-1,\":-)\",CONCATENATE(\"increase until \",'SDG – Technický list '!O45))))","v":""},{"$f":"IF('SDG – Technický list '!P45=\"\",\"\",IF($D46=\"\",\"please complete\",IF($D46>'SDG – Technický list '!P45-1,\":-)\",CONCATENATE(\"increase until \",'SDG – Technický list '!P45))))","v":""},{"$f":"IF('SDG – Technický list '!Q45=\"\",\"\",IF($D46=\"\",\"please complete\",IF($D46>'SDG – Technický list '!Q45-1,\":-)\",CONCATENATE(\"increase until \",'SDG – Technický list '!Q45))))","v":""},{"$f":"IF('SDG – Technický list '!R45=\"\",\"\",IF($D46=\"\",\"please complete\",IF($D46>'SDG – Technický list '!R45-1,\":-)\",CONCATENATE(\"increase until \",'SDG – Technický list '!R45))))","v":""},{"$f":"IF('SDG – Technický list '!S45=\"\",\"\",IF($D46=\"\",\"please complete\",IF($D46>'SDG – Technický list '!S45-1,\":-)\",CONCATENATE(\"increase until \",'SDG – Technický list '!S45))))","v":""},{"$f":"IF('SDG – Technický list '!T45=\"\",\"\",IF($D46=\"\",\"please complete\",IF($D46>'SDG – Technický list '!T45-1,\":-)\",CONCATENATE(\"increase until \",'SDG – Technický list '!T45))))","v":""}]
[null,{"$f":"'SDG – Technický list '!B46","v":"Q2.27"},{"$f":"VLOOKUP(B47,'Kapitola 2'!$C$6:$D$278,2,0)","v":"Jakým způsobem organizace identifikuje bezpečnostní problémy?"},{"$f":"'SDG – Technický list '!C46","v":4},17,{"$f":"IF('SDG – Technický list '!D46=\"\",\"\",IF($D47=\"\",\"please complete\",IF($D47>'SDG – Technický list '!D46-1,\":-)\",CONCATENATE(\"increase until \",'SDG – Technický list '!D46))))","v":""},{"$f":"IF('SDG – Technický list '!E46=\"\",\"\",IF($D47=\"\",\"please complete\",IF($D47>'SDG – Technický list '!E46-1,\":-)\",CONCATENATE(\"increase until \",'SDG – Technický list '!E46))))","v":""},{"$f":"IF('SDG – Technický list '!F46=\"\",\"\",IF($D47=\"\",\"please complete\",IF($D47>'SDG – Technický list '!F46-1,\":-)\",CONCATENATE(\"increase until \",'SDG – Technický list '!F46))))","v":""},{"$f":"IF('SDG – Technický list '!G46=\"\",\"\",IF($D47=\"\",\"please complete\",IF($D47>'SDG – Technický list '!G46-1,\":-)\",CONCATENATE(\"increase until \",'SDG – Technický list '!G46))))","v":""},{"$f":"IF('SDG – Technický list '!H46=\"\",\"\",IF($D47=\"\",\"please complete\",IF($D47>'SDG – Technický list '!H46-1,\":-)\",CONCATENATE(\"increase until \",'SDG – Technický list '!H46))))","v":""},{"$f":"IF('SDG – Technický list '!I46=\"\",\"\",IF($D47=\"\",\"please complete\",IF($D47>'SDG – Technický list '!I46-1,\":-)\",CONCATENATE(\"increase until \",'SDG – Technický list '!I46))))","v":""},{"$f":"IF('SDG – Technický list '!J46=\"\",\"\",IF($D47=\"\",\"please complete\",IF($D47>'SDG – Technický list '!J46-1,\":-)\",CONCATENATE(\"increase until \",'SDG – Technický list '!J46))))","v":""},{"$f":"IF('SDG – Technický list '!K46=\"\",\"\",IF($D47=\"\",\"please complete\",IF($D47>'SDG – Technický list '!K46-1,\":-)\",CONCATENATE(\"increase until \",'SDG – Technický list '!K46))))","v":""},{"$f":"IF('SDG – Technický list '!L46=\"\",\"\",IF($D47=\"\",\"please complete\",IF($D47>'SDG – Technický list '!L46-1,\":-)\",CONCATENATE(\"increase until \",'SDG – Technický list '!L46))))","v":""},{"$f":"IF('SDG – Technický list '!M46=\"\",\"\",IF($D47=\"\",\"please complete\",IF($D47>'SDG – Technický list '!M46-1,\":-)\",CONCATENATE(\"increase until \",'SDG – Technický list '!M46))))","v":""},{"$f":"IF('SDG – Technický list '!N46=\"\",\"\",IF($D47=\"\",\"please complete\",IF($D47>'SDG – Technický list '!N46-1,\":-)\",CONCATENATE(\"increase until \",'SDG – Technický list '!N46))))","v":""},{"$f":"IF('SDG – Technický list '!O46=\"\",\"\",IF($D47=\"\",\"please complete\",IF($D47>'SDG – Technický list '!O46-1,\":-)\",CONCATENATE(\"increase until \",'SDG – Technický list '!O46))))","v":""},{"$f":"IF('SDG – Technický list '!P46=\"\",\"\",IF($D47=\"\",\"please complete\",IF($D47>'SDG – Technický list '!P46-1,\":-)\",CONCATENATE(\"increase until \",'SDG – Technický list '!P46))))","v":""},{"$f":"IF('SDG – Technický list '!Q46=\"\",\"\",IF($D47=\"\",\"please complete\",IF($D47>'SDG – Technický list '!Q46-1,\":-)\",CONCATENATE(\"increase until \",'SDG – Technický list '!Q46))))","v":""},{"$f":"IF('SDG – Technický list '!R46=\"\",\"\",IF($D47=\"\",\"please complete\",IF($D47>'SDG – Technický list '!R46-1,\":-)\",CONCATENATE(\"increase until \",'SDG – Technický list '!R46))))","v":""},{"$f":"IF('SDG – Technický list '!S46=\"\",\"\",IF($D47=\"\",\"please complete\",IF($D47>'SDG – Technický list '!S46-1,\":-)\",CONCATENATE(\"increase until \",'SDG – Technický list '!S46))))","v":""},{"$f":"IF('SDG – Technický list '!T46=\"\",\"\",IF($D47=\"\",\"please complete\",IF($D47>'SDG – Technický list '!T46-1,\":-)\",CONCATENATE(\"increase until \",'SDG – Technický list '!T46))))","v":""}]
[null,{"$f":"'SDG – Technický list '!B47","v":"Q2.28"},{"$f":"VLOOKUP(B48,'Kapitola 2'!$C$6:$D$278,2,0)","v":"Jakým způsobem se kontroluje příchod a odchod pracovníků a materiálu na pracovišti a v oblastech s omezeným vstupem?"},{"$f":"'SDG – Technický list '!C47","v":4},17,{"$f":"IF('SDG – Technický list '!D47=\"\",\"\",IF($D48=\"\",\"please complete\",IF($D48>'SDG – Technický list '!D47-1,\":-)\",CONCATENATE(\"increase until \",'SDG – Technický list '!D47))))","v":""},{"$f":"IF('SDG – Technický list '!E47=\"\",\"\",IF($D48=\"\",\"please complete\",IF($D48>'SDG – Technický list '!E47-1,\":-)\",CONCATENATE(\"increase until \",'SDG – Technický list '!E47))))","v":""},{"$f":"IF('SDG – Technický list '!F47=\"\",\"\",IF($D48=\"\",\"please complete\",IF($D48>'SDG – Technický list '!F47-1,\":-)\",CONCATENATE(\"increase until \",'SDG – Technický list '!F47))))","v":""},{"$f":"IF('SDG – Technický list '!G47=\"\",\"\",IF($D48=\"\",\"please complete\",IF($D48>'SDG – Technický list '!G47-1,\":-)\",CONCATENATE(\"increase until \",'SDG – Technický list '!G47))))","v":""},{"$f":"IF('SDG – Technický list '!H47=\"\",\"\",IF($D48=\"\",\"please complete\",IF($D48>'SDG – Technický list '!H47-1,\":-)\",CONCATENATE(\"increase until \",'SDG – Technický list '!H47))))","v":""},{"$f":"IF('SDG – Technický list '!I47=\"\",\"\",IF($D48=\"\",\"please complete\",IF($D48>'SDG – Technický list '!I47-1,\":-)\",CONCATENATE(\"increase until \",'SDG – Technický list '!I47))))","v":""},{"$f":"IF('SDG – Technický list '!J47=\"\",\"\",IF($D48=\"\",\"please complete\",IF($D48>'SDG – Technický list '!J47-1,\":-)\",CONCATENATE(\"increase until \",'SDG – Technický list '!J47))))","v":""},{"$f":"IF('SDG – Technický list '!K47=\"\",\"\",IF($D48=\"\",\"please complete\",IF($D48>'SDG – Technický list '!K47-1,\":-)\",CONCATENATE(\"increase until \",'SDG – Technický list '!K47))))","v":""},{"$f":"IF('SDG – Technický list '!L47=\"\",\"\",IF($D48=\"\",\"please complete\",IF($D48>'SDG – Technický list '!L47-1,\":-)\",CONCATENATE(\"increase until \",'SDG – Technický list '!L47))))","v":""},{"$f":"IF('SDG – Technický list '!M47=\"\",\"\",IF($D48=\"\",\"please complete\",IF($D48>'SDG – Technický list '!M47-1,\":-)\",CONCATENATE(\"increase until \",'SDG – Technický list '!M47))))","v":""},{"$f":"IF('SDG – Technický list '!N47=\"\",\"\",IF($D48=\"\",\"please complete\",IF($D48>'SDG – Technický list '!N47-1,\":-)\",CONCATENATE(\"increase until \",'SDG – Technický list '!N47))))","v":""},{"$f":"IF('SDG – Technický list '!O47=\"\",\"\",IF($D48=\"\",\"please complete\",IF($D48>'SDG – Technický list '!O47-1,\":-)\",CONCATENATE(\"increase until \",'SDG – Technický list '!O47))))","v":""},{"$f":"IF('SDG – Technický list '!P47=\"\",\"\",IF($D48=\"\",\"please complete\",IF($D48>'SDG – Technický list '!P47-1,\":-)\",CONCATENATE(\"increase until \",'SDG – Technický list '!P47))))","v":""},{"$f":"IF('SDG – Technický list '!Q47=\"\",\"\",IF($D48=\"\",\"please complete\",IF($D48>'SDG – Technický list '!Q47-1,\":-)\",CONCATENATE(\"increase until \",'SDG – Technický list '!Q47))))","v":""},{"$f":"IF('SDG – Technický list '!R47=\"\",\"\",IF($D48=\"\",\"please complete\",IF($D48>'SDG – Technický list '!R47-1,\":-)\",CONCATENATE(\"increase until \",'SDG – Technický list '!R47))))","v":""},{"$f":"IF('SDG – Technický list '!S47=\"\",\"\",IF($D48=\"\",\"please complete\",IF($D48>'SDG – Technický list '!S47-1,\":-)\",CONCATENATE(\"increase until \",'SDG – Technický list '!S47))))","v":""},{"$f":"IF('SDG – Technický list '!T47=\"\",\"\",IF($D48=\"\",\"please complete\",IF($D48>'SDG – Technický list '!T47-1,\":-)\",CONCATENATE(\"increase until \",'SDG – Technický list '!T47))))","v":""}]
[null,{"$f":"'SDG – Technický list '!B48","v":"Q2.29"},{"$f":"VLOOKUP(B49,'Kapitola 2'!$C$6:$D$278,2,0)","v":"Jakým způsobem se kontroluje kybernetická bezpečnost?"},{"$f":"'SDG – Technický list '!C48","v":4},17,{"$f":"IF('SDG – Technický list '!D48=\"\",\"\",IF($D49=\"\",\"please complete\",IF($D49>'SDG – Technický list '!D48-1,\":-)\",CONCATENATE(\"increase until \",'SDG – Technický list '!D48))))","v":""},{"$f":"IF('SDG – Technický list '!E48=\"\",\"\",IF($D49=\"\",\"please complete\",IF($D49>'SDG – Technický list '!E48-1,\":-)\",CONCATENATE(\"increase until \",'SDG – Technický list '!E48))))","v":""},{"$f":"IF('SDG – Technický list '!F48=\"\",\"\",IF($D49=\"\",\"please complete\",IF($D49>'SDG – Technický list '!F48-1,\":-)\",CONCATENATE(\"increase until \",'SDG – Technický list '!F48))))","v":""},{"$f":"IF('SDG – Technický list '!G48=\"\",\"\",IF($D49=\"\",\"please complete\",IF($D49>'SDG – Technický list '!G48-1,\":-)\",CONCATENATE(\"increase until \",'SDG – Technický list '!G48))))","v":""},{"$f":"IF('SDG – Technický list '!H48=\"\",\"\",IF($D49=\"\",\"please complete\",IF($D49>'SDG – Technický list '!H48-1,\":-)\",CONCATENATE(\"increase until \",'SDG – Technický list '!H48))))","v":""},{"$f":"IF('SDG – Technický list '!I48=\"\",\"\",IF($D49=\"\",\"please complete\",IF($D49>'SDG – Technický list '!I48-1,\":-)\",CONCATENATE(\"increase until \",'SDG – Technický list '!I48))))","v":""},{"$f":"IF('SDG – Technický list '!J48=\"\",\"\",IF($D49=\"\",\"please complete\",IF($D49>'SDG – Technický list '!J48-1,\":-)\",CONCATENATE(\"increase until \",'SDG – Technický list '!J48))))","v":""},{"$f":"IF('SDG – Technický list '!K48=\"\",\"\",IF($D49=\"\",\"please complete\",IF($D49>'SDG – Technický list '!K48-1,\":-)\",CONCATENATE(\"increase until \",'SDG – Technický list '!K48))))","v":""},{"$f":"IF('SDG – Technický list '!L48=\"\",\"\",IF($D49=\"\",\"please complete\",IF($D49>'SDG – Technický list '!L48-1,\":-)\",CONCATENATE(\"increase until \",'SDG – Technický list '!L48))))","v":""},{"$f":"IF('SDG – Technický list '!M48=\"\",\"\",IF($D49=\"\",\"please complete\",IF($D49>'SDG – Technický list '!M48-1,\":-)\",CONCATENATE(\"increase until \",'SDG – Technický list '!M48))))","v":""},{"$f":"IF('SDG – Technický list '!N48=\"\",\"\",IF($D49=\"\",\"please complete\",IF($D49>'SDG – Technický list '!N48-1,\":-)\",CONCATENATE(\"increase until \",'SDG – Technický list '!N48))))","v":""},{"$f":"IF('SDG – Technický list '!O48=\"\",\"\",IF($D49=\"\",\"please complete\",IF($D49>'SDG – Technický list '!O48-1,\":-)\",CONCATENATE(\"increase until \",'SDG – Technický list '!O48))))","v":""},{"$f":"IF('SDG – Technický list '!P48=\"\",\"\",IF($D49=\"\",\"please complete\",IF($D49>'SDG – Technický list '!P48-1,\":-)\",CONCATENATE(\"increase until \",'SDG – Technický list '!P48))))","v":""},{"$f":"IF('SDG – Technický list '!Q48=\"\",\"\",IF($D49=\"\",\"please complete\",IF($D49>'SDG – Technický list '!Q48-1,\":-)\",CONCATENATE(\"increase until \",'SDG – Technický list '!Q48))))","v":""},{"$f":"IF('SDG – Technický list '!R48=\"\",\"\",IF($D49=\"\",\"please complete\",IF($D49>'SDG – Technický list '!R48-1,\":-)\",CONCATENATE(\"increase until \",'SDG – Technický list '!R48))))","v":""},{"$f":"IF('SDG – Technický list '!S48=\"\",\"\",IF($D49=\"\",\"please complete\",IF($D49>'SDG – Technický list '!S48-1,\":-)\",CONCATENATE(\"increase until \",'SDG – Technický list '!S48))))","v":""},{"$f":"IF('SDG – Technický list '!T48=\"\",\"\",IF($D49=\"\",\"please complete\",IF($D49>'SDG – Technický list '!T48-1,\":-)\",CONCATENATE(\"increase until \",'SDG – Technický list '!T48))))","v":""}]
[null,{"$f":"'SDG – Technický list '!B49","v":"Q2.30"},{"$f":"VLOOKUP(B50,'Kapitola 2'!$C$6:$D$278,2,0)","v":"Jakým způsobem probíhá komunikace a výměna informací v případě bezpečnostní krize?"},{"$f":"'SDG – Technický list '!C49","v":4},17,{"$f":"IF('SDG – Technický list '!D49=\"\",\"\",IF($D50=\"\",\"please complete\",IF($D50>'SDG – Technický list '!D49-1,\":-)\",CONCATENATE(\"increase until \",'SDG – Technický list '!D49))))","v":""},{"$f":"IF('SDG – Technický list '!E49=\"\",\"\",IF($D50=\"\",\"please complete\",IF($D50>'SDG – Technický list '!E49-1,\":-)\",CONCATENATE(\"increase until \",'SDG – Technický list '!E49))))","v":""},{"$f":"IF('SDG – Technický list '!F49=\"\",\"\",IF($D50=\"\",\"please complete\",IF($D50>'SDG – Technický list '!F49-1,\":-)\",CONCATENATE(\"increase until \",'SDG – Technický list '!F49))))","v":""},{"$f":"IF('SDG – Technický list '!G49=\"\",\"\",IF($D50=\"\",\"please complete\",IF($D50>'SDG – Technický list '!G49-1,\":-)\",CONCATENATE(\"increase until \",'SDG – Technický list '!G49))))","v":""},{"$f":"IF('SDG – Technický list '!H49=\"\",\"\",IF($D50=\"\",\"please complete\",IF($D50>'SDG – Technický list '!H49-1,\":-)\",CONCATENATE(\"increase until \",'SDG – Technický list '!H49))))","v":""},{"$f":"IF('SDG – Technický list '!I49=\"\",\"\",IF($D50=\"\",\"please complete\",IF($D50>'SDG – Technický list '!I49-1,\":-)\",CONCATENATE(\"increase until \",'SDG – Technický list '!I49))))","v":""},{"$f":"IF('SDG – Technický list '!J49=\"\",\"\",IF($D50=\"\",\"please complete\",IF($D50>'SDG – Technický list '!J49-1,\":-)\",CONCATENATE(\"increase until \",'SDG – Technický list '!J49))))","v":""},{"$f":"IF('SDG – Technický list '!K49=\"\",\"\",IF($D50=\"\",\"please complete\",IF($D50>'SDG – Technický list '!K49-1,\":-)\",CONCATENATE(\"increase until \",'SDG – Technický list '!K49))))","v":""},{"$f":"IF('SDG – Technický list '!L49=\"\",\"\",IF($D50=\"\",\"please complete\",IF($D50>'SDG – Technický list '!L49-1,\":-)\",CONCATENATE(\"increase until \",'SDG – Technický list '!L49))))","v":""},{"$f":"IF('SDG – Technický list '!M49=\"\",\"\",IF($D50=\"\",\"please complete\",IF($D50>'SDG – Technický list '!M49-1,\":-)\",CONCATENATE(\"increase until \",'SDG – Technický list '!M49))))","v":""},{"$f":"IF('SDG – Technický list '!N49=\"\",\"\",IF($D50=\"\",\"please complete\",IF($D50>'SDG – Technický list '!N49-1,\":-)\",CONCATENATE(\"increase until \",'SDG – Technický list '!N49))))","v":""},{"$f":"IF('SDG – Technický list '!O49=\"\",\"\",IF($D50=\"\",\"please complete\",IF($D50>'SDG – Technický list '!O49-1,\":-)\",CONCATENATE(\"increase until \",'SDG – Technický list '!O49))))","v":""},{"$f":"IF('SDG – Technický list '!P49=\"\",\"\",IF($D50=\"\",\"please complete\",IF($D50>'SDG – Technický list '!P49-1,\":-)\",CONCATENATE(\"increase until \",'SDG – Technický list '!P49))))","v":""},{"$f":"IF('SDG – Technický list '!Q49=\"\",\"\",IF($D50=\"\",\"please complete\",IF($D50>'SDG – Technický list '!Q49-1,\":-)\",CONCATENATE(\"increase until \",'SDG – Technický list '!Q49))))","v":""},{"$f":"IF('SDG – Technický list '!R49=\"\",\"\",IF($D50=\"\",\"please complete\",IF($D50>'SDG – Technický list '!R49-1,\":-)\",CONCATENATE(\"increase until \",'SDG – Technický list '!R49))))","v":""},{"$f":"IF('SDG – Technický list '!S49=\"\",\"\",IF($D50=\"\",\"please complete\",IF($D50>'SDG – Technický list '!S49-1,\":-)\",CONCATENATE(\"increase until \",'SDG – Technický list '!S49))))","v":""},{"$f":"IF('SDG – Technický list '!T49=\"\",\"\",IF($D50=\"\",\"please complete\",IF($D50>'SDG – Technický list '!T49-1,\":-)\",CONCATENATE(\"increase until \",'SDG – Technický list '!T49))))","v":""}]
[null,{"$f":"'SDG – Technický list '!B50","v":"Q2.31"},{"$f":"VLOOKUP(B51,'Kapitola 2'!$C$6:$D$278,2,0)","v":"Jak se organizace vyrovnává s podezřelým chováním (včetně rizik radikalizace = souhlas a podopra extrémních názorů)"},{"$f":"'SDG – Technický list '!C50","v":3},17,{"$f":"IF('SDG – Technický list '!D50=\"\",\"\",IF($D51=\"\",\"please complete\",IF($D51>'SDG – Technický list '!D50-1,\":-)\",CONCATENATE(\"increase until \",'SDG – Technický list '!D50))))","v":""},{"$f":"IF('SDG – Technický list '!E50=\"\",\"\",IF($D51=\"\",\"please complete\",IF($D51>'SDG – Technický list '!E50-1,\":-)\",CONCATENATE(\"increase until \",'SDG – Technický list '!E50))))","v":""},{"$f":"IF('SDG – Technický list '!F50=\"\",\"\",IF($D51=\"\",\"please complete\",IF($D51>'SDG – Technický list '!F50-1,\":-)\",CONCATENATE(\"increase until \",'SDG – Technický list '!F50))))","v":""},{"$f":"IF('SDG – Technický list '!G50=\"\",\"\",IF($D51=\"\",\"please complete\",IF($D51>'SDG – Technický list '!G50-1,\":-)\",CONCATENATE(\"increase until \",'SDG – Technický list '!G50))))","v":""},{"$f":"IF('SDG – Technický list '!H50=\"\",\"\",IF($D51=\"\",\"please complete\",IF($D51>'SDG – Technický list '!H50-1,\":-)\",CONCATENATE(\"increase until \",'SDG – Technický list '!H50))))","v":""},{"$f":"IF('SDG – Technický list '!I50=\"\",\"\",IF($D51=\"\",\"please complete\",IF($D51>'SDG – Technický list '!I50-1,\":-)\",CONCATENATE(\"increase until \",'SDG – Technický list '!I50))))","v":""},{"$f":"IF('SDG – Technický list '!J50=\"\",\"\",IF($D51=\"\",\"please complete\",IF($D51>'SDG – Technický list '!J50-1,\":-)\",CONCATENATE(\"increase until \",'SDG – Technický list '!J50))))","v":""},{"$f":"IF('SDG – Technický list '!K50=\"\",\"\",IF($D51=\"\",\"please complete\",IF($D51>'SDG – Technický list '!K50-1,\":-)\",CONCATENATE(\"increase until \",'SDG – Technický list '!K50))))","v":""},{"$f":"IF('SDG – Technický list '!L50=\"\",\"\",IF($D51=\"\",\"please complete\",IF($D51>'SDG – Technický list '!L50-1,\":-)\",CONCATENATE(\"increase until \",'SDG – Technický list '!L50))))","v":""},{"$f":"IF('SDG – Technický list '!M50=\"\",\"\",IF($D51=\"\",\"please complete\",IF($D51>'SDG – Technický list '!M50-1,\":-)\",CONCATENATE(\"increase until \",'SDG – Technický list '!M50))))","v":""},{"$f":"IF('SDG – Technický list '!N50=\"\",\"\",IF($D51=\"\",\"please complete\",IF($D51>'SDG – Technický list '!N50-1,\":-)\",CONCATENATE(\"increase until \",'SDG – Technický list '!N50))))","v":""},{"$f":"IF('SDG – Technický list '!O50=\"\",\"\",IF($D51=\"\",\"please complete\",IF($D51>'SDG – Technický list '!O50-1,\":-)\",CONCATENATE(\"increase until \",'SDG – Technický list '!O50))))","v":""},{"$f":"IF('SDG – Technický list '!P50=\"\",\"\",IF($D51=\"\",\"please complete\",IF($D51>'SDG – Technický list '!P50-1,\":-)\",CONCATENATE(\"increase until \",'SDG – Technický list '!P50))))","v":""},{"$f":"IF('SDG – Technický list '!Q50=\"\",\"\",IF($D51=\"\",\"please complete\",IF($D51>'SDG – Technický list '!Q50-1,\":-)\",CONCATENATE(\"increase until \",'SDG – Technický list '!Q50))))","v":""},{"$f":"IF('SDG – Technický list '!R50=\"\",\"\",IF($D51=\"\",\"please complete\",IF($D51>'SDG – Technický list '!R50-1,\":-)\",CONCATENATE(\"increase until \",'SDG – Technický list '!R50))))","v":""},{"$f":"IF('SDG – Technický list '!S50=\"\",\"\",IF($D51=\"\",\"please complete\",IF($D51>'SDG – Technický list '!S50-1,\":-)\",CONCATENATE(\"increase until \",'SDG – Technický list '!S50))))","v":""},{"$f":"IF('SDG – Technický list '!T50=\"\",\"\",IF($D51=\"\",\"please complete\",IF($D51>'SDG – Technický list '!T50-1,\":-)\",CONCATENATE(\"increase until \",'SDG – Technický list '!T50))))","v":""}]
[null,{"$f":"'SDG – Technický list '!B51","v":"Q2.32"},{"$f":"VLOOKUP(B52,'Kapitola 2'!$C$6:$D$278,2,0)","v":"Jakým způsobem školí organizace pracovníky v oblasti ostrahy ve vazbě na bezpečnostní rizika?  "},{"$f":"'SDG – Technický list '!C51","v":3},17,{"$f":"IF('SDG – Technický list '!D51=\"\",\"\",IF($D52=\"\",\"please complete\",IF($D52>'SDG – Technický list '!D51-1,\":-)\",CONCATENATE(\"increase until \",'SDG – Technický list '!D51))))","v":""},{"$f":"IF('SDG – Technický list '!E51=\"\",\"\",IF($D52=\"\",\"please complete\",IF($D52>'SDG – Technický list '!E51-1,\":-)\",CONCATENATE(\"increase until \",'SDG – Technický list '!E51))))","v":""},{"$f":"IF('SDG – Technický list '!F51=\"\",\"\",IF($D52=\"\",\"please complete\",IF($D52>'SDG – Technický list '!F51-1,\":-)\",CONCATENATE(\"increase until \",'SDG – Technický list '!F51))))","v":""},{"$f":"IF('SDG – Technický list '!G51=\"\",\"\",IF($D52=\"\",\"please complete\",IF($D52>'SDG – Technický list '!G51-1,\":-)\",CONCATENATE(\"increase until \",'SDG – Technický list '!G51))))","v":""},{"$f":"IF('SDG – Technický list '!H51=\"\",\"\",IF($D52=\"\",\"please complete\",IF($D52>'SDG – Technický list '!H51-1,\":-)\",CONCATENATE(\"increase until \",'SDG – Technický list '!H51))))","v":""},{"$f":"IF('SDG – Technický list '!I51=\"\",\"\",IF($D52=\"\",\"please complete\",IF($D52>'SDG – Technický list '!I51-1,\":-)\",CONCATENATE(\"increase until \",'SDG – Technický list '!I51))))","v":""},{"$f":"IF('SDG – Technický list '!J51=\"\",\"\",IF($D52=\"\",\"please complete\",IF($D52>'SDG – Technický list '!J51-1,\":-)\",CONCATENATE(\"increase until \",'SDG – Technický list '!J51))))","v":""},{"$f":"IF('SDG – Technický list '!K51=\"\",\"\",IF($D52=\"\",\"please complete\",IF($D52>'SDG – Technický list '!K51-1,\":-)\",CONCATENATE(\"increase until \",'SDG – Technický list '!K51))))","v":""},{"$f":"IF('SDG – Technický list '!L51=\"\",\"\",IF($D52=\"\",\"please complete\",IF($D52>'SDG – Technický list '!L51-1,\":-)\",CONCATENATE(\"increase until \",'SDG – Technický list '!L51))))","v":""},{"$f":"IF('SDG – Technický list '!M51=\"\",\"\",IF($D52=\"\",\"please complete\",IF($D52>'SDG – Technický list '!M51-1,\":-)\",CONCATENATE(\"increase until \",'SDG – Technický list '!M51))))","v":""},{"$f":"IF('SDG – Technický list '!N51=\"\",\"\",IF($D52=\"\",\"please complete\",IF($D52>'SDG – Technický list '!N51-1,\":-)\",CONCATENATE(\"increase until \",'SDG – Technický list '!N51))))","v":""},{"$f":"IF('SDG – Technický list '!O51=\"\",\"\",IF($D52=\"\",\"please complete\",IF($D52>'SDG – Technický list '!O51-1,\":-)\",CONCATENATE(\"increase until \",'SDG – Technický list '!O51))))","v":""},{"$f":"IF('SDG – Technický list '!P51=\"\",\"\",IF($D52=\"\",\"please complete\",IF($D52>'SDG – Technický list '!P51-1,\":-)\",CONCATENATE(\"increase until \",'SDG – Technický list '!P51))))","v":""},{"$f":"IF('SDG – Technický list '!Q51=\"\",\"\",IF($D52=\"\",\"please complete\",IF($D52>'SDG – Technický list '!Q51-1,\":-)\",CONCATENATE(\"increase until \",'SDG – Technický list '!Q51))))","v":""},{"$f":"IF('SDG – Technický list '!R51=\"\",\"\",IF($D52=\"\",\"please complete\",IF($D52>'SDG – Technický list '!R51-1,\":-)\",CONCATENATE(\"increase until \",'SDG – Technický list '!R51))))","v":""},{"$f":"IF('SDG – Technický list '!S51=\"\",\"\",IF($D52=\"\",\"please complete\",IF($D52>'SDG – Technický list '!S51-1,\":-)\",CONCATENATE(\"increase until \",'SDG – Technický list '!S51))))","v":""},{"$f":"IF('SDG – Technický list '!T51=\"\",\"\",IF($D52=\"\",\"please complete\",IF($D52>'SDG – Technický list '!T51-1,\":-)\",CONCATENATE(\"increase until \",'SDG – Technický list '!T51))))","v":""}]
[null,{"$f":"'SDG – Technický list '!B52","v":"Q2.33"},{"$f":"VLOOKUP(B53,'Kapitola 2'!$C$6:$D$278,2,0)","v":"Jakým způsobem se posuzuje potenciální vliv organizace na životní prostředí?"},{"$f":"'SDG – Technický list '!C52","v":4},15,{"$f":"IF('SDG – Technický list '!D52=\"\",\"\",IF($D53=\"\",\"prosím dokončete\",IF($D53>'SDG – Technický list '!D52-1,\":-)\",CONCATENATE(\"zvýšení do \",'SDG – Technický list '!D52))))","v":""},{"$f":"IF('SDG – Technický list '!E52=\"\",\"\",IF($D53=\"\",\"prosím dokončete\",IF($D53>'SDG – Technický list '!E52-1,\":-)\",CONCATENATE(\"zvýšení do \",'SDG – Technický list '!E52))))","v":""},{"$f":"IF('SDG – Technický list '!F52=\"\",\"\",IF($D53=\"\",\"prosím dokončete\",IF($D53>'SDG – Technický list '!F52-1,\":-)\",CONCATENATE(\"zvýšení do \",'SDG – Technický list '!F52))))","v":""},{"$f":"IF('SDG – Technický list '!G52=\"\",\"\",IF($D53=\"\",\"prosím dokončete\",IF($D53>'SDG – Technický list '!G52-1,\":-)\",CONCATENATE(\"zvýšení do \",'SDG – Technický list '!G52))))","v":""},{"$f":"IF('SDG – Technický list '!H52=\"\",\"\",IF($D53=\"\",\"prosím dokončete\",IF($D53>'SDG – Technický list '!H52-1,\":-)\",CONCATENATE(\"zvýšení do \",'SDG – Technický list '!H52))))","v":""},{"$f":"IF('SDG – Technický list '!I52=\"\",\"\",IF($D53=\"\",\"prosím dokončete\",IF($D53>'SDG – Technický list '!I52-1,\":-)\",CONCATENATE(\"zvýšení do \",'SDG – Technický list '!I52))))","v":""},{"$f":"IF('SDG – Technický list '!J52=\"\",\"\",IF($D53=\"\",\"prosím dokončete\",IF($D53>'SDG – Technický list '!J52-1,\":-)\",CONCATENATE(\"zvýšení do \",'SDG – Technický list '!J52))))","v":""},{"$f":"IF('SDG – Technický list '!K52=\"\",\"\",IF($D53=\"\",\"prosím dokončete\",IF($D53>'SDG – Technický list '!K52-1,\":-)\",CONCATENATE(\"zvýšení do \",'SDG – Technický list '!K52))))","v":""},{"$f":"IF('SDG – Technický list '!L52=\"\",\"\",IF($D53=\"\",\"prosím dokončete\",IF($D53>'SDG – Technický list '!L52-1,\":-)\",CONCATENATE(\"zvýšení do \",'SDG – Technický list '!L52))))","v":":-)"},{"$f":"IF('SDG – Technický list '!M52=\"\",\"\",IF($D53=\"\",\"prosím dokončete\",IF($D53>'SDG – Technický list '!M52-1,\":-)\",CONCATENATE(\"zvýšení do \",'SDG – Technický list '!M52))))","v":""},{"$f":"IF('SDG – Technický list '!N52=\"\",\"\",IF($D53=\"\",\"prosím dokončete\",IF($D53>'SDG – Technický list '!N52-1,\":-)\",CONCATENATE(\"zvýšení do \",'SDG – Technický list '!N52))))","v":""},{"$f":"IF('SDG – Technický list '!O52=\"\",\"\",IF($D53=\"\",\"prosím dokončete\",IF($D53>'SDG – Technický list '!O52-1,\":-)\",CONCATENATE(\"zvýšení do \",'SDG – Technický list '!O52))))","v":":-)"},{"$f":"IF('SDG – Technický list '!P52=\"\",\"\",IF($D53=\"\",\"prosím dokončete\",IF($D53>'SDG – Technický list '!P52-1,\":-)\",CONCATENATE(\"zvýšení do \",'SDG – Technický list '!P52))))","v":""},{"$f":"IF('SDG – Technický list '!Q52=\"\",\"\",IF($D53=\"\",\"prosím dokončete\",IF($D53>'SDG – Technický list '!Q52-1,\":-)\",CONCATENATE(\"zvýšení do \",'SDG – Technický list '!Q52))))","v":""},{"$f":"IF('SDG – Technický list '!R52=\"\",\"\",IF($D53=\"\",\"prosím dokončete\",IF($D53>'SDG – Technický list '!R52-1,\":-)\",CONCATENATE(\"zvýšení do \",'SDG – Technický list '!R52))))","v":""},{"$f":"IF('SDG – Technický list '!S52=\"\",\"\",IF($D53=\"\",\"prosím dokončete\",IF($D53>'SDG – Technický list '!S52-1,\":-)\",CONCATENATE(\"zvýšení do \",'SDG – Technický list '!S52))))","v":""},{"$f":"IF('SDG – Technický list '!T52=\"\",\"\",IF($D53=\"\",\"prosím dokončete\",IF($D53>'SDG – Technický list '!T52-1,\":-)\",CONCATENATE(\"zvýšení do \",'SDG – Technický list '!T52))))","v":""}]
[null,{"$f":"'SDG – Technický list '!B53","v":"Q2.34"},{"$f":"VLOOKUP(B54,'Kapitola 2'!$C$6:$D$278,2,0)","v":"Jakým způsobem se řídí environmentální výkonnost?"},{"$f":"'SDG – Technický list '!C53","v":4},15,{"$f":"IF('SDG – Technický list '!D53=\"\",\"\",IF($D54=\"\",\"prosím dokončete\",IF($D54>'SDG – Technický list '!D53-1,\":-)\",CONCATENATE(\"zvýšení do \",'SDG – Technický list '!D53))))","v":""},{"$f":"IF('SDG – Technický list '!E53=\"\",\"\",IF($D54=\"\",\"prosím dokončete\",IF($D54>'SDG – Technický list '!E53-1,\":-)\",CONCATENATE(\"zvýšení do \",'SDG – Technický list '!E53))))","v":""},{"$f":"IF('SDG – Technický list '!F53=\"\",\"\",IF($D54=\"\",\"prosím dokončete\",IF($D54>'SDG – Technický list '!F53-1,\":-)\",CONCATENATE(\"zvýšení do \",'SDG – Technický list '!F53))))","v":""},{"$f":"IF('SDG – Technický list '!G53=\"\",\"\",IF($D54=\"\",\"prosím dokončete\",IF($D54>'SDG – Technický list '!G53-1,\":-)\",CONCATENATE(\"zvýšení do \",'SDG – Technický list '!G53))))","v":""},{"$f":"IF('SDG – Technický list '!H53=\"\",\"\",IF($D54=\"\",\"prosím dokončete\",IF($D54>'SDG – Technický list '!H53-1,\":-)\",CONCATENATE(\"zvýšení do \",'SDG – Technický list '!H53))))","v":""},{"$f":"IF('SDG – Technický list '!I53=\"\",\"\",IF($D54=\"\",\"prosím dokončete\",IF($D54>'SDG – Technický list '!I53-1,\":-)\",CONCATENATE(\"zvýšení do \",'SDG – Technický list '!I53))))","v":""},{"$f":"IF('SDG – Technický list '!J53=\"\",\"\",IF($D54=\"\",\"prosím dokončete\",IF($D54>'SDG – Technický list '!J53-1,\":-)\",CONCATENATE(\"zvýšení do \",'SDG – Technický list '!J53))))","v":""},{"$f":"IF('SDG – Technický list '!K53=\"\",\"\",IF($D54=\"\",\"prosím dokončete\",IF($D54>'SDG – Technický list '!K53-1,\":-)\",CONCATENATE(\"zvýšení do \",'SDG – Technický list '!K53))))","v":""},{"$f":"IF('SDG – Technický list '!L53=\"\",\"\",IF($D54=\"\",\"prosím dokončete\",IF($D54>'SDG – Technický list '!L53-1,\":-)\",CONCATENATE(\"zvýšení do \",'SDG – Technický list '!L53))))","v":":-)"},{"$f":"IF('SDG – Technický list '!M53=\"\",\"\",IF($D54=\"\",\"prosím dokončete\",IF($D54>'SDG – Technický list '!M53-1,\":-)\",CONCATENATE(\"zvýšení do \",'SDG – Technický list '!M53))))","v":""},{"$f":"IF('SDG – Technický list '!N53=\"\",\"\",IF($D54=\"\",\"prosím dokončete\",IF($D54>'SDG – Technický list '!N53-1,\":-)\",CONCATENATE(\"zvýšení do \",'SDG – Technický list '!N53))))","v":""},{"$f":"IF('SDG – Technický list '!O53=\"\",\"\",IF($D54=\"\",\"prosím dokončete\",IF($D54>'SDG – Technický list '!O53-1,\":-)\",CONCATENATE(\"zvýšení do \",'SDG – Technický list '!O53))))","v":":-)"},{"$f":"IF('SDG – Technický list '!P53=\"\",\"\",IF($D54=\"\",\"prosím dokončete\",IF($D54>'SDG – Technický list '!P53-1,\":-)\",CONCATENATE(\"zvýšení do \",'SDG – Technický list '!P53))))","v":""},{"$f":"IF('SDG – Technický list '!Q53=\"\",\"\",IF($D54=\"\",\"prosím dokončete\",IF($D54>'SDG – Technický list '!Q53-1,\":-)\",CONCATENATE(\"zvýšení do \",'SDG – Technický list '!Q53))))","v":""},{"$f":"IF('SDG – Technický list '!R53=\"\",\"\",IF($D54=\"\",\"prosím dokončete\",IF($D54>'SDG – Technický list '!R53-1,\":-)\",CONCATENATE(\"zvýšení do \",'SDG – Technický list '!R53))))","v":""},{"$f":"IF('SDG – Technický list '!S53=\"\",\"\",IF($D54=\"\",\"prosím dokončete\",IF($D54>'SDG – Technický list '!S53-1,\":-)\",CONCATENATE(\"zvýšení do \",'SDG – Technický list '!S53))))","v":""},{"$f":"IF('SDG – Technický list '!T53=\"\",\"\",IF($D54=\"\",\"prosím dokončete\",IF($D54>'SDG – Technický list '!T53-1,\":-)\",CONCATENATE(\"zvýšení do \",'SDG – Technický list '!T53))))","v":""}]
[null,{"$f":"'SDG – Technický list '!B54","v":"Q2.35"},{"$f":"VLOOKUP(B55,'Kapitola 2'!$C$6:$D$278,2,0)","v":"Jak organizace nakládá s odpadem?"},{"$f":"'SDG – Technický list '!C54","v":3},15,{"$f":"IF('SDG – Technický list '!D54=\"\",\"\",IF($D55=\"\",\"prosím dokončete\",IF($D55>'SDG – Technický list '!D54-1,\":-)\",CONCATENATE(\"zvýšení do \",'SDG – Technický list '!D54))))","v":""},{"$f":"IF('SDG – Technický list '!E54=\"\",\"\",IF($D55=\"\",\"prosím dokončete\",IF($D55>'SDG – Technický list '!E54-1,\":-)\",CONCATENATE(\"zvýšení do \",'SDG – Technický list '!E54))))","v":""},{"$f":"IF('SDG – Technický list '!F54=\"\",\"\",IF($D55=\"\",\"prosím dokončete\",IF($D55>'SDG – Technický list '!F54-1,\":-)\",CONCATENATE(\"zvýšení do \",'SDG – Technický list '!F54))))","v":""},{"$f":"IF('SDG – Technický list '!G54=\"\",\"\",IF($D55=\"\",\"prosím dokončete\",IF($D55>'SDG – Technický list '!G54-1,\":-)\",CONCATENATE(\"zvýšení do \",'SDG – Technický list '!G54))))","v":""},{"$f":"IF('SDG – Technický list '!H54=\"\",\"\",IF($D55=\"\",\"prosím dokončete\",IF($D55>'SDG – Technický list '!H54-1,\":-)\",CONCATENATE(\"zvýšení do \",'SDG – Technický list '!H54))))","v":""},{"$f":"IF('SDG – Technický list '!I54=\"\",\"\",IF($D55=\"\",\"prosím dokončete\",IF($D55>'SDG – Technický list '!I54-1,\":-)\",CONCATENATE(\"zvýšení do \",'SDG – Technický list '!I54))))","v":""},{"$f":"IF('SDG – Technický list '!J54=\"\",\"\",IF($D55=\"\",\"prosím dokončete\",IF($D55>'SDG – Technický list '!J54-1,\":-)\",CONCATENATE(\"zvýšení do \",'SDG – Technický list '!J54))))","v":""},{"$f":"IF('SDG – Technický list '!K54=\"\",\"\",IF($D55=\"\",\"prosím dokončete\",IF($D55>'SDG – Technický list '!K54-1,\":-)\",CONCATENATE(\"zvýšení do \",'SDG – Technický list '!K54))))","v":""},{"$f":"IF('SDG – Technický list '!L54=\"\",\"\",IF($D55=\"\",\"prosím dokončete\",IF($D55>'SDG – Technický list '!L54-1,\":-)\",CONCATENATE(\"zvýšení do \",'SDG – Technický list '!L54))))","v":":-)"},{"$f":"IF('SDG – Technický list '!M54=\"\",\"\",IF($D55=\"\",\"prosím dokončete\",IF($D55>'SDG – Technický list '!M54-1,\":-)\",CONCATENATE(\"zvýšení do \",'SDG – Technický list '!M54))))","v":""},{"$f":"IF('SDG – Technický list '!N54=\"\",\"\",IF($D55=\"\",\"prosím dokončete\",IF($D55>'SDG – Technický list '!N54-1,\":-)\",CONCATENATE(\"zvýšení do \",'SDG – Technický list '!N54))))","v":""},{"$f":"IF('SDG – Technický list '!O54=\"\",\"\",IF($D55=\"\",\"prosím dokončete\",IF($D55>'SDG – Technický list '!O54-1,\":-)\",CONCATENATE(\"zvýšení do \",'SDG – Technický list '!O54))))","v":":-)"},{"$f":"IF('SDG – Technický list '!P54=\"\",\"\",IF($D55=\"\",\"prosím dokončete\",IF($D55>'SDG – Technický list '!P54-1,\":-)\",CONCATENATE(\"zvýšení do \",'SDG – Technický list '!P54))))","v":""},{"$f":"IF('SDG – Technický list '!Q54=\"\",\"\",IF($D55=\"\",\"prosím dokončete\",IF($D55>'SDG – Technický list '!Q54-1,\":-)\",CONCATENATE(\"zvýšení do \",'SDG – Technický list '!Q54))))","v":""},{"$f":"IF('SDG – Technický list '!R54=\"\",\"\",IF($D55=\"\",\"prosím dokončete\",IF($D55>'SDG – Technický list '!R54-1,\":-)\",CONCATENATE(\"zvýšení do \",'SDG – Technický list '!R54))))","v":""},{"$f":"IF('SDG – Technický list '!S54=\"\",\"\",IF($D55=\"\",\"prosím dokončete\",IF($D55>'SDG – Technický list '!S54-1,\":-)\",CONCATENATE(\"zvýšení do \",'SDG – Technický list '!S54))))","v":""},{"$f":"IF('SDG – Technický list '!T54=\"\",\"\",IF($D55=\"\",\"prosím dokončete\",IF($D55>'SDG – Technický list '!T54-1,\":-)\",CONCATENATE(\"zvýšení do \",'SDG – Technický list '!T54))))","v":""}]
[null,{"$f":"'SDG – Technický list '!B55","v":"Q2.36"},{"$f":"VLOOKUP(B56,'Kapitola 2'!$C$6:$D$278,2,0)","v":"Jakým způsobem řídí organizace rizika týkající se podzemních vod?"},{"$f":"'SDG – Technický list '!C55","v":3},15,{"$f":"IF('SDG – Technický list '!D55=\"\",\"\",IF($D56=\"\",\"prosím dokončete\",IF($D56>'SDG – Technický list '!D55-1,\":-)\",CONCATENATE(\"zvýšení do \",'SDG – Technický list '!D55))))","v":""},{"$f":"IF('SDG – Technický list '!E55=\"\",\"\",IF($D56=\"\",\"prosím dokončete\",IF($D56>'SDG – Technický list '!E55-1,\":-)\",CONCATENATE(\"zvýšení do \",'SDG – Technický list '!E55))))","v":""},{"$f":"IF('SDG – Technický list '!F55=\"\",\"\",IF($D56=\"\",\"prosím dokončete\",IF($D56>'SDG – Technický list '!F55-1,\":-)\",CONCATENATE(\"zvýšení do \",'SDG – Technický list '!F55))))","v":""},{"$f":"IF('SDG – Technický list '!G55=\"\",\"\",IF($D56=\"\",\"prosím dokončete\",IF($D56>'SDG – Technický list '!G55-1,\":-)\",CONCATENATE(\"zvýšení do \",'SDG – Technický list '!G55))))","v":""},{"$f":"IF('SDG – Technický list '!H55=\"\",\"\",IF($D56=\"\",\"prosím dokončete\",IF($D56>'SDG – Technický list '!H55-1,\":-)\",CONCATENATE(\"zvýšení do \",'SDG – Technický list '!H55))))","v":""},{"$f":"IF('SDG – Technický list '!I55=\"\",\"\",IF($D56=\"\",\"prosím dokončete\",IF($D56>'SDG – Technický list '!I55-1,\":-)\",CONCATENATE(\"zvýšení do \",'SDG – Technický list '!I55))))","v":""},{"$f":"IF('SDG – Technický list '!J55=\"\",\"\",IF($D56=\"\",\"prosím dokončete\",IF($D56>'SDG – Technický list '!J55-1,\":-)\",CONCATENATE(\"zvýšení do \",'SDG – Technický list '!J55))))","v":""},{"$f":"IF('SDG – Technický list '!K55=\"\",\"\",IF($D56=\"\",\"prosím dokončete\",IF($D56>'SDG – Technický list '!K55-1,\":-)\",CONCATENATE(\"zvýšení do \",'SDG – Technický list '!K55))))","v":""},{"$f":"IF('SDG – Technický list '!L55=\"\",\"\",IF($D56=\"\",\"prosím dokončete\",IF($D56>'SDG – Technický list '!L55-1,\":-)\",CONCATENATE(\"zvýšení do \",'SDG – Technický list '!L55))))","v":":-)"},{"$f":"IF('SDG – Technický list '!M55=\"\",\"\",IF($D56=\"\",\"prosím dokončete\",IF($D56>'SDG – Technický list '!M55-1,\":-)\",CONCATENATE(\"zvýšení do \",'SDG – Technický list '!M55))))","v":""},{"$f":"IF('SDG – Technický list '!N55=\"\",\"\",IF($D56=\"\",\"prosím dokončete\",IF($D56>'SDG – Technický list '!N55-1,\":-)\",CONCATENATE(\"zvýšení do \",'SDG – Technický list '!N55))))","v":""},{"$f":"IF('SDG – Technický list '!O55=\"\",\"\",IF($D56=\"\",\"prosím dokončete\",IF($D56>'SDG – Technický list '!O55-1,\":-)\",CONCATENATE(\"zvýšení do \",'SDG – Technický list '!O55))))","v":":-)"},{"$f":"IF('SDG – Technický list '!P55=\"\",\"\",IF($D56=\"\",\"prosím dokončete\",IF($D56>'SDG – Technický list '!P55-1,\":-)\",CONCATENATE(\"zvýšení do \",'SDG – Technický list '!P55))))","v":""},{"$f":"IF('SDG – Technický list '!Q55=\"\",\"\",IF($D56=\"\",\"prosím dokončete\",IF($D56>'SDG – Technický list '!Q55-1,\":-)\",CONCATENATE(\"zvýšení do \",'SDG – Technický list '!Q55))))","v":""},{"$f":"IF('SDG – Technický list '!R55=\"\",\"\",IF($D56=\"\",\"prosím dokončete\",IF($D56>'SDG – Technický list '!R55-1,\":-)\",CONCATENATE(\"zvýšení do \",'SDG – Technický list '!R55))))","v":""},{"$f":"IF('SDG – Technický list '!S55=\"\",\"\",IF($D56=\"\",\"prosím dokončete\",IF($D56>'SDG – Technický list '!S55-1,\":-)\",CONCATENATE(\"zvýšení do \",'SDG – Technický list '!S55))))","v":""},{"$f":"IF('SDG – Technický list '!T55=\"\",\"\",IF($D56=\"\",\"prosím dokončete\",IF($D56>'SDG – Technický list '!T55-1,\":-)\",CONCATENATE(\"zvýšení do \",'SDG – Technický list '!T55))))","v":""}]
[null,{"$f":"'SDG – Technický list '!B56","v":"Q2.37"},{"$f":"VLOOKUP(B57,'Kapitola 2'!$C$6:$D$278,2,0)","v":"Jakým způsobem řídí organizace rizika týkající se znečištění půdy?"},{"$f":"'SDG – Technický list '!C56","v":3},15,{"$f":"IF('SDG – Technický list '!D56=\"\",\"\",IF($D57=\"\",\"prosím dokončete\",IF($D57>'SDG – Technický list '!D56-1,\":-)\",CONCATENATE(\"zvýšení do \",'SDG – Technický list '!D56))))","v":""},{"$f":"IF('SDG – Technický list '!E56=\"\",\"\",IF($D57=\"\",\"prosím dokončete\",IF($D57>'SDG – Technický list '!E56-1,\":-)\",CONCATENATE(\"zvýšení do \",'SDG – Technický list '!E56))))","v":""},{"$f":"IF('SDG – Technický list '!F56=\"\",\"\",IF($D57=\"\",\"prosím dokončete\",IF($D57>'SDG – Technický list '!F56-1,\":-)\",CONCATENATE(\"zvýšení do \",'SDG – Technický list '!F56))))","v":""},{"$f":"IF('SDG – Technický list '!G56=\"\",\"\",IF($D57=\"\",\"prosím dokončete\",IF($D57>'SDG – Technický list '!G56-1,\":-)\",CONCATENATE(\"zvýšení do \",'SDG – Technický list '!G56))))","v":""},{"$f":"IF('SDG – Technický list '!H56=\"\",\"\",IF($D57=\"\",\"prosím dokončete\",IF($D57>'SDG – Technický list '!H56-1,\":-)\",CONCATENATE(\"zvýšení do \",'SDG – Technický list '!H56))))","v":""},{"$f":"IF('SDG – Technický list '!I56=\"\",\"\",IF($D57=\"\",\"prosím dokončete\",IF($D57>'SDG – Technický list '!I56-1,\":-)\",CONCATENATE(\"zvýšení do \",'SDG – Technický list '!I56))))","v":""},{"$f":"IF('SDG – Technický list '!J56=\"\",\"\",IF($D57=\"\",\"prosím dokončete\",IF($D57>'SDG – Technický list '!J56-1,\":-)\",CONCATENATE(\"zvýšení do \",'SDG – Technický list '!J56))))","v":""},{"$f":"IF('SDG – Technický list '!K56=\"\",\"\",IF($D57=\"\",\"prosím dokončete\",IF($D57>'SDG – Technický list '!K56-1,\":-)\",CONCATENATE(\"zvýšení do \",'SDG – Technický list '!K56))))","v":""},{"$f":"IF('SDG – Technický list '!L56=\"\",\"\",IF($D57=\"\",\"prosím dokončete\",IF($D57>'SDG – Technický list '!L56-1,\":-)\",CONCATENATE(\"zvýšení do \",'SDG – Technický list '!L56))))","v":":-)"},{"$f":"IF('SDG – Technický list '!M56=\"\",\"\",IF($D57=\"\",\"prosím dokončete\",IF($D57>'SDG – Technický list '!M56-1,\":-)\",CONCATENATE(\"zvýšení do \",'SDG – Technický list '!M56))))","v":""},{"$f":"IF('SDG – Technický list '!N56=\"\",\"\",IF($D57=\"\",\"prosím dokončete\",IF($D57>'SDG – Technický list '!N56-1,\":-)\",CONCATENATE(\"zvýšení do \",'SDG – Technický list '!N56))))","v":""},{"$f":"IF('SDG – Technický list '!O56=\"\",\"\",IF($D57=\"\",\"prosím dokončete\",IF($D57>'SDG – Technický list '!O56-1,\":-)\",CONCATENATE(\"zvýšení do \",'SDG – Technický list '!O56))))","v":":-)"},{"$f":"IF('SDG – Technický list '!P56=\"\",\"\",IF($D57=\"\",\"prosím dokončete\",IF($D57>'SDG – Technický list '!P56-1,\":-)\",CONCATENATE(\"zvýšení do \",'SDG – Technický list '!P56))))","v":""},{"$f":"IF('SDG – Technický list '!Q56=\"\",\"\",IF($D57=\"\",\"prosím dokončete\",IF($D57>'SDG – Technický list '!Q56-1,\":-)\",CONCATENATE(\"zvýšení do \",'SDG – Technický list '!Q56))))","v":""},{"$f":"IF('SDG – Technický list '!R56=\"\",\"\",IF($D57=\"\",\"prosím dokončete\",IF($D57>'SDG – Technický list '!R56-1,\":-)\",CONCATENATE(\"zvýšení do \",'SDG – Technický list '!R56))))","v":""},{"$f":"IF('SDG – Technický list '!S56=\"\",\"\",IF($D57=\"\",\"prosím dokončete\",IF($D57>'SDG – Technický list '!S56-1,\":-)\",CONCATENATE(\"zvýšení do \",'SDG – Technický list '!S56))))","v":""},{"$f":"IF('SDG – Technický list '!T56=\"\",\"\",IF($D57=\"\",\"prosím dokončete\",IF($D57>'SDG – Technický list '!T56-1,\":-)\",CONCATENATE(\"zvýšení do \",'SDG – Technický list '!T56))))","v":""}]
[null,{"$f":"'SDG – Technický list '!B57","v":"Q2.38"},{"$f":"VLOOKUP(B58,'Kapitola 2'!$C$6:$D$278,2,0)","v":"Jakým způsobem řídí organizace existující znečištění půdy?\n"},{"$f":"'SDG – Technický list '!C57","v":4},15,{"$f":"IF('SDG – Technický list '!D57=\"\",\"\",IF($D58=\"\",\"prosím dokončete\",IF($D58>'SDG – Technický list '!D57-1,\":-)\",CONCATENATE(\"zvýšení do \",'SDG – Technický list '!D57))))","v":""},{"$f":"IF('SDG – Technický list '!E57=\"\",\"\",IF($D58=\"\",\"prosím dokončete\",IF($D58>'SDG – Technický list '!E57-1,\":-)\",CONCATENATE(\"zvýšení do \",'SDG – Technický list '!E57))))","v":""},{"$f":"IF('SDG – Technický list '!F57=\"\",\"\",IF($D58=\"\",\"prosím dokončete\",IF($D58>'SDG – Technický list '!F57-1,\":-)\",CONCATENATE(\"zvýšení do \",'SDG – Technický list '!F57))))","v":""},{"$f":"IF('SDG – Technický list '!G57=\"\",\"\",IF($D58=\"\",\"prosím dokončete\",IF($D58>'SDG – Technický list '!G57-1,\":-)\",CONCATENATE(\"zvýšení do \",'SDG – Technický list '!G57))))","v":""},{"$f":"IF('SDG – Technický list '!H57=\"\",\"\",IF($D58=\"\",\"prosím dokončete\",IF($D58>'SDG – Technický list '!H57-1,\":-)\",CONCATENATE(\"zvýšení do \",'SDG – Technický list '!H57))))","v":""},{"$f":"IF('SDG – Technický list '!I57=\"\",\"\",IF($D58=\"\",\"prosím dokončete\",IF($D58>'SDG – Technický list '!I57-1,\":-)\",CONCATENATE(\"zvýšení do \",'SDG – Technický list '!I57))))","v":""},{"$f":"IF('SDG – Technický list '!J57=\"\",\"\",IF($D58=\"\",\"prosím dokončete\",IF($D58>'SDG – Technický list '!J57-1,\":-)\",CONCATENATE(\"zvýšení do \",'SDG – Technický list '!J57))))","v":""},{"$f":"IF('SDG – Technický list '!K57=\"\",\"\",IF($D58=\"\",\"prosím dokončete\",IF($D58>'SDG – Technický list '!K57-1,\":-)\",CONCATENATE(\"zvýšení do \",'SDG – Technický list '!K57))))","v":""},{"$f":"IF('SDG – Technický list '!L57=\"\",\"\",IF($D58=\"\",\"prosím dokončete\",IF($D58>'SDG – Technický list '!L57-1,\":-)\",CONCATENATE(\"zvýšení do \",'SDG – Technický list '!L57))))","v":":-)"},{"$f":"IF('SDG – Technický list '!M57=\"\",\"\",IF($D58=\"\",\"prosím dokončete\",IF($D58>'SDG – Technický list '!M57-1,\":-)\",CONCATENATE(\"zvýšení do \",'SDG – Technický list '!M57))))","v":""},{"$f":"IF('SDG – Technický list '!N57=\"\",\"\",IF($D58=\"\",\"prosím dokončete\",IF($D58>'SDG – Technický list '!N57-1,\":-)\",CONCATENATE(\"zvýšení do \",'SDG – Technický list '!N57))))","v":""},{"$f":"IF('SDG – Technický list '!O57=\"\",\"\",IF($D58=\"\",\"prosím dokončete\",IF($D58>'SDG – Technický list '!O57-1,\":-)\",CONCATENATE(\"zvýšení do \",'SDG – Technický list '!O57))))","v":":-)"},{"$f":"IF('SDG – Technický list '!P57=\"\",\"\",IF($D58=\"\",\"prosím dokončete\",IF($D58>'SDG – Technický list '!P57-1,\":-)\",CONCATENATE(\"zvýšení do \",'SDG – Technický list '!P57))))","v":""},{"$f":"IF('SDG – Technický list '!Q57=\"\",\"\",IF($D58=\"\",\"prosím dokončete\",IF($D58>'SDG – Technický list '!Q57-1,\":-)\",CONCATENATE(\"zvýšení do \",'SDG – Technický list '!Q57))))","v":""},{"$f":"IF('SDG – Technický list '!R57=\"\",\"\",IF($D58=\"\",\"prosím dokončete\",IF($D58>'SDG – Technický list '!R57-1,\":-)\",CONCATENATE(\"zvýšení do \",'SDG – Technický list '!R57))))","v":""},{"$f":"IF('SDG – Technický list '!S57=\"\",\"\",IF($D58=\"\",\"prosím dokončete\",IF($D58>'SDG – Technický list '!S57-1,\":-)\",CONCATENATE(\"zvýšení do \",'SDG – Technický list '!S57))))","v":""},{"$f":"IF('SDG – Technický list '!T57=\"\",\"\",IF($D58=\"\",\"prosím dokončete\",IF($D58>'SDG – Technický list '!T57-1,\":-)\",CONCATENATE(\"zvýšení do \",'SDG – Technický list '!T57))))","v":""}]
[null,{"$f":"'SDG – Technický list '!B58","v":"Q2.39"},{"$f":"VLOOKUP(B59,'Kapitola 2'!$C$6:$D$278,2,0)","v":"Jakým způsobem organizace řídí své emise škodlivin do ovzduší?"},{"$f":"'SDG – Technický list '!C58","v":3},15,{"$f":"IF('SDG – Technický list '!D58=\"\",\"\",IF($D59=\"\",\"prosím dokončete\",IF($D59>'SDG – Technický list '!D58-1,\":-)\",CONCATENATE(\"zvýšení do \",'SDG – Technický list '!D58))))","v":""},{"$f":"IF('SDG – Technický list '!E58=\"\",\"\",IF($D59=\"\",\"prosím dokončete\",IF($D59>'SDG – Technický list '!E58-1,\":-)\",CONCATENATE(\"zvýšení do \",'SDG – Technický list '!E58))))","v":""},{"$f":"IF('SDG – Technický list '!F58=\"\",\"\",IF($D59=\"\",\"prosím dokončete\",IF($D59>'SDG – Technický list '!F58-1,\":-)\",CONCATENATE(\"zvýšení do \",'SDG – Technický list '!F58))))","v":""},{"$f":"IF('SDG – Technický list '!G58=\"\",\"\",IF($D59=\"\",\"prosím dokončete\",IF($D59>'SDG – Technický list '!G58-1,\":-)\",CONCATENATE(\"zvýšení do \",'SDG – Technický list '!G58))))","v":""},{"$f":"IF('SDG – Technický list '!H58=\"\",\"\",IF($D59=\"\",\"prosím dokončete\",IF($D59>'SDG – Technický list '!H58-1,\":-)\",CONCATENATE(\"zvýšení do \",'SDG – Technický list '!H58))))","v":""},{"$f":"IF('SDG – Technický list '!I58=\"\",\"\",IF($D59=\"\",\"prosím dokončete\",IF($D59>'SDG – Technický list '!I58-1,\":-)\",CONCATENATE(\"zvýšení do \",'SDG – Technický list '!I58))))","v":""},{"$f":"IF('SDG – Technický list '!J58=\"\",\"\",IF($D59=\"\",\"prosím dokončete\",IF($D59>'SDG – Technický list '!J58-1,\":-)\",CONCATENATE(\"zvýšení do \",'SDG – Technický list '!J58))))","v":""},{"$f":"IF('SDG – Technický list '!K58=\"\",\"\",IF($D59=\"\",\"prosím dokončete\",IF($D59>'SDG – Technický list '!K58-1,\":-)\",CONCATENATE(\"zvýšení do \",'SDG – Technický list '!K58))))","v":""},{"$f":"IF('SDG – Technický list '!L58=\"\",\"\",IF($D59=\"\",\"prosím dokončete\",IF($D59>'SDG – Technický list '!L58-1,\":-)\",CONCATENATE(\"zvýšení do \",'SDG – Technický list '!L58))))","v":":-)"},{"$f":"IF('SDG – Technický list '!M58=\"\",\"\",IF($D59=\"\",\"prosím dokončete\",IF($D59>'SDG – Technický list '!M58-1,\":-)\",CONCATENATE(\"zvýšení do \",'SDG – Technický list '!M58))))","v":""},{"$f":"IF('SDG – Technický list '!N58=\"\",\"\",IF($D59=\"\",\"prosím dokončete\",IF($D59>'SDG – Technický list '!N58-1,\":-)\",CONCATENATE(\"zvýšení do \",'SDG – Technický list '!N58))))","v":""},{"$f":"IF('SDG – Technický list '!O58=\"\",\"\",IF($D59=\"\",\"prosím dokončete\",IF($D59>'SDG – Technický list '!O58-1,\":-)\",CONCATENATE(\"zvýšení do \",'SDG – Technický list '!O58))))","v":":-)"},{"$f":"IF('SDG – Technický list '!P58=\"\",\"\",IF($D59=\"\",\"prosím dokončete\",IF($D59>'SDG – Technický list '!P58-1,\":-)\",CONCATENATE(\"zvýšení do \",'SDG – Technický list '!P58))))","v":""},{"$f":"IF('SDG – Technický list '!Q58=\"\",\"\",IF($D59=\"\",\"prosím dokončete\",IF($D59>'SDG – Technický list '!Q58-1,\":-)\",CONCATENATE(\"zvýšení do \",'SDG – Technický list '!Q58))))","v":""},{"$f":"IF('SDG – Technický list '!R58=\"\",\"\",IF($D59=\"\",\"prosím dokončete\",IF($D59>'SDG – Technický list '!R58-1,\":-)\",CONCATENATE(\"zvýšení do \",'SDG – Technický list '!R58))))","v":""},{"$f":"IF('SDG – Technický list '!S58=\"\",\"\",IF($D59=\"\",\"prosím dokončete\",IF($D59>'SDG – Technický list '!S58-1,\":-)\",CONCATENATE(\"zvýšení do \",'SDG – Technický list '!S58))))","v":""},{"$f":"IF('SDG – Technický list '!T58=\"\",\"\",IF($D59=\"\",\"prosím dokončete\",IF($D59>'SDG – Technický list '!T58-1,\":-)\",CONCATENATE(\"zvýšení do \",'SDG – Technický list '!T58))))","v":""}]
[null,{"$f":"'SDG – Technický list '!B59","v":"Q2.40"},{"$f":"VLOOKUP(B60,'Kapitola 2'!$C$6:$D$278,2,0)","v":"Jakým způsobem organizace řídí své emise škodlivin do vody?"},{"$f":"'SDG – Technický list '!C59","v":4},15,{"$f":"IF('SDG – Technický list '!D59=\"\",\"\",IF($D60=\"\",\"prosím dokončete\",IF($D60>'SDG – Technický list '!D59-1,\":-)\",CONCATENATE(\"zvýšení do \",'SDG – Technický list '!D59))))","v":""},{"$f":"IF('SDG – Technický list '!E59=\"\",\"\",IF($D60=\"\",\"prosím dokončete\",IF($D60>'SDG – Technický list '!E59-1,\":-)\",CONCATENATE(\"zvýšení do \",'SDG – Technický list '!E59))))","v":""},{"$f":"IF('SDG – Technický list '!F59=\"\",\"\",IF($D60=\"\",\"prosím dokončete\",IF($D60>'SDG – Technický list '!F59-1,\":-)\",CONCATENATE(\"zvýšení do \",'SDG – Technický list '!F59))))","v":""},{"$f":"IF('SDG – Technický list '!G59=\"\",\"\",IF($D60=\"\",\"prosím dokončete\",IF($D60>'SDG – Technický list '!G59-1,\":-)\",CONCATENATE(\"zvýšení do \",'SDG – Technický list '!G59))))","v":""},{"$f":"IF('SDG – Technický list '!H59=\"\",\"\",IF($D60=\"\",\"prosím dokončete\",IF($D60>'SDG – Technický list '!H59-1,\":-)\",CONCATENATE(\"zvýšení do \",'SDG – Technický list '!H59))))","v":""},{"$f":"IF('SDG – Technický list '!I59=\"\",\"\",IF($D60=\"\",\"prosím dokončete\",IF($D60>'SDG – Technický list '!I59-1,\":-)\",CONCATENATE(\"zvýšení do \",'SDG – Technický list '!I59))))","v":""},{"$f":"IF('SDG – Technický list '!J59=\"\",\"\",IF($D60=\"\",\"prosím dokončete\",IF($D60>'SDG – Technický list '!J59-1,\":-)\",CONCATENATE(\"zvýšení do \",'SDG – Technický list '!J59))))","v":""},{"$f":"IF('SDG – Technický list '!K59=\"\",\"\",IF($D60=\"\",\"prosím dokončete\",IF($D60>'SDG – Technický list '!K59-1,\":-)\",CONCATENATE(\"zvýšení do \",'SDG – Technický list '!K59))))","v":""},{"$f":"IF('SDG – Technický list '!L59=\"\",\"\",IF($D60=\"\",\"prosím dokončete\",IF($D60>'SDG – Technický list '!L59-1,\":-)\",CONCATENATE(\"zvýšení do \",'SDG – Technický list '!L59))))","v":":-)"},{"$f":"IF('SDG – Technický list '!M59=\"\",\"\",IF($D60=\"\",\"prosím dokončete\",IF($D60>'SDG – Technický list '!M59-1,\":-)\",CONCATENATE(\"zvýšení do \",'SDG – Technický list '!M59))))","v":""},{"$f":"IF('SDG – Technický list '!N59=\"\",\"\",IF($D60=\"\",\"prosím dokončete\",IF($D60>'SDG – Technický list '!N59-1,\":-)\",CONCATENATE(\"zvýšení do \",'SDG – Technický list '!N59))))","v":""},{"$f":"IF('SDG – Technický list '!O59=\"\",\"\",IF($D60=\"\",\"prosím dokončete\",IF($D60>'SDG – Technický list '!O59-1,\":-)\",CONCATENATE(\"zvýšení do \",'SDG – Technický list '!O59))))","v":":-)"},{"$f":"IF('SDG – Technický list '!P59=\"\",\"\",IF($D60=\"\",\"prosím dokončete\",IF($D60>'SDG – Technický list '!P59-1,\":-)\",CONCATENATE(\"zvýšení do \",'SDG – Technický list '!P59))))","v":""},{"$f":"IF('SDG – Technický list '!Q59=\"\",\"\",IF($D60=\"\",\"prosím dokončete\",IF($D60>'SDG – Technický list '!Q59-1,\":-)\",CONCATENATE(\"zvýšení do \",'SDG – Technický list '!Q59))))","v":""},{"$f":"IF('SDG – Technický list '!R59=\"\",\"\",IF($D60=\"\",\"prosím dokončete\",IF($D60>'SDG – Technický list '!R59-1,\":-)\",CONCATENATE(\"zvýšení do \",'SDG – Technický list '!R59))))","v":""},{"$f":"IF('SDG – Technický list '!S59=\"\",\"\",IF($D60=\"\",\"prosím dokončete\",IF($D60>'SDG – Technický list '!S59-1,\":-)\",CONCATENATE(\"zvýšení do \",'SDG – Technický list '!S59))))","v":""},{"$f":"IF('SDG – Technický list '!T59=\"\",\"\",IF($D60=\"\",\"prosím dokončete\",IF($D60>'SDG – Technický list '!T59-1,\":-)\",CONCATENATE(\"zvýšení do \",'SDG – Technický list '!T59))))","v":""}]
[null,{"$f":"'SDG – Technický list '!B60","v":"Q2.41"},{"$f":"VLOOKUP(B61,'Kapitola 2'!$C$6:$D$278,2,0)","v":"Jakým způsobem organizace řídí své emise hluku?"},{"$f":"'SDG – Technický list '!C60","v":3},17,{"$f":"IF('SDG – Technický list '!D60=\"\",\"\",IF($D61=\"\",\"please complete\",IF($D61>'SDG – Technický list '!D60-1,\":-)\",CONCATENATE(\"increase until \",'SDG – Technický list '!D60))))","v":""},{"$f":"IF('SDG – Technický list '!E60=\"\",\"\",IF($D61=\"\",\"please complete\",IF($D61>'SDG – Technický list '!E60-1,\":-)\",CONCATENATE(\"increase until \",'SDG – Technický list '!E60))))","v":""},{"$f":"IF('SDG – Technický list '!F60=\"\",\"\",IF($D61=\"\",\"please complete\",IF($D61>'SDG – Technický list '!F60-1,\":-)\",CONCATENATE(\"increase until \",'SDG – Technický list '!F60))))","v":""},{"$f":"IF('SDG – Technický list '!G60=\"\",\"\",IF($D61=\"\",\"please complete\",IF($D61>'SDG – Technický list '!G60-1,\":-)\",CONCATENATE(\"increase until \",'SDG – Technický list '!G60))))","v":""},{"$f":"IF('SDG – Technický list '!H60=\"\",\"\",IF($D61=\"\",\"please complete\",IF($D61>'SDG – Technický list '!H60-1,\":-)\",CONCATENATE(\"increase until \",'SDG – Technický list '!H60))))","v":""},{"$f":"IF('SDG – Technický list '!I60=\"\",\"\",IF($D61=\"\",\"please complete\",IF($D61>'SDG – Technický list '!I60-1,\":-)\",CONCATENATE(\"increase until \",'SDG – Technický list '!I60))))","v":""},{"$f":"IF('SDG – Technický list '!J60=\"\",\"\",IF($D61=\"\",\"please complete\",IF($D61>'SDG – Technický list '!J60-1,\":-)\",CONCATENATE(\"increase until \",'SDG – Technický list '!J60))))","v":""},{"$f":"IF('SDG – Technický list '!K60=\"\",\"\",IF($D61=\"\",\"please complete\",IF($D61>'SDG – Technický list '!K60-1,\":-)\",CONCATENATE(\"increase until \",'SDG – Technický list '!K60))))","v":""},{"$f":"IF('SDG – Technický list '!L60=\"\",\"\",IF($D61=\"\",\"please complete\",IF($D61>'SDG – Technický list '!L60-1,\":-)\",CONCATENATE(\"increase until \",'SDG – Technický list '!L60))))","v":""},{"$f":"IF('SDG – Technický list '!M60=\"\",\"\",IF($D61=\"\",\"please complete\",IF($D61>'SDG – Technický list '!M60-1,\":-)\",CONCATENATE(\"increase until \",'SDG – Technický list '!M60))))","v":""},{"$f":"IF('SDG – Technický list '!N60=\"\",\"\",IF($D61=\"\",\"please complete\",IF($D61>'SDG – Technický list '!N60-1,\":-)\",CONCATENATE(\"increase until \",'SDG – Technický list '!N60))))","v":""},{"$f":"IF('SDG – Technický list '!O60=\"\",\"\",IF($D61=\"\",\"please complete\",IF($D61>'SDG – Technický list '!O60-1,\":-)\",CONCATENATE(\"increase until \",'SDG – Technický list '!O60))))","v":""},{"$f":"IF('SDG – Technický list '!P60=\"\",\"\",IF($D61=\"\",\"please complete\",IF($D61>'SDG – Technický list '!P60-1,\":-)\",CONCATENATE(\"increase until \",'SDG – Technický list '!P60))))","v":""},{"$f":"IF('SDG – Technický list '!Q60=\"\",\"\",IF($D61=\"\",\"please complete\",IF($D61>'SDG – Technický list '!Q60-1,\":-)\",CONCATENATE(\"increase until \",'SDG – Technický list '!Q60))))","v":""},{"$f":"IF('SDG – Technický list '!R60=\"\",\"\",IF($D61=\"\",\"please complete\",IF($D61>'SDG – Technický list '!R60-1,\":-)\",CONCATENATE(\"increase until \",'SDG – Technický list '!R60))))","v":""},{"$f":"IF('SDG – Technický list '!S60=\"\",\"\",IF($D61=\"\",\"please complete\",IF($D61>'SDG – Technický list '!S60-1,\":-)\",CONCATENATE(\"increase until \",'SDG – Technický list '!S60))))","v":""},{"$f":"IF('SDG – Technický list '!T60=\"\",\"\",IF($D61=\"\",\"please complete\",IF($D61>'SDG – Technický list '!T60-1,\":-)\",CONCATENATE(\"increase until \",'SDG – Technický list '!T60))))","v":""}]
[null,{"$f":"'SDG – Technický list '!B61","v":"Q2.42"},{"$f":"VLOOKUP(B62,'Kapitola 2'!$C$6:$D$278,2,0)","v":"Jakým způsobem organizace řídí své emise zápachu?"},{"$f":"'SDG – Technický list '!C61","v":4},17,{"$f":"IF('SDG – Technický list '!D61=\"\",\"\",IF($D62=\"\",\"please complete\",IF($D62>'SDG – Technický list '!D61-1,\":-)\",CONCATENATE(\"increase until \",'SDG – Technický list '!D61))))","v":""},{"$f":"IF('SDG – Technický list '!E61=\"\",\"\",IF($D62=\"\",\"please complete\",IF($D62>'SDG – Technický list '!E61-1,\":-)\",CONCATENATE(\"increase until \",'SDG – Technický list '!E61))))","v":""},{"$f":"IF('SDG – Technický list '!F61=\"\",\"\",IF($D62=\"\",\"please complete\",IF($D62>'SDG – Technický list '!F61-1,\":-)\",CONCATENATE(\"increase until \",'SDG – Technický list '!F61))))","v":""},{"$f":"IF('SDG – Technický list '!G61=\"\",\"\",IF($D62=\"\",\"please complete\",IF($D62>'SDG – Technický list '!G61-1,\":-)\",CONCATENATE(\"increase until \",'SDG – Technický list '!G61))))","v":""},{"$f":"IF('SDG – Technický list '!H61=\"\",\"\",IF($D62=\"\",\"please complete\",IF($D62>'SDG – Technický list '!H61-1,\":-)\",CONCATENATE(\"increase until \",'SDG – Technický list '!H61))))","v":""},{"$f":"IF('SDG – Technický list '!I61=\"\",\"\",IF($D62=\"\",\"please complete\",IF($D62>'SDG – Technický list '!I61-1,\":-)\",CONCATENATE(\"increase until \",'SDG – Technický list '!I61))))","v":""},{"$f":"IF('SDG – Technický list '!J61=\"\",\"\",IF($D62=\"\",\"please complete\",IF($D62>'SDG – Technický list '!J61-1,\":-)\",CONCATENATE(\"increase until \",'SDG – Technický list '!J61))))","v":""},{"$f":"IF('SDG – Technický list '!K61=\"\",\"\",IF($D62=\"\",\"please complete\",IF($D62>'SDG – Technický list '!K61-1,\":-)\",CONCATENATE(\"increase until \",'SDG – Technický list '!K61))))","v":""},{"$f":"IF('SDG – Technický list '!L61=\"\",\"\",IF($D62=\"\",\"please complete\",IF($D62>'SDG – Technický list '!L61-1,\":-)\",CONCATENATE(\"increase until \",'SDG – Technický list '!L61))))","v":""},{"$f":"IF('SDG – Technický list '!M61=\"\",\"\",IF($D62=\"\",\"please complete\",IF($D62>'SDG – Technický list '!M61-1,\":-)\",CONCATENATE(\"increase until \",'SDG – Technický list '!M61))))","v":""},{"$f":"IF('SDG – Technický list '!N61=\"\",\"\",IF($D62=\"\",\"please complete\",IF($D62>'SDG – Technický list '!N61-1,\":-)\",CONCATENATE(\"increase until \",'SDG – Technický list '!N61))))","v":""},{"$f":"IF('SDG – Technický list '!O61=\"\",\"\",IF($D62=\"\",\"please complete\",IF($D62>'SDG – Technický list '!O61-1,\":-)\",CONCATENATE(\"increase until \",'SDG – Technický list '!O61))))","v":""},{"$f":"IF('SDG – Technický list '!P61=\"\",\"\",IF($D62=\"\",\"please complete\",IF($D62>'SDG – Technický list '!P61-1,\":-)\",CONCATENATE(\"increase until \",'SDG – Technický list '!P61))))","v":""},{"$f":"IF('SDG – Technický list '!Q61=\"\",\"\",IF($D62=\"\",\"please complete\",IF($D62>'SDG – Technický list '!Q61-1,\":-)\",CONCATENATE(\"increase until \",'SDG – Technický list '!Q61))))","v":""},{"$f":"IF('SDG – Technický list '!R61=\"\",\"\",IF($D62=\"\",\"please complete\",IF($D62>'SDG – Technický list '!R61-1,\":-)\",CONCATENATE(\"increase until \",'SDG – Technický list '!R61))))","v":""},{"$f":"IF('SDG – Technický list '!S61=\"\",\"\",IF($D62=\"\",\"please complete\",IF($D62>'SDG – Technický list '!S61-1,\":-)\",CONCATENATE(\"increase until \",'SDG – Technický list '!S61))))","v":""},{"$f":"IF('SDG – Technický list '!T61=\"\",\"\",IF($D62=\"\",\"please complete\",IF($D62>'SDG – Technický list '!T61-1,\":-)\",CONCATENATE(\"increase until \",'SDG – Technický list '!T61))))","v":""}]
[null,{"$f":"'SDG – Technický list '!B62","v":"Q2.43"},{"$f":"VLOOKUP(B63,'Kapitola 2'!$C$6:$D$278,2,0)","v":"Jakým způsobem organizace zabraňuje a řídí havarijní emise do prostředí?"},{"$f":"'SDG – Technický list '!C62","v":4},17,{"$f":"IF('SDG – Technický list '!D62=\"\",\"\",IF($D63=\"\",\"please complete\",IF($D63>'SDG – Technický list '!D62-1,\":-)\",CONCATENATE(\"increase until \",'SDG – Technický list '!D62))))","v":""},{"$f":"IF('SDG – Technický list '!E62=\"\",\"\",IF($D63=\"\",\"please complete\",IF($D63>'SDG – Technický list '!E62-1,\":-)\",CONCATENATE(\"increase until \",'SDG – Technický list '!E62))))","v":""},{"$f":"IF('SDG – Technický list '!F62=\"\",\"\",IF($D63=\"\",\"please complete\",IF($D63>'SDG – Technický list '!F62-1,\":-)\",CONCATENATE(\"increase until \",'SDG – Technický list '!F62))))","v":""},{"$f":"IF('SDG – Technický list '!G62=\"\",\"\",IF($D63=\"\",\"please complete\",IF($D63>'SDG – Technický list '!G62-1,\":-)\",CONCATENATE(\"increase until \",'SDG – Technický list '!G62))))","v":""},{"$f":"IF('SDG – Technický list '!H62=\"\",\"\",IF($D63=\"\",\"please complete\",IF($D63>'SDG – Technický list '!H62-1,\":-)\",CONCATENATE(\"increase until \",'SDG – Technický list '!H62))))","v":""},{"$f":"IF('SDG – Technický list '!I62=\"\",\"\",IF($D63=\"\",\"please complete\",IF($D63>'SDG – Technický list '!I62-1,\":-)\",CONCATENATE(\"increase until \",'SDG – Technický list '!I62))))","v":""},{"$f":"IF('SDG – Technický list '!J62=\"\",\"\",IF($D63=\"\",\"please complete\",IF($D63>'SDG – Technický list '!J62-1,\":-)\",CONCATENATE(\"increase until \",'SDG – Technický list '!J62))))","v":""},{"$f":"IF('SDG – Technický list '!K62=\"\",\"\",IF($D63=\"\",\"please complete\",IF($D63>'SDG – Technický list '!K62-1,\":-)\",CONCATENATE(\"increase until \",'SDG – Technický list '!K62))))","v":""},{"$f":"IF('SDG – Technický list '!L62=\"\",\"\",IF($D63=\"\",\"please complete\",IF($D63>'SDG – Technický list '!L62-1,\":-)\",CONCATENATE(\"increase until \",'SDG – Technický list '!L62))))","v":""},{"$f":"IF('SDG – Technický list '!M62=\"\",\"\",IF($D63=\"\",\"please complete\",IF($D63>'SDG – Technický list '!M62-1,\":-)\",CONCATENATE(\"increase until \",'SDG – Technický list '!M62))))","v":""},{"$f":"IF('SDG – Technický list '!N62=\"\",\"\",IF($D63=\"\",\"please complete\",IF($D63>'SDG – Technický list '!N62-1,\":-)\",CONCATENATE(\"increase until \",'SDG – Technický list '!N62))))","v":""},{"$f":"IF('SDG – Technický list '!O62=\"\",\"\",IF($D63=\"\",\"please complete\",IF($D63>'SDG – Technický list '!O62-1,\":-)\",CONCATENATE(\"increase until \",'SDG – Technický list '!O62))))","v":""},{"$f":"IF('SDG – Technický list '!P62=\"\",\"\",IF($D63=\"\",\"please complete\",IF($D63>'SDG – Technický list '!P62-1,\":-)\",CONCATENATE(\"increase until \",'SDG – Technický list '!P62))))","v":""},{"$f":"IF('SDG – Technický list '!Q62=\"\",\"\",IF($D63=\"\",\"please complete\",IF($D63>'SDG – Technický list '!Q62-1,\":-)\",CONCATENATE(\"increase until \",'SDG – Technický list '!Q62))))","v":""},{"$f":"IF('SDG – Technický list '!R62=\"\",\"\",IF($D63=\"\",\"please complete\",IF($D63>'SDG – Technický list '!R62-1,\":-)\",CONCATENATE(\"increase until \",'SDG – Technický list '!R62))))","v":""},{"$f":"IF('SDG – Technický list '!S62=\"\",\"\",IF($D63=\"\",\"please complete\",IF($D63>'SDG – Technický list '!S62-1,\":-)\",CONCATENATE(\"increase until \",'SDG – Technický list '!S62))))","v":""},{"$f":"IF('SDG – Technický list '!T62=\"\",\"\",IF($D63=\"\",\"please complete\",IF($D63>'SDG – Technický list '!T62-1,\":-)\",CONCATENATE(\"increase until \",'SDG – Technický list '!T62))))","v":""}]
[null,{"$f":"'SDG – Technický list '!B63","v":"Q2.44"},{"$f":"VLOOKUP(B64,'Kapitola 2'!$C$6:$D$278,2,0)","v":"Jakým způsobem zajišťuje organizace správně kompetence všech pracovníků, týkající se environmentálních požadavků, které souvisejí s jejich pracovní náplní?"},{"$f":"'SDG – Technický list '!C63","v":4},17,{"$f":"IF('SDG – Technický list '!D63=\"\",\"\",IF($D64=\"\",\"please complete\",IF($D64>'SDG – Technický list '!D63-1,\":-)\",CONCATENATE(\"increase until \",'SDG – Technický list '!D63))))","v":""},{"$f":"IF('SDG – Technický list '!E63=\"\",\"\",IF($D64=\"\",\"please complete\",IF($D64>'SDG – Technický list '!E63-1,\":-)\",CONCATENATE(\"increase until \",'SDG – Technický list '!E63))))","v":""},{"$f":"IF('SDG – Technický list '!F63=\"\",\"\",IF($D64=\"\",\"please complete\",IF($D64>'SDG – Technický list '!F63-1,\":-)\",CONCATENATE(\"increase until \",'SDG – Technický list '!F63))))","v":""},{"$f":"IF('SDG – Technický list '!G63=\"\",\"\",IF($D64=\"\",\"please complete\",IF($D64>'SDG – Technický list '!G63-1,\":-)\",CONCATENATE(\"increase until \",'SDG – Technický list '!G63))))","v":""},{"$f":"IF('SDG – Technický list '!H63=\"\",\"\",IF($D64=\"\",\"please complete\",IF($D64>'SDG – Technický list '!H63-1,\":-)\",CONCATENATE(\"increase until \",'SDG – Technický list '!H63))))","v":""},{"$f":"IF('SDG – Technický list '!I63=\"\",\"\",IF($D64=\"\",\"please complete\",IF($D64>'SDG – Technický list '!I63-1,\":-)\",CONCATENATE(\"increase until \",'SDG – Technický list '!I63))))","v":""},{"$f":"IF('SDG – Technický list '!J63=\"\",\"\",IF($D64=\"\",\"please complete\",IF($D64>'SDG – Technický list '!J63-1,\":-)\",CONCATENATE(\"increase until \",'SDG – Technický list '!J63))))","v":""},{"$f":"IF('SDG – Technický list '!K63=\"\",\"\",IF($D64=\"\",\"please complete\",IF($D64>'SDG – Technický list '!K63-1,\":-)\",CONCATENATE(\"increase until \",'SDG – Technický list '!K63))))","v":""},{"$f":"IF('SDG – Technický list '!L63=\"\",\"\",IF($D64=\"\",\"please complete\",IF($D64>'SDG – Technický list '!L63-1,\":-)\",CONCATENATE(\"increase until \",'SDG – Technický list '!L63))))","v":""},{"$f":"IF('SDG – Technický list '!M63=\"\",\"\",IF($D64=\"\",\"please complete\",IF($D64>'SDG – Technický list '!M63-1,\":-)\",CONCATENATE(\"increase until \",'SDG – Technický list '!M63))))","v":""},{"$f":"IF('SDG – Technický list '!N63=\"\",\"\",IF($D64=\"\",\"please complete\",IF($D64>'SDG – Technický list '!N63-1,\":-)\",CONCATENATE(\"increase until \",'SDG – Technický list '!N63))))","v":""},{"$f":"IF('SDG – Technický list '!O63=\"\",\"\",IF($D64=\"\",\"please complete\",IF($D64>'SDG – Technický list '!O63-1,\":-)\",CONCATENATE(\"increase until \",'SDG – Technický list '!O63))))","v":""},{"$f":"IF('SDG – Technický list '!P63=\"\",\"\",IF($D64=\"\",\"please complete\",IF($D64>'SDG – Technický list '!P63-1,\":-)\",CONCATENATE(\"increase until \",'SDG – Technický list '!P63))))","v":""},{"$f":"IF('SDG – Technický list '!Q63=\"\",\"\",IF($D64=\"\",\"please complete\",IF($D64>'SDG – Technický list '!Q63-1,\":-)\",CONCATENATE(\"increase until \",'SDG – Technický list '!Q63))))","v":""},{"$f":"IF('SDG – Technický list '!R63=\"\",\"\",IF($D64=\"\",\"please complete\",IF($D64>'SDG – Technický list '!R63-1,\":-)\",CONCATENATE(\"increase until \",'SDG – Technický list '!R63))))","v":""},{"$f":"IF('SDG – Technický list '!S63=\"\",\"\",IF($D64=\"\",\"please complete\",IF($D64>'SDG – Technický list '!S63-1,\":-)\",CONCATENATE(\"increase until \",'SDG – Technický list '!S63))))","v":""},{"$f":"IF('SDG – Technický list '!T63=\"\",\"\",IF($D64=\"\",\"please complete\",IF($D64>'SDG – Technický list '!T63-1,\":-)\",CONCATENATE(\"increase until \",'SDG – Technický list '!T63))))","v":""}]
[null,{"$f":"'SDG – Technický list '!B64","v":"Q2.45"},{"$f":"VLOOKUP(B65,'Kapitola 2'!$C$6:$D$278,2,0)","v":"Jakým způsobem jsou zainteresované strany organizace informovány o environmentálních aspektech a jejich možných dopadech?"},{"$f":"'SDG – Technický list '!C64","v":3},17,{"$f":"IF('SDG – Technický list '!D64=\"\",\"\",IF($D65=\"\",\"please complete\",IF($D65>'SDG – Technický list '!D64-1,\":-)\",CONCATENATE(\"increase until \",'SDG – Technický list '!D64))))","v":""},{"$f":"IF('SDG – Technický list '!E64=\"\",\"\",IF($D65=\"\",\"please complete\",IF($D65>'SDG – Technický list '!E64-1,\":-)\",CONCATENATE(\"increase until \",'SDG – Technický list '!E64))))","v":""},{"$f":"IF('SDG – Technický list '!F64=\"\",\"\",IF($D65=\"\",\"please complete\",IF($D65>'SDG – Technický list '!F64-1,\":-)\",CONCATENATE(\"increase until \",'SDG – Technický list '!F64))))","v":""},{"$f":"IF('SDG – Technický list '!G64=\"\",\"\",IF($D65=\"\",\"please complete\",IF($D65>'SDG – Technický list '!G64-1,\":-)\",CONCATENATE(\"increase until \",'SDG – Technický list '!G64))))","v":""},{"$f":"IF('SDG – Technický list '!H64=\"\",\"\",IF($D65=\"\",\"please complete\",IF($D65>'SDG – Technický list '!H64-1,\":-)\",CONCATENATE(\"increase until \",'SDG – Technický list '!H64))))","v":""},{"$f":"IF('SDG – Technický list '!I64=\"\",\"\",IF($D65=\"\",\"please complete\",IF($D65>'SDG – Technický list '!I64-1,\":-)\",CONCATENATE(\"increase until \",'SDG – Technický list '!I64))))","v":""},{"$f":"IF('SDG – Technický list '!J64=\"\",\"\",IF($D65=\"\",\"please complete\",IF($D65>'SDG – Technický list '!J64-1,\":-)\",CONCATENATE(\"increase until \",'SDG – Technický list '!J64))))","v":""},{"$f":"IF('SDG – Technický list '!K64=\"\",\"\",IF($D65=\"\",\"please complete\",IF($D65>'SDG – Technický list '!K64-1,\":-)\",CONCATENATE(\"increase until \",'SDG – Technický list '!K64))))","v":""},{"$f":"IF('SDG – Technický list '!L64=\"\",\"\",IF($D65=\"\",\"please complete\",IF($D65>'SDG – Technický list '!L64-1,\":-)\",CONCATENATE(\"increase until \",'SDG – Technický list '!L64))))","v":""},{"$f":"IF('SDG – Technický list '!M64=\"\",\"\",IF($D65=\"\",\"please complete\",IF($D65>'SDG – Technický list '!M64-1,\":-)\",CONCATENATE(\"increase until \",'SDG – Technický list '!M64))))","v":""},{"$f":"IF('SDG – Technický list '!N64=\"\",\"\",IF($D65=\"\",\"please complete\",IF($D65>'SDG – Technický list '!N64-1,\":-)\",CONCATENATE(\"increase until \",'SDG – Technický list '!N64))))","v":""},{"$f":"IF('SDG – Technický list '!O64=\"\",\"\",IF($D65=\"\",\"please complete\",IF($D65>'SDG – Technický list '!O64-1,\":-)\",CONCATENATE(\"increase until \",'SDG – Technický list '!O64))))","v":""},{"$f":"IF('SDG – Technický list '!P64=\"\",\"\",IF($D65=\"\",\"please complete\",IF($D65>'SDG – Technický list '!P64-1,\":-)\",CONCATENATE(\"increase until \",'SDG – Technický list '!P64))))","v":""},{"$f":"IF('SDG – Technický list '!Q64=\"\",\"\",IF($D65=\"\",\"please complete\",IF($D65>'SDG – Technický list '!Q64-1,\":-)\",CONCATENATE(\"increase until \",'SDG – Technický list '!Q64))))","v":""},{"$f":"IF('SDG – Technický list '!R64=\"\",\"\",IF($D65=\"\",\"please complete\",IF($D65>'SDG – Technický list '!R64-1,\":-)\",CONCATENATE(\"increase until \",'SDG – Technický list '!R64))))","v":""},{"$f":"IF('SDG – Technický list '!S64=\"\",\"\",IF($D65=\"\",\"please complete\",IF($D65>'SDG – Technický list '!S64-1,\":-)\",CONCATENATE(\"increase until \",'SDG – Technický list '!S64))))","v":""},{"$f":"IF('SDG – Technický list '!T64=\"\",\"\",IF($D65=\"\",\"please complete\",IF($D65>'SDG – Technický list '!T64-1,\":-)\",CONCATENATE(\"increase until \",'SDG – Technický list '!T64))))","v":""}]
[]
[null,{"$f":"'SDG – Technický list '!B66","v":"Q3.1"},{"$f":"VLOOKUP(B67,'Kapitola 3'!$C$6:$D$70,2,0)","v":"Zavedla organizace proces pro navrhování a vývoj nových \nproduktů a služeb?"},{"$f":"'SDG – Technický list '!C66","v":3},15,{"$f":"IF('SDG – Technický list '!D66=\"\",\"\",IF($D67=\"\",\"prosím dokončete\",IF($D67>'SDG – Technický list '!D66-1,\":-)\",CONCATENATE(\"zvýšení do \",'SDG – Technický list '!D66))))","v":""},{"$f":"IF('SDG – Technický list '!E66=\"\",\"\",IF($D67=\"\",\"prosím dokončete\",IF($D67>'SDG – Technický list '!E66-1,\":-)\",CONCATENATE(\"zvýšení do \",'SDG – Technický list '!E66))))","v":""},{"$f":"IF('SDG – Technický list '!F66=\"\",\"\",IF($D67=\"\",\"prosím dokončete\",IF($D67>'SDG – Technický list '!F66-1,\":-)\",CONCATENATE(\"zvýšení do \",'SDG – Technický list '!F66))))","v":""},{"$f":"IF('SDG – Technický list '!G66=\"\",\"\",IF($D67=\"\",\"prosím dokončete\",IF($D67>'SDG – Technický list '!G66-1,\":-)\",CONCATENATE(\"zvýšení do \",'SDG – Technický list '!G66))))","v":""},{"$f":"IF('SDG – Technický list '!H66=\"\",\"\",IF($D67=\"\",\"prosím dokončete\",IF($D67>'SDG – Technický list '!H66-1,\":-)\",CONCATENATE(\"zvýšení do \",'SDG – Technický list '!H66))))","v":""},{"$f":"IF('SDG – Technický list '!I66=\"\",\"\",IF($D67=\"\",\"prosím dokončete\",IF($D67>'SDG – Technický list '!I66-1,\":-)\",CONCATENATE(\"zvýšení do \",'SDG – Technický list '!I66))))","v":""},{"$f":"IF('SDG – Technický list '!J66=\"\",\"\",IF($D67=\"\",\"prosím dokončete\",IF($D67>'SDG – Technický list '!J66-1,\":-)\",CONCATENATE(\"zvýšení do \",'SDG – Technický list '!J66))))","v":""},{"$f":"IF('SDG – Technický list '!K66=\"\",\"\",IF($D67=\"\",\"prosím dokončete\",IF($D67>'SDG – Technický list '!K66-1,\":-)\",CONCATENATE(\"zvýšení do \",'SDG – Technický list '!K66))))","v":""},{"$f":"IF('SDG – Technický list '!L66=\"\",\"\",IF($D67=\"\",\"prosím dokončete\",IF($D67>'SDG – Technický list '!L66-1,\":-)\",CONCATENATE(\"zvýšení do \",'SDG – Technický list '!L66))))","v":":-)"},{"$f":"IF('SDG – Technický list '!M66=\"\",\"\",IF($D67=\"\",\"prosím dokončete\",IF($D67>'SDG – Technický list '!M66-1,\":-)\",CONCATENATE(\"zvýšení do \",'SDG – Technický list '!M66))))","v":""},{"$f":"IF('SDG – Technický list '!N66=\"\",\"\",IF($D67=\"\",\"prosím dokončete\",IF($D67>'SDG – Technický list '!N66-1,\":-)\",CONCATENATE(\"zvýšení do \",'SDG – Technický list '!N66))))","v":""},{"$f":"IF('SDG – Technický list '!O66=\"\",\"\",IF($D67=\"\",\"prosím dokončete\",IF($D67>'SDG – Technický list '!O66-1,\":-)\",CONCATENATE(\"zvýšení do \",'SDG – Technický list '!O66))))","v":":-)"},{"$f":"IF('SDG – Technický list '!P66=\"\",\"\",IF($D67=\"\",\"prosím dokončete\",IF($D67>'SDG – Technický list '!P66-1,\":-)\",CONCATENATE(\"zvýšení do \",'SDG – Technický list '!P66))))","v":""},{"$f":"IF('SDG – Technický list '!Q66=\"\",\"\",IF($D67=\"\",\"prosím dokončete\",IF($D67>'SDG – Technický list '!Q66-1,\":-)\",CONCATENATE(\"zvýšení do \",'SDG – Technický list '!Q66))))","v":""},{"$f":"IF('SDG – Technický list '!R66=\"\",\"\",IF($D67=\"\",\"prosím dokončete\",IF($D67>'SDG – Technický list '!R66-1,\":-)\",CONCATENATE(\"zvýšení do \",'SDG – Technický list '!R66))))","v":""},{"$f":"IF('SDG – Technický list '!S66=\"\",\"\",IF($D67=\"\",\"prosím dokončete\",IF($D67>'SDG – Technický list '!S66-1,\":-)\",CONCATENATE(\"zvýšení do \",'SDG – Technický list '!S66))))","v":""},{"$f":"IF('SDG – Technický list '!T66=\"\",\"\",IF($D67=\"\",\"prosím dokončete\",IF($D67>'SDG – Technický list '!T66-1,\":-)\",CONCATENATE(\"zvýšení do \",'SDG – Technický list '!T66))))","v":""}]
[null,{"$f":"'SDG – Technický list '!B67","v":"Q3.2"},{"$f":"VLOOKUP(B68,'Kapitola 3'!$C$6:$D$70,2,0)","v":"Má organizace k dispozici proces hodnocení a stanovení priorit svých produktů pro charakterizaci rizik a řízení rizik?\n\n\n"},{"$f":"'SDG – Technický list '!C67","v":2},15,{"$f":"IF('SDG – Technický list '!D67=\"\",\"\",IF($D68=\"\",\"prosím dokončete\",IF($D68>'SDG – Technický list '!D67-1,\":-)\",CONCATENATE(\"zvýšení do \",'SDG – Technický list '!D67))))","v":""},{"$f":"IF('SDG – Technický list '!E67=\"\",\"\",IF($D68=\"\",\"prosím dokončete\",IF($D68>'SDG – Technický list '!E67-1,\":-)\",CONCATENATE(\"zvýšení do \",'SDG – Technický list '!E67))))","v":""},{"$f":"IF('SDG – Technický list '!F67=\"\",\"\",IF($D68=\"\",\"prosím dokončete\",IF($D68>'SDG – Technický list '!F67-1,\":-)\",CONCATENATE(\"zvýšení do \",'SDG – Technický list '!F67))))","v":""},{"$f":"IF('SDG – Technický list '!G67=\"\",\"\",IF($D68=\"\",\"prosím dokončete\",IF($D68>'SDG – Technický list '!G67-1,\":-)\",CONCATENATE(\"zvýšení do \",'SDG – Technický list '!G67))))","v":""},{"$f":"IF('SDG – Technický list '!H67=\"\",\"\",IF($D68=\"\",\"prosím dokončete\",IF($D68>'SDG – Technický list '!H67-1,\":-)\",CONCATENATE(\"zvýšení do \",'SDG – Technický list '!H67))))","v":""},{"$f":"IF('SDG – Technický list '!I67=\"\",\"\",IF($D68=\"\",\"prosím dokončete\",IF($D68>'SDG – Technický list '!I67-1,\":-)\",CONCATENATE(\"zvýšení do \",'SDG – Technický list '!I67))))","v":""},{"$f":"IF('SDG – Technický list '!J67=\"\",\"\",IF($D68=\"\",\"prosím dokončete\",IF($D68>'SDG – Technický list '!J67-1,\":-)\",CONCATENATE(\"zvýšení do \",'SDG – Technický list '!J67))))","v":""},{"$f":"IF('SDG – Technický list '!K67=\"\",\"\",IF($D68=\"\",\"prosím dokončete\",IF($D68>'SDG – Technický list '!K67-1,\":-)\",CONCATENATE(\"zvýšení do \",'SDG – Technický list '!K67))))","v":""},{"$f":"IF('SDG – Technický list '!L67=\"\",\"\",IF($D68=\"\",\"prosím dokončete\",IF($D68>'SDG – Technický list '!L67-1,\":-)\",CONCATENATE(\"zvýšení do \",'SDG – Technický list '!L67))))","v":"zvýšení do 3"},{"$f":"IF('SDG – Technický list '!M67=\"\",\"\",IF($D68=\"\",\"prosím dokončete\",IF($D68>'SDG – Technický list '!M67-1,\":-)\",CONCATENATE(\"zvýšení do \",'SDG – Technický list '!M67))))","v":""},{"$f":"IF('SDG – Technický list '!N67=\"\",\"\",IF($D68=\"\",\"prosím dokončete\",IF($D68>'SDG – Technický list '!N67-1,\":-)\",CONCATENATE(\"zvýšení do \",'SDG – Technický list '!N67))))","v":""},{"$f":"IF('SDG – Technický list '!O67=\"\",\"\",IF($D68=\"\",\"prosím dokončete\",IF($D68>'SDG – Technický list '!O67-1,\":-)\",CONCATENATE(\"zvýšení do \",'SDG – Technický list '!O67))))","v":"zvýšení do 3"},{"$f":"IF('SDG – Technický list '!P67=\"\",\"\",IF($D68=\"\",\"prosím dokončete\",IF($D68>'SDG – Technický list '!P67-1,\":-)\",CONCATENATE(\"zvýšení do \",'SDG – Technický list '!P67))))","v":""},{"$f":"IF('SDG – Technický list '!Q67=\"\",\"\",IF($D68=\"\",\"prosím dokončete\",IF($D68>'SDG – Technický list '!Q67-1,\":-)\",CONCATENATE(\"zvýšení do \",'SDG – Technický list '!Q67))))","v":""},{"$f":"IF('SDG – Technický list '!R67=\"\",\"\",IF($D68=\"\",\"prosím dokončete\",IF($D68>'SDG – Technický list '!R67-1,\":-)\",CONCATENATE(\"zvýšení do \",'SDG – Technický list '!R67))))","v":""},{"$f":"IF('SDG – Technický list '!S67=\"\",\"\",IF($D68=\"\",\"prosím dokončete\",IF($D68>'SDG – Technický list '!S67-1,\":-)\",CONCATENATE(\"zvýšení do \",'SDG – Technický list '!S67))))","v":""},{"$f":"IF('SDG – Technický list '!T67=\"\",\"\",IF($D68=\"\",\"prosím dokončete\",IF($D68>'SDG – Technický list '!T67-1,\":-)\",CONCATENATE(\"zvýšení do \",'SDG – Technický list '!T67))))","v":""}]
[null,{"$f":"'SDG – Technický list '!B68","v":"Q3.3"},{"$f":"VLOOKUP(B69,'Kapitola 3'!$C$6:$D$70,2,0)","v":"Zavedla organizace systém pro sledování použitelnosti, změn a dodržování interních a externích požadavků souvisejících s řízením bezpečnosti chemických látek?"},{"$f":"'SDG – Technický list '!C68","v":3},{"$f":"COUNTIF(F69:V69,\"\")","v":17},{"$f":"IF('SDG – Technický list '!D68=\"\",\"\",IF($D69=\"\",\"please complete\",IF($D69>'SDG – Technický list '!D68-1,\":-)\",CONCATENATE(\"increase until \",'SDG – Technický list '!D68))))","v":""},{"$f":"IF('SDG – Technický list '!E68=\"\",\"\",IF($D69=\"\",\"please complete\",IF($D69>'SDG – Technický list '!E68-1,\":-)\",CONCATENATE(\"increase until \",'SDG – Technický list '!E68))))","v":""},{"$f":"IF('SDG – Technický list '!F68=\"\",\"\",IF($D69=\"\",\"please complete\",IF($D69>'SDG – Technický list '!F68-1,\":-)\",CONCATENATE(\"increase until \",'SDG – Technický list '!F68))))","v":""},{"$f":"IF('SDG – Technický list '!G68=\"\",\"\",IF($D69=\"\",\"please complete\",IF($D69>'SDG – Technický list '!G68-1,\":-)\",CONCATENATE(\"increase until \",'SDG – Technický list '!G68))))","v":""},{"$f":"IF('SDG – Technický list '!H68=\"\",\"\",IF($D69=\"\",\"please complete\",IF($D69>'SDG – Technický list '!H68-1,\":-)\",CONCATENATE(\"increase until \",'SDG – Technický list '!H68))))","v":""},{"$f":"IF('SDG – Technický list '!I68=\"\",\"\",IF($D69=\"\",\"please complete\",IF($D69>'SDG – Technický list '!I68-1,\":-)\",CONCATENATE(\"increase until \",'SDG – Technický list '!I68))))","v":""},{"$f":"IF('SDG – Technický list '!J68=\"\",\"\",IF($D69=\"\",\"please complete\",IF($D69>'SDG – Technický list '!J68-1,\":-)\",CONCATENATE(\"increase until \",'SDG – Technický list '!J68))))","v":""},{"$f":"IF('SDG – Technický list '!K68=\"\",\"\",IF($D69=\"\",\"please complete\",IF($D69>'SDG – Technický list '!K68-1,\":-)\",CONCATENATE(\"increase until \",'SDG – Technický list '!K68))))","v":""},{"$f":"IF('SDG – Technický list '!L68=\"\",\"\",IF($D69=\"\",\"please complete\",IF($D69>'SDG – Technický list '!L68-1,\":-)\",CONCATENATE(\"increase until \",'SDG – Technický list '!L68))))","v":""},{"$f":"IF('SDG – Technický list '!M68=\"\",\"\",IF($D69=\"\",\"please complete\",IF($D69>'SDG – Technický list '!M68-1,\":-)\",CONCATENATE(\"increase until \",'SDG – Technický list '!M68))))","v":""},{"$f":"IF('SDG – Technický list '!N68=\"\",\"\",IF($D69=\"\",\"please complete\",IF($D69>'SDG – Technický list '!N68-1,\":-)\",CONCATENATE(\"increase until \",'SDG – Technický list '!N68))))","v":""},{"$f":"IF('SDG – Technický list '!O68=\"\",\"\",IF($D69=\"\",\"please complete\",IF($D69>'SDG – Technický list '!O68-1,\":-)\",CONCATENATE(\"increase until \",'SDG – Technický list '!O68))))","v":""},{"$f":"IF('SDG – Technický list '!P68=\"\",\"\",IF($D69=\"\",\"please complete\",IF($D69>'SDG – Technický list '!P68-1,\":-)\",CONCATENATE(\"increase until \",'SDG – Technický list '!P68))))","v":""},{"$f":"IF('SDG – Technický list '!Q68=\"\",\"\",IF($D69=\"\",\"please complete\",IF($D69>'SDG – Technický list '!Q68-1,\":-)\",CONCATENATE(\"increase until \",'SDG – Technický list '!Q68))))","v":""},{"$f":"IF('SDG – Technický list '!R68=\"\",\"\",IF($D69=\"\",\"please complete\",IF($D69>'SDG – Technický list '!R68-1,\":-)\",CONCATENATE(\"increase until \",'SDG – Technický list '!R68))))","v":""},{"$f":"IF('SDG – Technický list '!S68=\"\",\"\",IF($D69=\"\",\"please complete\",IF($D69>'SDG – Technický list '!S68-1,\":-)\",CONCATENATE(\"increase until \",'SDG – Technický list '!S68))))","v":""},{"$f":"IF('SDG – Technický list '!T68=\"\",\"\",IF($D69=\"\",\"please complete\",IF($D69>'SDG – Technický list '!T68-1,\":-)\",CONCATENATE(\"increase until \",'SDG – Technický list '!T68))))","v":""}]
[null,{"$f":"'SDG – Technický list '!B69","v":"Q3.4"},{"$f":"VLOOKUP(B70,'Kapitola 3'!$C$6:$D$70,2,0)","v":"Zavedla organizace systém na správu existujících informací o rizicích svých produktů?"},{"$f":"'SDG – Technický list '!C69","v":2},14,{"$f":"IF('SDG – Technický list '!D69=\"\",\"\",IF($D70=\"\",\"prosím dokončete\",IF($D70>'SDG – Technický list '!D69-1,\":-)\",CONCATENATE(\"zvýšení do \",'SDG – Technický list '!D69))))","v":""},{"$f":"IF('SDG – Technický list '!E69=\"\",\"\",IF($D70=\"\",\"prosím dokončete\",IF($D70>'SDG – Technický list '!E69-1,\":-)\",CONCATENATE(\"zvýšení do \",'SDG – Technický list '!E69))))","v":""},{"$f":"IF('SDG – Technický list '!F69=\"\",\"\",IF($D70=\"\",\"prosím dokončete\",IF($D70>'SDG – Technický list '!F69-1,\":-)\",CONCATENATE(\"zvýšení do \",'SDG – Technický list '!F69))))","v":"zvýšení do 3"},{"$f":"IF('SDG – Technický list '!G69=\"\",\"\",IF($D70=\"\",\"prosím dokončete\",IF($D70>'SDG – Technický list '!G69-1,\":-)\",CONCATENATE(\"zvýšení do \",'SDG – Technický list '!G69))))","v":""},{"$f":"IF('SDG – Technický list '!H69=\"\",\"\",IF($D70=\"\",\"prosím dokončete\",IF($D70>'SDG – Technický list '!H69-1,\":-)\",CONCATENATE(\"zvýšení do \",'SDG – Technický list '!H69))))","v":""},{"$f":"IF('SDG – Technický list '!I69=\"\",\"\",IF($D70=\"\",\"prosím dokončete\",IF($D70>'SDG – Technický list '!I69-1,\":-)\",CONCATENATE(\"zvýšení do \",'SDG – Technický list '!I69))))","v":""},{"$f":"IF('SDG – Technický list '!J69=\"\",\"\",IF($D70=\"\",\"prosím dokončete\",IF($D70>'SDG – Technický list '!J69-1,\":-)\",CONCATENATE(\"zvýšení do \",'SDG – Technický list '!J69))))","v":""},{"$f":"IF('SDG – Technický list '!K69=\"\",\"\",IF($D70=\"\",\"prosím dokončete\",IF($D70>'SDG – Technický list '!K69-1,\":-)\",CONCATENATE(\"zvýšení do \",'SDG – Technický list '!K69))))","v":""},{"$f":"IF('SDG – Technický list '!L69=\"\",\"\",IF($D70=\"\",\"prosím dokončete\",IF($D70>'SDG – Technický list '!L69-1,\":-)\",CONCATENATE(\"zvýšení do \",'SDG – Technický list '!L69))))","v":""},{"$f":"IF('SDG – Technický list '!M69=\"\",\"\",IF($D70=\"\",\"prosím dokončete\",IF($D70>'SDG – Technický list '!M69-1,\":-)\",CONCATENATE(\"zvýšení do \",'SDG – Technický list '!M69))))","v":""},{"$f":"IF('SDG – Technický list '!N69=\"\",\"\",IF($D70=\"\",\"prosím dokončete\",IF($D70>'SDG – Technický list '!N69-1,\":-)\",CONCATENATE(\"zvýšení do \",'SDG – Technický list '!N69))))","v":""},{"$f":"IF('SDG – Technický list '!O69=\"\",\"\",IF($D70=\"\",\"prosím dokončete\",IF($D70>'SDG – Technický list '!O69-1,\":-)\",CONCATENATE(\"zvýšení do \",'SDG – Technický list '!O69))))","v":"zvýšení do 3"},{"$f":"IF('SDG – Technický list '!P69=\"\",\"\",IF($D70=\"\",\"prosím dokončete\",IF($D70>'SDG – Technický list '!P69-1,\":-)\",CONCATENATE(\"zvýšení do \",'SDG – Technický list '!P69))))","v":""},{"$f":"IF('SDG – Technický list '!Q69=\"\",\"\",IF($D70=\"\",\"prosím dokončete\",IF($D70>'SDG – Technický list '!Q69-1,\":-)\",CONCATENATE(\"zvýšení do \",'SDG – Technický list '!Q69))))","v":""},{"$f":"IF('SDG – Technický list '!R69=\"\",\"\",IF($D70=\"\",\"prosím dokončete\",IF($D70>'SDG – Technický list '!R69-1,\":-)\",CONCATENATE(\"zvýšení do \",'SDG – Technický list '!R69))))","v":""},{"$f":"IF('SDG – Technický list '!S69=\"\",\"\",IF($D70=\"\",\"prosím dokončete\",IF($D70>'SDG – Technický list '!S69-1,\":-)\",CONCATENATE(\"zvýšení do \",'SDG – Technický list '!S69))))","v":""},{"$f":"IF('SDG – Technický list '!T69=\"\",\"\",IF($D70=\"\",\"prosím dokončete\",IF($D70>'SDG – Technický list '!T69-1,\":-)\",CONCATENATE(\"zvýšení do \",'SDG – Technický list '!T69))))","v":"zvýšení do 3"}]
[null,{"$f":"'SDG – Technický list '!B70","v":"Q3.5"},{"$f":"VLOOKUP(B71,'Kapitola 3'!$C$6:$D$70,2,0)","v":"Zavedla organizace proces řízení informací o používání a expozici svých produktů?"},{"$f":"'SDG – Technický list '!C70","v":2},16,{"$f":"IF('SDG – Technický list '!D70=\"\",\"\",IF($D71=\"\",\"prosím dokončete\",IF($D71>'SDG – Technický list '!D70-1,\":-)\",CONCATENATE(\"zvýšení do \",'SDG – Technický list '!D70))))","v":""},{"$f":"IF('SDG – Technický list '!E70=\"\",\"\",IF($D71=\"\",\"prosím dokončete\",IF($D71>'SDG – Technický list '!E70-1,\":-)\",CONCATENATE(\"zvýšení do \",'SDG – Technický list '!E70))))","v":""},{"$f":"IF('SDG – Technický list '!F70=\"\",\"\",IF($D71=\"\",\"prosím dokončete\",IF($D71>'SDG – Technický list '!F70-1,\":-)\",CONCATENATE(\"zvýšení do \",'SDG – Technický list '!F70))))","v":"zvýšení do 3"},{"$f":"IF('SDG – Technický list '!G70=\"\",\"\",IF($D71=\"\",\"prosím dokončete\",IF($D71>'SDG – Technický list '!G70-1,\":-)\",CONCATENATE(\"zvýšení do \",'SDG – Technický list '!G70))))","v":""},{"$f":"IF('SDG – Technický list '!H70=\"\",\"\",IF($D71=\"\",\"prosím dokončete\",IF($D71>'SDG – Technický list '!H70-1,\":-)\",CONCATENATE(\"zvýšení do \",'SDG – Technický list '!H70))))","v":""},{"$f":"IF('SDG – Technický list '!I70=\"\",\"\",IF($D71=\"\",\"prosím dokončete\",IF($D71>'SDG – Technický list '!I70-1,\":-)\",CONCATENATE(\"zvýšení do \",'SDG – Technický list '!I70))))","v":""},{"$f":"IF('SDG – Technický list '!J70=\"\",\"\",IF($D71=\"\",\"prosím dokončete\",IF($D71>'SDG – Technický list '!J70-1,\":-)\",CONCATENATE(\"zvýšení do \",'SDG – Technický list '!J70))))","v":""},{"$f":"IF('SDG – Technický list '!K70=\"\",\"\",IF($D71=\"\",\"prosím dokončete\",IF($D71>'SDG – Technický list '!K70-1,\":-)\",CONCATENATE(\"zvýšení do \",'SDG – Technický list '!K70))))","v":""},{"$f":"IF('SDG – Technický list '!L70=\"\",\"\",IF($D71=\"\",\"prosím dokončete\",IF($D71>'SDG – Technický list '!L70-1,\":-)\",CONCATENATE(\"zvýšení do \",'SDG – Technický list '!L70))))","v":""},{"$f":"IF('SDG – Technický list '!M70=\"\",\"\",IF($D71=\"\",\"prosím dokončete\",IF($D71>'SDG – Technický list '!M70-1,\":-)\",CONCATENATE(\"zvýšení do \",'SDG – Technický list '!M70))))","v":""},{"$f":"IF('SDG – Technický list '!N70=\"\",\"\",IF($D71=\"\",\"prosím dokončete\",IF($D71>'SDG – Technický list '!N70-1,\":-)\",CONCATENATE(\"zvýšení do \",'SDG – Technický list '!N70))))","v":""},{"$f":"IF('SDG – Technický list '!O70=\"\",\"\",IF($D71=\"\",\"prosím dokončete\",IF($D71>'SDG – Technický list '!O70-1,\":-)\",CONCATENATE(\"zvýšení do \",'SDG – Technický list '!O70))))","v":""},{"$f":"IF('SDG – Technický list '!P70=\"\",\"\",IF($D71=\"\",\"prosím dokončete\",IF($D71>'SDG – Technický list '!P70-1,\":-)\",CONCATENATE(\"zvýšení do \",'SDG – Technický list '!P70))))","v":""},{"$f":"IF('SDG – Technický list '!Q70=\"\",\"\",IF($D71=\"\",\"prosím dokončete\",IF($D71>'SDG – Technický list '!Q70-1,\":-)\",CONCATENATE(\"zvýšení do \",'SDG – Technický list '!Q70))))","v":""},{"$f":"IF('SDG – Technický list '!R70=\"\",\"\",IF($D71=\"\",\"prosím dokončete\",IF($D71>'SDG – Technický list '!R70-1,\":-)\",CONCATENATE(\"zvýšení do \",'SDG – Technický list '!R70))))","v":""},{"$f":"IF('SDG – Technický list '!S70=\"\",\"\",IF($D71=\"\",\"prosím dokončete\",IF($D71>'SDG – Technický list '!S70-1,\":-)\",CONCATENATE(\"zvýšení do \",'SDG – Technický list '!S70))))","v":""},{"$f":"IF('SDG – Technický list '!T70=\"\",\"\",IF($D71=\"\",\"prosím dokončete\",IF($D71>'SDG – Technický list '!T70-1,\":-)\",CONCATENATE(\"zvýšení do \",'SDG – Technický list '!T70))))","v":""}]
[null,{"$f":"'SDG – Technický list '!B71","v":"Q3.6"},{"$f":"VLOOKUP(B72,'Kapitola 3'!$C$6:$D$70,2,0)","v":"Zavedla organizace proces na správu nových informací?"},{"$f":"'SDG – Technický list '!C71","v":4},16,{"$f":"IF('SDG – Technický list '!D71=\"\",\"\",IF($D72=\"\",\"prosím dokončete\",IF($D72>'SDG – Technický list '!D71-1,\":-)\",CONCATENATE(\"zvýšení do \",'SDG – Technický list '!D71))))","v":""},{"$f":"IF('SDG – Technický list '!E71=\"\",\"\",IF($D72=\"\",\"prosím dokončete\",IF($D72>'SDG – Technický list '!E71-1,\":-)\",CONCATENATE(\"zvýšení do \",'SDG – Technický list '!E71))))","v":""},{"$f":"IF('SDG – Technický list '!F71=\"\",\"\",IF($D72=\"\",\"prosím dokončete\",IF($D72>'SDG – Technický list '!F71-1,\":-)\",CONCATENATE(\"zvýšení do \",'SDG – Technický list '!F71))))","v":":-)"},{"$f":"IF('SDG – Technický list '!G71=\"\",\"\",IF($D72=\"\",\"prosím dokončete\",IF($D72>'SDG – Technický list '!G71-1,\":-)\",CONCATENATE(\"zvýšení do \",'SDG – Technický list '!G71))))","v":""},{"$f":"IF('SDG – Technický list '!H71=\"\",\"\",IF($D72=\"\",\"prosím dokončete\",IF($D72>'SDG – Technický list '!H71-1,\":-)\",CONCATENATE(\"zvýšení do \",'SDG – Technický list '!H71))))","v":""},{"$f":"IF('SDG – Technický list '!I71=\"\",\"\",IF($D72=\"\",\"prosím dokončete\",IF($D72>'SDG – Technický list '!I71-1,\":-)\",CONCATENATE(\"zvýšení do \",'SDG – Technický list '!I71))))","v":""},{"$f":"IF('SDG – Technický list '!J71=\"\",\"\",IF($D72=\"\",\"prosím dokončete\",IF($D72>'SDG – Technický list '!J71-1,\":-)\",CONCATENATE(\"zvýšení do \",'SDG – Technický list '!J71))))","v":""},{"$f":"IF('SDG – Technický list '!K71=\"\",\"\",IF($D72=\"\",\"prosím dokončete\",IF($D72>'SDG – Technický list '!K71-1,\":-)\",CONCATENATE(\"zvýšení do \",'SDG – Technický list '!K71))))","v":""},{"$f":"IF('SDG – Technický list '!L71=\"\",\"\",IF($D72=\"\",\"prosím dokončete\",IF($D72>'SDG – Technický list '!L71-1,\":-)\",CONCATENATE(\"zvýšení do \",'SDG – Technický list '!L71))))","v":""},{"$f":"IF('SDG – Technický list '!M71=\"\",\"\",IF($D72=\"\",\"prosím dokončete\",IF($D72>'SDG – Technický list '!M71-1,\":-)\",CONCATENATE(\"zvýšení do \",'SDG – Technický list '!M71))))","v":""},{"$f":"IF('SDG – Technický list '!N71=\"\",\"\",IF($D72=\"\",\"prosím dokončete\",IF($D72>'SDG – Technický list '!N71-1,\":-)\",CONCATENATE(\"zvýšení do \",'SDG – Technický list '!N71))))","v":""},{"$f":"IF('SDG – Technický list '!O71=\"\",\"\",IF($D72=\"\",\"prosím dokončete\",IF($D72>'SDG – Technický list '!O71-1,\":-)\",CONCATENATE(\"zvýšení do \",'SDG – Technický list '!O71))))","v":""},{"$f":"IF('SDG – Technický list '!P71=\"\",\"\",IF($D72=\"\",\"prosím dokončete\",IF($D72>'SDG – Technický list '!P71-1,\":-)\",CONCATENATE(\"zvýšení do \",'SDG – Technický list '!P71))))","v":""},{"$f":"IF('SDG – Technický list '!Q71=\"\",\"\",IF($D72=\"\",\"prosím dokončete\",IF($D72>'SDG – Technický list '!Q71-1,\":-)\",CONCATENATE(\"zvýšení do \",'SDG – Technický list '!Q71))))","v":""},{"$f":"IF('SDG – Technický list '!R71=\"\",\"\",IF($D72=\"\",\"prosím dokončete\",IF($D72>'SDG – Technický list '!R71-1,\":-)\",CONCATENATE(\"zvýšení do \",'SDG – Technický list '!R71))))","v":""},{"$f":"IF('SDG – Technický list '!S71=\"\",\"\",IF($D72=\"\",\"prosím dokončete\",IF($D72>'SDG – Technický list '!S71-1,\":-)\",CONCATENATE(\"zvýšení do \",'SDG – Technický list '!S71))))","v":""},{"$f":"IF('SDG – Technický list '!T71=\"\",\"\",IF($D72=\"\",\"prosím dokončete\",IF($D72>'SDG – Technický list '!T71-1,\":-)\",CONCATENATE(\"zvýšení do \",'SDG – Technický list '!T71))))","v":""}]
[null,{"$f":"'SDG – Technický list '!B72","v":"Q3.7"},{"$f":"VLOOKUP(B73,'Kapitola 3'!$C$6:$D$70,2,0)","v":"Zavedla organizace proces charakterizace rizik na základě shromážděných informací?"},{"$f":"'SDG – Technický list '!C72","v":3},15,{"$f":"IF('SDG – Technický list '!D72=\"\",\"\",IF($D73=\"\",\"prosím dokončete\",IF($D73>'SDG – Technický list '!D72-1,\":-)\",CONCATENATE(\"zvýšení do \",'SDG – Technický list '!D72))))","v":""},{"$f":"IF('SDG – Technický list '!E72=\"\",\"\",IF($D73=\"\",\"prosím dokončete\",IF($D73>'SDG – Technický list '!E72-1,\":-)\",CONCATENATE(\"zvýšení do \",'SDG – Technický list '!E72))))","v":""},{"$f":"IF('SDG – Technický list '!F72=\"\",\"\",IF($D73=\"\",\"prosím dokončete\",IF($D73>'SDG – Technický list '!F72-1,\":-)\",CONCATENATE(\"zvýšení do \",'SDG – Technický list '!F72))))","v":":-)"},{"$f":"IF('SDG – Technický list '!G72=\"\",\"\",IF($D73=\"\",\"prosím dokončete\",IF($D73>'SDG – Technický list '!G72-1,\":-)\",CONCATENATE(\"zvýšení do \",'SDG – Technický list '!G72))))","v":""},{"$f":"IF('SDG – Technický list '!H72=\"\",\"\",IF($D73=\"\",\"prosím dokončete\",IF($D73>'SDG – Technický list '!H72-1,\":-)\",CONCATENATE(\"zvýšení do \",'SDG – Technický list '!H72))))","v":""},{"$f":"IF('SDG – Technický list '!I72=\"\",\"\",IF($D73=\"\",\"prosím dokončete\",IF($D73>'SDG – Technický list '!I72-1,\":-)\",CONCATENATE(\"zvýšení do \",'SDG – Technický list '!I72))))","v":""},{"$f":"IF('SDG – Technický list '!J72=\"\",\"\",IF($D73=\"\",\"prosím dokončete\",IF($D73>'SDG – Technický list '!J72-1,\":-)\",CONCATENATE(\"zvýšení do \",'SDG – Technický list '!J72))))","v":""},{"$f":"IF('SDG – Technický list '!K72=\"\",\"\",IF($D73=\"\",\"prosím dokončete\",IF($D73>'SDG – Technický list '!K72-1,\":-)\",CONCATENATE(\"zvýšení do \",'SDG – Technický list '!K72))))","v":""},{"$f":"IF('SDG – Technický list '!L72=\"\",\"\",IF($D73=\"\",\"prosím dokončete\",IF($D73>'SDG – Technický list '!L72-1,\":-)\",CONCATENATE(\"zvýšení do \",'SDG – Technický list '!L72))))","v":""},{"$f":"IF('SDG – Technický list '!M72=\"\",\"\",IF($D73=\"\",\"prosím dokončete\",IF($D73>'SDG – Technický list '!M72-1,\":-)\",CONCATENATE(\"zvýšení do \",'SDG – Technický list '!M72))))","v":""},{"$f":"IF('SDG – Technický list '!N72=\"\",\"\",IF($D73=\"\",\"prosím dokončete\",IF($D73>'SDG – Technický list '!N72-1,\":-)\",CONCATENATE(\"zvýšení do \",'SDG – Technický list '!N72))))","v":""},{"$f":"IF('SDG – Technický list '!O72=\"\",\"\",IF($D73=\"\",\"prosím dokončete\",IF($D73>'SDG – Technický list '!O72-1,\":-)\",CONCATENATE(\"zvýšení do \",'SDG – Technický list '!O72))))","v":""},{"$f":"IF('SDG – Technický list '!P72=\"\",\"\",IF($D73=\"\",\"prosím dokončete\",IF($D73>'SDG – Technický list '!P72-1,\":-)\",CONCATENATE(\"zvýšení do \",'SDG – Technický list '!P72))))","v":""},{"$f":"IF('SDG – Technický list '!Q72=\"\",\"\",IF($D73=\"\",\"prosím dokončete\",IF($D73>'SDG – Technický list '!Q72-1,\":-)\",CONCATENATE(\"zvýšení do \",'SDG – Technický list '!Q72))))","v":""},{"$f":"IF('SDG – Technický list '!R72=\"\",\"\",IF($D73=\"\",\"prosím dokončete\",IF($D73>'SDG – Technický list '!R72-1,\":-)\",CONCATENATE(\"zvýšení do \",'SDG – Technický list '!R72))))","v":""},{"$f":"IF('SDG – Technický list '!S72=\"\",\"\",IF($D73=\"\",\"prosím dokončete\",IF($D73>'SDG – Technický list '!S72-1,\":-)\",CONCATENATE(\"zvýšení do \",'SDG – Technický list '!S72))))","v":""},{"$f":"IF('SDG – Technický list '!T72=\"\",\"\",IF($D73=\"\",\"prosím dokončete\",IF($D73>'SDG – Technický list '!T72-1,\":-)\",CONCATENATE(\"zvýšení do \",'SDG – Technický list '!T72))))","v":":-)"}]
[null,{"$f":"'SDG – Technický list '!B73","v":"Q3.8"},{"$f":"VLOOKUP(B74,'Kapitola 3'!$C$6:$D$70,2,0)","v":"Zavedla organizace proces řízení rizik na základě shromážděných informací?"},{"$f":"'SDG – Technický list '!C73","v":4},16,{"$f":"IF('SDG – Technický list '!D73=\"\",\"\",IF($D74=\"\",\"prosím dokončete\",IF($D74>'SDG – Technický list '!D73-1,\":-)\",CONCATENATE(\"zvýšení do \",'SDG – Technický list '!D73))))","v":""},{"$f":"IF('SDG – Technický list '!E73=\"\",\"\",IF($D74=\"\",\"prosím dokončete\",IF($D74>'SDG – Technický list '!E73-1,\":-)\",CONCATENATE(\"zvýšení do \",'SDG – Technický list '!E73))))","v":""},{"$f":"IF('SDG – Technický list '!F73=\"\",\"\",IF($D74=\"\",\"prosím dokončete\",IF($D74>'SDG – Technický list '!F73-1,\":-)\",CONCATENATE(\"zvýšení do \",'SDG – Technický list '!F73))))","v":""},{"$f":"IF('SDG – Technický list '!G73=\"\",\"\",IF($D74=\"\",\"prosím dokončete\",IF($D74>'SDG – Technický list '!G73-1,\":-)\",CONCATENATE(\"zvýšení do \",'SDG – Technický list '!G73))))","v":""},{"$f":"IF('SDG – Technický list '!H73=\"\",\"\",IF($D74=\"\",\"prosím dokončete\",IF($D74>'SDG – Technický list '!H73-1,\":-)\",CONCATENATE(\"zvýšení do \",'SDG – Technický list '!H73))))","v":""},{"$f":"IF('SDG – Technický list '!I73=\"\",\"\",IF($D74=\"\",\"prosím dokončete\",IF($D74>'SDG – Technický list '!I73-1,\":-)\",CONCATENATE(\"zvýšení do \",'SDG – Technický list '!I73))))","v":""},{"$f":"IF('SDG – Technický list '!J73=\"\",\"\",IF($D74=\"\",\"prosím dokončete\",IF($D74>'SDG – Technický list '!J73-1,\":-)\",CONCATENATE(\"zvýšení do \",'SDG – Technický list '!J73))))","v":""},{"$f":"IF('SDG – Technický list '!K73=\"\",\"\",IF($D74=\"\",\"prosím dokončete\",IF($D74>'SDG – Technický list '!K73-1,\":-)\",CONCATENATE(\"zvýšení do \",'SDG – Technický list '!K73))))","v":""},{"$f":"IF('SDG – Technický list '!L73=\"\",\"\",IF($D74=\"\",\"prosím dokončete\",IF($D74>'SDG – Technický list '!L73-1,\":-)\",CONCATENATE(\"zvýšení do \",'SDG – Technický list '!L73))))","v":""},{"$f":"IF('SDG – Technický list '!M73=\"\",\"\",IF($D74=\"\",\"prosím dokončete\",IF($D74>'SDG – Technický list '!M73-1,\":-)\",CONCATENATE(\"zvýšení do \",'SDG – Technický list '!M73))))","v":""},{"$f":"IF('SDG – Technický list '!N73=\"\",\"\",IF($D74=\"\",\"prosím dokončete\",IF($D74>'SDG – Technický list '!N73-1,\":-)\",CONCATENATE(\"zvýšení do \",'SDG – Technický list '!N73))))","v":""},{"$f":"IF('SDG – Technický list '!O73=\"\",\"\",IF($D74=\"\",\"prosím dokončete\",IF($D74>'SDG – Technický list '!O73-1,\":-)\",CONCATENATE(\"zvýšení do \",'SDG – Technický list '!O73))))","v":""},{"$f":"IF('SDG – Technický list '!P73=\"\",\"\",IF($D74=\"\",\"prosím dokončete\",IF($D74>'SDG – Technický list '!P73-1,\":-)\",CONCATENATE(\"zvýšení do \",'SDG – Technický list '!P73))))","v":""},{"$f":"IF('SDG – Technický list '!Q73=\"\",\"\",IF($D74=\"\",\"prosím dokončete\",IF($D74>'SDG – Technický list '!Q73-1,\":-)\",CONCATENATE(\"zvýšení do \",'SDG – Technický list '!Q73))))","v":""},{"$f":"IF('SDG – Technický list '!R73=\"\",\"\",IF($D74=\"\",\"prosím dokončete\",IF($D74>'SDG – Technický list '!R73-1,\":-)\",CONCATENATE(\"zvýšení do \",'SDG – Technický list '!R73))))","v":""},{"$f":"IF('SDG – Technický list '!S73=\"\",\"\",IF($D74=\"\",\"prosím dokončete\",IF($D74>'SDG – Technický list '!S73-1,\":-)\",CONCATENATE(\"zvýšení do \",'SDG – Technický list '!S73))))","v":""},{"$f":"IF('SDG – Technický list '!T73=\"\",\"\",IF($D74=\"\",\"prosím dokončete\",IF($D74>'SDG – Technický list '!T73-1,\":-)\",CONCATENATE(\"zvýšení do \",'SDG – Technický list '!T73))))","v":":-)"}]
[null,{"$f":"'SDG – Technický list '!B74","v":"Q3.9"},{"$f":"VLOOKUP(B75,'Kapitola 3'!$C$6:$D$70,2,0)","v":"Zavedla organizace účinný proces sledování svých produktů po dodání a provádění nápravných opatření?\n"},{"$f":"'SDG – Technický list '!C74","v":4},16,{"$f":"IF('SDG – Technický list '!D74=\"\",\"\",IF($D75=\"\",\"prosím dokončete\",IF($D75>'SDG – Technický list '!D74-1,\":-)\",CONCATENATE(\"zvýšení do \",'SDG – Technický list '!D74))))","v":""},{"$f":"IF('SDG – Technický list '!E74=\"\",\"\",IF($D75=\"\",\"prosím dokončete\",IF($D75>'SDG – Technický list '!E74-1,\":-)\",CONCATENATE(\"zvýšení do \",'SDG – Technický list '!E74))))","v":""},{"$f":"IF('SDG – Technický list '!F74=\"\",\"\",IF($D75=\"\",\"prosím dokončete\",IF($D75>'SDG – Technický list '!F74-1,\":-)\",CONCATENATE(\"zvýšení do \",'SDG – Technický list '!F74))))","v":":-)"},{"$f":"IF('SDG – Technický list '!G74=\"\",\"\",IF($D75=\"\",\"prosím dokončete\",IF($D75>'SDG – Technický list '!G74-1,\":-)\",CONCATENATE(\"zvýšení do \",'SDG – Technický list '!G74))))","v":""},{"$f":"IF('SDG – Technický list '!H74=\"\",\"\",IF($D75=\"\",\"prosím dokončete\",IF($D75>'SDG – Technický list '!H74-1,\":-)\",CONCATENATE(\"zvýšení do \",'SDG – Technický list '!H74))))","v":""},{"$f":"IF('SDG – Technický list '!I74=\"\",\"\",IF($D75=\"\",\"prosím dokončete\",IF($D75>'SDG – Technický list '!I74-1,\":-)\",CONCATENATE(\"zvýšení do \",'SDG – Technický list '!I74))))","v":""},{"$f":"IF('SDG – Technický list '!J74=\"\",\"\",IF($D75=\"\",\"prosím dokončete\",IF($D75>'SDG – Technický list '!J74-1,\":-)\",CONCATENATE(\"zvýšení do \",'SDG – Technický list '!J74))))","v":""},{"$f":"IF('SDG – Technický list '!K74=\"\",\"\",IF($D75=\"\",\"prosím dokončete\",IF($D75>'SDG – Technický list '!K74-1,\":-)\",CONCATENATE(\"zvýšení do \",'SDG – Technický list '!K74))))","v":""},{"$f":"IF('SDG – Technický list '!L74=\"\",\"\",IF($D75=\"\",\"prosím dokončete\",IF($D75>'SDG – Technický list '!L74-1,\":-)\",CONCATENATE(\"zvýšení do \",'SDG – Technický list '!L74))))","v":""},{"$f":"IF('SDG – Technický list '!M74=\"\",\"\",IF($D75=\"\",\"prosím dokončete\",IF($D75>'SDG – Technický list '!M74-1,\":-)\",CONCATENATE(\"zvýšení do \",'SDG – Technický list '!M74))))","v":""},{"$f":"IF('SDG – Technický list '!N74=\"\",\"\",IF($D75=\"\",\"prosím dokončete\",IF($D75>'SDG – Technický list '!N74-1,\":-)\",CONCATENATE(\"zvýšení do \",'SDG – Technický list '!N74))))","v":""},{"$f":"IF('SDG – Technický list '!O74=\"\",\"\",IF($D75=\"\",\"prosím dokončete\",IF($D75>'SDG – Technický list '!O74-1,\":-)\",CONCATENATE(\"zvýšení do \",'SDG – Technický list '!O74))))","v":""},{"$f":"IF('SDG – Technický list '!P74=\"\",\"\",IF($D75=\"\",\"prosím dokončete\",IF($D75>'SDG – Technický list '!P74-1,\":-)\",CONCATENATE(\"zvýšení do \",'SDG – Technický list '!P74))))","v":""},{"$f":"IF('SDG – Technický list '!Q74=\"\",\"\",IF($D75=\"\",\"prosím dokončete\",IF($D75>'SDG – Technický list '!Q74-1,\":-)\",CONCATENATE(\"zvýšení do \",'SDG – Technický list '!Q74))))","v":""},{"$f":"IF('SDG – Technický list '!R74=\"\",\"\",IF($D75=\"\",\"prosím dokončete\",IF($D75>'SDG – Technický list '!R74-1,\":-)\",CONCATENATE(\"zvýšení do \",'SDG – Technický list '!R74))))","v":""},{"$f":"IF('SDG – Technický list '!S74=\"\",\"\",IF($D75=\"\",\"prosím dokončete\",IF($D75>'SDG – Technický list '!S74-1,\":-)\",CONCATENATE(\"zvýšení do \",'SDG – Technický list '!S74))))","v":""},{"$f":"IF('SDG – Technický list '!T74=\"\",\"\",IF($D75=\"\",\"prosím dokončete\",IF($D75>'SDG – Technický list '!T74-1,\":-)\",CONCATENATE(\"zvýšení do \",'SDG – Technický list '!T74))))","v":""}]
[null,{"$f":"'SDG – Technický list '!B75","v":"Q3.10"},{"$f":"VLOOKUP(B76,'Kapitola 3'!$C$6:$D$70,2,0)","v":"Poskytuje organizace efektivní komunikaci v rámci dodavatelského řetězce ohledně opatření k řízení rizik, které se vztahují na jejich produkty?"},{"$f":"'SDG – Technický list '!C75","v":4},15,{"$f":"IF('SDG – Technický list '!D75=\"\",\"\",IF($D76=\"\",\"prosím dokončete\",IF($D76>'SDG – Technický list '!D75-1,\":-)\",CONCATENATE(\"zvýšení do \",'SDG – Technický list '!D75))))","v":""},{"$f":"IF('SDG – Technický list '!E75=\"\",\"\",IF($D76=\"\",\"prosím dokončete\",IF($D76>'SDG – Technický list '!E75-1,\":-)\",CONCATENATE(\"zvýšení do \",'SDG – Technický list '!E75))))","v":""},{"$f":"IF('SDG – Technický list '!F75=\"\",\"\",IF($D76=\"\",\"prosím dokončete\",IF($D76>'SDG – Technický list '!F75-1,\":-)\",CONCATENATE(\"zvýšení do \",'SDG – Technický list '!F75))))","v":":-)"},{"$f":"IF('SDG – Technický list '!G75=\"\",\"\",IF($D76=\"\",\"prosím dokončete\",IF($D76>'SDG – Technický list '!G75-1,\":-)\",CONCATENATE(\"zvýšení do \",'SDG – Technický list '!G75))))","v":""},{"$f":"IF('SDG – Technický list '!H75=\"\",\"\",IF($D76=\"\",\"prosím dokončete\",IF($D76>'SDG – Technický list '!H75-1,\":-)\",CONCATENATE(\"zvýšení do \",'SDG – Technický list '!H75))))","v":""},{"$f":"IF('SDG – Technický list '!I75=\"\",\"\",IF($D76=\"\",\"prosím dokončete\",IF($D76>'SDG – Technický list '!I75-1,\":-)\",CONCATENATE(\"zvýšení do \",'SDG – Technický list '!I75))))","v":""},{"$f":"IF('SDG – Technický list '!J75=\"\",\"\",IF($D76=\"\",\"prosím dokončete\",IF($D76>'SDG – Technický list '!J75-1,\":-)\",CONCATENATE(\"zvýšení do \",'SDG – Technický list '!J75))))","v":""},{"$f":"IF('SDG – Technický list '!K75=\"\",\"\",IF($D76=\"\",\"prosím dokončete\",IF($D76>'SDG – Technický list '!K75-1,\":-)\",CONCATENATE(\"zvýšení do \",'SDG – Technický list '!K75))))","v":""},{"$f":"IF('SDG – Technický list '!L75=\"\",\"\",IF($D76=\"\",\"prosím dokončete\",IF($D76>'SDG – Technický list '!L75-1,\":-)\",CONCATENATE(\"zvýšení do \",'SDG – Technický list '!L75))))","v":""},{"$f":"IF('SDG – Technický list '!M75=\"\",\"\",IF($D76=\"\",\"prosím dokončete\",IF($D76>'SDG – Technický list '!M75-1,\":-)\",CONCATENATE(\"zvýšení do \",'SDG – Technický list '!M75))))","v":""},{"$f":"IF('SDG – Technický list '!N75=\"\",\"\",IF($D76=\"\",\"prosím dokončete\",IF($D76>'SDG – Technický list '!N75-1,\":-)\",CONCATENATE(\"zvýšení do \",'SDG – Technický list '!N75))))","v":""},{"$f":"IF('SDG – Technický list '!O75=\"\",\"\",IF($D76=\"\",\"prosím dokončete\",IF($D76>'SDG – Technický list '!O75-1,\":-)\",CONCATENATE(\"zvýšení do \",'SDG – Technický list '!O75))))","v":""},{"$f":"IF('SDG – Technický list '!P75=\"\",\"\",IF($D76=\"\",\"prosím dokončete\",IF($D76>'SDG – Technický list '!P75-1,\":-)\",CONCATENATE(\"zvýšení do \",'SDG – Technický list '!P75))))","v":""},{"$f":"IF('SDG – Technický list '!Q75=\"\",\"\",IF($D76=\"\",\"prosím dokončete\",IF($D76>'SDG – Technický list '!Q75-1,\":-)\",CONCATENATE(\"zvýšení do \",'SDG – Technický list '!Q75))))","v":""},{"$f":"IF('SDG – Technický list '!R75=\"\",\"\",IF($D76=\"\",\"prosím dokončete\",IF($D76>'SDG – Technický list '!R75-1,\":-)\",CONCATENATE(\"zvýšení do \",'SDG – Technický list '!R75))))","v":""},{"$f":"IF('SDG – Technický list '!S75=\"\",\"\",IF($D76=\"\",\"prosím dokončete\",IF($D76>'SDG – Technický list '!S75-1,\":-)\",CONCATENATE(\"zvýšení do \",'SDG – Technický list '!S75))))","v":""},{"$f":"IF('SDG – Technický list '!T75=\"\",\"\",IF($D76=\"\",\"prosím dokončete\",IF($D76>'SDG – Technický list '!T75-1,\":-)\",CONCATENATE(\"zvýšení do \",'SDG – Technický list '!T75))))","v":":-)"}]
[]
[null,{"$f":"'SDG – Technický list '!B77","v":"Q4.1"},{"$f":"VLOOKUP(B78,'Kapitola 4'!$C$6:$D$58,2,0)","v":"Jak se organizace zavázala k odpovědnému získávání zdrojů?"},{"$f":"'SDG – Technický list '!C77","v":3},16,{"$f":"IF('SDG – Technický list '!D77=\"\",\"\",IF($D78=\"\",\"prosím dokončete\",IF($D78>'SDG – Technický list '!D77-1,\":-)\",CONCATENATE(\"zvýšení do \",'SDG – Technický list '!D77))))","v":""},{"$f":"IF('SDG – Technický list '!E77=\"\",\"\",IF($D78=\"\",\"prosím dokončete\",IF($D78>'SDG – Technický list '!E77-1,\":-)\",CONCATENATE(\"zvýšení do \",'SDG – Technický list '!E77))))","v":""},{"$f":"IF('SDG – Technický list '!F77=\"\",\"\",IF($D78=\"\",\"prosím dokončete\",IF($D78>'SDG – Technický list '!F77-1,\":-)\",CONCATENATE(\"zvýšení do \",'SDG – Technický list '!F77))))","v":""},{"$f":"IF('SDG – Technický list '!G77=\"\",\"\",IF($D78=\"\",\"prosím dokončete\",IF($D78>'SDG – Technický list '!G77-1,\":-)\",CONCATENATE(\"zvýšení do \",'SDG – Technický list '!G77))))","v":""},{"$f":"IF('SDG – Technický list '!H77=\"\",\"\",IF($D78=\"\",\"prosím dokončete\",IF($D78>'SDG – Technický list '!H77-1,\":-)\",CONCATENATE(\"zvýšení do \",'SDG – Technický list '!H77))))","v":""},{"$f":"IF('SDG – Technický list '!I77=\"\",\"\",IF($D78=\"\",\"prosím dokončete\",IF($D78>'SDG – Technický list '!I77-1,\":-)\",CONCATENATE(\"zvýšení do \",'SDG – Technický list '!I77))))","v":""},{"$f":"IF('SDG – Technický list '!J77=\"\",\"\",IF($D78=\"\",\"prosím dokončete\",IF($D78>'SDG – Technický list '!J77-1,\":-)\",CONCATENATE(\"zvýšení do \",'SDG – Technický list '!J77))))","v":""},{"$f":"IF('SDG – Technický list '!K77=\"\",\"\",IF($D78=\"\",\"prosím dokončete\",IF($D78>'SDG – Technický list '!K77-1,\":-)\",CONCATENATE(\"zvýšení do \",'SDG – Technický list '!K77))))","v":":-)"},{"$f":"IF('SDG – Technický list '!L77=\"\",\"\",IF($D78=\"\",\"prosím dokončete\",IF($D78>'SDG – Technický list '!L77-1,\":-)\",CONCATENATE(\"zvýšení do \",'SDG – Technický list '!L77))))","v":""},{"$f":"IF('SDG – Technický list '!M77=\"\",\"\",IF($D78=\"\",\"prosím dokončete\",IF($D78>'SDG – Technický list '!M77-1,\":-)\",CONCATENATE(\"zvýšení do \",'SDG – Technický list '!M77))))","v":""},{"$f":"IF('SDG – Technický list '!N77=\"\",\"\",IF($D78=\"\",\"prosím dokončete\",IF($D78>'SDG – Technický list '!N77-1,\":-)\",CONCATENATE(\"zvýšení do \",'SDG – Technický list '!N77))))","v":""},{"$f":"IF('SDG – Technický list '!O77=\"\",\"\",IF($D78=\"\",\"prosím dokončete\",IF($D78>'SDG – Technický list '!O77-1,\":-)\",CONCATENATE(\"zvýšení do \",'SDG – Technický list '!O77))))","v":""},{"$f":"IF('SDG – Technický list '!P77=\"\",\"\",IF($D78=\"\",\"prosím dokončete\",IF($D78>'SDG – Technický list '!P77-1,\":-)\",CONCATENATE(\"zvýšení do \",'SDG – Technický list '!P77))))","v":""},{"$f":"IF('SDG – Technický list '!Q77=\"\",\"\",IF($D78=\"\",\"prosím dokončete\",IF($D78>'SDG – Technický list '!Q77-1,\":-)\",CONCATENATE(\"zvýšení do \",'SDG – Technický list '!Q77))))","v":""},{"$f":"IF('SDG – Technický list '!R77=\"\",\"\",IF($D78=\"\",\"prosím dokončete\",IF($D78>'SDG – Technický list '!R77-1,\":-)\",CONCATENATE(\"zvýšení do \",'SDG – Technický list '!R77))))","v":""},{"$f":"IF('SDG – Technický list '!S77=\"\",\"\",IF($D78=\"\",\"prosím dokončete\",IF($D78>'SDG – Technický list '!S77-1,\":-)\",CONCATENATE(\"zvýšení do \",'SDG – Technický list '!S77))))","v":""},{"$f":"IF('SDG – Technický list '!T77=\"\",\"\",IF($D78=\"\",\"prosím dokončete\",IF($D78>'SDG – Technický list '!T77-1,\":-)\",CONCATENATE(\"zvýšení do \",'SDG – Technický list '!T77))))","v":""}]
[null,{"$f":"'SDG – Technický list '!B78","v":"Q4.2"},{"$f":"VLOOKUP(B79,'Kapitola 4'!$C$6:$D$58,2,0)","v":"Jak organizace zlepšuje spolupráci v dodavatelském řetězci?"},{"$f":"'SDG – Technický list '!C78","v":4},17,{"$f":"IF('SDG – Technický list '!D78=\"\",\"\",IF($D79=\"\",\"please complete\",IF($D79>'SDG – Technický list '!D78-1,\":-)\",CONCATENATE(\"increase until \",'SDG – Technický list '!D78))))","v":""},{"$f":"IF('SDG – Technický list '!E78=\"\",\"\",IF($D79=\"\",\"please complete\",IF($D79>'SDG – Technický list '!E78-1,\":-)\",CONCATENATE(\"increase until \",'SDG – Technický list '!E78))))","v":""},{"$f":"IF('SDG – Technický list '!F78=\"\",\"\",IF($D79=\"\",\"please complete\",IF($D79>'SDG – Technický list '!F78-1,\":-)\",CONCATENATE(\"increase until \",'SDG – Technický list '!F78))))","v":""},{"$f":"IF('SDG – Technický list '!G78=\"\",\"\",IF($D79=\"\",\"please complete\",IF($D79>'SDG – Technický list '!G78-1,\":-)\",CONCATENATE(\"increase until \",'SDG – Technický list '!G78))))","v":""},{"$f":"IF('SDG – Technický list '!H78=\"\",\"\",IF($D79=\"\",\"please complete\",IF($D79>'SDG – Technický list '!H78-1,\":-)\",CONCATENATE(\"increase until \",'SDG – Technický list '!H78))))","v":""},{"$f":"IF('SDG – Technický list '!I78=\"\",\"\",IF($D79=\"\",\"please complete\",IF($D79>'SDG – Technický list '!I78-1,\":-)\",CONCATENATE(\"increase until \",'SDG – Technický list '!I78))))","v":""},{"$f":"IF('SDG – Technický list '!J78=\"\",\"\",IF($D79=\"\",\"please complete\",IF($D79>'SDG – Technický list '!J78-1,\":-)\",CONCATENATE(\"increase until \",'SDG – Technický list '!J78))))","v":""},{"$f":"IF('SDG – Technický list '!K78=\"\",\"\",IF($D79=\"\",\"please complete\",IF($D79>'SDG – Technický list '!K78-1,\":-)\",CONCATENATE(\"increase until \",'SDG – Technický list '!K78))))","v":""},{"$f":"IF('SDG – Technický list '!L78=\"\",\"\",IF($D79=\"\",\"please complete\",IF($D79>'SDG – Technický list '!L78-1,\":-)\",CONCATENATE(\"increase until \",'SDG – Technický list '!L78))))","v":""},{"$f":"IF('SDG – Technický list '!M78=\"\",\"\",IF($D79=\"\",\"please complete\",IF($D79>'SDG – Technický list '!M78-1,\":-)\",CONCATENATE(\"increase until \",'SDG – Technický list '!M78))))","v":""},{"$f":"IF('SDG – Technický list '!N78=\"\",\"\",IF($D79=\"\",\"please complete\",IF($D79>'SDG – Technický list '!N78-1,\":-)\",CONCATENATE(\"increase until \",'SDG – Technický list '!N78))))","v":""},{"$f":"IF('SDG – Technický list '!O78=\"\",\"\",IF($D79=\"\",\"please complete\",IF($D79>'SDG – Technický list '!O78-1,\":-)\",CONCATENATE(\"increase until \",'SDG – Technický list '!O78))))","v":""},{"$f":"IF('SDG – Technický list '!P78=\"\",\"\",IF($D79=\"\",\"please complete\",IF($D79>'SDG – Technický list '!P78-1,\":-)\",CONCATENATE(\"increase until \",'SDG – Technický list '!P78))))","v":""},{"$f":"IF('SDG – Technický list '!Q78=\"\",\"\",IF($D79=\"\",\"please complete\",IF($D79>'SDG – Technický list '!Q78-1,\":-)\",CONCATENATE(\"increase until \",'SDG – Technický list '!Q78))))","v":""},{"$f":"IF('SDG – Technický list '!R78=\"\",\"\",IF($D79=\"\",\"please complete\",IF($D79>'SDG – Technický list '!R78-1,\":-)\",CONCATENATE(\"increase until \",'SDG – Technický list '!R78))))","v":""},{"$f":"IF('SDG – Technický list '!S78=\"\",\"\",IF($D79=\"\",\"please complete\",IF($D79>'SDG – Technický list '!S78-1,\":-)\",CONCATENATE(\"increase until \",'SDG – Technický list '!S78))))","v":""},{"$f":"IF('SDG – Technický list '!T78=\"\",\"\",IF($D79=\"\",\"please complete\",IF($D79>'SDG – Technický list '!T78-1,\":-)\",CONCATENATE(\"increase until \",'SDG – Technický list '!T78))))","v":""}]
[null,{"$f":"'SDG – Technický list '!B79","v":"Q4.3"},{"$f":"VLOOKUP(B80,'Kapitola 4'!$C$6:$D$58,2,0)","v":"Jakým způsobem vyjadřuje organizace svůj závazek vůči podnikatelské etice?"},{"$f":"'SDG – Technický list '!C79","v":3},17,{"$f":"IF('SDG – Technický list '!D79=\"\",\"\",IF($D80=\"\",\"please complete\",IF($D80>'SDG – Technický list '!D79-1,\":-)\",CONCATENATE(\"increase until \",'SDG – Technický list '!D79))))","v":""},{"$f":"IF('SDG – Technický list '!E79=\"\",\"\",IF($D80=\"\",\"please complete\",IF($D80>'SDG – Technický list '!E79-1,\":-)\",CONCATENATE(\"increase until \",'SDG – Technický list '!E79))))","v":""},{"$f":"IF('SDG – Technický list '!F79=\"\",\"\",IF($D80=\"\",\"please complete\",IF($D80>'SDG – Technický list '!F79-1,\":-)\",CONCATENATE(\"increase until \",'SDG – Technický list '!F79))))","v":""},{"$f":"IF('SDG – Technický list '!G79=\"\",\"\",IF($D80=\"\",\"please complete\",IF($D80>'SDG – Technický list '!G79-1,\":-)\",CONCATENATE(\"increase until \",'SDG – Technický list '!G79))))","v":""},{"$f":"IF('SDG – Technický list '!H79=\"\",\"\",IF($D80=\"\",\"please complete\",IF($D80>'SDG – Technický list '!H79-1,\":-)\",CONCATENATE(\"increase until \",'SDG – Technický list '!H79))))","v":""},{"$f":"IF('SDG – Technický list '!I79=\"\",\"\",IF($D80=\"\",\"please complete\",IF($D80>'SDG – Technický list '!I79-1,\":-)\",CONCATENATE(\"increase until \",'SDG – Technický list '!I79))))","v":""},{"$f":"IF('SDG – Technický list '!J79=\"\",\"\",IF($D80=\"\",\"please complete\",IF($D80>'SDG – Technický list '!J79-1,\":-)\",CONCATENATE(\"increase until \",'SDG – Technický list '!J79))))","v":""},{"$f":"IF('SDG – Technický list '!K79=\"\",\"\",IF($D80=\"\",\"please complete\",IF($D80>'SDG – Technický list '!K79-1,\":-)\",CONCATENATE(\"increase until \",'SDG – Technický list '!K79))))","v":""},{"$f":"IF('SDG – Technický list '!L79=\"\",\"\",IF($D80=\"\",\"please complete\",IF($D80>'SDG – Technický list '!L79-1,\":-)\",CONCATENATE(\"increase until \",'SDG – Technický list '!L79))))","v":""},{"$f":"IF('SDG – Technický list '!M79=\"\",\"\",IF($D80=\"\",\"please complete\",IF($D80>'SDG – Technický list '!M79-1,\":-)\",CONCATENATE(\"increase until \",'SDG – Technický list '!M79))))","v":""},{"$f":"IF('SDG – Technický list '!N79=\"\",\"\",IF($D80=\"\",\"please complete\",IF($D80>'SDG – Technický list '!N79-1,\":-)\",CONCATENATE(\"increase until \",'SDG – Technický list '!N79))))","v":""},{"$f":"IF('SDG – Technický list '!O79=\"\",\"\",IF($D80=\"\",\"please complete\",IF($D80>'SDG – Technický list '!O79-1,\":-)\",CONCATENATE(\"increase until \",'SDG – Technický list '!O79))))","v":""},{"$f":"IF('SDG – Technický list '!P79=\"\",\"\",IF($D80=\"\",\"please complete\",IF($D80>'SDG – Technický list '!P79-1,\":-)\",CONCATENATE(\"increase until \",'SDG – Technický list '!P79))))","v":""},{"$f":"IF('SDG – Technický list '!Q79=\"\",\"\",IF($D80=\"\",\"please complete\",IF($D80>'SDG – Technický list '!Q79-1,\":-)\",CONCATENATE(\"increase until \",'SDG – Technický list '!Q79))))","v":""},{"$f":"IF('SDG – Technický list '!R79=\"\",\"\",IF($D80=\"\",\"please complete\",IF($D80>'SDG – Technický list '!R79-1,\":-)\",CONCATENATE(\"increase until \",'SDG – Technický list '!R79))))","v":""},{"$f":"IF('SDG – Technický list '!S79=\"\",\"\",IF($D80=\"\",\"please complete\",IF($D80>'SDG – Technický list '!S79-1,\":-)\",CONCATENATE(\"increase until \",'SDG – Technický list '!S79))))","v":""},{"$f":"IF('SDG – Technický list '!T79=\"\",\"\",IF($D80=\"\",\"please complete\",IF($D80>'SDG – Technický list '!T79-1,\":-)\",CONCATENATE(\"increase until \",'SDG – Technický list '!T79))))","v":""}]
[null,{"$f":"'SDG – Technický list '!B80","v":"Q4.4"},{"$f":"VLOOKUP(B81,'Kapitola 4'!$C$6:$D$58,2,0)","v":"Jakým způsobem řeší organizace sociální problematiku a lidská práva v rámci spolupráce s obchodními partnery?"},{"$f":"'SDG – Technický list '!C80","v":2},16,{"$f":"IF('SDG – Technický list '!D80=\"\",\"\",IF($D81=\"\",\"prosím dokončete\",IF($D81>'SDG – Technický list '!D80-1,\":-)\",CONCATENATE(\"zvýšení do \",'SDG – Technický list '!D80))))","v":""},{"$f":"IF('SDG – Technický list '!E80=\"\",\"\",IF($D81=\"\",\"prosím dokončete\",IF($D81>'SDG – Technický list '!E80-1,\":-)\",CONCATENATE(\"zvýšení do \",'SDG – Technický list '!E80))))","v":""},{"$f":"IF('SDG – Technický list '!F80=\"\",\"\",IF($D81=\"\",\"prosím dokončete\",IF($D81>'SDG – Technický list '!F80-1,\":-)\",CONCATENATE(\"zvýšení do \",'SDG – Technický list '!F80))))","v":""},{"$f":"IF('SDG – Technický list '!G80=\"\",\"\",IF($D81=\"\",\"prosím dokončete\",IF($D81>'SDG – Technický list '!G80-1,\":-)\",CONCATENATE(\"zvýšení do \",'SDG – Technický list '!G80))))","v":""},{"$f":"IF('SDG – Technický list '!H80=\"\",\"\",IF($D81=\"\",\"prosím dokončete\",IF($D81>'SDG – Technický list '!H80-1,\":-)\",CONCATENATE(\"zvýšení do \",'SDG – Technický list '!H80))))","v":""},{"$f":"IF('SDG – Technický list '!I80=\"\",\"\",IF($D81=\"\",\"prosím dokončete\",IF($D81>'SDG – Technický list '!I80-1,\":-)\",CONCATENATE(\"zvýšení do \",'SDG – Technický list '!I80))))","v":""},{"$f":"IF('SDG – Technický list '!J80=\"\",\"\",IF($D81=\"\",\"prosím dokončete\",IF($D81>'SDG – Technický list '!J80-1,\":-)\",CONCATENATE(\"zvýšení do \",'SDG – Technický list '!J80))))","v":""},{"$f":"IF('SDG – Technický list '!K80=\"\",\"\",IF($D81=\"\",\"prosím dokončete\",IF($D81>'SDG – Technický list '!K80-1,\":-)\",CONCATENATE(\"zvýšení do \",'SDG – Technický list '!K80))))","v":"zvýšení do 3"},{"$f":"IF('SDG – Technický list '!L80=\"\",\"\",IF($D81=\"\",\"prosím dokončete\",IF($D81>'SDG – Technický list '!L80-1,\":-)\",CONCATENATE(\"zvýšení do \",'SDG – Technický list '!L80))))","v":""},{"$f":"IF('SDG – Technický list '!M80=\"\",\"\",IF($D81=\"\",\"prosím dokončete\",IF($D81>'SDG – Technický list '!M80-1,\":-)\",CONCATENATE(\"zvýšení do \",'SDG – Technický list '!M80))))","v":""},{"$f":"IF('SDG – Technický list '!N80=\"\",\"\",IF($D81=\"\",\"prosím dokončete\",IF($D81>'SDG – Technický list '!N80-1,\":-)\",CONCATENATE(\"zvýšení do \",'SDG – Technický list '!N80))))","v":""},{"$f":"IF('SDG – Technický list '!O80=\"\",\"\",IF($D81=\"\",\"prosím dokončete\",IF($D81>'SDG – Technický list '!O80-1,\":-)\",CONCATENATE(\"zvýšení do \",'SDG – Technický list '!O80))))","v":""},{"$f":"IF('SDG – Technický list '!P80=\"\",\"\",IF($D81=\"\",\"prosím dokončete\",IF($D81>'SDG – Technický list '!P80-1,\":-)\",CONCATENATE(\"zvýšení do \",'SDG – Technický list '!P80))))","v":""},{"$f":"IF('SDG – Technický list '!Q80=\"\",\"\",IF($D81=\"\",\"prosím dokončete\",IF($D81>'SDG – Technický list '!Q80-1,\":-)\",CONCATENATE(\"zvýšení do \",'SDG – Technický list '!Q80))))","v":""},{"$f":"IF('SDG – Technický list '!R80=\"\",\"\",IF($D81=\"\",\"prosím dokončete\",IF($D81>'SDG – Technický list '!R80-1,\":-)\",CONCATENATE(\"zvýšení do \",'SDG – Technický list '!R80))))","v":""},{"$f":"IF('SDG – Technický list '!S80=\"\",\"\",IF($D81=\"\",\"prosím dokončete\",IF($D81>'SDG – Technický list '!S80-1,\":-)\",CONCATENATE(\"zvýšení do \",'SDG – Technický list '!S80))))","v":""},{"$f":"IF('SDG – Technický list '!T80=\"\",\"\",IF($D81=\"\",\"prosím dokončete\",IF($D81>'SDG – Technický list '!T80-1,\":-)\",CONCATENATE(\"zvýšení do \",'SDG – Technický list '!T80))))","v":""}]
[null,{"$f":"'SDG – Technický list '!B81","v":"Q4.5"},{"$f":"VLOOKUP(B82,'Kapitola 4'!$C$6:$D$58,2,0)","v":"Jakým způsobem zabraňuje organizace dětské práci?\nOrganizace\n1-\tzavedla systém ověřování věku; \n2-\tnezaměstnává děti mladší 15 let (v závislosti na místní legislativy). Jedinou výjimku představují učni, školní praxe nebo vzdělávací stáže; \n3-\tzaručuje, aby pracovní náplň osob mladších než 18 let neovlivňovala jejich školní docházku (doba strávená dopravou do práce a školy a z práce a školy, školní docházkou a prací je méně než 10 hodin denně );\n4-\tzajišťuje, že pracovní náplň mladých pracovníků není duševně, fyzicky, společensky ani morálně nebezpečná a škodlivá."},{"$f":"'SDG – Technický list '!C81","v":4},16,{"$f":"IF('SDG – Technický list '!D81=\"\",\"\",IF($D82=\"\",\"prosím dokončete\",IF($D82>'SDG – Technický list '!D81-1,\":-)\",CONCATENATE(\"zvýšení do \",'SDG – Technický list '!D81))))","v":""},{"$f":"IF('SDG – Technický list '!E81=\"\",\"\",IF($D82=\"\",\"prosím dokončete\",IF($D82>'SDG – Technický list '!E81-1,\":-)\",CONCATENATE(\"zvýšení do \",'SDG – Technický list '!E81))))","v":""},{"$f":"IF('SDG – Technický list '!F81=\"\",\"\",IF($D82=\"\",\"prosím dokončete\",IF($D82>'SDG – Technický list '!F81-1,\":-)\",CONCATENATE(\"zvýšení do \",'SDG – Technický list '!F81))))","v":""},{"$f":"IF('SDG – Technický list '!G81=\"\",\"\",IF($D82=\"\",\"prosím dokončete\",IF($D82>'SDG – Technický list '!G81-1,\":-)\",CONCATENATE(\"zvýšení do \",'SDG – Technický list '!G81))))","v":""},{"$f":"IF('SDG – Technický list '!H81=\"\",\"\",IF($D82=\"\",\"prosím dokončete\",IF($D82>'SDG – Technický list '!H81-1,\":-)\",CONCATENATE(\"zvýšení do \",'SDG – Technický list '!H81))))","v":""},{"$f":"IF('SDG – Technický list '!I81=\"\",\"\",IF($D82=\"\",\"prosím dokončete\",IF($D82>'SDG – Technický list '!I81-1,\":-)\",CONCATENATE(\"zvýšení do \",'SDG – Technický list '!I81))))","v":""},{"$f":"IF('SDG – Technický list '!J81=\"\",\"\",IF($D82=\"\",\"prosím dokončete\",IF($D82>'SDG – Technický list '!J81-1,\":-)\",CONCATENATE(\"zvýšení do \",'SDG – Technický list '!J81))))","v":""},{"$f":"IF('SDG – Technický list '!K81=\"\",\"\",IF($D82=\"\",\"prosím dokončete\",IF($D82>'SDG – Technický list '!K81-1,\":-)\",CONCATENATE(\"zvýšení do \",'SDG – Technický list '!K81))))","v":":-)"},{"$f":"IF('SDG – Technický list '!L81=\"\",\"\",IF($D82=\"\",\"prosím dokončete\",IF($D82>'SDG – Technický list '!L81-1,\":-)\",CONCATENATE(\"zvýšení do \",'SDG – Technický list '!L81))))","v":""},{"$f":"IF('SDG – Technický list '!M81=\"\",\"\",IF($D82=\"\",\"prosím dokončete\",IF($D82>'SDG – Technický list '!M81-1,\":-)\",CONCATENATE(\"zvýšení do \",'SDG – Technický list '!M81))))","v":""},{"$f":"IF('SDG – Technický list '!N81=\"\",\"\",IF($D82=\"\",\"prosím dokončete\",IF($D82>'SDG – Technický list '!N81-1,\":-)\",CONCATENATE(\"zvýšení do \",'SDG – Technický list '!N81))))","v":""},{"$f":"IF('SDG – Technický list '!O81=\"\",\"\",IF($D82=\"\",\"prosím dokončete\",IF($D82>'SDG – Technický list '!O81-1,\":-)\",CONCATENATE(\"zvýšení do \",'SDG – Technický list '!O81))))","v":""},{"$f":"IF('SDG – Technický list '!P81=\"\",\"\",IF($D82=\"\",\"prosím dokončete\",IF($D82>'SDG – Technický list '!P81-1,\":-)\",CONCATENATE(\"zvýšení do \",'SDG – Technický list '!P81))))","v":""},{"$f":"IF('SDG – Technický list '!Q81=\"\",\"\",IF($D82=\"\",\"prosím dokončete\",IF($D82>'SDG – Technický list '!Q81-1,\":-)\",CONCATENATE(\"zvýšení do \",'SDG – Technický list '!Q81))))","v":""},{"$f":"IF('SDG – Technický list '!R81=\"\",\"\",IF($D82=\"\",\"prosím dokončete\",IF($D82>'SDG – Technický list '!R81-1,\":-)\",CONCATENATE(\"zvýšení do \",'SDG – Technický list '!R81))))","v":""},{"$f":"IF('SDG – Technický list '!S81=\"\",\"\",IF($D82=\"\",\"prosím dokončete\",IF($D82>'SDG – Technický list '!S81-1,\":-)\",CONCATENATE(\"zvýšení do \",'SDG – Technický list '!S81))))","v":""},{"$f":"IF('SDG – Technický list '!T81=\"\",\"\",IF($D82=\"\",\"prosím dokončete\",IF($D82>'SDG – Technický list '!T81-1,\":-)\",CONCATENATE(\"zvýšení do \",'SDG – Technický list '!T81))))","v":""}]
[null,{"$f":"'SDG – Technický list '!B82","v":"Q4.6"},{"$f":"VLOOKUP(B83,'Kapitola 4'!$C$6:$D$58,2,0)","v":"Jakým způsobem zabezpečuje organizace splnění svých požadavků ze strany logistických partnerů?"},{"$f":"'SDG – Technický list '!C82","v":3},17,{"$f":"IF('SDG – Technický list '!D82=\"\",\"\",IF($D83=\"\",\"please complete\",IF($D83>'SDG – Technický list '!D82-1,\":-)\",CONCATENATE(\"increase until \",'SDG – Technický list '!D82))))","v":""},{"$f":"IF('SDG – Technický list '!E82=\"\",\"\",IF($D83=\"\",\"please complete\",IF($D83>'SDG – Technický list '!E82-1,\":-)\",CONCATENATE(\"increase until \",'SDG – Technický list '!E82))))","v":""},{"$f":"IF('SDG – Technický list '!F82=\"\",\"\",IF($D83=\"\",\"please complete\",IF($D83>'SDG – Technický list '!F82-1,\":-)\",CONCATENATE(\"increase until \",'SDG – Technický list '!F82))))","v":""},{"$f":"IF('SDG – Technický list '!G82=\"\",\"\",IF($D83=\"\",\"please complete\",IF($D83>'SDG – Technický list '!G82-1,\":-)\",CONCATENATE(\"increase until \",'SDG – Technický list '!G82))))","v":""},{"$f":"IF('SDG – Technický list '!H82=\"\",\"\",IF($D83=\"\",\"please complete\",IF($D83>'SDG – Technický list '!H82-1,\":-)\",CONCATENATE(\"increase until \",'SDG – Technický list '!H82))))","v":""},{"$f":"IF('SDG – Technický list '!I82=\"\",\"\",IF($D83=\"\",\"please complete\",IF($D83>'SDG – Technický list '!I82-1,\":-)\",CONCATENATE(\"increase until \",'SDG – Technický list '!I82))))","v":""},{"$f":"IF('SDG – Technický list '!J82=\"\",\"\",IF($D83=\"\",\"please complete\",IF($D83>'SDG – Technický list '!J82-1,\":-)\",CONCATENATE(\"increase until \",'SDG – Technický list '!J82))))","v":""},{"$f":"IF('SDG – Technický list '!K82=\"\",\"\",IF($D83=\"\",\"please complete\",IF($D83>'SDG – Technický list '!K82-1,\":-)\",CONCATENATE(\"increase until \",'SDG – Technický list '!K82))))","v":""},{"$f":"IF('SDG – Technický list '!L82=\"\",\"\",IF($D83=\"\",\"please complete\",IF($D83>'SDG – Technický list '!L82-1,\":-)\",CONCATENATE(\"increase until \",'SDG – Technický list '!L82))))","v":""},{"$f":"IF('SDG – Technický list '!M82=\"\",\"\",IF($D83=\"\",\"please complete\",IF($D83>'SDG – Technický list '!M82-1,\":-)\",CONCATENATE(\"increase until \",'SDG – Technický list '!M82))))","v":""},{"$f":"IF('SDG – Technický list '!N82=\"\",\"\",IF($D83=\"\",\"please complete\",IF($D83>'SDG – Technický list '!N82-1,\":-)\",CONCATENATE(\"increase until \",'SDG – Technický list '!N82))))","v":""},{"$f":"IF('SDG – Technický list '!O82=\"\",\"\",IF($D83=\"\",\"please complete\",IF($D83>'SDG – Technický list '!O82-1,\":-)\",CONCATENATE(\"increase until \",'SDG – Technický list '!O82))))","v":""},{"$f":"IF('SDG – Technický list '!P82=\"\",\"\",IF($D83=\"\",\"please complete\",IF($D83>'SDG – Technický list '!P82-1,\":-)\",CONCATENATE(\"increase until \",'SDG – Technický list '!P82))))","v":""},{"$f":"IF('SDG – Technický list '!Q82=\"\",\"\",IF($D83=\"\",\"please complete\",IF($D83>'SDG – Technický list '!Q82-1,\":-)\",CONCATENATE(\"increase until \",'SDG – Technický list '!Q82))))","v":""},{"$f":"IF('SDG – Technický list '!R82=\"\",\"\",IF($D83=\"\",\"please complete\",IF($D83>'SDG – Technický list '!R82-1,\":-)\",CONCATENATE(\"increase until \",'SDG – Technický list '!R82))))","v":""},{"$f":"IF('SDG – Technický list '!S82=\"\",\"\",IF($D83=\"\",\"please complete\",IF($D83>'SDG – Technický list '!S82-1,\":-)\",CONCATENATE(\"increase until \",'SDG – Technický list '!S82))))","v":""},{"$f":"IF('SDG – Technický list '!T82=\"\",\"\",IF($D83=\"\",\"please complete\",IF($D83>'SDG – Technický list '!T82-1,\":-)\",CONCATENATE(\"increase until \",'SDG – Technický list '!T82))))","v":""}]
[null,{"$f":"'SDG – Technický list '!B83","v":"Q4.7"},{"$f":"VLOOKUP(B84,'Kapitola 4'!$C$6:$D$58,2,0)","v":"Jakým způsobem organizace chrání a zabezpečuje majetek a údaje následných uživatelů nebo externích poskytovatelů, které se používají nebo začleňují do produktů a služeb?"},{"$f":"'SDG – Technický list '!C83","v":1},17,{"$f":"IF('SDG – Technický list '!D83=\"\",\"\",IF($D84=\"\",\"please complete\",IF($D84>'SDG – Technický list '!D83-1,\":-)\",CONCATENATE(\"increase until \",'SDG – Technický list '!D83))))","v":""},{"$f":"IF('SDG – Technický list '!E83=\"\",\"\",IF($D84=\"\",\"please complete\",IF($D84>'SDG – Technický list '!E83-1,\":-)\",CONCATENATE(\"increase until \",'SDG – Technický list '!E83))))","v":""},{"$f":"IF('SDG – Technický list '!F83=\"\",\"\",IF($D84=\"\",\"please complete\",IF($D84>'SDG – Technický list '!F83-1,\":-)\",CONCATENATE(\"increase until \",'SDG – Technický list '!F83))))","v":""},{"$f":"IF('SDG – Technický list '!G83=\"\",\"\",IF($D84=\"\",\"please complete\",IF($D84>'SDG – Technický list '!G83-1,\":-)\",CONCATENATE(\"increase until \",'SDG – Technický list '!G83))))","v":""},{"$f":"IF('SDG – Technický list '!H83=\"\",\"\",IF($D84=\"\",\"please complete\",IF($D84>'SDG – Technický list '!H83-1,\":-)\",CONCATENATE(\"increase until \",'SDG – Technický list '!H83))))","v":""},{"$f":"IF('SDG – Technický list '!I83=\"\",\"\",IF($D84=\"\",\"please complete\",IF($D84>'SDG – Technický list '!I83-1,\":-)\",CONCATENATE(\"increase until \",'SDG – Technický list '!I83))))","v":""},{"$f":"IF('SDG – Technický list '!J83=\"\",\"\",IF($D84=\"\",\"please complete\",IF($D84>'SDG – Technický list '!J83-1,\":-)\",CONCATENATE(\"increase until \",'SDG – Technický list '!J83))))","v":""},{"$f":"IF('SDG – Technický list '!K83=\"\",\"\",IF($D84=\"\",\"please complete\",IF($D84>'SDG – Technický list '!K83-1,\":-)\",CONCATENATE(\"increase until \",'SDG – Technický list '!K83))))","v":""},{"$f":"IF('SDG – Technický list '!L83=\"\",\"\",IF($D84=\"\",\"please complete\",IF($D84>'SDG – Technický list '!L83-1,\":-)\",CONCATENATE(\"increase until \",'SDG – Technický list '!L83))))","v":""},{"$f":"IF('SDG – Technický list '!M83=\"\",\"\",IF($D84=\"\",\"please complete\",IF($D84>'SDG – Technický list '!M83-1,\":-)\",CONCATENATE(\"increase until \",'SDG – Technický list '!M83))))","v":""},{"$f":"IF('SDG – Technický list '!N83=\"\",\"\",IF($D84=\"\",\"please complete\",IF($D84>'SDG – Technický list '!N83-1,\":-)\",CONCATENATE(\"increase until \",'SDG – Technický list '!N83))))","v":""},{"$f":"IF('SDG – Technický list '!O83=\"\",\"\",IF($D84=\"\",\"please complete\",IF($D84>'SDG – Technický list '!O83-1,\":-)\",CONCATENATE(\"increase until \",'SDG – Technický list '!O83))))","v":""},{"$f":"IF('SDG – Technický list '!P83=\"\",\"\",IF($D84=\"\",\"please complete\",IF($D84>'SDG – Technický list '!P83-1,\":-)\",CONCATENATE(\"increase until \",'SDG – Technický list '!P83))))","v":""},{"$f":"IF('SDG – Technický list '!Q83=\"\",\"\",IF($D84=\"\",\"please complete\",IF($D84>'SDG – Technický list '!Q83-1,\":-)\",CONCATENATE(\"increase until \",'SDG – Technický list '!Q83))))","v":""},{"$f":"IF('SDG – Technický list '!R83=\"\",\"\",IF($D84=\"\",\"please complete\",IF($D84>'SDG – Technický list '!R83-1,\":-)\",CONCATENATE(\"increase until \",'SDG – Technický list '!R83))))","v":""},{"$f":"IF('SDG – Technický list '!S83=\"\",\"\",IF($D84=\"\",\"please complete\",IF($D84>'SDG – Technický list '!S83-1,\":-)\",CONCATENATE(\"increase until \",'SDG – Technický list '!S83))))","v":""},{"$f":"IF('SDG – Technický list '!T83=\"\",\"\",IF($D84=\"\",\"please complete\",IF($D84>'SDG – Technický list '!T83-1,\":-)\",CONCATENATE(\"increase until \",'SDG – Technický list '!T83))))","v":""}]
[null,{"$f":"'SDG – Technický list '!B84","v":"Q4.8"},{"$f":"VLOOKUP(B85,'Kapitola 4'!$C$6:$D$58,2,0)","v":"Co zahrnuje dialog s následnými uživateli?"},{"$f":"'SDG – Technický list '!C84","v":4},17,{"$f":"IF('SDG – Technický list '!D84=\"\",\"\",IF($D85=\"\",\"prosím dokončete\",IF($D85>'SDG – Technický list '!D84-1,\":-)\",CONCATENATE(\"increase until \",'SDG – Technický list '!D84))))","v":""},{"$f":"IF('SDG – Technický list '!E84=\"\",\"\",IF($D85=\"\",\"prosím dokončete\",IF($D85>'SDG – Technický list '!E84-1,\":-)\",CONCATENATE(\"increase until \",'SDG – Technický list '!E84))))","v":""},{"$f":"IF('SDG – Technický list '!F84=\"\",\"\",IF($D85=\"\",\"prosím dokončete\",IF($D85>'SDG – Technický list '!F84-1,\":-)\",CONCATENATE(\"increase until \",'SDG – Technický list '!F84))))","v":""},{"$f":"IF('SDG – Technický list '!G84=\"\",\"\",IF($D85=\"\",\"prosím dokončete\",IF($D85>'SDG – Technický list '!G84-1,\":-)\",CONCATENATE(\"increase until \",'SDG – Technický list '!G84))))","v":""},{"$f":"IF('SDG – Technický list '!H84=\"\",\"\",IF($D85=\"\",\"prosím dokončete\",IF($D85>'SDG – Technický list '!H84-1,\":-)\",CONCATENATE(\"increase until \",'SDG – Technický list '!H84))))","v":""},{"$f":"IF('SDG – Technický list '!I84=\"\",\"\",IF($D85=\"\",\"prosím dokončete\",IF($D85>'SDG – Technický list '!I84-1,\":-)\",CONCATENATE(\"increase until \",'SDG – Technický list '!I84))))","v":""},{"$f":"IF('SDG – Technický list '!J84=\"\",\"\",IF($D85=\"\",\"prosím dokončete\",IF($D85>'SDG – Technický list '!J84-1,\":-)\",CONCATENATE(\"increase until \",'SDG – Technický list '!J84))))","v":""},{"$f":"IF('SDG – Technický list '!K84=\"\",\"\",IF($D85=\"\",\"prosím dokončete\",IF($D85>'SDG – Technický list '!K84-1,\":-)\",CONCATENATE(\"increase until \",'SDG – Technický list '!K84))))","v":""},{"$f":"IF('SDG – Technický list '!L84=\"\",\"\",IF($D85=\"\",\"prosím dokončete\",IF($D85>'SDG – Technický list '!L84-1,\":-)\",CONCATENATE(\"increase until \",'SDG – Technický list '!L84))))","v":""},{"$f":"IF('SDG – Technický list '!M84=\"\",\"\",IF($D85=\"\",\"prosím dokončete\",IF($D85>'SDG – Technický list '!M84-1,\":-)\",CONCATENATE(\"increase until \",'SDG – Technický list '!M84))))","v":""},{"$f":"IF('SDG – Technický list '!N84=\"\",\"\",IF($D85=\"\",\"prosím dokončete\",IF($D85>'SDG – Technický list '!N84-1,\":-)\",CONCATENATE(\"increase until \",'SDG – Technický list '!N84))))","v":""},{"$f":"IF('SDG – Technický list '!O84=\"\",\"\",IF($D85=\"\",\"prosím dokončete\",IF($D85>'SDG – Technický list '!O84-1,\":-)\",CONCATENATE(\"increase until \",'SDG – Technický list '!O84))))","v":""},{"$f":"IF('SDG – Technický list '!P84=\"\",\"\",IF($D85=\"\",\"prosím dokončete\",IF($D85>'SDG – Technický list '!P84-1,\":-)\",CONCATENATE(\"increase until \",'SDG – Technický list '!P84))))","v":""},{"$f":"IF('SDG – Technický list '!Q84=\"\",\"\",IF($D85=\"\",\"prosím dokončete\",IF($D85>'SDG – Technický list '!Q84-1,\":-)\",CONCATENATE(\"increase until \",'SDG – Technický list '!Q84))))","v":""},{"$f":"IF('SDG – Technický list '!R84=\"\",\"\",IF($D85=\"\",\"prosím dokončete\",IF($D85>'SDG – Technický list '!R84-1,\":-)\",CONCATENATE(\"increase until \",'SDG – Technický list '!R84))))","v":""},{"$f":"IF('SDG – Technický list '!S84=\"\",\"\",IF($D85=\"\",\"prosím dokončete\",IF($D85>'SDG – Technický list '!S84-1,\":-)\",CONCATENATE(\"increase until \",'SDG – Technický list '!S84))))","v":""},{"$f":"IF('SDG – Technický list '!T84=\"\",\"\",IF($D85=\"\",\"prosím dokončete\",IF($D85>'SDG – Technický list '!T84-1,\":-)\",CONCATENATE(\"increase until \",'SDG – Technický list '!T84))))","v":""}]
[]
[null,{"$f":"'SDG – Technický list '!B86","v":"Q5.1"},{"$f":"VLOOKUP(B87,'Kapitola 5'!$C$6:$D$34,2,0)","v":"Jakým způsobem zapojuje organizace své externí zainteresované strany a naplňuje jejich očekávání?"},{"$f":"'SDG – Technický list '!C86","v":3},17,{"$f":"IF('SDG – Technický list '!D86=\"\",\"\",IF($D87=\"\",\"please complete\",IF($D87>'SDG – Technický list '!D86-1,\":-)\",CONCATENATE(\"increase until \",'SDG – Technický list '!D86))))","v":""},{"$f":"IF('SDG – Technický list '!E86=\"\",\"\",IF($D87=\"\",\"please complete\",IF($D87>'SDG – Technický list '!E86-1,\":-)\",CONCATENATE(\"increase until \",'SDG – Technický list '!E86))))","v":""},{"$f":"IF('SDG – Technický list '!F86=\"\",\"\",IF($D87=\"\",\"please complete\",IF($D87>'SDG – Technický list '!F86-1,\":-)\",CONCATENATE(\"increase until \",'SDG – Technický list '!F86))))","v":""},{"$f":"IF('SDG – Technický list '!G86=\"\",\"\",IF($D87=\"\",\"please complete\",IF($D87>'SDG – Technický list '!G86-1,\":-)\",CONCATENATE(\"increase until \",'SDG – Technický list '!G86))))","v":""},{"$f":"IF('SDG – Technický list '!H86=\"\",\"\",IF($D87=\"\",\"please complete\",IF($D87>'SDG – Technický list '!H86-1,\":-)\",CONCATENATE(\"increase until \",'SDG – Technický list '!H86))))","v":""},{"$f":"IF('SDG – Technický list '!I86=\"\",\"\",IF($D87=\"\",\"please complete\",IF($D87>'SDG – Technický list '!I86-1,\":-)\",CONCATENATE(\"increase until \",'SDG – Technický list '!I86))))","v":""},{"$f":"IF('SDG – Technický list '!J86=\"\",\"\",IF($D87=\"\",\"please complete\",IF($D87>'SDG – Technický list '!J86-1,\":-)\",CONCATENATE(\"increase until \",'SDG – Technický list '!J86))))","v":""},{"$f":"IF('SDG – Technický list '!K86=\"\",\"\",IF($D87=\"\",\"please complete\",IF($D87>'SDG – Technický list '!K86-1,\":-)\",CONCATENATE(\"increase until \",'SDG – Technický list '!K86))))","v":""},{"$f":"IF('SDG – Technický list '!L86=\"\",\"\",IF($D87=\"\",\"please complete\",IF($D87>'SDG – Technický list '!L86-1,\":-)\",CONCATENATE(\"increase until \",'SDG – Technický list '!L86))))","v":""},{"$f":"IF('SDG – Technický list '!M86=\"\",\"\",IF($D87=\"\",\"please complete\",IF($D87>'SDG – Technický list '!M86-1,\":-)\",CONCATENATE(\"increase until \",'SDG – Technický list '!M86))))","v":""},{"$f":"IF('SDG – Technický list '!N86=\"\",\"\",IF($D87=\"\",\"please complete\",IF($D87>'SDG – Technický list '!N86-1,\":-)\",CONCATENATE(\"increase until \",'SDG – Technický list '!N86))))","v":""},{"$f":"IF('SDG – Technický list '!O86=\"\",\"\",IF($D87=\"\",\"please complete\",IF($D87>'SDG – Technický list '!O86-1,\":-)\",CONCATENATE(\"increase until \",'SDG – Technický list '!O86))))","v":""},{"$f":"IF('SDG – Technický list '!P86=\"\",\"\",IF($D87=\"\",\"please complete\",IF($D87>'SDG – Technický list '!P86-1,\":-)\",CONCATENATE(\"increase until \",'SDG – Technický list '!P86))))","v":""},{"$f":"IF('SDG – Technický list '!Q86=\"\",\"\",IF($D87=\"\",\"please complete\",IF($D87>'SDG – Technický list '!Q86-1,\":-)\",CONCATENATE(\"increase until \",'SDG – Technický list '!Q86))))","v":""},{"$f":"IF('SDG – Technický list '!R86=\"\",\"\",IF($D87=\"\",\"please complete\",IF($D87>'SDG – Technický list '!R86-1,\":-)\",CONCATENATE(\"increase until \",'SDG – Technický list '!R86))))","v":""},{"$f":"IF('SDG – Technický list '!S86=\"\",\"\",IF($D87=\"\",\"please complete\",IF($D87>'SDG – Technický list '!S86-1,\":-)\",CONCATENATE(\"increase until \",'SDG – Technický list '!S86))))","v":""},{"$f":"IF('SDG – Technický list '!T86=\"\",\"\",IF($D87=\"\",\"please complete\",IF($D87>'SDG – Technický list '!T86-1,\":-)\",CONCATENATE(\"increase until \",'SDG – Technický list '!T86))))","v":""}]
[null,{"$f":"'SDG – Technický list '!B87","v":"Q5.2"},{"$f":"VLOOKUP(B88,'Kapitola 5'!$C$6:$D$34,2,0)","v":"Jakým způsobem vede organizace dialog s veřejností, úřady a dalšími zainteresovanými stranami, včetně místních komunit a zákazníků v souvislosti s HSE&S v rámci jejich činností, produktů a služeb?"},{"$f":"'SDG – Technický list '!C87","v":4},17,{"$f":"IF('SDG – Technický list '!D87=\"\",\"\",IF($D88=\"\",\"please complete\",IF($D88>'SDG – Technický list '!D87-1,\":-)\",CONCATENATE(\"increase until \",'SDG – Technický list '!D87))))","v":""},{"$f":"IF('SDG – Technický list '!E87=\"\",\"\",IF($D88=\"\",\"please complete\",IF($D88>'SDG – Technický list '!E87-1,\":-)\",CONCATENATE(\"increase until \",'SDG – Technický list '!E87))))","v":""},{"$f":"IF('SDG – Technický list '!F87=\"\",\"\",IF($D88=\"\",\"please complete\",IF($D88>'SDG – Technický list '!F87-1,\":-)\",CONCATENATE(\"increase until \",'SDG – Technický list '!F87))))","v":""},{"$f":"IF('SDG – Technický list '!G87=\"\",\"\",IF($D88=\"\",\"please complete\",IF($D88>'SDG – Technický list '!G87-1,\":-)\",CONCATENATE(\"increase until \",'SDG – Technický list '!G87))))","v":""},{"$f":"IF('SDG – Technický list '!H87=\"\",\"\",IF($D88=\"\",\"please complete\",IF($D88>'SDG – Technický list '!H87-1,\":-)\",CONCATENATE(\"increase until \",'SDG – Technický list '!H87))))","v":""},{"$f":"IF('SDG – Technický list '!I87=\"\",\"\",IF($D88=\"\",\"please complete\",IF($D88>'SDG – Technický list '!I87-1,\":-)\",CONCATENATE(\"increase until \",'SDG – Technický list '!I87))))","v":""},{"$f":"IF('SDG – Technický list '!J87=\"\",\"\",IF($D88=\"\",\"please complete\",IF($D88>'SDG – Technický list '!J87-1,\":-)\",CONCATENATE(\"increase until \",'SDG – Technický list '!J87))))","v":""},{"$f":"IF('SDG – Technický list '!K87=\"\",\"\",IF($D88=\"\",\"please complete\",IF($D88>'SDG – Technický list '!K87-1,\":-)\",CONCATENATE(\"increase until \",'SDG – Technický list '!K87))))","v":""},{"$f":"IF('SDG – Technický list '!L87=\"\",\"\",IF($D88=\"\",\"please complete\",IF($D88>'SDG – Technický list '!L87-1,\":-)\",CONCATENATE(\"increase until \",'SDG – Technický list '!L87))))","v":""},{"$f":"IF('SDG – Technický list '!M87=\"\",\"\",IF($D88=\"\",\"please complete\",IF($D88>'SDG – Technický list '!M87-1,\":-)\",CONCATENATE(\"increase until \",'SDG – Technický list '!M87))))","v":""},{"$f":"IF('SDG – Technický list '!N87=\"\",\"\",IF($D88=\"\",\"please complete\",IF($D88>'SDG – Technický list '!N87-1,\":-)\",CONCATENATE(\"increase until \",'SDG – Technický list '!N87))))","v":""},{"$f":"IF('SDG – Technický list '!O87=\"\",\"\",IF($D88=\"\",\"please complete\",IF($D88>'SDG – Technický list '!O87-1,\":-)\",CONCATENATE(\"increase until \",'SDG – Technický list '!O87))))","v":""},{"$f":"IF('SDG – Technický list '!P87=\"\",\"\",IF($D88=\"\",\"please complete\",IF($D88>'SDG – Technický list '!P87-1,\":-)\",CONCATENATE(\"increase until \",'SDG – Technický list '!P87))))","v":""},{"$f":"IF('SDG – Technický list '!Q87=\"\",\"\",IF($D88=\"\",\"please complete\",IF($D88>'SDG – Technický list '!Q87-1,\":-)\",CONCATENATE(\"increase until \",'SDG – Technický list '!Q87))))","v":""},{"$f":"IF('SDG – Technický list '!R87=\"\",\"\",IF($D88=\"\",\"please complete\",IF($D88>'SDG – Technický list '!R87-1,\":-)\",CONCATENATE(\"increase until \",'SDG – Technický list '!R87))))","v":""},{"$f":"IF('SDG – Technický list '!S87=\"\",\"\",IF($D88=\"\",\"please complete\",IF($D88>'SDG – Technický list '!S87-1,\":-)\",CONCATENATE(\"increase until \",'SDG – Technický list '!S87))))","v":""},{"$f":"IF('SDG – Technický list '!T87=\"\",\"\",IF($D88=\"\",\"please complete\",IF($D88>'SDG – Technický list '!T87-1,\":-)\",CONCATENATE(\"increase until \",'SDG – Technický list '!T87))))","v":""}]
[null,{"$f":"'SDG – Technický list '!B88","v":"Q5.3"},{"$f":"VLOOKUP(B89,'Kapitola 5'!$C$6:$D$34,2,0)","v":"Jakým způsobem zveřejňuje organizace informace týkající se\n HSE&S?"},{"$f":"'SDG – Technický list '!C88","v":2},16,{"$f":"IF('SDG – Technický list '!D88=\"\",\"\",IF($D89=\"\",\"prosím dokončete\",IF($D89>'SDG – Technický list '!D88-1,\":-)\",CONCATENATE(\"zvýšení do \",'SDG – Technický list '!D88))))","v":""},{"$f":"IF('SDG – Technický list '!E88=\"\",\"\",IF($D89=\"\",\"prosím dokončete\",IF($D89>'SDG – Technický list '!E88-1,\":-)\",CONCATENATE(\"zvýšení do \",'SDG – Technický list '!E88))))","v":""},{"$f":"IF('SDG – Technický list '!F88=\"\",\"\",IF($D89=\"\",\"prosím dokončete\",IF($D89>'SDG – Technický list '!F88-1,\":-)\",CONCATENATE(\"zvýšení do \",'SDG – Technický list '!F88))))","v":""},{"$f":"IF('SDG – Technický list '!G88=\"\",\"\",IF($D89=\"\",\"prosím dokončete\",IF($D89>'SDG – Technický list '!G88-1,\":-)\",CONCATENATE(\"zvýšení do \",'SDG – Technický list '!G88))))","v":""},{"$f":"IF('SDG – Technický list '!H88=\"\",\"\",IF($D89=\"\",\"prosím dokončete\",IF($D89>'SDG – Technický list '!H88-1,\":-)\",CONCATENATE(\"zvýšení do \",'SDG – Technický list '!H88))))","v":""},{"$f":"IF('SDG – Technický list '!I88=\"\",\"\",IF($D89=\"\",\"prosím dokončete\",IF($D89>'SDG – Technický list '!I88-1,\":-)\",CONCATENATE(\"zvýšení do \",'SDG – Technický list '!I88))))","v":""},{"$f":"IF('SDG – Technický list '!J88=\"\",\"\",IF($D89=\"\",\"prosím dokončete\",IF($D89>'SDG – Technický list '!J88-1,\":-)\",CONCATENATE(\"zvýšení do \",'SDG – Technický list '!J88))))","v":""},{"$f":"IF('SDG – Technický list '!K88=\"\",\"\",IF($D89=\"\",\"prosím dokončete\",IF($D89>'SDG – Technický list '!K88-1,\":-)\",CONCATENATE(\"zvýšení do \",'SDG – Technický list '!K88))))","v":""},{"$f":"IF('SDG – Technický list '!L88=\"\",\"\",IF($D89=\"\",\"prosím dokončete\",IF($D89>'SDG – Technický list '!L88-1,\":-)\",CONCATENATE(\"zvýšení do \",'SDG – Technický list '!L88))))","v":""},{"$f":"IF('SDG – Technický list '!M88=\"\",\"\",IF($D89=\"\",\"prosím dokončete\",IF($D89>'SDG – Technický list '!M88-1,\":-)\",CONCATENATE(\"zvýšení do \",'SDG – Technický list '!M88))))","v":""},{"$f":"IF('SDG – Technický list '!N88=\"\",\"\",IF($D89=\"\",\"prosím dokončete\",IF($D89>'SDG – Technický list '!N88-1,\":-)\",CONCATENATE(\"zvýšení do \",'SDG – Technický list '!N88))))","v":""},{"$f":"IF('SDG – Technický list '!O88=\"\",\"\",IF($D89=\"\",\"prosím dokončete\",IF($D89>'SDG – Technický list '!O88-1,\":-)\",CONCATENATE(\"zvýšení do \",'SDG – Technický list '!O88))))","v":"zvýšení do 3"},{"$f":"IF('SDG – Technický list '!P88=\"\",\"\",IF($D89=\"\",\"prosím dokončete\",IF($D89>'SDG – Technický list '!P88-1,\":-)\",CONCATENATE(\"zvýšení do \",'SDG – Technický list '!P88))))","v":""},{"$f":"IF('SDG – Technický list '!Q88=\"\",\"\",IF($D89=\"\",\"prosím dokončete\",IF($D89>'SDG – Technický list '!Q88-1,\":-)\",CONCATENATE(\"zvýšení do \",'SDG – Technický list '!Q88))))","v":""},{"$f":"IF('SDG – Technický list '!R88=\"\",\"\",IF($D89=\"\",\"prosím dokončete\",IF($D89>'SDG – Technický list '!R88-1,\":-)\",CONCATENATE(\"zvýšení do \",'SDG – Technický list '!R88))))","v":""},{"$f":"IF('SDG – Technický list '!S88=\"\",\"\",IF($D89=\"\",\"prosím dokončete\",IF($D89>'SDG – Technický list '!S88-1,\":-)\",CONCATENATE(\"zvýšení do \",'SDG – Technický list '!S88))))","v":""},{"$f":"IF('SDG – Technický list '!T88=\"\",\"\",IF($D89=\"\",\"prosím dokončete\",IF($D89>'SDG – Technický list '!T88-1,\":-)\",CONCATENATE(\"zvýšení do \",'SDG – Technický list '!T88))))","v":""}]
[null,{"$f":"'SDG – Technický list '!B89","v":"Q5.4"},{"$f":"VLOOKUP(B90,'Kapitola 5'!$C$6:$D$34,2,0)","v":"Jakým způsobem podporuje organizace místní komunity?"},{"$f":"'SDG – Technický list '!C89","v":2},16,{"$f":"IF('SDG – Technický list '!D89=\"\",\"\",IF($D90=\"\",\"prosím dokončete\",IF($D90>'SDG – Technický list '!D89-1,\":-)\",CONCATENATE(\"zvýšení do \",'SDG – Technický list '!D89))))","v":""},{"$f":"IF('SDG – Technický list '!E89=\"\",\"\",IF($D90=\"\",\"prosím dokončete\",IF($D90>'SDG – Technický list '!E89-1,\":-)\",CONCATENATE(\"zvýšení do \",'SDG – Technický list '!E89))))","v":""},{"$f":"IF('SDG – Technický list '!F89=\"\",\"\",IF($D90=\"\",\"prosím dokončete\",IF($D90>'SDG – Technický list '!F89-1,\":-)\",CONCATENATE(\"zvýšení do \",'SDG – Technický list '!F89))))","v":""},{"$f":"IF('SDG – Technický list '!G89=\"\",\"\",IF($D90=\"\",\"prosím dokončete\",IF($D90>'SDG – Technický list '!G89-1,\":-)\",CONCATENATE(\"zvýšení do \",'SDG – Technický list '!G89))))","v":""},{"$f":"IF('SDG – Technický list '!H89=\"\",\"\",IF($D90=\"\",\"prosím dokončete\",IF($D90>'SDG – Technický list '!H89-1,\":-)\",CONCATENATE(\"zvýšení do \",'SDG – Technický list '!H89))))","v":""},{"$f":"IF('SDG – Technický list '!I89=\"\",\"\",IF($D90=\"\",\"prosím dokončete\",IF($D90>'SDG – Technický list '!I89-1,\":-)\",CONCATENATE(\"zvýšení do \",'SDG – Technický list '!I89))))","v":""},{"$f":"IF('SDG – Technický list '!J89=\"\",\"\",IF($D90=\"\",\"prosím dokončete\",IF($D90>'SDG – Technický list '!J89-1,\":-)\",CONCATENATE(\"zvýšení do \",'SDG – Technický list '!J89))))","v":""},{"$f":"IF('SDG – Technický list '!K89=\"\",\"\",IF($D90=\"\",\"prosím dokončete\",IF($D90>'SDG – Technický list '!K89-1,\":-)\",CONCATENATE(\"zvýšení do \",'SDG – Technický list '!K89))))","v":""},{"$f":"IF('SDG – Technický list '!L89=\"\",\"\",IF($D90=\"\",\"prosím dokončete\",IF($D90>'SDG – Technický list '!L89-1,\":-)\",CONCATENATE(\"zvýšení do \",'SDG – Technický list '!L89))))","v":""},{"$f":"IF('SDG – Technický list '!M89=\"\",\"\",IF($D90=\"\",\"prosím dokončete\",IF($D90>'SDG – Technický list '!M89-1,\":-)\",CONCATENATE(\"zvýšení do \",'SDG – Technický list '!M89))))","v":""},{"$f":"IF('SDG – Technický list '!N89=\"\",\"\",IF($D90=\"\",\"prosím dokončete\",IF($D90>'SDG – Technický list '!N89-1,\":-)\",CONCATENATE(\"zvýšení do \",'SDG – Technický list '!N89))))","v":"zvýšení do 3"},{"$f":"IF('SDG – Technický list '!O89=\"\",\"\",IF($D90=\"\",\"prosím dokončete\",IF($D90>'SDG – Technický list '!O89-1,\":-)\",CONCATENATE(\"zvýšení do \",'SDG – Technický list '!O89))))","v":""},{"$f":"IF('SDG – Technický list '!P89=\"\",\"\",IF($D90=\"\",\"prosím dokončete\",IF($D90>'SDG – Technický list '!P89-1,\":-)\",CONCATENATE(\"zvýšení do \",'SDG – Technický list '!P89))))","v":""},{"$f":"IF('SDG – Technický list '!Q89=\"\",\"\",IF($D90=\"\",\"prosím dokončete\",IF($D90>'SDG – Technický list '!Q89-1,\":-)\",CONCATENATE(\"zvýšení do \",'SDG – Technický list '!Q89))))","v":""},{"$f":"IF('SDG – Technický list '!R89=\"\",\"\",IF($D90=\"\",\"prosím dokončete\",IF($D90>'SDG – Technický list '!R89-1,\":-)\",CONCATENATE(\"zvýšení do \",'SDG – Technický list '!R89))))","v":""},{"$f":"IF('SDG – Technický list '!S89=\"\",\"\",IF($D90=\"\",\"prosím dokončete\",IF($D90>'SDG – Technický list '!S89-1,\":-)\",CONCATENATE(\"zvýšení do \",'SDG – Technický list '!S89))))","v":""},{"$f":"IF('SDG – Technický list '!T89=\"\",\"\",IF($D90=\"\",\"prosím dokončete\",IF($D90>'SDG – Technický list '!T89-1,\":-)\",CONCATENATE(\"zvýšení do \",'SDG – Technický list '!T89))))","v":""}]
[null,{"$f":"'SDG – Technický list '!B90","v":"Q5.5"},{"$f":"VLOOKUP(B91,'Kapitola 5'!$C$6:$D$34,2,0)","v":"Jakým způsobem stimuluje organizace místní zaměstnanost a vzdělávání?"},{"$f":"'SDG – Technický list '!C90","v":3},15,{"$f":"IF('SDG – Technický list '!D90=\"\",\"\",IF($D91=\"\",\"prosím dokončete\",IF($D91>'SDG – Technický list '!D90-1,\":-)\",CONCATENATE(\"zvýšení do \",'SDG – Technický list '!D90))))","v":""},{"$f":"IF('SDG – Technický list '!E90=\"\",\"\",IF($D91=\"\",\"prosím dokončete\",IF($D91>'SDG – Technický list '!E90-1,\":-)\",CONCATENATE(\"zvýšení do \",'SDG – Technický list '!E90))))","v":""},{"$f":"IF('SDG – Technický list '!F90=\"\",\"\",IF($D91=\"\",\"prosím dokončete\",IF($D91>'SDG – Technický list '!F90-1,\":-)\",CONCATENATE(\"zvýšení do \",'SDG – Technický list '!F90))))","v":""},{"$f":"IF('SDG – Technický list '!G90=\"\",\"\",IF($D91=\"\",\"prosím dokončete\",IF($D91>'SDG – Technický list '!G90-1,\":-)\",CONCATENATE(\"zvýšení do \",'SDG – Technický list '!G90))))","v":":-)"},{"$f":"IF('SDG – Technický list '!H90=\"\",\"\",IF($D91=\"\",\"prosím dokončete\",IF($D91>'SDG – Technický list '!H90-1,\":-)\",CONCATENATE(\"zvýšení do \",'SDG – Technický list '!H90))))","v":""},{"$f":"IF('SDG – Technický list '!I90=\"\",\"\",IF($D91=\"\",\"prosím dokončete\",IF($D91>'SDG – Technický list '!I90-1,\":-)\",CONCATENATE(\"zvýšení do \",'SDG – Technický list '!I90))))","v":""},{"$f":"IF('SDG – Technický list '!J90=\"\",\"\",IF($D91=\"\",\"prosím dokončete\",IF($D91>'SDG – Technický list '!J90-1,\":-)\",CONCATENATE(\"zvýšení do \",'SDG – Technický list '!J90))))","v":""},{"$f":"IF('SDG – Technický list '!K90=\"\",\"\",IF($D91=\"\",\"prosím dokončete\",IF($D91>'SDG – Technický list '!K90-1,\":-)\",CONCATENATE(\"zvýšení do \",'SDG – Technický list '!K90))))","v":":-)"},{"$f":"IF('SDG – Technický list '!L90=\"\",\"\",IF($D91=\"\",\"prosím dokončete\",IF($D91>'SDG – Technický list '!L90-1,\":-)\",CONCATENATE(\"zvýšení do \",'SDG – Technický list '!L90))))","v":""},{"$f":"IF('SDG – Technický list '!M90=\"\",\"\",IF($D91=\"\",\"prosím dokončete\",IF($D91>'SDG – Technický list '!M90-1,\":-)\",CONCATENATE(\"zvýšení do \",'SDG – Technický list '!M90))))","v":""},{"$f":"IF('SDG – Technický list '!N90=\"\",\"\",IF($D91=\"\",\"prosím dokončete\",IF($D91>'SDG – Technický list '!N90-1,\":-)\",CONCATENATE(\"zvýšení do \",'SDG – Technický list '!N90))))","v":""},{"$f":"IF('SDG – Technický list '!O90=\"\",\"\",IF($D91=\"\",\"prosím dokončete\",IF($D91>'SDG – Technický list '!O90-1,\":-)\",CONCATENATE(\"zvýšení do \",'SDG – Technický list '!O90))))","v":""},{"$f":"IF('SDG – Technický list '!P90=\"\",\"\",IF($D91=\"\",\"prosím dokončete\",IF($D91>'SDG – Technický list '!P90-1,\":-)\",CONCATENATE(\"zvýšení do \",'SDG – Technický list '!P90))))","v":""},{"$f":"IF('SDG – Technický list '!Q90=\"\",\"\",IF($D91=\"\",\"prosím dokončete\",IF($D91>'SDG – Technický list '!Q90-1,\":-)\",CONCATENATE(\"zvýšení do \",'SDG – Technický list '!Q90))))","v":""},{"$f":"IF('SDG – Technický list '!R90=\"\",\"\",IF($D91=\"\",\"prosím dokončete\",IF($D91>'SDG – Technický list '!R90-1,\":-)\",CONCATENATE(\"zvýšení do \",'SDG – Technický list '!R90))))","v":""},{"$f":"IF('SDG – Technický list '!S90=\"\",\"\",IF($D91=\"\",\"prosím dokončete\",IF($D91>'SDG – Technický list '!S90-1,\":-)\",CONCATENATE(\"zvýšení do \",'SDG – Technický list '!S90))))","v":""},{"$f":"IF('SDG – Technický list '!T90=\"\",\"\",IF($D91=\"\",\"prosím dokončete\",IF($D91>'SDG – Technický list '!T90-1,\":-)\",CONCATENATE(\"zvýšení do \",'SDG – Technický list '!T90))))","v":""}]
[]
[null,{"$f":"'SDG – Technický list '!B92","v":"Q6.1"},{"$f":"VLOOKUP(B93,'Kapitola 6'!$C$6:$D$120,2,0)","v":"Jakým způsobem definuje organizace významné problémy a závažnost?"},{"$f":"'SDG – Technický list '!C92","v":2},17,{"$f":"IF('SDG – Technický list '!D92=\"\",\"\",IF($D93=\"\",\"please complete\",IF($D93>'SDG – Technický list '!D92-1,\":-)\",CONCATENATE(\"increase until \",'SDG – Technický list '!D92))))","v":""},{"$f":"IF('SDG – Technický list '!E92=\"\",\"\",IF($D93=\"\",\"please complete\",IF($D93>'SDG – Technický list '!E92-1,\":-)\",CONCATENATE(\"increase until \",'SDG – Technický list '!E92))))","v":""},{"$f":"IF('SDG – Technický list '!F92=\"\",\"\",IF($D93=\"\",\"please complete\",IF($D93>'SDG – Technický list '!F92-1,\":-)\",CONCATENATE(\"increase until \",'SDG – Technický list '!F92))))","v":""},{"$f":"IF('SDG – Technický list '!G92=\"\",\"\",IF($D93=\"\",\"please complete\",IF($D93>'SDG – Technický list '!G92-1,\":-)\",CONCATENATE(\"increase until \",'SDG – Technický list '!G92))))","v":""},{"$f":"IF('SDG – Technický list '!H92=\"\",\"\",IF($D93=\"\",\"please complete\",IF($D93>'SDG – Technický list '!H92-1,\":-)\",CONCATENATE(\"increase until \",'SDG – Technický list '!H92))))","v":""},{"$f":"IF('SDG – Technický list '!I92=\"\",\"\",IF($D93=\"\",\"please complete\",IF($D93>'SDG – Technický list '!I92-1,\":-)\",CONCATENATE(\"increase until \",'SDG – Technický list '!I92))))","v":""},{"$f":"IF('SDG – Technický list '!J92=\"\",\"\",IF($D93=\"\",\"please complete\",IF($D93>'SDG – Technický list '!J92-1,\":-)\",CONCATENATE(\"increase until \",'SDG – Technický list '!J92))))","v":""},{"$f":"IF('SDG – Technický list '!K92=\"\",\"\",IF($D93=\"\",\"please complete\",IF($D93>'SDG – Technický list '!K92-1,\":-)\",CONCATENATE(\"increase until \",'SDG – Technický list '!K92))))","v":""},{"$f":"IF('SDG – Technický list '!L92=\"\",\"\",IF($D93=\"\",\"please complete\",IF($D93>'SDG – Technický list '!L92-1,\":-)\",CONCATENATE(\"increase until \",'SDG – Technický list '!L92))))","v":""},{"$f":"IF('SDG – Technický list '!M92=\"\",\"\",IF($D93=\"\",\"please complete\",IF($D93>'SDG – Technický list '!M92-1,\":-)\",CONCATENATE(\"increase until \",'SDG – Technický list '!M92))))","v":""},{"$f":"IF('SDG – Technický list '!N92=\"\",\"\",IF($D93=\"\",\"please complete\",IF($D93>'SDG – Technický list '!N92-1,\":-)\",CONCATENATE(\"increase until \",'SDG – Technický list '!N92))))","v":""},{"$f":"IF('SDG – Technický list '!O92=\"\",\"\",IF($D93=\"\",\"please complete\",IF($D93>'SDG – Technický list '!O92-1,\":-)\",CONCATENATE(\"increase until \",'SDG – Technický list '!O92))))","v":""},{"$f":"IF('SDG – Technický list '!P92=\"\",\"\",IF($D93=\"\",\"please complete\",IF($D93>'SDG – Technický list '!P92-1,\":-)\",CONCATENATE(\"increase until \",'SDG – Technický list '!P92))))","v":""},{"$f":"IF('SDG – Technický list '!Q92=\"\",\"\",IF($D93=\"\",\"please complete\",IF($D93>'SDG – Technický list '!Q92-1,\":-)\",CONCATENATE(\"increase until \",'SDG – Technický list '!Q92))))","v":""},{"$f":"IF('SDG – Technický list '!R92=\"\",\"\",IF($D93=\"\",\"please complete\",IF($D93>'SDG – Technický list '!R92-1,\":-)\",CONCATENATE(\"increase until \",'SDG – Technický list '!R92))))","v":""},{"$f":"IF('SDG – Technický list '!S92=\"\",\"\",IF($D93=\"\",\"please complete\",IF($D93>'SDG – Technický list '!S92-1,\":-)\",CONCATENATE(\"increase until \",'SDG – Technický list '!S92))))","v":""},{"$f":"IF('SDG – Technický list '!T92=\"\",\"\",IF($D93=\"\",\"please complete\",IF($D93>'SDG – Technický list '!T92-1,\":-)\",CONCATENATE(\"increase until \",'SDG – Technický list '!T92))))","v":""}]
[null,{"$f":"'SDG – Technický list '!B93","v":"Q6.2"},{"$f":"VLOOKUP(B94,'Kapitola 6'!$C$6:$D$120,2,0)","v":"Jakým způsobem hodlá organizace přispívat k udržitelnému rozvoji?"},{"$f":"'SDG – Technický list '!C93","v":2},17,{"$f":"IF('SDG – Technický list '!D93=\"\",\"\",IF($D94=\"\",\"please complete\",IF($D94>'SDG – Technický list '!D93-1,\":-)\",CONCATENATE(\"increase until \",'SDG – Technický list '!D93))))","v":""},{"$f":"IF('SDG – Technický list '!E93=\"\",\"\",IF($D94=\"\",\"please complete\",IF($D94>'SDG – Technický list '!E93-1,\":-)\",CONCATENATE(\"increase until \",'SDG – Technický list '!E93))))","v":""},{"$f":"IF('SDG – Technický list '!F93=\"\",\"\",IF($D94=\"\",\"please complete\",IF($D94>'SDG – Technický list '!F93-1,\":-)\",CONCATENATE(\"increase until \",'SDG – Technický list '!F93))))","v":""},{"$f":"IF('SDG – Technický list '!G93=\"\",\"\",IF($D94=\"\",\"please complete\",IF($D94>'SDG – Technický list '!G93-1,\":-)\",CONCATENATE(\"increase until \",'SDG – Technický list '!G93))))","v":""},{"$f":"IF('SDG – Technický list '!H93=\"\",\"\",IF($D94=\"\",\"please complete\",IF($D94>'SDG – Technický list '!H93-1,\":-)\",CONCATENATE(\"increase until \",'SDG – Technický list '!H93))))","v":""},{"$f":"IF('SDG – Technický list '!I93=\"\",\"\",IF($D94=\"\",\"please complete\",IF($D94>'SDG – Technický list '!I93-1,\":-)\",CONCATENATE(\"increase until \",'SDG – Technický list '!I93))))","v":""},{"$f":"IF('SDG – Technický list '!J93=\"\",\"\",IF($D94=\"\",\"please complete\",IF($D94>'SDG – Technický list '!J93-1,\":-)\",CONCATENATE(\"increase until \",'SDG – Technický list '!J93))))","v":""},{"$f":"IF('SDG – Technický list '!K93=\"\",\"\",IF($D94=\"\",\"please complete\",IF($D94>'SDG – Technický list '!K93-1,\":-)\",CONCATENATE(\"increase until \",'SDG – Technický list '!K93))))","v":""},{"$f":"IF('SDG – Technický list '!L93=\"\",\"\",IF($D94=\"\",\"please complete\",IF($D94>'SDG – Technický list '!L93-1,\":-)\",CONCATENATE(\"increase until \",'SDG – Technický list '!L93))))","v":""},{"$f":"IF('SDG – Technický list '!M93=\"\",\"\",IF($D94=\"\",\"please complete\",IF($D94>'SDG – Technický list '!M93-1,\":-)\",CONCATENATE(\"increase until \",'SDG – Technický list '!M93))))","v":""},{"$f":"IF('SDG – Technický list '!N93=\"\",\"\",IF($D94=\"\",\"please complete\",IF($D94>'SDG – Technický list '!N93-1,\":-)\",CONCATENATE(\"increase until \",'SDG – Technický list '!N93))))","v":""},{"$f":"IF('SDG – Technický list '!O93=\"\",\"\",IF($D94=\"\",\"please complete\",IF($D94>'SDG – Technický list '!O93-1,\":-)\",CONCATENATE(\"increase until \",'SDG – Technický list '!O93))))","v":""},{"$f":"IF('SDG – Technický list '!P93=\"\",\"\",IF($D94=\"\",\"please complete\",IF($D94>'SDG – Technický list '!P93-1,\":-)\",CONCATENATE(\"increase until \",'SDG – Technický list '!P93))))","v":""},{"$f":"IF('SDG – Technický list '!Q93=\"\",\"\",IF($D94=\"\",\"please complete\",IF($D94>'SDG – Technický list '!Q93-1,\":-)\",CONCATENATE(\"increase until \",'SDG – Technický list '!Q93))))","v":""},{"$f":"IF('SDG – Technický list '!R93=\"\",\"\",IF($D94=\"\",\"please complete\",IF($D94>'SDG – Technický list '!R93-1,\":-)\",CONCATENATE(\"increase until \",'SDG – Technický list '!R93))))","v":""},{"$f":"IF('SDG – Technický list '!S93=\"\",\"\",IF($D94=\"\",\"please complete\",IF($D94>'SDG – Technický list '!S93-1,\":-)\",CONCATENATE(\"increase until \",'SDG – Technický list '!S93))))","v":""},{"$f":"IF('SDG – Technický list '!T93=\"\",\"\",IF($D94=\"\",\"please complete\",IF($D94>'SDG – Technický list '!T93-1,\":-)\",CONCATENATE(\"increase until \",'SDG – Technický list '!T93))))","v":""}]
[null,{"$f":"'SDG – Technický list '!B94","v":"Q6.3"},{"$f":"VLOOKUP(B95,'Kapitola 6'!$C$6:$D$120,2,0)","v":"Jakým způsobem komunikuje organizace zainteresovaných stran na téma udržitelnosti?"},{"$f":"'SDG – Technický list '!C94","v":3},16,{"$f":"IF('SDG – Technický list '!D94=\"\",\"\",IF($D95=\"\",\"prosím dokončete\",IF($D95>'SDG – Technický list '!D94-1,\":-)\",CONCATENATE(\"zvýšení do \",'SDG – Technický list '!D94))))","v":""},{"$f":"IF('SDG – Technický list '!E94=\"\",\"\",IF($D95=\"\",\"prosím dokončete\",IF($D95>'SDG – Technický list '!E94-1,\":-)\",CONCATENATE(\"zvýšení do \",'SDG – Technický list '!E94))))","v":""},{"$f":"IF('SDG – Technický list '!F94=\"\",\"\",IF($D95=\"\",\"prosím dokončete\",IF($D95>'SDG – Technický list '!F94-1,\":-)\",CONCATENATE(\"zvýšení do \",'SDG – Technický list '!F94))))","v":""},{"$f":"IF('SDG – Technický list '!G94=\"\",\"\",IF($D95=\"\",\"prosím dokončete\",IF($D95>'SDG – Technický list '!G94-1,\":-)\",CONCATENATE(\"zvýšení do \",'SDG – Technický list '!G94))))","v":""},{"$f":"IF('SDG – Technický list '!H94=\"\",\"\",IF($D95=\"\",\"prosím dokončete\",IF($D95>'SDG – Technický list '!H94-1,\":-)\",CONCATENATE(\"zvýšení do \",'SDG – Technický list '!H94))))","v":""},{"$f":"IF('SDG – Technický list '!I94=\"\",\"\",IF($D95=\"\",\"prosím dokončete\",IF($D95>'SDG – Technický list '!I94-1,\":-)\",CONCATENATE(\"zvýšení do \",'SDG – Technický list '!I94))))","v":""},{"$f":"IF('SDG – Technický list '!J94=\"\",\"\",IF($D95=\"\",\"prosím dokončete\",IF($D95>'SDG – Technický list '!J94-1,\":-)\",CONCATENATE(\"zvýšení do \",'SDG – Technický list '!J94))))","v":""},{"$f":"IF('SDG – Technický list '!K94=\"\",\"\",IF($D95=\"\",\"prosím dokončete\",IF($D95>'SDG – Technický list '!K94-1,\":-)\",CONCATENATE(\"zvýšení do \",'SDG – Technický list '!K94))))","v":""},{"$f":"IF('SDG – Technický list '!L94=\"\",\"\",IF($D95=\"\",\"prosím dokončete\",IF($D95>'SDG – Technický list '!L94-1,\":-)\",CONCATENATE(\"zvýšení do \",'SDG – Technický list '!L94))))","v":""},{"$f":"IF('SDG – Technický list '!M94=\"\",\"\",IF($D95=\"\",\"prosím dokončete\",IF($D95>'SDG – Technický list '!M94-1,\":-)\",CONCATENATE(\"zvýšení do \",'SDG – Technický list '!M94))))","v":""},{"$f":"IF('SDG – Technický list '!N94=\"\",\"\",IF($D95=\"\",\"prosím dokončete\",IF($D95>'SDG – Technický list '!N94-1,\":-)\",CONCATENATE(\"zvýšení do \",'SDG – Technický list '!N94))))","v":""},{"$f":"IF('SDG – Technický list '!O94=\"\",\"\",IF($D95=\"\",\"prosím dokončete\",IF($D95>'SDG – Technický list '!O94-1,\":-)\",CONCATENATE(\"zvýšení do \",'SDG – Technický list '!O94))))","v":":-)"},{"$f":"IF('SDG – Technický list '!P94=\"\",\"\",IF($D95=\"\",\"prosím dokončete\",IF($D95>'SDG – Technický list '!P94-1,\":-)\",CONCATENATE(\"zvýšení do \",'SDG – Technický list '!P94))))","v":""},{"$f":"IF('SDG – Technický list '!Q94=\"\",\"\",IF($D95=\"\",\"prosím dokončete\",IF($D95>'SDG – Technický list '!Q94-1,\":-)\",CONCATENATE(\"zvýšení do \",'SDG – Technický list '!Q94))))","v":""},{"$f":"IF('SDG – Technický list '!R94=\"\",\"\",IF($D95=\"\",\"prosím dokončete\",IF($D95>'SDG – Technický list '!R94-1,\":-)\",CONCATENATE(\"zvýšení do \",'SDG – Technický list '!R94))))","v":""},{"$f":"IF('SDG – Technický list '!S94=\"\",\"\",IF($D95=\"\",\"prosím dokončete\",IF($D95>'SDG – Technický list '!S94-1,\":-)\",CONCATENATE(\"zvýšení do \",'SDG – Technický list '!S94))))","v":""},{"$f":"IF('SDG – Technický list '!T94=\"\",\"\",IF($D95=\"\",\"prosím dokončete\",IF($D95>'SDG – Technický list '!T94-1,\":-)\",CONCATENATE(\"zvýšení do \",'SDG – Technický list '!T94))))","v":""}]
[null,{"$f":"'SDG – Technický list '!B95","v":"Q6.4"},{"$f":"VLOOKUP(B96,'Kapitola 6'!$C$6:$D$120,2,0)","v":"Má organizace zavedený proces navrhování výrobků s lepšími výsledky udržitelnosti?"},{"$f":"'SDG – Technický list '!C95","v":2},16,{"$f":"IF('SDG – Technický list '!D95=\"\",\"\",IF($D96=\"\",\"prosím dokončete\",IF($D96>'SDG – Technický list '!D95-1,\":-)\",CONCATENATE(\"zvýšení do \",'SDG – Technický list '!D95))))","v":""},{"$f":"IF('SDG – Technický list '!E95=\"\",\"\",IF($D96=\"\",\"prosím dokončete\",IF($D96>'SDG – Technický list '!E95-1,\":-)\",CONCATENATE(\"zvýšení do \",'SDG – Technický list '!E95))))","v":""},{"$f":"IF('SDG – Technický list '!F95=\"\",\"\",IF($D96=\"\",\"prosím dokončete\",IF($D96>'SDG – Technický list '!F95-1,\":-)\",CONCATENATE(\"zvýšení do \",'SDG – Technický list '!F95))))","v":""},{"$f":"IF('SDG – Technický list '!G95=\"\",\"\",IF($D96=\"\",\"prosím dokončete\",IF($D96>'SDG – Technický list '!G95-1,\":-)\",CONCATENATE(\"zvýšení do \",'SDG – Technický list '!G95))))","v":""},{"$f":"IF('SDG – Technický list '!H95=\"\",\"\",IF($D96=\"\",\"prosím dokončete\",IF($D96>'SDG – Technický list '!H95-1,\":-)\",CONCATENATE(\"zvýšení do \",'SDG – Technický list '!H95))))","v":""},{"$f":"IF('SDG – Technický list '!I95=\"\",\"\",IF($D96=\"\",\"prosím dokončete\",IF($D96>'SDG – Technický list '!I95-1,\":-)\",CONCATENATE(\"zvýšení do \",'SDG – Technický list '!I95))))","v":""},{"$f":"IF('SDG – Technický list '!J95=\"\",\"\",IF($D96=\"\",\"prosím dokončete\",IF($D96>'SDG – Technický list '!J95-1,\":-)\",CONCATENATE(\"zvýšení do \",'SDG – Technický list '!J95))))","v":""},{"$f":"IF('SDG – Technický list '!K95=\"\",\"\",IF($D96=\"\",\"prosím dokončete\",IF($D96>'SDG – Technický list '!K95-1,\":-)\",CONCATENATE(\"zvýšení do \",'SDG – Technický list '!K95))))","v":""},{"$f":"IF('SDG – Technický list '!L95=\"\",\"\",IF($D96=\"\",\"prosím dokončete\",IF($D96>'SDG – Technický list '!L95-1,\":-)\",CONCATENATE(\"zvýšení do \",'SDG – Technický list '!L95))))","v":""},{"$f":"IF('SDG – Technický list '!M95=\"\",\"\",IF($D96=\"\",\"prosím dokončete\",IF($D96>'SDG – Technický list '!M95-1,\":-)\",CONCATENATE(\"zvýšení do \",'SDG – Technický list '!M95))))","v":""},{"$f":"IF('SDG – Technický list '!N95=\"\",\"\",IF($D96=\"\",\"prosím dokončete\",IF($D96>'SDG – Technický list '!N95-1,\":-)\",CONCATENATE(\"zvýšení do \",'SDG – Technický list '!N95))))","v":""},{"$f":"IF('SDG – Technický list '!O95=\"\",\"\",IF($D96=\"\",\"prosím dokončete\",IF($D96>'SDG – Technický list '!O95-1,\":-)\",CONCATENATE(\"zvýšení do \",'SDG – Technický list '!O95))))","v":"zvýšení do 3"},{"$f":"IF('SDG – Technický list '!P95=\"\",\"\",IF($D96=\"\",\"prosím dokončete\",IF($D96>'SDG – Technický list '!P95-1,\":-)\",CONCATENATE(\"zvýšení do \",'SDG – Technický list '!P95))))","v":""},{"$f":"IF('SDG – Technický list '!Q95=\"\",\"\",IF($D96=\"\",\"prosím dokončete\",IF($D96>'SDG – Technický list '!Q95-1,\":-)\",CONCATENATE(\"zvýšení do \",'SDG – Technický list '!Q95))))","v":""},{"$f":"IF('SDG – Technický list '!R95=\"\",\"\",IF($D96=\"\",\"prosím dokončete\",IF($D96>'SDG – Technický list '!R95-1,\":-)\",CONCATENATE(\"zvýšení do \",'SDG – Technický list '!R95))))","v":""},{"$f":"IF('SDG – Technický list '!S95=\"\",\"\",IF($D96=\"\",\"prosím dokončete\",IF($D96>'SDG – Technický list '!S95-1,\":-)\",CONCATENATE(\"zvýšení do \",'SDG – Technický list '!S95))))","v":""},{"$f":"IF('SDG – Technický list '!T95=\"\",\"\",IF($D96=\"\",\"prosím dokončete\",IF($D96>'SDG – Technický list '!T95-1,\":-)\",CONCATENATE(\"zvýšení do \",'SDG – Technický list '!T95))))","v":""}]
[null,{"$f":"'SDG – Technický list '!B96","v":"Q6.5"},{"$f":"VLOOKUP(B97,'Kapitola 6'!$C$6:$D$120,2,0)","v":"Jakým způsobem zvyšuje organizace efektivnost zdrojů ve svých výrobních procesech?"},{"$f":"'SDG – Technický list '!C96","v":2},15,{"$f":"IF('SDG – Technický list '!D96=\"\",\"\",IF($D97=\"\",\"prosím dokončete\",IF($D97>'SDG – Technický list '!D96-1,\":-)\",CONCATENATE(\"zvýšení do \",'SDG – Technický list '!D96))))","v":""},{"$f":"IF('SDG – Technický list '!E96=\"\",\"\",IF($D97=\"\",\"prosím dokončete\",IF($D97>'SDG – Technický list '!E96-1,\":-)\",CONCATENATE(\"zvýšení do \",'SDG – Technický list '!E96))))","v":""},{"$f":"IF('SDG – Technický list '!F96=\"\",\"\",IF($D97=\"\",\"prosím dokončete\",IF($D97>'SDG – Technický list '!F96-1,\":-)\",CONCATENATE(\"zvýšení do \",'SDG – Technický list '!F96))))","v":""},{"$f":"IF('SDG – Technický list '!G96=\"\",\"\",IF($D97=\"\",\"prosím dokončete\",IF($D97>'SDG – Technický list '!G96-1,\":-)\",CONCATENATE(\"zvýšení do \",'SDG – Technický list '!G96))))","v":""},{"$f":"IF('SDG – Technický list '!H96=\"\",\"\",IF($D97=\"\",\"prosím dokončete\",IF($D97>'SDG – Technický list '!H96-1,\":-)\",CONCATENATE(\"zvýšení do \",'SDG – Technický list '!H96))))","v":""},{"$f":"IF('SDG – Technický list '!I96=\"\",\"\",IF($D97=\"\",\"prosím dokončete\",IF($D97>'SDG – Technický list '!I96-1,\":-)\",CONCATENATE(\"zvýšení do \",'SDG – Technický list '!I96))))","v":""},{"$f":"IF('SDG – Technický list '!J96=\"\",\"\",IF($D97=\"\",\"prosím dokončete\",IF($D97>'SDG – Technický list '!J96-1,\":-)\",CONCATENATE(\"zvýšení do \",'SDG – Technický list '!J96))))","v":""},{"$f":"IF('SDG – Technický list '!K96=\"\",\"\",IF($D97=\"\",\"prosím dokončete\",IF($D97>'SDG – Technický list '!K96-1,\":-)\",CONCATENATE(\"zvýšení do \",'SDG – Technický list '!K96))))","v":"zvýšení do 3"},{"$f":"IF('SDG – Technický list '!L96=\"\",\"\",IF($D97=\"\",\"prosím dokončete\",IF($D97>'SDG – Technický list '!L96-1,\":-)\",CONCATENATE(\"zvýšení do \",'SDG – Technický list '!L96))))","v":""},{"$f":"IF('SDG – Technický list '!M96=\"\",\"\",IF($D97=\"\",\"prosím dokončete\",IF($D97>'SDG – Technický list '!M96-1,\":-)\",CONCATENATE(\"zvýšení do \",'SDG – Technický list '!M96))))","v":""},{"$f":"IF('SDG – Technický list '!N96=\"\",\"\",IF($D97=\"\",\"prosím dokončete\",IF($D97>'SDG – Technický list '!N96-1,\":-)\",CONCATENATE(\"zvýšení do \",'SDG – Technický list '!N96))))","v":""},{"$f":"IF('SDG – Technický list '!O96=\"\",\"\",IF($D97=\"\",\"prosím dokončete\",IF($D97>'SDG – Technický list '!O96-1,\":-)\",CONCATENATE(\"zvýšení do \",'SDG – Technický list '!O96))))","v":"zvýšení do 3"},{"$f":"IF('SDG – Technický list '!P96=\"\",\"\",IF($D97=\"\",\"prosím dokončete\",IF($D97>'SDG – Technický list '!P96-1,\":-)\",CONCATENATE(\"zvýšení do \",'SDG – Technický list '!P96))))","v":""},{"$f":"IF('SDG – Technický list '!Q96=\"\",\"\",IF($D97=\"\",\"prosím dokončete\",IF($D97>'SDG – Technický list '!Q96-1,\":-)\",CONCATENATE(\"zvýšení do \",'SDG – Technický list '!Q96))))","v":""},{"$f":"IF('SDG – Technický list '!R96=\"\",\"\",IF($D97=\"\",\"prosím dokončete\",IF($D97>'SDG – Technický list '!R96-1,\":-)\",CONCATENATE(\"zvýšení do \",'SDG – Technický list '!R96))))","v":""},{"$f":"IF('SDG – Technický list '!S96=\"\",\"\",IF($D97=\"\",\"prosím dokončete\",IF($D97>'SDG – Technický list '!S96-1,\":-)\",CONCATENATE(\"zvýšení do \",'SDG – Technický list '!S96))))","v":""},{"$f":"IF('SDG – Technický list '!T96=\"\",\"\",IF($D97=\"\",\"prosím dokončete\",IF($D97>'SDG – Technický list '!T96-1,\":-)\",CONCATENATE(\"zvýšení do \",'SDG – Technický list '!T96))))","v":""}]
[null,{"$f":"'SDG – Technický list '!B97","v":"Q6.6"},{"$f":"VLOOKUP(B98,'Kapitola 6'!$C$6:$D$120,2,0)","v":"Jakým způsobem stimuluje organizace oběhové hospodářství prostřednictvím svých produktů?"},{"$f":"'SDG – Technický list '!C97","v":1},15,{"$f":"IF('SDG – Technický list '!D97=\"\",\"\",IF($D98=\"\",\"prosím dokončete\",IF($D98>'SDG – Technický list '!D97-1,\":-)\",CONCATENATE(\"zvýšení do \",'SDG – Technický list '!D97))))","v":""},{"$f":"IF('SDG – Technický list '!E97=\"\",\"\",IF($D98=\"\",\"prosím dokončete\",IF($D98>'SDG – Technický list '!E97-1,\":-)\",CONCATENATE(\"zvýšení do \",'SDG – Technický list '!E97))))","v":""},{"$f":"IF('SDG – Technický list '!F97=\"\",\"\",IF($D98=\"\",\"prosím dokončete\",IF($D98>'SDG – Technický list '!F97-1,\":-)\",CONCATENATE(\"zvýšení do \",'SDG – Technický list '!F97))))","v":""},{"$f":"IF('SDG – Technický list '!G97=\"\",\"\",IF($D98=\"\",\"prosím dokončete\",IF($D98>'SDG – Technický list '!G97-1,\":-)\",CONCATENATE(\"zvýšení do \",'SDG – Technický list '!G97))))","v":""},{"$f":"IF('SDG – Technický list '!H97=\"\",\"\",IF($D98=\"\",\"prosím dokončete\",IF($D98>'SDG – Technický list '!H97-1,\":-)\",CONCATENATE(\"zvýšení do \",'SDG – Technický list '!H97))))","v":""},{"$f":"IF('SDG – Technický list '!I97=\"\",\"\",IF($D98=\"\",\"prosím dokončete\",IF($D98>'SDG – Technický list '!I97-1,\":-)\",CONCATENATE(\"zvýšení do \",'SDG – Technický list '!I97))))","v":""},{"$f":"IF('SDG – Technický list '!J97=\"\",\"\",IF($D98=\"\",\"prosím dokončete\",IF($D98>'SDG – Technický list '!J97-1,\":-)\",CONCATENATE(\"zvýšení do \",'SDG – Technický list '!J97))))","v":""},{"$f":"IF('SDG – Technický list '!K97=\"\",\"\",IF($D98=\"\",\"prosím dokončete\",IF($D98>'SDG – Technický list '!K97-1,\":-)\",CONCATENATE(\"zvýšení do \",'SDG – Technický list '!K97))))","v":"zvýšení do 3"},{"$f":"IF('SDG – Technický list '!L97=\"\",\"\",IF($D98=\"\",\"prosím dokončete\",IF($D98>'SDG – Technický list '!L97-1,\":-)\",CONCATENATE(\"zvýšení do \",'SDG – Technický list '!L97))))","v":""},{"$f":"IF('SDG – Technický list '!M97=\"\",\"\",IF($D98=\"\",\"prosím dokončete\",IF($D98>'SDG – Technický list '!M97-1,\":-)\",CONCATENATE(\"zvýšení do \",'SDG – Technický list '!M97))))","v":""},{"$f":"IF('SDG – Technický list '!N97=\"\",\"\",IF($D98=\"\",\"prosím dokončete\",IF($D98>'SDG – Technický list '!N97-1,\":-)\",CONCATENATE(\"zvýšení do \",'SDG – Technický list '!N97))))","v":""},{"$f":"IF('SDG – Technický list '!O97=\"\",\"\",IF($D98=\"\",\"prosím dokončete\",IF($D98>'SDG – Technický list '!O97-1,\":-)\",CONCATENATE(\"zvýšení do \",'SDG – Technický list '!O97))))","v":"zvýšení do 3"},{"$f":"IF('SDG – Technický list '!P97=\"\",\"\",IF($D98=\"\",\"prosím dokončete\",IF($D98>'SDG – Technický list '!P97-1,\":-)\",CONCATENATE(\"zvýšení do \",'SDG – Technický list '!P97))))","v":""},{"$f":"IF('SDG – Technický list '!Q97=\"\",\"\",IF($D98=\"\",\"prosím dokončete\",IF($D98>'SDG – Technický list '!Q97-1,\":-)\",CONCATENATE(\"zvýšení do \",'SDG – Technický list '!Q97))))","v":""},{"$f":"IF('SDG – Technický list '!R97=\"\",\"\",IF($D98=\"\",\"prosím dokončete\",IF($D98>'SDG – Technický list '!R97-1,\":-)\",CONCATENATE(\"zvýšení do \",'SDG – Technický list '!R97))))","v":""},{"$f":"IF('SDG – Technický list '!S97=\"\",\"\",IF($D98=\"\",\"prosím dokončete\",IF($D98>'SDG – Technický list '!S97-1,\":-)\",CONCATENATE(\"zvýšení do \",'SDG – Technický list '!S97))))","v":""},{"$f":"IF('SDG – Technický list '!T97=\"\",\"\",IF($D98=\"\",\"prosím dokončete\",IF($D98>'SDG – Technický list '!T97-1,\":-)\",CONCATENATE(\"zvýšení do \",'SDG – Technický list '!T97))))","v":""}]
[null,{"$f":"'SDG – Technický list '!B98","v":"Q6.7"},{"$f":"VLOOKUP(B99,'Kapitola 6'!$C$6:$D$120,2,0)","v":"Jakým způsobem podporuje organizace inovace při vývoji produktů a řešení, které odpovídají výzvám udržitelnosti?"},{"$f":"'SDG – Technický list '!C98","v":3},15,{"$f":"IF('SDG – Technický list '!D98=\"\",\"\",IF($D99=\"\",\"prosím dokončete\",IF($D99>'SDG – Technický list '!D98-1,\":-)\",CONCATENATE(\"zvýšení do \",'SDG – Technický list '!D98))))","v":""},{"$f":"IF('SDG – Technický list '!E98=\"\",\"\",IF($D99=\"\",\"prosím dokončete\",IF($D99>'SDG – Technický list '!E98-1,\":-)\",CONCATENATE(\"zvýšení do \",'SDG – Technický list '!E98))))","v":""},{"$f":"IF('SDG – Technický list '!F98=\"\",\"\",IF($D99=\"\",\"prosím dokončete\",IF($D99>'SDG – Technický list '!F98-1,\":-)\",CONCATENATE(\"zvýšení do \",'SDG – Technický list '!F98))))","v":""},{"$f":"IF('SDG – Technický list '!G98=\"\",\"\",IF($D99=\"\",\"prosím dokončete\",IF($D99>'SDG – Technický list '!G98-1,\":-)\",CONCATENATE(\"zvýšení do \",'SDG – Technický list '!G98))))","v":""},{"$f":"IF('SDG – Technický list '!H98=\"\",\"\",IF($D99=\"\",\"prosím dokončete\",IF($D99>'SDG – Technický list '!H98-1,\":-)\",CONCATENATE(\"zvýšení do \",'SDG – Technický list '!H98))))","v":""},{"$f":"IF('SDG – Technický list '!I98=\"\",\"\",IF($D99=\"\",\"prosím dokončete\",IF($D99>'SDG – Technický list '!I98-1,\":-)\",CONCATENATE(\"zvýšení do \",'SDG – Technický list '!I98))))","v":""},{"$f":"IF('SDG – Technický list '!J98=\"\",\"\",IF($D99=\"\",\"prosím dokončete\",IF($D99>'SDG – Technický list '!J98-1,\":-)\",CONCATENATE(\"zvýšení do \",'SDG – Technický list '!J98))))","v":""},{"$f":"IF('SDG – Technický list '!K98=\"\",\"\",IF($D99=\"\",\"prosím dokončete\",IF($D99>'SDG – Technický list '!K98-1,\":-)\",CONCATENATE(\"zvýšení do \",'SDG – Technický list '!K98))))","v":":-)"},{"$f":"IF('SDG – Technický list '!L98=\"\",\"\",IF($D99=\"\",\"prosím dokončete\",IF($D99>'SDG – Technický list '!L98-1,\":-)\",CONCATENATE(\"zvýšení do \",'SDG – Technický list '!L98))))","v":""},{"$f":"IF('SDG – Technický list '!M98=\"\",\"\",IF($D99=\"\",\"prosím dokončete\",IF($D99>'SDG – Technický list '!M98-1,\":-)\",CONCATENATE(\"zvýšení do \",'SDG – Technický list '!M98))))","v":""},{"$f":"IF('SDG – Technický list '!N98=\"\",\"\",IF($D99=\"\",\"prosím dokončete\",IF($D99>'SDG – Technický list '!N98-1,\":-)\",CONCATENATE(\"zvýšení do \",'SDG – Technický list '!N98))))","v":""},{"$f":"IF('SDG – Technický list '!O98=\"\",\"\",IF($D99=\"\",\"prosím dokončete\",IF($D99>'SDG – Technický list '!O98-1,\":-)\",CONCATENATE(\"zvýšení do \",'SDG – Technický list '!O98))))","v":":-)"},{"$f":"IF('SDG – Technický list '!P98=\"\",\"\",IF($D99=\"\",\"prosím dokončete\",IF($D99>'SDG – Technický list '!P98-1,\":-)\",CONCATENATE(\"zvýšení do \",'SDG – Technický list '!P98))))","v":""},{"$f":"IF('SDG – Technický list '!Q98=\"\",\"\",IF($D99=\"\",\"prosím dokončete\",IF($D99>'SDG – Technický list '!Q98-1,\":-)\",CONCATENATE(\"zvýšení do \",'SDG – Technický list '!Q98))))","v":""},{"$f":"IF('SDG – Technický list '!R98=\"\",\"\",IF($D99=\"\",\"prosím dokončete\",IF($D99>'SDG – Technický list '!R98-1,\":-)\",CONCATENATE(\"zvýšení do \",'SDG – Technický list '!R98))))","v":""},{"$f":"IF('SDG – Technický list '!S98=\"\",\"\",IF($D99=\"\",\"prosím dokončete\",IF($D99>'SDG – Technický list '!S98-1,\":-)\",CONCATENATE(\"zvýšení do \",'SDG – Technický list '!S98))))","v":""},{"$f":"IF('SDG – Technický list '!T98=\"\",\"\",IF($D99=\"\",\"prosím dokončete\",IF($D99>'SDG – Technický list '!T98-1,\":-)\",CONCATENATE(\"zvýšení do \",'SDG – Technický list '!T98))))","v":""}]
[null,{"$f":"'SDG – Technický list '!B99","v":"Q6.8"},{"$f":"VLOOKUP(B100,'Kapitola 6'!$C$6:$D$120,2,0)","v":"Jakým způsobem stimuluje organizace inovaci a spolupráci?"},{"$f":"'SDG – Technický list '!C99","v":3},17,{"$f":"IF('SDG – Technický list '!D99=\"\",\"\",IF($D100=\"\",\"please complete\",IF($D100>'SDG – Technický list '!D99-1,\":-)\",CONCATENATE(\"increase until \",'SDG – Technický list '!D99))))","v":""},{"$f":"IF('SDG – Technický list '!E99=\"\",\"\",IF($D100=\"\",\"please complete\",IF($D100>'SDG – Technický list '!E99-1,\":-)\",CONCATENATE(\"increase until \",'SDG – Technický list '!E99))))","v":""},{"$f":"IF('SDG – Technický list '!F99=\"\",\"\",IF($D100=\"\",\"please complete\",IF($D100>'SDG – Technický list '!F99-1,\":-)\",CONCATENATE(\"increase until \",'SDG – Technický list '!F99))))","v":""},{"$f":"IF('SDG – Technický list '!G99=\"\",\"\",IF($D100=\"\",\"please complete\",IF($D100>'SDG – Technický list '!G99-1,\":-)\",CONCATENATE(\"increase until \",'SDG – Technický list '!G99))))","v":""},{"$f":"IF('SDG – Technický list '!H99=\"\",\"\",IF($D100=\"\",\"please complete\",IF($D100>'SDG – Technický list '!H99-1,\":-)\",CONCATENATE(\"increase until \",'SDG – Technický list '!H99))))","v":""},{"$f":"IF('SDG – Technický list '!I99=\"\",\"\",IF($D100=\"\",\"please complete\",IF($D100>'SDG – Technický list '!I99-1,\":-)\",CONCATENATE(\"increase until \",'SDG – Technický list '!I99))))","v":""},{"$f":"IF('SDG – Technický list '!J99=\"\",\"\",IF($D100=\"\",\"please complete\",IF($D100>'SDG – Technický list '!J99-1,\":-)\",CONCATENATE(\"increase until \",'SDG – Technický list '!J99))))","v":""},{"$f":"IF('SDG – Technický list '!K99=\"\",\"\",IF($D100=\"\",\"please complete\",IF($D100>'SDG – Technický list '!K99-1,\":-)\",CONCATENATE(\"increase until \",'SDG – Technický list '!K99))))","v":""},{"$f":"IF('SDG – Technický list '!L99=\"\",\"\",IF($D100=\"\",\"please complete\",IF($D100>'SDG – Technický list '!L99-1,\":-)\",CONCATENATE(\"increase until \",'SDG – Technický list '!L99))))","v":""},{"$f":"IF('SDG – Technický list '!M99=\"\",\"\",IF($D100=\"\",\"please complete\",IF($D100>'SDG – Technický list '!M99-1,\":-)\",CONCATENATE(\"increase until \",'SDG – Technický list '!M99))))","v":""},{"$f":"IF('SDG – Technický list '!N99=\"\",\"\",IF($D100=\"\",\"please complete\",IF($D100>'SDG – Technický list '!N99-1,\":-)\",CONCATENATE(\"increase until \",'SDG – Technický list '!N99))))","v":""},{"$f":"IF('SDG – Technický list '!O99=\"\",\"\",IF($D100=\"\",\"please complete\",IF($D100>'SDG – Technický list '!O99-1,\":-)\",CONCATENATE(\"increase until \",'SDG – Technický list '!O99))))","v":""},{"$f":"IF('SDG – Technický list '!P99=\"\",\"\",IF($D100=\"\",\"please complete\",IF($D100>'SDG – Technický list '!P99-1,\":-)\",CONCATENATE(\"increase until \",'SDG – Technický list '!P99))))","v":""},{"$f":"IF('SDG – Technický list '!Q99=\"\",\"\",IF($D100=\"\",\"please complete\",IF($D100>'SDG – Technický list '!Q99-1,\":-)\",CONCATENATE(\"increase until \",'SDG – Technický list '!Q99))))","v":""},{"$f":"IF('SDG – Technický list '!R99=\"\",\"\",IF($D100=\"\",\"please complete\",IF($D100>'SDG – Technický list '!R99-1,\":-)\",CONCATENATE(\"increase until \",'SDG – Technický list '!R99))))","v":""},{"$f":"IF('SDG – Technický list '!S99=\"\",\"\",IF($D100=\"\",\"please complete\",IF($D100>'SDG – Technický list '!S99-1,\":-)\",CONCATENATE(\"increase until \",'SDG – Technický list '!S99))))","v":""},{"$f":"IF('SDG – Technický list '!T99=\"\",\"\",IF($D100=\"\",\"please complete\",IF($D100>'SDG – Technický list '!T99-1,\":-)\",CONCATENATE(\"increase until \",'SDG – Technický list '!T99))))","v":""}]
[null,{"$f":"'SDG – Technický list '!B100","v":"Q6.9"},{"$f":"VLOOKUP(B101,'Kapitola 6'!$C$6:$D$120,2,0)","v":"Jakým způsobem podporuje organizace udržitelné způsoby spotřeby?"},{"$f":"'SDG – Technický list '!C100","v":1},16,{"$f":"IF('SDG – Technický list '!D100=\"\",\"\",IF($D101=\"\",\"prosím dokončete\",IF($D101>'SDG – Technický list '!D100-1,\":-)\",CONCATENATE(\"zvýšení do \",'SDG – Technický list '!D100))))","v":""},{"$f":"IF('SDG – Technický list '!E100=\"\",\"\",IF($D101=\"\",\"prosím dokončete\",IF($D101>'SDG – Technický list '!E100-1,\":-)\",CONCATENATE(\"zvýšení do \",'SDG – Technický list '!E100))))","v":""},{"$f":"IF('SDG – Technický list '!F100=\"\",\"\",IF($D101=\"\",\"prosím dokončete\",IF($D101>'SDG – Technický list '!F100-1,\":-)\",CONCATENATE(\"zvýšení do \",'SDG – Technický list '!F100))))","v":""},{"$f":"IF('SDG – Technický list '!G100=\"\",\"\",IF($D101=\"\",\"prosím dokončete\",IF($D101>'SDG – Technický list '!G100-1,\":-)\",CONCATENATE(\"zvýšení do \",'SDG – Technický list '!G100))))","v":""},{"$f":"IF('SDG – Technický list '!H100=\"\",\"\",IF($D101=\"\",\"prosím dokončete\",IF($D101>'SDG – Technický list '!H100-1,\":-)\",CONCATENATE(\"zvýšení do \",'SDG – Technický list '!H100))))","v":""},{"$f":"IF('SDG – Technický list '!I100=\"\",\"\",IF($D101=\"\",\"prosím dokončete\",IF($D101>'SDG – Technický list '!I100-1,\":-)\",CONCATENATE(\"zvýšení do \",'SDG – Technický list '!I100))))","v":""},{"$f":"IF('SDG – Technický list '!J100=\"\",\"\",IF($D101=\"\",\"prosím dokončete\",IF($D101>'SDG – Technický list '!J100-1,\":-)\",CONCATENATE(\"zvýšení do \",'SDG – Technický list '!J100))))","v":""},{"$f":"IF('SDG – Technický list '!K100=\"\",\"\",IF($D101=\"\",\"prosím dokončete\",IF($D101>'SDG – Technický list '!K100-1,\":-)\",CONCATENATE(\"zvýšení do \",'SDG – Technický list '!K100))))","v":"zvýšení do 3"},{"$f":"IF('SDG – Technický list '!L100=\"\",\"\",IF($D101=\"\",\"prosím dokončete\",IF($D101>'SDG – Technický list '!L100-1,\":-)\",CONCATENATE(\"zvýšení do \",'SDG – Technický list '!L100))))","v":""},{"$f":"IF('SDG – Technický list '!M100=\"\",\"\",IF($D101=\"\",\"prosím dokončete\",IF($D101>'SDG – Technický list '!M100-1,\":-)\",CONCATENATE(\"zvýšení do \",'SDG – Technický list '!M100))))","v":""},{"$f":"IF('SDG – Technický list '!N100=\"\",\"\",IF($D101=\"\",\"prosím dokončete\",IF($D101>'SDG – Technický list '!N100-1,\":-)\",CONCATENATE(\"zvýšení do \",'SDG – Technický list '!N100))))","v":""},{"$f":"IF('SDG – Technický list '!O100=\"\",\"\",IF($D101=\"\",\"prosím dokončete\",IF($D101>'SDG – Technický list '!O100-1,\":-)\",CONCATENATE(\"zvýšení do \",'SDG – Technický list '!O100))))","v":""},{"$f":"IF('SDG – Technický list '!P100=\"\",\"\",IF($D101=\"\",\"prosím dokončete\",IF($D101>'SDG – Technický list '!P100-1,\":-)\",CONCATENATE(\"zvýšení do \",'SDG – Technický list '!P100))))","v":""},{"$f":"IF('SDG – Technický list '!Q100=\"\",\"\",IF($D101=\"\",\"prosím dokončete\",IF($D101>'SDG – Technický list '!Q100-1,\":-)\",CONCATENATE(\"zvýšení do \",'SDG – Technický list '!Q100))))","v":""},{"$f":"IF('SDG – Technický list '!R100=\"\",\"\",IF($D101=\"\",\"prosím dokončete\",IF($D101>'SDG – Technický list '!R100-1,\":-)\",CONCATENATE(\"zvýšení do \",'SDG – Technický list '!R100))))","v":""},{"$f":"IF('SDG – Technický list '!S100=\"\",\"\",IF($D101=\"\",\"prosím dokončete\",IF($D101>'SDG – Technický list '!S100-1,\":-)\",CONCATENATE(\"zvýšení do \",'SDG – Technický list '!S100))))","v":""},{"$f":"IF('SDG – Technický list '!T100=\"\",\"\",IF($D101=\"\",\"prosím dokončete\",IF($D101>'SDG – Technický list '!T100-1,\":-)\",CONCATENATE(\"zvýšení do \",'SDG – Technický list '!T100))))","v":""}]
[null,{"$f":"'SDG – Technický list '!B101","v":"Q6.10"},{"$f":"VLOOKUP(B102,'Kapitola 6'!$C$6:$D$120,2,0)","v":"Jakým způsobem organizace kontroluje a optimalizuje spotřebu vody?"},{"$f":"'SDG – Technický list '!C101","v":2},13,{"$f":"IF('SDG – Technický list '!D101=\"\",\"\",IF($D102=\"\",\"prosím dokončete\",IF($D102>'SDG – Technický list '!D101-1,\":-)\",CONCATENATE(\"zvýšení do \",'SDG – Technický list '!D101))))","v":""},{"$f":"IF('SDG – Technický list '!E101=\"\",\"\",IF($D102=\"\",\"prosím dokončete\",IF($D102>'SDG – Technický list '!E101-1,\":-)\",CONCATENATE(\"zvýšení do \",'SDG – Technický list '!E101))))","v":""},{"$f":"IF('SDG – Technický list '!F101=\"\",\"\",IF($D102=\"\",\"prosím dokončete\",IF($D102>'SDG – Technický list '!F101-1,\":-)\",CONCATENATE(\"zvýšení do \",'SDG – Technický list '!F101))))","v":""},{"$f":"IF('SDG – Technický list '!G101=\"\",\"\",IF($D102=\"\",\"prosím dokončete\",IF($D102>'SDG – Technický list '!G101-1,\":-)\",CONCATENATE(\"zvýšení do \",'SDG – Technický list '!G101))))","v":""},{"$f":"IF('SDG – Technický list '!H101=\"\",\"\",IF($D102=\"\",\"prosím dokončete\",IF($D102>'SDG – Technický list '!H101-1,\":-)\",CONCATENATE(\"zvýšení do \",'SDG – Technický list '!H101))))","v":""},{"$f":"IF('SDG – Technický list '!I101=\"\",\"\",IF($D102=\"\",\"prosím dokončete\",IF($D102>'SDG – Technický list '!I101-1,\":-)\",CONCATENATE(\"zvýšení do \",'SDG – Technický list '!I101))))","v":"zvýšení do 3"},{"$f":"IF('SDG – Technický list '!J101=\"\",\"\",IF($D102=\"\",\"prosím dokončete\",IF($D102>'SDG – Technický list '!J101-1,\":-)\",CONCATENATE(\"zvýšení do \",'SDG – Technický list '!J101))))","v":""},{"$f":"IF('SDG – Technický list '!K101=\"\",\"\",IF($D102=\"\",\"prosím dokončete\",IF($D102>'SDG – Technický list '!K101-1,\":-)\",CONCATENATE(\"zvýšení do \",'SDG – Technický list '!K101))))","v":"zvýšení do 3"},{"$f":"IF('SDG – Technický list '!L101=\"\",\"\",IF($D102=\"\",\"prosím dokončete\",IF($D102>'SDG – Technický list '!L101-1,\":-)\",CONCATENATE(\"zvýšení do \",'SDG – Technický list '!L101))))","v":"zvýšení do 3"},{"$f":"IF('SDG – Technický list '!M101=\"\",\"\",IF($D102=\"\",\"prosím dokončete\",IF($D102>'SDG – Technický list '!M101-1,\":-)\",CONCATENATE(\"zvýšení do \",'SDG – Technický list '!M101))))","v":""},{"$f":"IF('SDG – Technický list '!N101=\"\",\"\",IF($D102=\"\",\"prosím dokončete\",IF($D102>'SDG – Technický list '!N101-1,\":-)\",CONCATENATE(\"zvýšení do \",'SDG – Technický list '!N101))))","v":""},{"$f":"IF('SDG – Technický list '!O101=\"\",\"\",IF($D102=\"\",\"prosím dokončete\",IF($D102>'SDG – Technický list '!O101-1,\":-)\",CONCATENATE(\"zvýšení do \",'SDG – Technický list '!O101))))","v":"zvýšení do 3"},{"$f":"IF('SDG – Technický list '!P101=\"\",\"\",IF($D102=\"\",\"prosím dokončete\",IF($D102>'SDG – Technický list '!P101-1,\":-)\",CONCATENATE(\"zvýšení do \",'SDG – Technický list '!P101))))","v":""},{"$f":"IF('SDG – Technický list '!Q101=\"\",\"\",IF($D102=\"\",\"prosím dokončete\",IF($D102>'SDG – Technický list '!Q101-1,\":-)\",CONCATENATE(\"zvýšení do \",'SDG – Technický list '!Q101))))","v":""},{"$f":"IF('SDG – Technický list '!R101=\"\",\"\",IF($D102=\"\",\"prosím dokončete\",IF($D102>'SDG – Technický list '!R101-1,\":-)\",CONCATENATE(\"zvýšení do \",'SDG – Technický list '!R101))))","v":""},{"$f":"IF('SDG – Technický list '!S101=\"\",\"\",IF($D102=\"\",\"prosím dokončete\",IF($D102>'SDG – Technický list '!S101-1,\":-)\",CONCATENATE(\"zvýšení do \",'SDG – Technický list '!S101))))","v":""},{"$f":"IF('SDG – Technický list '!T101=\"\",\"\",IF($D102=\"\",\"prosím dokončete\",IF($D102>'SDG – Technický list '!T101-1,\":-)\",CONCATENATE(\"zvýšení do \",'SDG – Technický list '!T101))))","v":""}]
[null,{"$f":"'SDG – Technický list '!B102","v":"Q6.11"},{"$f":"VLOOKUP(B103,'Kapitola 6'!$C$6:$D$120,2,0)","v":"Jakým způsobem se řídí vliv organizace na biodiverzitu a ekosystém?"},{"$f":"'SDG – Technický list '!C102","v":3},12,{"$f":"IF('SDG – Technický list '!D102=\"\",\"\",IF($D103=\"\",\"prosím dokončete\",IF($D103>'SDG – Technický list '!D102-1,\":-)\",CONCATENATE(\"zvýšení do \",'SDG – Technický list '!D102))))","v":""},{"$f":"IF('SDG – Technický list '!E102=\"\",\"\",IF($D103=\"\",\"prosím dokončete\",IF($D103>'SDG – Technický list '!E102-1,\":-)\",CONCATENATE(\"zvýšení do \",'SDG – Technický list '!E102))))","v":""},{"$f":"IF('SDG – Technický list '!F102=\"\",\"\",IF($D103=\"\",\"prosím dokončete\",IF($D103>'SDG – Technický list '!F102-1,\":-)\",CONCATENATE(\"zvýšení do \",'SDG – Technický list '!F102))))","v":""},{"$f":"IF('SDG – Technický list '!G102=\"\",\"\",IF($D103=\"\",\"prosím dokončete\",IF($D103>'SDG – Technický list '!G102-1,\":-)\",CONCATENATE(\"zvýšení do \",'SDG – Technický list '!G102))))","v":""},{"$f":"IF('SDG – Technický list '!H102=\"\",\"\",IF($D103=\"\",\"prosím dokončete\",IF($D103>'SDG – Technický list '!H102-1,\":-)\",CONCATENATE(\"zvýšení do \",'SDG – Technický list '!H102))))","v":""},{"$f":"IF('SDG – Technický list '!I102=\"\",\"\",IF($D103=\"\",\"prosím dokončete\",IF($D103>'SDG – Technický list '!I102-1,\":-)\",CONCATENATE(\"zvýšení do \",'SDG – Technický list '!I102))))","v":":-)"},{"$f":"IF('SDG – Technický list '!J102=\"\",\"\",IF($D103=\"\",\"prosím dokončete\",IF($D103>'SDG – Technický list '!J102-1,\":-)\",CONCATENATE(\"zvýšení do \",'SDG – Technický list '!J102))))","v":""},{"$f":"IF('SDG – Technický list '!K102=\"\",\"\",IF($D103=\"\",\"prosím dokončete\",IF($D103>'SDG – Technický list '!K102-1,\":-)\",CONCATENATE(\"zvýšení do \",'SDG – Technický list '!K102))))","v":":-)"},{"$f":"IF('SDG – Technický list '!L102=\"\",\"\",IF($D103=\"\",\"prosím dokončete\",IF($D103>'SDG – Technický list '!L102-1,\":-)\",CONCATENATE(\"zvýšení do \",'SDG – Technický list '!L102))))","v":":-)"},{"$f":"IF('SDG – Technický list '!M102=\"\",\"\",IF($D103=\"\",\"prosím dokončete\",IF($D103>'SDG – Technický list '!M102-1,\":-)\",CONCATENATE(\"zvýšení do \",'SDG – Technický list '!M102))))","v":""},{"$f":"IF('SDG – Technický list '!N102=\"\",\"\",IF($D103=\"\",\"prosím dokončete\",IF($D103>'SDG – Technický list '!N102-1,\":-)\",CONCATENATE(\"zvýšení do \",'SDG – Technický list '!N102))))","v":""},{"$f":"IF('SDG – Technický list '!O102=\"\",\"\",IF($D103=\"\",\"prosím dokončete\",IF($D103>'SDG – Technický list '!O102-1,\":-)\",CONCATENATE(\"zvýšení do \",'SDG – Technický list '!O102))))","v":":-)"},{"$f":"IF('SDG – Technický list '!P102=\"\",\"\",IF($D103=\"\",\"prosím dokončete\",IF($D103>'SDG – Technický list '!P102-1,\":-)\",CONCATENATE(\"zvýšení do \",'SDG – Technický list '!P102))))","v":""},{"$f":"IF('SDG – Technický list '!Q102=\"\",\"\",IF($D103=\"\",\"prosím dokončete\",IF($D103>'SDG – Technický list '!Q102-1,\":-)\",CONCATENATE(\"zvýšení do \",'SDG – Technický list '!Q102))))","v":""},{"$f":"IF('SDG – Technický list '!R102=\"\",\"\",IF($D103=\"\",\"prosím dokončete\",IF($D103>'SDG – Technický list '!R102-1,\":-)\",CONCATENATE(\"zvýšení do \",'SDG – Technický list '!R102))))","v":":-)"},{"$f":"IF('SDG – Technický list '!S102=\"\",\"\",IF($D103=\"\",\"prosím dokončete\",IF($D103>'SDG – Technický list '!S102-1,\":-)\",CONCATENATE(\"zvýšení do \",'SDG – Technický list '!S102))))","v":""},{"$f":"IF('SDG – Technický list '!T102=\"\",\"\",IF($D103=\"\",\"prosím dokončete\",IF($D103>'SDG – Technický list '!T102-1,\":-)\",CONCATENATE(\"zvýšení do \",'SDG – Technický list '!T102))))","v":""}]
[null,{"$f":"'SDG – Technický list '!B103","v":"Q6.12"},{"$f":"VLOOKUP(B104,'Kapitola 6'!$C$6:$D$120,2,0)","v":"Jakým způsobem posuzuje organizace svou závislost na přírodních zdrojích (ekosystémech)?"},{"$f":"'SDG – Technický list '!C103","v":1},12,{"$f":"IF('SDG – Technický list '!D103=\"\",\"\",IF($D104=\"\",\"prosím dokončete\",IF($D104>'SDG – Technický list '!D103-1,\":-)\",CONCATENATE(\"zvýšení do \",'SDG – Technický list '!D103))))","v":""},{"$f":"IF('SDG – Technický list '!E103=\"\",\"\",IF($D104=\"\",\"prosím dokončete\",IF($D104>'SDG – Technický list '!E103-1,\":-)\",CONCATENATE(\"zvýšení do \",'SDG – Technický list '!E103))))","v":""},{"$f":"IF('SDG – Technický list '!F103=\"\",\"\",IF($D104=\"\",\"prosím dokončete\",IF($D104>'SDG – Technický list '!F103-1,\":-)\",CONCATENATE(\"zvýšení do \",'SDG – Technický list '!F103))))","v":""},{"$f":"IF('SDG – Technický list '!G103=\"\",\"\",IF($D104=\"\",\"prosím dokončete\",IF($D104>'SDG – Technický list '!G103-1,\":-)\",CONCATENATE(\"zvýšení do \",'SDG – Technický list '!G103))))","v":""},{"$f":"IF('SDG – Technický list '!H103=\"\",\"\",IF($D104=\"\",\"prosím dokončete\",IF($D104>'SDG – Technický list '!H103-1,\":-)\",CONCATENATE(\"zvýšení do \",'SDG – Technický list '!H103))))","v":""},{"$f":"IF('SDG – Technický list '!I103=\"\",\"\",IF($D104=\"\",\"prosím dokončete\",IF($D104>'SDG – Technický list '!I103-1,\":-)\",CONCATENATE(\"zvýšení do \",'SDG – Technický list '!I103))))","v":"zvýšení do 3"},{"$f":"IF('SDG – Technický list '!J103=\"\",\"\",IF($D104=\"\",\"prosím dokončete\",IF($D104>'SDG – Technický list '!J103-1,\":-)\",CONCATENATE(\"zvýšení do \",'SDG – Technický list '!J103))))","v":""},{"$f":"IF('SDG – Technický list '!K103=\"\",\"\",IF($D104=\"\",\"prosím dokončete\",IF($D104>'SDG – Technický list '!K103-1,\":-)\",CONCATENATE(\"zvýšení do \",'SDG – Technický list '!K103))))","v":"zvýšení do 3"},{"$f":"IF('SDG – Technický list '!L103=\"\",\"\",IF($D104=\"\",\"prosím dokončete\",IF($D104>'SDG – Technický list '!L103-1,\":-)\",CONCATENATE(\"zvýšení do \",'SDG – Technický list '!L103))))","v":"zvýšení do 3"},{"$f":"IF('SDG – Technický list '!M103=\"\",\"\",IF($D104=\"\",\"prosím dokončete\",IF($D104>'SDG – Technický list '!M103-1,\":-)\",CONCATENATE(\"zvýšení do \",'SDG – Technický list '!M103))))","v":""},{"$f":"IF('SDG – Technický list '!N103=\"\",\"\",IF($D104=\"\",\"prosím dokončete\",IF($D104>'SDG – Technický list '!N103-1,\":-)\",CONCATENATE(\"zvýšení do \",'SDG – Technický list '!N103))))","v":""},{"$f":"IF('SDG – Technický list '!O103=\"\",\"\",IF($D104=\"\",\"prosím dokončete\",IF($D104>'SDG – Technický list '!O103-1,\":-)\",CONCATENATE(\"zvýšení do \",'SDG – Technický list '!O103))))","v":"zvýšení do 3"},{"$f":"IF('SDG – Technický list '!P103=\"\",\"\",IF($D104=\"\",\"prosím dokončete\",IF($D104>'SDG – Technický list '!P103-1,\":-)\",CONCATENATE(\"zvýšení do \",'SDG – Technický list '!P103))))","v":""},{"$f":"IF('SDG – Technický list '!Q103=\"\",\"\",IF($D104=\"\",\"prosím dokončete\",IF($D104>'SDG – Technický list '!Q103-1,\":-)\",CONCATENATE(\"zvýšení do \",'SDG – Technický list '!Q103))))","v":""},{"$f":"IF('SDG – Technický list '!R103=\"\",\"\",IF($D104=\"\",\"prosím dokončete\",IF($D104>'SDG – Technický list '!R103-1,\":-)\",CONCATENATE(\"zvýšení do \",'SDG – Technický list '!R103))))","v":"zvýšení do 3"},{"$f":"IF('SDG – Technický list '!S103=\"\",\"\",IF($D104=\"\",\"prosím dokončete\",IF($D104>'SDG – Technický list '!S103-1,\":-)\",CONCATENATE(\"zvýšení do \",'SDG – Technický list '!S103))))","v":""},{"$f":"IF('SDG – Technický list '!T103=\"\",\"\",IF($D104=\"\",\"prosím dokončete\",IF($D104>'SDG – Technický list '!T103-1,\":-)\",CONCATENATE(\"zvýšení do \",'SDG – Technický list '!T103))))","v":""}]
[null,{"$f":"'SDG – Technický list '!B104","v":"Q6.13"},{"$f":"VLOOKUP(B105,'Kapitola 6'!$C$6:$D$120,2,0)","v":"Jakým způsobem řídí organizace svou spotřebu energie?"},{"$f":"'SDG – Technický list '!C104","v":2},13,{"$f":"IF('SDG – Technický list '!D104=\"\",\"\",IF($D105=\"\",\"prosím dokončete\",IF($D105>'SDG – Technický list '!D104-1,\":-)\",CONCATENATE(\"zvýšení do \",'SDG – Technický list '!D104))))","v":""},{"$f":"IF('SDG – Technický list '!E104=\"\",\"\",IF($D105=\"\",\"prosím dokončete\",IF($D105>'SDG – Technický list '!E104-1,\":-)\",CONCATENATE(\"zvýšení do \",'SDG – Technický list '!E104))))","v":""},{"$f":"IF('SDG – Technický list '!F104=\"\",\"\",IF($D105=\"\",\"prosím dokončete\",IF($D105>'SDG – Technický list '!F104-1,\":-)\",CONCATENATE(\"zvýšení do \",'SDG – Technický list '!F104))))","v":""},{"$f":"IF('SDG – Technický list '!G104=\"\",\"\",IF($D105=\"\",\"prosím dokončete\",IF($D105>'SDG – Technický list '!G104-1,\":-)\",CONCATENATE(\"zvýšení do \",'SDG – Technický list '!G104))))","v":""},{"$f":"IF('SDG – Technický list '!H104=\"\",\"\",IF($D105=\"\",\"prosím dokončete\",IF($D105>'SDG – Technický list '!H104-1,\":-)\",CONCATENATE(\"zvýšení do \",'SDG – Technický list '!H104))))","v":""},{"$f":"IF('SDG – Technický list '!I104=\"\",\"\",IF($D105=\"\",\"prosím dokončete\",IF($D105>'SDG – Technický list '!I104-1,\":-)\",CONCATENATE(\"zvýšení do \",'SDG – Technický list '!I104))))","v":""},{"$f":"IF('SDG – Technický list '!J104=\"\",\"\",IF($D105=\"\",\"prosím dokončete\",IF($D105>'SDG – Technický list '!J104-1,\":-)\",CONCATENATE(\"zvýšení do \",'SDG – Technický list '!J104))))","v":"zvýšení do 3"},{"$f":"IF('SDG – Technický list '!K104=\"\",\"\",IF($D105=\"\",\"prosím dokončete\",IF($D105>'SDG – Technický list '!K104-1,\":-)\",CONCATENATE(\"zvýšení do \",'SDG – Technický list '!K104))))","v":""},{"$f":"IF('SDG – Technický list '!L104=\"\",\"\",IF($D105=\"\",\"prosím dokončete\",IF($D105>'SDG – Technický list '!L104-1,\":-)\",CONCATENATE(\"zvýšení do \",'SDG – Technický list '!L104))))","v":"zvýšení do 3"},{"$f":"IF('SDG – Technický list '!M104=\"\",\"\",IF($D105=\"\",\"prosím dokončete\",IF($D105>'SDG – Technický list '!M104-1,\":-)\",CONCATENATE(\"zvýšení do \",'SDG – Technický list '!M104))))","v":""},{"$f":"IF('SDG – Technický list '!N104=\"\",\"\",IF($D105=\"\",\"prosím dokončete\",IF($D105>'SDG – Technický list '!N104-1,\":-)\",CONCATENATE(\"zvýšení do \",'SDG – Technický list '!N104))))","v":""},{"$f":"IF('SDG – Technický list '!O104=\"\",\"\",IF($D105=\"\",\"prosím dokončete\",IF($D105>'SDG – Technický list '!O104-1,\":-)\",CONCATENATE(\"zvýšení do \",'SDG – Technický list '!O104))))","v":"zvýšení do 3"},{"$f":"IF('SDG – Technický list '!P104=\"\",\"\",IF($D105=\"\",\"prosím dokončete\",IF($D105>'SDG – Technický list '!P104-1,\":-)\",CONCATENATE(\"zvýšení do \",'SDG – Technický list '!P104))))","v":"zvýšení do 3"},{"$f":"IF('SDG – Technický list '!Q104=\"\",\"\",IF($D105=\"\",\"prosím dokončete\",IF($D105>'SDG – Technický list '!Q104-1,\":-)\",CONCATENATE(\"zvýšení do \",'SDG – Technický list '!Q104))))","v":""},{"$f":"IF('SDG – Technický list '!R104=\"\",\"\",IF($D105=\"\",\"prosím dokončete\",IF($D105>'SDG – Technický list '!R104-1,\":-)\",CONCATENATE(\"zvýšení do \",'SDG – Technický list '!R104))))","v":""},{"$f":"IF('SDG – Technický list '!S104=\"\",\"\",IF($D105=\"\",\"prosím dokončete\",IF($D105>'SDG – Technický list '!S104-1,\":-)\",CONCATENATE(\"zvýšení do \",'SDG – Technický list '!S104))))","v":""},{"$f":"IF('SDG – Technický list '!T104=\"\",\"\",IF($D105=\"\",\"prosím dokončete\",IF($D105>'SDG – Technický list '!T104-1,\":-)\",CONCATENATE(\"zvýšení do \",'SDG – Technický list '!T104))))","v":""}]
[null,{"$f":"'SDG – Technický list '!B105","v":"Q6.14"},{"$f":"VLOOKUP(B106,'Kapitola 6'!$C$6:$D$120,2,0)","v":"Jakým způsobem řídí organizace emise skleníkových plynů (kromě úspor energie)?"},{"$f":"'SDG – Technický list '!C105","v":3},13,{"$f":"IF('SDG – Technický list '!D105=\"\",\"\",IF($D106=\"\",\"prosím dokončete\",IF($D106>'SDG – Technický list '!D105-1,\":-)\",CONCATENATE(\"zvýšení do \",'SDG – Technický list '!D105))))","v":""},{"$f":"IF('SDG – Technický list '!E105=\"\",\"\",IF($D106=\"\",\"prosím dokončete\",IF($D106>'SDG – Technický list '!E105-1,\":-)\",CONCATENATE(\"zvýšení do \",'SDG – Technický list '!E105))))","v":""},{"$f":"IF('SDG – Technický list '!F105=\"\",\"\",IF($D106=\"\",\"prosím dokončete\",IF($D106>'SDG – Technický list '!F105-1,\":-)\",CONCATENATE(\"zvýšení do \",'SDG – Technický list '!F105))))","v":""},{"$f":"IF('SDG – Technický list '!G105=\"\",\"\",IF($D106=\"\",\"prosím dokončete\",IF($D106>'SDG – Technický list '!G105-1,\":-)\",CONCATENATE(\"zvýšení do \",'SDG – Technický list '!G105))))","v":""},{"$f":"IF('SDG – Technický list '!H105=\"\",\"\",IF($D106=\"\",\"prosím dokončete\",IF($D106>'SDG – Technický list '!H105-1,\":-)\",CONCATENATE(\"zvýšení do \",'SDG – Technický list '!H105))))","v":""},{"$f":"IF('SDG – Technický list '!I105=\"\",\"\",IF($D106=\"\",\"prosím dokončete\",IF($D106>'SDG – Technický list '!I105-1,\":-)\",CONCATENATE(\"zvýšení do \",'SDG – Technický list '!I105))))","v":""},{"$f":"IF('SDG – Technický list '!J105=\"\",\"\",IF($D106=\"\",\"prosím dokončete\",IF($D106>'SDG – Technický list '!J105-1,\":-)\",CONCATENATE(\"zvýšení do \",'SDG – Technický list '!J105))))","v":":-)"},{"$f":"IF('SDG – Technický list '!K105=\"\",\"\",IF($D106=\"\",\"prosím dokončete\",IF($D106>'SDG – Technický list '!K105-1,\":-)\",CONCATENATE(\"zvýšení do \",'SDG – Technický list '!K105))))","v":""},{"$f":"IF('SDG – Technický list '!L105=\"\",\"\",IF($D106=\"\",\"prosím dokončete\",IF($D106>'SDG – Technický list '!L105-1,\":-)\",CONCATENATE(\"zvýšení do \",'SDG – Technický list '!L105))))","v":":-)"},{"$f":"IF('SDG – Technický list '!M105=\"\",\"\",IF($D106=\"\",\"prosím dokončete\",IF($D106>'SDG – Technický list '!M105-1,\":-)\",CONCATENATE(\"zvýšení do \",'SDG – Technický list '!M105))))","v":""},{"$f":"IF('SDG – Technický list '!N105=\"\",\"\",IF($D106=\"\",\"prosím dokončete\",IF($D106>'SDG – Technický list '!N105-1,\":-)\",CONCATENATE(\"zvýšení do \",'SDG – Technický list '!N105))))","v":""},{"$f":"IF('SDG – Technický list '!O105=\"\",\"\",IF($D106=\"\",\"prosím dokončete\",IF($D106>'SDG – Technický list '!O105-1,\":-)\",CONCATENATE(\"zvýšení do \",'SDG – Technický list '!O105))))","v":":-)"},{"$f":"IF('SDG – Technický list '!P105=\"\",\"\",IF($D106=\"\",\"prosím dokončete\",IF($D106>'SDG – Technický list '!P105-1,\":-)\",CONCATENATE(\"zvýšení do \",'SDG – Technický list '!P105))))","v":":-)"},{"$f":"IF('SDG – Technický list '!Q105=\"\",\"\",IF($D106=\"\",\"prosím dokončete\",IF($D106>'SDG – Technický list '!Q105-1,\":-)\",CONCATENATE(\"zvýšení do \",'SDG – Technický list '!Q105))))","v":""},{"$f":"IF('SDG – Technický list '!R105=\"\",\"\",IF($D106=\"\",\"prosím dokončete\",IF($D106>'SDG – Technický list '!R105-1,\":-)\",CONCATENATE(\"zvýšení do \",'SDG – Technický list '!R105))))","v":""},{"$f":"IF('SDG – Technický list '!S105=\"\",\"\",IF($D106=\"\",\"prosím dokončete\",IF($D106>'SDG – Technický list '!S105-1,\":-)\",CONCATENATE(\"zvýšení do \",'SDG – Technický list '!S105))))","v":""},{"$f":"IF('SDG – Technický list '!T105=\"\",\"\",IF($D106=\"\",\"prosím dokončete\",IF($D106>'SDG – Technický list '!T105-1,\":-)\",CONCATENATE(\"zvýšení do \",'SDG – Technický list '!T105))))","v":""}]
[null,{"$f":"'SDG – Technický list '!B106","v":"Q6.15"},{"$f":"VLOOKUP(B107,'Kapitola 6'!$C$6:$D$120,2,0)","v":"Jaká je strategie organizace na snižování emisí skleníkových plynů?"},{"$f":"'SDG – Technický list '!C106","v":2},13,{"$f":"IF('SDG – Technický list '!D106=\"\",\"\",IF($D107=\"\",\"prosím dokončete\",IF($D107>'SDG – Technický list '!D106-1,\":-)\",CONCATENATE(\"zvýšení do \",'SDG – Technický list '!D106))))","v":""},{"$f":"IF('SDG – Technický list '!E106=\"\",\"\",IF($D107=\"\",\"prosím dokončete\",IF($D107>'SDG – Technický list '!E106-1,\":-)\",CONCATENATE(\"zvýšení do \",'SDG – Technický list '!E106))))","v":""},{"$f":"IF('SDG – Technický list '!F106=\"\",\"\",IF($D107=\"\",\"prosím dokončete\",IF($D107>'SDG – Technický list '!F106-1,\":-)\",CONCATENATE(\"zvýšení do \",'SDG – Technický list '!F106))))","v":""},{"$f":"IF('SDG – Technický list '!G106=\"\",\"\",IF($D107=\"\",\"prosím dokončete\",IF($D107>'SDG – Technický list '!G106-1,\":-)\",CONCATENATE(\"zvýšení do \",'SDG – Technický list '!G106))))","v":""},{"$f":"IF('SDG – Technický list '!H106=\"\",\"\",IF($D107=\"\",\"prosím dokončete\",IF($D107>'SDG – Technický list '!H106-1,\":-)\",CONCATENATE(\"zvýšení do \",'SDG – Technický list '!H106))))","v":""},{"$f":"IF('SDG – Technický list '!I106=\"\",\"\",IF($D107=\"\",\"prosím dokončete\",IF($D107>'SDG – Technický list '!I106-1,\":-)\",CONCATENATE(\"zvýšení do \",'SDG – Technický list '!I106))))","v":""},{"$f":"IF('SDG – Technický list '!J106=\"\",\"\",IF($D107=\"\",\"prosím dokončete\",IF($D107>'SDG – Technický list '!J106-1,\":-)\",CONCATENATE(\"zvýšení do \",'SDG – Technický list '!J106))))","v":"zvýšení do 3"},{"$f":"IF('SDG – Technický list '!K106=\"\",\"\",IF($D107=\"\",\"prosím dokončete\",IF($D107>'SDG – Technický list '!K106-1,\":-)\",CONCATENATE(\"zvýšení do \",'SDG – Technický list '!K106))))","v":""},{"$f":"IF('SDG – Technický list '!L106=\"\",\"\",IF($D107=\"\",\"prosím dokončete\",IF($D107>'SDG – Technický list '!L106-1,\":-)\",CONCATENATE(\"zvýšení do \",'SDG – Technický list '!L106))))","v":"zvýšení do 3"},{"$f":"IF('SDG – Technický list '!M106=\"\",\"\",IF($D107=\"\",\"prosím dokončete\",IF($D107>'SDG – Technický list '!M106-1,\":-)\",CONCATENATE(\"zvýšení do \",'SDG – Technický list '!M106))))","v":""},{"$f":"IF('SDG – Technický list '!N106=\"\",\"\",IF($D107=\"\",\"prosím dokončete\",IF($D107>'SDG – Technický list '!N106-1,\":-)\",CONCATENATE(\"zvýšení do \",'SDG – Technický list '!N106))))","v":""},{"$f":"IF('SDG – Technický list '!O106=\"\",\"\",IF($D107=\"\",\"prosím dokončete\",IF($D107>'SDG – Technický list '!O106-1,\":-)\",CONCATENATE(\"zvýšení do \",'SDG – Technický list '!O106))))","v":"zvýšení do 3"},{"$f":"IF('SDG – Technický list '!P106=\"\",\"\",IF($D107=\"\",\"prosím dokončete\",IF($D107>'SDG – Technický list '!P106-1,\":-)\",CONCATENATE(\"zvýšení do \",'SDG – Technický list '!P106))))","v":"zvýšení do 3"},{"$f":"IF('SDG – Technický list '!Q106=\"\",\"\",IF($D107=\"\",\"prosím dokončete\",IF($D107>'SDG – Technický list '!Q106-1,\":-)\",CONCATENATE(\"zvýšení do \",'SDG – Technický list '!Q106))))","v":""},{"$f":"IF('SDG – Technický list '!R106=\"\",\"\",IF($D107=\"\",\"prosím dokončete\",IF($D107>'SDG – Technický list '!R106-1,\":-)\",CONCATENATE(\"zvýšení do \",'SDG – Technický list '!R106))))","v":""},{"$f":"IF('SDG – Technický list '!S106=\"\",\"\",IF($D107=\"\",\"prosím dokončete\",IF($D107>'SDG – Technický list '!S106-1,\":-)\",CONCATENATE(\"zvýšení do \",'SDG – Technický list '!S106))))","v":""},{"$f":"IF('SDG – Technický list '!T106=\"\",\"\",IF($D107=\"\",\"prosím dokončete\",IF($D107>'SDG – Technický list '!T106-1,\":-)\",CONCATENATE(\"zvýšení do \",'SDG – Technický list '!T106))))","v":""}]
[null,{"$f":"'SDG – Technický list '!B107","v":"Q6.16"},{"$f":"VLOOKUP(B108,'Kapitola 6'!$C$6:$D$120,2,0)","v":"Jakým způsobem se organizace připravuje na klimatické změny? "},{"$f":"'SDG – Technický list '!C107","v":2},13,{"$f":"IF('SDG – Technický list '!D107=\"\",\"\",IF($D108=\"\",\"prosím dokončete\",IF($D108>'SDG – Technický list '!D107-1,\":-)\",CONCATENATE(\"zvýšení do \",'SDG – Technický list '!D107))))","v":""},{"$f":"IF('SDG – Technický list '!E107=\"\",\"\",IF($D108=\"\",\"prosím dokončete\",IF($D108>'SDG – Technický list '!E107-1,\":-)\",CONCATENATE(\"zvýšení do \",'SDG – Technický list '!E107))))","v":""},{"$f":"IF('SDG – Technický list '!F107=\"\",\"\",IF($D108=\"\",\"prosím dokončete\",IF($D108>'SDG – Technický list '!F107-1,\":-)\",CONCATENATE(\"zvýšení do \",'SDG – Technický list '!F107))))","v":""},{"$f":"IF('SDG – Technický list '!G107=\"\",\"\",IF($D108=\"\",\"prosím dokončete\",IF($D108>'SDG – Technický list '!G107-1,\":-)\",CONCATENATE(\"zvýšení do \",'SDG – Technický list '!G107))))","v":""},{"$f":"IF('SDG – Technický list '!H107=\"\",\"\",IF($D108=\"\",\"prosím dokončete\",IF($D108>'SDG – Technický list '!H107-1,\":-)\",CONCATENATE(\"zvýšení do \",'SDG – Technický list '!H107))))","v":""},{"$f":"IF('SDG – Technický list '!I107=\"\",\"\",IF($D108=\"\",\"prosím dokončete\",IF($D108>'SDG – Technický list '!I107-1,\":-)\",CONCATENATE(\"zvýšení do \",'SDG – Technický list '!I107))))","v":""},{"$f":"IF('SDG – Technický list '!J107=\"\",\"\",IF($D108=\"\",\"prosím dokončete\",IF($D108>'SDG – Technický list '!J107-1,\":-)\",CONCATENATE(\"zvýšení do \",'SDG – Technický list '!J107))))","v":"zvýšení do 3"},{"$f":"IF('SDG – Technický list '!K107=\"\",\"\",IF($D108=\"\",\"prosím dokončete\",IF($D108>'SDG – Technický list '!K107-1,\":-)\",CONCATENATE(\"zvýšení do \",'SDG – Technický list '!K107))))","v":""},{"$f":"IF('SDG – Technický list '!L107=\"\",\"\",IF($D108=\"\",\"prosím dokončete\",IF($D108>'SDG – Technický list '!L107-1,\":-)\",CONCATENATE(\"zvýšení do \",'SDG – Technický list '!L107))))","v":"zvýšení do 3"},{"$f":"IF('SDG – Technický list '!M107=\"\",\"\",IF($D108=\"\",\"prosím dokončete\",IF($D108>'SDG – Technický list '!M107-1,\":-)\",CONCATENATE(\"zvýšení do \",'SDG – Technický list '!M107))))","v":""},{"$f":"IF('SDG – Technický list '!N107=\"\",\"\",IF($D108=\"\",\"prosím dokončete\",IF($D108>'SDG – Technický list '!N107-1,\":-)\",CONCATENATE(\"zvýšení do \",'SDG – Technický list '!N107))))","v":""},{"$f":"IF('SDG – Technický list '!O107=\"\",\"\",IF($D108=\"\",\"prosím dokončete\",IF($D108>'SDG – Technický list '!O107-1,\":-)\",CONCATENATE(\"zvýšení do \",'SDG – Technický list '!O107))))","v":"zvýšení do 3"},{"$f":"IF('SDG – Technický list '!P107=\"\",\"\",IF($D108=\"\",\"prosím dokončete\",IF($D108>'SDG – Technický list '!P107-1,\":-)\",CONCATENATE(\"zvýšení do \",'SDG – Technický list '!P107))))","v":"zvýšení do 3"},{"$f":"IF('SDG – Technický list '!Q107=\"\",\"\",IF($D108=\"\",\"prosím dokončete\",IF($D108>'SDG – Technický list '!Q107-1,\":-)\",CONCATENATE(\"zvýšení do \",'SDG – Technický list '!Q107))))","v":""},{"$f":"IF('SDG – Technický list '!R107=\"\",\"\",IF($D108=\"\",\"prosím dokončete\",IF($D108>'SDG – Technický list '!R107-1,\":-)\",CONCATENATE(\"zvýšení do \",'SDG – Technický list '!R107))))","v":""},{"$f":"IF('SDG – Technický list '!S107=\"\",\"\",IF($D108=\"\",\"prosím dokončete\",IF($D108>'SDG – Technický list '!S107-1,\":-)\",CONCATENATE(\"zvýšení do \",'SDG – Technický list '!S107))))","v":""},{"$f":"IF('SDG – Technický list '!T107=\"\",\"\",IF($D108=\"\",\"prosím dokončete\",IF($D108>'SDG – Technický list '!T107-1,\":-)\",CONCATENATE(\"zvýšení do \",'SDG – Technický list '!T107))))","v":""}]
[null,{"$f":"'SDG – Technický list '!B108","v":"Q6.17"},{"$f":"VLOOKUP(B109,'Kapitola 6'!$C$6:$D$120,2,0)","v":"Jak organizace zajišťuje rovné příležitosti při náboru a během kariéry všech?"},{"$f":"'SDG – Technický list '!C108","v":3},15,{"$f":"IF('SDG – Technický list '!D108=\"\",\"\",IF($D109=\"\",\"prosím dokončete\",IF($D109>'SDG – Technický list '!D108-1,\":-)\",CONCATENATE(\"zvýšení do \",'SDG – Technický list '!D108))))","v":""},{"$f":"IF('SDG – Technický list '!E108=\"\",\"\",IF($D109=\"\",\"prosím dokončete\",IF($D109>'SDG – Technický list '!E108-1,\":-)\",CONCATENATE(\"zvýšení do \",'SDG – Technický list '!E108))))","v":""},{"$f":"IF('SDG – Technický list '!F108=\"\",\"\",IF($D109=\"\",\"prosím dokončete\",IF($D109>'SDG – Technický list '!F108-1,\":-)\",CONCATENATE(\"zvýšení do \",'SDG – Technický list '!F108))))","v":""},{"$f":"IF('SDG – Technický list '!G108=\"\",\"\",IF($D109=\"\",\"prosím dokončete\",IF($D109>'SDG – Technický list '!G108-1,\":-)\",CONCATENATE(\"zvýšení do \",'SDG – Technický list '!G108))))","v":""},{"$f":"IF('SDG – Technický list '!H108=\"\",\"\",IF($D109=\"\",\"prosím dokončete\",IF($D109>'SDG – Technický list '!H108-1,\":-)\",CONCATENATE(\"zvýšení do \",'SDG – Technický list '!H108))))","v":":-)"},{"$f":"IF('SDG – Technický list '!I108=\"\",\"\",IF($D109=\"\",\"prosím dokončete\",IF($D109>'SDG – Technický list '!I108-1,\":-)\",CONCATENATE(\"zvýšení do \",'SDG – Technický list '!I108))))","v":""},{"$f":"IF('SDG – Technický list '!J108=\"\",\"\",IF($D109=\"\",\"prosím dokončete\",IF($D109>'SDG – Technický list '!J108-1,\":-)\",CONCATENATE(\"zvýšení do \",'SDG – Technický list '!J108))))","v":""},{"$f":"IF('SDG – Technický list '!K108=\"\",\"\",IF($D109=\"\",\"prosím dokončete\",IF($D109>'SDG – Technický list '!K108-1,\":-)\",CONCATENATE(\"zvýšení do \",'SDG – Technický list '!K108))))","v":":-)"},{"$f":"IF('SDG – Technický list '!L108=\"\",\"\",IF($D109=\"\",\"prosím dokončete\",IF($D109>'SDG – Technický list '!L108-1,\":-)\",CONCATENATE(\"zvýšení do \",'SDG – Technický list '!L108))))","v":""},{"$f":"IF('SDG – Technický list '!M108=\"\",\"\",IF($D109=\"\",\"prosím dokončete\",IF($D109>'SDG – Technický list '!M108-1,\":-)\",CONCATENATE(\"zvýšení do \",'SDG – Technický list '!M108))))","v":""},{"$f":"IF('SDG – Technický list '!N108=\"\",\"\",IF($D109=\"\",\"prosím dokončete\",IF($D109>'SDG – Technický list '!N108-1,\":-)\",CONCATENATE(\"zvýšení do \",'SDG – Technický list '!N108))))","v":""},{"$f":"IF('SDG – Technický list '!O108=\"\",\"\",IF($D109=\"\",\"prosím dokončete\",IF($D109>'SDG – Technický list '!O108-1,\":-)\",CONCATENATE(\"zvýšení do \",'SDG – Technický list '!O108))))","v":""},{"$f":"IF('SDG – Technický list '!P108=\"\",\"\",IF($D109=\"\",\"prosím dokončete\",IF($D109>'SDG – Technický list '!P108-1,\":-)\",CONCATENATE(\"zvýšení do \",'SDG – Technický list '!P108))))","v":""},{"$f":"IF('SDG – Technický list '!Q108=\"\",\"\",IF($D109=\"\",\"prosím dokončete\",IF($D109>'SDG – Technický list '!Q108-1,\":-)\",CONCATENATE(\"zvýšení do \",'SDG – Technický list '!Q108))))","v":""},{"$f":"IF('SDG – Technický list '!R108=\"\",\"\",IF($D109=\"\",\"prosím dokončete\",IF($D109>'SDG – Technický list '!R108-1,\":-)\",CONCATENATE(\"zvýšení do \",'SDG – Technický list '!R108))))","v":""},{"$f":"IF('SDG – Technický list '!S108=\"\",\"\",IF($D109=\"\",\"prosím dokončete\",IF($D109>'SDG – Technický list '!S108-1,\":-)\",CONCATENATE(\"zvýšení do \",'SDG – Technický list '!S108))))","v":""},{"$f":"IF('SDG – Technický list '!T108=\"\",\"\",IF($D109=\"\",\"prosím dokončete\",IF($D109>'SDG – Technický list '!T108-1,\":-)\",CONCATENATE(\"zvýšení do \",'SDG – Technický list '!T108))))","v":""}]

{"sheet":"Akční plán","index":14,"n_rows":104,"n_cols":12,"rows_kept":104,"cut":false,"hidden":false,"merged":[]}
[null,"Akční plán",null,null,null,"kdy (datum)   ","kým?","splněno (datum)"]
[]
[]
[null,{"$f":"IF(C4,Tipy!D5,\"\")","v":"Q1.1"},{"$f":"Tipy!M5","v":true},{"$f":"IF(C4,\"waar\",\"onwaar\")","v":"waar"},{"$f":"IF(C4,Tipy!G7,\"\")","v":"Testujte povědomí a porozumění z času na čas tím, že se zeptáte zaměstnanců, zda vědí, že existuje politika HSEE&S, co to pro ně znamená a jak to ovlivňuje jejich práci.\nOrganizace může chtít pravidelně testovat povědomí o této politice se svými zúčastněnými stranami v rámci svého procesu, aby posoudila její účinnost komunikace.\nSeznam zúčastněných stran by měl být přezkoumán a aktualizován, aby odrážel měnící se okolnosti."}]
[null,{"$f":"IF(C5,Tipy!D9,\"\")","v":"Q1.2"},{"$f":"Tipy!M9","v":true},{"$f":"IF(C5,\"waar\",\"onwaar\")","v":"waar"},{"$f":"IF(Tipy!M9,Tipy!G11,\"\")","v":"Nejvyšší skóre, každoročně přehodnocovat vnější a vnitřní záležitosti a pravidelně sledovat pokrok dosažený v činnostech."}]
[null,{"$f":"IF(C6,Tipy!D13,\"\")","v":"Q1.3"},{"$f":"Tipy!M13","v":true},"waar",{"$f":"IF(Tipy!M13,Tipy!G15,\"\")","v":"Doporučuje se každoročně přezkoumávat systém a rozhodovat o tom, co je ještě třeba, co lze vynechat, kde vznikají nové problémy…"}]
[null,{"$f":"IF(C7,Tipy!D17,\"\")","v":"Q1.4"},{"$f":"Tipy!M17","v":true},"waar",{"$f":"IF(Tipy!M17,Tipy!G19,\"\")","v":"Proveďte soupis programů Responsible Care/HSEE&S a určete, jak se stávající zaměstnanci zapojují do jejich vývoje, komunikace a implementace. Stavte na existujícím úspěchu. Zaměřte se na posílení oblastí, kde zaměstnanci nemusí mít tolik účasti.\nZapojte zaměstnance do aktivit HSEE&S, jako jsou programy zvyšování povědomí vůči komunitě atd.\nUvědomte si, že nejúčinnější programy zapojení zaměstnanců začínají zapojením zaměstnanců během fáze implementace systému řízení (HSEE&S)."}]
[null,{"$f":"IF(C8,Tipy!D21,\"\")","v":"Q1.5"},{"$f":"Tipy!M21","v":true},"waar",{"$f":"IF(Tipy!M21,Tipy!G23,\"\")","v":"Správní rada se stává velvyslancem pro systém řízení (HSEE&S) a jde příkladem:\nZapojte správní radu:\n- Zahrnout HSEE&S do novoročních projevů, zaměstnanců, vnitřních soutěží atd .;\n- Zajistit viditelnost environmentálních politik, akcí a výsledků;\n- Přineste zprávu zákazníkům;\n- Pokračujte v komunikaci."}]
[null,{"$f":"IF(C9,Tipy!D25,\"\")","v":"Q1.6"},{"$f":"Tipy!M25","v":true},"waar",{"$f":"IF(Tipy!M25,Tipy!G27,\"\")","v":"Cíle jsou začleněny do definice pracovních náplní všech zaměstnanců, kteří jsou napojeni na systém řízení (HSEE& S), nebo implementují jiné pobídky k motivaci péče o zaměstnance na všech úrovních organizace."}]
[null,{"$f":"IF(C10,Tipy!D29,\"\")","v":""},{"$f":"Tipy!M29","v":0},"onwaar",{"$f":"IF(Tipy!M29,Tipy!G31,\"\")","v":""}]
[null,{"$f":"IF(C11,Tipy!D33,\"\")","v":"Q1.8"},{"$f":"Tipy!M33","v":true},"waar",{"$f":"IF(Tipy!M33,Tipy!G35,\"\")","v":"Nezapomeňte pravidelně sledovat akce. Pravidelně diskutujte o výkonu a interakci se zúčastněnými stranami s top managementem. Přezkoumejte KPI alespoň čtvrtletně, aby se objevily nové trendy co nejdříve."}]
[null,{"$f":"IF(C12,Tipy!D37,\"\")","v":"Q1.9"},{"$f":"Tipy!M37","v":true},"waar",{"$f":"IF(Tipy!M37,Tipy!G39,\"\")","v":"Zavřete smyčku. Zajistěte, aby existoval proces hodnocení účinnosti „procesu hodnocení systému řízení“."}]
[null,{"$f":"IF(C13,Tipy!D41,\"\")","v":""},{"$f":"Tipy!M41","v":0},"onwaar",{"$f":"IF(Tipy!M41,Tipy!G43,\"\")","v":""}]
[null,{"$f":"IF(C14,Tipy!D45,\"\")","v":"Q1.11"},{"$f":"Tipy!M45","v":true},"waar",{"$f":"IF(Tipy!M45,Tipy!G47,\"\")","v":"Zdroje pro vyhodnocení vylepšení by měly být plánovány, navíc k těm, které se týkají prováděcích akcí."}]
[null,{"$f":"IF(C15,Tipy!D49,\"\")","v":"Q1.12"},{"$f":"Tipy!M49","v":true},"waar",{"$f":"IF(Tipy!M49,Tipy!G51,\"\")","v":"Vyhodnoťte účinnost plánu interní komunikace prostřednictvím možného pravidelného průzkumu: jsou si zaměstnanci vědomi? Jaké informace stále požadují? Kolik zaměstnanců jste oslovili plánovanou komunikací? Bylo cíle dosaženo? Pronikla informace/sdělení dle očekávání?"}]
[null,{"$f":"IF(C16,Tipy!D53,\"\")","v":"Q1.13"},{"$f":"Tipy!M53","v":true},"waar",{"$f":"IF(Tipy!M53,Tipy!G55,\"\")","v":"Aby byl systém řízení efektivní, měl by zahrnovat určení kompetence pro ty zaměstnance, kteří pracují v identifikovaných oblastech významného rizika, stanovených prostřednictvím systému hodnocení rizik organizace."}]
[null,{"$f":"IF(C17,Tipy!D57,\"\")","v":"Q1.14"},{"$f":"Tipy!M57","v":true},"waar",{"$f":"IF(Tipy!M57,Tipy!G59,\"\")","v":"Vyhodnoťte účinnost zapojení zaměstnanců.\nUdělejte z zaměstnanců organizace klíčového partnera pro všechna rozhodnutí. Vytvořte systém odměňující dobré návrhy."}]
[null,{"$f":"IF(C18,Tipy!D61,\"\")","v":"Q1.15"},{"$f":"Tipy!M61","v":true},"waar",{"$f":"IF(Tipy!M61,Tipy!G63,\"\")","v":"Doporučuje se zpřístupnit dokumentaci HSEE&S všem zaměstnancům."}]
[null,{"$f":"IF(C19,Tipy!D65,\"\")","v":"Q1.16"},{"$f":"Tipy!M65","v":true},"waar",{"$f":"IF(Tipy!M65,Tipy!G67,\"\")","v":"Vytvořte registr řízení změn, který bude udržovat přehled pro všechny zúčastněné zaměstnance. Tento přehled se aktualizuje a ukazuje skutečný stav všech projektů.\nKlíčové jsou informace a školení zaměstnanců (včetně dodavatelů)."}]
[null,{"$f":"IF(C20,Tipy!D71,\"\")","v":"Q2.1"},{"$f":"Tipy!M71","v":true},"waar",{"$f":"IF(Tipy!M71,Tipy!G73,\"\")","v":"Zapojte zaměstnance do vývoje politiky."}]
[null,{"$f":"IF(C21,Tipy!D75,\"\")","v":"Q2.2"},{"$f":"Tipy!M75","v":true},"waar",{"$f":"IF(Tipy!M75,Tipy!G77,\"\")","v":"Není třeba okamžitě měnit strategii, nicméně vždy hledejte zlepšení."}]
[null,{"$f":"IF(C22,Tipy!D79,\"\")","v":"Q2.3"},{"$f":"Tipy!M79","v":true},"waar",{"$f":"IF(Tipy!M79,Tipy!G81,\"\")","v":"Zdravotníkům se doporučuje zajistit, aby pouze kontrolovali výsledky lékařských testů, aby zajistili důvěrnost lékařských výsledků."}]
[null,{"$f":"IF(C23,Tipy!D83,\"\")","v":"Q2.4"},{"$f":"Tipy!M83","v":true},"waar",{"$f":"IF(Tipy!M83,Tipy!G85,\"\")","v":"Není třeba okamžitě měnit strategii, nicméně vždy hledejte zlepšení."}]
[null,{"$f":"IF(C24,Tipy!D87,\"\")","v":"Q2.5"},{"$f":"Tipy!M87","v":true},"waar",{"$f":"IF(Tipy!M87,Tipy!G89,\"\")","v":"Pravidelně vyhodnocovat účinnost programu údržby, měřit úspěch a zlepšovat plány údržby."}]
[null,{"$f":"IF(C25,Tipy!D91,\"\")","v":"Q2.6"},{"$f":"Tipy!M91","v":true},"waar",{"$f":"IF(Tipy!M91,Tipy!G93,\"\")","v":"Upozorněte zaměstnance, že mohou používat „oprávnění k zastavení práce“, pokud je osobní ochranné vybavení považováno za neúčinné."}]
[null,{"$f":"IF(C26,Tipy!D95,\"\")","v":"Q2.7"},{"$f":"Tipy!M95","v":true},"waar",{"$f":"IF(Tipy!M95,Tipy!G97,\"\")","v":"Zavést postup pro registraci návrhů pracovníků a sledovat změny použité k jejich řešení.\nVyškolte personál k vhodnému ergonomickému používání zařízení.\nPomocí anonymního průzkumu změřte vnímání zaměstnanců ohledně rovnováhy mezi pracovním a soukromým životem."}]
[null,{"$f":"IF(C27,Tipy!D99,\"\")","v":"Q2.8"},{"$f":"Tipy!M99","v":true},"waar",{"$f":"IF(Tipy!M99,Tipy!G101,\"\")","v":"Sdílení klíčových zjištění a souvisejících nápravných opatření s příslušnými zúčastněnými stranami."}]
[null,{"$f":"IF(C28,Tipy!D103,\"\")","v":"Q2.9"},{"$f":"Tipy!M103","v":true},"waar",{"$f":"IF(Tipy!M103,Tipy!G105,\"\")","v":"Není třeba okamžitě měnit strategii, nicméně vždy hledejte zlepšení."}]
[null,{"$f":"IF(C29,Tipy!D107,\"\")","v":"Q2.10"},{"$f":"Tipy!M107","v":true},"waar",{"$f":"IF(Tipy!M107,Tipy!G109,\"\")","v":"Vyhodnoťte účinnost komunikace a školení pro všechny pracovníky."}]
[null,{"$f":"IF(C30,Tipy!D111,\"\")","v":"Q2.11"},{"$f":"Tipy!M111","v":true},"waar",{"$f":"IF(Tipy!M111,Tipy!G113,\"\")","v":"Zapojte zaměstnance do vývoje politiky."}]
[null,{"$f":"IF(C31,Tipy!D115,\"\")","v":"Q2.12"},{"$f":"Tipy!M115","v":true},"waar",{"$f":"IF(Tipy!M115,Tipy!G117,\"\")","v":"Není třeba okamžitě měnit strategii, vždy se však snažte o zlepšení."}]
[null,{"$f":"IF(C32,Tipy!D119,\"\")","v":"Q2.13"},{"$f":"Tipy!M119","v":true},"waar",{"$f":"IF(Tipy!M119,Tipy!G121,\"\")","v":"Nehody jsou používány jako zkušenost v učení a sdíleny.\nV případě potřeby zavést osvědčené postupy nápravných opatření jako preventivní opatření."}]
[null,{"$f":"IF(C33,Tipy!D123,\"\")","v":"Q2.14"},{"$f":"Tipy!M123","v":true},"waar",{"$f":"IF(Tipy!M123,Tipy!G125,\"\")","v":"Stanovte kritéria, systém a periodicitu kontroly pro posouzení bezpečnosti procesu a realizace cílů.\nIntegrujte do řízení revizi výsledků auditu a hodnocení směrem k cílům každého oddělení nebo společnosti.\nZačlenit revizi výsledků auditu a hodnocení směrem k cílům v přezkumu řízení.\nIdentifikujte ukazatele pro ověření účinnosti systému."}]
[null,{"$f":"IF(C34,Tipy!D127,\"\")","v":"Q2.15"},{"$f":"Tipy!M127","v":true},"waar",{"$f":"IF(Tipy!M127,Tipy!G129,\"\")","v":"Vyhodnoťte a definujte minimální počet zaměstnanců.\nJsou zavedeny procesy pro bezpečný provoz (nebo odstavení) v případě, že nelze zajistit minimální počet zaměstnanců (např. Nemoci, stávky ...)."}]
[null,{"$f":"IF(C35,Tipy!D131,\"\")","v":"Q2.16"},{"$f":"Tipy!M131","v":true},"waar",{"$f":"IF(Tipy!M131,Tipy!G133,\"\")","v":"Není třeba okamžitě měnit strategii, vždy se však snažte zlepšit."}]
[null,{"$f":"IF(C36,Tipy!D135,\"\")","v":"Q2.17"},{"$f":"Tipy!M135","v":true},"waar",{"$f":"IF(Tipy!M135,Tipy!G137,\"\")","v":"Není třeba okamžitě měnit strategii, vždy se však snažte o zlepšení."}]
[null,{"$f":"IF(C37,Tipy!D139,\"\")","v":"Q2.18"},{"$f":"Tipy!M139","v":true},"waar",{"$f":"IF(Tipy!M139,Tipy!G141,\"\")","v":"Proveďte vyhodnocení pro každý reaktor, sklad nebo jiné zařízení obsahující množství nebezpečných látek nad určitým prahem, aby bylo zajištěno, že je zaveden systém prevence, zadržování a evakuace."}]
[null,{"$f":"IF(C38,Tipy!D143,\"\")","v":"Q2.19"},{"$f":"Tipy!M143","v":true},"waar",{"$f":"IF(Tipy!M143,Tipy!G145,\"\")","v":"Pravidelně vyhodnocujte účinnost programu údržby. Kromě toho se měří úspěch a zlepšují se plány údržby."}]
[null,{"$f":"IF(C39,Tipy!D147,\"\")","v":"Q2.20"},{"$f":"Tipy!M147","v":true},"waar",{"$f":"IF(Tipy!M147,Tipy!G149,\"\")","v":"Není třeba okamžitě měnit strategii, vždy se však snažte o zlepšení."}]
[null,{"$f":"IF(C40,Tipy!D151,\"\")","v":"Q2.21"},{"$f":"Tipy!M151","v":true},"waar",{"$f":"IF(Tipy!M151,Tipy!G153,\"\")","v":"Mít postup územního plánování pro vyhodnocení a získání znalostí o sousední komunitě (např. Školy, školky, nemocnice, pečovatelské domy, nákupní a sportovní centra…) a pro vyhodnocení potřeby připravenosti, komunikace a evakuace v případě mimořádné události - v případě potřeby - vyhodnotit zastavení výroby."}]
[null,{"$f":"IF(C41,Tipy!D155,\"\")","v":"Q2.22"},{"$f":"Tipy!M155","v":true},"waar",{"$f":"IF(Tipy!M155,Tipy!G157,\"\")","v":"Poskytněte další vzdělávání související s novými nástroji a technikami bezpečnosti procesů (odborníci na bezpečnost procesů v podniku)."}]
[null,{"$f":"IF(C42,Tipy!D159,\"\")","v":"Q2.23"},{"$f":"Tipy!M159","v":true},"waar",{"$f":"IF(Tipy!M159,Tipy!G161,\"\")","v":"Není třeba okamžitě měnit strategii, vždy se však snažte o zlepšení."}]
[null,{"$f":"IF(C43,Tipy!D163,\"\")","v":"Q2.24"},{"$f":"Tipy!M163","v":true},"waar",{"$f":"IF(Tipy!M163,Tipy!G165,\"\")","v":"Není třeba okamžitě měnit strategii, vždy se však snažte zlepšit."}]
[null,{"$f":"IF(C44,Tipy!D167,\"\")","v":"Q2.25"},{"$f":"Tipy!M167","v":true},"waar",{"$f":"IF(Tipy!M167,Tipy!G169,\"\")","v":"Příklad schématu, který lze použít (celkem nebo jeho části), je SQAS (https://www.sqas.org/). Společnosti se mohou rozhodnout použít jiné systémy nebo kritéria. Výběr poskytovatele logistiky je založen na individuálním rozhodovacím procesu každé společnosti, který může nebo nemusí zahrnovat SQAS."}]
[null,{"$f":"IF(C45,Tipy!D171,\"\")","v":"Q2.26"},{"$f":"Tipy!M171","v":true},"waar",{"$f":"IF(Tipy!M171,Tipy!G173,\"\")","v":"Není třeba okamžitě měnit strategii, vždy se však snažte zlepšit."}]
[null,{"$f":"IF(C46,Tipy!D175,\"\")","v":"Q2.27"},{"$f":"Tipy!M175","v":true},"waar",{"$f":"IF(Tipy!M175,Tipy!G177,\"\")","v":"Není třeba okamžitě měnit strategii, vždy se však snažte zlepšit."}]
[null,{"$f":"IF(C47,Tipy!D179,\"\")","v":"Q2.28"},{"$f":"Tipy!M179","v":true},"waar",{"$f":"IF(Tipy!M179,Tipy!G181,\"\")","v":"Trénujte své zaměstnance ohledně možných bezpečnostních hrozeb a vhodné reakce v případě, že se takové situace skutečně vyskytnou (např. Jak reagovat v případě narušitele nebo jiného porušení bezpečnosti). Vycvičte své zaměstnance, aby byli ostražití (např. Oslovte neznámé osoby, které nemají odznak)."}]
[null,{"$f":"IF(C48,Tipy!D183,\"\")","v":"Q2.29"},{"$f":"Tipy!M183","v":true},"waar",{"$f":"IF(Tipy!M183,Tipy!G185,\"\")","v":"Zřídit komplexní systém umožňující přístup k IT systémům pouze na základě hesel a - v závislosti na skutečných úkolech zaměstnanců - a přístup k citlivým informacím pouze na základě „podle potřeby“. Stanovte pravidla pro bezpečné používání podnikových IT systémů (např. Používání IT ze soukromých důvodů, přístup k webovým stránkám…)."}]
[null,{"$f":"IF(C49,Tipy!D187,\"\")","v":"Q2.30"},{"$f":"Tipy!M187","v":true},"waar",{"$f":"IF(Tipy!M187,Tipy!G189,\"\")","v":"Zřídit systém, který umožňuje zjistit, kdo z vašich zaměstnanců se skutečně nachází v areálu a kdo chybí."}]
[null,{"$f":"IF(C50,Tipy!D191,\"\")","v":"Q2.31"},{"$f":"Tipy!M191","v":true},"waar",{"$f":"IF(Tipy!M191,Tipy!G193,\"\")","v":"Sledujte všechny pracovníky a návštěvníky podniku."}]
[null,{"$f":"IF(C51,Tipy!D195,\"\")","v":"Q2.32"},{"$f":"Tipy!M195","v":true},"waar",{"$f":"IF(Tipy!M195,Tipy!G197,\"\")","v":"Podporovat účast všech pracovníků (zaměstnanců a dodavatelů)."}]
[null,{"$f":"IF(C52,Tipy!D199,\"\")","v":"Q2.33"},{"$f":"Tipy!M199","v":true},"waar",{"$f":"IF(Tipy!M199,Tipy!G201,\"\")","v":"Není třeba okamžitě měnit strategii, nicméně vždy hledejte zlepšení."}]
[null,{"$f":"IF(C53,Tipy!D203,\"\")","v":"Q2.34"},{"$f":"Tipy!M203","v":true},"waar",{"$f":"IF(Tipy!M203,Tipy!G205,\"\")","v":"Není třeba okamžitě měnit strategii, vždy se však snažte zlepšit."}]
[null,{"$f":"IF(C54,Tipy!D207,\"\")","v":"Q2.35"},{"$f":"Tipy!M207","v":true},"waar",{"$f":"IF(Tipy!M207,Tipy!G209,\"\")","v":"Implementujte program s partnery v oblasti nakládání s odpady s cílem řešit příležitosti ke zlepšení."}]
[null,{"$f":"IF(C55,Tipy!D211,\"\")","v":"Q2.36"},{"$f":"Tipy!M211","v":true},"waar",{"$f":"IF(Tipy!M211,Tipy!G213,\"\")","v":"Vyvíjet technologie, aby se zabránilo rizikům znečištění podzemních vod. Zajistěte, aby tyto technologie a osvědčené postupy byly sdíleny v tomto odvětví, aby také pomohli ostatním zlepšit se."}]
[null,{"$f":"IF(C56,Tipy!D215,\"\")","v":"Q2.37"},{"$f":"Tipy!M215","v":true},"waar",{"$f":"IF(Tipy!M215,Tipy!G217,\"\")","v":"Vyvíjet technologie, aby se předešlo rizikům znečištění půdy. Zajistěte, aby tyto technologie a osvědčené postupy byly sdíleny v tomto odvětví, aby také pomohli ostatním zlepšit se."}]
[null,{"$f":"IF(C57,Tipy!D219,\"\")","v":"Q2.38"},{"$f":"Tipy!M219","v":true},"waar",{"$f":"IF(Tipy!M219,Tipy!G221,\"\")","v":"Není třeba okamžitě měnit strategii, vždy se však snažte o zlepšení."}]
[null,{"$f":"IF(C58,Tipy!D223,\"\")","v":"Q2.39"},{"$f":"Tipy!M223","v":true},"waar",{"$f":"IF(Tipy!M223,Tipy!G225,\"\")","v":"Nastavení cílů a ukazatelů snižování emisí. Systematicky ověřovat pokrok směrem k těmto cílům."}]
[null,{"$f":"IF(C59,Tipy!D227,\"\")","v":"Q2.40"},{"$f":"Tipy!M227","v":true},"waar",{"$f":"IF(Tipy!M227,Tipy!G229,\"\")","v":"Není třeba okamžitě měnit strategii, nicméně vždy hledejte zlepšení."},"2021-03-01","Ing. Karika (vedoucí odd. investic)"]
[null,{"$f":"IF(C60,Tipy!D231,\"\")","v":"Q2.41"},{"$f":"Tipy!M231","v":true},"waar",{"$f":"IF(Tipy!M231,Tipy!G233,\"\")","v":"Stanovení cílů a ukazatelů snižování emisí. Systematicky ověřovat pokrok směrem k těmto cílům."}]
[null,{"$f":"IF(C61,Tipy!D235,\"\")","v":"Q2.42"},{"$f":"Tipy!M235","v":true},"waar",{"$f":"IF(Tipy!M235,Tipy!G237,\"\")","v":"Není třeba okamžitě měnit strategii, nicméně vždy hledejte zlepšení."}]
[null,{"$f":"IF(C62,Tipy!D239,\"\")","v":"Q2.43"},{"$f":"Tipy!M239","v":true},"waar",{"$f":"IF(Tipy!M239,Tipy!G241,\"\")","v":"Není třeba okamžitě měnit strategii, ale vždy hledejte zlepšení."},"2021-12-01","Roman Podrazil (manažer investiční akce), Ing. Žák (koordinace s městem Ústí nad Labem)"]
[null,{"$f":"IF(C63,Tipy!D243,\"\")","v":"Q2.44"},{"$f":"Tipy!M243","v":true},"waar",{"$f":"IF(Tipy!M243,Tipy!G245,\"\")","v":"Není třeba okamžitě měnit strategii, vždy se však snažte zlepšit."}]
[null,{"$f":"IF(C64,Tipy!D247,\"\")","v":"Q2.45"},{"$f":"Tipy!M247","v":true},"waar",{"$f":"IF(Tipy!M247,Tipy!G249,\"\")","v":"Komunikovat zúčastněné strany o monitorování ukazatelů vlivu na životní prostředí s cílem zdůraznit zapojení organizace do environmentálních otázek regionu, kde se nachází."},"2020-12-01","Ing. Žák"]
[null,{"$f":"IF(C65,Tipy!D253,\"\")","v":"Q3.1"},{"$f":"Tipy!M253","v":true},"waar",{"$f":"IF(Tipy!M253,Tipy!G255,\"\")","v":"Prozkoumejte dostupné informace o charakterizaci rizika, abyste snížili riziko od počátku. Může se to promítnout do zamezení používání škodlivých chemických látek, které jsou karcinogenní, mutagenní, toxické pro reprodukci nebo perzistentní a bioakumulativní, ale neomezovat se jen na ně. Je implementováno další snižování rizika pro každého identifikovaného uživatele nebo kontaktní skupinu. Ukažte ostatním svůj závazek."}]
[null,{"$f":"IF(C66,Tipy!D257,\"\")","v":"Q3.2"},{"$f":"Tipy!M257","v":true},"waar",{"$f":"IF(Tipy!M257,Tipy!G259,\"\")","v":"Proces je propracovanější a probíhá nepřetržitě. Je zavedeno automatické upozornění na nové informace o látkách a výrobcích (např.  z vědeckých časopisů)."}]
[null,{"$f":"IF(C67,Tipy!D261,\"\")","v":"Q3.3"},{"$f":"Tipy!M261","v":true},"waar",{"$f":"IF(Tipy!M261,Tipy!G263,\"\")","v":"Identifikujte látky, které mohou být ovlivněny vývojem předpisů (např. Látky uvedené na seznamu povolení, jsou předmětem veřejných konzultací, analýzy možností řízení rizik, průběžného Akčního plánu Společenství). Přihlaste se k odběru zpravodajů agentury ECHA o nadcházejících rozhodnutích nebo dalších veřejných konzultacích. Ujistěte se, že váš management a vaši dodavatelé jsou si vědomi nejnovějšího vývoje předpisů a jejich možných dopadů na výrobky a činnosti."}]
[null,{"$f":"IF(C68,Tipy!D265,\"\")","v":"Q3.4"},{"$f":"Tipy!M265","v":true},"waar",{"$f":"IF(Tipy!M265,Tipy!G267,\"\")","v":"Proveďte proces kontroly dostupných informací z hlediska spolehlivosti a kvality pomocí zdrojů vyškolených k hodnocení informací o nebezpečnosti."}]
[null,{"$f":"IF(C69,Tipy!D269,\"\")","v":"Q3.5"},{"$f":"Tipy!M269","v":true},{"$f":"IF(C69,\"waar\",\"onwaar\")","v":"waar"},{"$f":"IF(Tipy!M269,Tipy!G271,\"\")","v":"Vytvořte dokumentační systém pro informace o použití a expozici, které lze snadno přizpůsobit vkládání nových informací. Integrujte údaje z monitorování expozice na pracovišti, aby se zpřesnila dostupná data o expozici k popisu realistického modelu expozice."}]
[null,{"$f":"IF(C70,Tipy!D273,\"\")","v":"Q3.6"},{"$f":"Tipy!M273","v":true},"waar",{"$f":"IF(Tipy!M273,Tipy!G275,\"\")","v":"Není třeba okamžitě měnit strategii, nicméně vždy hledejte zlepšení."}]
[null,{"$f":"IF(C71,Tipy!D277,\"\")","v":"Q3.7"},{"$f":"Tipy!M277","v":true},"waar",{"$f":"IF(Tipy!M277,Tipy!G279,\"\")","v":"Zapojte se do\n• vývoje a validace nových alternativních metodik pro vyhodnocení nebezpečnosti, expozice a charakterizace rizika; a\n• podpory minimalizace používání zvířat při testování a vývoje alternativních metod."}]
[null,{"$f":"IF(C72,Tipy!D281,\"\")","v":"Q3.8"},{"$f":"Tipy!M281","v":true},"waar",{"$f":"IF(Tipy!M281,Tipy!G283,\"\")","v":"Není třeba okamžitě měnit strategii, ale vždy hledejte zlepšení."}]
[null,{"$f":"IF(C73,Tipy!D285,\"\")","v":"Q3.9"},{"$f":"Tipy!M285","v":true},"waar",{"$f":"IF(Tipy!M285,Tipy!G287,\"\")","v":"Není třeba okamžitě měnit strategii, nicméně vždy hledejte zlepšení."}]
[null,{"$f":"IF(C74,Tipy!D289,\"\")","v":"Q3.10"},{"$f":"Tipy!M289","v":true},"waar",{"$f":"IF(Tipy!M289,Tipy!G291,\"\")","v":"Není třeba okamžitě měnit strategii, vždy se však snažte o zlepšení."}]
[null,{"$f":"IF(C75,Tipy!D295,\"\")","v":"Q4.1"},{"$f":"Tipy!M295","v":true},"waar",{"$f":"IF(Tipy!M295,Tipy!G297,\"\")","v":"Věnujte rozpočet nákupu zařízení a služeb, které jsou ohleduplnější k životnímu prostředí, a stanovte priority svých nákupů na základě posouzení dopadů.\nPříkladem schématu, který lze použít (celkem nebo jeho části), je TfS (https://tfs-initiative.com/ ). Společnosti se mohou rozhodnout použít jiné systémy. Dobrým průvodcem (vyvinutým společností VCI) k tématu „Udržitelné řízení dodavatelského řetězce pro středně velké společnosti v chemickém průmyslu“ je https://www.chemiehoch3.de/fileadmin/user_upload/News/Chemie3_Guide_Supply_Chain_eng.pdf"}]
[null,{"$f":"IF(C76,Tipy!D299,\"\")","v":"Q4.2"},{"$f":"Tipy!M299","v":true},"waar",{"$f":"IF(Tipy!M299,Tipy!G301,\"\")","v":"\nNení třeba okamžitě měnit strategii, vždy se však snažte zlepšit."}]
[null,{"$f":"IF(C77,Tipy!D303,\"\")","v":"Q4.3"},{"$f":"Tipy!M303","v":true},"waar",{"$f":"IF(Tipy!M303,Tipy!G305,\"\")","v":"Informovat zúčastněné strany organizace o politice nebo kodexu organizace v oblasti etiky podnikání (včetně antimonopolních předpisů / porušení pravidel hospodářské soutěže a korupce) a umožnit zúčastněným stranám organizace přístup do systému, který umožňuje nahlást jakékoli situace představující takové riziko."}]
[null,{"$f":"IF(C78,Tipy!D307,\"\")","v":"Q4.4"},{"$f":"Tipy!M307","v":true},"waar",{"$f":"IF(Tipy!M307,Tipy!G309,\"\")","v":"Definovat proces hodnocení obchodních partnerů na základě kritérií týkajících se sociálních otázek a lidských práv.\nPříkladem schématu, který lze použít (celkem nebo jeho části), je TfS (https://tfs-initiative.com/) .\nSpolečnosti se mohou rozhodnout použít jiné systémy nebo kritéria."}]
[null,{"$f":"IF(C79,Tipy!D311,\"\")","v":"Q4.5"},{"$f":"Tipy!M311","v":true},"waar",{"$f":"IF(Tipy!M311,Tipy!G313,\"\")","v":"Není třeba okamžitě měnit strategii, vždy se však snažte zlepšit."}]
[null,{"$f":"IF(C80,Tipy!D315,\"\")","v":"Q4.6"},{"$f":"Tipy!M315","v":true},"waar",{"$f":"IF(Tipy!M315,Tipy!G317,\"\")","v":"Pravidelně kontrolujte logistické partnery organizace, zda jsou v souladu s požadavky organizace (včetně energetické účinnosti a emisí skleníkových plynů).\nPříkladem schématu, který lze použít (celkem nebo jeho části), je SQAS (https://www.sqas.org/). Společnosti se mohou rozhodnout použít jiné systémy nebo kritéria. Výběr poskytovatele logistiky je založen na individuálním rozhodovacím procesu každé společnosti, který může nebo nemusí zahrnovat SQAS."}]
[null,{"$f":"IF(C81,Tipy!D319,\"\")","v":"Q4.7"},{"$f":"Tipy!M319","v":true},"waar",{"$f":"IF(Tipy!M319,Tipy!G321,\"\")","v":"Zajistěte, aby v případě ztráty nebo poškození majetku nebo dat následného uživatele nebo externího poskytovatele organizace ohlásila následnému uživateli nebo externímu poskytovateli turo skutečnost a uchovala zdokumentované informace o tom, co se stalo."}]
[null,{"$f":"IF(C82,Tipy!D323,\"\")","v":"Q4.8"},{"$f":"Tipy!M323","v":true},"waar",{"$f":"IF(Tipy!M323,Tipy!G325,\"\")","v":"Není třeba okamžitě měnit strategii, ale vždy hledejte zlepšení."}]
[null,{"$f":"IF(C83,Tipy!D329,\"\")","v":"Q5.1"},{"$f":"Tipy!M329","v":true},"waar",{"$f":"IF(Tipy!M329,Tipy!G331,\"\")","v":"Získejte představu o tom, co motivuje vaše zúčastněné strany a jak je musíte získat.\nPotřeby a očekávání zúčastněných stran mohou být pozitivní i negativní. Pokud mají zúčastněné strany pozitivní potřeby a očekávání ohledně organizace a jejích činností, zvažte, jak mohou tyto informace posílit programy v rámci jejich obchodní strategie. Klíčem je to, že organizace musí prokázat aktivní dialogové systémy k získání zpětné vazby od zúčastněných stran.\nPoužíváte-li průzkumy ke shromažďování zpětné vazby, nastavte cíl pro „přijatelný počet odpovědí“ před odesláním průzkumů. Pokud je míra návratnosti pod vaším cílem, určete tuto oblast pro zlepšení a vytvořte plán nápravných opatření. To se stává součástí neustálého zlepšování organizace."}]
[null,{"$f":"IF(C84,Tipy!D333,\"\")","v":"Q5.2"},{"$f":"Tipy!M333","v":true},"waar",{"$f":"IF(Tipy!M333,Tipy!G335,\"\")","v":"Není třeba okamžitě měnit strategii, ale vždy hledejte zlepšení."},"2020-12-01","Ing. Žák"]
[null,{"$f":"IF(C85,Tipy!D337,\"\")","v":"Q5.3"},{"$f":"Tipy!M337","v":true},"waar",{"$f":"IF(Tipy!M337,Tipy!G339,\"\")","v":"Požádat třetí stranu, aby každoročně přezkoumala výsledky hodnocení výkonnosti organizace před zveřejněním."}]
[null,{"$f":"IF(C86,Tipy!D341,\"\")","v":"Q5.4"},{"$f":"Tipy!M341","v":true},"waar",{"$f":"IF(Tipy!M341,Tipy!G343,\"\")","v":"Identifikovat místní projekty a akce (odpovídající klíčovým hodnotám vaší společnosti) a přispět k místnímu rozvoji. Příkladem projektů může být událost výsadby stromů s kolegy, která pomůže místní přírodní organizaci, sdílí znalosti nebo poznatky vaší organizace ve třídách na místních vzdělávacích institucích ..."}]
[null,{"$f":"IF(C87,Tipy!D345,\"\")","v":"Q5.5"},{"$f":"Tipy!M345","v":true},"waar",{"$f":"IF(Tipy!M345,Tipy!G347,\"\")","v":"Není třeba okamžitě měnit strategii, ale vždy hledejte zlepšení."}]
[null,{"$f":"IF(C88,Tipy!D351,\"\")","v":"Q6.1"},{"$f":"Tipy!M351","v":true},"waar",{"$f":"IF(Tipy!M351,Tipy!G353,\"\")","v":"Jakmile se identifikujete a zapojíte se zúčastněnými stranami, určete, jaké ukazatele udržitelnosti (společenské, hospodářské a environmentální) je třeba měřit, abyste skutečně získali potřebné informace a informace; K tomuto účelu můžete použít stávající odvětvové mapy (odkaz na odvětvový plán WBCSD: https://www.wbcsd.org/Programs/People/Sustainable-Development-Goals/SDG-Sector-Roadmaps/Resources/SDG-Sector-Roadmaps),  Charta udržitelnosti (odkaz na Cefic chartu: https://chemistrycan.com/app/uploads/2017/10/Cefic-Sustainability-Charter-signed.pdf)  a zásady (odkaz na zásady ACC: https://www.americanchemistry.com/Sustainability/Principles.html). "},null,null,null,null,"link 1","link 2","link 3"]
[null,{"$f":"IF(C89,Tipy!D358,\"\")","v":"Q6.2"},{"$f":"Tipy!M358","v":true},"waar",{"$f":"IF(Tipy!M358,Tipy!G360,\"\")","v":"Identifikujte příležitosti k dopadu a plánované akce týkající se příspěvku podle plánu pro SDG pro chemický sektor (např. Odvětvový plán WBCSD- https://www.wbcsd.org/Programs/People/Sustainable-Development-Goals/SDG-Sector-Roadmaps/Resources/SDG-Sector-Roadmaps, \ncharty udržitelného rozvoje Cefic: https://chemistrycan.com/app/uploads/2017/10/Cefic-Sustainability-Charter-signed.pdf\na principů ACC: https://www.americanchemistry.com/Sustainability/Principles.html).\n "},"12/2020 + 12/2021","Ing. Kubíček + Ing. Dlouhý",null,null,"link 1","link 2","link 3"]
[null,{"$f":"IF(C90,Tipy!D365,\"\")","v":"Q6.3"},{"$f":"Tipy!M365","v":true},"waar",{"$f":"IF(Tipy!M365,Tipy!G367,\"\")","v":"Zapojte interně i externě do témat udržitelnosti. Zveřejňujte každoročně úplnou zprávu o udržitelnosti všech materiálů a problémů s odkazy na pokyny Global Reporting Initiative (GRI) Sustainability Reporting Guidelines nebo jejich ekvivalenty.\nSdílení informací o politikách a výkonnosti v otázkách životního prostředí, sociálních věcí a správy věcí veřejných vám pomůže budovat důvěru se svými zákazníky a partnery, sledovat a zmírňovat rizika a najít způsoby, jak zlepšit účinnost, což má pozitivní dopad na vaše finanční výsledky."}]
[null,{"$f":"IF(C91,Tipy!D369,\"\")","v":"Q6.4"},{"$f":"Tipy!M369","v":true},"waar",{"$f":"IF(Tipy!M369,Tipy!G371,\"\")","v":"Pokyny, jak zavést proces navrhování produktů se zlepšenými výsledky v oblasti udržitelnosti, poskytuje https://www.wbcsd.org/contentwbc/download/5870/80216. "}]
[null,{"$f":"IF(C92,Tipy!D373,\"\")","v":"Q6.5"},{"$f":"Tipy!M373","v":true},"waar",{"$f":"IF(Tipy!M373,Tipy!G375,\"\")","v":"Zavést postup ke zlepšení efektivity zdrojů ve výrobních procesech vaší organizace.\nV rámci tohoto procesu upřednostňujte ekologicky navržené výrobky, biologické suroviny, druhotné suroviny z recyklace a opětovné použití zavedením kritérií pro tyto aspekty při výběru nákupu, jako alternativa k neobnovitelným surovinám.\nVyhodnocovat účinnost tohoto procesu je pravidelně."},"2021-03-01","Ing. Karika (vedoucí odd. investic)"]
[null,{"$f":"IF(C93,Tipy!D377,\"\")","v":"Q6.6"},{"$f":"Tipy!M377","v":true},"waar",{"$f":"IF(Tipy!M377,Tipy!G379,\"\")","v":"Zkoumejte a identifikujte recyklovatelnost a trvanlivost svých produktů a naplánujte vylepšení procesu navrhování výrobků s ohledem na tyto aspekty."}]
[null,{"$f":"IF(C94,Tipy!D381,\"\")","v":"Q6.7"},{"$f":"Tipy!M381","v":true},"waar",{"$f":"IF(Tipy!M381,Tipy!G383,\"\")","v":"Sdílení osvědčených postupů pro zvýšení výhod"}]
[null,{"$f":"IF(C95,Tipy!D385,\"\")","v":"Q6.8"},{"$f":"Tipy!M385","v":true},"waar",{"$f":"IF(Tipy!M385,Tipy!G387,\"\")","v":"Vytvořte inovační programy s průmyslovými nebo akademickými činiteli, na nichž vaše organizace sdílí prostředky (materiály, rozpočty, zdroje atd.)."}]
[null,{"$f":"IF(C96,Tipy!D389,\"\")","v":"Q6.9"},{"$f":"Tipy!M389","v":true},"waar",{"$f":"IF(Tipy!M389,Tipy!G391,\"\")","v":"Seznamte se s dopady výrobců vaší organizace a informujte o tom své klienty."}]
[null,{"$f":"IF(C97,Tipy!D393,\"\")","v":"Q6.10"},{"$f":"Tipy!M393","v":true},"waar",{"$f":"IF(Tipy!M393,Tipy!G395,\"\")","v":"Naplánujte konkrétní opatření ke snížení spotřeby vody vaší organizace na základě klíčových problémů zjištěných monitorováním.\nDobré přístupy k správě vody zahrnují: EWS-https: //ews.info/ a CDP - Water- https://www.cdp.net/en/water"},null,null,null,null,"link 1","link 2"]
[null,{"$f":"IF(C98,Tipy!D399,\"\")","v":"Q6.11"},{"$f":"Tipy!M399","v":true},"waar",{"$f":"IF(Tipy!M399,Tipy!G401,\"\")","v":"Aktivně přispívat k ochraně přírodního prostředí, nad nimž máte přímý dopad, prostřednictvím partnerství s aktéry ochrany životního prostředí na možných akcích organizace pro místní biologickou rozmanitost.\nMobilizovat zaměstnance k závazkům organizace v oblasti zachování biologické rozmanitosti.\nMezi cenné pokyny patří http://www.teebweb.org/areas-of-work/teeb-for-business/ "}]
[null,{"$f":"IF(C99,Tipy!D403,\"\")","v":"Q6.12"},{"$f":"Tipy!M403","v":true},"waar",{"$f":"IF(Tipy!M403,Tipy!G405,\"\")","v":"Identifikujte některé konkrétní akce k ochraně služeb poskytovaných vaší činnosti (např. Závislost na určitých surovinách) ekosystémy.\nMezi cenné dokumenty s pokyny patří http://www.teebweb.org/areas-of-work/teeb-for-business/"}]
[null,{"$f":"IF(C100,Tipy!D407,\"\")","v":"Q6.13"},{"$f":"Tipy!M407","v":true},"waar",{"$f":"IF(Tipy!M407,Tipy!G409,\"\")","v":"Stanovte ukazatele energetické náročnosti (EnPIs) vhodné pro měření a monitorování energetické náročnosti. EnPIs by měly organizaci umožnit prokázat zlepšení energetické náročnosti. Při zřizování ENPIs je proto důležité zvážit proměnné, které významně ovlivňují energetickou účinnost (např. Výrobní jednotky). Porovnejte EnPIs s jejich příslušnými EnBs výchozí energie. Na základě těchto údajů stanovte cíle zlepšení a energetické cíle. Investujte do inteligentních technologií pro zlepšení energetické náročnosti."}]
[null,{"$f":"IF(C101,Tipy!D411,\"\")","v":"Q6.14"},{"$f":"Tipy!M411","v":true},"waar",{"$f":"IF(Tipy!M411,Tipy!G413,\"\")","v":"Vytvářet partnerství s geograficky souvisejícími organizacemi za účelem rozvoje „místních synergií“ (příklad: prodej zbytkového tepla mezi dvěma subjekty).\nImplementujte identifikovanou spolupráci."},"2021-12-01","Ing. Dlouhý"]
[null,{"$f":"IF(C102,Tipy!D415,\"\")","v":"Q6.15"},{"$f":"Tipy!M415","v":true},"waar",{"$f":"IF(Tipy!M415,Tipy!G417,\"\")","v":"Stanovte jasné cíle ke snížení emisí skleníkových plynů (např. Přechod k obnovitelné energii) a pravidelně sledujte pokrok směrem k těmto cílům. Podnikněte kroky ke snížení emisí z rozsahu 1 a 2."}]
[null,{"$f":"IF(C103,Tipy!D419,\"\")","v":"Q6.16"},{"$f":"Tipy!M419","v":true},"waar",{"$f":"IF(Tipy!M419,Tipy!G421,\"\")","v":"Identifikujte rizika spojená se změnou klimatu pro činnosti vaší organizace a možná opatření k omezení těchto rizik."}]
[null,{"$f":"IF(C104,Tipy!D423,\"\")","v":"Q6.17"},{"$f":"Tipy!M423","v":true},"waar",{"$f":"IF(Tipy!M423,Tipy!G425,\"\")","v":"Výsledky pravidelně vyhodnocujte a komunikujte je interně i externě."}]

{"sheet":"Technický list","index":15,"n_rows":713,"n_cols":64,"rows_kept":713,"cut":false,"hidden":false,"merged":[[580,14,580,15],[9,60,9,178]]}
["This technical page contains reference data and formules for each chapter."]
["Yellow fields are editable"]
[]
["chapter 1"]
[]
[]
[null,null,null,null,null,null,null,null,"scores in case of compliance",null,null,null,null,null,null,null,null,null,null,"to copy",null,null,null,null,null,null,null,null,null,null,null,null,"equal weights (adaptable)",null,null,null,"MCA"]
[null,"scores",null,null,null,"prefill",null,"answered","ISO9001","ISO14001","ISO26000","ISO45001","ISO50001","EMAS","RC14001","RCMS","GHS",null,null,{"$f":"I8","v":"ISO9001"},{"$f":"J8","v":"ISO14001"},{"$f":"K8","v":"ISO26000"},{"$f":"L8","v":"ISO45001"},"ISO50001",{"$f":"N8","v":"EMAS"},{"$f":"O8","v":"RC14001"},{"$f":"P8","v":"RCMS"},"GHS","clear",null,"weights",null,{"$f":"IF(SUM(AG10:AG32)=100,\"ok\",\"error\")","v":"ok"},{"$f":"IF(SUM(AH10:AH32)/COUNT(AG10:AG32)=100,\"ok\",\"error\")","v":"ok"},null,null,"subscores","score",null,null,"identification of major issues",null,null,null,null,null,"scores for standards",null,null,null,null,null,null,null,null,null,null,"improvement tips"]
[null,null,null,null,null,null,null,null,null,null,null,null,null,null,null,null,null,null,null,null,null,null,null,null,null,null,null,null,null,null,null,null,null,null,null,null,null,{"$f":"(AK10*AG10+AK13*AG13+AK15*AG15+AK18*AG18+AK20*AG20+AG24*AK24+AG29*AK29+AG31*AK31)/100","v":3.3809523809523818},null,null,null,null,null,null,null,null,null,{"$f":"I8","v":"ISO9001"},{"$f":"J8","v":"ISO14001"},{"$f":"K8","v":"ISO26000"},{"$f":"L8","v":"ISO45001"},{"$f":"M8","v":"ISO50001"},{"$f":"N8","v":"EMAS"},{"$f":"O8","v":"RC14001"},{"$f":"P8","v":"RCMS"},"GHS"]
[null,{"$f":"'Kapitola 1'!C6","v":"Q1.1"},{"$f":"IF('Kapitola 1'!K7,1,IF('Kapitola 1'!K8,2,IF('Kapitola 1'!K9,3,IF('Kapitola 1'!K10,4,\"\"))))","v":4},"formula 4 choices",null,null,{"$f":"B10","v":"Q1.1"},{"$f":"'Kapitola 1'!K7","v":false},false,false,false,false,false,false,false,false,null,null,{"$f":"G10","v":"Q1.1"},{"$f":"IF(I10=\"\",$H10,I10)","v":false},{"$f":"IF(J10=\"\",$H10,J10)","v":false},{"$f":"IF(K10=\"\",$H10,K10)","v":false},{"$f":"IF(L10=\"\",$H10,L10)","v":false},{"$f":"IF(M10=\"\",$H10,M10)","v":false},{"$f":"IF(N10=\"\",$H10,N10)","v":false},{"$f":"IF(O10=\"\",$H10,O10)","v":false},{"$f":"IF(P10=\"\",$H10,P10)","v":false},{"$f":"IF(Q10=\"\",$H10,Q10)","v":false},false,null,{"$f":"'Kapitola 1'!B4","v":"Rozsah & Závazek"},null,{"$f":"100/7","v":14.285714285714286},null,null,null,{"$f":"((C10*AH11)+(C11*AH12))/100","v":4},null,null,null,{"$f":"B10","v":"Q1.1"},1,{"$f":"IF(C10<AP10,\"major issue\",\"ok\")","v":"ok"},{"$f":"IF(AQ10<>\"ok\",1,0)","v":0},null,null,{"$f":"AO10","v":"Q1.1"},{"$f":"IF(I10,1,IF(I11,2,IF(I12,3,IF(I13,4,\"-\"))))","v":3},{"$f":"IF(J10,1,IF(J11,2,IF(J12,3,IF(J13,4,\"-\"))))","v":3},{"$f":"IF(K10,1,IF(K11,2,IF(K12,3,IF(K13,4,\"-\"))))","v":3},{"$f":"IF(L10,1,IF(L11,2,IF(L12,3,IF(L13,4,\"-\"))))","v":3},{"$f":"IF(M10,1,IF(M11,2,IF(M12,3,IF(M13,4,\"-\"))))","v":3},{"$f":"IF(N10,1,IF(N11,2,IF(N12,3,IF(N13,4,\"-\"))))","v":3},{"$f":"IF(O10,1,IF(O11,2,IF(O12,3,IF(O13,4,\"-\"))))","v":3},{"$f":"IF(P10,1,IF(P11,2,IF(P12,3,IF(P13,4,\"-\"))))","v":4},{"$f":"IF(Q10,1,IF(Q11,2,IF(Q12,3,IF(Q13,4,\"-\"))))","v":"-"},null,{"$f":"G10","v":"Q1.1"},{"$f":"CONCATENATE(BF10,BH10)","v":"Q1.1FALSE"},{"$f":"H10","v":false},"Stanovení a implementace politiky je dobrý způsob, jak jasně informovat své zaměstnance o tom, co se od nich očekává v souvislosti s činností HSEE&S.\nPolitika může být samostatným dokumentem nebo integrována do kvalitativních nebo jiných organizačních zásad. Vrcholový management má klíčovou roli při formulaci, provádění a komunikaci politiky.\nTato politika zvažuje:\n- poslání organizace, hodnoty a přesvědčení;\n- neustálé zlepšování;\n- soulad s příslušnými zákony a předpisy HSEE&S;\n- splnění dalších kritérií HSEE&S, kterých se organizace účastní;\n- komunikace se zúčastněnými stranami;\n- koordinace s ostatními organizačními politikami.\nUdržujte své zásady jednoduché a srozumitelné. Zeptejte se sami sebe, co se snažíte dosáhnout a jak nejlépe komunikovat v rámci organizace. Otestujte jednoduchost a srozumitelnost dotazem: „Mohli by naši zaměstnanci popsat záměr naší politiky maximálně dvaceti slovy? Srovnejte obsah vaší politiky s cíli vaší organizace tak, aby politika odrážela soulad s těmito cíli.\nZávazek dodržovat zákony a předpisy je samozřejmostí.\nPřed přijetím závazku splnit další požadavky související s HSEE&S může organizace chtít provést inventuru, aby porozuměla rozsahu závazku."]
[null,{"$f":"'Kapitola 1'!C12","v":"Q1.2"},{"$f":"IF('Kapitola 1'!K13,1,IF('Kapitola 1'!K14,2,IF('Kapitola 1'!K15,3,IF('Kapitola 1'!K16,4,\"\"))))","v":4},"formula 4 choices",null,null,null,{"$f":"'Kapitola 1'!K8","v":false},false,false,false,false,false,false,false,false,null,null,null,{"$f":"IF(I11=\"\",$H11,I11)","v":false},false,false,{"$f":"IF(L11=\"\",$H11,L11)","v":false},{"$f":"IF(M11=\"\",$H11,M11)","v":false},false,false,false,false,false,null,null,{"$f":"B10","v":"Q1.1"},null,50,null,null,null,null,null,null,{"$f":"B11","v":"Q1.2"},1,{"$f":"IF(C11<AP11,\"major issue\",\"ok\")","v":"ok"},{"$f":"IF(AQ11<>\"ok\",1,0)","v":0},null,null,{"$f":"AO11","v":"Q1.2"},{"$f":"IF(I14,1,IF(I15,2,IF(I16,3,IF(I17,4,\"-\"))))","v":3},{"$f":"IF(J14,1,IF(J15,2,IF(J16,3,IF(J17,4,\"-\"))))","v":3},{"$f":"IF(K14,1,IF(K15,2,IF(K16,3,IF(K17,4,\"-\"))))","v":"-"},{"$f":"IF(L14,1,IF(L15,2,IF(L16,3,IF(L17,4,\"-\"))))","v":3},{"$f":"IF(M14,1,IF(M15,2,IF(M16,3,IF(M17,4,\"-\"))))","v":3},{"$f":"IF(N14,1,IF(N15,2,IF(N16,3,IF(N17,4,\"-\"))))","v":3},{"$f":"IF(O14,1,IF(O15,2,IF(O16,3,IF(O17,4,\"-\"))))","v":3},{"$f":"IF(P14,1,IF(P15,2,IF(P16,3,IF(P17,4,\"-\"))))","v":"-"},"-",null,{"$f":"BF10","v":"Q1.1"},{"$f":"CONCATENATE(BF11,BH11)","v":"Q1.1FALSE"},{"$f":"H11","v":false},"Doporučuje se sdělovat politiku zaměstnancům a podporovat je v jejich porozumění. Mezi možnosti interní komunikace vaší politiky patří zveřejnění na pracovištích, začlenění do školicích tříd a materiálů a odkazování na ně na schůzkách zaměstnanců nebo na všech setkáních. Občas otestujte povědomí a porozumění a zeptejte se zaměstnanců, zda vědí, kde mohou najít politiku HSEE&S, co pro ně znamená a jak to ovlivňuje jejich práci.\nDoporučuje se v politice jasně uvést závazek organizace k neustálému zlepšování odpovědné péče."]
[null,{"$f":"'Kapitola 1'!C20","v":"Q1.3"},{"$f":"IF('Kapitola 1'!K21,1,IF('Kapitola 1'!K22,2,IF('Kapitola 1'!K23,3,IF('Kapitola 1'!K24,4,\"\"))))","v":4},"formula 4 choices",null,null,null,{"$f":"'Kapitola 1'!K9","v":false},true,true,true,true,true,true,true,false,null,null,null,{"$f":"IF(I12=\"\",$H12,I12)","v":true},true,true,{"$f":"IF(L12=\"\",$H12,L12)","v":true},true,true,true,false,false,false,null,null,{"$f":"B11","v":"Q1.2"},null,50,null,null,null,null,null,null,"Q1.3",1,"ok",0,null,null,"Q1.3",{"$f":"IF(I18,1,IF(I19,2,IF(I20,3,IF(I21,4,\"-\"))))","v":"-"},{"$f":"IF(J18,1,IF(J19,2,IF(J20,3,IF(J21,4,\"-\"))))","v":2},{"$f":"IF(K18,1,IF(K19,2,IF(K20,3,IF(K21,4,\"-\"))))","v":2},{"$f":"IF(L18,1,IF(L19,2,IF(L20,3,IF(L21,4,\"-\"))))","v":2},{"$f":"IF(M18,1,IF(M19,2,IF(M20,3,IF(M21,4,\"-\"))))","v":2},{"$f":"IF(N18,1,IF(N19,2,IF(N20,3,IF(N21,4,\"-\"))))","v":2},{"$f":"IF(O18,1,IF(O19,2,IF(O20,3,IF(O21,4,\"-\"))))","v":2},{"$f":"IF(P18,1,IF(P19,2,IF(P20,3,IF(P21,4,\"-\"))))","v":2},"-",null,{"$f":"BF11","v":"Q1.1"},"Q1.1FALSE",{"$f":"H12","v":false},"Podle potřeby sdělte politiku svým zúčastněným stranám a zpřístupněte ji veřejnosti. Mezi vaše zúčastněné strany mohou patřit i smluvní partneři, obchodní partneři, členové komunity atd., Jak je identifikováno organizací. Vedení obecného seznamu svých zúčastněných stran a způsobu, jakým jim sděluje politiku a další informace. Organizace může v rámci svého procesu chtít pravidelně zkoumat povědomí o této politice s těmito zúčastněnými stranami, aby mohla posoudit její účinnost komunikace.\nTato politika musí být rovněž přístupná veřejnosti. Některé příklady, jak to sdělit veřejnosti, je zveřejnění politiky na webových stránkách organizace, uvedení politiky na vizitky, umístění do výročních zpráv nebo jiných publikací ...\nUveďte datum a připojte podpis zástupce vyššího vedení. To prokáže závazek vedení k této politice\nProveďte inventarizaci s vedoucími pracovníky, abyste určili, co dělají, aby ukázali podporu HSEE&S / Responsible Care (např. Zapojení managementu do programů HSEE&S, projevy, aktivity pro stanovení cílů ...)"]
[null,{"$f":"'Kapitola 1'!C28","v":"Q1.4"},{"$f":"IF('Kapitola 1'!K29,1,IF('Kapitola 1'!K30,2,IF('Kapitola 1'!K31,3,IF('Kapitola 1'!K32,4,\"\"))))","v":3},"formula 4 choices",null,null,null,{"$f":"'Kapitola 1'!K10","v":true},false,false,false,false,false,false,false,true,null,null,null,{"$f":"IF(I13=\"\",$H13,I13)","v":false},false,false,{"$f":"IF(L13=\"\",$H13,L13)","v":false},false,false,false,true,{"$f":"IF(Q13=\"\",$H13,Q13)","v":true},false,null,{"$f":"'Kapitola 1'!B18","v":"Dodržování předpisů \n "},null,{"$f":"100/7","v":14.285714285714286},null,null,null,{"$f":"C12","v":4},null,null,null,"Q1.4",1,"ok",0,null,null,"Q1.4",{"$f":"IF(I22,1,IF(I23,2,IF(I24,3,IF(I25,4,\"-\"))))","v":2},{"$f":"IF(J22,1,IF(J23,2,IF(J24,3,IF(J25,4,\"-\"))))","v":2},{"$f":"IF(K22,1,IF(K23,2,IF(K24,3,IF(K25,4,\"-\"))))","v":4},{"$f":"IF(L22,1,IF(L23,2,IF(L24,3,IF(L25,4,\"-\"))))","v":2},{"$f":"IF(M22,1,IF(M23,2,IF(M24,3,IF(M25,4,\"-\"))))","v":2},{"$f":"IF(N22,1,IF(N23,2,IF(N24,3,IF(N25,4,\"-\"))))","v":2},{"$f":"IF(O22,1,IF(O23,2,IF(O24,3,IF(O25,4,\"-\"))))","v":2},{"$f":"IF(P22,1,IF(P23,2,IF(P24,3,IF(P25,4,\"-\"))))","v":2},"-",null,{"$f":"BF12","v":"Q1.1"},"Q1.1TRUE",{"$f":"H13","v":true},"Testujte povědomí a porozumění z času na čas tím, že se zeptáte zaměstnanců, zda vědí, že existuje politika HSEE&S, co to pro ně znamená a jak to ovlivňuje jejich práci.\nOrganizace může chtít pravidelně testovat povědomí o této politice se svými zúčastněnými stranami v rámci svého procesu, aby posoudila její účinnost komunikace.\nSeznam zúčastněných stran by měl být přezkoumán a aktualizován, aby odrážel měnící se okolnosti."]
[null,{"$f":"'Kapitola 1'!C34","v":"Q1.5"},{"$f":"IF('Kapitola 1'!K35,1,IF('Kapitola 1'!K36,2,IF('Kapitola 1'!K37,3,IF('Kapitola 1'!K38,4,\"\"))))","v":3},"formula 4 choices",null,null,{"$f":"B11","v":"Q1.2"},{"$f":"'Kapitola 1'!K13","v":false},false,false,null,false,false,false,false,null,null,null,null,null,null,null,null,null,null,null,null,null,null,null,null,{"$f":"B12","v":"Q1.3"},null,100,null,null,null,null,null,null,"Q1.5",2,"ok",0,null,null,"Q1.5",{"$f":"IF(I26,1,IF(I27,2,IF(I28,3,IF(I29,4,\"-\"))))","v":3},{"$f":"IF(J26,1,IF(J27,2,IF(J28,3,IF(J29,4,\"-\"))))","v":3},{"$f":"IF(K26,1,IF(K27,2,IF(K28,3,IF(K29,4,\"-\"))))","v":3},{"$f":"IF(L26,1,IF(L27,2,IF(L28,3,IF(L29,4,\"-\"))))","v":3},{"$f":"IF(M26,1,IF(M27,2,IF(M28,3,IF(M29,4,\"-\"))))","v":3},{"$f":"IF(N26,1,IF(N27,2,IF(N28,3,IF(N29,4,\"-\"))))","v":3},{"$f":"IF(O26,1,IF(O27,2,IF(O28,3,IF(O29,4,\"-\"))))","v":3},{"$f":"IF(P26,1,IF(P27,2,IF(P28,3,IF(P29,4,\"-\"))))","v":"-"},"-",null,{"$f":"G14","v":"Q1.2"},"Q1.2FALSE",false,"Stanovení vnějších a vnitřních problémů, které jsou relevantní pro účel organizace a ovlivňují její schopnost dosáhnout zamýšlených výsledků jejího systému řízení. K identifikaci těchto problémů jsou k dispozici různé metodiky. Například kritéria PESTLE poskytují rámec pro identifikaci problémů souvisejících s politickým (P), ekonomickým (E), sociálním (S), technologickým (T), právním (L) a environmentálním (E) kontextem organizace. Tyto otázky zahrnují podmínky prostředí, které jsou ovlivněny nebo mohou ovlivnit organizaci."]
[null,{"$f":"'Kapitola 1'!C40","v":"Q1.6"},{"$f":"IF('Kapitola 1'!K41,1,IF('Kapitola 1'!K42,2,IF('Kapitola 1'!K43,3,IF('Kapitola 1'!K44,4,\"\"))))","v":3},"formula 4 choices",null,null,null,{"$f":"'Kapitola 1'!K14","v":false},false,false,null,false,false,false,false,null,null,null,null,null,null,null,null,null,null,null,null,null,null,null,{"$f":"'Kapitola 1'!B26","v":"Struktura řízení (managmentu)"},null,{"$f":"100/7","v":14.285714285714286},null,null,null,{"$f":"((C13*AH16)+(C14*AH17)+(C15*AH18)+(C16*AH19))/100","v":3},null,null,null,"Q1.6",2,"ok",0,null,null,"Q1.6",{"$f":"IF(I30,1,IF(I31,2,IF(I32,3,IF(I33,4,\"-\"))))","v":"-"},{"$f":"IF(J30,1,IF(J31,2,IF(J32,3,IF(J33,4,\"-\"))))","v":"-"},{"$f":"IF(K30,1,IF(K31,2,IF(K32,3,IF(K33,4,\"-\"))))","v":"-"},{"$f":"IF(L30,1,IF(L31,2,IF(L32,3,IF(L33,4,\"-\"))))","v":"-"},{"$f":"IF(M30,1,IF(M31,2,IF(M32,3,IF(M33,4,\"-\"))))","v":"-"},{"$f":"IF(N30,1,IF(N31,2,IF(N32,3,IF(N33,4,\"-\"))))","v":"-"},{"$f":"IF(O30,1,IF(O31,2,IF(O32,3,IF(O33,4,\"-\"))))","v":3},{"$f":"IF(P30,1,IF(P31,2,IF(P32,3,IF(P33,4,\"-\"))))","v":"-"},"-",null,{"$f":"BF14","v":"Q1.2"},"Q1.2FALSE",false,"Přemýšlejte o tom, které identifikované vnější a vnitřní problémy jsou pro organizaci rizika a příležitosti. "]
[null,{"$f":"'Kapitola 1'!C46","v":"Q1.7"},{"$f":"IF('Kapitola 1'!K47,1,IF('Kapitola 1'!K48,2,IF('Kapitola 1'!K49,3,IF('Kapitola 1'!K50,4,\"\"))))","v":3},"formula 4 choices",null,null,null,{"$f":"'Kapitola 1'!K15","v":false},true,true,null,true,true,true,true,null,null,null,{"$f":"G14","v":"Q1.2"},{"$f":"IF(I14=\"\",$H14,I14)","v":false},false,false,false,false,false,false,false,false,false,null,null,{"$f":"B13","v":"Q1.4"},null,25,null,null,null,null,null,null,"Q1.7",2,"ok",0,null,null,"Q1.7",{"$f":"IF(I34,1,IF(I35,2,IF(I36,3,IF(I37,4,\"-\"))))","v":3},{"$f":"IF(J34,1,IF(J35,2,IF(J36,3,IF(J37,4,\"-\"))))","v":3},{"$f":"IF(K34,1,IF(K35,2,IF(K36,3,IF(K37,4,\"-\"))))","v":"-"},{"$f":"IF(L34,1,IF(L35,2,IF(L36,3,IF(L37,4,\"-\"))))","v":3},{"$f":"IF(M34,1,IF(M35,2,IF(M36,3,IF(M37,4,\"-\"))))","v":3},{"$f":"IF(N34,1,IF(N35,2,IF(N36,3,IF(N37,4,\"-\"))))","v":4},{"$f":"IF(O34,1,IF(O35,2,IF(O36,3,IF(O37,4,\"-\"))))","v":3},{"$f":"IF(P34,1,IF(P35,2,IF(P36,3,IF(P37,4,\"-\"))))","v":3},"-",null,{"$f":"BF15","v":"Q1.2"},"Q1.2FALSE",false,"Proaktivní řešení vnějších a vnitřních problémů prostřednictvím opatření k řešení rizik a příležitostí. Pro každou akci určete, kdo je odpovědný za umožnění sledování a zajištění provedení akcí."]
[null,{"$f":"'Kapitola 1'!C54","v":"Q1.8"},{"$f":"IF('Kapitola 1'!K55,1,IF('Kapitola 1'!K56,2,IF('Kapitola 1'!K57,3,IF('Kapitola 1'!K58,4,\"\"))))","v":3},"formula 4 choices",null,null,null,{"$f":"'Kapitola 1'!K16","v":true},false,false,null,false,false,false,false,null,null,null,null,{"$f":"IF(I15=\"\",$H15,I15)","v":false},{"$f":"IF(J15=\"\",$H15,J15)","v":false},{"$f":"IF(K15=\"\",$H15,K15)","v":false},{"$f":"IF(L15=\"\",$H15,L15)","v":false},{"$f":"IF(M15=\"\",$H15,M15)","v":false},{"$f":"IF(N15=\"\",$H15,N15)","v":false},{"$f":"IF(O15=\"\",$H15,O15)","v":false},{"$f":"IF(P15=\"\",$H15,P15)","v":false},false,false,null,null,"Q1.5",null,25,null,null,null,null,null,null,"Q1.8",2,"ok",0,null,null,"Q1.8",{"$f":"IF(I38,1,IF(I39,2,IF(I40,3,IF(I41,4,\"-\"))))","v":3},{"$f":"IF(J38,1,IF(J39,2,IF(J40,3,IF(J41,4,\"-\"))))","v":3},{"$f":"IF(K38,1,IF(K39,2,IF(K40,3,IF(K41,4,\"-\"))))","v":"-"},{"$f":"IF(L38,1,IF(L39,2,IF(L40,3,IF(L41,4,\"-\"))))","v":3},{"$f":"IF(M38,1,IF(M39,2,IF(M40,3,IF(M41,4,\"-\"))))","v":3},{"$f":"IF(N38,1,IF(N39,2,IF(N40,3,IF(N41,4,\"-\"))))","v":3},{"$f":"IF(O38,1,IF(O39,2,IF(O40,3,IF(O41,4,\"-\"))))","v":3},{"$f":"IF(P38,1,IF(P39,2,IF(P40,3,IF(P41,4,\"-\"))))","v":3},"-",null,{"$f":"BF16","v":"Q1.2"},"Q1.2TRUE",true,"Nejvyšší skóre, každoročně přehodnocovat vnější a vnitřní záležitosti a pravidelně sledovat pokrok dosažený v činnostech."]
[null,{"$f":"'Kapitola 1'!C60","v":"Q1.9"},{"$f":"IF('Kapitola 1'!K61,1,IF('Kapitola 1'!K62,2,IF('Kapitola 1'!K63,3,IF('Kapitola 1'!K64,4,\"\"))))","v":4},"formula 4 choices",null,null,{"$f":"B12","v":"Q1.3"},{"$f":"'Kapitola 1'!K21","v":false},null,false,false,false,false,false,false,false,null,null,null,true,true,false,true,true,true,true,false,false,false,null,null,{"$f":"B15","v":"Q1.6"},null,25,null,null,null,null,null,null,"Q1.9",2,"ok",0,null,null,"Q1.9",{"$f":"IF(I42,1,IF(I43,2,IF(I44,3,IF(I45,4,\"-\"))))","v":3},3,"-",3,3,3,3,3,"-",null,{"$f":"G18","v":"Q1.3"},"Q1.3FALSE",false,"Nechat vedení určit útvar/zaměstnance odpovědného za dokumentování předpisů EU týkajících se bezpečnosti, ochrany zdraví a životního prostředí a stupně jejich souladu s platnými zákony o záležitostech HSEE&S."]
[null,{"$f":"'Kapitola 1'!C66","v":"Q1.10"},{"$f":"IF('Kapitola 1'!K67,1,IF('Kapitola 1'!K68,2,IF('Kapitola 1'!K69,3,IF('Kapitola 1'!K70,4,\"\"))))","v":4},"formula 4 choices",null,null,null,{"$f":"'Kapitola 1'!K22","v":false},null,true,true,true,true,true,true,true,null,null,null,false,false,true,false,false,false,false,true,true,false,null,null,{"$f":"B16","v":"Q1.7"},null,25,null,null,null,null,null,null,"Q1.10",1,"ok",0,null,null,"Q1.10",{"$f":"IF(I46,1,IF(I47,2,IF(I48,3,IF(I49,4,\"-\"))))","v":3},3,"-",3,3,3,3,3,"-",null,{"$f":"BF18","v":"Q1.3"},"Q1.3FALSE",false,"Aktivně se zapojit do přípravy nových právních předpisů na celostátní úrovni."]
[null,{"$f":"'Kapitola 1'!C74","v":"Q1.11"},{"$f":"IF('Kapitola 1'!K75,1,IF('Kapitola 1'!K76,2,IF('Kapitola 1'!K77,3,IF('Kapitola 1'!K78,4,\"\"))))","v":3},"formula 4 choices",null,null,null,{"$f":"'Kapitola 1'!K23","v":false},null,false,false,false,false,false,false,false,null,null,null,null,null,null,null,null,null,null,null,null,null,null,{"$f":"'Kapitola 1'!B52","v":"Zabezpečení zlepšování"},null,{"$f":"100/7","v":14.285714285714286},null,null,null,{"$f":"((C17*AH21)+(C18*AH22)+(C19*AH23))/100","v":3.666666666666667},null,null,null,"Q1.11",1,"ok",0,null,null,"Q1.11",{"$f":"IF(I50,1,IF(I51,2,IF(I52,3,IF(I53,4,\"-\"))))","v":3},3,"-",3,3,3,3,3,"-",null,{"$f":"BF19","v":"Q1.3"},"Q1.3FALSE",false,"Aktivně se zapojit do přípravy nových právních předpisů na evropské úrovni nebo spolupracovat se zástupci orgánů při posuzování dopadů na průmyslové podniky a životní prostředí. "]
[null,{"$f":"'Kapitola 1'!C80","v":"Q1.12"},{"$f":"IF('Kapitola 1'!K81,1,IF('Kapitola 1'!K82,2,IF('Kapitola 1'!K83,3,IF('Kapitola 1'!K84,4,\"\"))))","v":3},"formula 4 choices",null,null,null,{"$f":"'Kapitola 1'!K24","v":true},null,false,false,false,false,false,false,false,null,null,null,null,null,null,null,null,null,null,null,null,null,null,null,{"$f":"B17","v":"Q1.8"},null,{"$f":"100/3","v":33.333333333333336},null,null,null,null,null,null,"Q1.12",2,"ok",0,null,null,"Q1.12",{"$f":"IF(I54,1,IF(I55,2,IF(I56,3,IF(I57,4,\"-\"))))","v":3},3,"-",3,3,3,3,4,"-",null,{"$f":"BF20","v":"Q1.3"},"Q1.3TRUE",true,"Doporučuje se každoročně přezkoumávat systém a rozhodovat o tom, co je ještě třeba, co lze vynechat, kde vznikají nové problémy…"]
[null,{"$f":"'Kapitola 1'!C86","v":"Q1.13"},{"$f":"IF('Kapitola 1'!K87,1,IF('Kapitola 1'!K88,2,IF('Kapitola 1'!K89,3,IF('Kapitola 1'!K90,4,\"\"))))","v":3},"formula 4 choices",null,null,{"$f":"B13","v":"Q1.4"},{"$f":"'Kapitola 1'!K29","v":false},false,false,false,false,false,false,false,false,null,null,null,null,null,null,null,null,null,null,null,null,null,null,null,{"$f":"B18","v":"Q1.9"},null,{"$f":"100/3","v":33.333333333333336},null,null,null,null,null,null,"Q1.13",2,"ok",0,null,null,"Q1.13",{"$f":"IF(I58,1,IF(I59,2,IF(I60,3,IF(I61,4,\"-\"))))","v":3},3,"-",3,3,3,3,3,"-",null,{"$f":"G22","v":"Q1.4"},"Q1.4FALSE",false,"Jako první krok pověřte osobu se zkušenostmi v oblasti HSEE&S, aby pracovala na implementaci systému řízení HSEE&S, a požádejte ji, aby podala zprávu nejvyšší úrovni řízení.\nUvědomte si, že nejúčinnější programy zapojení zaměstnanců začínají zapojením zaměstnanců během fáze implementace systému řízení (HSEE&S)."]
[null,{"$f":"'Kapitola 1'!C92","v":"Q1.14"},{"$f":"IF('Kapitola 1'!K93,1,IF('Kapitola 1'!K94,2,IF('Kapitola 1'!K95,3,IF('Kapitola 1'!K96,4,\"\"))))","v":3},"formula 4 choices",null,null,null,{"$f":"'Kapitola 1'!K30","v":false},true,true,false,true,true,true,true,true,null,null,null,null,null,null,null,null,null,null,null,null,null,null,null,"Q1.10",null,{"$f":"100/3","v":33.333333333333336},null,null,null,null,null,null,"Q1.14",1,"ok",0,null,null,"Q1.14",{"$f":"IF(I62,1,IF(I63,2,IF(I64,3,IF(I65,4,\"-\"))))","v":"-"},2,"-",3,2,3,2,3,"-",null,{"$f":"BF22","v":"Q1.4"},"Q1.4FALSE",false,"Určete skupinu osob, aby pracovala na implementaci systému řízení HSEE& S a požádejte je, aby podaly zprávu nejvyšší úrovni řízení.\nPoužívejte jasný, výstižný a konkrétní jazyk, aby každý věděl, co se očekává.\n- Definujte odpovědnost na všech úrovních organizace.\n- Přiřaďte odpovědnosti pouze těm, kteří jsou pověřeni prováděním, řízením a kontrolou akcí v oblasti jejich odpovědnosti.\n- Změřte výkon zaměstnanců na základě přidělených povinností.\nUvědomte si, že nejúčinnější programy zapojení zaměstnanců začínají zapojením zaměstnanců během fáze implementace systému řízení (HSEE&S)."]
[null,{"$f":"'Kapitola 1'!C100","v":"Q1.15"},{"$f":"IF('Kapitola 1'!K101,1,IF('Kapitola 1'!K102,2,IF('Kapitola 1'!K103,3,IF('Kapitola 1'!K104,4,\"\"))))","v":3},"formula 4 choices",null,null,null,{"$f":"'Kapitola 1'!K31","v":true},false,false,false,false,false,false,false,false,null,null,{"$f":"G18","v":"Q1.3"},{"$f":"IF(I18=\"\",$H18,I18)","v":false},{"$f":"IF(J18=\"\",$H18,J18)","v":false},{"$f":"IF(K18=\"\",$H18,K18)","v":false},{"$f":"IF(L18=\"\",$H18,L18)","v":false},false,false,false,{"$f":"IF(P18=\"\",$H18,P18)","v":false},false,false,null,{"$f":"'Kapitola 1'!B72","v":"Zdroje, školení a zapojení zaměstnanců"},null,{"$f":"100/7","v":14.285714285714286},null,null,null,{"$f":"((C20*AH25)+(C21*AH26)+(C22*AH27)+(C23*AH28))/100","v":3},null,null,null,"Q1.15",1,"ok",0,null,null,"Q1.15",{"$f":"IF(I66,1,IF(I67,2,IF(I68,3,IF(I69,4,\"-\"))))","v":3},3,"-",3,3,3,3,3,"-",null,{"$f":"BF23","v":"Q1.4"},"Q1.4TRUE",true,"Proveďte soupis programů Responsible Care/HSEE&S a určete, jak se stávající zaměstnanci zapojují do jejich vývoje, komunikace a implementace. Stavte na existujícím úspěchu. Zaměřte se na posílení oblastí, kde zaměstnanci nemusí mít tolik účasti.\nZapojte zaměstnance do aktivit HSEE&S, jako jsou programy zvyšování povědomí vůči komunitě atd.\nUvědomte si, že nejúčinnější programy zapojení zaměstnanců začínají zapojením zaměstnanců během fáze implementace systému řízení (HSEE&S)."]
[null,{"$f":"'Kapitola 1'!C108","v":"Q1.16"},{"$f":"IF('Kapitola 1'!K109,1,IF('Kapitola 1'!K110,2,IF('Kapitola 1'!K111,3,IF('Kapitola 1'!K112,4,\"\"))))","v":3},"formula 4 choices",null,null,null,{"$f":"'Kapitola 1'!K32","v":false},false,false,true,false,false,false,false,false,null,null,null,{"$f":"IF(I19=\"\",$H19,I19)","v":false},true,true,true,true,true,true,true,false,false,null,null,{"$f":"B20","v":"Q1.11"},null,25,null,null,null,null,null,null,"Q1.16",2,"ok",0,null,null,"Q1.16",{"$f":"IF(I70,1,IF(I71,2,IF(I72,3,IF(I73,4,\"-\"))))","v":3},3,"-",3,3,3,3,3,"-",null,{"$f":"BF24","v":"Q1.4"},"Q1.4FALSE",false,"Doporučuje se každoročně přezkoumávat systém a rozhodovat o tom, co je ještě třeba, co lze vynechat, kde vznikají nové problémy…"]
[null,null,null,null,null,null,{"$f":"B14","v":"Q1.5"},{"$f":"'Kapitola 1'!K35","v":false},false,false,false,false,false,false,false,null,null,null,null,{"$f":"IF(I20=\"\",$H20,I20)","v":false},false,false,false,false,false,false,false,false,false,null,null,{"$f":"B21","v":"Q1.12"},null,25,null,null,null,null,null,null,null,null,null,null,null,null,null,null,null,null,null,null,null,null,null,null,null,{"$f":"G26","v":"Q1.5"},"Q1.5FALSE",false,"Zapojte správní radu:\n- Integrovat HSEE&S do strategického myšlení managementu;\n- Vyškolit manažery tak, aby záležitosti HSEE&S automaticky zohledňovaly;\n- Přiložit výkon HSEE&S do jiných oblastí, např. podnikové zisky, finanční, zákaznické výhody atd.\n- Pokračujte v komunikaci.\nDlouhodobý závazek, důsledné uplatňování organizace HSEE&S, je zásadní pro úspěch programů. Nekonzistentní nebo nedostatečné vedení, které podkopává důvěryhodnost zaměstnance ohledně zásad HSEE&S. Zaměstnanci budou sledovat, zda je management skutečně zavázán dodržovat zásady ochrany zdraví a bezpečnosti. Pokud se podpora managementu nepovažuje za upřímnou (například ignoruje stanovené bezpečnostní požadavky), podkopává to jeho důvěryhodnost."]
[null,null,null,null,null,null,null,{"$f":"'Kapitola 1'!K36","v":false},false,false,false,false,false,false,false,null,null,null,null,{"$f":"IF(I21=\"\",$H21,I21)","v":true},false,false,false,false,false,false,false,true,false,null,null,"Q1.13",null,25,null,null,null,null,null,null,null,null,null,{"$f":"IF(SUM(AR10:AR25)>0,\"Klíčové prvky RC je třeba ještě implementovat, viz tipy\",\"\")","v":""},null,null,null,null,null,null,null,null,null,null,null,null,null,{"$f":"BF26","v":"Q1.5"},"Q1.5FALSE",false,"Sdělte správní radě možné pozitivní dopady systému řízení HSEE&S na podnikání organizace (tj. Image značky, sociální přijatelnost činností, rozlišení od konkurence, provozní efektivita…)."]
[null,null,null,null,null,null,null,{"$f":"'Kapitola 1'!K37","v":true},true,true,true,true,true,true,true,null,null,null,null,null,null,null,null,null,null,null,null,null,null,null,null,"Q1.14",null,25,null,null,null,null,null,null,null,null,null,null,null,null,null,null,null,null,null,null,null,null,null,null,null,{"$f":"BF27","v":"Q1.5"},"Q1.5TRUE",true,"Správní rada se stává velvyslancem pro systém řízení (HSEE&S) a jde příkladem:\nZapojte správní radu:\n- Zahrnout HSEE&S do novoročních projevů, zaměstnanců, vnitřních soutěží atd .;\n- Zajistit viditelnost environmentálních politik, akcí a výsledků;\n- Přineste zprávu zákazníkům;\n- Pokračujte v komunikaci."]
[null,null,null,null,null,null,null,{"$f":"'Kapitola 1'!K38","v":false},false,false,false,false,false,false,false,null,null,null,null,null,null,null,null,null,null,null,null,null,null,null,{"$f":"'Kapitola 1'!B98","v":"Správa dokumentů"},null,{"$f":"100/7","v":14.285714285714286},null,null,null,{"$f":"C24","v":3},null,null,null,null,null,null,null,null,null,null,null,null,null,null,null,null,null,null,null,null,{"$f":"BF28","v":"Q1.5"},"Q1.5FALSE",false,"Doporučuje se každoročně přezkoumávat systém a rozhodovat o tom, co je ještě třeba, co lze vynechat, kde vznikají nové problémy…"]
[null,null,null,null,null,null,{"$f":"B15","v":"Q1.6"},{"$f":"'Kapitola 1'!K41","v":false},null,null,null,null,null,null,false,null,null,null,null,null,null,null,null,null,null,null,null,null,null,null,null,{"$f":"B24","v":"Q1.15"},null,100,null,null,null,null,null,null,null,null,null,null,null,null,null,null,null,null,null,null,null,null,null,null,null,{"$f":"G30","v":"Q1.6"},"Q1.6FALSE",false,"Cíle jsou integrovány do definice popisů úkolů osob s odpovědností HSEE&S, které jsou spojeny se systémem řízení (HSEE&S)."]
[null,null,null,null,null,null,null,{"$f":"'Kapitola 1'!K42","v":false},null,null,null,null,null,null,false,null,null,null,null,null,null,null,null,null,null,null,null,null,null,null,{"$f":"'Kapitola 1'!B106","v":"Řízení změn"},null,{"$f":"100/7","v":14.285714285714286},null,null,null,{"$f":"C25","v":3},null,null,null,null,null,null,null,null,null,null,null,null,null,null,null,null,null,null,null,null,{"$f":"BF30","v":"Q1.6"},"Q1.6FALSE",false,"Cíle jsou integrovány do definice popisů úloh všech manažerů a manažerů HSEE&S, které jsou propojeny se systémem řízení (HSEE&S)."]
[null,null,null,null,null,null,null,{"$f":"'Kapitola 1'!K43","v":true},null,null,null,null,null,null,true,null,null,null,{"$f":"G22","v":"Q1.4"},{"$f":"IF(I22=\"\",$H22,I22)","v":false},{"$f":"IF(J22=\"\",$H22,J22)","v":false},{"$f":"IF(K22=\"\",$H22,K22)","v":false},{"$f":"IF(L22=\"\",$H22,L22)","v":false},{"$f":"IF(M22=\"\",$H22,M22)","v":false},{"$f":"IF(N22=\"\",$H22,N22)","v":false},{"$f":"IF(O22=\"\",$H22,O22)","v":false},{"$f":"IF(P22=\"\",$H22,P22)","v":false},false,false,null,null,{"$f":"B25","v":"Q1.16"},null,100,null,null,null,null,null,null,null,null,null,null,null,null,null,null,null,null,null,null,null,null,null,null,null,{"$f":"BF31","v":"Q1.6"},"Q1.6TRUE",true,"Cíle jsou začleněny do definice pracovních náplní všech zaměstnanců, kteří jsou napojeni na systém řízení (HSEE& S), nebo implementují jiné pobídky k motivaci péče o zaměstnance na všech úrovních organizace."]
[null,null,null,null,null,null,null,{"$f":"'Kapitola 1'!K44","v":false},null,null,null,null,null,null,false,null,null,null,null,{"$f":"IF(I23=\"\",$H23,I23)","v":true},true,false,true,{"$f":"IF(M23=\"\",$H23,M23)","v":true},{"$f":"IF(N23=\"\",$H23,N23)","v":true},true,true,false,false,null,null,null,null,null,null,null,null,null,null,null,null,null,null,null,null,null,null,null,null,null,null,null,null,null,null,null,null,{"$f":"BF32","v":"Q1.6"},"Q1.6FALSE",false,"It is recommended to annually review the system and to decide upon what is still needed, what can be left out, where are new issues arising…"]
[null,null,null,null,null,null,{"$f":"B16","v":"Q1.7"},{"$f":"'Kapitola 1'!K47","v":false},false,false,null,false,false,false,false,false,null,null,null,{"$f":"IF(I24=\"\",$H24,I24)","v":false},false,false,false,false,false,false,false,true,false,null,null,null,null,null,null,null,null,null,null,null,null,null,null,null,null,null,null,null,null,null,null,null,null,null,null,null,null,{"$f":"G34","v":"Q1.7"},"Q1.7FALSE",false,"Definujte strukturu správy pro správu témat HSEE & S. Přiřaďte odpovědné osoby k jasným rolím."]
[null,null,null,null,null,null,null,{"$f":"'Kapitola 1'!K48","v":false},false,false,null,false,false,false,false,false,null,null,null,{"$f":"IF(I25=\"\",$H25,I25)","v":false},false,true,false,{"$f":"IF(M25=\"\",$H25,M25)","v":false},false,false,{"$f":"IF(P25=\"\",$H25,P25)","v":false},{"$f":"IF(Q25=\"\",$H25,Q25)","v":false},false,null,null,null,null,null,null,null,null,null,null,null,null,null,null,null,null,null,null,null,null,null,null,null,null,null,null,null,null,{"$f":"BF34","v":"Q1.7"},"Q1.7FALSE",false,"Odpovědné určené osoby by měly definovat ukazatele výkonnosti procesu pro každý hlavní proces, aby mohly posoudit a přezkoumat zlepšení svého procesu. U složitých organizací se doporučuje definovat odpovědnou osobu pro každou podřízenou organizaci (jednotku nebo útvar) na každé úrovni, kde by bylo možné hodnotit výkon."]
[null,null,null,null,null,null,null,{"$f":"'Kapitola 1'!K49","v":true},true,true,null,true,true,false,true,true,null,null,null,null,null,null,null,null,null,null,null,null,null,null,null,null,null,null,null,null,null,null,null,null,null,null,null,null,null,null,null,null,null,null,null,null,null,null,null,null,null,{"$f":"BF35","v":"Q1.7"},"Q1.7TRUE",true,"Doporučuje se, aby odpovědné osoby byly součástí týmu a odpovědná osoba HSEE&S podléhala přímo nejvyšší úrovni vedení. Ideální aby byl odpovědný za HSEE&S někdo, kdo má napojení na nejvyšší úrovni organizace."]
[null,null,null,null,null,null,null,{"$f":"'Kapitola 1'!K50","v":false},false,false,null,false,false,true,false,false,null,null,null,null,null,null,null,null,null,null,null,null,null,null,null,null,null,null,null,null,null,null,null,null,null,null,null,null,null,null,null,null,null,null,null,null,null,null,null,null,null,{"$f":"BF36","v":"Q1.7"},"Q1.7FALSE",false,"Doporučuje se každoročně přezkoumávat systém a rozhodovat o tom, co je ještě třeba, co lze vynechat, kde vznikají nové problémy…"]
[null,null,null,null,null,null,{"$f":"B17","v":"Q1.8"},{"$f":"'Kapitola 1'!K55","v":false},false,false,null,false,false,false,false,false,null,null,{"$f":"G26","v":"Q1.5"},{"$f":"IF(I26=\"\",$H26,I26)","v":false},{"$f":"IF(J26=\"\",$H26,J26)","v":false},{"$f":"IF(K26=\"\",$H26,K26)","v":false},{"$f":"IF(L26=\"\",$H26,L26)","v":false},false,{"$f":"IF(N26=\"\",$H26,N26)","v":false},{"$f":"IF(O26=\"\",$H26,O26)","v":false},{"$f":"IF(P26=\"\",$H26,P26)","v":false},false,false,null,null,null,null,null,null,null,null,null,null,null,null,null,null,null,null,null,null,null,null,null,null,null,null,null,null,null,null,{"$f":"G38","v":"Q1.8"},"Q1.8FALSE",false,"Stanovte okamžik hodnocení, který prověří výkonnost RC a identifikuje možné potřeby změn v politice, cílech, dalších prvcích systému řízení, měnících se okolnostech a závazku k neustálému zlepšování.\nDo tohoto přezkumu uveďte následující: výsledky auditu, možné neshody a sestavení akčního plánu ke zlepšení výkonu."]
[null,null,null,null,null,null,null,{"$f":"'Kapitola 1'!K56","v":false},false,false,null,false,false,false,false,false,null,null,null,{"$f":"IF(I27=\"\",$H27,I27)","v":false},false,false,false,false,false,false,false,false,false,null,null,null,null,null,null,null,null,null,null,null,null,null,null,null,null,null,null,null,null,null,null,null,null,null,null,null,null,{"$f":"BF38","v":"Q1.8"},"Q1.8FALSE",false,"Zajistěte, aby byly stanoveny příslušné ukazatele výkonnosti a aby byly akční plány přezkoumávány v souladu s hlavními riziky a příležitostmi pro organizaci a v souladu se strategií na podporu neustálého zlepšování. Definujte požadované zdroje, které umožní realizaci akčního plánu."]
[null,null,null,null,null,null,null,{"$f":"'Kapitola 1'!K57","v":true},true,true,null,true,true,true,true,true,null,null,null,{"$f":"IF(I28=\"\",$H28,I28)","v":true},true,true,true,true,true,true,true,true,false,null,null,null,null,null,null,null,null,null,null,null,null,null,null,null,null,null,null,null,null,null,null,null,null,null,null,null,null,{"$f":"BF39","v":"Q1.8"},"Q1.8TRUE",true,"Nezapomeňte pravidelně sledovat akce. Pravidelně diskutujte o výkonu a interakci se zúčastněnými stranami s top managementem. Přezkoumejte KPI alespoň čtvrtletně, aby se objevily nové trendy co nejdříve."]
[null,null,null,null,null,null,null,{"$f":"'Kapitola 1'!K58","v":false},false,false,null,false,false,false,false,false,null,null,null,{"$f":"IF(I29=\"\",$H29,I29)","v":false},false,false,false,false,false,false,{"$f":"IF(P29=\"\",$H29,P29)","v":false},{"$f":"IF(Q29=\"\",$H29,Q29)","v":false},false,null,null,null,null,null,null,null,null,null,null,null,null,null,null,null,null,null,null,null,null,null,null,null,null,null,null,null,null,{"$f":"BF40","v":"Q1.8"},"Q1.8FALSE",false,"Doporučuje se každoročně přezkoumávat systém a rozhodovat o tom, co je ještě třeba, co lze vynechat, kde vznikají nové problémy…"]
[null,null,null,null,null,null,{"$f":"B18","v":"Q1.9"},{"$f":"'Kapitola 1'!K61","v":false},false,false,null,false,false,false,false,false,null,null,null,null,null,null,null,null,null,null,null,null,null,null,null,null,null,null,null,null,null,null,null,null,null,null,null,null,null,null,null,null,null,null,null,null,null,null,null,null,null,{"$f":"G42","v":"Q1.9"},"Q1.9FALSE",false,"Jako první krok zvažte použití „hostujících auditorů“ z jiných zařízení nebo funkčních oblastí."]
[null,null,null,null,null,null,null,{"$f":"'Kapitola 1'!K62","v":false},false,false,null,false,false,false,false,false,null,null,null,null,null,null,null,null,null,null,null,null,null,null,null,null,null,null,null,null,null,null,null,null,null,null,null,null,null,null,null,null,null,null,null,null,null,null,null,null,null,{"$f":"BF42","v":"Q1.9"},"Q1.9FALSE",false,"Poskytněte možnosti interakce mezi vedením a zaměstnanci. Zajistěte, aby byly výsledky auditů projednány při přezkumech vedení."]
[null,null,null,null,null,null,null,{"$f":"'Kapitola 1'!K63","v":false},true,true,null,true,true,true,true,true,null,null,{"$f":"G30","v":"Q1.6"},{"$f":"IF(I30=\"\",$H30,I30)","v":false},{"$f":"IF(J30=\"\",$H30,J30)","v":false},{"$f":"IF(K30=\"\",$H30,K30)","v":false},{"$f":"IF(L30=\"\",$H30,L30)","v":false},false,{"$f":"IF(N30=\"\",$H30,N30)","v":false},{"$f":"IF(O30=\"\",$H30,O30)","v":false},{"$f":"IF(P30=\"\",$H30,P30)","v":false},false,false,null,null,null,null,null,null,null,null,null,null,null,null,null,null,null,null,null,null,null,null,null,null,null,null,null,null,null,null,{"$f":"BF43","v":"Q1.9"},"Q1.9FALSE",false,"Zajistěte, aby při výskytu neshod byla přijata nápravná opatření a tato byla ohlášena vyššímu vedení."]
[null,null,null,null,null,null,null,{"$f":"'Kapitola 1'!K64","v":true},false,false,null,false,false,false,false,false,null,null,null,{"$f":"IF(I31=\"\",$H31,I31)","v":false},false,false,false,false,false,false,false,false,false,null,null,null,null,null,null,null,null,null,null,null,null,null,null,null,null,null,null,null,null,null,null,null,null,null,null,null,null,"Q1.9","Q1.9TRUE",true,"Zavřete smyčku. Zajistěte, aby existoval proces hodnocení účinnosti „procesu hodnocení systému řízení“."]
[null,null,null,null,null,null,{"$f":"B19","v":"Q1.10"},{"$f":"'Kapitola 1'!K67","v":false},false,false,null,false,false,false,false,false,null,null,null,{"$f":"IF(I32=\"\",$H32,I32)","v":true},true,true,true,true,true,true,true,true,false,null,null,null,null,null,null,null,null,null,null,null,null,null,null,null,null,null,null,null,null,null,null,null,null,null,null,null,null,{"$f":"G46","v":"Q1.10"},"Q1.10FALSE",false,"Hlaste incidenty a stanovte kritéria pro vyhodnocení závažnosti."]
[null,null,null,null,null,null,null,{"$f":"'Kapitola 1'!K68","v":false},false,false,null,false,false,false,false,false,null,null,null,{"$f":"IF(I33=\"\",$H33,I33)","v":false},false,false,{"$f":"IF(L33=\"\",$H33,L33)","v":false},{"$f":"IF(M33=\"\",$H33,M33)","v":false},false,false,false,false,false,null,null,null,null,null,null,null,null,null,null,null,null,null,null,null,null,null,null,null,null,null,null,null,null,null,null,null,null,{"$f":"BF46","v":"Q1.10"},"Q1.10FALSE",false,"Stanovte systém hlášení o všech incidentech v organizaci (vyhodnocení jejich závažnosti, analýza příčiny problému, návrh nápravných opatření a jejich implementace a vhodného sdílení).\nKromě potřebného pochopení procesů, v rámci nichž k incidentu došlo, se doporučuje zajistit nezávislost od vyšetřovatele vůči vyšetřovanému oddělení nebo příslušnému orgánu."]
[null,null,null,null,null,null,null,{"$f":"'Kapitola 1'!K69","v":false},true,true,null,true,true,true,true,true,null,null,null,null,null,null,null,null,null,null,null,null,null,null,null,null,null,null,null,null,null,null,null,null,null,null,null,null,null,null,null,null,null,null,null,null,null,null,null,null,null,{"$f":"BF47","v":"Q1.10"},"Q1.10FALSE",false,"Zajistěte, aby zkušenosti získané z vyšetřování byly sdíleny mimo organizaci pro partnerské organizace nebo kolegy podle potřeby."]
[null,null,null,null,null,null,null,{"$f":"'Kapitola 1'!K70","v":true},false,false,null,false,false,false,false,false,null,null,null,null,null,null,null,null,null,null,null,null,null,null,null,null,null,null,null,null,null,null,null,null,null,null,null,null,null,null,null,null,null,null,null,null,null,null,null,null,null,{"$f":"BF48","v":"Q1.10"},"Q1.10TRUE",true,"Doporučuje se každoročně přezkoumávat systém a rozhodovat o tom, co je ještě třeba, co lze vynechat, kde vznikají nové problémy…"]
[null,null,null,null,null,null,{"$f":"B20","v":"Q1.11"},{"$f":"'Kapitola 1'!K75","v":false},false,false,null,false,false,false,false,false,null,null,{"$f":"G34","v":"Q1.7"},{"$f":"IF(I34=\"\",$H34,I34)","v":false},{"$f":"IF(J34=\"\",$H34,J34)","v":false},{"$f":"IF(K34=\"\",$H34,K34)","v":false},{"$f":"IF(L34=\"\",$H34,L34)","v":false},false,{"$f":"IF(N34=\"\",$H34,N34)","v":false},{"$f":"IF(O34=\"\",$H34,O34)","v":false},{"$f":"IF(P34=\"\",$H34,P34)","v":false},false,false,null,null,null,null,null,null,null,null,null,null,null,null,null,null,null,null,null,null,null,null,null,null,null,null,null,null,null,null,{"$f":"G50","v":"Q1.11"},"Q1.11FALSE",false,"Zvažte požadavky nebo vylepšení HSEE&S při plánování rozpočtu na kapitál a výdaje."]
[null,null,null,null,null,null,null,{"$f":"'Kapitola 1'!K76","v":false},false,false,null,false,false,false,false,false,null,null,null,{"$f":"IF(I35=\"\",$H35,I35)","v":false},false,false,false,false,false,false,false,false,false,null,null,null,null,null,null,null,null,null,null,null,null,null,null,null,null,null,null,null,null,null,null,null,null,null,null,null,null,{"$f":"BF50","v":"Q1.11"},"Q1.11FALSE",false,"Udržujte kvalifikovaný personál HSEE&S (zaměstnanci a / nebo konzultanti) schopný poradit vedení ohledn vhodných opatření pro řešení konkrétních problémů HSEE&S.\nZvažte požadavky HSEE & S během cyklů plánování rozpočtu a nákladů.\nPoskytujte zaměstnancům vhodné školení a zdroje na všech úrovních organizace, např. Povzbuzujte zaměstnance k účasti na seminářích, setkáních a konferencích HSEE&S."]
[null,null,null,null,null,null,null,{"$f":"'Kapitola 1'!K77","v":true},true,true,null,true,true,true,true,true,null,null,null,{"$f":"IF(I36=\"\",$H36,I36)","v":true},true,true,true,true,false,true,true,true,false,null,null,null,null,null,null,null,null,null,null,null,null,null,null,null,null,null,null,null,null,null,null,null,null,null,null,null,null,{"$f":"BF51","v":"Q1.11"},"Q1.11TRUE",true,"Zdroje pro vyhodnocení vylepšení by měly být plánovány, navíc k těm, které se týkají prováděcích akcí."]
[null,null,null,null,null,null,null,{"$f":"'Kapitola 1'!K78","v":false},false,false,null,false,false,false,false,false,null,null,null,{"$f":"IF(I37=\"\",$H37,I37)","v":false},false,false,false,false,true,false,false,false,false,null,null,null,null,null,null,null,null,null,null,null,null,null,null,null,null,null,null,null,null,null,null,null,null,null,null,null,null,{"$f":"BF52","v":"Q1.11"},"Q1.11FALSE",false,"Doporučuje se každoročně přezkoumávat systém a rozhodovat o tom, co je ještě třeba, co lze vynechat, kde vznikají nové problémy…"]
[null,null,null,null,null,null,{"$f":"B21","v":"Q1.12"},{"$f":"'Kapitola 1'!K81","v":false},false,false,null,false,false,false,false,false,null,null,null,null,null,null,null,null,null,null,null,null,null,null,null,null,null,null,null,null,null,null,null,null,null,null,null,null,null,null,null,null,null,null,null,null,null,null,null,null,null,{"$f":"G54","v":"Q1.12"},"Q1.12FALSE",false,"Připravte některé komunikační materiály o problrmatice HSEE&S."]
[null,null,null,null,null,null,null,{"$f":"'Kapitola 1'!K82","v":false},false,false,null,false,false,false,false,false,null,null,null,null,null,null,null,null,null,null,null,null,null,null,null,null,null,null,null,null,null,null,null,null,null,null,null,null,null,null,null,null,null,null,null,null,null,null,null,null,null,{"$f":"BF54","v":"Q1.12"},"Q1.12FALSE",false,"Navrhujte a vyvíjejte školicí materiály a techniky HSEE&S pro všechny úrovně organizace. Ty mohou potenciálně zahrnovat manažerské briefingy; probíhající školicí programy dohledu; informace o politikách, postupech a programech na pravidelně naplánovaných bezpečnostních schůzkách."]
[null,null,null,null,null,null,null,{"$f":"'Kapitola 1'!K83","v":true},true,true,null,true,true,true,true,false,null,null,null,null,null,null,null,null,null,null,null,null,null,null,null,null,null,null,null,null,null,null,null,null,null,null,null,null,null,null,null,null,null,null,null,null,null,null,null,null,null,{"$f":"BF55","v":"Q1.12"},"Q1.12TRUE",true,"Vyhodnoťte účinnost plánu interní komunikace prostřednictvím možného pravidelného průzkumu: jsou si zaměstnanci vědomi? Jaké informace stále požadují? Kolik zaměstnanců jste oslovili plánovanou komunikací? Bylo cíle dosaženo? Pronikla informace/sdělení dle očekávání?"]
[null,null,null,null,null,null,null,{"$f":"'Kapitola 1'!K84","v":false},false,false,null,false,false,false,false,true,null,null,null,null,null,null,null,null,null,null,null,null,null,null,null,null,null,null,null,null,null,null,null,null,null,null,null,null,null,null,null,null,null,null,null,null,null,null,null,null,null,{"$f":"BF56","v":"Q1.12"},"Q1.12FALSE",false,"Doporučuje se každoročně přezkoumávat systém a rozhodovat o tom, co je ještě třeba, co lze vynechat, kde vznikají nové problémy…"]
[null,null,null,null,null,null,{"$f":"B22","v":"Q1.13"},{"$f":"'Kapitola 1'!K87","v":false},false,false,null,false,false,false,false,false,null,null,{"$f":"G38","v":"Q1.8"},{"$f":"IF(I38=\"\",$H38,I38)","v":false},{"$f":"IF(J38=\"\",$H38,J38)","v":false},{"$f":"IF(K38=\"\",$H38,K38)","v":false},{"$f":"IF(L38=\"\",$H38,L38)","v":false},false,{"$f":"IF(N38=\"\",$H38,N38)","v":false},{"$f":"IF(O38=\"\",$H38,O38)","v":false},{"$f":"IF(P38=\"\",$H38,P38)","v":false},false,false,null,null,null,null,null,null,null,null,null,null,null,null,null,null,null,null,null,null,null,null,null,null,null,null,null,null,null,null,{"$f":"G58","v":"Q1.13"},"Q1.13FALSE",false,"Školení je nástroj k poskytování odpovídajících znalostí a informací zaměstnancům a obchodním partnerům.\n\nPotřeby školení by měly být zdokumentovány pro každou pracovní funkci v celé organizaci. Obvykle se pro identifikaci vzdělávacích potřeb každého zaměstnance na základě kategorie práce a povinností používá školicí matice nebo databáze.\nPožadavky na školení mohou být ovlivněny nápravnými a preventivními procesy celého systému řízení. Zjištění z nehody nebo neshody v systému mohou vést ke změnám specifických požadavků na výcvik."]
[null,null,null,null,null,null,null,{"$f":"'Kapitola 1'!K88","v":false},false,false,null,false,false,false,false,false,null,null,null,{"$f":"IF(I39=\"\",$H39,I39)","v":false},false,false,false,false,false,false,false,false,false,null,null,null,null,null,null,null,null,null,null,null,null,null,null,null,null,null,null,null,null,null,null,null,null,null,null,null,null,{"$f":"BF58","v":"Q1.13"},"Q1.13FALSE",false,"Doporučuje se navrhnout školicí programy k dosažení stanovených cílů - kromě dodržování zákonných a dalších požadavků souvisejících s HSEE&S.\nŠkolení může probíhat na mnoha úrovních, včetně školení v učebně, operativního školení a výuky na pracovišti.\nMohou být zavedeny školicí programy pro nové zaměstnance (a dodavatele), jakož i průběžná školení pro všechny zaměstnance (a dodavatele). Vypracujte programy zaměřené na zaměstnance, které zdůrazňují problémy související s odpovědnou péčí.\nJe důležité, aby organizace vedla záznamy o školení každého zaměstnance. "]
[null,null,null,null,null,null,null,{"$f":"'Kapitola 1'!K89","v":true},true,true,null,true,true,true,true,true,null,null,null,{"$f":"IF(I40=\"\",$H40,I40)","v":true},true,true,true,true,true,true,true,true,false,null,null,null,null,null,null,null,null,null,null,null,null,null,null,null,null,null,null,null,null,null,null,null,null,null,null,null,null,{"$f":"BF59","v":"Q1.13"},"Q1.13TRUE",true,"Aby byl systém řízení efektivní, měl by zahrnovat určení kompetence pro ty zaměstnance, kteří pracují v identifikovaných oblastech významného rizika, stanovených prostřednictvím systému hodnocení rizik organizace."]
[null,null,null,null,null,null,null,{"$f":"'Kapitola 1'!K90","v":false},false,false,null,false,false,false,false,false,null,null,null,{"$f":"IF(I41=\"\",$H41,I41)","v":false},false,false,false,false,false,false,false,false,false,null,null,null,null,null,null,null,null,null,null,null,null,null,null,null,null,null,null,null,null,null,null,null,null,null,null,null,null,{"$f":"BF60","v":"Q1.13"},"Q1.13FALSE",false,"Oblasti pro další zaměření mohou zahrnovat personál zapojený do interakce a / nebo kvalifikace a kontroly obchodních partnerů; ti, kteří se účastní dialogu se zúčastněnými stranami; a interní auditoři."]
[null,null,null,null,null,null,{"$f":"B23","v":"Q1.14"},{"$f":"'Kapitola 1'!K93","v":false},null,false,null,false,false,false,false,false,null,null,null,null,null,null,null,null,null,null,null,null,null,null,null,null,null,null,null,null,null,null,null,null,null,null,null,null,null,null,null,null,null,null,null,null,null,null,null,null,null,{"$f":"G62","v":"Q1.14"},"Q1.14FALSE",false,"Pravidelně informujte zaměstnance a pracovníky o příslušných tématech, cílech a dopadech HSEE&S."]
[null,null,null,null,null,null,null,{"$f":"'Kapitola 1'!K94","v":false},null,true,null,false,true,false,true,false,null,null,null,null,null,null,null,null,null,null,null,null,null,null,null,null,null,null,null,null,null,null,null,null,null,null,null,null,null,null,null,null,null,null,null,null,null,null,null,null,null,{"$f":"BF62","v":"Q1.14"},"Q1.14FALSE",false,"Uspořádejte v rámci organizace dialog, umožňující všem zaměstnancům pochopit zájmy a konkrétní důsledky systému řízení (HSEE&S), povzbuzovat osobní iniciativy a měnit cíle na základě praktické zpětné vazby z terénu.\n- Podporovat vzestupnou komunikaci zapojením zaměstnanců do vývoje a provádění postupů a programů.\n- Zavést programy, jejichž cílem je zvýšit informovanosti zaměstnanců o jejich úloze při určování a sdělování konkrétních rizik a / nebo nápravných opatření.\n- Uznat účast zaměstnanců nebo jejich přínosu do programů HSEE & S tím, že je uvedou v publikacích nebo prostřednictvím programů odměňování.\n- Dejte k dispozici schránky na vložení nápadů nebo obav (znepokojení) z oblasti HSEE&S. Komunikujte realizaci následných opatření a poskytněte zpětnou vazbu k návrhům."]
[null,null,null,null,null,null,null,{"$f":"'Kapitola 1'!K95","v":true},null,false,null,true,false,true,false,true,null,null,{"$f":"G42","v":"Q1.9"},{"$f":"IF(I42=\"\",$H42,I42)","v":false},false,false,false,false,false,false,false,false,false,null,null,null,null,null,null,null,null,null,null,null,null,null,null,null,null,null,null,null,null,null,null,null,null,null,null,null,null,{"$f":"BF63","v":"Q1.14"},"Q1.14TRUE",true,"Vyhodnoťte účinnost zapojení zaměstnanců.\nUdělejte z zaměstnanců organizace klíčového partnera pro všechna rozhodnutí. Vytvořte systém odměňující dobré návrhy."]
[null,null,null,null,null,null,null,{"$f":"'Kapitola 1'!K96","v":false},null,false,null,false,false,false,false,false,null,null,null,{"$f":"IF(I43=\"\",$H43,I43)","v":false},{"$f":"IF(J43=\"\",$H43,J43)","v":false},{"$f":"IF(K43=\"\",$H43,K43)","v":false},{"$f":"IF(L43=\"\",$H43,L43)","v":false},{"$f":"IF(M43=\"\",$H43,M43)","v":false},{"$f":"IF(N43=\"\",$H43,N43)","v":false},{"$f":"IF(O43=\"\",$H43,O43)","v":false},{"$f":"IF(P43=\"\",$H43,P43)","v":false},false,false,null,null,null,null,null,null,null,null,null,null,null,null,null,null,null,null,null,null,null,null,null,null,null,null,null,null,null,null,{"$f":"BF64","v":"Q1.14"},"Q1.14FALSE",false,"Doporučuje se každoročně přezkoumávat systém a rozhodovat o tom, co je ještě třeba, co lze vynechat, kde vznikají nové problémy…"]
[null,null,null,null,null,null,{"$f":"B24","v":"Q1.15"},{"$f":"'Kapitola 1'!K101","v":false},false,false,null,false,false,false,false,false,null,null,null,true,{"$f":"IF(J44=\"\",$H44,J44)","v":true},false,true,true,{"$f":"IF(N44=\"\",$H44,N44)","v":true},{"$f":"IF(O44=\"\",$H44,O44)","v":true},true,false,false,null,null,null,null,null,null,null,null,null,null,null,null,null,null,null,null,null,null,null,null,null,null,null,null,null,null,null,null,{"$f":"G66","v":"Q1.15"},"Q1.15FALSE",false,"Vytvořte komplexní sadu interních předpisů pro oddělení a zaměstnance týkající se HSEE&S."]
[null,null,null,null,null,null,null,{"$f":"'Kapitola 1'!K102","v":false},false,false,null,false,false,false,false,false,null,null,null,false,false,true,false,false,{"$f":"IF(N45=\"\",$H45,N45)","v":false},{"$f":"IF(O45=\"\",$H45,O45)","v":false},false,true,false,null,null,null,null,null,null,null,null,null,null,null,null,null,null,null,null,null,null,null,null,null,null,null,null,null,null,null,null,{"$f":"BF66","v":"Q1.15"},"Q1.15FALSE",false,"Doporučuje se systematicky spravovat dokumenty, udržovat je v aktuálním stavu a odstraňovat neplatnou dokumentaci.\nJe důležité zajistit přístup pracovníkům k dokumentaci podle jejich postavení."]
[null,null,null,null,null,null,null,{"$f":"'Kapitola 1'!K103","v":true},true,true,null,true,true,true,true,true,null,null,null,null,null,null,null,null,null,null,null,null,null,null,null,null,null,null,null,null,null,null,null,null,null,null,null,null,null,null,null,null,null,null,null,null,null,null,null,null,null,{"$f":"BF67","v":"Q1.15"},"Q1.15TRUE",true,"Doporučuje se zpřístupnit dokumentaci HSEE&S všem zaměstnancům."]
[null,null,null,null,null,null,null,{"$f":"'Kapitola 1'!K104","v":false},false,false,null,false,false,false,false,false,null,null,null,null,null,null,null,null,null,null,null,null,null,null,null,null,null,null,null,null,null,null,null,null,null,null,null,null,null,null,null,null,null,null,null,null,null,null,null,null,null,{"$f":"BF68","v":"Q1.15"},"Q1.15FALSE",false,"Doporučuje se každoročně přezkoumávat systém a rozhodovat o tom, co je ještě třeba, co lze vynechat, kde vznikají nové problémy…"]
[null,null,null,null,null,null,{"$f":"B25","v":"Q1.16"},{"$f":"'Kapitola 1'!K109","v":false},false,false,null,false,false,false,false,false,null,null,{"$f":"G46","v":"Q1.10"},{"$f":"IF(I46=\"\",$H46,I46)","v":false},false,false,false,false,false,false,false,false,false,null,null,null,null,null,null,null,null,null,null,null,null,null,null,null,null,null,null,null,null,null,null,null,null,null,null,null,null,{"$f":"G70","v":"Q1.16"},"Q1.16FALSE",false,"Definujte, jaké změny vyžadují pokrytí procedurou MoC, a vyjasněte přístup k provedení změny v organizaci:\nJak informovat zbytek organizace? Jaké jsou podmínky pro schválení změny? Kdo je oprávněn schvalovat? Kdo je zmocněn k ověření správného provedení změny?"]
[null,null,null,null,null,null,null,{"$f":"'Kapitola 1'!K110","v":false},false,false,null,false,false,false,false,false,null,null,null,{"$f":"IF(I47=\"\",$H47,I47)","v":false},{"$f":"IF(J47=\"\",$H47,J47)","v":false},{"$f":"IF(K47=\"\",$H47,K47)","v":false},{"$f":"IF(L47=\"\",$H47,L47)","v":false},{"$f":"IF(M47=\"\",$H47,M47)","v":false},{"$f":"IF(N47=\"\",$H47,N47)","v":false},{"$f":"IF(O47=\"\",$H47,O47)","v":false},{"$f":"IF(P47=\"\",$H47,P47)","v":false},{"$f":"IF(Q47=\"\",$H47,Q47)","v":false},false,null,null,null,null,null,null,null,null,null,null,null,null,null,null,null,null,null,null,null,null,null,null,null,null,null,null,null,null,{"$f":"BF70","v":"Q1.16"},"Q1.16FALSE",false,"Zřídit postup řízení změn k zajištění revize posouzení rizik (H&S, ochrana životního prostředí a procesů) provozních příruček, povolení a případně další dokumentace ovlivněné změnou."]
[null,null,null,null,null,null,null,{"$f":"'Kapitola 1'!K111","v":true},true,true,null,true,true,true,true,true,null,null,null,true,true,false,true,true,true,{"$f":"IF(O48=\"\",$H48,O48)","v":true},{"$f":"IF(P48=\"\",$H48,P48)","v":true},false,false,null,null,null,null,null,null,null,null,null,null,null,null,null,null,null,null,null,null,null,null,null,null,null,null,null,null,null,null,{"$f":"BF71","v":"Q1.16"},"Q1.16TRUE",true,"Vytvořte registr řízení změn, který bude udržovat přehled pro všechny zúčastněné zaměstnance. Tento přehled se aktualizuje a ukazuje skutečný stav všech projektů.\nKlíčové jsou informace a školení zaměstnanců (včetně dodavatelů)."]
[null,null,null,null,null,null,null,{"$f":"'Kapitola 1'!K112","v":false},false,false,null,false,false,false,false,false,null,null,null,false,false,true,false,false,false,{"$f":"IF(O49=\"\",$H49,O49)","v":false},{"$f":"IF(P49=\"\",$H49,P49)","v":false},{"$f":"IF(Q49=\"\",$H49,Q49)","v":true},false,null,null,null,null,null,null,null,null,null,null,null,null,null,null,null,null,null,null,null,null,null,null,null,null,null,null,null,null,{"$f":"BF72","v":"Q1.16"},"Q1.16FALSE",false,"Doporučuje se každoročně přezkoumávat systém a rozhodovat o tom, co je ještě třeba, co lze vynechat, kde vznikají nové problémy…"]
[]
[]
[]
[]
[null,null,null,null,null,null,null,null,null,null,null,null,null,null,null,null,null,null,{"$f":"G50","v":"Q1.11"},{"$f":"IF(I50=\"\",$H50,I50)","v":false},false,false,false,false,false,false,false,false,false]
[null,null,null,null,null,null,null,null,null,null,null,null,null,null,null,null,null,null,null,{"$f":"IF(I51=\"\",$H51,I51)","v":false},{"$f":"IF(J51=\"\",$H51,J51)","v":false},{"$f":"IF(K51=\"\",$H51,K51)","v":false},{"$f":"IF(L51=\"\",$H51,L51)","v":false},{"$f":"IF(M51=\"\",$H51,M51)","v":false},{"$f":"IF(N51=\"\",$H51,N51)","v":false},{"$f":"IF(O51=\"\",$H51,O51)","v":false},{"$f":"IF(P51=\"\",$H51,P51)","v":false},{"$f":"IF(Q51=\"\",$H51,Q51)","v":false},false]
[null,null,null,null,null,null,null,null,null,null,null,null,null,null,null,null,null,null,null,true,true,true,true,true,true,{"$f":"IF(O52=\"\",$H52,O52)","v":true},{"$f":"IF(P52=\"\",$H52,P52)","v":true},true,false]
[null,null,null,null,null,null,null,null,null,null,null,null,null,null,null,null,null,null,null,false,false,false,false,false,false,{"$f":"IF(O53=\"\",$H53,O53)","v":false},false,false,false]
[]
[]
[null,null,null,null,null,null,null,null,null,null,null,null,null,null,null,null,null,null,{"$f":"G54","v":"Q1.12"},{"$f":"IF(I54=\"\",$H54,I54)","v":false},false,false,false,false,false,false,false,false,false]
[null,null,null,null,null,null,null,null,null,null,null,null,null,null,null,null,null,null,null,{"$f":"IF(I55=\"\",$H55,I55)","v":false},{"$f":"IF(J55=\"\",$H55,J55)","v":false},{"$f":"IF(K55=\"\",$H55,K55)","v":false},{"$f":"IF(L55=\"\",$H55,L55)","v":false},{"$f":"IF(M55=\"\",$H55,M55)","v":false},{"$f":"IF(N55=\"\",$H55,N55)","v":false},{"$f":"IF(O55=\"\",$H55,O55)","v":false},{"$f":"IF(P55=\"\",$H55,P55)","v":false},false,false]
[null,null,null,null,null,null,null,null,null,null,null,null,null,null,null,null,null,null,null,true,true,true,true,true,true,{"$f":"IF(O56=\"\",$H56,O56)","v":true},false,true,false]
[null,null,null,null,null,null,null,null,null,null,null,null,null,null,null,null,null,null,null,false,false,false,false,false,false,false,true,false,false]
[]
[]
[null,null,null,null,null,null,null,null,null,null,null,null,null,null,null,null,null,null,{"$f":"G58","v":"Q1.13"},{"$f":"IF(I58=\"\",$H58,I58)","v":false},false,false,false,false,false,false,false,false,false]
[null,null,null,null,null,null,null,null,null,null,null,null,null,null,null,null,null,null,null,{"$f":"IF(I59=\"\",$H59,I59)","v":false},{"$f":"IF(J59=\"\",$H59,J59)","v":false},{"$f":"IF(K59=\"\",$H59,K59)","v":false},{"$f":"IF(L59=\"\",$H59,L59)","v":false},{"$f":"IF(M59=\"\",$H59,M59)","v":false},{"$f":"IF(N59=\"\",$H59,N59)","v":false},{"$f":"IF(O59=\"\",$H59,O59)","v":false},{"$f":"IF(P59=\"\",$H59,P59)","v":false},false,false]
[null,null,null,null,null,null,null,null,null,null,null,null,null,null,null,null,null,null,null,true,true,true,true,true,true,true,true,true,false]
[null,null,null,null,null,null,null,null,null,null,null,null,null,null,null,null,null,null,null,false,false,false,false,false,{"$f":"IF(N61=\"\",$H61,N61)","v":false},false,false,false,false]
[]
[]
[null,null,null,null,null,null,null,null,null,null,null,null,null,null,null,null,null,null,{"$f":"G62","v":"Q1.14"},{"$f":"IF(I62=\"\",$H62,I62)","v":false},false,false,false,false,false,false,false,false,false]
[null,null,null,null,null,null,null,null,null,null,null,null,null,null,null,null,null,null,null,{"$f":"IF(I63=\"\",$H63,I63)","v":false},{"$f":"IF(J63=\"\",$H63,J63)","v":true},{"$f":"IF(K63=\"\",$H63,K63)","v":false},{"$f":"IF(L63=\"\",$H63,L63)","v":false},{"$f":"IF(M63=\"\",$H63,M63)","v":true},{"$f":"IF(N63=\"\",$H63,N63)","v":false},{"$f":"IF(O63=\"\",$H63,O63)","v":true},{"$f":"IF(P63=\"\",$H63,P63)","v":false},false,false]
[null,null,null,null,null,null,null,null,null,null,null,null,null,null,null,null,null,null,null,true,false,true,true,false,true,false,true,true,false]
[null,null,null,null,null,null,null,null,null,null,null,null,null,null,null,null,null,null,null,false,false,false,false,false,false,false,false,false,false]
[]
[]
[]
[]
[null,null,null,null,null,null,null,null,null,null,null,null,null,null,null,null,null,null,{"$f":"G66","v":"Q1.15"},{"$f":"IF(I66=\"\",$H66,I66)","v":false},false,false,false,false,false,false,false,false,false]
[null,null,null,null,null,null,null,null,null,null,null,null,null,null,null,null,null,null,null,{"$f":"IF(I67=\"\",$H67,I67)","v":false},{"$f":"IF(J67=\"\",$H67,J67)","v":false},{"$f":"IF(K67=\"\",$H67,K67)","v":false},{"$f":"IF(L67=\"\",$H67,L67)","v":false},{"$f":"IF(M67=\"\",$H67,M67)","v":false},{"$f":"IF(N67=\"\",$H67,N67)","v":false},{"$f":"IF(O67=\"\",$H67,O67)","v":false},{"$f":"IF(P67=\"\",$H67,P67)","v":false},false,false]
[null,null,null,null,null,null,null,null,null,null,null,null,null,null,null,null,null,null,null,true,true,true,true,true,true,true,true,true,false]
[null,null,null,null,null,null,null,null,null,null,null,null,null,null,null,null,null,null,null,false,false,false,false,false,false,false,false,false,false]
[]
[]
[]
[]
[null,null,null,null,null,null,null,null,null,null,null,null,null,null,null,null,null,null,{"$f":"G70","v":"Q1.16"},{"$f":"IF(I70=\"\",$H70,I70)","v":false},false,false,false,false,false,false,false,false,false]
[null,null,null,null,null,null,null,null,null,null,null,null,null,null,null,null,null,null,null,{"$f":"IF(I71=\"\",$H71,I71)","v":false},{"$f":"IF(J71=\"\",$H71,J71)","v":false},{"$f":"IF(K71=\"\",$H71,K71)","v":false},{"$f":"IF(L71=\"\",$H71,L71)","v":false},{"$f":"IF(M71=\"\",$H71,M71)","v":false},{"$f":"IF(N71=\"\",$H71,N71)","v":false},{"$f":"IF(O71=\"\",$H71,O71)","v":false},{"$f":"IF(P71=\"\",$H71,P71)","v":false},false,false]
[null,null,null,null,null,null,null,null,null,null,null,null,null,null,null,null,null,null,null,true,true,true,true,true,true,true,true,true,false]
[null,null,null,null,null,null,null,null,null,null,null,null,null,null,null,null,null,null,null,false,false,false,false,false,false,false,false,{"$f":"IF(Q73=\"\",$H73,Q73)","v":false},false]
[]
["chapter 2"]
[]
[]
[]
[null,null,null,null,null,null,null,null,"scores in case of compliance",null,null,null,null,null,null,null,null,null,null,"to copy",null,null,null,null,null,null,null,null,null,null,null,null,"equal weights per question (adaptable)",null,null,null,"MCA"]
[null,"scores",null,null,null,"prefill",null,"answered","ISO9001","ISO14001","ISO26000","ISO45001","ISO50001","EMAS","RC14001","RCMS","GHS",null,null,{"$f":"I122","v":"ISO9001"},{"$f":"J122","v":"ISO14001"},{"$f":"K122","v":"ISO26000"},{"$f":"L122","v":"ISO45001"},{"$f":"M122","v":"ISO50001"},{"$f":"N122","v":"EMAS"},{"$f":"O122","v":"RC14001"},{"$f":"P122","v":"RCMS"},"GHS","clear",null,"weights",null,{"$f":"IF(SUM(AG124:AG173)=100,\"ok\",\"error\")","v":"ok"},{"$f":"IF(SUM(AH124:AH173)/COUNT(AG124:AG173)=100,\"ok\",\"error\")","v":"ok"},null,null,"subscores","score",null,null,"identification of major issues",null,null,null,null,null,"scores for standards",null,null,null,null,null,null,null,null,null,null,"improvement tips"]
[null,null,null,null,null,null,null,null,null,null,null,null,null,null,null,null,null,null,null,null,null,null,null,null,null,null,null,null,null,null,null,null,null,null,null,null,null,{"$f":"(AK124*AG124+AK135*AG135+AK150*AG150+AK153*AG153+AG160*AK160)/100","v":3.3555555555555556},null,null,null,null,null,null,null,null,null,{"$f":"I122","v":"ISO9001"},{"$f":"J122","v":"ISO14001"},{"$f":"K122","v":"ISO26000"},{"$f":"L122","v":"ISO45001"},{"$f":"M122","v":"ISO50001"},{"$f":"N122","v":"EMAS"},{"$f":"O122","v":"RC14001"},{"$f":"P122","v":"RCMS"},"GHS"]
[null,{"$f":"'Kapitola 2'!C6","v":"Q2.1"},{"$f":"IF('Kapitola 2'!K7,1,IF('Kapitola 2'!K8,2,IF('Kapitola 2'!K9,3,IF('Kapitola 2'!K10,4,\"\"))))","v":3},"formula 4 choices",null,null,{"$f":"B124","v":"Q2.1"},{"$f":"'Kapitola 2'!K7","v":false},null,null,null,false,null,null,false,null,null,null,{"$f":"G124","v":"Q2.1"},{"$f":"IF(I124=\"\",$H124,I124)","v":false},{"$f":"IF(J124=\"\",$H124,J124)","v":false},{"$f":"IF(K124=\"\",$H124,K124)","v":false},{"$f":"IF(L124=\"\",$H124,L124)","v":false},{"$f":"IF(M124=\"\",$H124,M124)","v":false},{"$f":"IF(N124=\"\",$H124,N124)","v":false},{"$f":"IF(O124=\"\",$H124,O124)","v":false},{"$f":"IF(P124=\"\",$H124,P124)","v":false},false,false,null,{"$f":"'Kapitola 2'!B4","v":"Bezpečnost a ochrana zdraví při práci"},null,{"$f":"10/45*100","v":22.222222222222221},null,null,null,{"$f":"(C124*AH125+C125*AH126+C126*AH127+C127*AH128+C128*AH129+C129*AH130+C130*AH131+C131*AH132+C132*AH133+C133*AH134)/100","v":3.1},null,null,null,{"$f":"B124","v":"Q2.1"},1,{"$f":"IF(C124<AP124,\"major issue\",\"ok\")","v":"ok"},{"$f":"IF(AQ124<>\"ok\",1,0)","v":0},null,null,{"$f":"AO124","v":"Q2.1"},{"$f":"IF(I124,1,IF(I125,2,IF(I126,3,IF(I127,4,\"-\"))))","v":"-"},{"$f":"IF(J124,1,IF(J125,2,IF(J126,3,IF(J127,4,\"-\"))))","v":"-"},{"$f":"IF(K124,1,IF(K125,2,IF(K126,3,IF(K127,4,\"-\"))))","v":"-"},{"$f":"IF(L124,1,IF(L125,2,IF(L126,3,IF(L127,4,\"-\"))))","v":2},{"$f":"IF(M124,1,IF(M125,2,IF(M126,3,IF(M127,4,\"-\"))))","v":"-"},{"$f":"IF(N124,1,IF(N125,2,IF(N126,3,IF(N127,4,\"-\"))))","v":"-"},{"$f":"IF(O124,1,IF(O125,2,IF(O126,3,IF(O127,4,\"-\"))))","v":2},{"$f":"IF(P124,1,IF(P125,2,IF(P126,3,IF(P127,4,\"-\"))))","v":"-"},"-",null,{"$f":"G124","v":"Q2.1"},{"$f":"CONCATENATE(BF124,BH124)","v":"Q2.1FALSE"},{"$f":"H124","v":false},"Definujte role a zdroje\nPoužijte politiky pro všechny úrovně v organizaci.\nDefinujte konkrétní cíle a sledujte tyto cíle pomocí ukazatelů.\nApply the policy for all levels in the organisation.\nDefine specific objectives and track these objectives with indicators."]
[null,{"$f":"'Kapitola 2'!C12","v":"Q2.2"},{"$f":"IF('Kapitola 2'!K13,1,IF('Kapitola 2'!K14,2,IF('Kapitola 2'!K15,3,IF('Kapitola 2'!K16,4,\"\"))))","v":4},"formula 4 choices",null,null,null,{"$f":"'Kapitola 2'!K8","v":false},null,null,null,true,null,null,true,null,null,null,null,{"$f":"IF(I125=\"\",$H125,I125)","v":false},false,false,true,{"$f":"IF(M125=\"\",$H125,M125)","v":false},false,true,false,false,false,null,null,{"$f":"B124","v":"Q2.1"},null,10,null,null,null,null,null,null,{"$f":"B125","v":"Q2.2"},1,{"$f":"IF(C125<AP125,\"major issue\",\"ok\")","v":"ok"},{"$f":"IF(AQ125<>\"ok\",1,0)","v":0},null,null,{"$f":"AO125","v":"Q2.2"},{"$f":"IF(I128,1,IF(I129,2,IF(I130,3,IF(I131,4,\"-\"))))","v":"-"},{"$f":"IF(J128,1,IF(J129,2,IF(J130,3,IF(J131,4,\"-\"))))","v":"-"},{"$f":"IF(K128,1,IF(K129,2,IF(K130,3,IF(K131,4,\"-\"))))","v":"-"},{"$f":"IF(L128,1,IF(L129,2,IF(L130,3,IF(L131,4,\"-\"))))","v":2},{"$f":"IF(M128,1,IF(M129,2,IF(M130,3,IF(M131,4,\"-\"))))","v":"-"},{"$f":"IF(N128,1,IF(N129,2,IF(N130,3,IF(N131,4,\"-\"))))","v":"-"},{"$f":"IF(O128,1,IF(O129,2,IF(O130,3,IF(O131,4,\"-\"))))","v":"-"},{"$f":"IF(P128,1,IF(P129,2,IF(P130,3,IF(P131,4,\"-\"))))","v":"-"},"-",null,{"$f":"BF124","v":"Q2.1"},"Q2.1FALSE",{"$f":"H125","v":false},"Jasně definujte odpovědnosti pro všechny úrovně v organizaci, aby se zabránilo nehodě.\nAplikujte politiku společnosti.\nZaměstnancům jsou v oblasti BOZP stanoveny jasné cíle tak, aby přispívaly k výkonu, podle úrovně jejich povinností."]
[null,{"$f":"'Kapitola 2'!C18","v":"Q2.3"},{"$f":"IF('Kapitola 2'!K19,1,IF('Kapitola 2'!K20,2,IF('Kapitola 2'!K21,3,IF('Kapitola 2'!K22,4,\"\"))))","v":3},"formula 4 choices",null,null,null,{"$f":"'Kapitola 2'!K9","v":true},null,null,null,false,null,null,false,null,null,null,null,{"$f":"IF(I126=\"\",$H126,I126)","v":true},true,true,{"$f":"IF(L126=\"\",$H126,L126)","v":false},true,true,false,true,true,false,null,null,{"$f":"B125","v":"Q2.2"},null,10,null,null,null,null,null,null,"Q2.3",2,"ok",0,null,null,"Q2.3",{"$f":"IF(I132,1,IF(I133,2,IF(I134,3,IF(I135,4,\"-\"))))","v":"-"},"-","-",3,"-","-","-","-","-",null,{"$f":"BF125","v":"Q2.1"},"Q2.1TRUE",true,"Zapojte zaměstnance do vývoje politiky."]
[null,{"$f":"'Kapitola 2'!C24","v":"Q2.4"},{"$f":"IF('Kapitola 2'!K25,1,IF('Kapitola 2'!K26,2,IF('Kapitola 2'!K27,3,IF('Kapitola 2'!K28,4,\"\"))))","v":4},"formula 4 choices",null,null,null,{"$f":"'Kapitola 2'!K10","v":false},null,null,null,false,null,null,false,null,null,null,null,{"$f":"IF(I127=\"\",$H127,I127)","v":false},false,false,{"$f":"IF(L127=\"\",$H127,L127)","v":false},false,false,false,{"$f":"IF(P127=\"\",$H127,P127)","v":false},{"$f":"IF(Q127=\"\",$H127,Q127)","v":false},false,null,null,"Q2.3",null,10,null,null,null,null,null,null,"Q2.4",1,"ok",0,null,null,"Q2.4",{"$f":"IF(I136,1,IF(I137,2,IF(I138,3,IF(I139,4,\"-\"))))","v":"-"},"-","-",3,"-","-",3,"-","-",null,{"$f":"BF126","v":"Q2.1"},"Q2.1FALSE",false,"Není třeba okamžitě měnit strategii, nicméně vždy hledejte zlepšení."]
[null,{"$f":"'Kapitola 2'!C30","v":"Q2.5"},{"$f":"IF('Kapitola 2'!K31,1,IF('Kapitola 2'!K32,2,IF('Kapitola 2'!K33,3,IF('Kapitola 2'!K34,4,\"\"))))","v":2},"formula 4 choices",null,null,{"$f":"B125","v":"Q2.2"},{"$f":"'Kapitola 2'!K13","v":false},null,null,null,false,null,null,null,null,null,null,null,null,null,null,null,null,null,null,null,null,null,null,null,"Q2.4",null,10,null,null,null,null,null,null,"Q2.5",1,"ok",0,null,null,"Q2.5",{"$f":"IF(I140,1,IF(I141,2,IF(I142,3,IF(I143,4,\"-\"))))","v":"-"},"-","-",3,"-","-","-","-","-",null,{"$f":"G128","v":"Q2.2"},"Q2.2FALSE",{"$f":"H128","v":false},"Identifikujte a popište možná rizika pro veřejné zdraví a bezpečnost při běžném provozu a za zhoršené situace v souvislosti se změněným nebo neobvyklým provozem operace pro každý z procesů, zařízení a pracovišť.\nVytvořte a implementujte plán hodnocení rizik.\n• Použijte systematické přístupy (např. analýza bezpečnosti práce, předběžná analýza rizik, analýza poruchových režimů a účinků atd.) K analýze zadání nebo úkolů prováděných v závodě k identifikaci zdravotních nebo bezpečnostních rizik spojených s těmito úkoly;\n• Provádět hodnocení průmyslové hygieny vystavení pracovníků chemickým, fyzikálním a biologickým látkám;\n• Vyvíjet systémy, které spouštějí rychlé vyhodnocení potenciálních zdravotních a bezpečnostních rizik."]
[null,{"$f":"'Kapitola 2'!C36","v":"Q2.6"},{"$f":"IF('Kapitola 2'!K37,1,IF('Kapitola 2'!K38,2,IF('Kapitola 2'!K39,3,IF('Kapitola 2'!K40,4,\"\"))))","v":3},"formula 4 choices",null,null,null,{"$f":"'Kapitola 2'!K14","v":false},null,null,null,true,null,null,null,null,null,null,null,null,null,null,null,null,null,null,null,null,null,null,null,"Q2.5",null,10,null,null,null,null,null,null,"Q2.6",2,"ok",0,null,null,"Q2.6",{"$f":"IF(I144,1,IF(I145,2,IF(I146,3,IF(I147,4,\"-\"))))","v":"-"},"-","-",3,"-","-","-","-","-",null,{"$f":"BF128","v":"Q2.2"},"Q2.2FALSE",false,"Identifikujte zaměstnance ohrožené rizikem pro zdraví a bezpečnost."]
[null,{"$f":"'Kapitola 2'!C42","v":"Q2.7"},{"$f":"IF('Kapitola 2'!K43,1,IF('Kapitola 2'!K44,2,IF('Kapitola 2'!K45,3,IF('Kapitola 2'!K46,4,\"\"))))","v":2},"formula 4 choices",null,null,null,{"$f":"'Kapitola 2'!K15","v":false},null,null,null,false,null,null,null,null,null,null,{"$f":"G128","v":"Q2.2"},{"$f":"IF(I128=\"\",$H128,I128)","v":false},false,false,false,false,false,false,false,false,false,null,null,"Q2.6",null,10,null,null,null,null,null,null,"Q2.7",2,"ok",0,null,null,"Q2.7",{"$f":"IF(I148,1,IF(I149,2,IF(I150,3,IF(I151,4,\"-\"))))","v":"-"},"-",4,3,"-","-",3,"-","-",null,{"$f":"BF129","v":"Q2.2"},"Q2.2FALSE",false,"Určete pro identifikované scénáře nehod následující:\n- účinky nebezpečných jevů na veřejné zdraví a bezpečnost a jejich intenzita (stupnice závažnosti);\n- pravděpodobnost výskytu (stupnice pravděpodobnosti) a z ní odvozená  úroveň rizika nebo kritičnosti (spojení závažnosti a pravděpodobnosti).\nSdílejte své osvědčené postupy s obchodními partnery nebo prostřednictvím sdružení."]
[null,{"$f":"'Kapitola 2'!C48","v":"Q2.8"},{"$f":"IF('Kapitola 2'!K49,1,IF('Kapitola 2'!K50,2,IF('Kapitola 2'!K51,3,IF('Kapitola 2'!K52,4,\"\"))))","v":3},"formula 4 choices",null,null,null,{"$f":"'Kapitola 2'!K16","v":true},null,null,null,false,null,null,null,null,null,null,null,{"$f":"IF(I129=\"\",$H129,I129)","v":false},{"$f":"IF(J129=\"\",$H129,J129)","v":false},{"$f":"IF(K129=\"\",$H129,K129)","v":false},{"$f":"IF(L129=\"\",$H129,L129)","v":true},{"$f":"IF(M129=\"\",$H129,M129)","v":false},{"$f":"IF(N129=\"\",$H129,N129)","v":false},{"$f":"IF(O129=\"\",$H129,O129)","v":false},{"$f":"IF(P129=\"\",$H129,P129)","v":false},false,false,null,null,"Q2.7",null,10,null,null,null,null,null,null,"Q2.8",1,"ok",0,null,null,"Q2.8",{"$f":"IF(I152,1,IF(I153,2,IF(I154,3,IF(I155,4,\"-\"))))","v":"-"},3,3,3,"-","-",4,"-","-",null,{"$f":"BF130","v":"Q2.2"},"Q2.2TRUE",true,"Není třeba okamžitě měnit strategii, nicméně vždy hledejte zlepšení."]
[null,{"$f":"'Kapitola 2'!C54","v":"Q2.9"},{"$f":"IF('Kapitola 2'!K55,1,IF('Kapitola 2'!K56,2,IF('Kapitola 2'!K57,3,IF('Kapitola 2'!K58,4,\"\"))))","v":4},"formula 4 choices",null,null,{"$f":"B126","v":"Q2.3"},{"$f":"'Kapitola 2'!K19","v":false},null,null,null,false,null,null,null,null,null,null,null,false,false,false,false,false,false,false,false,false,false,null,null,"Q2.8",null,10,null,null,null,null,null,null,"Q2.9",1,"ok",0,null,null,"Q2.9",{"$f":"IF(I156,1,IF(I157,2,IF(I158,3,IF(I159,4,\"-\"))))","v":"-"},"-",3,3,"-","-",3,"-","-",null,{"$f":"G132","v":"Q2.3"},"Q2.3FALSE",false,"Vyhodnotit úlohy a zadání podniku k identifikaci jakýchkoli specifických fyzických a lékařských požadavků spojených s konkrétní úlohou.\n\n• Doporučuje se, aby kvalifikovaný personál sledoval prováděnou práci a kontroloval popisy úkolů a povinnosti různých úkolů a úkolů prováděných v celém podniku;\n• Upřednostňovat pracovní místa, pro která budou stanovena hodnotící kritéria. Doporučuje se, aby osoby odpovědné za system ochrany zdraví (např. Lékaři pracovního lékařství, specialist na hygiene práce nebo zdravotní sestry z povolání) určovali na individuálním základě riziko pro zaměstnance pro nepříznivé zdravotní důsledky, které mohou vyplývat z výkonu základních hlavních pracovních funkcí, s přiměřenou úpravou nebo bez ní."]
[null,{"$f":"'Kapitola 2'!C60","v":"Q2.10"},{"$f":"IF('Kapitola 2'!K61,1,IF('Kapitola 2'!K62,2,IF('Kapitola 2'!K63,3,IF('Kapitola 2'!K64,4,\"\"))))","v":3},"formula 4 choices",null,null,null,{"$f":"'Kapitola 2'!K20","v":false},null,null,null,false,null,null,null,null,null,null,null,true,true,true,false,true,true,true,{"$f":"IF(P131=\"\",$H131,P131)","v":true},{"$f":"IF(Q131=\"\",$H131,Q131)","v":true},false,null,null,"Q2.9",null,10,null,null,null,null,null,null,"Q2.10",1,"ok",0,null,null,"Q2.10",{"$f":"IF(I160,1,IF(I161,2,IF(I162,3,IF(I163,4,\"-\"))))","v":3},3,3,3,3,3,3,"-","-",null,{"$f":"BF132","v":"Q2.3"},"Q2.3FALSE",false,"Posoudit schopnost jednotlivce vykonávat konkrétní zařízení nebo úkol pomocí lékařských kritérií, která se k nim vztahují.\n• Osobám odpovědným za system ochrany zdraví se doporučuje, aby identifikovali jakékoli speciální lékařské testy, které by byly užitečné pro hodnocení jednotlivců pro konkrétní práci (např. Oční testy u osob řídících motorové vozidlo), a je začlenily do hodnocení zdravotního stavu předběžného umístění;\n• Zdravotníkům se doporučuje zajistit, aby prohlášení o riziku nepříznivých zdravotních následků vycházela pouze z lékařských testů, které se vztahují k pracovním požadavkům, a nikoli z jakýchkoli jiných testů, které by mohly být prováděny v rámci běžného hodnocení zdraví;\n• Zdravotníkům se doporučuje, aby v případě potřeby provedli základní lékařské testování zaměstnanců, aby zjistili skutečnosti, které by narušovaly jejich schopnost bezpečně vykonávat konkrétní práci."]
[null,{"$f":"'Kapitola 2'!C68","v":"Q2.11"},{"$f":"IF('Kapitola 2'!K69,1,IF('Kapitola 2'!K70,2,IF('Kapitola 2'!K71,3,IF('Kapitola 2'!K72,4,\"\"))))","v":3},"formula 4 choices",null,null,null,{"$f":"'Kapitola 2'!K21","v":true},null,null,null,true,null,null,null,null,null,null,null,null,null,null,null,null,null,null,null,null,null,null,null,{"$f":"B133","v":"Q2.10"},null,10,null,null,null,null,null,null,"Q2.11",1,"ok",0,null,null,"Q2.11",{"$f":"IF(I164,1,IF(I165,2,IF(I166,3,IF(I167,4,\"-\"))))","v":"-"},"-","-","-","-","-","-","-","-",null,{"$f":"BF133","v":"Q2.3"},"Q2.3TRUE",true,"Zdravotníkům se doporučuje zajistit, aby pouze kontrolovali výsledky lékařských testů, aby zajistili důvěrnost lékařských výsledků."]
[null,{"$f":"'Kapitola 2'!C74","v":"Q2.12"},{"$f":"IF('Kapitola 2'!K75,1,IF('Kapitola 2'!K76,2,IF('Kapitola 2'!K77,3,IF('Kapitola 2'!K78,4,\"\"))))","v":4},"formula 4 choices",null,null,null,{"$f":"'Kapitola 2'!K22","v":false},null,null,null,false,null,null,null,null,null,null,null,null,null,null,null,null,null,null,null,null,null,null,{"$f":"'Kapitola 2'!B66","v":"Procesní bezpečnost"},null,{"$f":"14/45*100","v":31.111111111111111},null,null,null,{"$f":"(C134*AH136+C135*AH137+C136*AH138+C137*AH139+C138*AH140+C139*AH141+C140*AH142+C141*AH143+C142*AH144+C143*AH145+C144*AH146+C145*AH147+C146*AH148+C147*AH149)/100","v":3.2142857142857144},null,null,null,"Q2.12",1,"ok",0,null,null,"Q2.12",{"$f":"IF(I168,1,IF(I169,2,IF(I170,3,IF(I171,4,\"-\"))))","v":"-"},"-","-","-","-","-","-","-","-",null,{"$f":"BF134","v":"Q2.3"},"Q2.3FALSE",false,"Není třeba okamžitě měnit strategii, ale vždy hledejte zlepšení."]
[null,{"$f":"'Kapitola 2'!C80","v":"Q2.13"},{"$f":"IF('Kapitola 2'!K81,1,IF('Kapitola 2'!K82,2,IF('Kapitola 2'!K83,3,IF('Kapitola 2'!K84,4,\"\"))))","v":3},"formula 4 choices",null,null,{"$f":"B127","v":"Q2.4"},{"$f":"'Kapitola 2'!K25","v":false},null,null,null,false,null,null,false,null,null,null,{"$f":"G132","v":"Q2.3"},{"$f":"IF(I132=\"\",$H132,I132)","v":false},false,false,false,false,false,false,false,false,false,null,null,{"$f":"B134","v":"Q2.11"},null,{"$f":"100/14","v":7.1428571428571432},null,null,null,null,null,null,"Q2.13",1,"ok",0,null,null,"Q2.13",{"$f":"IF(I172,1,IF(I173,2,IF(I174,3,IF(I175,4,\"-\"))))","v":"-"},"-","-","-","-","-","-","-","-",null,{"$f":"G136","v":"Q2.4"},"Q2.4FALSE",false,"Vytvořte program Zdraví a bezpečnost vedením organizace."]
[null,{"$f":"'Kapitola 2'!C86","v":"Q2.14"},{"$f":"IF('Kapitola 2'!K87,1,IF('Kapitola 2'!K88,2,IF('Kapitola 2'!K89,3,IF('Kapitola 2'!K90,4,\"\"))))","v":1},"formula 4 choices",null,null,null,{"$f":"'Kapitola 2'!K26","v":false},null,null,null,false,null,null,false,null,null,null,null,{"$f":"IF(I133=\"\",$H133,I133)","v":false},{"$f":"IF(J133=\"\",$H133,J133)","v":false},false,false,{"$f":"IF(M133=\"\",$H133,M133)","v":false},{"$f":"IF(N133=\"\",$H133,N133)","v":false},false,false,false,false,null,null,{"$f":"B135","v":"Q2.12"},null,{"$f":"100/14","v":7.1428571428571432},null,null,null,null,null,null,"Q2.14",1,"ok",0,null,null,"Q2.14",{"$f":"IF(I176,1,IF(I177,2,IF(I178,3,IF(I179,4,\"-\"))))","v":"-"},"-","-","-","-","-","-","-","-",null,{"$f":"BF136","v":"Q2.4"},"Q2.4FALSE",false,"Zavést procesy pro hodnocení: Možnosti ochrany zdraví a bezpečnosti při práci pro zvýšení výkonu ochrany zdraví a bezpečnosti při práci, s přihlédnutím k plánovaným změnám organizace, jejích politik, procesů nebo jejích činností a:\n1) Příležitosti přizpůsobit práci, organizaci práce a pracovní prostředí pracovníkům;\n2) Příležitosti k eliminaci rizik a snížení rizik bezpečnosti a ochrany zdraví při práci;\n3) Další příležitosti ke zlepšení systému řízení BOZP."]
[null,{"$f":"'Kapitola 2'!C92","v":"Q2.15"},{"$f":"IF('Kapitola 2'!K93,1,IF('Kapitola 2'!K94,2,IF('Kapitola 2'!K95,3,IF('Kapitola 2'!K96,4,\"\"))))","v":3},"formula 4 choices",null,null,null,{"$f":"'Kapitola 2'!K27","v":false},null,null,null,true,null,null,true,null,null,null,null,true,true,true,true,true,true,true,true,true,false,null,null,"Q2.13",null,7.1428571428571432,null,null,null,null,null,null,"Q2.15",1,"ok",0,null,null,"Q2.15",{"$f":"IF(I180,1,IF(I181,2,IF(I182,3,IF(I183,4,\"-\"))))","v":"-"},"-","-","-","-","-","-","-","-",null,{"$f":"BF137","v":"Q2.4"},"Q2.4FALSE",false,"Pravidelně vyhodnocujte program BOZP a jeho účinnost (tj. Externě ověřené, například prostřednictvím ukazatelů výkonnosti) a podnikněte pravidelná opatření, aby si zaměstnanci a smluvní partneři byli vědomi rizik a příležitostí a nechali je účastnit se programu."]
[null,{"$f":"'Kapitola 2'!C98","v":"Q2.16"},{"$f":"IF('Kapitola 2'!K99,1,IF('Kapitola 2'!K100,2,IF('Kapitola 2'!K101,3,IF('Kapitola 2'!K102,4,\"\"))))","v":4},"formula 4 choices",null,null,null,{"$f":"'Kapitola 2'!K28","v":true},null,null,null,false,null,null,false,null,null,null,null,false,false,false,false,false,false,false,false,false,false,null,null,"Q2.14",null,7.1428571428571432,null,null,null,null,null,null,"Q2.16",1,"ok",0,null,null,"Q2.16",{"$f":"IF(I184,1,IF(I185,2,IF(I186,3,IF(I187,4,\"-\"))))","v":"-"},"-","-","-","-","-","-","-","-",null,{"$f":"BF138","v":"Q2.4"},"Q2.4TRUE",true,"Není třeba okamžitě měnit strategii, nicméně vždy hledejte zlepšení."]
[null,{"$f":"'Kapitola 2'!C104","v":"Q2.17"},{"$f":"IF('Kapitola 2'!K105,1,IF('Kapitola 2'!K106,2,IF('Kapitola 2'!K107,3,IF('Kapitola 2'!K108,4,\"\"))))","v":4},"formula 4 choices",null,null,{"$f":"B128","v":"Q2.5"},{"$f":"'Kapitola 2'!K31","v":false},null,null,null,false,null,null,null,null,null,null,null,null,null,null,null,null,null,null,null,null,null,null,null,"Q2.15",null,7.1428571428571432,null,null,null,null,null,null,{"$f":"B140","v":"Q2.17"},1,"ok",{"$f":"IF(AQ140<>\"ok\",1,0)","v":0},null,null,"Q2.17",{"$f":"IF(I188,1,IF(I189,2,IF(I190,3,IF(I191,4,\"-\"))))","v":"-"},"-","-","-","-","-","-","-","-",null,{"$f":"G140","v":"Q2.5"},"Q2.5FALSE",false,"Stanovte programy preventivní údržby a úklidu domácnosti, aby byla zachována bezpečnost zařízení, nástrojů a vybavení."]
[null,{"$f":"'Kapitola 2'!C110","v":"Q2.18"},{"$f":"IF('Kapitola 2'!K111,1,IF('Kapitola 2'!K112,2,IF('Kapitola 2'!K113,3,IF('Kapitola 2'!K114,4,\"\"))))","v":3},"formula 4 choices",null,null,null,{"$f":"'Kapitola 2'!K32","v":true},null,null,null,false,null,null,null,null,null,null,null,null,null,null,null,null,null,null,null,null,null,null,null,"Q2.16",null,7.1428571428571432,null,null,null,null,null,null,"Q2.18",1,"ok",{"$f":"IF(AQ141<>\"ok\",1,0)","v":0},null,null,"Q2.18",{"$f":"IF(I192,1,IF(I193,2,IF(I194,3,IF(I195,4,\"-\"))))","v":"-"},"-","-","-","-","-","-","-","-",null,{"$f":"BF140","v":"Q2.5"},"Q2.5TRUE",true,"Pravidelně vyhodnocovat účinnost programu údržby, měřit úspěch a zlepšovat plány údržby."]
[null,{"$f":"'Kapitola 2'!C116","v":"Q2.19"},{"$f":"IF('Kapitola 2'!K117,1,IF('Kapitola 2'!K118,2,IF('Kapitola 2'!K119,3,IF('Kapitola 2'!K120,4,\"\"))))","v":3},"formula 4 choices",null,null,null,{"$f":"'Kapitola 2'!K33","v":false},null,null,null,true,null,null,null,null,null,null,{"$f":"G136","v":"Q2.4"},{"$f":"IF(I136=\"\",$H136,I136)","v":false},false,false,false,false,false,false,false,false,false,null,null,"Q2.17",null,7.1428571428571432,null,null,null,null,null,null,"Q2.19",1,"ok",0,null,null,"Q2.19",{"$f":"IF(I196,1,IF(I197,2,IF(I198,3,IF(I199,4,\"-\"))))","v":"-"},"-","-","-","-","-","-","-","-",null,{"$f":"BF141","v":"Q2.5"},"Q2.5FALSE",false,"Vytvořte sofistikovaný program údržby a inspekce založený na riziku nebo znalostech."]
[null,{"$f":"'Kapitola 2'!C122","v":"Q2.20"},{"$f":"IF('Kapitola 2'!K123,1,IF('Kapitola 2'!K124,2,IF('Kapitola 2'!K125,3,IF('Kapitola 2'!K126,4,\"\"))))","v":4},"formula 4 choices",null,null,null,{"$f":"'Kapitola 2'!K34","v":false},null,null,null,false,null,null,null,null,null,null,null,{"$f":"IF(I137=\"\",$H137,I137)","v":false},{"$f":"IF(J137=\"\",$H137,J137)","v":false},false,false,{"$f":"IF(M137=\"\",$H137,M137)","v":false},{"$f":"IF(N137=\"\",$H137,N137)","v":false},false,false,false,false,null,null,"Q2.18",null,7.1428571428571432,null,null,null,null,null,null,"Q2.20",1,"ok",0,null,null,"Q2.20",{"$f":"IF(I200,1,IF(I201,2,IF(I202,3,IF(I203,4,\"-\"))))","v":"-"},"-","-","-","-","-","-","-","-",null,{"$f":"BF142","v":"Q2.5"},"Q2.5FALSE",false,"Není třeba okamžitě měnit strategii, ale vždy hledejte zlepšení."]
[null,{"$f":"'Kapitola 2'!C128","v":"Q2.21"},{"$f":"IF('Kapitola 2'!K129,1,IF('Kapitola 2'!K130,2,IF('Kapitola 2'!K131,3,IF('Kapitola 2'!K132,4,\"\"))))","v":3},"formula 4 choices",null,null,{"$f":"B129","v":"Q2.6"},{"$f":"'Kapitola 2'!K37","v":false},null,null,null,false,null,null,null,null,null,null,null,false,false,false,true,false,false,true,false,false,false,null,null,"Q2.19",null,7.1428571428571432,null,null,null,null,null,null,"Q2.21",1,"ok",0,null,null,"Q2.21",{"$f":"IF(I204,1,IF(I205,2,IF(I206,3,IF(I207,4,\"-\"))))","v":"-"},"-",3,"-","-","-","-","-","-",null,{"$f":"G144","v":"Q2.6"},"Q2.6FALSE",false,"Vypracovat podrobný plán, který stanoví harmonogram, odpovědnost organizace a zdroje potřebné pro dokončení každé činnosti."]
[null,{"$f":"'Kapitola 2'!C134","v":"Q2.22"},{"$f":"IF('Kapitola 2'!K135,1,IF('Kapitola 2'!K136,2,IF('Kapitola 2'!K137,3,IF('Kapitola 2'!K138,4,\"\"))))","v":2},"formula 4 choices",null,null,null,{"$f":"'Kapitola 2'!K38","v":false},null,null,null,false,null,null,null,null,null,null,null,true,true,true,false,{"$f":"IF(M139=\"\",$H139,M139)","v":true},true,false,true,true,false,null,null,"Q2.20",null,7.1428571428571432,null,null,null,null,null,null,"Q2.22",1,"ok",0,null,null,"Q2.22",{"$f":"IF(I208,1,IF(I209,2,IF(I210,3,IF(I211,4,\"-\"))))","v":"-"},"-","-","-","-","-","-","-","-",null,{"$f":"BF144","v":"Q2.6"},"Q2.6FALSE",false,"Naučte své zaměstnance, aby věděli a pochopili, kdy a jaké osobní ochranné prostředky jsou nezbytné, a provádějte kontrolu jejich využívání."]
[null,{"$f":"'Kapitola 2'!C140","v":"Q2.23"},{"$f":"IF('Kapitola 2'!K141,1,IF('Kapitola 2'!K142,2,IF('Kapitola 2'!K143,3,IF('Kapitola 2'!K144,4,\"\"))))","v":4},"formula 4 choices",null,null,null,{"$f":"'Kapitola 2'!K39","v":true},null,null,null,true,null,null,null,null,null,null,null,null,null,null,null,null,null,null,null,null,null,null,null,"Q2.21",null,7.1428571428571432,null,null,null,null,null,null,"Q2.23",1,"ok",0,null,null,"Q2.23",{"$f":"IF(I212,1,IF(I213,2,IF(I214,3,IF(I215,4,\"-\"))))","v":"-"},"-","-","-","-","-","-","-","-",null,{"$f":"BF145","v":"Q2.6"},"Q2.6TRUE",true,"Upozorněte zaměstnance, že mohou používat „oprávnění k zastavení práce“, pokud je osobní ochranné vybavení považováno za neúčinné."]
[null,{"$f":"'Kapitola 2'!C146","v":"Q2.24"},{"$f":"IF('Kapitola 2'!K147,1,IF('Kapitola 2'!K148,2,IF('Kapitola 2'!K149,3,IF('Kapitola 2'!K150,4,\"\"))))","v":4},"formula 4 choices",null,null,null,{"$f":"'Kapitola 2'!K40","v":false},null,null,null,false,null,null,null,null,null,null,null,null,null,null,null,null,null,null,null,null,null,null,null,"Q2.22",null,7.1428571428571432,null,null,null,null,null,null,"Q2.24",1,"ok",0,null,null,"Q2.24",{"$f":"IF(I216,1,IF(I217,2,IF(I218,3,IF(I219,4,\"-\"))))","v":"-"},"-","-","-","-","-","-","-","-",null,{"$f":"BF146","v":"Q2.6"},"Q2.6FALSE",false,"Není třeba okamžitě měnit strategii, vždy se však snažte o zlepšení."]
[null,{"$f":"'Kapitola 2'!C154","v":"Q2.25"},{"$f":"IF('Kapitola 2'!K155,1,IF('Kapitola 2'!K156,2,IF('Kapitola 2'!K157,3,IF('Kapitola 2'!K158,4,\"\"))))","v":3},"formula 4 choices",null,null,{"$f":"B130","v":"Q2.7"},{"$f":"'Kapitola 2'!K43","v":false},null,null,false,false,null,null,false,null,null,null,{"$f":"G140","v":"Q2.5"},{"$f":"IF(I140=\"\",$H140,I140)","v":false},false,false,false,false,false,false,false,false,false,null,null,"Q2.23",null,7.1428571428571432,null,null,null,null,null,null,"Q2.25",2,"ok",0,null,null,"Q2.25",{"$f":"IF(I220,1,IF(I221,2,IF(I222,3,IF(I223,4,\"-\"))))","v":"-"},"-","-","-","-","-","-","-","-",null,{"$f":"G148","v":"Q2.7"},"Q2.7FALSE",false,"Podporujte dobrou rovnováhu mezi pracovním a soukromým životem, ujistěte se, že pracovníci dostanou příležitost podat návrhy a organizace je zohlední.\nPokud jde o ergonomii, ujistěte se, že na všech pracovištích existuje systematické hodnocení."]
[null,{"$f":"'Kapitola 2'!C160","v":"Q2.26"},{"$f":"IF('Kapitola 2'!K161,1,IF('Kapitola 2'!K162,2,IF('Kapitola 2'!K163,3,IF('Kapitola 2'!K164,4,\"\"))))","v":4},"formula 4 choices",null,null,null,{"$f":"'Kapitola 2'!K44","v":true},null,null,false,false,null,null,false,null,null,null,null,{"$f":"IF(I141=\"\",$H141,I141)","v":true},{"$f":"IF(J141=\"\",$H141,J141)","v":true},true,false,{"$f":"IF(M141=\"\",$H141,M141)","v":true},{"$f":"IF(N141=\"\",$H141,N141)","v":true},true,true,true,false,null,null,"Q2.24",null,7.1428571428571432,null,null,null,null,null,null,"Q2.26",1,"ok",0,null,null,"Q2.26",{"$f":"IF(I224,1,IF(I225,2,IF(I226,3,IF(I227,4,\"-\"))))","v":"-"},"-","-","-","-","-","-","-","-",null,{"$f":"BF148","v":"Q2.7"},"Q2.7TRUE",true,"Zavést postup pro registraci návrhů pracovníků a sledovat změny použité k jejich řešení.\nVyškolte personál k vhodnému ergonomickému používání zařízení.\nPomocí anonymního průzkumu změřte vnímání zaměstnanců ohledně rovnováhy mezi pracovním a soukromým životem."]
[null,{"$f":"'Kapitola 2'!C168","v":"Q2.27"},{"$f":"IF('Kapitola 2'!K169,1,IF('Kapitola 2'!K170,2,IF('Kapitola 2'!K171,3,IF('Kapitola 2'!K172,4,\"\"))))","v":4},"formula 4 choices",null,null,null,{"$f":"'Kapitola 2'!K45","v":false},null,null,false,true,null,null,true,null,null,null,null,false,false,false,true,false,false,false,false,false,false,null,{"$f":"'Kapitola 2'!B152","v":"Distribuce"},null,{"$f":"2/45*100","v":4.4444444444444446},null,null,null,{"$f":"(C148*AH151+C149*AH152)/100","v":3.5},null,null,null,"Q2.27",1,"ok",0,null,null,"Q2.27",{"$f":"IF(I228,1,IF(I229,2,IF(I230,3,IF(I231,4,\"-\"))))","v":"-"},"-","-","-","-","-","-","-","-",null,{"$f":"BF149","v":"Q2.7"},"Q2.7FALSE",false,"Vytvořte konkrétní program pro zlepšení klíčových problémů získaných z průzkumu.\nPravidelně hodnotit účinnost programu."]
[null,{"$f":"'Kapitola 2'!C174","v":"Q2.28"},{"$f":"IF('Kapitola 2'!K175,1,IF('Kapitola 2'!K176,2,IF('Kapitola 2'!K177,3,IF('Kapitola 2'!K178,4,\"\"))))","v":4},"formula 4 choices",null,null,null,{"$f":"'Kapitola 2'!K46","v":false},null,null,true,false,null,null,false,null,null,null,null,false,false,false,false,false,false,false,false,false,false,null,null,{"$f":"B148","v":"Q2.25"},null,50,null,null,null,null,null,null,"Q2.28",2,"ok",0,null,null,"Q2.28",{"$f":"IF(I232,1,IF(I233,2,IF(I234,3,IF(I235,4,\"-\"))))","v":"-"},"-","-","-","-","-","-","-","-",null,{"$f":"BF150","v":"Q2.7"},"Q2.7FALSE",false,"Není třeba okamžitě měnit strategii, vždy se však snažte o zlepšení."]
[null,{"$f":"'Kapitola 2'!C180","v":"Q2.29"},{"$f":"IF('Kapitola 2'!K181,1,IF('Kapitola 2'!K182,2,IF('Kapitola 2'!K183,3,IF('Kapitola 2'!K184,4,\"\"))))","v":4},"formula 4 choices",null,null,{"$f":"B131","v":"Q2.8"},{"$f":"'Kapitola 2'!K49","v":false},null,false,false,false,null,null,false,null,null,null,null,null,null,null,null,null,null,null,null,null,null,null,null,{"$f":"B149","v":"Q2.26"},null,50,null,null,null,null,null,null,"Q2.29",2,"ok",0,null,null,"Q2.29",{"$f":"IF(I236,1,IF(I237,2,IF(I238,3,IF(I239,4,\"-\"))))","v":"-"},"-","-","-","-","-","-","-","-",null,{"$f":"G152","v":"Q2.8"},"Q2.8FALSE",false,"Přiřaďte významnost rizik."]
[null,{"$f":"'Kapitola 2'!C186","v":"Q2.30"},{"$f":"IF('Kapitola 2'!K187,1,IF('Kapitola 2'!K188,2,IF('Kapitola 2'!K189,3,IF('Kapitola 2'!K190,4,\"\"))))","v":4},"formula 4 choices",null,null,null,{"$f":"'Kapitola 2'!K50","v":false},null,false,false,false,null,null,false,null,null,null,null,null,null,null,null,null,null,null,null,null,null,null,{"$f":"'Kapitola 2'!B166","v":"Bezpečnost"},null,{"$f":"6/45*100","v":13.333333333333334},null,null,null,{"$f":"(C150*AH154+C151*AH155+C152*AH156+C153*AH157+C154*AH158+C155*AH159)/100","v":3.666666666666667},null,null,null,"Q2.30",2,"ok",0,null,null,"Q2.30",{"$f":"IF(I240,1,IF(I241,2,IF(I242,3,IF(I243,4,\"-\"))))","v":"-"},"-","-","-","-","-","-","-","-",null,{"$f":"BF152","v":"Q2.8"},"Q2.8FALSE",false,"Přijměte příslušná nápravná opatření, abyste zabránili opakovanému výskytu nehod a incidentů."]
[null,{"$f":"'Kapitola 2'!C192","v":"Q2.31"},{"$f":"IF('Kapitola 2'!K193,1,IF('Kapitola 2'!K194,2,IF('Kapitola 2'!K195,3,IF('Kapitola 2'!K196,4,\"\"))))","v":3},"formula 4 choices",null,null,null,{"$f":"'Kapitola 2'!K51","v":true},null,true,true,true,null,null,false,null,null,null,{"$f":"G144","v":"Q2.6"},{"$f":"IF(I144=\"\",$H144,I144)","v":false},false,false,false,false,false,false,false,false,false,null,null,{"$f":"B150","v":"Q2.27"},null,{"$f":"100/6","v":16.666666666666668},null,null,null,null,null,null,{"$f":"B154","v":"Q2.31"},2,"ok",0,null,null,"Q2.31",{"$f":"IF(I244,1,IF(I245,2,IF(I246,3,IF(I247,4,\"-\"))))","v":"-"},"-","-","-","-","-","-","-","-",null,{"$f":"BF153","v":"Q2.8"},"Q2.8TRUE",true,"Sdílení klíčových zjištění a souvisejících nápravných opatření s příslušnými zúčastněnými stranami."]
[null,{"$f":"'Kapitola 2'!C198","v":"Q2.32"},{"$f":"IF('Kapitola 2'!K199,1,IF('Kapitola 2'!K200,2,IF('Kapitola 2'!K201,3,IF('Kapitola 2'!K202,4,\"\"))))","v":3},"formula 4 choices",null,null,null,{"$f":"'Kapitola 2'!K52","v":false},null,false,false,false,null,null,true,null,null,null,null,{"$f":"IF(I145=\"\",$H145,I145)","v":false},{"$f":"IF(J145=\"\",$H145,J145)","v":false},false,false,{"$f":"IF(M145=\"\",$H145,M145)","v":false},{"$f":"IF(N145=\"\",$H145,N145)","v":false},false,false,false,false,null,null,{"$f":"B151","v":"Q2.28"},null,{"$f":"100/6","v":16.666666666666668},null,null,null,null,null,null,"Q2.32",2,"ok",0,null,null,"Q2.32",{"$f":"IF(I248,1,IF(I249,2,IF(I250,3,IF(I251,4,\"-\"))))","v":"-"},"-","-","-","-","-","-","-","-",null,{"$f":"BF154","v":"Q2.8"},"Q2.8FALSE",false,"Není třeba okamžitě měnit strategii, nicméně vždy hledejte zlepšení."]
[null,{"$f":"'Kapitola 2'!C206","v":"Q2.33"},{"$f":"IF('Kapitola 2'!K207,1,IF('Kapitola 2'!K208,2,IF('Kapitola 2'!K209,3,IF('Kapitola 2'!K210,4,\"\"))))","v":4},"formula 4 choices",null,null,{"$f":"B132","v":"Q2.9"},{"$f":"'Kapitola 2'!K55","v":false},null,null,false,false,null,null,false,null,null,null,null,true,true,true,true,true,true,true,true,true,false,null,null,"Q2.29",null,16.666666666666668,null,null,null,null,null,null,"Q2.33",2,"ok",0,null,null,"Q2.33",{"$f":"IF(I252,1,IF(I253,2,IF(I254,3,IF(I255,4,\"-\"))))","v":"-"},3,3,"-","-",3,3,3,"-",null,{"$f":"G156","v":"Q2.9"},"Q2.9FALSE",false,"Připravte všechny pracovníky a návštěvníky na mimořádnou událost pořádáním pravidelných cvičení. Nejprve identifikujte, pojmenujte a vyškolte pracovníky záchranných složek a další osoby odpovědné za řešení mimořádných situací."]
[null,{"$f":"'Kapitola 2'!C212","v":"Q2.34"},{"$f":"IF('Kapitola 2'!K213,1,IF('Kapitola 2'!K214,2,IF('Kapitola 2'!K215,3,IF('Kapitola 2'!K216,4,\"\"))))","v":4},"formula 4 choices",null,null,null,{"$f":"'Kapitola 2'!K56","v":false},null,null,false,false,null,null,false,null,null,null,null,false,false,false,false,false,false,false,false,false,false,null,null,"Q2.30",null,16.666666666666668,null,null,null,null,null,null,"Q2.34",1,"ok",0,null,null,"Q2.34",{"$f":"IF(I256,1,IF(I257,2,IF(I258,3,IF(I259,4,\"-\"))))","v":"-"},4,"-","-",4,4,4,"-","-",null,{"$f":"BF156","v":"Q2.9"},"Q2.9FALSE",false,"Prohlédněte si havarijní plán na základě zkušeností získaných z nouzových cvičení a jiných událostí."]
[null,{"$f":"'Kapitola 2'!C218","v":"Q2.35"},{"$f":"IF('Kapitola 2'!K219,1,IF('Kapitola 2'!K220,2,IF('Kapitola 2'!K221,3,IF('Kapitola 2'!K222,4,\"\"))))","v":3},"formula 4 choices",null,null,null,{"$f":"'Kapitola 2'!K57","v":false},null,null,true,true,null,null,true,null,null,null,null,null,null,null,null,null,null,null,null,null,null,null,null,"Q2.31",null,16.666666666666668,null,null,null,null,null,null,"Q2.35",1,"ok",0,null,null,"Q2.35",{"$f":"IF(I260,1,IF(I261,2,IF(I262,3,IF(I263,4,\"-\"))))","v":"-"},3,"-","-","-",3,3,3,"-",null,{"$f":"BF157","v":"Q2.9"},"Q2.9FALSE",false,"Zajistěte úzkou spolupráci s externími respondenty tím, že se připojíte k nouzovým cvičením, znáte lokalitu a zpřístupníte nouzový plán místa."]
[null,{"$f":"'Kapitola 2'!C224","v":"Q2.36"},{"$f":"IF('Kapitola 2'!K225,1,IF('Kapitola 2'!K226,2,IF('Kapitola 2'!K227,3,IF('Kapitola 2'!K228,4,\"\"))))","v":3},"formula 4 choices",null,null,null,{"$f":"'Kapitola 2'!K58","v":true},null,null,false,false,null,null,false,null,null,null,null,null,null,null,null,null,null,null,null,null,null,null,null,{"$f":"B155","v":"Q2.32"},null,16.666666666666668,null,null,null,null,null,null,"Q2.36",1,"ok",0,null,null,"Q2.36",{"$f":"IF(I264,1,IF(I265,2,IF(I266,3,IF(I267,4,\"-\"))))","v":"-"},3,"-","-","-",3,3,3,"-",null,"Q2.9","Q2.9TRUE",true,"Není třeba okamžitě měnit strategii, nicméně vždy hledejte zlepšení."]
[null,{"$f":"'Kapitola 2'!C230","v":"Q2.37"},{"$f":"IF('Kapitola 2'!K231,1,IF('Kapitola 2'!K232,2,IF('Kapitola 2'!K233,3,IF('Kapitola 2'!K234,4,\"\"))))","v":3},"formula 4 choices",null,null,{"$f":"B133","v":"Q2.10"},{"$f":"'Kapitola 2'!K61","v":false},false,false,false,false,false,false,false,null,null,null,{"$f":"G148","v":"Q2.7"},{"$f":"IF(I148=\"\",$H148,I148)","v":false},false,false,false,false,false,false,false,false,false,null,{"$f":"'Kapitola 2'!B204","v":"Životní prostředí "},null,{"$f":"13/45*100","v":28.888888888888886},null,null,null,{"$f":"(C156*AH161+C157*AH162+C158*AH163+C159*AH164+C160*AH165+C161*AH166+C162*AH167+C163*AH168+C164*AH169+C165*AH170+C166*AH171+C167*AH172+C168*AH173)/100","v":3.5384615384615388},null,null,null,"Q2.37",1,"ok",0,null,null,"Q2.37",{"$f":"IF(I268,1,IF(I269,2,IF(I270,3,IF(I271,4,\"-\"))))","v":"-"},3,"-","-","-",3,3,3,"-",null,{"$f":"G160","v":"Q2.10"},"Q2.10FALSE",false,"Poskytovat školení novým zaměstnancům ohledně H&S. Umožněte jim účastnit se diskusí týkajících se politiky BOZP."]
[null,{"$f":"'Kapitola 2'!C236","v":"Q2.38"},{"$f":"IF('Kapitola 2'!K237,1,IF('Kapitola 2'!K238,2,IF('Kapitola 2'!K239,3,IF('Kapitola 2'!K240,4,\"\"))))","v":4},"formula 4 choices",null,null,null,{"$f":"'Kapitola 2'!K62","v":false},false,false,false,false,false,false,false,null,null,null,null,{"$f":"IF(I149=\"\",$H149,I149)","v":true},{"$f":"IF(J149=\"\",$H149,J149)","v":true},false,false,{"$f":"IF(M149=\"\",$H149,M149)","v":true},{"$f":"IF(N149=\"\",$H149,N149)","v":true},false,true,true,false,null,null,{"$f":"B156","v":"Q2.33"},null,{"$f":"100/13","v":7.6923076923076925},null,null,null,null,null,null,"Q2.38",1,"ok",0,null,null,"Q2.38",{"$f":"IF(I272,1,IF(I273,2,IF(I274,3,IF(I275,4,\"-\"))))","v":"-"},3,"-","-","-",3,3,3,"-",null,{"$f":"BF160","v":"Q2.10"},"Q2.10FALSE",false,"Zapojte zaměstnance do hodnocení pracovních rizik a do přezkumů politiky BOZP.\nZajistěte, aby byli dodavatelé zahrnuti také do systému školení, aby byla kontrolována jejich úroveň kompetence v záležitostech BOZP a v případě potřeby byla poskytována školení."]
[null,{"$f":"'Kapitola 2'!C242","v":"Q2.39"},{"$f":"IF('Kapitola 2'!K243,1,IF('Kapitola 2'!K244,2,IF('Kapitola 2'!K245,3,IF('Kapitola 2'!K246,4,\"\"))))","v":3},"formula 4 choices",null,null,null,{"$f":"'Kapitola 2'!K63","v":true},true,true,true,true,true,true,true,null,null,null,null,false,false,false,true,false,false,true,false,false,false,null,null,{"$f":"B157","v":"Q2.34"},null,{"$f":"100/13","v":7.6923076923076925},null,null,null,null,null,null,"Q2.39",1,"ok",0,null,null,"Q2.39",{"$f":"IF(I276,1,IF(I277,2,IF(I278,3,IF(I279,4,\"-\"))))","v":"-"},3,"-","-","-",3,3,3,"-",null,{"$f":"BF161","v":"Q2.10"},"Q2.10TRUE",true,"Vyhodnoťte účinnost komunikace a školení pro všechny pracovníky."]
[null,{"$f":"'Kapitola 2'!C248","v":"Q2.40"},{"$f":"IF('Kapitola 2'!K249,1,IF('Kapitola 2'!K250,2,IF('Kapitola 2'!K251,3,IF('Kapitola 2'!K252,4,\"\"))))","v":4},"formula 4 choices",null,null,null,{"$f":"'Kapitola 2'!K64","v":false},false,false,false,false,false,false,false,null,null,null,null,false,false,true,false,false,false,false,false,false,false,null,null,"Q2.35",null,7.6923076923076925,null,null,null,null,null,null,"Q2.40",1,"ok",0,null,null,"Q2.40",{"$f":"IF(I280,1,IF(I281,2,IF(I282,3,IF(I283,4,\"-\"))))","v":"-"},3,"-","-","-",3,3,3,"-",null,{"$f":"BF162","v":"Q2.10"},"Q2.10FALSE",false,"Není třeba okamžitě měnit strategii, vždy se však snažte o zlepšení."]
[null,{"$f":"'Kapitola 2'!C254","v":"Q2.41"},{"$f":"IF('Kapitola 2'!K255,1,IF('Kapitola 2'!K256,2,IF('Kapitola 2'!K257,3,IF('Kapitola 2'!K258,4,\"\"))))","v":3},"formula 4 choices",null,null,{"$f":"B134","v":"Q2.11"},{"$f":"'Kapitola 2'!K69","v":false},null,null,null,null,null,null,null,null,null,null,null,null,null,null,null,null,null,null,null,null,null,null,null,"Q2.36",null,7.6923076923076925,null,null,null,null,null,null,"Q2.41",1,"ok",0,null,null,"Q2.41",{"$f":"IF(I284,1,IF(I285,2,IF(I286,3,IF(I287,4,\"-\"))))","v":"-"},3,"-","-","-",3,3,3,"-",null,{"$f":"G164","v":"Q2.11"},"Q2.11FALSE",false,"Definujte role a zdroje.\nPoužít zásadu pro všechny.\nDefinujte konkrétní cíle a sledujte tyto cíle pomocí ukazatelů."]
[null,{"$f":"'Kapitola 2'!C260","v":"Q2.42"},{"$f":"IF('Kapitola 2'!K261,1,IF('Kapitola 2'!K262,2,IF('Kapitola 2'!K263,3,IF('Kapitola 2'!K264,4,\"\"))))","v":4},"formula 4 choices",null,null,null,{"$f":"'Kapitola 2'!K70","v":false},null,null,null,null,null,null,null,null,null,null,null,null,null,null,null,null,null,null,null,null,null,null,null,"Q2.37",null,7.6923076923076925,null,null,null,null,null,null,"Q2.42",1,"ok",0,null,null,"Q2.42",{"$f":"IF(I288,1,IF(I289,2,IF(I290,3,IF(I291,4,\"-\"))))","v":"-"},3,"-","-","-",3,3,3,"-",null,{"$f":"BF164","v":"Q2.11"},"Q2.11FALSE",false,"Jasně definujte odpovědnosti pro všechny úrovně v organizaci, aby se zabránilo nehodě.\nAplikujte politiku společnosti.\nPracovníkům odpovědným za bezpečnost procesu jsou stanoveny jasné cíle tak, aby přispívaly k výkonu, podle úrovně jejich odpovědnosti."]
[null,{"$f":"'Kapitola 2'!C266","v":"Q2.43"},{"$f":"IF('Kapitola 2'!K267,1,IF('Kapitola 2'!K268,2,IF('Kapitola 2'!K269,3,IF('Kapitola 2'!K270,4,\"\"))))","v":4},"formula 4 choices",null,null,null,{"$f":"'Kapitola 2'!K71","v":true},null,null,null,null,null,null,null,null,null,null,{"$f":"G152","v":"Q2.8"},{"$f":"IF(I152=\"\",$H152,I152)","v":false},false,false,false,false,false,false,false,false,false,null,null,"Q2.38",null,7.6923076923076925,null,null,null,null,null,null,"Q2.43",1,"ok",0,null,null,"Q2.43",{"$f":"IF(I292,1,IF(I293,2,IF(I294,3,IF(I295,4,\"-\"))))","v":"-"},3,4,"-","-",3,3,"-","-",null,{"$f":"BF165","v":"Q2.11"},"Q2.11TRUE",true,"Zapojte zaměstnance do vývoje politiky."]
[null,{"$f":"'Kapitola 2'!C272","v":"Q2.44"},{"$f":"IF('Kapitola 2'!K273,1,IF('Kapitola 2'!K274,2,IF('Kapitola 2'!K275,3,IF('Kapitola 2'!K276,4,\"\"))))","v":4},"formula 4 choices",null,null,null,{"$f":"'Kapitola 2'!K72","v":false},null,null,null,null,null,null,null,null,null,null,null,{"$f":"IF(I153=\"\",$H153,I153)","v":false},{"$f":"IF(J153=\"\",$H153,J153)","v":false},false,false,{"$f":"IF(M153=\"\",$H153,M153)","v":false},{"$f":"IF(N153=\"\",$H153,N153)","v":false},false,false,false,false,null,null,"Q2.39",null,7.6923076923076925,null,null,null,null,null,null,"Q2.44",1,"ok",0,null,null,"Q2.44",{"$f":"IF(I296,1,IF(I297,2,IF(I298,3,IF(I299,4,\"-\"))))","v":"-"},3,3,"-","-",3,3,3,"-",null,{"$f":"BF166","v":"Q2.11"},"Q2.11FALSE",false,"Není třeba okamžitě měnit strategii, ale vždy hledejte zlepšení."]
[null,{"$f":"'Kapitola 2'!C278","v":"Q2.45"},{"$f":"IF('Kapitola 2'!K279,1,IF('Kapitola 2'!K280,2,IF('Kapitola 2'!K281,3,IF('Kapitola 2'!K282,4,\"\"))))","v":3},"formula 4 choices",null,null,{"$f":"B135","v":"Q2.12"},{"$f":"'Kapitola 2'!K75","v":false},null,null,null,null,null,null,null,null,null,null,null,true,true,true,true,true,true,false,true,true,false,null,null,{"$f":"B163","v":"Q2.40"},null,7.6923076923076925,null,null,null,null,null,null,{"$f":"B168","v":"Q2.45"},1,{"$f":"IF(C168<AP168,\"major issue\",\"ok\")","v":"ok"},0,null,null,"Q2.45",{"$f":"IF(I300,1,IF(I301,2,IF(I302,3,IF(I303,4,\"-\"))))","v":"-"},1,3,"-","-",2,2,2,"-",null,{"$f":"G168","v":"Q2.12"},"Q2.12FALSE",false,"Pro identifikaci a podrobnost pro každý proces / vybavení / pracoviště:\n- potenciální rizika pro veřejné zdraví a bezpečnost při běžném provozu;\n- potenciální rizika pro veřejné zdraví a bezpečnost za zhoršené situace v souvislosti se změnou nebo neobvyklým provozem."]
[null,null,null,null,null,null,null,{"$f":"'Kapitola 2'!K76","v":false},null,null,null,null,null,null,null,null,null,null,null,false,false,false,false,false,false,true,false,false,false,null,null,"Q2.41",null,7.6923076923076925,null,null,null,null,null,null,null,null,null,null,null,null,null,null,null,null,null,null,null,null,null,null,null,{"$f":"BF168","v":"Q2.12"},"Q2.12FALSE",false," Poskytovat tyto informace o možných rizicích pro místní obyvatele v různých situacích;\nPoskytovat tyto informace o možných rizicích pro místní obyvatele v různých situacích.Zajistit, aby bezpečnost byla šířena šířením těchto informací."]
[null,null,null,null,null,null,null,{"$f":"'Kapitola 2'!K77","v":false},null,null,null,null,null,null,null,null,null,null,null,null,null,null,null,null,null,null,null,null,null,null,null,"Q2.42",null,7.6923076923076925,null,null,null,null,null,null,null,null,null,{"$f":"IF(SUM(AR124:AR168)>0,\"Klíčové prvky RC je třeba ještě implementovat, viz tipy\",\"\")","v":""},null,null,null,null,null,null,null,null,null,null,null,null,null,{"$f":"BF169","v":"Q2.12"},"Q2.12FALSE",false,"Určete pro identifikované scénáře nehod:\n- Účinky nebezpečných jevů na veřejné zdraví, bezpečnost a jejich intenzita (stupnice závažnosti).\n- Pravděpodobnost výskytu (stupnice pravděpodobnosti) az toho míra rizika nebo kritičnosti (spojení závažnosti a pravděpodobnosti)."]
[null,null,null,null,null,null,null,{"$f":"'Kapitola 2'!K78","v":true},null,null,null,null,null,null,null,null,null,null,null,null,null,null,null,null,null,null,null,null,null,null,null,"Q2.43",null,7.6923076923076925,null,null,null,null,null,null,null,null,null,null,null,null,null,null,null,null,null,null,null,null,null,null,null,{"$f":"BF170","v":"Q2.12"},"Q2.12TRUE",true,"Není třeba okamžitě měnit strategii, vždy se však snažte o zlepšení."]
[null,null,null,null,null,null,{"$f":"B136","v":"Q2.13"},{"$f":"'Kapitola 2'!K81","v":false},null,null,null,null,null,null,null,null,null,null,{"$f":"G156","v":"Q2.9"},{"$f":"IF(I156=\"\",$H156,I156)","v":false},false,false,false,false,false,false,false,false,false,null,null,"Q2.44",null,7.6923076923076925,null,null,null,null,null,null,null,null,null,null,null,null,null,null,null,null,null,null,null,null,null,null,null,{"$f":"G172","v":"Q2.13"},"Q2.13FALSE",false,"Stanovte klasifikační kritéria pro nehody (na základě povahy / následků a možných rizik).\nIdentifikujte incidenty spojené s bezpečností procesu (přinejmenším podle definic indikátoru ICCA výkonnosti bezpečnosti procesů (LoC)) (https://cefic.org/app/uploads/2019/02/Cefic-ICCA-Guidance-on- Indikátory procesní bezpečnosti-výkonnosti -.pdf). "]
[null,null,null,null,null,null,null,{"$f":"'Kapitola 2'!K82","v":false},null,null,null,null,null,null,null,null,null,null,null,{"$f":"IF(I157=\"\",$H157,I157)","v":false},{"$f":"IF(J157=\"\",$H157,J157)","v":false},false,false,{"$f":"IF(M157=\"\",$H157,M157)","v":false},{"$f":"IF(N157=\"\",$H157,N157)","v":false},false,false,false,false,null,null,"Q2.45",null,7.6923076923076925,null,null,null,null,null,null,null,null,null,null,null,null,null,null,null,null,null,null,null,null,null,null,null,{"$f":"BF172","v":"Q2.13"},"Q2.13FALSE",false,"Definujte kritéria pro tým, který bude součástí analýzy incidentů / nehod, včetně koordinátora a časového rámce, aby byly závěry."]
[null,null,null,null,null,null,null,{"$f":"'Kapitola 2'!K83","v":true},null,null,null,null,null,null,null,null,null,null,null,false,false,true,true,false,false,true,false,false,false,null,null,null,null,null,null,null,null,null,null,null,null,null,null,null,null,null,null,null,null,null,null,null,null,null,null,null,null,{"$f":"BF173","v":"Q2.13"},"Q2.13TRUE",true,"Nehody jsou používány jako zkušenost v učení a sdíleny.\nV případě potřeby zavést osvědčené postupy nápravných opatření jako preventivní opatření."]
[null,null,null,null,null,null,null,{"$f":"'Kapitola 2'!K84","v":false},null,null,null,null,null,null,null,null,null,null,null,true,true,false,false,true,true,false,true,true,false,null,null,null,null,null,null,null,null,null,null,null,null,null,null,null,null,null,null,null,null,null,null,null,null,null,null,null,null,{"$f":"BF174","v":"Q2.13"},"Q2.13FALSE",false,"Není třeba okamžitě měnit strategii, vždy se však snažte o zlepšení."]
[null,null,null,null,null,null,{"$f":"B137","v":"Q2.14"},{"$f":"'Kapitola 2'!K87","v":true},null,null,null,null,null,null,null,null,null,null,null,null,null,null,null,null,null,null,null,null,null,null,null,null,null,null,null,null,null,null,null,null,null,null,null,null,null,null,null,null,null,null,null,null,null,null,null,null,null,{"$f":"G176","v":"Q2.14"},"Q2.14TRUE",true,"Stanovte kritéria, systém a periodicitu kontroly pro posouzení bezpečnosti procesu a realizace cílů.\nIntegrujte do řízení revizi výsledků auditu a hodnocení směrem k cílům každého oddělení nebo společnosti.\nZačlenit revizi výsledků auditu a hodnocení směrem k cílům v přezkumu řízení.\nIdentifikujte ukazatele pro ověření účinnosti systému."]
[null,null,null,null,null,null,null,{"$f":"'Kapitola 2'!K88","v":false},null,null,null,null,null,null,null,null,null,null,null,null,null,null,null,null,null,null,null,null,null,null,null,null,null,null,null,null,null,null,null,null,null,null,null,null,null,null,null,null,null,null,null,null,null,null,null,null,null,{"$f":"BF176","v":"Q2.14"},"Q2.14FALSE",false,"Prioritizovat výsledky auditů a inspekcí.\nVýsledky auditů použijte k definování budoucích cílů."]
[null,null,null,null,null,null,null,{"$f":"'Kapitola 2'!K89","v":false},null,null,null,null,null,null,null,null,null,null,{"$f":"G160","v":"Q2.10"},{"$f":"IF(I160=\"\",$H160,I160)","v":false},false,false,false,false,false,false,false,false,false,null,null,null,null,null,null,null,null,null,null,null,null,null,null,null,null,null,null,null,null,null,null,null,null,null,null,null,null,{"$f":"BF177","v":"Q2.14"},"Q2.14FALSE",false,"Pravidelně kontrolujte veškerou dokumentaci týkající se bezpečnosti procesu, aby byla zajištěna její aktuálnost (např. Všechny změny jsou zvažovány a vyhodnoceny)."]
[null,null,null,null,null,null,null,{"$f":"'Kapitola 2'!K90","v":false},null,null,null,null,null,null,null,null,null,null,null,{"$f":"IF(I161=\"\",$H161,I161)","v":false},{"$f":"IF(J161=\"\",$H161,J161)","v":false},false,false,{"$f":"IF(M161=\"\",$H161,M161)","v":false},{"$f":"IF(N161=\"\",$H161,N161)","v":false},false,false,false,false,null,null,null,null,null,null,null,null,null,null,null,null,null,null,null,null,null,null,null,null,null,null,null,null,null,null,null,null,{"$f":"BF178","v":"Q2.14"},"Q2.14FALSE",false,"Není třeba okamžitě měnit strategii, nicméně vždy hledejte zlepšení."]
[null,null,null,null,null,null,{"$f":"B138","v":"Q2.15"},{"$f":"'Kapitola 2'!K93","v":false},null,null,null,null,null,null,null,null,null,null,null,true,true,true,true,true,true,true,true,true,false,null,null,null,null,null,null,null,null,null,null,null,null,null,null,null,null,null,null,null,null,null,null,null,null,null,null,null,null,{"$f":"G180","v":"Q2.15"},"Q2.15FALSE",false,"Zavést nepřetržitý komunikační systém nebo systém kontroly přítomnosti pracovníků na kritických místech nebo izolovaných úkolech.\nPravidelně kontrolujte pokyny pro kritické činnosti.\nZřídit systém pracovních povolení pro kritická zařízení a instalace."]
[null,null,null,null,null,null,null,{"$f":"'Kapitola 2'!K94","v":false},null,null,null,null,null,null,null,null,null,null,null,false,false,false,false,false,false,false,false,false,false,null,null,null,null,null,null,null,null,null,null,null,null,null,null,null,null,null,null,null,null,null,null,null,null,null,null,null,null,{"$f":"BF180","v":"Q2.15"},"Q2.15FALSE",false,"Vytvořte systém pro zaměstnance, který navrhne zlepšení a poskytne zpětnou vazbu od problémů nebo incidentů vyskytujících se v souvislosti s pracovními pokyny."]
[null,null,null,null,null,null,null,{"$f":"'Kapitola 2'!K95","v":true},null,null,null,null,null,null,null,null,null,null,null,null,null,null,null,null,null,null,null,null,null,null,null,null,null,null,null,null,null,null,null,null,null,null,null,null,null,null,null,null,null,null,null,null,null,null,null,null,null,{"$f":"BF181","v":"Q2.15"},"Q2.15TRUE",true,"Vyhodnoťte a definujte minimální počet zaměstnanců.\nJsou zavedeny procesy pro bezpečný provoz (nebo odstavení) v případě, že nelze zajistit minimální počet zaměstnanců (např. Nemoci, stávky ...)."]
[null,null,null,null,null,null,null,{"$f":"'Kapitola 2'!K96","v":false},null,null,null,null,null,null,null,null,null,null,null,null,null,null,null,null,null,null,null,null,null,null,null,null,null,null,null,null,null,null,null,null,null,null,null,null,null,null,null,null,null,null,null,null,null,null,null,null,null,{"$f":"BF182","v":"Q2.15"},"Q2.15FALSE",false,"Není třeba okamžitě měnit strategii, vždy se však snažte zlepšit."]
[null,null,null,null,null,null,{"$f":"B139","v":"Q2.16"},{"$f":"'Kapitola 2'!K99","v":false},null,null,null,null,null,null,null,null,null,null,null,null,null,null,null,null,null,null,null,null,null,null,null,null,null,null,null,null,null,null,null,null,null,null,null,null,null,null,null,null,null,null,null,null,null,null,null,null,null,{"$f":"G184","v":"Q2.16"},"Q2.16FALSE",false,"Doporučuje se podrobný plán umístění instalace. Tyto plány jsou zavedeny pro lokalitu, budovu (budovy), půdorysy, evakuační trasy a - v případě potřeby - oblasti specifických bezpečnostních požadavků (např. Vzdálenost vzhledem k jiným požadavkům (ATEX; únikové cesty, sousední budovy atd.)) ."]
[null,null,null,null,null,null,null,{"$f":"'Kapitola 2'!K100","v":false},null,null,null,null,null,null,null,null,null,null,null,null,null,null,null,null,null,null,null,null,null,null,null,null,null,null,null,null,null,null,null,null,null,null,null,null,null,null,null,null,null,null,null,null,null,null,null,null,null,{"$f":"BF184","v":"Q2.16"},"Q2.16FALSE",false,"Použít nejlepší dostupné technologie (BAT), např. SIS, redundantní instalace, instalace zabezpečená proti selhání…"]
[null,null,null,null,null,null,null,{"$f":"'Kapitola 2'!K101","v":false},null,null,null,null,null,null,null,null,null,null,{"$f":"G164","v":"Q2.11"},{"$f":"IF(I164=\"\",$H164,I164)","v":false},false,false,false,false,false,false,false,false,false,null,null,null,null,null,null,null,null,null,null,null,null,null,null,null,null,null,null,null,null,null,null,null,null,null,null,null,null,{"$f":"BF185","v":"Q2.16"},"Q2.16FALSE",false,"Navrhnout tak, aby i selhání vedlo k bezpečné situaci."]
[null,null,null,null,null,null,null,{"$f":"'Kapitola 2'!K102","v":true},null,null,null,null,null,null,null,null,null,null,null,{"$f":"IF(I165=\"\",$H165,I165)","v":false},{"$f":"IF(J165=\"\",$H165,J165)","v":false},false,false,{"$f":"IF(M165=\"\",$H165,M165)","v":false},{"$f":"IF(N165=\"\",$H165,N165)","v":false},false,false,false,false,null,null,null,null,null,null,null,null,null,null,null,null,null,null,null,null,null,null,null,null,null,null,null,null,null,null,null,null,{"$f":"BF186","v":"Q2.16"},"Q2.16TRUE",true,"Není třeba okamžitě měnit strategii, vždy se však snažte zlepšit."]
[null,null,null,null,null,null,{"$f":"B140","v":"Q2.17"},{"$f":"'Kapitola 2'!K105","v":false},null,null,null,null,null,null,null,null,null,null,null,true,true,true,true,true,true,true,true,true,false,null,null,null,null,null,null,null,null,null,null,null,null,null,null,null,null,null,null,null,null,null,null,null,null,null,null,null,null,{"$f":"G188","v":"Q2.17"},{"$f":"CONCATENATE(BF188,BH188)","v":"Q2.17FALSE"},false,"Před spuštěním instalace otestujte, zdokumentujte a zkontrolujte bezpečnostní zařízení.\nJeho zamýšlená funkce je ověřena a zdokumentována.\nStanovte postup popisující nápravná opatření a dočasná řešení, dokud nebude provedeno nápravné opatření, pokud budou zbývající rizika posouzena před uvedením do provozu."]
[null,null,null,null,null,null,null,{"$f":"'Kapitola 2'!K106","v":false},null,null,null,null,null,null,null,null,null,null,null,false,false,false,false,false,false,false,false,false,false,null,null,null,null,null,null,null,null,null,null,null,null,null,null,null,null,null,null,null,null,null,null,null,null,null,null,null,null,{"$f":"BF188","v":"Q2.17"},"Q2.17FALSE",{"$f":"H189","v":false},"Ověřte účinnost nápravných opatření."]
[null,null,null,null,null,null,null,{"$f":"'Kapitola 2'!K107","v":false},null,null,null,null,null,null,null,null,null,null,null,null,null,null,null,null,null,null,null,null,null,null,null,null,null,null,null,null,null,null,null,null,null,null,null,null,null,null,null,null,null,null,null,null,null,null,null,null,null,{"$f":"BF189","v":"Q2.17"},"Q2.17FALSE",false,"Uchovávejte dokumentaci k dispozici, včetně nastavení, údržby a aktualizací procesu a zařízení"]
[null,null,null,null,null,null,null,{"$f":"'Kapitola 2'!K108","v":true},null,null,null,null,null,null,null,null,null,null,null,null,null,null,null,null,null,null,null,null,null,null,null,null,null,null,null,null,null,null,null,null,null,null,null,null,null,null,null,null,null,null,null,null,null,null,null,null,null,{"$f":"BF190","v":"Q2.17"},"Q2.17TRUE",true,"Není třeba okamžitě měnit strategii, vždy se však snažte o zlepšení."]
[null,null,null,null,null,null,{"$f":"B141","v":"Q2.18"},{"$f":"'Kapitola 2'!K111","v":false},null,null,null,null,null,null,null,null,null,null,{"$f":"G168","v":"Q2.12"},{"$f":"IF(I168=\"\",$H168,I168)","v":false},false,false,false,false,false,false,false,false,false,null,null,null,null,null,null,null,null,null,null,null,null,null,null,null,null,null,null,null,null,null,null,null,null,null,null,null,null,{"$f":"G192","v":"Q2.18"},"Q2.18FALSE",false,"Identifikujte kritické procesní prvky a definujte úroveň spolehlivosti, kterou by tyto prvky měly mít."]
[null,null,null,null,null,null,null,{"$f":"'Kapitola 2'!K112","v":false},null,null,null,null,null,null,null,null,null,null,null,{"$f":"IF(I169=\"\",$H169,I169)","v":false},{"$f":"IF(J169=\"\",$H169,J169)","v":false},false,false,{"$f":"IF(M169=\"\",$H169,M169)","v":false},{"$f":"IF(N169=\"\",$H169,N169)","v":false},false,false,false,false,null,null,null,null,null,null,null,null,null,null,null,null,null,null,null,null,null,null,null,null,null,null,null,null,null,null,null,null,{"$f":"BF192","v":"Q2.18"},"Q2.18FALSE",false,"Doporučuje se mít v případě odchylek v procesu na trvale obsazených místech poplachy"]
[null,null,null,null,null,null,null,{"$f":"'Kapitola 2'!K113","v":true},null,null,null,null,null,null,null,null,null,null,null,false,false,false,false,false,false,false,false,false,false,null,null,null,null,null,null,null,null,null,null,null,null,null,null,null,null,null,null,null,null,null,null,null,null,null,null,null,null,{"$f":"BF193","v":"Q2.18"},"Q2.18TRUE",true,"Proveďte vyhodnocení pro každý reaktor, sklad nebo jiné zařízení obsahující množství nebezpečných látek nad určitým prahem, aby bylo zajištěno, že je zaveden systém prevence, zadržování a evakuace."]
[null,null,null,null,null,null,null,{"$f":"'Kapitola 2'!K114","v":false},null,null,null,null,null,null,null,null,null,null,null,true,true,true,true,true,true,true,true,true,false,null,null,null,null,null,null,null,null,null,null,null,null,null,null,null,null,null,null,null,null,null,null,null,null,null,null,null,null,{"$f":"BF194","v":"Q2.18"},"Q2.18FALSE",false,"Není třeba okamžitě měnit strategii, vždy se však snažte zlepšit."]
[null,null,null,null,null,null,{"$f":"B142","v":"Q2.19"},{"$f":"'Kapitola 2'!K117","v":false},null,null,null,null,null,null,null,null,null,null,null,null,null,null,null,null,null,null,null,null,null,null,null,null,null,null,null,null,null,null,null,null,null,null,null,null,null,null,null,null,null,null,null,null,null,null,null,null,null,{"$f":"G196","v":"Q2.19"},"Q2.19FALSE",false,"Zahrnout do programu jasná kritéria týkající se: aktualizací v případě neshod, periodicity, cílů a zvláštních pokynů pro údržbu všech zařízení s vlivem na bezpečnost procesu.\nVytvořte specifický program pro ty části, které jsou kritické pro bezpečnost procesu (zámky, smyčky, bezpečnostní ventily, prasklé disky ...)."]
[null,null,null,null,null,null,null,{"$f":"'Kapitola 2'!K118","v":false},null,null,null,null,null,null,null,null,null,null,null,null,null,null,null,null,null,null,null,null,null,null,null,null,null,null,null,null,null,null,null,null,null,null,null,null,null,null,null,null,null,null,null,null,null,null,null,null,null,{"$f":"BF196","v":"Q2.19"},"Q2.19FALSE",false,"Identifikujte odpovědný personál pro realizaci programu údržby. Indikátory jsou nastaveny tak, aby monitorovaly činnosti údržby (% dokončení, zjištěné problémy atd.)."]
[null,null,null,null,null,null,null,{"$f":"'Kapitola 2'!K119","v":true},null,null,null,null,null,null,null,null,null,null,{"$f":"G172","v":"Q2.13"},{"$f":"IF(I172=\"\",$H172,I172)","v":false},false,false,false,false,false,false,false,false,false,null,null,null,null,null,null,null,null,null,null,null,null,null,null,null,null,null,null,null,null,null,null,null,null,null,null,null,null,{"$f":"BF197","v":"Q2.19"},"Q2.19TRUE",true,"Pravidelně vyhodnocujte účinnost programu údržby. Kromě toho se měří úspěch a zlepšují se plány údržby."]
[null,null,null,null,null,null,null,{"$f":"'Kapitola 2'!K120","v":false},null,null,null,null,null,null,null,null,null,null,null,{"$f":"IF(I173=\"\",$H173,I173)","v":false},{"$f":"IF(J173=\"\",$H173,J173)","v":false},false,false,{"$f":"IF(M173=\"\",$H173,M173)","v":false},{"$f":"IF(N173=\"\",$H173,N173)","v":false},false,false,false,false,null,null,null,null,null,null,null,null,null,null,null,null,null,null,null,null,null,null,null,null,null,null,null,null,null,null,null,null,{"$f":"BF198","v":"Q2.19"},"Q2.19FALSE",false,"Není třeba okamžitě měnit strategii, vždy se však snažte"]
[null,null,null,null,null,null,{"$f":"B143","v":"Q2.20"},{"$f":"'Kapitola 2'!K123","v":false},null,null,null,null,null,null,null,null,null,null,null,true,true,true,true,true,true,true,true,true,false,null,null,null,null,null,null,null,null,null,null,null,null,null,null,null,null,null,null,null,null,null,null,null,null,null,null,null,null,{"$f":"G200","v":"Q2.20"},"Q2.20FALSE",false,"Vyhodnoťte potřebu bezpečného napájení energií / zdrojů. Připravte alternativní řešení pro hlavní energetické služby."]
[null,null,null,null,null,null,null,{"$f":"'Kapitola 2'!K124","v":false},null,null,null,null,null,null,null,null,null,null,null,false,false,false,false,false,false,false,false,false,false,null,null,null,null,null,null,null,null,null,null,null,null,null,null,null,null,null,null,null,null,null,null,null,null,null,null,null,null,{"$f":"BF200","v":"Q2.20"},"Q2.20FALSE",false,"Proveďte testy pro ověření správného fungování nouzových systémů a odpovědný personál je jasně identifikován."]
[null,null,null,null,null,null,null,{"$f":"'Kapitola 2'!K125","v":false},null,null,null,null,null,null,null,null,null,null,null,null,null,null,null,null,null,null,null,null,null,null,null,null,null,null,null,null,null,null,null,null,null,null,null,null,null,null,null,null,null,null,null,null,null,null,null,null,null,{"$f":"BF201","v":"Q2.20"},"Q2.20FALSE",false,"Vytvořte plán pro nepředvídané události včetně analýzy možných událostí a definování přijatelné doby odezvy, skupin odezvy a procesů."]
[null,null,null,null,null,null,null,{"$f":"'Kapitola 2'!K126","v":true},null,null,null,null,null,null,null,null,null,null,null,null,null,null,null,null,null,null,null,null,null,null,null,null,null,null,null,null,null,null,null,null,null,null,null,null,null,null,null,null,null,null,null,null,null,null,null,null,null,{"$f":"BF202","v":"Q2.20"},"Q2.20TRUE",true,"Není třeba okamžitě měnit strategii, vždy se však snažte o zlepšení."]
[null,null,null,null,null,null,{"$f":"B144","v":"Q2.21"},{"$f":"'Kapitola 2'!K129","v":false},null,null,false,null,null,null,null,null,null,null,{"$f":"G176","v":"Q2.14"},{"$f":"IF(I176=\"\",$H176,I176)","v":true},true,true,true,true,true,true,true,true,false,null,null,null,null,null,null,null,null,null,null,null,null,null,null,null,null,null,null,null,null,null,null,null,null,null,null,null,null,{"$f":"G204","v":"Q2.21"},"Q2.21FALSE",false,"Realizujte praktická cvičení alespoň jednou ročně a poté vyhodnoťte účinnost havarijního plánu. Zřídit informační program pro komunikaci s úřady, zásahovými silami, tiskem, komunitou atd. A zlepšit připravenost v případě nouze."]
[null,null,null,null,null,null,null,{"$f":"'Kapitola 2'!K130","v":false},null,null,false,null,null,null,null,null,null,null,null,{"$f":"IF(I177=\"\",$H177,I177)","v":false},{"$f":"IF(J177=\"\",$H177,J177)","v":false},false,false,{"$f":"IF(M177=\"\",$H177,M177)","v":false},{"$f":"IF(N177=\"\",$H177,N177)","v":false},false,false,false,false,null,null,null,null,null,null,null,null,null,null,null,null,null,null,null,null,null,null,null,null,null,null,null,null,null,null,null,null,{"$f":"BF204","v":"Q2.21"},"Q2.21FALSE",false,"Kromě toho byl havarijní plán připraven a integrován s externím havarijním plánem ve spolupráci s partnery a sousedními organizacemi (je-li to relevantní)."]
[null,null,null,null,null,null,null,{"$f":"'Kapitola 2'!K131","v":true},null,null,true,null,null,null,null,null,null,null,null,false,false,false,false,false,false,false,false,false,false,null,null,null,null,null,null,null,null,null,null,null,null,null,null,null,null,null,null,null,null,null,null,null,null,null,null,null,null,{"$f":"BF205","v":"Q2.21"},"Q2.21TRUE",true,"Mít postup územního plánování pro vyhodnocení a získání znalostí o sousední komunitě (např. Školy, školky, nemocnice, pečovatelské domy, nákupní a sportovní centra…) a pro vyhodnocení potřeby připravenosti, komunikace a evakuace v případě mimořádné události - v případě potřeby - vyhodnotit zastavení výroby."]
[null,null,null,null,null,null,null,{"$f":"'Kapitola 2'!K132","v":false},null,null,false,null,null,null,null,null,null,null,null,{"$f":"IF(I179=\"\",$H179,I179)","v":false},false,false,false,false,false,false,false,false,false,null,null,null,null,null,null,null,null,null,null,null,null,null,null,null,null,null,null,null,null,null,null,null,null,null,null,null,null,{"$f":"BF206","v":"Q2.21"},"Q2.21FALSE",false,"Není třeba okamžitě měnit strategii, vždy se však snažte o zlepšení."]
[null,null,null,null,null,null,{"$f":"B145","v":"Q2.22"},{"$f":"'Kapitola 2'!K135","v":false},null,null,null,null,null,null,null,null,null,null,null,null,null,null,null,null,null,null,null,null,null,null,null,null,null,null,null,null,null,null,null,null,null,null,null,null,null,null,null,null,null,null,null,null,null,null,null,null,null,{"$f":"G208","v":"Q2.22"},"Q2.22FALSE",false,"Zaměstnancům a dodavatelům poskytněte školení o bezpečnosti procesů. Je zaveden plán školení zahrnující všechny aspekty bezpečnosti procesů a zařízení včetně harmonogramu pravidelného opakování tohoto školení. Kromě toho je zaveden rekvalifikační program pro zaměstnance, kteří mají odpovědnost za úkoly spojené s bezpečností procesů a zařízení a kteří byli delší dobu nepřítomni (např. Těhotenství, nemoc, pracovní volno)."]
[null,null,null,null,null,null,null,{"$f":"'Kapitola 2'!K136","v":true},null,null,null,null,null,null,null,null,null,null,null,null,null,null,null,null,null,null,null,null,null,null,null,null,null,null,null,null,null,null,null,null,null,null,null,null,null,null,null,null,null,null,null,null,null,null,null,null,null,{"$f":"BF208","v":"Q2.22"},"Q2.22TRUE",true,"Poskytněte další vzdělávání související s novými nástroji a technikami bezpečnosti procesů (odborníci na bezpečnost procesů v podniku)."]
[null,null,null,null,null,null,null,{"$f":"'Kapitola 2'!K137","v":false},null,null,null,null,null,null,null,null,null,null,{"$f":"G180","v":"Q2.15"},{"$f":"IF(I180=\"\",$H180,I180)","v":false},false,false,false,false,false,false,false,false,false,null,null,null,null,null,null,null,null,null,null,null,null,null,null,null,null,null,null,null,null,null,null,null,null,null,null,null,null,{"$f":"BF209","v":"Q2.22"},"Q2.22FALSE",false,"Zpřístupnit doklad o způsobilosti všech zaměstnanců, kteří přispívají k bezpečnosti procesů (kvalifikace pro údržbu v zónách ATEX, deaktivace a povolení poplachů a bezpečnostních, ověření bezpečnostních opatření a instalací, oprávnění dodavatelů, profesionální karnet) , atd)."]
[null,null,null,null,null,null,null,{"$f":"'Kapitola 2'!K138","v":false},null,null,null,null,null,null,null,null,null,null,null,{"$f":"IF(I181=\"\",$H181,I181)","v":false},{"$f":"IF(J181=\"\",$H181,J181)","v":false},false,false,{"$f":"IF(M181=\"\",$H181,M181)","v":false},{"$f":"IF(N181=\"\",$H181,N181)","v":false},false,false,false,false,null,null,null,null,null,null,null,null,null,null,null,null,null,null,null,null,null,null,null,null,null,null,null,null,null,null,null,null,{"$f":"BF210","v":"Q2.22"},"Q2.22FALSE",false,"Není třeba okamžitě měnit strategii, vždy se však snažte zlepšit."]
[null,null,null,null,null,null,{"$f":"B146","v":"Q2.23"},{"$f":"'Kapitola 2'!K141","v":false},null,null,null,null,null,null,null,null,null,null,null,true,true,true,true,true,true,true,true,true,false,null,null,null,null,null,null,null,null,null,null,null,null,null,null,null,null,null,null,null,null,null,null,null,null,null,null,null,null,{"$f":"G212","v":"Q2.23"},"Q2.23FALSE",false,"Popište, definujte všechny příslušné reakce v procesu."]
[null,null,null,null,null,null,null,{"$f":"'Kapitola 2'!K142","v":false},null,null,null,null,null,null,null,null,null,null,null,false,false,false,false,false,false,false,false,false,false,null,null,null,null,null,null,null,null,null,null,null,null,null,null,null,null,null,null,null,null,null,null,null,null,null,null,null,null,{"$f":"BF212","v":"Q2.23"},"Q2.23FALSE",false,"Sledujte vývoj teploty a tlaku v průběhu procesu za normálních a nejhorších situací."]
[null,null,null,null,null,null,null,{"$f":"'Kapitola 2'!K143","v":false},null,null,null,null,null,null,null,null,null,null,null,null,null,null,null,null,null,null,null,null,null,null,null,null,null,null,null,null,null,null,null,null,null,null,null,null,null,null,null,null,null,null,null,null,null,null,null,null,null,{"$f":"BF213","v":"Q2.23"},"Q2.23FALSE",false,"Mějte zavedeny bezpečnostní údaje pro všechny procesy a látky (včetně možných meziproduktů, reziduí a dalších).\nNapříklad: vyhodnocení tepelné a chemické stability (např. Teplota samovolného rozkladu, doba do maximálního množství, diferenční tepelná analýza…), důsledky interference s jinými látkami (včetně např. energie, jako je pára, voda, chladicí / topná činidla), informace o dolních / horních mezích výbuchu."]
[null,null,null,null,null,null,null,{"$f":"'Kapitola 2'!K144","v":true},null,null,null,null,null,null,null,null,null,null,null,null,null,null,null,null,null,null,null,null,null,null,null,null,null,null,null,null,null,null,null,null,null,null,null,null,null,null,null,null,null,null,null,null,null,null,null,null,null,{"$f":"BF214","v":"Q2.23"},"Q2.23TRUE",true,"Není třeba okamžitě měnit strategii, vždy se však snažte o zlepšení."]
[null,null,null,null,null,null,{"$f":"B147","v":"Q2.24"},{"$f":"'Kapitola 2'!K147","v":false},null,null,null,null,null,null,null,null,null,null,{"$f":"G184","v":"Q2.16"},{"$f":"IF(I184=\"\",$H184,I184)","v":false},false,false,false,false,false,false,false,false,false,null,null,null,null,null,null,null,null,null,null,null,null,null,null,null,null,null,null,null,null,null,null,null,null,null,null,null,null,{"$f":"G216","v":"Q2.24"},"Q2.24FALSE",false,"Vytvořte diagramy potrubí a nástrojů a aktualizujte je."]
[null,null,null,null,null,null,null,{"$f":"'Kapitola 2'!K148","v":false},null,null,null,null,null,null,null,null,null,null,null,{"$f":"IF(I185=\"\",$H185,I185)","v":false},{"$f":"IF(J185=\"\",$H185,J185)","v":false},false,false,{"$f":"IF(M185=\"\",$H185,M185)","v":false},{"$f":"IF(N185=\"\",$H185,N185)","v":false},false,false,false,false,null,null,null,null,null,null,null,null,null,null,null,null,null,null,null,null,null,null,null,null,null,null,null,null,null,null,null,null,{"$f":"BF216","v":"Q2.24"},"Q2.24FALSE",false,"Aktualizujte výrobní postupy a provozní příručky pokrývající všechny možné provozní fáze (např. Spuštění, normální provoz, nouzové vypnutí, výjimečné práce atd.).\nDefinujte provozní limity/meze a plánované akce pro mimořádné situace a anomálie."]
[null,null,null,null,null,null,null,{"$f":"'Kapitola 2'!K149","v":false},null,null,null,null,null,null,null,null,null,null,null,false,false,false,false,false,false,false,false,false,false,null,null,null,null,null,null,null,null,null,null,null,null,null,null,null,null,null,null,null,null,null,null,null,null,null,null,null,null,{"$f":"BF217","v":"Q2.24"},"Q2.24FALSE",false,"Tyto prvky okamžitě zpřístupněte pracovníkům, kteří na procesu pracují. Vyškolte zaměstnance k používání dokumentace a činností vyplývajících z těchto postupů / příruček."]
[null,null,null,null,null,null,null,{"$f":"'Kapitola 2'!K150","v":true},null,null,null,null,null,null,null,null,null,null,null,true,true,true,true,true,true,true,true,true,false,null,null,null,null,null,null,null,null,null,null,null,null,null,null,null,null,null,null,null,null,null,null,null,null,null,null,null,null,{"$f":"BF218","v":"Q2.24"},"Q2.24TRUE",true,"Není třeba okamžitě měnit strategii, vždy se však snažte zlepšit."]
[null,null,null,null,null,null,{"$f":"B148","v":"Q2.25"},{"$f":"'Kapitola 2'!K155","v":false},null,null,null,null,null,null,null,null,null,null,null,null,null,null,null,null,null,null,null,null,null,null,null,null,null,null,null,null,null,null,null,null,null,null,null,null,null,null,null,null,null,null,null,null,null,null,null,null,null,{"$f":"G220","v":"Q2.25"},"Q2.25FALSE",false,"Definujte minimální požadavky pro zajištění bezpečné logistiky, stanovte je jako požadavky pro vaše poskytovatele logistiky."]
[null,null,null,null,null,null,null,{"$f":"'Kapitola 2'!K156","v":false},null,null,null,null,null,null,null,null,null,null,null,null,null,null,null,null,null,null,null,null,null,null,null,null,null,null,null,null,null,null,null,null,null,null,null,null,null,null,null,null,null,null,null,null,null,null,null,null,null,{"$f":"BF220","v":"Q2.25"},"Q2.25FALSE",false,"Vyhodnoťte příslušná bezpečnostní opatření vyžadovaná při přepravě."]
[null,null,null,null,null,null,null,{"$f":"'Kapitola 2'!K157","v":true},null,null,null,null,null,null,null,null,null,null,{"$f":"G188","v":"Q2.17"},{"$f":"IF(I188=\"\",$H188,I188)","v":false},false,false,false,false,false,false,false,false,false,null,null,null,null,null,null,null,null,null,null,null,null,null,null,null,null,null,null,null,null,null,null,null,null,null,null,null,null,{"$f":"BF221","v":"Q2.25"},"Q2.25TRUE",true,"Příklad schématu, který lze použít (celkem nebo jeho části), je SQAS (https://www.sqas.org/). Společnosti se mohou rozhodnout použít jiné systémy nebo kritéria. Výběr poskytovatele logistiky je založen na individuálním rozhodovacím procesu každé společnosti, který může nebo nemusí zahrnovat SQAS."]
[null,null,null,null,null,null,null,{"$f":"'Kapitola 2'!K158","v":false},null,null,null,null,null,null,null,null,null,null,null,{"$f":"IF(I189=\"\",$H189,I189)","v":false},{"$f":"IF(J189=\"\",$H189,J189)","v":false},false,false,{"$f":"IF(M189=\"\",$H189,M189)","v":false},{"$f":"IF(N189=\"\",$H189,N189)","v":false},false,false,false,false,null,null,null,null,null,null,null,null,null,null,null,null,null,null,null,null,null,null,null,null,null,null,null,null,null,null,null,null,{"$f":"BF222","v":"Q2.25"},"Q2.25FALSE",false,"Není třeba okamžitě měnit strategii, vždy se však snažte zlepšit."]
[null,null,null,null,null,null,{"$f":"B149","v":"Q2.26"},{"$f":"'Kapitola 2'!K161","v":false},null,null,null,null,null,null,null,null,null,null,null,false,false,false,false,false,false,false,false,false,false,null,null,null,null,null,null,null,null,null,null,null,null,null,null,null,null,null,null,null,null,null,null,null,null,null,null,null,null,{"$f":"G224","v":"Q2.26"},"Q2.26FALSE",false,"Stanovte postupy k zajištění systematické a správné nakládky a vykládky nebezpečných věcí podle kontrolních seznamů."]
[null,null,null,null,null,null,null,{"$f":"'Kapitola 2'!K162","v":false},null,null,null,null,null,null,null,null,null,null,null,true,true,true,true,true,true,true,true,true,false,null,null,null,null,null,null,null,null,null,null,null,null,null,null,null,null,null,null,null,null,null,null,null,null,null,null,null,null,{"$f":"BF224","v":"Q2.26"},"Q2.26FALSE",false,"Vytvořte linku tísňového volání pro externí logistické partnery (telefonní číslo 24/7). Ujistěte se, že podpora je k dispozici v příslušných jazycích."]
[null,null,null,null,null,null,null,{"$f":"'Kapitola 2'!K163","v":false},null,null,null,null,null,null,null,null,null,null,null,null,null,null,null,null,null,null,null,null,null,null,null,null,null,null,null,null,null,null,null,null,null,null,null,null,null,null,null,null,null,null,null,null,null,null,null,null,null,{"$f":"BF225","v":"Q2.26"},"Q2.26FALSE",false,"Zahrňte logistický řetězec do havarijního plánu vašeho podniku.\nBuďte připraveni poskytnout pomoc při odstraňování nehod způsobených únikem během přepravy (např. Prostřednictvím TRINS nebo jiného podobného systému)."]
[null,null,null,null,null,null,null,{"$f":"'Kapitola 2'!K164","v":true},null,null,null,null,null,null,null,null,null,null,null,null,null,null,null,null,null,null,null,null,null,null,null,null,null,null,null,null,null,null,null,null,null,null,null,null,null,null,null,null,null,null,null,null,null,null,null,null,null,{"$f":"BF226","v":"Q2.26"},"Q2.26TRUE",true,"Není třeba okamžitě měnit strategii, vždy se však snažte zlepšit."]
[null,null,null,null,null,null,{"$f":"B150","v":"Q2.27"},{"$f":"'Kapitola 2'!K169","v":false},null,null,null,null,null,null,null,null,null,null,{"$f":"G192","v":"Q2.18"},{"$f":"IF(I192=\"\",$H192,I192)","v":false},false,false,false,false,false,false,false,false,false,null,null,null,null,null,null,null,null,null,null,null,null,null,null,null,null,null,null,null,null,null,null,null,null,null,null,null,null,{"$f":"G228","v":"Q2.27"},"Q2.27FALSE",false,"Proveďte posouzení hrozeb, které představují dobré postupy vaší organizace."]
[null,null,null,null,null,null,null,{"$f":"'Kapitola 2'!K170","v":false},null,null,null,null,null,null,null,null,null,null,null,{"$f":"IF(I193=\"\",$H193,I193)","v":false},{"$f":"IF(J193=\"\",$H193,J193)","v":false},false,false,{"$f":"IF(M193=\"\",$H193,M193)","v":false},{"$f":"IF(N193=\"\",$H193,N193)","v":false},false,false,false,false,null,null,null,null,null,null,null,null,null,null,null,null,null,null,null,null,null,null,null,null,null,null,null,null,null,null,null,null,{"$f":"BF228","v":"Q2.27"},"Q2.27FALSE",false,"Stanovte opatření pro řízení/kontrolu identifikovaných hrozeb a všechny relevantní modifikace pro zajištění kontroly."]
[null,null,null,null,null,null,null,{"$f":"'Kapitola 2'!K171","v":false},null,null,null,null,null,null,null,null,null,null,null,true,true,true,true,true,true,true,true,true,false,null,null,null,null,null,null,null,null,null,null,null,null,null,null,null,null,null,null,null,null,null,null,null,null,null,null,null,null,{"$f":"BF229","v":"Q2.27"},"Q2.27FALSE",false,"Pravidelně vyhodnocujte účinnost procesu řízení bezpečnostních rizik."]
[null,null,null,null,null,null,null,{"$f":"'Kapitola 2'!K172","v":true},null,null,null,null,null,null,null,null,null,null,null,false,false,false,false,false,false,false,false,false,false,null,null,null,null,null,null,null,null,null,null,null,null,null,null,null,null,null,null,null,null,null,null,null,null,null,null,null,null,{"$f":"BF230","v":"Q2.27"},"Q2.27TRUE",true,"Není třeba okamžitě měnit strategii, vždy se však snažte zlepšit."]
[null,null,null,null,null,null,{"$f":"B151","v":"Q2.28"},{"$f":"'Kapitola 2'!K175","v":false},null,null,null,null,null,null,null,null,null,null,null,null,null,null,null,null,null,null,null,null,null,null,null,null,null,null,null,null,null,null,null,null,null,null,null,null,null,null,null,null,null,null,null,null,null,null,null,null,null,{"$f":"G232","v":"Q2.28"},"Q2.28FALSE",false,"Sledování a řízení přístupu osob, vozidel a příchozích objektů (včetně balíků) úpravou technických a lidských zdrojů:\n- Kontrola vstupu může zahrnovat brány, ploty, zabezpečení, systémy odznaků, detekci narušení.\n- Formalizovat mapování citlivých oblastí a podmínek jejich přístupu kteroukoli osobou.\n- Systematicky kontrolujte osoby, vozidla a zboží žádající o přístup (návštěvníci, dodavatelé, poskytovatelé služeb) před vstupem do podniku."]
[null,null,null,null,null,null,null,{"$f":"'Kapitola 2'!K176","v":false},null,null,null,null,null,null,null,null,null,null,null,null,null,null,null,null,null,null,null,null,null,null,null,null,null,null,null,null,null,null,null,null,null,null,null,null,null,null,null,null,null,null,null,null,null,null,null,null,null,{"$f":"BF232","v":"Q2.28"},"Q2.28FALSE",false,"Zavést postupy pro vstup, kdy návštěvníci mají přístup na místo pouze v doprovodu kompetentního zaměstnance."]
[null,null,null,null,null,null,null,{"$f":"'Kapitola 2'!K177","v":false},null,null,null,null,null,null,null,null,null,null,{"$f":"G196","v":"Q2.19"},{"$f":"IF(I196=\"\",$H196,I196)","v":false},false,false,false,false,false,false,false,false,false,null,null,null,null,null,null,null,null,null,null,null,null,null,null,null,null,null,null,null,null,null,null,null,null,null,null,null,null,{"$f":"BF233","v":"Q2.28"},"Q2.28FALSE",false,"Vyhodnoťte účinnost procesu prostřednictvím pravidelných kontrol."]
[null,null,null,null,null,null,null,{"$f":"'Kapitola 2'!K178","v":true},null,null,null,null,null,null,null,null,null,null,null,{"$f":"IF(I197=\"\",$H197,I197)","v":false},false,false,false,{"$f":"IF(M197=\"\",$H197,M197)","v":false},{"$f":"IF(N197=\"\",$H197,N197)","v":false},false,false,false,false,null,null,null,null,null,null,null,null,null,null,null,null,null,null,null,null,null,null,null,null,null,null,null,null,null,null,null,null,{"$f":"BF234","v":"Q2.28"},"Q2.28TRUE",true,"Trénujte své zaměstnance ohledně možných bezpečnostních hrozeb a vhodné reakce v případě, že se takové situace skutečně vyskytnou (např. Jak reagovat v případě narušitele nebo jiného porušení bezpečnosti). Vycvičte své zaměstnance, aby byli ostražití (např. Oslovte neznámé osoby, které nemají odznak)."]
[null,null,null,null,null,null,{"$f":"B152","v":"Q2.29"},{"$f":"'Kapitola 2'!K181","v":false},null,null,null,null,null,null,null,null,null,null,null,true,true,true,true,true,true,true,true,true,false,null,null,null,null,null,null,null,null,null,null,null,null,null,null,null,null,null,null,null,null,null,null,null,null,null,null,null,null,{"$f":"G236","v":"Q2.29"},"Q2.29FALSE",false,"Zúčastněte se pracovních skupin pro kybernetickou bezpečnost."]
[null,null,null,null,null,null,null,{"$f":"'Kapitola 2'!K182","v":false},null,null,null,null,null,null,null,null,null,null,null,false,false,false,false,false,false,false,false,false,false,null,null,null,null,null,null,null,null,null,null,null,null,null,null,null,null,null,null,null,null,null,null,null,null,null,null,null,null,{"$f":"BF236","v":"Q2.29"},"Q2.29FALSE",false,"Sdělte problém kybernetické bezpečnosti svým zaměstnancům a zaškolte je, jak se s tím vypořádat."]
[null,null,null,null,null,null,null,{"$f":"'Kapitola 2'!K183","v":false},null,null,null,null,null,null,null,null,null,null,null,null,null,null,null,null,null,null,null,null,null,null,null,null,null,null,null,null,null,null,null,null,null,null,null,null,null,null,null,null,null,null,null,null,null,null,null,null,null,{"$f":"BF237","v":"Q2.29"},"Q2.29FALSE",false,"Identifikujte, sledujte a snižujte rizika kybernetické bezpečnosti, která mají dopad na obchodní systémy a systémy HSE&S, pomocí přístupu založeného na riziku ke zmírnění hrozeb"]
[null,null,null,null,null,null,null,{"$f":"'Kapitola 2'!K184","v":true},null,null,null,null,null,null,null,null,null,null,null,null,null,null,null,null,null,null,null,null,null,null,null,null,null,null,null,null,null,null,null,null,null,null,null,null,null,null,null,null,null,null,null,null,null,null,null,null,null,{"$f":"BF238","v":"Q2.29"},"Q2.29TRUE",true,"Zřídit komplexní systém umožňující přístup k IT systémům pouze na základě hesel a - v závislosti na skutečných úkolech zaměstnanců - a přístup k citlivým informacím pouze na základě „podle potřeby“. Stanovte pravidla pro bezpečné používání podnikových IT systémů (např. Používání IT ze soukromých důvodů, přístup k webovým stránkám…)."]
[null,null,null,null,null,null,{"$f":"B153","v":"Q2.30"},{"$f":"'Kapitola 2'!K187","v":false},null,null,null,null,null,null,null,null,null,null,{"$f":"G200","v":"Q2.20"},{"$f":"IF(I200=\"\",$H200,I200)","v":false},false,false,false,false,false,false,false,false,false,null,null,null,null,null,null,null,null,null,null,null,null,null,null,null,null,null,null,null,null,null,null,null,null,null,null,null,null,{"$f":"G240","v":"Q2.30"},"Q2.30FALSE",false,"Sestavte seznam kontaktních údajů zaměstnanců, abyste je mohli v případě krize velmi rychle kontaktovat a prověřit, zda nepotřebují pomoc. Ujistěte se, že seznam je aktuální!"]
[null,null,null,null,null,null,null,{"$f":"'Kapitola 2'!K188","v":false},null,null,null,null,null,null,null,null,null,null,null,{"$f":"IF(I201=\"\",$H201,I201)","v":false},false,false,false,{"$f":"IF(M201=\"\",$H201,M201)","v":false},{"$f":"IF(N201=\"\",$H201,N201)","v":false},false,false,false,false,null,null,null,null,null,null,null,null,null,null,null,null,null,null,null,null,null,null,null,null,null,null,null,null,null,null,null,null,{"$f":"BF240","v":"Q2.30"},"Q2.30FALSE",false,"Poskytnout orgánům státní správy informace, které jim umožní vypracovat specializovaný havarijní plán pro bezpečnostní incidenty představující vysokou úroveň rizika pro organizaci a / nebo její okolí."]
[null,null,null,null,null,null,null,{"$f":"'Kapitola 2'!K189","v":false},null,null,null,null,null,null,null,null,null,null,null,false,false,false,false,false,false,false,false,false,false,null,null,null,null,null,null,null,null,null,null,null,null,null,null,null,null,null,null,null,null,null,null,null,null,null,null,null,null,{"$f":"BF241","v":"Q2.30"},"Q2.30FALSE",false,"Navázat spolupráci s veřejnými záchrannými organizacemi k definování opatření, která mají být přijata v případě nehody (např. Krizová cvičení, školení organizace ...)."]
[null,null,null,null,null,null,null,{"$f":"'Kapitola 2'!K190","v":true},null,null,null,null,null,null,null,null,null,null,null,true,true,true,true,true,true,true,true,true,false,null,null,null,null,null,null,null,null,null,null,null,null,null,null,null,null,null,null,null,null,null,null,null,null,null,null,null,null,{"$f":"BF242","v":"Q2.30"},"Q2.30TRUE",true,"Zřídit systém, který umožňuje zjistit, kdo z vašich zaměstnanců se skutečně nachází v areálu a kdo chybí."]
[null,null,null,null,null,null,{"$f":"B154","v":"Q2.31"},{"$f":"'Kapitola 2'!K193","v":false},null,null,null,null,null,null,null,null,null,null,null,null,null,null,null,null,null,null,null,null,null,null,null,null,null,null,null,null,null,null,null,null,null,null,null,null,null,null,null,null,null,null,null,null,null,null,null,null,null,{"$f":"G244","v":"Q2.31"},"Q2.31FALSE",false,"Zvláštní pozornost věnujte neobvyklému chování a rizikům radikalizace mezi zaměstnanci a poskytovateli služeb."]
[null,null,null,null,null,null,null,{"$f":"'Kapitola 2'!K194","v":false},null,null,null,null,null,null,null,null,null,null,null,null,null,null,null,null,null,null,null,null,null,null,null,null,null,null,null,null,null,null,null,null,null,null,null,null,null,null,null,null,null,null,null,null,null,null,null,null,null,{"$f":"BF244","v":"Q2.31"},"Q2.31FALSE",false,"Zavést postup, ve kterém pracovníci mohou hlásit neobvyklé chování."]
[null,null,null,null,null,null,null,{"$f":"'Kapitola 2'!K195","v":true},null,null,null,null,null,null,null,null,null,null,{"$f":"G204","v":"Q2.21"},{"$f":"IF(I204=\"\",$H204,I204)","v":false},false,false,false,false,false,false,false,false,false,null,null,null,null,null,null,null,null,null,null,null,null,null,null,null,null,null,null,null,null,null,null,null,null,null,null,null,null,{"$f":"BF245","v":"Q2.31"},"Q2.31TRUE",true,"Sledujte všechny pracovníky a návštěvníky podniku."]
[null,null,null,null,null,null,null,{"$f":"'Kapitola 2'!K196","v":false},null,null,null,null,null,null,null,null,null,null,null,{"$f":"IF(I205=\"\",$H205,I205)","v":false},false,false,false,{"$f":"IF(M205=\"\",$H205,M205)","v":false},{"$f":"IF(N205=\"\",$H205,N205)","v":false},false,false,false,false,null,null,null,null,null,null,null,null,null,null,null,null,null,null,null,null,null,null,null,null,null,null,null,null,null,null,null,null,{"$f":"BF246","v":"Q2.31"},"Q2.31FALSE",false,"Trénujte zaměstnance, aby byli ostražití, aby včas odhalili vznikající problémy, jako jsou ty uvedené výše."]
[null,null,null,null,null,null,{"$f":"B155","v":"Q2.32"},{"$f":"'Kapitola 2'!K199","v":false},null,null,null,null,null,null,null,null,null,null,null,true,true,true,true,true,true,true,true,true,false,null,null,null,null,null,null,null,null,null,null,null,null,null,null,null,null,null,null,null,null,null,null,null,null,null,null,null,null,{"$f":"G248","v":"Q2.32"},"Q2.32FALSE",false,"Připomeňte zaměstnancům pokyny k ostražitosti a bezpečnostní postupy v případě objevení podezřelých předmětů nebo vozidel."]
[null,null,null,null,null,null,null,{"$f":"'Kapitola 2'!K200","v":false},null,null,null,null,null,null,null,null,null,null,null,false,false,false,false,false,false,false,false,false,false,null,null,null,null,null,null,null,null,null,null,null,null,null,null,null,null,null,null,null,null,null,null,null,null,null,null,null,null,{"$f":"BF248","v":"Q2.32"},"Q2.32FALSE",false,"Pravidelně upozorněte všechny pracovníky na pokyny a bezpečnostní postupy."]
[null,null,null,null,null,null,null,{"$f":"'Kapitola 2'!K201","v":true},null,null,null,null,null,null,null,null,null,null,null,null,null,null,null,null,null,null,null,null,null,null,null,null,null,null,null,null,null,null,null,null,null,null,null,null,null,null,null,null,null,null,null,null,null,null,null,null,null,{"$f":"BF249","v":"Q2.32"},"Q2.32TRUE",true,"Podporovat účast všech pracovníků (zaměstnanců a dodavatelů)."]
[null,null,null,null,null,null,null,{"$f":"'Kapitola 2'!K202","v":false},null,null,null,null,null,null,null,null,null,null,null,null,null,null,null,null,null,null,null,null,null,null,null,null,null,null,null,null,null,null,null,null,null,null,null,null,null,null,null,null,null,null,null,null,null,null,null,null,null,{"$f":"BF250","v":"Q2.32"},"Q2.32FALSE",false,"Není třeba okamžitě měnit strategii, ale vždy hledejte zlepšení."]
[null,null,null,null,null,null,{"$f":"B156","v":"Q2.33"},{"$f":"'Kapitola 2'!K207","v":false},null,false,false,null,null,false,false,false,null,null,{"$f":"G208","v":"Q2.22"},{"$f":"IF(I208=\"\",$H208,I208)","v":false},false,false,false,false,false,false,false,false,false,null,null,null,null,null,null,null,null,null,null,null,null,null,null,null,null,null,null,null,null,null,null,null,null,null,null,null,null,{"$f":"G252","v":"Q2.33"},{"$f":"CONCATENATE(BF252,BH252)","v":"Q2.33FALSE"},false,"Posoudit potenciální dopad vzniku odpadu a emisí (vzduch, voda, hluk…)."]
[null,null,null,null,null,null,null,{"$f":"'Kapitola 2'!K208","v":false},null,false,false,null,null,false,false,false,null,null,null,{"$f":"IF(I209=\"\",$H209,I209)","v":true},true,true,true,{"$f":"IF(M209=\"\",$H209,M209)","v":true},{"$f":"IF(N209=\"\",$H209,N209)","v":true},true,true,true,false,null,null,null,null,null,null,null,null,null,null,null,null,null,null,null,null,null,null,null,null,null,null,null,null,null,null,null,null,{"$f":"BF252","v":"Q2.33"},"Q2.33FALSE",{"$f":"H253","v":false},"Na základě hodnocení stanovte priority snižování. Oznamte výsledky zaměstnancům a veřejnosti."]
[null,null,null,null,null,null,null,{"$f":"'Kapitola 2'!K209","v":false},null,true,true,null,null,true,true,true,null,null,null,false,false,false,false,false,false,false,false,false,false,null,null,null,null,null,null,null,null,null,null,null,null,null,null,null,null,null,null,null,null,null,null,null,null,null,null,null,null,{"$f":"BF253","v":"Q2.33"},"Q2.33FALSE",false,"Sdělte výsledky posouzení dopadů, soupis a možná rizika pro zaměstnance a veřejnost."]
[null,null,null,null,null,null,null,{"$f":"'Kapitola 2'!K210","v":true},null,false,false,null,null,false,false,false,null,null,null,false,false,false,false,false,false,false,false,false,false,null,null,null,null,null,null,null,null,null,null,null,null,null,null,null,null,null,null,null,null,null,null,null,null,null,null,null,null,{"$f":"BF254","v":"Q2.33"},"Q2.33TRUE",true,"Není třeba okamžitě měnit strategii, nicméně vždy hledejte zlepšení."]
[null,null,null,null,null,null,{"$f":"B157","v":"Q2.34"},{"$f":"'Kapitola 2'!K213","v":false},null,false,null,null,false,false,false,null,null,null,null,null,null,null,null,null,null,null,null,null,null,null,null,null,null,null,null,null,null,null,null,null,null,null,null,null,null,null,null,null,null,null,null,null,null,null,null,null,null,{"$f":"G256","v":"Q2.34"},"Q2.34FALSE",false,"Definujte strategické cíle a podporujte akce k řízení a snižování environmentální stopy organizace."]
[null,null,null,null,null,null,null,{"$f":"'Kapitola 2'!K214","v":false},null,false,null,null,false,false,false,null,null,null,null,null,null,null,null,null,null,null,null,null,null,null,null,null,null,null,null,null,null,null,null,null,null,null,null,null,null,null,null,null,null,null,null,null,null,null,null,null,null,{"$f":"BF256","v":"Q2.34"},"Q2.34FALSE",false,"Pravidelně analyzujte vývoj vlivu na životní prostředí a provádění akčních plánů a zvyšte účinnost. Zohledněte obavy komunity a potenciální dopady na zdraví, bezpečnost a životní prostředí, jakož i rizika a příležitosti vznikající v souvislosti s organizací.\nStanovte vhodné environmentální ukazatele pro sledování vlivu na životní prostředí."]
[null,null,null,null,null,null,null,{"$f":"'Kapitola 2'!K215","v":false},null,false,null,null,false,false,false,null,null,null,{"$f":"G212","v":"Q2.23"},{"$f":"IF(I212=\"\",$H212,I212)","v":false},false,false,false,false,false,false,false,false,false,null,null,null,null,null,null,null,null,null,null,null,null,null,null,null,null,null,null,null,null,null,null,null,null,null,null,null,null,{"$f":"BF257","v":"Q2.34"},"Q2.34FALSE",false,"Zajistěte, aby vrcholový management organizace odpovídal za dosažení těchto cílů a zajistil dostupnost vhodných zdrojů."]
[null,null,null,null,null,null,null,{"$f":"'Kapitola 2'!K216","v":true},null,true,null,null,true,true,true,null,null,null,null,{"$f":"IF(I213=\"\",$H213,I213)","v":false},false,false,false,{"$f":"IF(M213=\"\",$H213,M213)","v":false},{"$f":"IF(N213=\"\",$H213,N213)","v":false},false,false,false,false,null,null,null,null,null,null,null,null,null,null,null,null,null,null,null,null,null,null,null,null,null,null,null,null,null,null,null,null,{"$f":"BF258","v":"Q2.34"},"Q2.34TRUE",true,"Není třeba okamžitě měnit strategii, vždy se však snažte zlepšit."]
[null,null,null,null,null,null,{"$f":"B158","v":"Q2.35"},{"$f":"'Kapitola 2'!K219","v":false},null,false,null,null,null,false,false,false,null,null,null,false,false,false,false,false,false,false,false,false,false,null,null,null,null,null,null,null,null,null,null,null,null,null,null,null,null,null,null,null,null,null,null,null,null,null,null,null,null,{"$f":"G260","v":"Q2.35"},"Q2.35FALSE",false,"Optimalizujte toky odpadu pro maximalizaci využití."]
[null,null,null,null,null,null,null,{"$f":"'Kapitola 2'!K220","v":false},null,false,null,null,null,false,false,false,null,null,null,true,true,true,true,true,true,true,true,true,false,null,null,null,null,null,null,null,null,null,null,null,null,null,null,null,null,null,null,null,null,null,null,null,null,null,null,null,null,{"$f":"BF260","v":"Q2.35"},"Q2.35FALSE",false,"Pravidelně kontrolujte postupy nakládání s odpady."]
[null,null,null,null,null,null,null,{"$f":"'Kapitola 2'!K221","v":true},null,true,null,null,null,true,true,true,null,null,null,null,null,null,null,null,null,null,null,null,null,null,null,null,null,null,null,null,null,null,null,null,null,null,null,null,null,null,null,null,null,null,null,null,null,null,null,null,null,{"$f":"BF261","v":"Q2.35"},"Q2.35TRUE",true,"Implementujte program s partnery v oblasti nakládání s odpady s cílem řešit příležitosti ke zlepšení."]
[null,null,null,null,null,null,null,{"$f":"'Kapitola 2'!K222","v":false},null,false,null,null,null,false,false,false,null,null,null,null,null,null,null,null,null,null,null,null,null,null,null,null,null,null,null,null,null,null,null,null,null,null,null,null,null,null,null,null,null,null,null,null,null,null,null,null,null,{"$f":"BF262","v":"Q2.35"},"Q2.35FALSE",false,"Není třeba okamžitě měnit strategii, vždy se však snažte zlepšit."]
[null,null,null,null,null,null,{"$f":"B159","v":"Q2.36"},{"$f":"'Kapitola 2'!K225","v":false},null,false,null,null,null,false,false,false,null,null,{"$f":"G216","v":"Q2.24"},{"$f":"IF(I216=\"\",$H216,I216)","v":false},false,false,false,false,false,false,false,false,false,null,null,null,null,null,null,null,null,null,null,null,null,null,null,null,null,null,null,null,null,null,null,null,null,null,null,null,null,{"$f":"G264","v":"Q2.36"},"Q2.36FALSE",false,"Identifikujte rizikové činnosti týkající se znečištění podzemních vod. Identifikujte a implementujte technické a provozní ovládací prvky"]
[null,null,null,null,null,null,null,{"$f":"'Kapitola 2'!K226","v":false},null,false,null,null,null,false,false,false,null,null,null,{"$f":"IF(I217=\"\",$H217,I217)","v":false},false,false,false,{"$f":"IF(M217=\"\",$H217,M217)","v":false},{"$f":"IF(N217=\"\",$H217,N217)","v":false},false,false,false,false,null,null,null,null,null,null,null,null,null,null,null,null,null,null,null,null,null,null,null,null,null,null,null,null,null,null,null,null,{"$f":"BF264","v":"Q2.36"},"Q2.36FALSE",false,"Pravidelně hodnotit kvalitu podzemní vody a identifikovat potenciální kontaminaci podzemní vody. Posoudit údaje versus příslušné normy kvality podzemních vod."]
[null,null,null,null,null,null,null,{"$f":"'Kapitola 2'!K227","v":true},null,true,null,null,null,true,true,true,null,null,null,false,false,false,false,false,false,false,false,false,false,null,null,null,null,null,null,null,null,null,null,null,null,null,null,null,null,null,null,null,null,null,null,null,null,null,null,null,null,{"$f":"BF265","v":"Q2.36"},"Q2.36TRUE",true,"Vyvíjet technologie, aby se zabránilo rizikům znečištění podzemních vod. Zajistěte, aby tyto technologie a osvědčené postupy byly sdíleny v tomto odvětví, aby také pomohli ostatním zlepšit se."]
[null,null,null,null,null,null,null,{"$f":"'Kapitola 2'!K228","v":false},null,false,null,null,null,false,false,false,null,null,null,true,true,true,true,true,true,true,true,true,false,null,null,null,null,null,null,null,null,null,null,null,null,null,null,null,null,null,null,null,null,null,null,null,null,null,null,null,null,{"$f":"BF266","v":"Q2.36"},"Q2.36FALSE",false,"Není třeba okamžitě měnit strategii, ale vždy hledejte zlepšení."]
[null,null,null,null,null,null,{"$f":"B160","v":"Q2.37"},{"$f":"'Kapitola 2'!K231","v":false},null,false,null,null,null,false,false,false,null,null,null,null,null,null,null,null,null,null,null,null,null,null,null,null,null,null,null,null,null,null,null,null,null,null,null,null,null,null,null,null,null,null,null,null,null,null,null,null,null,{"$f":"G268","v":"Q2.37"},"Q2.37FALSE",false,"Identifikujte rizikové činnosti vůči znečištění půdy. Identifikujte a implementujte technické a provozní ovládací prvky:\n- Zajistěte kapalinotěsné nádrže na znečišťující látky uložené v sedech, nádržích nebo cisternách, aby se obnovily možné toky.\n- Zajistěte uzavřenou podlahu, kde se manipuluje nebo dodává s nebezpečnými látkami."]
[null,null,null,null,null,null,null,{"$f":"'Kapitola 2'!K232","v":false},null,false,null,null,null,false,false,false,null,null,null,null,null,null,null,null,null,null,null,null,null,null,null,null,null,null,null,null,null,null,null,null,null,null,null,null,null,null,null,null,null,null,null,null,null,null,null,null,null,{"$f":"BF268","v":"Q2.37"},"Q2.37FALSE",false,"Zavádějte opatření a postupy pro minimalizaci dopadu náhodných úniků do půdy. Pravidelně sledujte kvalitu půdy. Posoudit údaje versus použitelné standardy kvality půdy."]
[null,null,null,null,null,null,null,{"$f":"'Kapitola 2'!K233","v":true},null,true,null,null,null,true,true,true,null,null,null,null,null,null,null,null,null,null,null,null,null,null,null,null,null,null,null,null,null,null,null,null,null,null,null,null,null,null,null,null,null,null,null,null,null,null,null,null,null,{"$f":"BF269","v":"Q2.37"},"Q2.37TRUE",true,"Vyvíjet technologie, aby se předešlo rizikům znečištění půdy. Zajistěte, aby tyto technologie a osvědčené postupy byly sdíleny v tomto odvětví, aby také pomohli ostatním zlepšit se."]
[null,null,null,null,null,null,null,{"$f":"'Kapitola 2'!K234","v":false},null,false,null,null,null,false,false,false,null,null,null,null,null,null,null,null,null,null,null,null,null,null,null,null,null,null,null,null,null,null,null,null,null,null,null,null,null,null,null,null,null,null,null,null,null,null,null,null,null,{"$f":"BF270","v":"Q2.37"},"Q2.37FALSE",false,"Není třeba okamžitě měnit strategii, vždy se však snažte zlepšit."]
[null,null,null,null,null,null,{"$f":"B161","v":"Q2.38"},{"$f":"'Kapitola 2'!K237","v":false},null,false,null,null,null,false,false,false,null,null,{"$f":"G220","v":"Q2.25"},{"$f":"IF(I220=\"\",$H220,I220)","v":false},false,false,false,false,false,false,false,false,false,null,null,null,null,null,null,null,null,null,null,null,null,null,null,null,null,null,null,null,null,null,null,null,null,null,null,null,null,{"$f":"G272","v":"Q2.38"},"Q2.38FALSE",false,"Definujte proces a odpovědnosti za nápravu náhodného znečištění.\nProzkoumejte lokalitu, abyste pochopili situaci týkající se stávajících znečištění.\nInvestigate the site to understand the situation regarding to existing pollutions."]
[null,null,null,null,null,null,null,{"$f":"'Kapitola 2'!K238","v":false},null,false,null,null,null,false,false,false,null,null,null,{"$f":"IF(I221=\"\",$H221,I221)","v":false},false,false,false,{"$f":"IF(M221=\"\",$H221,M221)","v":false},{"$f":"IF(N221=\"\",$H221,N221)","v":false},false,false,false,false,null,null,null,null,null,null,null,null,null,null,null,null,null,null,null,null,null,null,null,null,null,null,null,null,null,null,null,null,{"$f":"BF272","v":"Q2.38"},"Q2.38FALSE",false,"Vytvořte plán odstranění znečištění:\n- Zmapujte stávající znečištění.\n- Návrh sanačních plánů k pochopení různých možností nápravy.\n- Definujte včasný přístup k dstranění těchto znečištění.\n- Pokud znečištění přetrvává, sledujte, zda se nerozšíří, a buďte připraveni jednat."]
[null,null,null,null,null,null,null,{"$f":"'Kapitola 2'!K239","v":false},null,true,null,null,null,true,true,true,null,null,null,true,true,true,true,true,true,true,true,true,false,null,null,null,null,null,null,null,null,null,null,null,null,null,null,null,null,null,null,null,null,null,null,null,null,null,null,null,null,{"$f":"BF273","v":"Q2.38"},"Q2.38FALSE",false,"Ujistěte se, že plán odstranění znečištění je zahrnut do rozpočtu a implementován do řízení organizace."]
[null,null,null,null,null,null,null,{"$f":"'Kapitola 2'!K240","v":true},null,false,null,null,null,false,false,false,null,null,null,false,false,false,false,false,false,false,false,false,false,null,null,null,null,null,null,null,null,null,null,null,null,null,null,null,null,null,null,null,null,null,null,null,null,null,null,null,null,{"$f":"BF274","v":"Q2.38"},"Q2.38TRUE",true,"Není třeba okamžitě měnit strategii, vždy se však snažte o zlepšení."]
[null,null,null,null,null,null,{"$f":"B162","v":"Q2.39"},{"$f":"'Kapitola 2'!K243","v":false},null,false,null,null,null,false,false,false,null,null,null,null,null,null,null,null,null,null,null,null,null,null,null,null,null,null,null,null,null,null,null,null,null,null,null,null,null,null,null,null,null,null,null,null,null,null,null,null,null,{"$f":"G276","v":"Q2.39"},"Q2.39FALSE",false,"Implementujte kontroly (technické a provozní) k prevenci a monitorování těchto emisí."]
[null,null,null,null,null,null,null,{"$f":"'Kapitola 2'!K244","v":false},null,false,null,null,null,false,false,false,null,null,null,null,null,null,null,null,null,null,null,null,null,null,null,null,null,null,null,null,null,null,null,null,null,null,null,null,null,null,null,null,null,null,null,null,null,null,null,null,null,{"$f":"BF276","v":"Q2.39"},"Q2.39FALSE",false,"Vyhodnoťte příležitosti ke zlepšení. Začleňte je do akčního plánu."]
[null,null,null,null,null,null,null,{"$f":"'Kapitola 2'!K245","v":true},null,true,null,null,null,true,true,true,null,null,{"$f":"G224","v":"Q2.26"},{"$f":"IF(I224=\"\",$H224,I224)","v":false},false,false,false,false,false,false,false,false,false,null,null,null,null,null,null,null,null,null,null,null,null,null,null,null,null,null,null,null,null,null,null,null,null,null,null,null,null,{"$f":"BF277","v":"Q2.39"},"Q2.39TRUE",true,"Nastavení cílů a ukazatelů snižování emisí. Systematicky ověřovat pokrok směrem k těmto cílům."]
[null,null,null,null,null,null,null,{"$f":"'Kapitola 2'!K246","v":false},null,false,null,null,null,false,false,false,null,null,null,{"$f":"IF(I225=\"\",$H225,I225)","v":false},false,false,false,{"$f":"IF(M225=\"\",$H225,M225)","v":false},{"$f":"IF(N225=\"\",$H225,N225)","v":false},false,false,false,false,null,null,null,null,null,null,null,null,null,null,null,null,null,null,null,null,null,null,null,null,null,null,null,null,null,null,null,null,{"$f":"BF278","v":"Q2.39"},"Q2.39FALSE",false,"Není třeba okamžitě měnit strategii, vždy se však snažte o zlepšení."]
[null,null,null,null,null,null,{"$f":"B163","v":"Q2.40"},{"$f":"'Kapitola 2'!K249","v":false},null,false,null,null,null,false,false,false,null,null,null,false,false,false,false,false,false,false,false,false,false,null,null,null,null,null,null,null,null,null,null,null,null,null,null,null,null,null,null,null,null,null,null,null,null,null,null,null,null,{"$f":"G280","v":"Q2.40"},"Q2.40FALSE",false,"Implementujte ovládací prvky (technické a provozní) k prevenci a monitorování těchto emisí."]
[null,null,null,null,null,null,null,{"$f":"'Kapitola 2'!K250","v":false},null,false,null,null,null,false,false,false,null,null,null,true,true,true,true,true,true,true,true,true,false,null,null,null,null,null,null,null,null,null,null,null,null,null,null,null,null,null,null,null,null,null,null,null,null,null,null,null,null,{"$f":"BF280","v":"Q2.40"},"Q2.40FALSE",false,"Vyhodnoťte příležitosti ke zlepšení. Začleňte je do akčního plánu."]
[null,null,null,null,null,null,null,{"$f":"'Kapitola 2'!K251","v":false},null,true,null,null,null,true,true,true,null,null,null,null,null,null,null,null,null,null,null,null,null,null,null,null,null,null,null,null,null,null,null,null,null,null,null,null,null,null,null,null,null,null,null,null,null,null,null,null,null,{"$f":"BF281","v":"Q2.40"},"Q2.40FALSE",false,"Nastavení cílů a ukazatelů snižování emisí. Systematicky ověřovat pokrok směrem k těmto cílům. V případě plastů se mohou společnosti rozhodnout, že se budou podílet na provozu iniciativy OCS https://www.opcleansweep.org/, aby se snížily ztráty vloček, pelet a prášku."]
[null,null,null,null,null,null,null,{"$f":"'Kapitola 2'!K252","v":true},null,false,null,null,null,false,false,false,null,null,null,null,null,null,null,null,null,null,null,null,null,null,null,null,null,null,null,null,null,null,null,null,null,null,null,null,null,null,null,null,null,null,null,null,null,null,null,null,null,{"$f":"BF282","v":"Q2.40"},"Q2.40TRUE",true,"Není třeba okamžitě měnit strategii, nicméně vždy hledejte zlepšení."]
[null,null,null,null,null,null,{"$f":"B164","v":"Q2.41"},{"$f":"'Kapitola 2'!K255","v":false},null,false,null,null,null,false,false,false,null,null,null,null,null,null,null,null,null,null,null,null,null,null,null,null,null,null,null,null,null,null,null,null,null,null,null,null,null,null,null,null,null,null,null,null,null,null,null,null,null,{"$f":"G284","v":"Q2.41"},"Q2.41FALSE",false,"Posoudit, jaké jsou hlavní zdroje hluku ve vašem závodě. Zvažte normální a neobvyklé provozní podmínky, je posouzení, stejně jako denní a noční situace.\nImplementujte kontroly (technické a provozní), abyste zabránili vytváření hluku."]
[null,null,null,null,null,null,null,{"$f":"'Kapitola 2'!K256","v":false},null,false,null,null,null,false,false,false,null,null,null,null,null,null,null,null,null,null,null,null,null,null,null,null,null,null,null,null,null,null,null,null,null,null,null,null,null,null,null,null,null,null,null,null,null,null,null,null,null,{"$f":"BF284","v":"Q2.41"},"Q2.41FALSE",false,"Uspořádejte pravidelné monitorovací kampaně. Definujte příležitosti ke zlepšení. Začleňte je do akčního plánu."]
[null,null,null,null,null,null,null,{"$f":"'Kapitola 2'!K257","v":true},null,true,null,null,null,true,true,true,null,null,{"$f":"G228","v":"Q2.27"},{"$f":"IF(I228=\"\",$H228,I228)","v":false},false,false,false,false,false,false,false,false,false,null,null,null,null,null,null,null,null,null,null,null,null,null,null,null,null,null,null,null,null,null,null,null,null,null,null,null,null,{"$f":"BF285","v":"Q2.41"},"Q2.41TRUE",true,"Stanovení cílů a ukazatelů snižování emisí. Systematicky ověřovat pokrok směrem k těmto cílům."]
[null,null,null,null,null,null,null,{"$f":"'Kapitola 2'!K258","v":false},null,false,null,null,null,false,false,false,null,null,null,{"$f":"IF(I229=\"\",$H229,I229)","v":false},false,false,false,{"$f":"IF(M229=\"\",$H229,M229)","v":false},{"$f":"IF(N229=\"\",$H229,N229)","v":false},false,false,false,false,null,null,null,null,null,null,null,null,null,null,null,null,null,null,null,null,null,null,null,null,null,null,null,null,null,null,null,null,{"$f":"BF286","v":"Q2.41"},"Q2.41FALSE",false,"Není třeba okamžitě měnit strategii, ale vždy hledejte zlepšení."]
[null,null,null,null,null,null,{"$f":"B165","v":"Q2.42"},{"$f":"'Kapitola 2'!K261","v":false},null,false,null,null,null,false,false,false,null,null,null,false,false,false,false,false,false,false,false,false,false,null,null,null,null,null,null,null,null,null,null,null,null,null,null,null,null,null,null,null,null,null,null,null,null,null,null,null,null,{"$f":"G288","v":"Q2.42"},"Q2.42FALSE",false,"Posoudit, jaké jsou hlavní (potenciální) zdroje zápachu ve vašem areálu/závodě. Zvažte normální a neobvyklé provozní podmínky, je posouzení, stejně jako denní a noční situace.\nImplementujte kontroly (technické a provozní), abyste zabránili emisím zápachu."]
[null,null,null,null,null,null,null,{"$f":"'Kapitola 2'!K262","v":false},null,false,null,null,null,false,false,false,null,null,null,true,true,true,true,true,true,true,true,true,false,null,null,null,null,null,null,null,null,null,null,null,null,null,null,null,null,null,null,null,null,null,null,null,null,null,null,null,null,{"$f":"BF288","v":"Q2.42"},"Q2.42FALSE",false,"Zřiďte kontaktní místo pro okolí, abyste mohli zaznamenávat/evidovat stížnosti na nepříjemný zápach. V případě stížností zjistěte příčiny a zvažte opatření."]
[null,null,null,null,null,null,null,{"$f":"'Kapitola 2'!K263","v":false},null,true,null,null,null,true,true,true,null,null,null,null,null,null,null,null,null,null,null,null,null,null,null,null,null,null,null,null,null,null,null,null,null,null,null,null,null,null,null,null,null,null,null,null,null,null,null,null,null,{"$f":"BF289","v":"Q2.42"},"Q2.42FALSE",false,"Nastavení cílů a ukazatelů snižování emisí. Systematicky ověřovat pokrok směrem k těmto cílům."]
[null,null,null,null,null,null,null,{"$f":"'Kapitola 2'!K264","v":true},null,false,null,null,null,false,false,false,null,null,null,null,null,null,null,null,null,null,null,null,null,null,null,null,null,null,null,null,null,null,null,null,null,null,null,null,null,null,null,null,null,null,null,null,null,null,null,null,null,{"$f":"BF290","v":"Q2.42"},"Q2.42TRUE",true,"Není třeba okamžitě měnit strategii, nicméně vždy hledejte zlepšení."]
[null,null,null,null,null,null,{"$f":"B166","v":"Q2.43"},{"$f":"'Kapitola 2'!K267","v":false},null,false,false,null,null,false,false,null,null,null,{"$f":"G232","v":"Q2.28"},{"$f":"IF(I232=\"\",$H232,I232)","v":false},false,false,false,false,false,false,false,false,false,null,null,null,null,null,null,null,null,null,null,null,null,null,null,null,null,null,null,null,null,null,null,null,null,null,null,null,null,{"$f":"G292","v":"Q2.43"},"Q2.43FALSE",false,"Identifikujte procesy a činnosti, které mohou vést k náhodným emisím do životního prostředí. Provádějte technické a provozní kontroly k prevenci a detekci náhodných emisí (např. Hráze, povrchy nepropouštějící kapaliny, kontejnery / nádrže s dvojitou stěnou, systémy zamykání kanalizací nebo povrchové vody ...). Pravidelně hodnotit účinnost zavedených kontrol."]
[null,null,null,null,null,null,null,{"$f":"'Kapitola 2'!K268","v":false},null,false,false,null,null,false,false,null,null,null,null,{"$f":"IF(I233=\"\",$H233,I233)","v":false},false,false,false,{"$f":"IF(M233=\"\",$H233,M233)","v":false},{"$f":"IF(N233=\"\",$H233,N233)","v":false},false,false,false,false,null,null,null,null,null,null,null,null,null,null,null,null,null,null,null,null,null,null,null,null,null,null,null,null,null,null,null,null,{"$f":"BF292","v":"Q2.43"},"Q2.43FALSE",false,"V případě náhodného znečištění zavést nouzový postup. Vyhodnoťte zdroje nebo důvody náhodného znečištění v rámci studie o bezpečnosti procesu."]
[null,null,null,null,null,null,null,{"$f":"'Kapitola 2'!K269","v":false},null,true,false,null,null,true,true,null,null,null,null,false,false,false,false,false,false,false,false,false,false,null,null,null,null,null,null,null,null,null,null,null,null,null,null,null,null,null,null,null,null,null,null,null,null,null,null,null,null,{"$f":"BF293","v":"Q2.43"},"Q2.43FALSE",false,"Stanovte komunikační postup s místními zúčastněnými stranami (úřady, média, místní obyvatelé,…) a pravidelně vyhodnocujte a zlepšujte účinnost procesu. V případě plastů se mohou společnosti rozhodnout účastnit se nqapř. iniciativy OCS https://www.opcleansweep.org/, \nke snížení ztráty vloček, pelet a prášku."]
[null,null,null,null,null,null,null,{"$f":"'Kapitola 2'!K270","v":true},null,false,true,null,null,false,false,null,null,null,null,true,true,true,true,true,true,true,true,true,false,null,null,null,null,null,null,null,null,null,null,null,null,null,null,null,null,null,null,null,null,null,null,null,null,null,null,null,null,{"$f":"BF294","v":"Q2.43"},"Q2.43TRUE",true,"Není třeba okamžitě měnit strategii, ale vždy hledejte zlepšení."]
[null,null,null,null,null,null,{"$f":"B167","v":"Q2.44"},{"$f":"'Kapitola 2'!K273","v":false},null,false,false,null,null,false,false,false,null,null,null,null,null,null,null,null,null,null,null,null,null,null,null,null,null,null,null,null,null,null,null,null,null,null,null,null,null,null,null,null,null,null,null,null,null,null,null,null,null,{"$f":"G296","v":"Q2.44"},"Q2.44FALSE",false,"Proškolte veškerý personál (včetně dodavatelů a nově příchozích) podle svých povinností v oblasti životního prostředí (dopad jejich úkolů na životní prostředí). Připravte plán školení, který pokryje všechny významné environmentální aspekty."]
[null,null,null,null,null,null,null,{"$f":"'Kapitola 2'!K274","v":false},null,false,false,null,null,false,false,false,null,null,null,null,null,null,null,null,null,null,null,null,null,null,null,null,null,null,null,null,null,null,null,null,null,null,null,null,null,null,null,null,null,null,null,null,null,null,null,null,null,{"$f":"BF296","v":"Q2.44"},"Q2.44FALSE",false,"Informovat všechny zaměstnance o environmentálních cílech organizací.\nJe důležité, aby všichni pochopili, jak mohou svým podílem přispět k cílům a jaký by byl dopad, pokud by nepřispěli.\nPro specifické úlohy, jako jsou odborníci na životní prostředí, je zajištěno neustálé vzdělávání, aby bylo zajištěno, že jejich znalosti nových nástrojů a technik jsou neustále aktuální."]
[null,null,null,null,null,null,null,{"$f":"'Kapitola 2'!K275","v":false},null,true,true,null,null,true,true,true,null,null,{"$f":"G236","v":"Q2.29"},{"$f":"IF(I236=\"\",$H236,I236)","v":false},false,false,false,false,false,false,false,false,false,null,null,null,null,null,null,null,null,null,null,null,null,null,null,null,null,null,null,null,null,null,null,null,null,null,null,null,null,{"$f":"BF297","v":"Q2.44"},"Q2.44FALSE",false,"Pravidelně uchovávejte doklady o školeních a pravidelně vyhodnocujte jejich účinnost."]
[null,null,null,null,null,null,null,{"$f":"'Kapitola 2'!K276","v":true},null,false,false,null,null,false,false,false,null,null,null,{"$f":"IF(I237=\"\",$H237,I237)","v":false},false,false,false,{"$f":"IF(M237=\"\",$H237,M237)","v":false},{"$f":"IF(N237=\"\",$H237,N237)","v":false},false,false,false,false,null,null,null,null,null,null,null,null,null,null,null,null,null,null,null,null,null,null,null,null,null,null,null,null,null,null,null,null,{"$f":"BF298","v":"Q2.44"},"Q2.44TRUE",true,"Není třeba okamžitě měnit strategii, vždy se však snažte zlepšit."]
[null,null,null,null,null,null,{"$f":"B168","v":"Q2.45"},{"$f":"'Kapitola 2'!K279","v":false},null,true,false,null,null,false,false,false,null,null,null,false,false,false,false,false,false,false,false,false,false,null,null,null,null,null,null,null,null,null,null,null,null,null,null,null,null,null,null,null,null,null,null,null,null,null,null,null,null,{"$f":"G300","v":"Q2.45"},"Q2.45FALSE",false,"Pravidelně informujte místní komunitu o environmentálních aspektech souvisejících s jejich činností."]
[null,null,null,null,null,null,null,{"$f":"'Kapitola 2'!K280","v":false},null,false,false,null,null,true,true,true,null,null,null,true,true,true,true,true,true,true,true,true,false,null,null,null,null,null,null,null,null,null,null,null,null,null,null,null,null,null,null,null,null,null,null,null,null,null,null,null,null,{"$f":"BF300","v":"Q2.45"},"Q2.45FALSE",false,"Navazujte partnerství s environmentálními organizacemi s cílem vysvětlit nebo dokonce vyvinout řešení přizpůsobená environmentálním problémům organizace."]
[null,null,null,null,null,null,null,{"$f":"'Kapitola 2'!K281","v":true},null,false,true,null,null,false,false,false,null,null,null,null,null,null,null,null,null,null,null,null,null,null,null,null,null,null,null,null,null,null,null,null,null,null,null,null,null,null,null,null,null,null,null,null,null,null,null,null,null,{"$f":"BF301","v":"Q2.45"},"Q2.45TRUE",true,"Komunikovat zúčastněné strany o monitorování ukazatelů vlivu na životní prostředí s cílem zdůraznit zapojení organizace do environmentálních otázek regionu, kde se nachází."]
[null,null,null,null,null,null,null,{"$f":"'Kapitola 2'!K282","v":false},null,false,false,null,null,false,false,false,null,null,null,null,null,null,null,null,null,null,null,null,null,null,null,null,null,null,null,null,null,null,null,null,null,null,null,null,null,null,null,null,null,null,null,null,null,null,null,null,null,{"$f":"BF302","v":"Q2.45"},"Q2.45FALSE",false,"Není třeba okamžitě měnit strategii, ale vždy hledejte zlepšení."]
[null,null,null,null,null,null,null,null,null,null,null,null,null,null,null,null,null,null,{"$f":"G240","v":"Q2.30"},{"$f":"IF(I240=\"\",$H240,I240)","v":false},false,false,false,false,false,false,false,false,false]
[null,null,null,null,null,null,null,null,null,null,null,null,null,null,null,null,null,null,null,{"$f":"IF(I241=\"\",$H241,I241)","v":false},false,false,false,{"$f":"IF(M241=\"\",$H241,M241)","v":false},{"$f":"IF(N241=\"\",$H241,N241)","v":false},false,false,false,false]
[null,null,null,null,null,null,null,null,null,null,null,null,null,null,null,null,null,null,null,false,false,false,false,false,false,false,false,false,false]
[null,null,null,null,null,null,null,null,null,null,null,null,null,null,null,null,null,null,null,true,true,true,true,true,true,true,true,true,false]
[]
[]
[null,null,null,null,null,null,null,null,null,null,null,null,null,null,null,null,null,null,{"$f":"G244","v":"Q2.31"},{"$f":"IF(I244=\"\",$H244,I244)","v":false},false,false,false,false,false,false,false,false,false]
[null,null,null,null,null,null,null,null,null,null,null,null,null,null,null,null,null,null,null,{"$f":"IF(I245=\"\",$H245,I245)","v":false},false,false,false,{"$f":"IF(M245=\"\",$H245,M245)","v":false},{"$f":"IF(N245=\"\",$H245,N245)","v":false},false,false,false,false]
[null,null,null,null,null,null,null,null,null,null,null,null,null,null,null,null,null,null,null,true,true,true,true,true,true,true,true,true,false]
[null,null,null,null,null,null,null,null,null,null,null,null,null,null,null,null,null,null,null,false,false,false,false,false,false,false,false,false,false]
[]
[]
[null,null,null,null,null,null,null,null,null,null,null,null,null,null,null,null,null,null,{"$f":"G248","v":"Q2.32"},{"$f":"IF(I248=\"\",$H248,I248)","v":false},false,false,false,false,false,false,false,false,false]
[null,null,null,null,null,null,null,null,null,null,null,null,null,null,null,null,null,null,null,{"$f":"IF(I249=\"\",$H249,I249)","v":false},false,false,false,{"$f":"IF(M249=\"\",$H249,M249)","v":false},{"$f":"IF(N249=\"\",$H249,N249)","v":false},false,false,false,false]
[null,null,null,null,null,null,null,null,null,null,null,null,null,null,null,null,null,null,null,true,true,true,true,true,true,true,true,true,false]
[null,null,null,null,null,null,null,null,null,null,null,null,null,null,null,null,null,null,null,false,false,false,false,false,false,false,false,false,false]
[]
[]
[]
[]
[null,null,null,null,null,null,null,null,null,null,null,null,null,null,null,null,null,null,{"$f":"G252","v":"Q2.33"},{"$f":"IF(I252=\"\",$H252,I252)","v":false},false,false,false,false,false,false,false,false,false]
[null,null,null,null,null,null,null,null,null,null,null,null,null,null,null,null,null,null,null,{"$f":"IF(I253=\"\",$H253,I253)","v":false},false,false,false,{"$f":"IF(M253=\"\",$H253,M253)","v":false},{"$f":"IF(N253=\"\",$H253,N253)","v":false},false,false,false,false]
[null,null,null,null,null,null,null,null,null,null,null,null,null,null,null,null,null,null,null,false,true,true,false,false,true,true,true,false,false]
[null,null,null,null,null,null,null,null,null,null,null,null,null,null,null,null,null,null,null,true,false,false,true,true,false,false,false,true,false]
[]
[]
[null,null,null,null,null,null,null,null,null,null,null,null,null,null,null,null,null,null,{"$f":"G256","v":"Q2.34"},{"$f":"IF(I256=\"\",$H256,I256)","v":false},false,false,false,false,false,false,false,false,false]
[null,null,null,null,null,null,null,null,null,null,null,null,null,null,null,null,null,null,null,{"$f":"IF(I257=\"\",$H257,I257)","v":false},false,false,false,{"$f":"IF(M257=\"\",$H257,M257)","v":false},{"$f":"IF(N257=\"\",$H257,N257)","v":false},false,false,false,false]
[null,null,null,null,null,null,null,null,null,null,null,null,null,null,null,null,null,null,null,false,false,false,false,false,false,false,false,false,false]
[null,null,null,null,null,null,null,null,null,null,null,null,null,null,null,null,null,null,null,true,true,true,true,true,true,true,true,true,false]
[]
[]
[null,null,null,null,null,null,null,null,null,null,null,null,null,null,null,null,null,null,{"$f":"G260","v":"Q2.35"},{"$f":"IF(I260=\"\",$H260,I260)","v":false},false,false,false,false,false,false,false,false,false]
[null,null,null,null,null,null,null,null,null,null,null,null,null,null,null,null,null,null,null,{"$f":"IF(I261=\"\",$H261,I261)","v":false},false,false,false,{"$f":"IF(M261=\"\",$H261,M261)","v":false},{"$f":"IF(N261=\"\",$H261,N261)","v":false},false,false,false,false]
[null,null,null,null,null,null,null,null,null,null,null,null,null,null,null,null,null,null,null,true,true,true,true,true,true,true,true,true,false]
[null,null,null,null,null,null,null,null,null,null,null,null,null,null,null,null,null,null,null,false,false,false,false,false,false,false,false,false,false]
[]
[]
[null,null,null,null,null,null,null,null,null,null,null,null,null,null,null,null,null,null,{"$f":"G264","v":"Q2.36"},{"$f":"IF(I264=\"\",$H264,I264)","v":false},false,false,false,false,false,false,false,false,false]
[null,null,null,null,null,null,null,null,null,null,null,null,null,null,null,null,null,null,null,{"$f":"IF(I265=\"\",$H265,I265)","v":false},false,false,false,{"$f":"IF(M265=\"\",$H265,M265)","v":false},{"$f":"IF(N265=\"\",$H265,N265)","v":false},false,false,false,false]
[null,null,null,null,null,null,null,null,null,null,null,null,null,null,null,null,null,null,null,true,true,true,true,true,true,true,true,true,false]
[null,null,null,null,null,null,null,null,null,null,null,null,null,null,null,null,null,null,null,false,false,false,false,false,false,false,false,false,false]
[]
[]
[null,null,null,null,null,null,null,null,null,null,null,null,null,null,null,null,null,null,{"$f":"G268","v":"Q2.37"},{"$f":"IF(I268=\"\",$H268,I268)","v":false},false,false,false,false,false,false,false,false,false]
[null,null,null,null,null,null,null,null,null,null,null,null,null,null,null,null,null,null,null,{"$f":"IF(I269=\"\",$H269,I269)","v":false},false,false,false,{"$f":"IF(M269=\"\",$H269,M269)","v":false},{"$f":"IF(N269=\"\",$H269,N269)","v":false},false,false,false,false]
[null,null,null,null,null,null,null,null,null,null,null,null,null,null,null,null,null,null,null,true,true,true,true,true,true,true,true,true,false]
[null,null,null,null,null,null,null,null,null,null,null,null,null,null,null,null,null,null,null,false,false,false,false,false,false,false,false,false,false]
[]
[]
[null,null,null,null,null,null,null,null,null,null,null,null,null,null,null,null,null,null,{"$f":"G272","v":"Q2.38"},{"$f":"IF(I272=\"\",$H272,I272)","v":false},false,false,false,false,false,false,false,false,false]
[null,null,null,null,null,null,null,null,null,null,null,null,null,null,null,null,null,null,null,{"$f":"IF(I273=\"\",$H273,I273)","v":false},false,false,false,{"$f":"IF(M273=\"\",$H273,M273)","v":false},{"$f":"IF(N273=\"\",$H273,N273)","v":false},false,false,false,false]
[null,null,null,null,null,null,null,null,null,null,null,null,null,null,null,null,null,null,null,false,true,false,false,false,true,true,true,false,false]
[null,null,null,null,null,null,null,null,null,null,null,null,null,null,null,null,null,null,null,true,false,true,true,true,false,false,false,true,false]
[]
[]
[null,null,null,null,null,null,null,null,null,null,null,null,null,null,null,null,null,null,{"$f":"G276","v":"Q2.39"},{"$f":"IF(I276=\"\",$H276,I276)","v":false},false,false,false,false,false,false,false,false,false]
[null,null,null,null,null,null,null,null,null,null,null,null,null,null,null,null,null,null,null,{"$f":"IF(I277=\"\",$H277,I277)","v":false},false,false,false,{"$f":"IF(M277=\"\",$H277,M277)","v":false},{"$f":"IF(N277=\"\",$H277,N277)","v":false},false,false,false,false]
[null,null,null,null,null,null,null,null,null,null,null,null,null,null,null,null,null,null,null,true,true,true,true,true,true,true,true,true,false]
[null,null,null,null,null,null,null,null,null,null,null,null,null,null,null,null,null,null,null,false,false,false,false,false,false,false,false,false,false]
[]
[]
[null,null,null,null,null,null,null,null,null,null,null,null,null,null,null,null,null,null,{"$f":"G280","v":"Q2.40"},{"$f":"IF(I280=\"\",$H280,I280)","v":false},false,false,false,false,false,false,false,false,false]
[null,null,null,null,null,null,null,null,null,null,null,null,null,null,null,null,null,null,null,{"$f":"IF(I281=\"\",$H281,I281)","v":false},false,false,false,{"$f":"IF(M281=\"\",$H281,M281)","v":false},{"$f":"IF(N281=\"\",$H281,N281)","v":false},false,false,false,false]
[null,null,null,null,null,null,null,null,null,null,null,null,null,null,null,null,null,null,null,false,true,false,false,false,true,true,true,false,false]
[null,null,null,null,null,null,null,null,null,null,null,null,null,null,null,null,null,null,null,true,false,true,true,true,false,false,false,true,false]
[]
[]
[null,null,null,null,null,null,null,null,null,null,null,null,null,null,null,null,null,null,{"$f":"G284","v":"Q2.41"},{"$f":"IF(I284=\"\",$H284,I284)","v":false},false,false,false,false,false,false,false,false,false]
[null,null,null,null,null,null,null,null,null,null,null,null,null,null,null,null,null,null,null,{"$f":"IF(I285=\"\",$H285,I285)","v":false},false,false,false,{"$f":"IF(M285=\"\",$H285,M285)","v":false},{"$f":"IF(N285=\"\",$H285,N285)","v":false},false,false,false,false]
[null,null,null,null,null,null,null,null,null,null,null,null,null,null,null,null,null,null,null,true,true,true,true,true,true,true,true,true,false]
[null,null,null,null,null,null,null,null,null,null,null,null,null,null,null,null,null,null,null,false,false,false,false,false,false,false,false,false,false]
[]
[]
[null,null,null,null,null,null,null,null,null,null,null,null,null,null,null,null,null,null,{"$f":"G288","v":"Q2.42"},{"$f":"IF(I288=\"\",$H288,I288)","v":false},false,false,false,false,false,false,false,false,false]
[null,null,null,null,null,null,null,null,null,null,null,null,null,null,null,null,null,null,null,{"$f":"IF(I289=\"\",$H289,I289)","v":false},false,false,false,{"$f":"IF(M289=\"\",$H289,M289)","v":false},{"$f":"IF(N289=\"\",$H289,N289)","v":false},false,false,false,false]
[null,null,null,null,null,null,null,null,null,null,null,null,null,null,null,null,null,null,null,false,true,false,false,false,true,true,true,false,false]
[null,null,null,null,null,null,null,null,null,null,null,null,null,null,null,null,null,null,null,true,false,true,true,true,false,false,false,true,false]
[]
[]
[null,null,null,null,null,null,null,null,null,null,null,null,null,null,null,null,null,null,{"$f":"G292","v":"Q2.43"},{"$f":"IF(I292=\"\",$H292,I292)","v":false},false,false,false,false,false,false,false,false,false]
[null,null,null,null,null,null,null,null,null,null,null,null,null,null,null,null,null,null,null,{"$f":"IF(I293=\"\",$H293,I293)","v":false},false,false,false,{"$f":"IF(M293=\"\",$H293,M293)","v":false},{"$f":"IF(N293=\"\",$H293,N293)","v":false},false,false,false,false]
[null,null,null,null,null,null,null,null,null,null,null,null,null,null,null,null,null,null,null,false,true,false,false,false,true,true,false,false,false]
[null,null,null,null,null,null,null,null,null,null,null,null,null,null,null,null,null,null,null,true,false,true,true,true,false,false,true,true,false]
[]
[]
[null,null,null,null,null,null,null,null,null,null,null,null,null,null,null,null,null,null,{"$f":"G296","v":"Q2.44"},{"$f":"IF(I296=\"\",$H296,I296)","v":false},false,false,false,false,false,false,false,false,false]
[null,null,null,null,null,null,null,null,null,null,null,null,null,null,null,null,null,null,null,{"$f":"IF(I297=\"\",$H297,I297)","v":false},false,false,false,{"$f":"IF(M297=\"\",$H297,M297)","v":false},{"$f":"IF(N297=\"\",$H297,N297)","v":false},false,false,false,false]
[null,null,null,null,null,null,null,null,null,null,null,null,null,null,null,null,null,null,null,false,true,true,false,false,true,true,true,false,false]
[null,null,null,null,null,null,null,null,null,null,null,null,null,null,null,null,null,null,null,true,false,false,true,true,false,false,false,true,false]
[]
[]
[null,null,null,null,null,null,null,null,null,null,null,null,null,null,null,null,null,null,{"$f":"G300","v":"Q2.45"},{"$f":"IF(I300=\"\",$H300,I300)","v":false},true,false,false,false,false,false,false,false,false]
[null,null,null,null,null,null,null,null,null,null,null,null,null,null,null,null,null,null,null,{"$f":"IF(I301=\"\",$H301,I301)","v":false},false,false,false,{"$f":"IF(M301=\"\",$H301,M301)","v":false},{"$f":"IF(N301=\"\",$H301,N301)","v":true},true,true,false,false]
[null,null,null,null,null,null,null,null,null,null,null,null,null,null,null,null,null,null,null,true,false,true,true,true,false,false,false,true,false]
[null,null,null,null,null,null,null,null,null,null,null,null,null,null,null,null,null,null,null,false,false,false,false,false,false,false,false,false,false]
[]
["chapter 3"]
[]
[null,null,null,null,null,null,null,null,"scores in case of compliance",null,null,null,null,null,null,null,null,null,null,"to copy",null,null,null,null,null,null,null,null,null,null,null,null,"equal weights (adaptable)",null,null,null,"MCA"]
[null,"scores",null,null,null,"prefill",null,"answered","ISO9001","ISO14001","ISO26000","ISO45001","ISO50001","EMAS","RC14001","RCMS","GHS",null,null,{"$f":"I404","v":"ISO9001"},"ISO14001","ISO26000","ISO45001","ISO50001","EMAS","RC14001","RCMS","GHS","clear",null,"weights",null,{"$f":"IF(SUM(AG406:AG421)=100,\"ok\",\"error\")","v":"ok"},{"$f":"IF(SUM(AH406:AH421)/COUNT(AG406:AG421)=100,\"ok\",\"error\")","v":"ok"},null,null,"subscores","score",null,null,"identification of major issues",null,null,null,null,null,"scores for standards",null,null,null,null,null,null,null,null,null,null,"improvement tips"]
[null,null,null,null,null,null,null,null,null,null,null,null,null,null,null,null,null,null,null,null,null,null,null,null,null,null,null,null,null,null,null,null,null,null,null,null,null,{"$f":"(AK406*AG406+AK408*AG408+AK410*AG410+AK415*AG415+AK417*AG417+AK420*AG420+AK422*AG422)/100","v":3.1250000000000004},null,null,null,null,null,null,null,null,null,{"$f":"I404","v":"ISO9001"},{"$f":"J404","v":"ISO14001"},{"$f":"K404","v":"ISO26000"},{"$f":"L404","v":"ISO45001"},{"$f":"M404","v":"ISO50001"},{"$f":"N404","v":"EMAS"},{"$f":"O404","v":"RC14001"},{"$f":"P404","v":"RCMS"},"GHS"]
[null,{"$f":"'Kapitola 3'!C6","v":"Q3.1"},{"$f":"IF('Kapitola 3'!K7,1,IF('Kapitola 3'!K8,2,IF('Kapitola 3'!K9,3,IF('Kapitola 3'!K10,4,\"\"))))","v":3},"formula 4 choices",null,null,{"$f":"B406","v":"Q3.1"},{"$f":"'Kapitola 3'!K7","v":false},true,null,false,null,false,null,null,false,null,null,{"$f":"G406","v":"Q3.1"},{"$f":"IF(I406=\"\",$H406,I406)","v":true},false,false,false,false,false,false,false,false,false,null,{"$f":"'Kapitola 3'!B4","v":"Návrhování a zlepšování produktu"},null,{"$f":"100/6","v":16.666666666666668},null,null,null,{"$f":"C406","v":3},null,null,null,{"$f":"B406","v":"Q3.1"},1,{"$f":"IF(C406<AP406,\"major issue\",\"ok\")","v":"ok"},{"$f":"IF(AQ406<>\"ok\",1,0)","v":0},null,null,{"$f":"AO406","v":"Q3.1"},{"$f":"IF(I406,1,IF(I407,2,IF(I408,3,IF(I409,4,\"-\"))))","v":1},"-",4,"-",4,"-","-",3,"-",null,{"$f":"G406","v":"Q3.1"},{"$f":"CONCATENATE(BF406,BH406)","v":"Q3.1FALSE"},{"$f":"H406","v":false},"Vezměte v úvahu lidské zdraví a životní prostředí na počátku procesu vývoje výrobku: můžete začít systematickými screeningovými testy na počátku procesu návrhu.\nShromažďujte relevantní aktéry v rámci organizace a externí partnery při vypracovávání funkčních specifikací nových výrobků s cílem identifikovat možné cesty návrhu.\nMobilizujte lidské a finanční zdroje pro výzkum způsobů návrhů nových výárobků, které rovněž zohlední i předpisy EU k chemickým látkám (REACH, BPR ...) a výrobkům."]
[null,{"$f":"'Kapitola 3'!C14","v":"Q3.2"},{"$f":"IF('Kapitola 3'!K15,1,IF('Kapitola 3'!K16,2,IF('Kapitola 3'!K17,3,IF('Kapitola 3'!K18,4,\"\"))))","v":2},"formula 4 choices",null,null,null,{"$f":"'Kapitola 3'!K8","v":false},false,null,false,null,false,null,null,false,null,null,null,{"$f":"IF(I407=\"\",$H407,I407)","v":false},false,false,false,{"$f":"IF(M407=\"\",$H407,M407)","v":false},{"$f":"IF(N407=\"\",$H407,N407)","v":false},false,false,false,false,null,null,{"$f":"B406","v":"Q3.1"},null,100,null,null,null,null,null,null,{"$f":"B407","v":"Q3.2"},1,"ok",{"$f":"IF(AQ407<>\"ok\",1,0)","v":0},null,null,{"$f":"AO407","v":"Q3.2"},{"$f":"IF(I410,1,IF(I411,2,IF(I412,3,IF(I413,4,\"-\"))))","v":"-"},"-","-","-","-","-",1,2,"-",null,{"$f":"BF406","v":"Q3.1"},"Q3.1FALSE",{"$f":"H407","v":false},"Optimalizujte rozhodování o koncepci výrobků za účelem snížení jejich dopadu na zdraví a životní prostředí pomocí obecných nástrojů analýzy životního cyklu a posouzení uhlíkové stopy, jakož i současných kritérií ekodesignu výrobků nebo podobných konceptů ekodesignu."]
[null,{"$f":"'Kapitola 3'!C22","v":"Q3.3"},{"$f":"IF('Kapitola 3'!K23,1,IF('Kapitola 3'!K24,2,IF('Kapitola 3'!K25,3,IF('Kapitola 3'!K26,4,\"\"))))","v":3},"formula 4 choices",null,null,null,{"$f":"'Kapitola 3'!K9","v":true},false,null,false,null,false,null,null,true,null,null,null,false,true,false,true,false,true,true,true,true,false,null,{"$f":"'Kapitola 3'!B12","v":"Stanovování priorit produktů"},null,{"$f":"100/6","v":16.666666666666668},null,null,null,{"$f":"C407","v":2},null,null,null,"Q3.3",1,"ok",0,null,null,"Q3.3",{"$f":"IF(I414,1,IF(I415,2,IF(I416,3,IF(I417,4,\"-\"))))","v":1},"-","-","-","-","-",1,"-",3,null,{"$f":"BF407","v":"Q3.1"},"Q3.1TRUE",true,"Prozkoumejte dostupné informace o charakterizaci rizika, abyste snížili riziko od počátku. Může se to promítnout do zamezení používání škodlivých chemických látek, které jsou karcinogenní, mutagenní, toxické pro reprodukci nebo perzistentní a bioakumulativní, ale neomezovat se jen na ně. Je implementováno další snižování rizika pro každého identifikovaného uživatele nebo kontaktní skupinu. Ukažte ostatním svůj závazek."]
[null,{"$f":"'Kapitola 3'!C28","v":"Q3.4"},{"$f":"IF('Kapitola 3'!K29,1,IF('Kapitola 3'!K30,2,IF('Kapitola 3'!K31,3,IF('Kapitola 3'!K32,4,\"\"))))","v":2},"formula 4 choices",null,null,null,{"$f":"'Kapitola 3'!K10","v":false},false,null,true,null,true,null,null,false,null,null,null,false,false,true,false,true,false,false,false,false,false,null,null,{"$f":"B407","v":"Q3.2"},null,100,null,null,null,null,null,null,"Q3.4",1,"ok",0,null,null,"Q3.4",{"$f":"IF(I418,1,IF(I419,2,IF(I420,3,IF(I421,4,\"-\"))))","v":"-"},"-","-","-","-","-",4,4,"-",null,{"$f":"BF408","v":"Q3.1"},"Q3.1FALSE",false,"Při vývoji brát v úvahu faktory, jako je zamýšlené použití, očekávaná životnost výrobku, trvanlivost, opětovné použití, recyklovatelnost nebo prospěšné vlastnosti výrobku, aby byla zohledněna úplná analýza životního cyklu výrobku (včetně konce životnosti).\nProveďte postup pro vývoj strategií substituce u kritických výrobků stanovením vhodných zdrojů a jasných cílů. Při navrhování procesů spotřebovávajících energii zvažte možnosti zlepšení energetické účinnosti."]
[null,{"$f":"'Kapitola 3'!C34","v":"Q3.5"},{"$f":"IF('Kapitola 3'!K35,1,IF('Kapitola 3'!K36,2,IF('Kapitola 3'!K37,3,IF('Kapitola 3'!K38,4,\"\"))))","v":2},"formula 4 choices",null,null,{"$f":"B407","v":"Q3.2"},{"$f":"'Kapitola 3'!K15","v":false},null,null,null,null,null,null,true,false,null,null,null,null,null,null,null,null,null,null,null,null,null,null,{"$f":"'Kapitola 3'!B20","v":"Informace o produktu "},null,{"$f":"100/6","v":16.666666666666668},null,null,null,{"$f":"(C408*AH411+C409*AH412+C410*AH413+C411*AH414)/100","v":2.75},null,null,null,"Q3.5",1,"ok",0,null,null,"Q3.5",{"$f":"IF(I422,1,IF(I423,2,IF(I424,3,IF(I425,4,\"-\"))))","v":"-"},"-","-","-","-","-","-","-","-",null,{"$f":"G410","v":"Q3.2"},"Q3.2FALSE",false,"Zaveďte postup pro stanovení priority výrobků k identifikaci těch, které vyžadují podrobnější kontroly, hodnocení a kontroly řízení rizik, jakož i těch, které vyžadují shromažďování dodatečných dat a informací. Při stanovování priorit výrobků použijte vědecký a rizikový přístup, při zvažování nebezpečnosti, zamýšlených použití a potenciálu expozice. Zahrňte kritéria, která se uplatňují jednotně na všechny sledované výrobky a která zahrnují relevantní, důvěryhodné vědecké poznatky a zvažují významné nové informace, aby se zajistilo, že rozhodnutí o stanovení priorit zůstanou aktuální.\nDoporučuje se, aby stanovení priorit zahrnovalo také distribuci, přepravu a použití surovin a výrobků."]
[null,{"$f":"'Kapitola 3'!C40","v":"Q3.6"},{"$f":"IF('Kapitola 3'!K41,1,IF('Kapitola 3'!K42,2,IF('Kapitola 3'!K43,3,IF('Kapitola 3'!K44,4,\"\"))))","v":4},"formula 4 choices",null,null,null,{"$f":"'Kapitola 3'!K16","v":true},null,null,null,null,null,null,false,true,null,null,null,null,null,null,null,null,null,null,null,null,null,null,null,{"$f":"B408","v":"Q3.3"},null,25,null,null,null,null,null,null,"Q3.6",1,"ok",0,null,null,"Q3.6",{"$f":"IF(I426,1,IF(I427,2,IF(I428,3,IF(I429,4,\"-\"))))","v":"-"},"-","-","-","-","-",1,"-","-",null,{"$f":"BF410","v":"Q3.2"},"Q3.2TRUE",true,"Proces je propracovanější a probíhá nepřetržitě. Je zavedeno automatické upozornění na nové informace o látkách a výrobcích (např.  z vědeckých časopisů)."]
[null,{"$f":"'Kapitola 3'!C48","v":"Q3.7"},{"$f":"IF('Kapitola 3'!K49,1,IF('Kapitola 3'!K50,2,IF('Kapitola 3'!K51,3,IF('Kapitola 3'!K52,4,\"\"))))","v":3},"formula 4 choices",null,null,null,{"$f":"'Kapitola 3'!K17","v":false},null,null,null,null,null,null,false,false,null,null,null,null,null,null,null,null,null,null,null,null,null,null,null,{"$f":"B409","v":"Q3.4"},null,25,null,null,null,null,null,null,"Q3.7",1,"ok",0,null,null,"Q3.7",{"$f":"IF(I430,1,IF(I431,2,IF(I432,3,IF(I433,4,\"-\"))))","v":"-"},"-",1,"-","-","-",4,4,"-",null,{"$f":"BF411","v":"Q3.2"},"Q3.2FALSE",false,"Neustále sledovat informace o účinku svých a podobných výrobků na zdraví a životní prostředí během jejich používání a po skončení jejich životnosti. Odpovídajícím způsobem aktualizovat registrační dokumentaci a bezpečnostní listy podle nařízení REACH.\nZaznamenejte a sledujte bezpečnostní incidenty/nehody hlášené klienty a konečnými uživateli a zapojte je do procesu stanovování priorit.\nIdentifikujte klíčová kritéria pro rozhodování.\nRecord and follow-up on the safety/security incidents/accidents reported by clients and final users to integrate them in the prioritization process. \nIdentify key criteria for decision making. "]
[null,{"$f":"'Kapitola 3'!C56","v":"Q3.8"},{"$f":"IF('Kapitola 3'!K57,1,IF('Kapitola 3'!K58,2,IF('Kapitola 3'!K59,3,IF('Kapitola 3'!K60,4,\"\"))))","v":4},"formula 4 choices",null,null,null,{"$f":"'Kapitola 3'!K18","v":false},null,null,null,null,null,null,false,false,null,null,null,null,null,null,null,null,null,null,null,null,null,null,null,"Q3.5",null,25,null,null,null,null,null,null,"Q3.8",1,"ok",0,null,null,"Q3.8",{"$f":"IF(I434,1,IF(I435,2,IF(I436,3,IF(I437,4,\"-\"))))","v":1},"-",2,"-","-","-",4,4,1,null,{"$f":"BF412","v":"Q3.2"},"Q3.2FALSE",false,"Předložte stanovení priorit a jeho odůvodnění do veřejné konzultace se stanovenými lhůtami, aby průmysl nebo jiné zúčastněné strany mohly předložit dodatečné informace."]
[null,{"$f":"'Kapitola 3'!C62","v":"Q3.9"},{"$f":"IF('Kapitola 3'!K63,1,IF('Kapitola 3'!K64,2,IF('Kapitola 3'!K65,3,IF('Kapitola 3'!K66,4,\"\"))))","v":4},"formula 4 choices",null,null,{"$f":"B408","v":"Q3.3"},{"$f":"'Kapitola 3'!K23","v":false},true,null,null,null,null,null,true,null,false,null,{"$f":"G410","v":"Q3.2"},{"$f":"IF(I410=\"\",$H410,I410)","v":false},false,false,false,false,false,true,false,false,false,null,null,"Q3.6",null,25,null,null,null,null,null,null,"Q3.9",1,"ok",0,null,null,"Q3.9",{"$f":"IF(I438,1,IF(I439,2,IF(I440,3,IF(I441,4,\"-\"))))","v":3},"-",4,"-","-","-",4,4,"-",null,{"$f":"G414","v":"Q3.3"},"Q3.3FALSE",false,"Ujistěte se, že vase evidence obsahuje informace o nakoupených, používaných a vyrobených látkách, které obsahují standardní parametry týkající se vlastností látek a výrobků. Přiřaďte osoby odpovědné za aktualizace a určete četnost aktualizací. Spojte látky/výrobky a požadavky. Otázky, které vyplývají z aktualizovaných informací, by měly být identifikovány a řešeny."]
[null,{"$f":"'Kapitola 3'!C70","v":"Q3.10"},{"$f":"IF('Kapitola 3'!K71,1,IF('Kapitola 3'!K72,2,IF('Kapitola 3'!K73,3,IF('Kapitola 3'!K74,4,\"\"))))","v":4},"formula 4 choices",null,null,null,{"$f":"'Kapitola 3'!K24","v":false},false,null,null,null,null,null,false,null,false,null,null,{"$f":"IF(I411=\"\",$H411,I411)","v":true},true,true,true,{"$f":"IF(M411=\"\",$H411,M411)","v":true},{"$f":"IF(N411=\"\",$H411,N411)","v":true},false,true,true,false,null,{"$f":"'Kapitola 3'!B46","v":"Charakterizace rizik"},null,{"$f":"100/6","v":16.666666666666668},null,null,null,{"$f":"C412","v":3},null,null,null,"Q3.10",1,"ok",0,null,null,"Q3.10",{"$f":"IF(I442,1,IF(I443,2,IF(I444,3,IF(I445,4,\"-\"))))","v":"-"},"-","-","-","-","-",4,4,1,null,{"$f":"BF414","v":"Q3.3"},"Q3.3FALSE",false,"Ověřte shodu vašich výrobků s paltnými předpisy v dodavatelském řetězci. Zajistěte úzkou a proaktivní komunikaci s dodavateli, shromažďujte prohlášení o shodě a dokumentujte všechny informace o shodě v dodavatelském řetězci. Vyvinout účinný systém dokumentace pro snadný přístup ke komujnikaci a prohlášení o shodě, aby bylo možné snadno identifikovat a sledovat možné problémy."]
[null,null,null,null,null,null,null,{"$f":"'Kapitola 3'!K25","v":true},false,null,null,null,null,null,false,null,true,null,null,false,false,false,false,false,false,false,false,false,false,null,null,{"$f":"B412","v":"Q3.7"},null,100,null,null,null,null,null,null,null,null,null,null,null,null,null,null,null,null,null,null,null,null,null,null,null,{"$f":"BF415","v":"Q3.3"},"Q3.3TRUE",true,"Identifikujte látky, které mohou být ovlivněny vývojem předpisů (např. Látky uvedené na seznamu povolení, jsou předmětem veřejných konzultací, analýzy možností řízení rizik, průběžného Akčního plánu Společenství). Přihlaste se k odběru zpravodajů agentury ECHA o nadcházejících rozhodnutích nebo dalších veřejných konzultacích. Ujistěte se, že váš management a vaši dodavatelé jsou si vědomi nejnovějšího vývoje předpisů a jejich možných dopadů na výrobky a činnosti."]
[null,null,null,null,null,null,null,{"$f":"'Kapitola 3'!K26","v":false},false,null,null,null,null,null,false,null,false,null,null,false,false,false,false,false,false,false,false,false,false,null,{"$f":"'Kapitola 3'!B54","v":"Řízení rizik produktu"},null,{"$f":"100/6","v":16.666666666666668},null,null,null,{"$f":"(C413*AH418+C414*AH419)/100","v":4},null,null,null,null,null,null,{"$f":"IF(SUM(AR406:AR415)>0,\"Klíčové prvky RC je třeba ještě implementovat, viz tipy\",\"\")","v":""},null,null,null,null,null,null,null,null,null,null,null,null,null,{"$f":"BF416","v":"Q3.3"},"Q3.3FALSE",false,"Není třeba okamžitě měnit strategii, vždy se však snažte o zlepšení."]
[null,null,null,null,null,null,{"$f":"B409","v":"Q3.4"},{"$f":"'Kapitola 3'!K29","v":false},null,null,null,null,null,null,false,false,null,null,null,null,null,null,null,null,null,null,null,null,null,null,null,{"$f":"B413","v":"Q3.8"},null,50,null,null,null,null,null,null,null,null,null,null,null,null,null,null,null,null,null,null,null,null,null,null,null,{"$f":"G418","v":"Q3.4"},"Q3.4FALSE",false,"Vyvinout platformu pro ukládání existujících informací. Zaveďte postup klasifikace a identifikace typu informací, abyste mohli snadno sledovat a získávat dostupné informace."]
[null,null,null,null,null,null,null,{"$f":"'Kapitola 3'!K30","v":true},null,null,null,null,null,null,false,false,null,null,null,null,null,null,null,null,null,null,null,null,null,null,null,{"$f":"B414","v":"Q3.9"},null,50,null,null,null,null,null,null,null,null,null,null,null,null,null,null,null,null,null,null,null,null,null,null,null,{"$f":"BF418","v":"Q3.4"},"Q3.4TRUE",true,"Proveďte proces kontroly dostupných informací z hlediska spolehlivosti a kvality pomocí zdrojů vyškolených k hodnocení informací o nebezpečnosti."]
[null,null,null,null,null,null,null,{"$f":"'Kapitola 3'!K31","v":false},null,null,null,null,null,null,false,false,null,null,null,null,null,null,null,null,null,null,null,null,null,null,{"$f":"'Kapitola 3'!B68","v":"Řízení hodnotového řetězce"},null,{"$f":"100/6","v":16.666666666666668},null,null,null,{"$f":"C415","v":4},null,null,null,null,null,null,null,null,null,null,null,null,null,null,null,null,null,null,null,null,{"$f":"BF419","v":"Q3.4"},"Q3.4FALSE",false,"Kdykoli je to možné a relevantní a bez ohrožení citlivých obchodních informací, zpřístupněte interní informace pro integraci do veřejných databází a mezinárodních výzkumných programů."]
[null,null,null,null,null,null,null,{"$f":"'Kapitola 3'!K32","v":false},null,null,null,null,null,null,true,true,null,null,null,null,null,null,null,null,null,null,null,null,null,null,null,{"$f":"B415","v":"Q3.10"},null,100,null,null,null,null,null,null,null,null,null,null,null,null,null,null,null,null,null,null,null,null,null,null,null,{"$f":"BF420","v":"Q3.4"},"Q3.4FALSE",false,"Není třeba okamžitě měnit strategii, nicméně vždy hledejte zlepšení."]
[null,null,null,null,null,null,{"$f":"B410","v":"Q3.5"},{"$f":"'Kapitola 3'!K35","v":false},null,null,null,null,null,null,null,null,null,null,{"$f":"G414","v":"Q3.3"},{"$f":"IF(I414=\"\",$H414,I414)","v":true},false,false,false,false,false,true,false,false,false,null,null,null,null,null,null,null,null,null,null,null,null,null,null,null,null,null,null,null,null,null,null,null,null,null,null,null,null,{"$f":"G422","v":"Q3.5"},"Q3.5FALSE",false,"Kromě zamýšlených použití výrobků zachyťte informace o úmyslném zneužití a nevhodném použití a integrujte je do dokumentačního systému.\nUjistěte se, že identifikujete informace o použitích od následných uživatelů."]
[null,null,null,null,null,null,null,{"$f":"'Kapitola 3'!K36","v":true},null,null,null,null,null,null,null,null,null,null,null,{"$f":"IF(I415=\"\",$H415,I415)","v":false},false,false,false,{"$f":"IF(M415=\"\",$H415,M415)","v":false},{"$f":"IF(N415=\"\",$H415,N415)","v":false},false,false,false,false,null,null,null,null,null,null,null,null,null,null,null,null,null,null,null,null,null,null,null,null,null,null,null,null,null,null,null,null,{"$f":"BF422","v":"Q3.5"},"Q3.5TRUE",true,"Vytvořte dokumentační systém pro informace o použití a expozici, které lze snadno přizpůsobit vkládání nových informací. Integrujte údaje z monitorování expozice na pracovišti, aby se zpřesnila dostupná data o expozici k popisu realistického modelu expozice."]
[null,null,null,null,null,null,null,{"$f":"'Kapitola 3'!K37","v":false},null,null,null,null,null,null,null,null,null,null,null,false,true,true,true,true,true,false,true,true,false,null,null,null,null,null,null,null,null,null,null,null,null,null,null,null,null,null,null,null,null,null,null,null,null,null,null,null,null,{"$f":"BF423","v":"Q3.5"},"Q3.5FALSE",false,"Zajistěte jasnou komunikaci o zamýšlených použitích s distributory a omezte možnosti zneužití stanovením povolených použití ve smlouvě.\nProaktivní vyhledávání nových (zdrojů) informací o použití a expozici."]
[null,null,null,null,null,null,null,{"$f":"'Kapitola 3'!K38","v":false},null,null,null,null,null,null,null,null,null,null,null,false,false,false,false,false,false,false,false,false,false,null,null,null,null,null,null,null,null,null,null,null,null,null,null,null,null,null,null,null,null,null,null,null,null,null,null,null,null,{"$f":"BF424","v":"Q3.5"},"Q3.5FALSE",false,"Není třeba okamžitě měnit strategii, vždy se však snažte zlepšit."]
[null,null,null,null,null,null,{"$f":"B411","v":"Q3.6"},{"$f":"'Kapitola 3'!K41","v":false},null,null,null,null,null,null,true,null,null,null,null,null,null,null,null,null,null,null,null,null,null,null,null,null,null,null,null,null,null,null,null,null,null,null,null,null,null,null,null,null,null,null,null,null,null,null,null,null,null,{"$f":"G426","v":"Q3.6"},"Q3.6FALSE",false,"Přiřazení zdrojů ke sledování nových informací. Pravidelně sdledujte dostupné informace v literatuře nebo informace z registrační dokumentace podle nařízení REACH, které by mohly být relevantní pro vaše výrobky nebo podobné výrobky nebo odvětví činnosti. Zavést postup pro posouzení a integraci nových informací do stávajících informací pro případné zahrnutí jako základ pro charakterizaci a řízení rizika."]
[null,null,null,null,null,null,null,{"$f":"'Kapitola 3'!K42","v":false},null,null,null,null,null,null,false,null,null,null,null,null,null,null,null,null,null,null,null,null,null,null,null,null,null,null,null,null,null,null,null,null,null,null,null,null,null,null,null,null,null,null,null,null,null,null,null,null,null,{"$f":"BF426","v":"Q3.6"},"Q3.6FALSE",false,"Nové informace se neomezují pouze na dostupné informace: Stížnosti klientů, nehody a incidenty mohou například poskytnout cenné informace o nebezpečnosti, použitích a expozici a měly by být zdokumentovány a integrovány jako nové informace. Měla by se také zvážit možná změna způsobu nebo povahy použití, povahy expozice nebo jakákoli změna oproti původně předpokládanému použití."]
[null,{"$f":"'Kapitola 3'!C57","v":""},null,null,null,null,null,{"$f":"'Kapitola 3'!K43","v":false},null,null,null,null,null,null,false,null,null,null,{"$f":"G418","v":"Q3.4"},{"$f":"IF(I418=\"\",$H418,I418)","v":false},false,false,false,false,false,false,false,false,false,null,null,null,null,null,null,null,null,null,null,null,null,null,null,null,null,null,null,null,null,null,null,null,null,null,null,null,null,{"$f":"BF427","v":"Q3.6"},"Q3.6FALSE",false,"Zvažte celý životní cyklus výrobku a určete klíčové kroky, ve kterých lze extrahovat a integrovat dodatečné informace, včetně všech relevantních informací shromážděných v dodavatelském řetězci."]
[null,null,null,null,null,null,null,{"$f":"'Kapitola 3'!K44","v":true},null,null,null,null,null,null,false,null,null,null,null,{"$f":"IF(I419=\"\",$H419,I419)","v":true},true,true,true,{"$f":"IF(M419=\"\",$H419,M419)","v":true},{"$f":"IF(N419=\"\",$H419,N419)","v":true},false,false,true,false,null,null,null,null,null,null,null,null,null,null,null,null,null,null,null,null,null,null,null,null,null,null,null,null,null,null,null,null,{"$f":"BF428","v":"Q3.6"},"Q3.6TRUE",true,"Není třeba okamžitě měnit strategii, nicméně vždy hledejte zlepšení."]
[null,null,null,null,null,null,{"$f":"B412","v":"Q3.7"},{"$f":"'Kapitola 3'!K49","v":false},null,null,true,null,null,null,false,false,null,null,null,false,false,false,false,false,false,false,false,false,false,null,null,null,null,null,null,null,null,null,null,null,null,null,null,null,null,null,null,null,null,null,null,null,null,null,null,null,null,{"$f":"G430","v":"Q3.7"},"Q3.7FALSE",false,"Vytvořte jasný přehled o klíčových parametrech, které by mohly mít vliv na charakterizaci rizika: nebezpečnost, použití a expozici, příslušné předpisy a certifikace, nové trhy nebo aplikace, události hlášené v dodavatelském řetězci, nové zkušební technologie a nově vznikající zdravotní nebo environmentální obavy.\nNa základě dostupných nových informací stanovte kritéria, která zahajují přeskum hodnocení rizika."]
[null,null,null,null,null,null,null,{"$f":"'Kapitola 3'!K50","v":false},null,null,false,null,null,null,false,false,null,null,null,false,false,false,false,false,false,true,true,false,false,null,null,null,null,null,null,null,null,null,null,null,null,null,null,null,null,null,null,null,null,null,null,null,null,null,null,null,null,{"$f":"BF430","v":"Q3.7"},"Q3.7FALSE",false,"Pravidelně provádějte přeskum charakterizací rizika s cílem zlepšit kvalitu a integrovat poznatky nejlepší dostupné praxe (nezávisle na integraci nových informací).\nRozšířit působnost charakterizace rizika tak, aby integrovala další informace o nebezpečnosti a použití a / nebo provést charakterizaci rizika pokrývající životní cyklus výrobku.\nDoporučuje se mít dobré znalosti o použitých látkách, dovezených nebo vyrobených na místě, a to i těch, které nejsou uváděny na trh nebo podléhají regulačním požadavkům, nezávisle na hmotnostním pásmu (minimální sada testů, výrobkový list, kalkulace DNEL/PNEC)."]
[null,null,null,null,null,null,null,{"$f":"'Kapitola 3'!K51","v":true},null,null,false,null,null,null,false,false,null,null,null,null,null,null,null,null,null,null,null,null,null,null,null,null,null,null,null,null,null,null,null,null,null,null,null,null,null,null,null,null,null,null,null,null,null,null,null,null,null,{"$f":"BF431","v":"Q3.7"},"Q3.7TRUE",true,"Zapojte se do\n• vývoje a validace nových alternativních metodik pro vyhodnocení nebezpečnosti, expozice a charakterizace rizika; a\n• podpory minimalizace používání zvířat při testování a vývoje alternativních metod."]
[null,null,null,null,null,null,null,{"$f":"'Kapitola 3'!K52","v":false},null,null,false,null,null,null,true,true,null,null,null,null,null,null,null,null,null,null,null,null,null,null,null,null,null,null,null,null,null,null,null,null,null,null,null,null,null,null,null,null,null,null,null,null,null,null,null,null,null,{"$f":"BF432","v":"Q3.7"},"Q3.7FALSE",false,"Není třeba okamžitě měnit strategii, vždy se však snažte zlepšit."]
[null,null,null,null,null,null,{"$f":"B413","v":"Q3.8"},{"$f":"'Kapitola 3'!K57","v":false},true,null,false,null,null,null,false,false,true,null,{"$f":"G422","v":"Q3.5"},{"$f":"IF(I422=\"\",$H422,I422)","v":false},false,false,false,false,false,false,false,false,false,null,null,null,null,null,null,null,null,null,null,null,null,null,null,null,null,null,null,null,null,null,null,null,null,null,null,null,null,{"$f":"G434","v":"Q3.8"},"Q3.8FALSE",false,"Pokud jsou k dispozici nové informace o nebezpečnosti výrobku a charakterizaci rizika, přehodnotit opatření k řízení rizik týkající se použití, skladování a zneškodnění chemikálií. Při hodnocení se musí brát v úvahu očekávaná úroveň znalostí a dovedností možného uživatele (konečných) výrobků."]
[null,null,null,null,null,null,null,{"$f":"'Kapitola 3'!K58","v":false},false,null,true,null,null,null,false,false,false,null,null,{"$f":"IF(I423=\"\",$H423,I423)","v":true},true,true,true,{"$f":"IF(M423=\"\",$H423,M423)","v":true},{"$f":"IF(N423=\"\",$H423,N423)","v":true},true,true,true,false,null,null,null,null,null,null,null,null,null,null,null,null,null,null,null,null,null,null,null,null,null,null,null,null,null,null,null,null,{"$f":"BF434","v":"Q3.8"},"Q3.8FALSE",false,"Zlepšit opatření k řízení rizik hledáním zpětné vazby od následných uživatelů ohledně použití, přepravy a skladování.\nVezměte v úvahu recyklovatelnost produktu v navazujících komunikacích s odběrateli.\nSnižte riziko pomocí následujících priorit v pořadí: bezpečný design, ochranná zařízení a informace pro uživatele.\nZabraňte nesprávné manipulaci nebo skladování nebo nesprávnému použití výrobku přijetím těchto opatření (např. Balení ke snížení rizika úniku)."]
[null,null,null,null,null,null,null,{"$f":"'Kapitola 3'!K59","v":false},false,null,false,null,null,null,false,false,false,null,null,false,false,false,false,false,false,false,false,false,false,null,null,null,null,null,null,null,null,null,null,null,null,null,null,null,null,null,null,null,null,null,null,null,null,null,null,null,null,{"$f":"BF435","v":"Q3.8"},"Q3.8FALSE",false,"Zveřejněte transparentně informací o řízení rizik.\nSpolupracujte s pracovními skupinami na získávání informací o řízení rizik."]
[null,null,null,null,null,null,null,{"$f":"'Kapitola 3'!K60","v":true},false,null,false,null,null,null,true,true,false,null,null,false,false,false,false,false,false,false,false,false,false,null,null,null,null,null,null,null,null,null,null,null,null,null,null,null,null,null,null,null,null,null,null,null,null,null,null,null,null,{"$f":"BF436","v":"Q3.8"},"Q3.8TRUE",true,"Není třeba okamžitě měnit strategii, ale vždy hledejte zlepšení."]
[null,null,null,null,null,null,{"$f":"B414","v":"Q3.9"},{"$f":"'Kapitola 3'!K63","v":false},false,null,false,null,null,null,false,false,null,null,null,null,null,null,null,null,null,null,null,null,null,null,null,null,null,null,null,null,null,null,null,null,null,null,null,null,null,null,null,null,null,null,null,null,null,null,null,null,null,{"$f":"G438","v":"Q3.9"},"Q3.9FALSE",false,"Zaveďte proces identifikace, vyšetřování a přiřazování závažnosti incidentů a nehod souvisejících s vašimi výrobky, procesy a činnostmi spojenými s vaším provozem, a to na základě stanovené úrovně závažnosti,\na) identifikovat hlavní příčiny;\nb) řešit a zmírňovat jakékoli nepříznivé dopady;\nc) zahájit a dokončit nápravná a preventivní opatření;\nd) sdílet klíčová zjištění a související nápravná a preventivní opatření s příslušnými interními a externími zúčastněnými stranami; a\ne) prověřit účinnost přijatých nápravných a preventivních opatření\nf) získat povolení k přijetí na základě koncese.\nPři opravě neshodných výstupů ověřit shodu s požadavky."]
[null,null,null,null,null,null,null,{"$f":"'Kapitola 3'!K64","v":false},false,null,false,null,null,null,false,false,null,null,null,null,null,null,null,null,null,null,null,null,null,null,null,null,null,null,null,null,null,null,null,null,null,null,null,null,null,null,null,null,null,null,null,null,null,null,null,null,null,{"$f":"BF438","v":"Q3.9"},"Q3.9FALSE",false,"Neustále sledovat informace o účinku svých a podobných výrobků na zdraví a životní prostředí během jejich používání a po skončení jejich životnosti.\nZaznamenejte a sledujte bezpečnostní incidenty / nehody hlášené klienty a konečnými uživateli."]
[null,null,null,null,null,null,null,{"$f":"'Kapitola 3'!K65","v":false},true,null,false,null,null,null,false,false,null,null,{"$f":"G426","v":"Q3.6"},{"$f":"IF(I426=\"\",$H426,I426)","v":false},false,false,false,false,false,true,false,false,false,null,null,null,null,null,null,null,null,null,null,null,null,null,null,null,null,null,null,null,null,null,null,null,null,null,null,null,null,{"$f":"BF439","v":"Q3.9"},"Q3.9FALSE",false,"Organizace má zavedeny interní procesy a je jmenována oprávněná osoba, která má parvo stáhnout výrobek z trhu v případě, kdy ověřená data prokazují jeho škodlivost v určité fázi jeho životního cyklu, výrazně překračující jeho užitnou hodnotu. Tyto procesy zahrnují správné komunikační kanály se všemi zúčastněnými stranami. K dosažení bezpečného stažení je zapotřebí sledovací systém, aby bylo možné zjistit, kterým zákazníkům byl dotčený výrobek prodán / odeslán.\nStanovit a udržovat postupy pro reakci na nehody a mimořádné situace, pro jejich předcházení a / nebo zmírňování jejichdopadů. Mohou být spojeny s procesem reakce na incidenty v oblasti surovin, produktů, procesů, odpadů a dopravy."]
[null,null,null,null,null,null,null,{"$f":"'Kapitola 3'!K66","v":true},false,null,true,null,null,null,true,true,null,null,null,{"$f":"IF(I427=\"\",$H427,I427)","v":false},false,false,false,{"$f":"IF(M427=\"\",$H427,M427)","v":false},{"$f":"IF(N427=\"\",$H427,N427)","v":false},false,false,false,false,null,null,null,null,null,null,null,null,null,null,null,null,null,null,null,null,null,null,null,null,null,null,null,null,null,null,null,null,{"$f":"BF440","v":"Q3.9"},"Q3.9TRUE",true,"Není třeba okamžitě měnit strategii, nicméně vždy hledejte zlepšení."]
[null,null,null,null,null,null,{"$f":"B415","v":"Q3.10"},{"$f":"'Kapitola 3'!K71","v":false},null,null,null,null,null,null,false,false,true,null,null,false,false,false,false,false,false,false,false,false,false,null,null,null,null,null,null,null,null,null,null,null,null,null,null,null,null,null,null,null,null,null,null,null,null,null,null,null,null,{"$f":"G442","v":"Q3.10"},"Q3.10FALSE",false,"Doporučuje se integrovat nové informace identifikované v dřívějších procesech do bezpečnostního listu a efektivně sledovat různé vydané verze.\nNové bezpečnostní listy přijaté od třetích stran by měly být rovněž přezkoumány a podrobeny kontrole souladu. Pokud je zjištěn nesoulad, mělo by se provést další prověření."]
[null,null,null,null,null,null,null,{"$f":"'Kapitola 3'!K72","v":false},null,null,null,null,null,null,false,false,false,null,null,true,true,true,true,true,true,false,true,true,false,null,null,null,null,null,null,null,null,null,null,null,null,null,null,null,null,null,null,null,null,null,null,null,null,null,null,null,null,{"$f":"BF442","v":"Q3.10"},"Q3.10FALSE",false,"Proaktivně sdílejte aktualizované verze bezpečnostních listů s následnými uživateli a ujistěte se, že je obdrží a porozumí jejich obsahu. Buďte připraveni poskytnout další pokyny, pokud jsou požadovány nebo bude-li to považováno za nutné."]
[null,null,null,null,null,null,null,{"$f":"'Kapitola 3'!K73","v":false},null,null,null,null,null,null,false,false,false,null,null,null,null,null,null,null,null,null,null,null,null,null,null,null,null,null,null,null,null,null,null,null,null,null,null,null,null,null,null,null,null,null,null,null,null,null,null,null,null,{"$f":"BF443","v":"Q3.10"},"Q3.10FALSE",false,"Zveřejněte bezpečnostní listy a poskytněte kontaktní informace jakékoli třetí straně, pro případ vyžádání dalších informací. Integrujte úvahy o recyklovatelnosti do bezpečnostního listu."]
[null,null,null,null,null,null,null,{"$f":"'Kapitola 3'!K74","v":true},null,null,null,null,null,null,true,true,false,null,null,null,null,null,null,null,null,null,null,null,null,null,null,null,null,null,null,null,null,null,null,null,null,null,null,null,null,null,null,null,null,null,null,null,null,null,null,null,null,{"$f":"BF444","v":"Q3.10"},"Q3.10TRUE",true,"Není třeba okamžitě měnit strategii, vždy se však snažte o zlepšení."]
[]
[]
[null,null,null,null,null,null,null,null,null,null,null,null,null,null,null,null,null,null,{"$f":"G430","v":"Q3.7"},{"$f":"IF(I430=\"\",$H430,I430)","v":false},false,true,false,false,false,false,false,false,false]
[null,null,null,null,null,null,null,null,null,null,null,null,null,null,null,null,null,null,null,{"$f":"IF(I431=\"\",$H431,I431)","v":false},false,false,false,{"$f":"IF(M431=\"\",$H431,M431)","v":false},{"$f":"IF(N431=\"\",$H431,N431)","v":false},false,false,false,false]
[null,null,null,null,null,null,null,null,null,null,null,null,null,null,null,null,null,null,null,true,true,false,true,true,true,false,false,true,false]
[null,null,null,null,null,null,null,null,null,null,null,null,null,null,null,null,null,null,null,false,false,false,false,false,false,true,true,false,false]
[]
[]
[]
[]
[null,null,null,null,null,null,null,null,null,null,null,null,null,null,null,null,null,null,{"$f":"G434","v":"Q3.8"},{"$f":"IF(I434=\"\",$H434,I434)","v":true},false,false,false,false,false,false,false,true,false]
[null,null,null,null,null,null,null,null,null,null,null,null,null,null,null,null,null,null,null,{"$f":"IF(I435=\"\",$H435,I435)","v":false},false,true,false,{"$f":"IF(M435=\"\",$H435,M435)","v":false},{"$f":"IF(N435=\"\",$H435,N435)","v":false},false,false,false,false]
[null,null,null,null,null,null,null,null,null,null,null,null,null,null,null,null,null,null,null,false,false,false,false,false,false,false,false,false,false]
[null,null,null,null,null,null,null,null,null,null,null,null,null,null,null,null,null,null,null,false,true,false,true,true,true,true,true,false,false]
[]
[]
[null,null,null,null,null,null,null,null,null,null,null,null,null,null,null,null,null,null,{"$f":"G438","v":"Q3.9"},{"$f":"IF(I438=\"\",$H438,I438)","v":false},false,false,false,false,false,false,false,false,false]
[null,null,null,null,null,null,null,null,null,null,null,null,null,null,null,null,null,null,null,{"$f":"IF(I439=\"\",$H439,I439)","v":false},false,false,false,{"$f":"IF(M439=\"\",$H439,M439)","v":false},{"$f":"IF(N439=\"\",$H439,N439)","v":false},false,false,false,false]
[null,null,null,null,null,null,null,null,null,null,null,null,null,null,null,null,null,null,null,true,false,false,false,false,false,false,false,false,false]
[null,null,null,null,null,null,null,null,null,null,null,null,null,null,null,null,null,null,null,false,true,true,true,true,true,true,true,true,false]
[]
[]
[]
[]
[null,null,null,null,null,null,null,null,null,null,null,null,null,null,null,null,null,null,{"$f":"G442","v":"Q3.10"},{"$f":"IF(I442=\"\",$H442,I442)","v":false},false,false,false,false,false,false,false,true,false]
[null,null,null,null,null,null,null,null,null,null,null,null,null,null,null,null,null,null,null,{"$f":"IF(I443=\"\",$H443,I443)","v":false},false,false,false,{"$f":"IF(M443=\"\",$H443,M443)","v":false},{"$f":"IF(N443=\"\",$H443,N443)","v":false},false,false,false,false]
[null,null,null,null,null,null,null,null,null,null,null,null,null,null,null,null,null,null,null,false,false,false,false,false,false,false,false,false,false]
[null,null,null,null,null,null,null,null,null,null,null,null,null,null,null,null,null,null,null,true,true,true,true,true,true,true,true,false,false]
[]
[]
[]
["chapter 4"]
[]
[null,null,null,null,null,null,null,null,"scores in case of compliance",null,null,null,null,null,null,null,null,null,null,"to copy",null,null,null,null,null,null,null,null,null,null,null,null,"equal weights (adaptable)",null,null,null,"MCA"]
[null,"scores",null,null,null,"prefill",null,"answered","ISO9001","ISO14001","ISO26000","ISO45001","ISO50001","EMAS","RC14001","RCMS","GHS",null,null,{"$f":"I480","v":"ISO9001"},"ISO14001","ISO26000","ISO45001","ISO50001","EMAS","RC14001","RCMS","GHS","clear",null,"weights",null,{"$f":"IF(SUM(AG482:AG495)=100,\"ok\",\"error\")","v":"ok"},{"$f":"IF(SUM(AH482:AH495)/COUNT(AG482:AG495)=100,\"ok\",\"error\")","v":"ok"},null,null,"subscores","score",null,null,"identification of major issues",null,null,null,null,null,"scores for standards",null,null,null,null,null,null,null,null,null,null,"improvement tips"]
[null,null,null,null,null,null,null,null,null,null,null,null,null,null,null,null,null,null,null,null,null,null,null,null,null,null,null,null,null,null,null,null,null,null,null,null,null,{"$f":"(AK482*AG482+AG484*AK484+AK486*AG486+AK488*AG488+AK491*AG491+AK493*AG493)/100","v":3.0833333333333339},null,null,null,null,null,null,null,null,null,{"$f":"I480","v":"ISO9001"},{"$f":"J480","v":"ISO14001"},{"$f":"K480","v":"ISO26000"},{"$f":"L480","v":"ISO45001"},{"$f":"M480","v":"ISO50001"},{"$f":"N480","v":"EMAS"},{"$f":"O480","v":"RC14001"},{"$f":"P480","v":"RCMS"},"GHS"]
[null,{"$f":"'Kapitola 4'!C6","v":"Q4.1"},{"$f":"IF('Kapitola 4'!K7,1,IF('Kapitola 4'!K8,2,IF('Kapitola 4'!K9,3,IF('Kapitola 4'!K10,4,\"\"))))","v":3},"formula 4 choices",null,null,{"$f":"B482","v":"Q4.1"},{"$f":"'Kapitola 4'!K7","v":false},false,null,null,null,false,null,null,false,null,null,{"$f":"G482","v":"Q4.1"},{"$f":"IF(I482=\"\",$H482,I482)","v":false},false,false,false,false,false,false,false,false,false,null,{"$f":"'Kapitola 4'!B4","v":"Odpovědné získávání zdrojů"},null,{"$f":"100/6","v":16.666666666666668},null,null,null,{"$f":"C482","v":3},null,null,null,{"$f":"B482","v":"Q4.1"},1,{"$f":"IF(C482<AP482,\"major issue\",\"ok\")","v":"ok"},{"$f":"IF(AQ482<>\"ok\",1,0)","v":0},null,null,{"$f":"AO482","v":"Q4.1"},{"$f":"IF(I482,1,IF(I483,2,IF(I484,3,IF(I485,4,\"-\"))))","v":3},{"$f":"IF(J482,1,IF(J483,2,IF(J484,3,IF(J485,4,\"-\"))))","v":"-"},{"$f":"IF(K482,1,IF(K483,2,IF(K484,3,IF(K485,4,\"-\"))))","v":"-"},{"$f":"IF(L482,1,IF(L483,2,IF(L484,3,IF(L485,4,\"-\"))))","v":"-"},{"$f":"IF(M482,1,IF(M483,2,IF(M484,3,IF(M485,4,\"-\"))))","v":3},{"$f":"IF(N482,1,IF(N483,2,IF(N484,3,IF(N485,4,\"-\"))))","v":"-"},{"$f":"IF(O482,1,IF(O483,2,IF(O484,3,IF(O485,4,\"-\"))))","v":"-"},{"$f":"IF(P482,1,IF(P483,2,IF(P484,3,IF(P485,4,\"-\"))))","v":3},"-",null,{"$f":"G482","v":"Q4.1"},{"$f":"CONCATENATE(BF482,BH482)","v":"Q4.1FALSE"},{"$f":"H482","v":false},"Stanovte politiku určující závazek organizace k odpovědnému zajišťování zdrojů.\nPři nákupu vybavení, zboží a služeb informujte poskytovatele o environmentální politice, požadavcích vaší organizace a prostřednictvím spolupráce podporujte přístup CSR.\nPříkladem schématu, který lze použít (celkem nebo jeho části), je TfS (https://tfs-initiative.com/ ). Společnosti se mohou rozhodnout použít jiné systémy nebo kritéria. Dobrým průvodcem (vyvinutý společností VCI) k „Udržitelné řízení dodavatelského řetězce pro středně velké společnosti v chemickém průmyslu“ je https://www.chemiehoch3.de/fileadmin/user_upload/News/Chemie3_Guide_Supply_Chain_eng.pdf"]
[null,{"$f":"'Kapitola 4'!C14","v":"Q4.2"},{"$f":"IF('Kapitola 4'!K15,1,IF('Kapitola 4'!K16,2,IF('Kapitola 4'!K17,3,IF('Kapitola 4'!K18,4,\"\"))))","v":4},"formula 4 choices",null,null,null,{"$f":"'Kapitola 4'!K8","v":false},false,null,null,null,false,null,null,false,null,null,null,{"$f":"IF(I483=\"\",$H483,I483)","v":false},false,false,false,{"$f":"IF(M483=\"\",$H483,M483)","v":false},{"$f":"IF(N483=\"\",$H483,N483)","v":false},false,false,false,false,null,null,{"$f":"B482","v":"Q4.1"},null,100,null,null,null,null,null,null,{"$f":"B483","v":"Q4.2"},1,"ok",{"$f":"IF(AQ483<>\"ok\",1,0)","v":0},null,null,{"$f":"AO483","v":"Q4.2"},{"$f":"IF(I486,1,IF(I487,2,IF(I488,3,IF(I489,4,\"-\"))))","v":"-"},{"$f":"IF(J486,1,IF(J487,2,IF(J488,3,IF(J489,4,\"-\"))))","v":"-"},{"$f":"IF(K486,1,IF(K487,2,IF(K488,3,IF(K489,4,\"-\"))))","v":"-"},{"$f":"IF(L486,1,IF(L487,2,IF(L488,3,IF(L489,4,\"-\"))))","v":"-"},{"$f":"IF(M486,1,IF(M487,2,IF(M488,3,IF(M489,4,\"-\"))))","v":"-"},{"$f":"IF(N486,1,IF(N487,2,IF(N488,3,IF(N489,4,\"-\"))))","v":"-"},{"$f":"IF(O486,1,IF(O487,2,IF(O488,3,IF(O489,4,\"-\"))))","v":"-"},{"$f":"IF(P486,1,IF(P487,2,IF(P488,3,IF(P489,4,\"-\"))))","v":"-"},"-",null,{"$f":"BF482","v":"Q4.1"},"Q4.1FALSE",{"$f":"H483","v":false},"Při nákupu energie pomocí produktů, zařízení nebo služeb považujte za jedno z kritérií energetickou účinnost za období očekávané životnosti. Při nákupu vybavení, zboží a služeb zohledněte dopad na životní prostředí prostřednictvím environmentálních kritérií ve výběrovém řízení na zakoupené zboží, vybavení a služby.\nPříkladem schématu, který lze použít (celkem nebo jeho části), je TfS (https://tfs-initiative.com/ ). Společnosti se mohou rozhodnout použít jiné systémy nebo kritéria. Dobrým průvodcem (vyvinutý společností VCI) k „Udržitelné řízení dodavatelského řetězce pro středně velké společnosti v chemickém průmyslu“ je https://www.chemiehoch3.de/fileadmin/user_upload/News/Chemie3_Guide_Supply_Chain_eng.pdf"]
[null,{"$f":"'Kapitola 4'!C22","v":"Q4.3"},{"$f":"IF('Kapitola 4'!K23,1,IF('Kapitola 4'!K24,2,IF('Kapitola 4'!K25,3,IF('Kapitola 4'!K26,4,\"\"))))","v":3},"formula 4 choices",null,null,null,{"$f":"'Kapitola 4'!K9","v":true},true,null,null,null,true,null,null,true,null,null,null,true,true,true,true,true,true,true,true,true,false,null,{"$f":"'Kapitola 4'!B12","v":"Spolupráce v dodavatelském řetězci (obchodní partneři)"},null,{"$f":"100/6","v":16.666666666666668},null,null,null,{"$f":"C483","v":4},null,null,null,"Q4.3",1,"ok",0,null,null,"Q4.3",{"$f":"IF(I490,1,IF(I491,2,IF(I492,3,IF(I493,4,\"-\"))))","v":"-"},{"$f":"IF(J490,1,IF(J491,2,IF(J492,3,IF(J493,4,\"-\"))))","v":"-"},{"$f":"IF(K490,1,IF(K491,2,IF(K492,3,IF(K493,4,\"-\"))))","v":4},{"$f":"IF(L490,1,IF(L491,2,IF(L492,3,IF(L493,4,\"-\"))))","v":"-"},{"$f":"IF(M490,1,IF(M491,2,IF(M492,3,IF(M493,4,\"-\"))))","v":"-"},{"$f":"IF(N490,1,IF(N491,2,IF(N492,3,IF(N493,4,\"-\"))))","v":"-"},{"$f":"IF(O490,1,IF(O491,2,IF(O492,3,IF(O493,4,\"-\"))))","v":"-"},{"$f":"IF(P490,1,IF(P491,2,IF(P492,3,IF(P493,4,\"-\"))))","v":"-"},"-",null,{"$f":"BF483","v":"Q4.1"},"Q4.1TRUE",true,"Věnujte rozpočet nákupu zařízení a služeb, které jsou ohleduplnější k životnímu prostředí, a stanovte priority svých nákupů na základě posouzení dopadů.\nPříkladem schématu, který lze použít (celkem nebo jeho části), je TfS (https://tfs-initiative.com/ ). Společnosti se mohou rozhodnout použít jiné systémy. Dobrým průvodcem (vyvinutým společností VCI) k tématu „Udržitelné řízení dodavatelského řetězce pro středně velké společnosti v chemickém průmyslu“ je https://www.chemiehoch3.de/fileadmin/user_upload/News/Chemie3_Guide_Supply_Chain_eng.pdf"]
[null,{"$f":"'Kapitola 4'!C30","v":"Q4.4"},{"$f":"IF('Kapitola 4'!K31,1,IF('Kapitola 4'!K32,2,IF('Kapitola 4'!K33,3,IF('Kapitola 4'!K34,4,\"\"))))","v":2},"formula 4 choices",null,null,null,{"$f":"'Kapitola 4'!K10","v":false},false,null,null,null,false,null,null,false,null,null,null,false,false,false,false,false,false,false,false,false,false,null,null,{"$f":"B483","v":"Q4.2"},null,100,null,null,null,null,null,null,"Q4.4",2,"ok",0,null,null,"Q4.4",{"$f":"IF(I494,1,IF(I495,2,IF(I496,3,IF(I497,4,\"-\"))))","v":"-"},{"$f":"IF(J494,1,IF(J495,2,IF(J496,3,IF(J497,4,\"-\"))))","v":"-"},{"$f":"IF(K494,1,IF(K495,2,IF(K496,3,IF(K497,4,\"-\"))))","v":4},{"$f":"IF(L494,1,IF(L495,2,IF(L496,3,IF(L497,4,\"-\"))))","v":"-"},{"$f":"IF(M494,1,IF(M495,2,IF(M496,3,IF(M497,4,\"-\"))))","v":"-"},{"$f":"IF(N494,1,IF(N495,2,IF(N496,3,IF(N497,4,\"-\"))))","v":"-"},{"$f":"IF(O494,1,IF(O495,2,IF(O496,3,IF(O497,4,\"-\"))))","v":"-"},{"$f":"IF(P494,1,IF(P495,2,IF(P496,3,IF(P497,4,\"-\"))))","v":"-"},"-",null,{"$f":"BF484","v":"Q4.1"},"Q4.1FALSE",false,"Není třeba okamžitě měnit strategii, nicméně vždy hledejte zlepšení."]
[null,{"$f":"'Kapitola 4'!C36","v":"Q4.5"},{"$f":"IF('Kapitola 4'!K37,1,IF('Kapitola 4'!K38,2,IF('Kapitola 4'!K39,3,IF('Kapitola 4'!K40,4,\"\"))))","v":4},"formula 4 choices",null,null,{"$f":"B483","v":"Q4.2"},{"$f":"'Kapitola 4'!K15","v":false},null,null,null,null,null,null,null,null,null,null,null,null,null,null,null,null,null,null,null,null,null,null,{"$f":"'Kapitola 4'!B20","v":"Obchodní integrita"},null,{"$f":"100/6","v":16.666666666666668},null,null,null,{"$f":"C484","v":3},null,null,null,"Q4.5",2,"ok",0,null,null,"Q4.5",{"$f":"IF(I498,1,IF(I499,2,IF(I500,3,IF(I501,4,\"-\"))))","v":"-"},{"$f":"IF(J498,1,IF(J499,2,IF(J500,3,IF(J501,4,\"-\"))))","v":"-"},{"$f":"IF(K498,1,IF(K499,2,IF(K500,3,IF(K501,4,\"-\"))))","v":4},{"$f":"IF(L498,1,IF(L499,2,IF(L500,3,IF(L501,4,\"-\"))))","v":"-"},{"$f":"IF(M498,1,IF(M499,2,IF(M500,3,IF(M501,4,\"-\"))))","v":"-"},{"$f":"IF(N498,1,IF(N499,2,IF(N500,3,IF(N501,4,\"-\"))))","v":"-"},{"$f":"IF(O498,1,IF(O499,2,IF(O500,3,IF(O501,4,\"-\"))))","v":"-"},{"$f":"IF(P498,1,IF(P499,2,IF(P500,3,IF(P501,4,\"-\"))))","v":"-"},"-",null,{"$f":"G486","v":"Q4.2"},"Q4.2FALSE",{"$f":"H486","v":false},"Udělte preferované procesy důvěryhodným obchodním partnerům.\nZjistěte úroveň spokojenosti svých obchodních partnerů, abyste udrželi dobrou spolupráci a v případě potřeby spolupracovali."]
[null,{"$f":"'Kapitola 4'!C44","v":"Q4.6"},{"$f":"IF('Kapitola 4'!K45,1,IF('Kapitola 4'!K46,2,IF('Kapitola 4'!K47,3,IF('Kapitola 4'!K48,4,\"\"))))","v":3},"formula 4 choices",null,null,null,{"$f":"'Kapitola 4'!K16","v":false},null,null,null,null,null,null,null,null,null,null,null,null,null,null,null,null,null,null,null,null,null,null,null,{"$f":"B484","v":"Q4.3"},null,100,null,null,null,null,null,null,"Q4.6",1,"ok",0,null,null,"Q4.6",{"$f":"IF(I502,1,IF(I503,2,IF(I504,3,IF(I505,4,\"-\"))))","v":"-"},{"$f":"IF(J502,1,IF(J503,2,IF(J504,3,IF(J505,4,\"-\"))))","v":"-"},{"$f":"IF(K502,1,IF(K503,2,IF(K504,3,IF(K505,4,\"-\"))))","v":"-"},{"$f":"IF(L502,1,IF(L503,2,IF(L504,3,IF(L505,4,\"-\"))))","v":3},{"$f":"IF(M502,1,IF(M503,2,IF(M504,3,IF(M505,4,\"-\"))))","v":"-"},{"$f":"IF(N502,1,IF(N503,2,IF(N504,3,IF(N505,4,\"-\"))))","v":"-"},{"$f":"IF(O502,1,IF(O503,2,IF(O504,3,IF(O505,4,\"-\"))))","v":"-"},{"$f":"IF(P502,1,IF(P503,2,IF(P504,3,IF(P505,4,\"-\"))))","v":3},"-",null,{"$f":"BF486","v":"Q4.2"},"Q4.2FALSE",false,"Podporuje hlavní obchodní partnery organizace uzavíráním střednědobých smluv, které jim umožňují investovat do účinnějších a odpovědnějších technologií."]
[null,{"$f":"'Kapitola 4'!C52","v":"Q4.7"},{"$f":"IF('Kapitola 4'!K53,1,IF('Kapitola 4'!K54,2,IF('Kapitola 4'!K55,3,IF('Kapitola 4'!K56,4,\"\"))))","v":1},"formula 4 choices",null,null,null,{"$f":"'Kapitola 4'!K17","v":false},null,null,null,null,null,null,null,null,null,null,null,null,null,null,null,null,null,null,null,null,null,null,{"$f":"'Kapitola 4'!B28","v":"Pracovní práva (Práva zaměstnanců)"},null,{"$f":"100/6","v":16.666666666666668},null,null,null,{"$f":"((C485*AH489)+(C486*AH490))/100","v":3},null,null,null,"Q4.7",1,"ok",0,null,null,"Q4.7",{"$f":"IF(I506,1,IF(I507,2,IF(I508,3,IF(I509,4,\"-\"))))","v":3},{"$f":"IF(J506,1,IF(J507,2,IF(J508,3,IF(J509,4,\"-\"))))","v":"-"},{"$f":"IF(K506,1,IF(K507,2,IF(K508,3,IF(K509,4,\"-\"))))","v":"-"},{"$f":"IF(L506,1,IF(L507,2,IF(L508,3,IF(L509,4,\"-\"))))","v":"-"},{"$f":"IF(M506,1,IF(M507,2,IF(M508,3,IF(M509,4,\"-\"))))","v":"-"},{"$f":"IF(N506,1,IF(N507,2,IF(N508,3,IF(N509,4,\"-\"))))","v":"-"},{"$f":"IF(O506,1,IF(O507,2,IF(O508,3,IF(O509,4,\"-\"))))","v":"-"},{"$f":"IF(P506,1,IF(P507,2,IF(P508,3,IF(P509,4,\"-\"))))","v":"-"},"-",null,{"$f":"BF487","v":"Q4.2"},"Q4.2FALSE",false,"Zahájení programů výzkumu a vývoje a vytváření konkrétních partnerství s obchodními partnery v celém hodnotovém řetězci za účelem společného vývoje inovativních produktů a služeb."]
[null,{"$f":"'Kapitola 4'!C58","v":"Q4.8"},{"$f":"IF('Kapitola 4'!K59,1,IF('Kapitola 4'!K60,2,IF('Kapitola 4'!K61,3,IF('Kapitola 4'!K62,4,\"\"))))","v":4},"formula 4 choices",null,null,null,{"$f":"'Kapitola 4'!K18","v":true},null,null,null,null,null,null,null,null,null,null,null,null,null,null,null,null,null,null,null,null,null,null,null,{"$f":"B485","v":"Q4.4"},null,50,null,null,null,null,null,null,"Q4.8",1,"ok",0,null,null,"Q4.8",{"$f":"IF(I510,1,IF(I511,2,IF(I512,3,IF(I513,4,\"-\"))))","v":4},{"$f":"IF(J510,1,IF(J511,2,IF(J512,3,IF(J513,4,\"-\"))))","v":"-"},{"$f":"IF(K510,1,IF(K511,2,IF(K512,3,IF(K513,4,\"-\"))))","v":"-"},{"$f":"IF(L510,1,IF(L511,2,IF(L512,3,IF(L513,4,\"-\"))))","v":"-"},{"$f":"IF(M510,1,IF(M511,2,IF(M512,3,IF(M513,4,\"-\"))))","v":"-"},{"$f":"IF(N510,1,IF(N511,2,IF(N512,3,IF(N513,4,\"-\"))))","v":"-"},{"$f":"IF(O510,1,IF(O511,2,IF(O512,3,IF(O513,4,\"-\"))))","v":"-"},{"$f":"IF(P510,1,IF(P511,2,IF(P512,3,IF(P513,4,\"-\"))))","v":"-"},"-",null,{"$f":"BF488","v":"Q4.2"},"Q4.2TRUE",true,"\nNení třeba okamžitě měnit strategii, vždy se však snažte zlepšit."]
[null,null,null,null,null,null,{"$f":"B484","v":"Q4.3"},{"$f":"'Kapitola 4'!K23","v":false},null,null,false,null,null,null,null,null,null,null,{"$f":"G486","v":"Q4.2"},{"$f":"IF(I486=\"\",$H486,I486)","v":false},false,false,false,false,false,false,false,false,false,null,null,{"$f":"B486","v":"Q4.5"},null,50,null,null,null,null,null,null,null,null,null,null,null,null,null,null,null,null,null,null,null,null,null,null,null,{"$f":"G490","v":"Q4.3"},"Q4.3FALSE",false,"Stanovit politiku nebo kodex chování v oblasti obchodní etiky (včetně protimonopolních / porušení pravidel v oblasti hospodářské soutěže a korupce) a nechat je formálně potvrdit na nejvyšší úrovni podnikání.\nInformovat zaměstnance o jejich očekávaném chování v rizikových situacích.\nJedním ze způsobů, jak toho dosáhnout, je to, že se zaměstnanci budou pravidelně účastnit testu integrity, v němž se zaměstnanci zaměří na určité rizikové situace."]
[null,null,null,null,null,null,null,{"$f":"'Kapitola 4'!K24","v":false},null,null,false,null,null,null,null,null,null,null,null,{"$f":"IF(I487=\"\",$H487,I487)","v":false},false,false,false,{"$f":"IF(M487=\"\",$H487,M487)","v":false},{"$f":"IF(N487=\"\",$H487,N487)","v":false},false,false,false,false,null,{"$f":"'Kapitola 4'!B42","v":"Logističtí partneři"},null,{"$f":"100/6","v":16.666666666666668},null,null,null,{"$f":"C487","v":3},null,null,null,null,null,null,{"$f":"IF(SUM(AR482:AR489)>0,\"Klíčové prvky RC je třeba ještě implementovat, viz tipy\",\"\")","v":""},null,null,null,null,null,null,null,null,null,null,null,null,null,{"$f":"BF490","v":"Q4.3"},"Q4.3FALSE",false,"Implementujte procesy, které zabraňují zapojení nebo účasti na antimonopolních praktikách a porušování zákonů o hospodářské soutěži a korupci, např. zavedením systému pro zaměstnance, který jim umožňuje anonymně nahlásit jakoukoli situaci představující takové riziko."]
[null,null,null,null,null,null,null,{"$f":"'Kapitola 4'!K25","v":true},null,null,false,null,null,null,null,null,null,null,null,false,false,false,false,{"$f":"IF(M488=\"\",$H488,M488)","v":false},false,false,false,false,false,null,null,{"$f":"B487","v":"Q4.6"},null,100,null,null,null,null,null,null,null,null,null,null,null,null,null,null,null,null,null,null,null,null,null,null,null,{"$f":"BF491","v":"Q4.3"},"Q4.3TRUE",true,"Informovat zúčastněné strany organizace o politice nebo kodexu organizace v oblasti etiky podnikání (včetně antimonopolních předpisů / porušení pravidel hospodářské soutěže a korupce) a umožnit zúčastněným stranám organizace přístup do systému, který umožňuje nahlást jakékoli situace představující takové riziko."]
[null,null,null,null,null,null,null,{"$f":"'Kapitola 4'!K26","v":false},null,null,true,null,null,null,null,null,null,null,null,{"$f":"IF(I489=\"\",$H489,I489)","v":true},true,true,true,{"$f":"IF(M489=\"\",$H489,M489)","v":true},true,true,true,true,false,null,{"$f":"'Kapitola 4'!B50","v":"Následní uživatelé"},null,{"$f":"100/6","v":16.666666666666668},null,null,null,{"$f":"((C488*AH494)+(C489*AH495))/100","v":2.5},null,null,null,null,null,null,null,null,null,null,null,null,null,null,null,null,null,null,null,null,{"$f":"BF492","v":"Q4.3"},"Q4.3FALSE",false,"Není třeba okamžitě měnit strategii, ale vždy hledejte zlepšení."]
[null,null,null,null,null,null,{"$f":"B485","v":"Q4.4"},{"$f":"'Kapitola 4'!K31","v":false},null,null,false,null,null,null,null,null,null,null,null,null,null,null,null,null,null,null,null,null,null,null,null,{"$f":"B488","v":"Q4.7"},null,50,null,null,null,null,null,null,null,null,null,null,null,null,null,null,null,null,null,null,null,null,null,null,null,{"$f":"G494","v":"Q4.4"},"Q4.4FALSE",false,"Stanovit minimální požadavky týkající se sociálních otázek a lidských práv v rámci specifikace obchodních partnerů organizace a vybírat obchodní partnery na základě těchto kritérií."]
[null,null,null,null,null,null,null,{"$f":"'Kapitola 4'!K32","v":true},null,null,false,null,null,null,null,null,null,null,null,null,null,null,null,null,null,null,null,null,null,null,null,{"$f":"B489","v":"Q4.8"},null,50,null,null,null,null,null,null,null,null,null,null,null,null,null,null,null,null,null,null,null,null,null,null,null,{"$f":"BF494","v":"Q4.4"},"Q4.4TRUE",true,"Definovat proces hodnocení obchodních partnerů na základě kritérií týkajících se sociálních otázek a lidských práv.\nPříkladem schématu, který lze použít (celkem nebo jeho části), je TfS (https://tfs-initiative.com/) .\nSpolečnosti se mohou rozhodnout použít jiné systémy nebo kritéria."]
[null,null,null,null,null,null,null,{"$f":"'Kapitola 4'!K33","v":false},null,null,false,null,null,null,null,null,null,null,null,null,null,null,null,null,null,null,null,null,null,null,null,null,null,null,null,null,null,null,null,null,null,null,null,null,null,null,null,null,null,null,null,null,null,null,null,null,null,{"$f":"BF495","v":"Q4.4"},"Q4.4FALSE",false,"Pravidelně auditovat obchodní partnery organizace z hlediska jejich schopnosti zajistit dodržování lidských a sociálních práv."]
[null,null,null,null,null,null,null,{"$f":"'Kapitola 4'!K34","v":false},null,null,true,null,null,null,null,null,null,null,null,null,null,null,null,null,null,null,null,null,null,null,null,null,null,null,null,null,null,null,null,null,null,null,null,null,null,null,null,null,null,null,null,null,null,null,null,null,null,{"$f":"BF496","v":"Q4.4"},"Q4.4FALSE",false,"Není třeba okamžitě měnit strategii, nicméně vždy hledejte zlepšení."]
[null,null,null,null,null,null,{"$f":"B486","v":"Q4.5"},{"$f":"'Kapitola 4'!K37","v":false},null,null,false,null,null,null,null,null,null,null,{"$f":"G490","v":"Q4.3"},{"$f":"IF(I490=\"\",$H490,I490)","v":false},false,false,false,false,false,false,false,false,false,null,null,null,null,null,null,null,null,null,null,null,null,null,null,null,null,null,null,null,null,null,null,null,null,null,null,null,null,{"$f":"G498","v":"Q4.5"},"Q4.5FALSE",false,"Proveďte dvě z následujících akcí k zajištění prevence dětské práce ve vaší organizaci:\n- mít zaveden systém ověřování věku;\n- Nemáte děti do 15 let a více (zkontrolujte příslušné právní předpisy). (Výjimku tvoří pouze učni, stáže nebo stáže spojené se vzděláváním.);\n- Zajistit, aby práce mladší 18 let nezasahovala do školní docházky dětí (součet hodin dopravy do práce a ze školy, docházky do školy a práce je méně než 10 hodin denně);\n- Zajistit, aby práce mladých pracovníků nebyla duševně, fyzicky, sociálně nebo morálně nebezpečná a škodlivá."]
[null,null,null,null,null,null,null,{"$f":"'Kapitola 4'!K38","v":false},null,null,false,null,null,null,null,null,null,null,null,{"$f":"IF(I491=\"\",$H491,I491)","v":false},false,false,false,{"$f":"IF(M491=\"\",$H491,M491)","v":false},{"$f":"IF(N491=\"\",$H491,N491)","v":false},false,false,false,false,null,null,null,null,null,null,null,null,null,null,null,null,null,null,null,null,null,null,null,null,null,null,null,null,null,null,null,null,{"$f":"BF498","v":"Q4.5"},"Q4.5FALSE",false,"Proveďte tři z následujících opatření k zajištění prevence dětské práce ve vaší organizaci:\n- mít zaveden systém ověřování věku;\n- Nemáte děti do 15 let a více (zkontrolujte příslušné právní předpisy). (Výjimku tvoří pouze učni, stáže nebo stáže spojené se vzděláváním.);\n- Zajistěte, aby práce mladší 18 let nezasahovala do školní docházky dětí (součet hodin dopravy do práce a ze školy, docházky do školy a práce je méně než 10 hodin denně);\n- Zajistit, aby práce mladých pracovníků nebyla duševně, fyzicky, sociálně nebo morálně nebezpečná a škodlivá."]
[null,null,null,null,null,null,null,{"$f":"'Kapitola 4'!K39","v":false},null,null,false,null,null,null,null,null,null,null,null,true,true,false,true,{"$f":"IF(M492=\"\",$H492,M492)","v":true},true,true,true,true,false,null,null,null,null,null,null,null,null,null,null,null,null,null,null,null,null,null,null,null,null,null,null,null,null,null,null,null,null,{"$f":"BF499","v":"Q4.5"},"Q4.5FALSE",false,"Proveďte všechna následující opatření k zajištění prevence dětské práce ve vaší organizaci:\n- mít zaveden systém ověřování věku;\n- Nemáte děti do 15 let a více (zkontrolujte příslušné právní předpisy). (Výjimku tvoří pouze učni, stáže nebo stáže spojené se vzděláváním.);\n- Zajistěte, aby práce mladší 18 let nezasahovala do školní docházky dětí (součet hodin dopravy do práce a ze školy, docházky do školy a práce je méně než 10 hodin denně);\n- Zajistit, aby práce mladých pracovníků nebyla duševně, fyzicky, sociálně nebo morálně nebezpečná a škodlivá."]
[null,null,null,null,null,null,null,{"$f":"'Kapitola 4'!K40","v":true},null,null,true,null,null,null,null,null,null,null,null,false,false,true,false,{"$f":"IF(M493=\"\",$H493,M493)","v":false},false,false,false,false,false,null,null,null,null,null,null,null,null,null,null,null,null,null,null,null,null,null,null,null,null,null,null,null,null,null,null,null,null,{"$f":"BF500","v":"Q4.5"},"Q4.5TRUE",true,"Není třeba okamžitě měnit strategii, vždy se však snažte zlepšit."]
[null,null,null,null,null,null,{"$f":"B487","v":"Q4.6"},{"$f":"'Kapitola 4'!K45","v":false},null,null,null,false,null,null,null,false,null,null,null,null,null,null,null,null,null,null,null,null,null,null,null,null,null,null,null,null,null,null,null,null,null,null,null,null,null,null,null,null,null,null,null,null,null,null,null,null,null,{"$f":"G502","v":"Q4.6"},"Q4.6FALSE",false,"Stanovte minimální požadavky týkající se HSE&S ve specifikacích pro poskytovatele logistiky pro organizaci."]
[null,null,null,null,null,null,null,{"$f":"'Kapitola 4'!K46","v":false},null,null,null,false,null,null,null,false,null,null,null,null,null,null,null,null,null,null,null,null,null,null,null,null,null,null,null,null,null,null,null,null,null,null,null,null,null,null,null,null,null,null,null,null,null,null,null,null,null,{"$f":"BF502","v":"Q4.6"},"Q4.6FALSE",false,"Definujte proces hodnocení svých logistických partnerů ohledně jejich souladu s požadavky organizace."]
[null,null,null,null,null,null,null,{"$f":"'Kapitola 4'!K47","v":true},null,null,null,true,null,null,null,true,null,null,null,null,null,null,null,null,null,null,null,null,null,null,null,null,null,null,null,null,null,null,null,null,null,null,null,null,null,null,null,null,null,null,null,null,null,null,null,null,null,{"$f":"BF503","v":"Q4.6"},"Q4.6TRUE",true,"Pravidelně kontrolujte logistické partnery organizace, zda jsou v souladu s požadavky organizace (včetně energetické účinnosti a emisí skleníkových plynů).\nPříkladem schématu, který lze použít (celkem nebo jeho části), je SQAS (https://www.sqas.org/). Společnosti se mohou rozhodnout použít jiné systémy nebo kritéria. Výběr poskytovatele logistiky je založen na individuálním rozhodovacím procesu každé společnosti, který může nebo nemusí zahrnovat SQAS."]
[null,null,null,null,null,null,null,{"$f":"'Kapitola 4'!K48","v":false},null,null,null,false,null,null,null,false,null,null,null,null,null,null,null,null,null,null,null,null,null,null,null,null,null,null,null,null,null,null,null,null,null,null,null,null,null,null,null,null,null,null,null,null,null,null,null,null,null,{"$f":"BF504","v":"Q4.6"},"Q4.6FALSE",false,"Není třeba okamžitě měnit strategii, vždy se však snažte o zlepšení."]
[null,null,null,null,null,null,{"$f":"B488","v":"Q4.7"},{"$f":"'Kapitola 4'!K53","v":true},false,null,null,null,null,null,null,null,null,null,{"$f":"G494","v":"Q4.4"},{"$f":"IF(I494=\"\",$H494,I494)","v":false},false,false,false,false,false,false,false,false,false,null,null,null,null,null,null,null,null,null,null,null,null,null,null,null,null,null,null,null,null,null,null,null,null,null,null,null,null,{"$f":"G506","v":"Q4.7"},"Q4.7TRUE",true,"Zajistěte, aby v případě ztráty nebo poškození majetku nebo dat následného uživatele nebo externího poskytovatele organizace ohlásila následnému uživateli nebo externímu poskytovateli turo skutečnost a uchovala zdokumentované informace o tom, co se stalo."]
[null,null,null,null,null,null,null,{"$f":"'Kapitola 4'!K54","v":false},false,null,null,null,null,null,null,null,null,null,null,{"$f":"IF(I495=\"\",$H495,I495)","v":true},true,false,true,{"$f":"IF(M495=\"\",$H495,M495)","v":true},{"$f":"IF(N495=\"\",$H495,N495)","v":true},true,true,true,false,null,null,null,null,null,null,null,null,null,null,null,null,null,null,null,null,null,null,null,null,null,null,null,null,null,null,null,null,{"$f":"BF506","v":"Q4.7"},"Q4.7FALSE",false,"Stanovte interní pravidla pro správu dat a majetku zajišťující jejich soukromí (např. Neuchovávání déle, než je potřeba)."]
[null,null,null,null,null,null,null,{"$f":"'Kapitola 4'!K55","v":false},true,null,null,null,null,null,null,null,null,null,null,false,false,false,false,{"$f":"IF(M496=\"\",$H496,M496)","v":false},false,false,false,false,false,null,null,null,null,null,null,null,null,null,null,null,null,null,null,null,null,null,null,null,null,null,null,null,null,null,null,null,null,{"$f":"BF507","v":"Q4.7"},"Q4.7FALSE",false,"Navazujte pravidelný dialog s následnými uživateli organizace a externími poskytovateli, aby je informovali o situaci a postupech používaných k zajištění nejlepší ochrany jejich údajů a majetku."]
[null,null,null,null,null,null,null,{"$f":"'Kapitola 4'!K56","v":false},false,null,null,null,null,null,null,null,null,null,null,false,false,true,false,{"$f":"IF(M497=\"\",$H497,M497)","v":false},false,false,false,false,false,null,null,null,null,null,null,null,null,null,null,null,null,null,null,null,null,null,null,null,null,null,null,null,null,null,null,null,null,{"$f":"BF508","v":"Q4.7"},"Q4.7FALSE",false,"Není třeba okamžitě měnit strategii, ale vždy hledejte zlepšení."]
[null,null,null,null,null,null,{"$f":"B489","v":"Q4.8"},{"$f":"'Kapitola 4'!K59","v":false},false,null,null,null,null,null,null,null,null,null,null,null,null,null,null,null,null,null,null,null,null,null,null,null,null,null,null,null,null,null,null,null,null,null,null,null,null,null,null,null,null,null,null,null,null,null,null,null,null,{"$f":"G510","v":"Q4.8"},"Q4.8FALSE",false,"Zahrňte do dialogu následného uživatele organizace následující:\n- Poskytování informací vztahujících se k výrobkům a službám;\n- Vyřizování dotazů, smluv nebo objednávek, včetně změn."]
[null,null,null,null,null,null,null,{"$f":"'Kapitola 4'!K60","v":false},false,null,null,null,null,null,null,null,null,null,null,null,null,null,null,null,null,null,null,null,null,null,null,null,null,null,null,null,null,null,null,null,null,null,null,null,null,null,null,null,null,null,null,null,null,null,null,null,null,{"$f":"BF510","v":"Q4.8"},"Q4.8FALSE",false,"Zahrňte do dialogu následného uživatele organizace následující:\n- Získání zpětné vazby od zákazníků týkající se produktů a služeb, včetně stížností následných uživatelů."]
[null,null,null,null,null,null,null,{"$f":"'Kapitola 4'!K61","v":false},false,null,null,null,null,null,null,null,null,null,{"$f":"G498","v":"Q4.5"},{"$f":"IF(I498=\"\",$H498,I498)","v":false},false,false,false,false,false,false,false,false,false,null,null,null,null,null,null,null,null,null,null,null,null,null,null,null,null,null,null,null,null,null,null,null,null,null,null,null,null,{"$f":"BF511","v":"Q4.8"},"Q4.8FALSE",false,"Zahrnout do dialogu následného uživatele organizace následující:\n- manipulace nebo kontrola majetku následného uživatele;\n- Stanovení zvláštních požadavků na pohotovostní opatření, je-li to relevantní."]
[null,null,null,null,null,null,null,{"$f":"'Kapitola 4'!K62","v":true},true,null,null,null,null,null,null,null,null,null,null,{"$f":"IF(I499=\"\",$H499,I499)","v":false},false,false,false,{"$f":"IF(M499=\"\",$H499,M499)","v":false},{"$f":"IF(N499=\"\",$H499,N499)","v":false},false,false,false,false,null,null,null,null,null,null,null,null,null,null,null,null,null,null,null,null,null,null,null,null,null,null,null,null,null,null,null,null,{"$f":"BF512","v":"Q4.8"},"Q4.8TRUE",true,"Není třeba okamžitě měnit strategii, ale vždy hledejte zlepšení."]
[null,null,null,null,null,null,null,null,null,null,null,null,null,null,null,null,null,null,null,false,false,false,false,{"$f":"IF(M500=\"\",$H500,M500)","v":false},false,false,false,false,false]
[null,null,null,null,null,null,null,null,null,null,null,null,null,null,null,null,null,null,null,true,true,true,true,{"$f":"IF(M501=\"\",$H501,M501)","v":true},true,true,true,true,false]
[]
[]
[]
[]
[null,null,null,null,null,null,null,null,null,null,null,null,null,null,null,null,null,null,{"$f":"G502","v":"Q4.6"},{"$f":"IF(I502=\"\",$H502,I502)","v":false},false,false,false,false,false,false,false,false,false]
[null,null,null,null,null,null,null,null,null,null,null,null,null,null,null,null,null,null,null,{"$f":"IF(I503=\"\",$H503,I503)","v":false},false,false,false,{"$f":"IF(M503=\"\",$H503,M503)","v":false},{"$f":"IF(N503=\"\",$H503,N503)","v":false},false,false,false,false]
[null,null,null,null,null,null,null,null,null,null,null,null,null,null,null,null,null,null,null,true,true,true,true,{"$f":"IF(M504=\"\",$H504,M504)","v":true},true,true,true,true,false]
[null,null,null,null,null,null,null,null,null,null,null,null,null,null,null,null,null,null,null,false,false,false,false,{"$f":"IF(M505=\"\",$H505,M505)","v":false},false,false,false,false,false]
[]
[]
[]
[]
[null,null,null,null,null,null,null,null,null,null,null,null,null,null,null,null,null,null,{"$f":"G506","v":"Q4.7"},{"$f":"IF(I506=\"\",$H506,I506)","v":false},true,true,true,true,true,true,true,true,false]
[null,null,null,null,null,null,null,null,null,null,null,null,null,null,null,null,null,null,null,{"$f":"IF(I507=\"\",$H507,I507)","v":false},false,false,false,{"$f":"IF(M507=\"\",$H507,M507)","v":false},{"$f":"IF(N507=\"\",$H507,N507)","v":false},false,false,false,false]
[null,null,null,null,null,null,null,null,null,null,null,null,null,null,null,null,null,null,null,true,false,false,false,{"$f":"IF(M508=\"\",$H508,M508)","v":false},false,false,false,false,false]
[null,null,null,null,null,null,null,null,null,null,null,null,null,null,null,null,null,null,null,false,false,false,false,{"$f":"IF(M509=\"\",$H509,M509)","v":false},false,false,false,false,false]
[]
[]
[null,null,null,null,null,null,null,null,null,null,null,null,null,null,null,null,null,null,{"$f":"G510","v":"Q4.8"},{"$f":"IF(I510=\"\",$H510,I510)","v":false},false,false,false,false,false,false,false,false,false]
[null,null,null,null,null,null,null,null,null,null,null,null,null,null,null,null,null,null,null,{"$f":"IF(I511=\"\",$H511,I511)","v":false},false,false,false,{"$f":"IF(M511=\"\",$H511,M511)","v":false},{"$f":"IF(N511=\"\",$H511,N511)","v":false},false,false,false,false]
[null,null,null,null,null,null,null,null,null,null,null,null,null,null,null,null,null,null,null,false,false,false,false,{"$f":"IF(M512=\"\",$H512,M512)","v":false},false,false,false,false,false]
[null,null,null,null,null,null,null,null,null,null,null,null,null,null,null,null,null,null,null,true,true,true,true,{"$f":"IF(M513=\"\",$H513,M513)","v":true},true,true,true,true,false]
[]
["chapter 5"]
[]
[null,null,null,null,null,null,null,null,"scores in case of compliance",null,null,null,null,null,null,null,null,null,null,"to copy",null,null,null,null,null,null,null,null,null,null,null,null,"equal weights (adaptable)",null,null,null,"MCA"]
[null,"scores",null,null,null,"prefill",null,"answered","ISO9001","ISO14001","ISO26000","ISO45001","ISO50001","EMAS","RC14001","RCMS","GHS",null,null,{"$f":"I542","v":"ISO9001"},"ISO14001","ISO26000","ISO45001","ISO50001","EMAS","RC14001","RCMS","GHS","clear",null,"weights",null,{"$f":"IF(SUM(AG544:AG556)=100,\"ok\",\"error\")","v":"ok"},{"$f":"IF(SUM(AH544:AH556)/COUNT(AG544:AG556)=100,\"ok\",\"error\")","v":"ok"},null,null,"subscores","score",null,null,"identification of major issues",null,null,null,null,null,"scores for standards",null,null,null,null,null,null,null,null,null,null,"improvement tips"]
[null,null,null,null,null,null,null,null,null,null,null,null,null,null,null,null,null,null,null,null,null,null,null,null,null,null,null,null,null,null,null,null,null,null,null,null,null,{"$f":"(AK544*AG544+AK546*AG546+AK549*AG549)/100","v":2.8333333333333339},null,null,null,null,null,null,null,null,null,{"$f":"I542","v":"ISO9001"},"ISO14001","ISO26000","ISO45001","ISO50001","EMAS","RC14001","RCMS","GHS"]
[null,{"$f":"'Kapitola 5'!C6","v":"Q5.1"},{"$f":"IF('Kapitola 5'!K7,1,IF('Kapitola 5'!K8,2,IF('Kapitola 5'!K9,3,IF('Kapitola 5'!K10,4,\"\"))))","v":3},"formula 4 choices",null,null,{"$f":"B544","v":"Q5.1"},{"$f":"'Kapitola 5'!K7","v":false},false,false,false,false,false,false,false,false,null,null,{"$f":"G544","v":"Q5.1"},{"$f":"IF(I544=\"\",$H544,I544)","v":false},false,false,false,false,false,false,false,false,false,null,{"$f":"'Kapitola 5'!B4","v":"Hodnocení zúčastněných stran"},null,{"$f":"33+1/3","v":33.333333333333336},null,null,null,{"$f":"(C544*AH545)/100","v":3},null,null,null,{"$f":"B544","v":"Q5.1"},1,{"$f":"IF(C544<AP544,\"major issue\",\"ok\")","v":"ok"},{"$f":"IF(AQ544<>\"ok\",1,0)","v":0},null,null,{"$f":"AO544","v":"Q5.1"},{"$f":"IF(I544,1,IF(I545,2,IF(I546,3,IF(I547,4,\"-\"))))","v":3},3,4,3,3,3,3,4,"-",null,{"$f":"G544","v":"Q5.1"},{"$f":"CONCATENATE(BF544,BH544)","v":"Q5.1FALSE"},{"$f":"H544","v":false},"Organizaci se doporučuje, aby identifikovala zúčastněné strany jako skupiny složek, které mají zájem na jejích provozech, produktech nebo jiných činnostech. Mezi vaše zúčastněné strany mohou patřit zaměstnanci, sousedé, komunity, zákazníci, dodavatelé, akcionáři, místní správa, pohotovostní pracovníci, nevládní organizace, média, konkurenti, skupiny obhajující spotřebitele a zájmové skupiny, ... jak je identifikováno organizací. Vaše organizace může chtít zvážit zachování obecného seznamu svých zúčastněných stran a způsobu, jak jim sdělit zásady a další informace.\nMnoho organizací vytváří „matici zúčastněných stran“, která jednoduše uvádí každou identifikovanou zúčastněnou stranu spolu s názvem osoby, která je primárně pověřena vztahem s touto zúčastněnou stranou.\nDoporučuje se pravidelně přezkoumávat seznam zúčastněných stran organizace, aby bylo zajištěno, že je aktuální a relevantní pro jeho provoz, produkty a dopady na společnost a životní prostředí."]
[null,{"$f":"'Kapitola 5'!C14","v":"Q5.2"},{"$f":"IF('Kapitola 5'!K15,1,IF('Kapitola 5'!K16,2,IF('Kapitola 5'!K17,3,IF('Kapitola 5'!K18,4,\"\"))))","v":4},"formula 4 choices",null,null,null,{"$f":"'Kapitola 5'!K8","v":false},false,false,false,false,false,false,false,false,null,null,null,{"$f":"IF(I545=\"\",$H545,I545)","v":false},false,false,false,{"$f":"IF(M545=\"\",$H545,M545)","v":false},{"$f":"IF(N545=\"\",$H545,N545)","v":false},false,false,false,false,null,null,{"$f":"B544","v":"Q5.1"},null,100,null,null,null,null,null,null,{"$f":"B545","v":"Q5.2"},1,{"$f":"IF(C545<AP545,\"major issue\",\"ok\")","v":"ok"},{"$f":"IF(AQ545<>\"ok\",1,0)","v":0},null,null,{"$f":"AO545","v":"Q5.2"},{"$f":"IF(I548,1,IF(I549,2,IF(I550,3,IF(I551,4,\"-\"))))","v":"-"},"-",4,"-","-",3,"-",4,"-",null,{"$f":"BF544","v":"Q5.1"},"Q5.1FALSE",false,"Organizace může zmapovat své zúčastněné strany a klasifikovat je podle jejich pravomoci nad vaší prací a jejich zájmu o ni, v mřížce pravomocí/zájmu pro stanovení priorit zúčastněných stran.\nPosouzení potřeb a očekávání zúčastněných stran vyžaduje aktivní přezkum obav zúčastněných stran a pozitivní zpětnou vazbu týkající se organizace a tuto zpětnou vazbu zohlednit při stanovování cílů."]
[null,{"$f":"'Kapitola 5'!C20","v":"Q5.3"},{"$f":"IF('Kapitola 5'!K21,1,IF('Kapitola 5'!K22,2,IF('Kapitola 5'!K23,3,IF('Kapitola 5'!K24,4,\"\"))))","v":2},"formula 4 choices",null,null,null,{"$f":"'Kapitola 5'!K9","v":true},true,true,false,true,true,true,true,false,null,null,null,true,true,false,true,{"$f":"IF(M546=\"\",$H546,M546)","v":true},true,true,false,true,false,null,{"$f":"'Kapitola 5'!B12","v":"Externí dialog a transparentnost"},null,{"$f":"33+1/3","v":33.333333333333336},null,null,null,{"$f":"((C545*AH547)+(C546*AH548))/100","v":3},null,null,null,{"$f":"B546","v":"Q5.3"},1,{"$f":"IF(C546<AP546,\"major issue\",\"ok\")","v":"ok"},0,null,null,"Q5.3",{"$f":"IF(I552,1,IF(I553,2,IF(I554,3,IF(I555,4,\"-\"))))","v":"-"},"-","-","-","-",3,"-","-","-",null,{"$f":"BF545","v":"Q5.1"},"Q5.1TRUE",true,"Získejte představu o tom, co motivuje vaše zúčastněné strany a jak je musíte získat.\nPotřeby a očekávání zúčastněných stran mohou být pozitivní i negativní. Pokud mají zúčastněné strany pozitivní potřeby a očekávání ohledně organizace a jejích činností, zvažte, jak mohou tyto informace posílit programy v rámci jejich obchodní strategie. Klíčem je to, že organizace musí prokázat aktivní dialogové systémy k získání zpětné vazby od zúčastněných stran.\nPoužíváte-li průzkumy ke shromažďování zpětné vazby, nastavte cíl pro „přijatelný počet odpovědí“ před odesláním průzkumů. Pokud je míra návratnosti pod vaším cílem, určete tuto oblast pro zlepšení a vytvořte plán nápravných opatření. To se stává součástí neustálého zlepšování organizace."]
[null,{"$f":"'Kapitola 5'!C28","v":"Q5.4"},{"$f":"IF('Kapitola 5'!K29,1,IF('Kapitola 5'!K30,2,IF('Kapitola 5'!K31,3,IF('Kapitola 5'!K32,4,\"\"))))","v":2},"formula 4 choices",null,null,null,{"$f":"'Kapitola 5'!K10","v":false},false,false,true,false,false,false,false,true,null,null,null,false,false,true,false,{"$f":"IF(M547=\"\",$H547,M547)","v":false},false,false,true,false,false,null,null,{"$f":"B545","v":"Q5.2"},null,50,null,null,null,null,null,null,{"$f":"B547","v":"Q5.4"},1,{"$f":"IF(C547<AP547,\"major issue\",\"ok\")","v":"ok"},0,null,null,"Q5.4",{"$f":"IF(I556,1,IF(I557,2,IF(I558,3,IF(I559,4,\"-\"))))","v":"-"},"-","-","-","-","-","-","-","-",null,{"$f":"BF546","v":"Q5.1"},"Q5.1FALSE",false,"Není třeba okamžitě měnit strategii, nicméně vždy hledejte zlepšení."]
[null,{"$f":"'Kapitola 5'!C34","v":"Q5.5"},{"$f":"IF('Kapitola 5'!K35,1,IF('Kapitola 5'!K36,2,IF('Kapitola 5'!K37,3,IF('Kapitola 5'!K38,4,\"\"))))","v":3},"formula 4 choices",null,null,{"$f":"B545","v":"Q5.2"},{"$f":"'Kapitola 5'!K15","v":false},null,null,false,null,null,false,null,false,null,null,null,null,null,null,null,null,null,null,null,null,null,null,null,{"$f":"B546","v":"Q5.3"},null,50,null,null,null,null,null,null,{"$f":"B548","v":"Q5.5"},1,{"$f":"IF(C548<AP548,\"major issue\",\"ok\")","v":"ok"},0,null,null,"Q5.5",{"$f":"IF(I560,1,IF(I561,2,IF(I562,3,IF(I563,4,\"-\"))))","v":"-"},"-","-","-","-","-","-","-","-",null,{"$f":"G548","v":"Q5.2"},"Q5.2FALSE",false,"V rámci výměny se zúčastněnými stranami se doporučuje, aby organizace zahájila dialog se svými zúčastněnými stranami, aby vyjádřila zájem, zapojení a případnou účast příslušných subjektů v odpovídající oblasti činnosti organizace. To organizaci umožňuje prozkoumat možnosti provádění jejích činností a dále je rozvíjet na základě zpětné vazby od zúčastněných stran."]
[null,null,null,null,null,null,null,{"$f":"'Kapitola 5'!K16","v":false},null,null,false,null,null,false,null,false,null,null,null,null,null,null,null,null,null,null,null,null,null,null,{"$f":"'Kapitola 5'!B26","v":" Místní komunity"},null,{"$f":"33+1/3","v":33.333333333333336},null,null,null,{"$f":"((C547*AH550)+(C548*AH551))/100","v":2.5},null,null,null,null,null,null,null,null,null,null,null,null,null,null,null,null,null,null,null,null,{"$f":"BF548","v":"Q5.2"},"Q5.2FALSE",false,"Dalším krokem je definování určitých relevantních kanálů pro dialog s klíčovými zúčastněnými stranami vaší společnosti.\nToho lze dosáhnout prostřednictvím informačního bulletinu, souhrnné zprávy ze schůzek zúčastněných stran nebo pravidelných zpráv o pokroku. Ústředním zájmem je dodržování dohodnutých forem komunikace. Mějte na paměti, že dialogy se zúčastněnými stranami jsou křehké systémy a jako stabilizační faktor může fungovat transparentní a spolehlivá komunikace."]
[null,null,null,null,null,null,null,{"$f":"'Kapitola 5'!K17","v":false},null,null,false,null,null,true,null,false,null,null,null,null,null,null,null,null,null,null,null,null,null,null,null,{"$f":"B547","v":"Q5.4"},null,50,null,null,null,null,null,null,null,null,null,{"$f":"IF(SUM(AR544:AR548)>0,\"Klíčové prvky RC je třeba ještě implementovat, viz tipy\",\"\")","v":""},null,null,null,null,null,null,null,null,null,null,null,null,null,{"$f":"BF549","v":"Q5.2"},"Q5.2FALSE",false,"Pravidelně konzultujte tyto kanály.\nLidé zapojení do dialogu se zúčastněnými stranami se musí dohodnout na systémech, kterým všechny zúčastněné strany rozumějí a které mohou sledovat. Je-li to nutné, musí být tyto systémy přizpůsobeny požadavkům dialogu se zúčastněnými stranami, protože skupiny zúčastněných stran mají často velmi odlišné chápání systémů zpětné vazby. Může být užitečné koordinovat kritéria zpětné vazby se všemi zúčastněnými stranami.\nHledejte možnosti, jak přímo zapojit zúčastněné strany vaší organizace do aktivit prostřednictvím rozvoje společných projektů nebo partnerství."]
[null,null,null,null,null,null,null,{"$f":"'Kapitola 5'!K18","v":true},null,null,true,null,null,false,null,true,null,null,null,null,null,null,null,null,null,null,null,null,null,null,null,{"$f":"B548","v":"Q5.5"},null,50,null,null,null,null,null,null,null,null,null,null,null,null,null,null,null,null,null,null,null,null,null,null,null,{"$f":"BF550","v":"Q5.2"},"Q5.2TRUE",true,"Není třeba okamžitě měnit strategii, ale vždy hledejte zlepšení."]
[null,null,null,null,null,null,{"$f":"B546","v":"Q5.3"},{"$f":"'Kapitola 5'!K21","v":false},null,null,null,null,null,false,null,null,null,null,{"$f":"G548","v":"Q5.2"},{"$f":"IF(I548=\"\",$H548,I548)","v":false},false,false,false,false,false,false,false,false,false,null,null,null,null,null,null,null,null,null,null,null,null,null,null,null,null,null,null,null,null,null,null,null,null,null,null,null,null,{"$f":"G552","v":"Q5.3"},"Q5.3FALSE",false,"Zveřejněte výsledky hodnocení výkonu prostřednictvím kanálu organizace."]
[null,null,null,null,null,null,null,{"$f":"'Kapitola 5'!K22","v":true},null,null,null,null,null,false,null,null,null,null,null,{"$f":"IF(I549=\"\",$H549,I549)","v":false},false,false,false,{"$f":"IF(M549=\"\",$H549,M549)","v":false},{"$f":"IF(N549=\"\",$H549,N549)","v":false},false,false,false,false,null,null,null,null,null,null,null,null,null,null,null,null,null,null,null,null,null,null,null,null,null,null,null,null,null,null,null,null,{"$f":"BF552","v":"Q5.3"},"Q5.3TRUE",true,"Požádat třetí stranu, aby každoročně přezkoumala výsledky hodnocení výkonnosti organizace před zveřejněním."]
[null,null,null,null,null,null,null,{"$f":"'Kapitola 5'!K23","v":false},null,null,null,null,null,true,null,null,null,null,null,false,false,false,false,{"$f":"IF(M550=\"\",$H550,M550)","v":false},true,false,false,false,false,null,null,null,null,null,null,null,null,null,null,null,null,null,null,null,null,null,null,null,null,null,null,null,null,null,null,null,null,{"$f":"BF553","v":"Q5.3"},"Q5.3FALSE",false,"Buďte aktivní ve sdílení výsledků hodnocení organizace s příslušnými zúčastněnými stranami."]
[null,null,null,null,null,null,null,{"$f":"'Kapitola 5'!K24","v":false},null,null,null,null,null,false,null,null,null,null,null,true,true,true,true,{"$f":"IF(M551=\"\",$H551,M551)","v":true},false,true,true,true,false,null,null,null,null,null,null,null,null,null,null,null,null,null,null,null,null,null,null,null,null,null,null,null,null,null,null,null,null,{"$f":"BF554","v":"Q5.3"},"Q5.3FALSE",false,"Není třeba okamžitě měnit strategii, ale vždy hledejte zlepšení."]
[null,null,null,null,null,null,{"$f":"B547","v":"Q5.4"},{"$f":"'Kapitola 5'!K29","v":false},null,null,null,null,null,null,null,null,null,null,null,null,null,null,null,null,null,null,null,null,null,null,null,null,null,null,null,null,null,null,null,null,null,null,null,null,null,null,null,null,null,null,null,null,null,null,null,null,null,{"$f":"G556","v":"Q5.4"},"Q5.4FALSE",false,"Identifikovat požadavky místních komunit a reagovat na ně. Začněte dialog s místními zástupci, pokud jde o blaho sousedů."]
[null,null,null,null,null,null,null,{"$f":"'Kapitola 5'!K30","v":true},null,null,null,null,null,null,null,null,null,null,null,null,null,null,null,null,null,null,null,null,null,null,null,null,null,null,null,null,null,null,null,null,null,null,null,null,null,null,null,null,null,null,null,null,null,null,null,null,null,{"$f":"BF556","v":"Q5.4"},"Q5.4TRUE",true,"Identifikovat místní projekty a akce (odpovídající klíčovým hodnotám vaší společnosti) a přispět k místnímu rozvoji. Příkladem projektů může být událost výsadby stromů s kolegy, která pomůže místní přírodní organizaci, sdílí znalosti nebo poznatky vaší organizace ve třídách na místních vzdělávacích institucích ..."]
[null,null,null,null,null,null,null,{"$f":"'Kapitola 5'!K31","v":false},null,null,null,null,null,null,null,null,null,null,{"$f":"G552","v":"Q5.3"},{"$f":"IF(I552=\"\",$H552,I552)","v":false},false,false,false,false,false,false,false,false,false,null,null,null,null,null,null,null,null,null,null,null,null,null,null,null,null,null,null,null,null,null,null,null,null,null,null,null,null,{"$f":"BF557","v":"Q5.4"},"Q5.4FALSE",false,"Přispívat místní komunitě prostřednictvím účasti v různých skupinách, komunikačních prostředcích, organizacích společností a zástupcích zaměstnanců, ekologických skupinách, profesionálech, sousedních společnostech, sousedských asociacích atd. Interagovat a předvídat rozpočet na rozvoj společných projektů, akcí nebo partnerství podle požadavků komunity."]
[null,null,null,null,null,null,null,{"$f":"'Kapitola 5'!K32","v":false},null,null,null,null,null,null,null,null,null,null,null,{"$f":"IF(I553=\"\",$H553,I553)","v":true},true,true,true,{"$f":"IF(M553=\"\",$H553,M553)","v":true},{"$f":"IF(N553=\"\",$H553,N553)","v":false},true,true,true,false,null,null,null,null,null,null,null,null,null,null,null,null,null,null,null,null,null,null,null,null,null,null,null,null,null,null,null,null,{"$f":"BF558","v":"Q5.4"},"Q5.4FALSE",false,"Není třeba okamžitě měnit strategii, ale vždy hledejte zlepšení."]
[null,null,null,null,null,null,{"$f":"B548","v":"Q5.5"},{"$f":"'Kapitola 4'!K37","v":false},null,null,null,null,null,null,null,null,null,null,null,false,false,false,false,{"$f":"IF(M554=\"\",$H554,M554)","v":false},true,false,false,false,false,null,null,null,null,null,null,null,null,null,null,null,null,null,null,null,null,null,null,null,null,null,null,null,null,null,null,null,null,{"$f":"G560","v":"Q5.5"},"Q5.5FALSE",false,"Reaguje na specifické požadavky místních škol a organizace práce. Navázat dialog s místními zástupci."]
[null,null,null,null,null,null,null,{"$f":"'Kapitola 4'!K38","v":false},null,null,null,null,null,null,null,null,null,null,null,false,false,false,false,{"$f":"IF(M555=\"\",$H555,M555)","v":false},false,false,false,false,false,null,null,null,null,null,null,null,null,null,null,null,null,null,null,null,null,null,null,null,null,null,null,null,null,null,null,null,null,{"$f":"BF560","v":"Q5.5"},"Q5.5FALSE",false,"Přispívat k místní zaměstnanosti a podporovat místní školy: během náboru, přijímáním stážistů z místních škol, účastí na školních aktivitách…"]
[null,null,null,null,null,null,null,{"$f":"'Kapitola 4'!K39","v":false},null,null,null,null,null,null,null,null,null,null,null,null,null,null,null,null,null,null,null,null,null,null,null,null,null,null,null,null,null,null,null,null,null,null,null,null,null,null,null,null,null,null,null,null,null,null,null,null,null,{"$f":"BF561","v":"Q5.5"},"Q5.5FALSE",false,"Navazování partnerství s místními organizacemi zaměstnávání a vzdělávacími programy s místními školami a vědeckou komunitou (např. Spolupráce s univerzitami, stipendia, výzkum atd.)…"]
[null,null,null,null,null,null,null,{"$f":"'Kapitola 4'!K40","v":true},null,null,null,null,null,null,null,null,null,null,null,null,null,null,null,null,null,null,null,null,null,null,null,null,null,null,null,null,null,null,null,null,null,null,null,null,null,null,null,null,null,null,null,null,null,null,null,null,null,{"$f":"BF562","v":"Q5.5"},"Q5.5TRUE",true,"Není třeba okamžitě měnit strategii, ale vždy hledejte zlepšení."]
[]
[]
[null,null,null,null,null,null,null,null,null,null,null,null,null,null,null,null,null,null,{"$f":"G556","v":"Q5.4"},{"$f":"IF(I556=\"\",$H556,I556)","v":false},false,false,false,false,false,false,false,false,false]
[null,null,null,null,null,null,null,null,null,null,null,null,null,null,null,null,null,null,null,{"$f":"IF(I557=\"\",$H557,I557)","v":true},true,true,true,{"$f":"IF(M557=\"\",$H557,M557)","v":true},{"$f":"IF(N557=\"\",$H557,N557)","v":true},true,true,true,false]
[null,null,null,null,null,null,null,null,null,null,null,null,null,null,null,null,null,null,null,false,false,false,false,{"$f":"IF(M558=\"\",$H558,M558)","v":false},false,false,false,false,false]
[null,null,null,null,null,null,null,null,null,null,null,null,null,null,null,null,null,null,null,false,false,false,false,{"$f":"IF(M559=\"\",$H559,M559)","v":false},false,false,false,false,false]
[]
[]
[null,null,null,null,null,null,null,null,null,null,null,null,null,null,null,null,null,null,{"$f":"G560","v":"Q5.5"},{"$f":"IF(I560=\"\",$H560,I560)","v":false},false,false,false,false,false,false,false,false,false]
[null,null,null,null,null,null,null,null,null,null,null,null,null,null,null,null,null,null,null,{"$f":"IF(I561=\"\",$H561,I561)","v":false},false,false,false,{"$f":"IF(M561=\"\",$H561,M561)","v":false},{"$f":"IF(N561=\"\",$H561,N561)","v":false},false,false,false,false]
[null,null,null,null,null,null,null,null,null,null,null,null,null,null,null,null,null,null,null,false,false,false,false,{"$f":"IF(M562=\"\",$H562,M562)","v":false},false,false,false,false,false]
[null,null,null,null,null,null,null,null,null,null,null,null,null,null,null,null,null,null,null,true,true,true,true,{"$f":"IF(M563=\"\",$H563,M563)","v":true},true,true,true,true,false]
[]
[]
["chapter 6"]
[]
[]
[null,null,null,null,null,null,null,null,"scores in case of compliance",null,null,null,null,null,null,null,null,null,null,"to copy",null,null,null,null,null,null,null,null,null,null,null,null,"equal weights per question (adaptable)",null,null,null,"MCA"]
[null,"scores",null,null,null,"prefill",null,"answered","ISO9001","ISO14001","ISO26000","ISO45001","ISO50001","EMAS","RC14001","RCMS","GHS",null,null,{"$f":"I582","v":"ISO9001"},"ISO14001","ISO26000","ISO45001","ISO50001","EMAS","RC14001","RCMS","GHS","clear",null,"weights",null,{"$f":"IF(SUM(AG584:AG609)=100,\"ok\",\"error\")","v":"ok"},{"$f":"IF(SUM(AH584:AH609)/COUNT(AG584:AG609)=100,\"ok\",\"error\")","v":"ok"},null,null,"subscores","score",null,null,"identification of major issues",null,null,null,null,null,"scores for standards",null,null,null,null,null,null,null,null,null,null,"improvement tips"]
[null,null,null,null,null,null,null,null,null,null,null,null,null,null,null,null,null,null,null,null,null,null,null,null,null,null,null,null,null,null,null,null,null,null,null,null,null,{"$f":"(AK584*AG584+AK586*AG586+AK588*AG588+AK590*AG590+AK592*AG592+AG598*AK598+AG600*AK600+AG603*AK603+AG608*AK608)/100","v":2.1764705882352944},null,null,null,null,null,null,null,null,null,{"$f":"I582","v":"ISO9001"},"ISO14001","ISO26000","ISO45001","ISO50001","EMAS","RC14001","RCMS","GHS"]
[null,{"$f":"'Kapitola 6'!C6","v":"Q6.1"},{"$f":"IF('Kapitola 6'!K7,1,IF('Kapitola 6'!K8,2,IF('Kapitola 6'!K11,3,IF('Kapitola 6'!K12,4,\"\"))))","v":2},"formula 4 choices",null,null,{"$f":"B584","v":"Q6.1"},{"$f":"'Kapitola 6'!K7","v":false},null,null,false,null,null,null,null,null,null,null,{"$f":"G584","v":"Q6.1"},{"$f":"IF(I584=\"\",$H584,I584)","v":false},false,false,false,false,false,false,false,false,false,null,{"$f":"'Kapitola 6'!B4","v":"Hodnocení závažnosti"},null,{"$f":"1/17*100","v":5.8823529411764701},null,null,null,{"$f":"C584","v":2},null,null,null,{"$f":"B584","v":"Q6.1"},1,{"$f":"IF(C584<AP584,\"major issue\",\"ok\")","v":"ok"},{"$f":"IF(AQ584<>\"ok\",1,0)","v":0},null,null,{"$f":"AO584","v":"Q6.1"},{"$f":"IF(I584,1,IF(I585,2,IF(I586,3,IF(I587,4,\"-\"))))","v":"-"},"-",3,"-","-","-","-","-","-",null,{"$f":"G584","v":"Q6.1"},{"$f":"CONCATENATE(BF584,BH584)","v":"Q6.1FALSE"},{"$f":"H584","v":false},"Zahájte proces významnosti vytvořením seznamu příslušných skupin zúčastněných stran a poté identifikujte klíčové kontakty v rámci každého, kdo může poskytnout smysluplný pohled na strategii udržitelnosti vaší společnosti. Vezměte v úvahu interní (tj. Výkonné vedení, ředitele, regionální manažery, zaměstnance) a externí kontakty (tj. Obchodní asociace, klíčoví zákazníci, nevládní organizace), abyste mohli hodnotit širokou škálu perspektiv v celém hodnotovém řetězci.",null,null,"at Q6.1 answer 2"]
[null,{"$f":"'Kapitola 6'!C16","v":"Q6.2"},{"$f":"IF('Kapitola 6'!K17,1,IF('Kapitola 6'!K18,2,IF('Kapitola 6'!K19,3,IF('Kapitola 6'!K20,4,\"\"))))","v":2},"formula 4 choices",null,null,null,{"$f":"'Kapitola 6'!K8","v":true},null,null,false,null,null,null,null,null,null,null,null,{"$f":"IF(I585=\"\",$H585,I585)","v":true},true,false,true,{"$f":"IF(M585=\"\",$H585,M585)","v":true},{"$f":"IF(N585=\"\",$H585,N585)","v":true},true,true,true,false,null,null,{"$f":"B584","v":"Q6.1"},null,100,null,null,null,null,null,null,"Q6.2",1,"ok",{"$f":"IF(AQ585<>\"ok\",1,0)","v":0},null,null,{"$f":"AO585","v":"Q6.2"},{"$f":"IF(I588,1,IF(I589,2,IF(I590,3,IF(I591,4,\"-\"))))","v":"-"},"-","-","-","-","-","-","-","-",null,{"$f":"BF584","v":"Q6.1"},"Q6.1TRUE",true,"Jakmile se identifikujete a zapojíte se zúčastněnými stranami, určete, jaké ukazatele udržitelnosti (společenské, hospodářské a environmentální) je třeba měřit, abyste skutečně získali potřebné informace a informace; K tomuto účelu můžete použít stávající odvětvové mapy (odkaz na odvětvový plán WBCSD: https://www.wbcsd.org/Programs/People/Sustainable-Development-Goals/SDG-Sector-Roadmaps/Resources/SDG-Sector-Roadmaps),  Charta udržitelnosti (odkaz na Cefic chartu: https://chemistrycan.com/app/uploads/2017/10/Cefic-Sustainability-Charter-signed.pdf)  a zásady (odkaz na zásady ACC: https://www.americanchemistry.com/Sustainability/Principles.html). ",null,null,"https://www.wbcsd.org/Programs/People/Sustainable-Development-Goals/SDG-Sector-Roadmaps/Resources/SDG-Sector-Roadmaps"]
[null,{"$f":"'Kapitola 6'!C24","v":"Q6.3"},{"$f":"IF('Kapitola 6'!K25,1,IF('Kapitola 6'!K26,2,IF('Kapitola 6'!K27,3,IF('Kapitola 6'!K28,4,\"\"))))","v":3},"formula 4 choices",null,null,null,{"$f":"'Kapitola 6'!K11","v":false},null,null,true,null,null,null,null,null,null,null,"link",null,null,null,null,null,null,null,null,null,null,null,{"$f":"'Kapitola 6'!B14","v":"Udržitelný rozvoj"},null,{"$f":"1/17*100","v":5.8823529411764701},null,null,null,{"$f":"C585","v":2},null,null,null,"Q6.3",1,"ok",0,null,null,"Q6.3",{"$f":"IF(I592,1,IF(I593,2,IF(I594,3,IF(I595,4,\"-\"))))","v":"-"},"-",4,"-","-","-","-","-","-",null,{"$f":"BF585","v":"Q6.1"},"Q6.1FALSE",false,"Sdílejte své výsledky a poznatky se svými zúčastněnými stranami (a dále!). Obvykle se to děje ve formální zprávy o udržitelnosti nebo v souhrnu. Materiály lze využít i prostřednictvím jiných kanálů, jako jsou webové stránky společnosti nebo média.\nSdílení výsledků hodnocení významnosti může posloužit jako výchozí bod pro pokračování v konverzaci a udržení zapojení do vašich iniciativ v oblasti udržitelnosti. Přivítejte zpětnou vazbu od všech zúčastněných stran, které si prohlíží vaše výsledky hodnocení významnosti, takže můžete konverzaci udržet i po dokončení hodnocení. Kromě toho začleňte svá zjištění do své celkové strategie udržitelnosti, abyste mohli vytvořit komunikační plány pro každou skupinu a efektivněji vyprávět příběh vaší společnosti o udržitelnosti.",null,null,"https://cefic.org/app/uploads/2019/01/Cefic-Sustainability-Charter-TeamingUp-For-A-SustainableEurope.pdf"]
[null,{"$f":"'Kapitola 6'!C32","v":"Q6.4"},{"$f":"IF('Kapitola 6'!K33,1,IF('Kapitola 6'!K34,2,IF('Kapitola 6'!K35,3,IF('Kapitola 6'!K36,4,\"\"))))","v":2},"formula 4 choices",null,null,null,{"$f":"'Kapitola 6'!K12","v":false},null,null,false,null,null,null,null,null,null,null,"link",null,null,null,null,null,null,null,null,null,null,null,null,{"$f":"B585","v":"Q6.2"},null,100,null,null,null,null,null,null,"Q6.4",1,"ok",0,null,null,"Q6.4",{"$f":"IF(I596,1,IF(I597,2,IF(I598,3,IF(I599,4,\"-\"))))","v":"-"},"-","-","-","-","-","-","-","-",null,{"$f":"BF586","v":"Q6.1"},"Q6.1FALSE",false,"Není třeba okamžitě měnit strategii, vždy se však snažte o zlepšení.",null,null,"https://www.americanchemistry.com/Sustainability/Principles.html"]
[null,{"$f":"'Kapitola 6'!C40","v":"Q6.5"},{"$f":"IF('Kapitola 6'!K41,1,IF('Kapitola 6'!K42,2,IF('Kapitola 6'!K43,3,IF('Kapitola 6'!K44,4,\"\"))))","v":2},"formula 4 choices",null,null,{"$f":"B585","v":"Q6.2"},{"$f":"'Kapitola 6'!K17","v":false},null,null,null,null,null,null,null,null,null,null,null,{"$f":"IF(I586=\"\",$H586,I586)","v":false},false,true,false,false,false,false,false,false,false,null,{"$f":"'Kapitola 6'!B22","v":"Komunikace"},null,{"$f":"1/17*100","v":5.8823529411764701},null,null,null,{"$f":"C586","v":3},null,null,null,"Q6.5",1,"ok",0,null,null,"Q6.5",{"$f":"IF(I600,1,IF(I601,2,IF(I602,3,IF(I603,4,\"-\"))))","v":"-"},"-",1,"-","-","-","-","-","-",null,{"$f":"G588","v":"Q6.2"},"Q6.2FALSE",false,"Mapujte příspěvky organizace na SDG.",null,null,"at Q6.2 answer 2"]
[null,{"$f":"'Kapitola 6'!C46","v":"Q6.6"},{"$f":"IF('Kapitola 6'!K47,1,IF('Kapitola 6'!K48,2,IF('Kapitola 6'!K49,3,IF('Kapitola 6'!K50,4,\"\"))))","v":1},"formula 4 choices",null,null,null,{"$f":"'Kapitola 6'!K18","v":true},null,null,null,null,null,null,null,null,null,null,null,false,false,false,false,false,false,false,false,false,false,null,null,{"$f":"B586","v":"Q6.3"},null,100,null,null,null,null,null,null,"Q6.6",1,"ok",0,null,null,"Q6.6",{"$f":"IF(I604,1,IF(I605,2,IF(I606,3,IF(I607,4,\"-\"))))","v":"-"},"-",3,"-","-","-","-","-","-",null,{"$f":"BF588","v":"Q6.2"},"Q6.2TRUE",true,"Identifikujte příležitosti k dopadu a plánované akce týkající se příspěvku podle plánu pro SDG pro chemický sektor (např. Odvětvový plán WBCSD- https://www.wbcsd.org/Programs/People/Sustainable-Development-Goals/SDG-Sector-Roadmaps/Resources/SDG-Sector-Roadmaps, \ncharty udržitelného rozvoje Cefic: https://chemistrycan.com/app/uploads/2017/10/Cefic-Sustainability-Charter-signed.pdf\na principů ACC: https://www.americanchemistry.com/Sustainability/Principles.html).\n ",null,null,"https://www.wbcsd.org/Programs/People/Sustainable-Development-Goals/SDG-Sector-Roadmaps/Resources/SDG-Sector-Roadmaps"]
[null,{"$f":"'Kapitola 6'!C52","v":"Q6.7"},{"$f":"IF('Kapitola 6'!K53,1,IF('Kapitola 6'!K54,2,IF('Kapitola 6'!K55,3,IF('Kapitola 6'!K56,4,\"\"))))","v":3},"formula 4 choices",null,null,null,{"$f":"'Kapitola 6'!K19","v":false},null,null,null,null,null,null,null,null,null,null,null,null,null,null,null,null,null,null,null,null,null,null,{"$f":"'Kapitola 6'!B30","v":"Udržitelné portfolio"},null,{"$f":"1/17*100","v":5.8823529411764701},null,null,null,{"$f":"C587","v":2},null,null,null,"Q6.7",1,"ok",0,null,null,"Q6.7",{"$f":"IF(I608,1,IF(I609,2,IF(I610,3,IF(I611,4,\"-\"))))","v":"-"},"-","-","-","-","-","-","-","-",null,{"$f":"BF589","v":"Q6.2"},"Q6.2FALSE",false,"Plně integrujte udržitelnost do obchodní strategie vaší organizace",null,null,"https://cefic.org/app/uploads/2019/01/Cefic-Sustainability-Charter-TeamingUp-For-A-SustainableEurope.pdf"]
[null,{"$f":"'Kapitola 6'!C58","v":"Q6.8"},{"$f":"IF('Kapitola 6'!K59,1,IF('Kapitola 6'!K60,2,IF('Kapitola 6'!K61,3,IF('Kapitola 6'!K62,4,\"\"))))","v":3},"formula 4 choices",null,null,null,{"$f":"'Kapitola 6'!K20","v":false},null,null,null,null,null,null,null,null,null,null,null,null,null,null,null,null,null,null,null,null,null,null,null,{"$f":"B587","v":"Q6.4"},null,100,null,null,null,null,null,null,"Q6.8",1,"ok",0,null,null,"Q6.8",{"$f":"IF(I612,1,IF(I613,2,IF(I614,3,IF(I615,4,\"-\"))))","v":"-"},"-","-","-","-","-","-","-","-",null,{"$f":"BF590","v":"Q6.2"},"Q6.2FALSE",false,"Není třeba okamžitě měnit strategii, vždy se však snažte o zlepšení.",null,null,"https://www.americanchemistry.com/Sustainability/Principles.html"]
[null,{"$f":"'Kapitola 6'!C64","v":"Q6.9"},{"$f":"IF('Kapitola 6'!K65,1,IF('Kapitola 6'!K66,2,IF('Kapitola 6'!K67,3,IF('Kapitola 6'!K68,4,\"\"))))","v":1},"formula 4 choices",null,null,{"$f":"B586","v":"Q6.3"},{"$f":"'Kapitola 6'!K25","v":false},null,null,false,null,null,null,null,null,null,null,null,null,null,null,null,null,null,null,null,null,null,null,{"$f":"'Kapitola 6'!B38","v":"Efektivnost zdrojů / oběhové hospodářství\n"},null,{"$f":"5/17*100","v":29.411764705882355},null,null,null,{"$f":"(C588*AH593+C589*AH594+C590*AH595+C591*AH596+C592*AH597)/100","v":2},null,null,null,"Q6.9",1,"ok",0,null,null,"Q6.9",{"$f":"IF(I616,1,IF(I617,2,IF(I618,3,IF(I619,4,\"-\"))))","v":"-"},"-","-","-","-","-","-","-","-",null,{"$f":"G592","v":"Q6.3"},"Q6.3FALSE",false,"Interně se zabývejte tématy udržitelnosti jednoduchým, přímým a přesným způsobem.\nInterní komunikací jasným a konzistentním způsobem se udržitelnost stává zakořeněnou součástí kultury vaší organizace - takovou, na kterou se mohou být vaši zaměstnanci pyšní a která zvyšuje jejich spokojenost."]
[null,{"$f":"'Kapitola 6'!C72","v":"Q6.10"},{"$f":"IF('Kapitola 6'!K73,1,IF('Kapitola 6'!K74,2,IF('Kapitola 6'!K75,3,IF('Kapitola 6'!K76,4,\"\"))))","v":2},"formula 4 choices",null,null,null,{"$f":"'Kapitola 6'!K26","v":false},null,null,false,null,null,null,null,null,null,null,null,null,null,null,null,null,null,null,null,null,null,null,null,{"$f":"B588","v":"Q6.5"},null,20,null,null,null,null,null,null,"Q6.10",1,"ok",0,null,null,"Q6.10",{"$f":"IF(I620,1,IF(I621,2,IF(I622,3,IF(I623,4,\"-\"))))","v":"-"},"-","-","-","-","-","-","-","-",null,{"$f":"BF592","v":"Q6.3"},"Q6.3FALSE",false,"Zapojte externě ad hoc do témata udržitelnosti se zákazníky, pracovními partnery a komunitou.\nExterní komunikací s obchodními partnery, dodavateli a poskytovateli služeb nastavujete očekávání ohledně toho, jak podnikáte. To může také ovlivnit jejich postupy a postupy i v širší komunitě. Komunikováním se zákazníky prokazujete, že sdílíte závazek svých zákazníků vůči našemu prostředí."]
[null,{"$f":"'Kapitola 6'!C80","v":"Q6.11"},{"$f":"IF('Kapitola 6'!K81,1,IF('Kapitola 6'!K82,2,IF('Kapitola 6'!K83,3,IF('Kapitola 6'!K84,4,\"\"))))","v":3},"formula 4 choices",null,null,null,{"$f":"'Kapitola 6'!K27","v":true},null,null,false,null,null,null,null,null,null,null,{"$f":"G588","v":"Q6.2"},{"$f":"IF(I588=\"\",$H588,I588)","v":false},false,false,false,false,false,false,false,false,false,null,null,{"$f":"B589","v":"Q6.6"},null,20,null,null,null,null,null,null,"Q6.11",1,"ok",0,null,null,"Q6.11",{"$f":"IF(I624,1,IF(I625,2,IF(I626,3,IF(I627,4,\"-\"))))","v":"-"},"-","-","-","-","-","-","-","-",null,{"$f":"BF593","v":"Q6.3"},"Q6.3TRUE",true,"Zapojte interně i externě do témat udržitelnosti. Zveřejňujte každoročně úplnou zprávu o udržitelnosti všech materiálů a problémů s odkazy na pokyny Global Reporting Initiative (GRI) Sustainability Reporting Guidelines nebo jejich ekvivalenty.\nSdílení informací o politikách a výkonnosti v otázkách životního prostředí, sociálních věcí a správy věcí veřejných vám pomůže budovat důvěru se svými zákazníky a partnery, sledovat a zmírňovat rizika a najít způsoby, jak zlepšit účinnost, což má pozitivní dopad na vaše finanční výsledky."]
[null,{"$f":"'Kapitola 6'!C86","v":"Q6.12"},{"$f":"IF('Kapitola 6'!K87,1,IF('Kapitola 6'!K88,2,IF('Kapitola 6'!K89,3,IF('Kapitola 6'!K90,4,\"\"))))","v":1},"formula 4 choices",null,null,null,{"$f":"'Kapitola 6'!K28","v":false},null,null,true,null,null,null,null,null,null,null,null,true,true,true,true,true,true,true,true,true,false,null,null,{"$f":"B590","v":"Q6.7"},null,20,null,null,null,null,null,null,"Q6.12",2,"major issue",1,null,null,"Q6.12",{"$f":"IF(I628,1,IF(I629,2,IF(I630,3,IF(I631,4,\"-\"))))","v":"-"},"-","-","-","-","-","-","-","-",null,{"$f":"BF594","v":"Q6.3"},"Q6.3FALSE",false,"Není třeba okamžitě měnit strategii, ale vždy hledejte zlepšení."]
[null,{"$f":"'Kapitola 6'!C94","v":"Q6.13"},{"$f":"IF('Kapitola 6'!K95,1,IF('Kapitola 6'!K96,2,IF('Kapitola 6'!K97,3,IF('Kapitola 6'!K98,4,\"\"))))","v":2},"formula 4 choices",null,null,{"$f":"B587","v":"Q6.4"},{"$f":"'Kapitola 6'!K33","v":false},null,null,null,null,null,null,null,null,null,null,null,false,false,false,false,false,false,false,false,false,false,null,null,{"$f":"B591","v":"Q6.8"},null,20,null,null,null,null,null,null,"Q6.13",1,"ok",0,null,null,"Q6.13",{"$f":"IF(I632,1,IF(I633,2,IF(I634,3,IF(I635,4,\"-\"))))","v":"-"},"-","-","-",4,"-","-","-","-",null,{"$f":"G596","v":"Q6.4"},"Q6.4FALSE",false,"Pokyny, jak zavést proces navrhování produktů se zlepšenými výsledky v oblasti udržitelnosti, poskytuje https://www.wbcsd.org/contentwbc/download/5870/80216 "]
[null,{"$f":"'Kapitola 6'!C100","v":"Q6.14"},{"$f":"IF('Kapitola 6'!K101,1,IF('Kapitola 6'!K102,2,IF('Kapitola 6'!K103,3,IF('Kapitola 6'!K104,4,\"\"))))","v":3},"formula 4 choices",null,null,null,{"$f":"'Kapitola 6'!K34","v":true},null,null,null,null,null,null,null,null,null,null,null,false,false,false,false,false,false,false,false,false,false,null,null,{"$f":"B592","v":"Q6.9"},null,20,null,null,null,null,null,null,"Q6.14",1,"ok",0,null,null,"Q6.14",{"$f":"IF(I636,1,IF(I637,2,IF(I638,3,IF(I639,4,\"-\"))))","v":"-"},"-","-","-","-","-","-","-","-",null,{"$f":"BF596","v":"Q6.4"},"Q6.4TRUE",true,"Pokyny, jak zavést proces navrhování produktů se zlepšenými výsledky v oblasti udržitelnosti, poskytuje https://www.wbcsd.org/contentwbc/download/5870/80216. "]
[null,{"$f":"'Kapitola 6'!C106","v":"Q6.15"},{"$f":"IF('Kapitola 6'!K107,1,IF('Kapitola 6'!K108,2,IF('Kapitola 6'!K109,3,IF('Kapitola 6'!K110,4,\"\"))))","v":2},"formula 4 choices",null,null,null,{"$f":"'Kapitola 6'!K35","v":false},null,null,null,null,null,null,null,null,null,null,null,null,null,null,null,null,null,null,null,null,null,null,{"$f":"'Kapitola 6'!B70","v":"Používání vody "},null,{"$f":"1/17*100","v":5.8823529411764701},null,null,null,{"$f":"C593","v":2},null,null,null,"Q6.15",1,"ok",0,null,null,"Q6.15",{"$f":"IF(I640,1,IF(I641,2,IF(I642,3,IF(I643,4,\"-\"))))","v":"-"},"-","-","-","-","-","-","-","-",null,{"$f":"BF597","v":"Q6.4"},"Q6.4FALSE",false,"Pokyny, jak zavést proces navrhování produktů se zlepšenými výsledky v oblasti udržitelnosti, poskytuje https://www.wbcsd.org/contentwbc/download/5870/80216"]
[null,{"$f":"'Kapitola 6'!C112","v":"Q6.16"},{"$f":"IF('Kapitola 6'!K113,1,IF('Kapitola 6'!K114,2,IF('Kapitola 6'!K115,3,IF('Kapitola 6'!K116,4,\"\"))))","v":2},"formula 4 choices",null,null,null,{"$f":"'Kapitola 6'!K36","v":false},null,null,null,null,null,null,null,null,null,null,null,null,null,null,null,null,null,null,null,null,null,null,null,{"$f":"B593","v":"Q6.10"},null,100,null,null,null,null,null,null,"Q6.16",1,"ok",0,null,null,"Q6.16",{"$f":"IF(I644,1,IF(I645,2,IF(I646,3,IF(I647,4,\"-\"))))","v":"-"},3,3,3,"-",3,3,3,"-",null,{"$f":"BF598","v":"Q6.4"},"Q6.4FALSE",false,"Pokyny, jak zavést proces navrhování produktů se zlepšenými výsledky v oblasti udržitelnosti, poskytuje https://www.wbcsd.org/contentwbc/download/5870/80216 "]
[null,{"$f":"'Kapitola 6'!C120","v":"Q6.17"},{"$f":"IF('Kapitola 6'!K121,1,IF('Kapitola 6'!K122,2,IF('Kapitola 6'!K123,3,IF('Kapitola 6'!K124,4,\"\"))))","v":3},"formula 4 choices",null,null,{"$f":"B588","v":"Q6.5"},{"$f":"'Kapitola 6'!K41","v":false},null,null,true,null,null,null,null,null,null,null,null,null,null,null,null,null,null,null,null,null,null,null,{"$f":"'Kapitola 6'!B78","v":"Využívání půdy a biodiverzita"},null,{"$f":"2/17*100","v":11.76470588235294},null,null,null,{"$f":"(C594*AH601+C595*AH602)/100","v":2},null,null,null,"Q6.17",1,"ok",null,null,null,"Q6.17",{"$f":"IF(I648,1,IF(I649,2,IF(I650,3,IF(I651,4,\"-\"))))","v":"-"},"-","-","-","-","-","-","-","-",null,{"$f":"G600","v":"Q6.5"},"Q6.5FALSE",false,"Zavést systém pro měření efektivity zdrojů ve svých výrobních procesech.\nZavést nákupní politiku upřednostňující oběhovou ekonomiku (např. Upřednostňování produktů ekologického designu, biologických nebo druhotných surovin a podpora opětovného použití)."]
[null,null,null,null,null,null,null,{"$f":"'Kapitola 6'!K42","v":true},null,null,false,null,null,null,null,null,null,null,null,null,null,null,null,null,null,null,null,null,null,null,null,{"$f":"B594","v":"Q6.11"},null,50,null,null,null,null,null,null,null,null,null,{"$f":"IF(SUM(AR584:AR599)>0,\"Klíčové prvky RC je třeba ještě implementovat, viz tipy\",\"\")","v":"Klíčové prvky RC je třeba ještě implementovat, viz tipy"},null,null,null,null,null,null,null,null,null,null,null,null,null,{"$f":"BF600","v":"Q6.5"},"Q6.5TRUE",true,"Zavést postup ke zlepšení efektivity zdrojů ve výrobních procesech vaší organizace.\nV rámci tohoto procesu upřednostňujte ekologicky navržené výrobky, biologické suroviny, druhotné suroviny z recyklace a opětovné použití zavedením kritérií pro tyto aspekty při výběru nákupu, jako alternativa k neobnovitelným surovinám.\nVyhodnocovat účinnost tohoto procesu je pravidelně."]
[null,null,null,null,null,null,null,{"$f":"'Kapitola 6'!K43","v":false},null,null,false,null,null,null,null,null,null,null,{"$f":"G592","v":"Q6.3"},{"$f":"IF(I592=\"\",$H592,I592)","v":false},false,false,false,false,false,false,false,false,false,null,null,{"$f":"B595","v":"Q6.12"},null,50,null,null,null,null,null,null,null,null,null,null,null,null,null,null,null,null,null,null,null,null,null,null,null,{"$f":"BF601","v":"Q6.5"},"Q6.5FALSE",false,"Vytvořte partnerství pro zlepšení efektivity využívání zdrojů ve výrobním designu vaší organizace a sdílejte osvědčené postupy s obchodními partnery.\nZapojte se do průmyslové symbiózy včetně spoluvytváření, kde intenzivní spolupráce se třetími společnostmi zaručuje dodávky vhodných sekundárních materiálů, které mají být použity jako suroviny"]
[null,null,null,null,null,null,null,{"$f":"'Kapitola 6'!K44","v":false},null,null,false,null,null,null,null,null,null,null,null,false,false,false,false,false,false,false,false,false,false,null,{"$f":"'Kapitola 6'!B92","v":"Klima a využívání energie"},null,{"$f":"4/17*100","v":23.52941176470588},null,null,null,{"$f":"(C596*AH604+C597*AH605+C598*AH606+C599*AH607)/100","v":2.25},null,null,null,null,null,null,null,null,null,null,null,null,null,null,null,null,null,null,null,null,{"$f":"BF602","v":"Q6.5"},"Q6.5FALSE",false,"Není třeba okamžitě měnit strategii, vždy se však snažte zlepšit."]
[null,null,null,null,null,null,{"$f":"B589","v":"Q6.6"},{"$f":"'Kapitola 6'!K47","v":true},null,null,false,null,null,null,null,null,null,null,null,true,true,false,true,true,true,true,true,true,false,null,null,{"$f":"B596","v":"Q6.13"},null,25,null,null,null,null,null,null,null,null,null,null,null,null,null,null,null,null,null,null,null,null,null,null,null,{"$f":"G604","v":"Q6.6"},"Q6.6TRUE",true,"Zkoumejte a identifikujte recyklovatelnost a trvanlivost svých produktů a naplánujte vylepšení procesu navrhování výrobků s ohledem na tyto aspekty."]
[null,null,null,null,null,null,null,{"$f":"'Kapitola 6'!K48","v":false},null,null,false,null,null,null,null,null,null,null,null,false,false,true,false,false,false,false,false,false,false,null,null,{"$f":"B597","v":"Q6.14"},null,25,null,null,null,null,null,null,null,null,null,null,null,null,null,null,null,null,null,null,null,null,null,null,null,{"$f":"BF604","v":"Q6.6"},"Q6.6FALSE",false,"Přehodnotit a posoudit produkty a obchodní procesy s ohledem na recyklovatelnost a životnost produktů organizace.\nZajistěte, aby produkty organizace byly navrženy pro snazší recyklaci a minimalizaci množství produkovaného odpadu."]
[null,null,null,null,null,null,null,{"$f":"'Kapitola 6'!K49","v":false},null,null,true,null,null,null,null,null,null,null,null,null,null,null,null,null,null,null,null,null,null,null,null,{"$f":"B598","v":"Q6.15"},null,25,null,null,null,null,null,null,null,null,null,null,null,null,null,null,null,null,null,null,null,null,null,null,null,{"$f":"BF605","v":"Q6.6"},"Q6.6FALSE",false,"Spolupracujte s hodnotovým řetězcem na zdokonalení kruhových řešení pro produkty vaší organizace.\nSdílejte osvědčené postupy s obchodními partnery."]
[null,null,null,null,null,null,null,{"$f":"'Kapitola 6'!K50","v":false},null,null,false,null,null,null,null,null,null,null,null,null,null,null,null,null,null,null,null,null,null,null,null,{"$f":"B599","v":"Q6.16"},null,25,null,null,null,null,null,null,null,null,null,null,null,null,null,null,null,null,null,null,null,null,null,null,null,{"$f":"BF606","v":"Q6.6"},"Q6.6FALSE",false,"Není třeba okamžitě měnit strategii, vždy se však snažte o zlepšení."]
[null,null,null,null,null,null,{"$f":"B590","v":"Q6.7"},{"$f":"'Kapitola 6'!K53","v":false},null,null,null,null,null,null,null,null,null,null,null,null,null,null,null,null,null,null,null,null,null,null,{"$f":"'Kapitola 6'!B118","v":"Různé"},null,{"$f":"1/17*100","v":5.8823529411764701},null,null,null,{"$f":"C600","v":3},null,null,null,null,null,null,null,null,null,null,null,null,null,null,null,null,null,null,null,null,{"$f":"G608","v":"Q6.7"},"Q6.7FALSE",false,"Při hodnocení inovačních projektů zohledněte kritéria týkající se zlepšení sociálních nebo environmentálních dopadů."]
[null,null,null,null,null,null,null,{"$f":"'Kapitola 6'!K54","v":false},null,null,null,null,null,null,null,null,null,null,null,null,null,null,null,null,null,null,null,null,null,null,null,{"$f":"B600","v":"Q6.17"},null,100,null,null,null,null,null,null,null,null,null,null,null,null,null,null,null,null,null,null,null,null,null,null,null,{"$f":"BF608","v":"Q6.7"},"Q6.7FALSE",false,"Zaměřte se na inovační projekty vaší organizace a zhodnotit je především na kritériích udržitelnosti, které kombinují environmentální, ekonomické a sociální aspekty."]
[null,null,null,null,null,null,null,{"$f":"'Kapitola 6'!K55","v":true},null,null,null,null,null,null,null,null,null,null,{"$f":"G596","v":"Q6.4"},{"$f":"IF(I596=\"\",$H596,I596)","v":false},false,false,false,false,false,false,false,false,false,null,null,null,null,null,null,null,null,null,null,null,null,null,null,null,null,null,null,null,null,null,null,null,null,null,null,null,null,{"$f":"BF609","v":"Q6.7"},"Q6.7TRUE",true,"Sdílení osvědčených postupů pro zvýšení výhod"]
[null,null,null,null,null,null,null,{"$f":"'Kapitola 6'!K56","v":false},null,null,null,null,null,null,null,null,null,null,null,true,true,true,true,true,true,true,true,true,false,null,null,null,null,null,null,null,null,null,null,null,null,null,null,null,null,null,null,null,null,null,null,null,null,null,null,null,null,{"$f":"BF610","v":"Q6.7"},"Q6.7FALSE",false,"Není třeba okamžitě měnit strategii, nicméně vždy hledejte zlepšení."]
[null,null,null,null,null,null,{"$f":"B591","v":"Q6.8"},{"$f":"'Kapitola 6'!K59","v":false},null,null,null,null,null,null,null,null,null,null,null,false,false,false,false,false,false,false,false,false,false,null,null,null,null,null,null,null,null,null,null,null,null,null,null,null,null,null,null,null,null,null,null,null,null,null,null,null,null,{"$f":"G612","v":"Q6.8"},"Q6.8FALSE",false,"Sledujte výsledky stávajících inovačních panelů a spolupráce."]
[null,null,null,null,null,null,null,{"$f":"'Kapitola 6'!K60","v":false},null,null,null,null,null,null,null,null,null,null,null,false,false,false,false,false,false,false,false,false,false,null,null,null,null,null,null,null,null,null,null,null,null,null,null,null,null,null,null,null,null,null,null,null,null,null,null,null,null,{"$f":"BF612","v":"Q6.8"},"Q6.8FALSE",false,"Podílejte se na vzájemných interakcích v oblasti inovací s průmyslovými nebo akademickými činiteli."]
[null,null,null,null,null,null,null,{"$f":"'Kapitola 6'!K61","v":true},null,null,null,null,null,null,null,null,null,null,null,null,null,null,null,null,null,null,null,null,null,null,null,null,null,null,null,null,null,null,null,null,null,null,null,null,null,null,null,null,null,null,null,null,null,null,null,null,null,{"$f":"BF613","v":"Q6.8"},"Q6.8TRUE",true,"Vytvořte inovační programy s průmyslovými nebo akademickými činiteli, na nichž vaše organizace sdílí prostředky (materiály, rozpočty, zdroje atd.)."]
[null,null,null,null,null,null,null,{"$f":"'Kapitola 6'!K62","v":false},null,null,null,null,null,null,null,null,null,null,null,null,null,null,null,null,null,null,null,null,null,null,null,null,null,null,null,null,null,null,null,null,null,null,null,null,null,null,null,null,null,null,null,null,null,null,null,null,null,{"$f":"BF614","v":"Q6.8"},"Q6.8FALSE",false,"Není třeba okamžitě měnit strategii, ale vždy hledejte zlepšení."]
[null,null,null,null,null,null,{"$f":"B592","v":"Q6.9"},{"$f":"'Kapitola 6'!K65","v":true},null,null,null,null,null,null,null,null,null,null,null,null,null,null,null,null,null,null,null,null,null,null,null,null,null,null,null,null,null,null,null,null,null,null,null,null,null,null,null,null,null,null,null,null,null,null,null,null,null,{"$f":"G616","v":"Q6.9"},"Q6.9TRUE",{"$f":"H616","v":true},"Seznamte se s dopady výrobců vaší organizace a informujte o tom své klienty."]
[null,null,null,null,null,null,null,{"$f":"'Kapitola 6'!K66","v":false},null,null,null,null,null,null,null,null,null,null,null,null,null,null,null,null,null,null,null,null,null,null,null,null,null,null,null,null,null,null,null,null,null,null,null,null,null,null,null,null,null,null,null,null,null,null,null,null,null,{"$f":"BF616","v":"Q6.9"},"Q6.9FALSE",false,"Spolupracuje s kolegy a partnery chemického průmyslu na podpoře udržitelných režimů spotřeby."]
[null,null,null,null,null,null,null,{"$f":"'Kapitola 6'!K67","v":false},null,null,null,null,null,null,null,null,null,null,{"$f":"G600","v":"Q6.5"},{"$f":"IF(I600=\"\",$H600,I600)","v":false},false,true,false,false,false,false,false,false,false,null,null,null,null,null,null,null,null,null,null,null,null,null,null,null,null,null,null,null,null,null,null,null,null,null,null,null,null,{"$f":"BF617","v":"Q6.9"},"Q6.9FALSE",false,"Zapojte zúčastněné strany vaší organizace do propagace udržitelnější spotřeby (průvodce, bílé knihy, diskuse atd.). "]
[null,null,null,null,null,null,null,{"$f":"'Kapitola 6'!K68","v":false},null,null,null,null,null,null,null,null,null,null,null,true,true,false,true,true,true,true,true,true,false,null,null,null,null,null,null,null,null,null,null,null,null,null,null,null,null,null,null,null,null,null,null,null,null,null,null,null,null,"Q6.9","Q6.9FALSE",false,"Není třeba okamžitě měnit strategii, nicméně vždy hledejte zlepšení."]
[null,null,null,null,null,null,{"$f":"B593","v":"Q6.10"},{"$f":"'Kapitola 6'!K73","v":false},null,null,null,null,null,null,null,null,null,null,null,false,false,false,false,false,false,false,false,false,false,null,null,null,null,null,null,null,null,null,null,null,null,null,null,null,null,null,null,null,null,null,null,null,null,null,null,null,null,{"$f":"G620","v":"Q6.10"},"Q6.10FALSE",false,"Vytvořte program snižování spotřeby vody a oznamte výsledky tohoto plánu a záznamy vaší organizace o spotřebě vody.\nDobré přístupy k správě vody zahrnují: EWS-https: //ews.info/ a CDP - Water- https://www.cdp.net/en/water ",null,null,"at Q6.10 answer 1, 2 and 3"]
[null,null,null,null,null,null,null,{"$f":"'Kapitola 6'!K74","v":true},null,null,null,null,null,null,null,null,null,null,null,false,false,false,false,false,false,false,false,false,false,null,null,null,null,null,null,null,null,null,null,null,null,null,null,null,null,null,null,null,null,null,null,null,null,null,null,null,null,{"$f":"BF620","v":"Q6.10"},"Q6.10TRUE",true,"Naplánujte konkrétní opatření ke snížení spotřeby vody vaší organizace na základě klíčových problémů zjištěných monitorováním.\nDobré přístupy k správě vody zahrnují: EWS-https: //ews.info/ a CDP - Water- https://www.cdp.net/en/water",null,null,"https://ews.info/"]
[null,null,null,null,null,null,null,{"$f":"'Kapitola 6'!K75","v":false},null,null,null,null,null,null,null,null,null,null,null,null,null,null,null,null,null,null,null,null,null,null,null,null,null,null,null,null,null,null,null,null,null,null,null,null,null,null,null,null,null,null,null,null,null,null,null,null,null,{"$f":"BF621","v":"Q6.10"},"Q6.10FALSE",false,"Investujte do technologií, které šetří vodu a aplikujte infiltrační dešťovou vodu z míst (střechy, silnice) v zemi, abyste se mohli podílet na doplňování podzemních vod.\nDobré přístupy k správě vody zahrnují: EWS- https://ews.info/ \n  a CDP - Water- https://www.cdp.net/en/water",null,null,"https://www.cdp.net/en/water"]
[null,null,null,null,null,null,null,{"$f":"'Kapitola 6'!K76","v":false},null,null,null,null,null,null,null,null,null,null,null,null,null,null,null,null,null,null,null,null,null,null,null,null,null,null,null,null,null,null,null,null,null,null,null,null,null,null,null,null,null,null,null,null,null,null,null,null,null,{"$f":"BF622","v":"Q6.10"},"Q6.10FALSE",false,"Není třeba okamžitě měnit strategii, nicméně vždy hledejte zlepšení."]
[null,null,null,null,null,null,{"$f":"B594","v":"Q6.11"},{"$f":"'Kapitola 6'!K81","v":false},null,null,null,null,null,null,null,null,null,null,{"$f":"G604","v":"Q6.6"},{"$f":"IF(I604=\"\",$H604,I604)","v":true},true,false,true,true,true,true,true,true,false,null,null,null,null,null,null,null,null,null,null,null,null,null,null,null,null,null,null,null,null,null,null,null,null,null,null,null,null,{"$f":"G624","v":"Q6.11"},"Q6.11FALSE",false,"Analyzujte dopad výroby a produktů vaší organizace na biologickou rozmanitost a vytvořte akční plán k omezení těchto dopadů (včetně dopadu vaší organizace na odlesňování, např. Snížením využití papíru). Vytvořte ekologický soupis lokalit a produktů organizace a identifikujte specifické citlivosti okolí.\nMožné akce:\n- Obnovit biotipy a ekologickou kontinuitu s okolními prostory;\n- Nainstalujte zelenou střechu a podpořte ekologické řízení prostoru;\n- Stanovte měření usnadňující monitorování biologické rozmanitosti (např. Plodiny, hmyz atd.).\nMezi cenné pokyny patří http://www.teebweb.org/areas-of-work/teeb-for-business/ "]
[null,null,null,null,null,null,null,{"$f":"'Kapitola 6'!K82","v":false},null,null,null,null,null,null,null,null,null,null,null,false,false,false,false,false,false,false,false,false,false,null,null,null,null,null,null,null,null,null,null,null,null,null,null,null,null,null,null,null,null,null,null,null,null,null,null,null,null,{"$f":"BF624","v":"Q6.11"},"Q6.11FALSE",false,"Stanovit ukazatele (lidské, finanční a organizační) za účelem ochrany biologické rozmanitosti. Příklad: vývoj postupů při údržbě zeleně (druh plevelů, frekvence sečení, druhy vysázené málo chamtivé vody ...), zařízení na ochranu ptáků na výškových konstrukcích atd.\nMezi cenné pokyny patří http://www.teebweb.org/areas-of-work/teeb-for-business/ "]
[null,null,null,null,null,null,null,{"$f":"'Kapitola 6'!K83","v":true},null,null,null,null,null,null,null,null,null,null,null,false,false,true,false,false,false,false,false,false,false,null,null,null,null,null,null,null,null,null,null,null,null,null,null,null,null,null,null,null,null,null,null,null,null,null,null,null,null,{"$f":"BF625","v":"Q6.11"},"Q6.11TRUE",true,"Aktivně přispívat k ochraně přírodního prostředí, nad nimž máte přímý dopad, prostřednictvím partnerství s aktéry ochrany životního prostředí na možných akcích organizace pro místní biologickou rozmanitost.\nMobilizovat zaměstnance k závazkům organizace v oblasti zachování biologické rozmanitosti.\nMezi cenné pokyny patří http://www.teebweb.org/areas-of-work/teeb-for-business/ "]
[null,null,null,null,null,null,null,{"$f":"'Kapitola 6'!K84","v":false},null,null,null,null,null,null,null,null,null,null,null,false,false,false,false,false,false,false,false,false,false,null,null,null,null,null,null,null,null,null,null,null,null,null,null,null,null,null,null,null,null,null,null,null,null,null,null,null,null,{"$f":"BF626","v":"Q6.11"},"Q6.11FALSE",false,"Není třeba okamžitě měnit strategii, vždy se však snažte o zlepšení."]
[null,null,null,null,null,null,{"$f":"B595","v":"Q6.12"},{"$f":"'Kapitola 6'!K87","v":true},null,null,null,null,null,null,null,null,null,null,null,null,null,null,null,null,null,null,null,null,null,null,null,null,null,null,null,null,null,null,null,null,null,null,null,null,null,null,null,null,null,null,null,null,null,null,null,null,null,{"$f":"G628","v":"Q6.12"},"Q6.12TRUE",true,"Identifikujte některé konkrétní akce k ochraně služeb poskytovaných vaší činnosti (např. Závislost na určitých surovinách) ekosystémy.\nMezi cenné dokumenty s pokyny patří http://www.teebweb.org/areas-of-work/teeb-for-business/"]
[null,null,null,null,null,null,null,{"$f":"'Kapitola 6'!K88","v":false},null,null,null,null,null,null,null,null,null,null,null,null,null,null,null,null,null,null,null,null,null,null,null,null,null,null,null,null,null,null,null,null,null,null,null,null,null,null,null,null,null,null,null,null,null,null,null,null,null,{"$f":"BF628","v":"Q6.12"},"Q6.12FALSE",false,"Identifikujte některé konkrétní akce k ochraně služeb poskytovaných vaší činnosti (např. Závislost na určitých surovinách) ekosystémy.\nMezi cenné dokumenty s pokyny patří http://www.teebweb.org/areas-of-work/teeb-for-business/"]
[null,null,null,null,null,null,null,{"$f":"'Kapitola 6'!K89","v":false},null,null,null,null,null,null,null,null,null,null,{"$f":"G608","v":"Q6.7"},{"$f":"IF(I608=\"\",$H608,I608)","v":false},false,false,false,false,false,false,false,false,false,null,null,null,null,null,null,null,null,null,null,null,null,null,null,null,null,null,null,null,null,null,null,null,null,null,null,null,null,{"$f":"BF629","v":"Q6.12"},"Q6.12FALSE",false,"Zavést strukturovaný přístup k zabezpečení služeb poskytovaných okolní flórou a faunou (např. Závislost na určitých surovinách). Externě komunikujte o výsledcích vaší organizace a sdílejte osvědčené postupy.\nMezi cenné dokumenty s pokyny patří http://www.teebweb.org/areas-of-work/teeb-for-business/ "]
[null,null,null,null,null,null,null,{"$f":"'Kapitola 6'!K90","v":false},null,null,null,null,null,null,null,null,null,null,null,false,false,false,false,false,false,false,false,false,false,null,null,null,null,null,null,null,null,null,null,null,null,null,null,null,null,null,null,null,null,null,null,null,null,null,null,null,null,{"$f":"BF630","v":"Q6.12"},"Q6.12FALSE",false,"Není třeba okamžitě měnit strategii, vždy se však snažte o zlepšení."]
[null,null,null,null,null,null,{"$f":"B596","v":"Q6.13"},{"$f":"'Kapitola 6'!K95","v":false},null,null,null,null,false,null,null,null,null,null,null,true,true,true,true,true,true,true,true,true,false,null,null,null,null,null,null,null,null,null,null,null,null,null,null,null,null,null,null,null,null,null,null,null,null,null,null,null,null,{"$f":"G632","v":"Q6.13"},"Q6.13FALSE",false,"Definujte a implementujte plán sběru (shromažďování) energetických údajů.\n\nSpecifikujte data nezbytná pro sledování klíčových charakteristik a definujte, jakou frekvencí budou data shromažďována a uchovávána."]
[null,null,null,null,null,null,null,{"$f":"'Kapitola 6'!K96","v":true},null,null,null,null,false,null,null,null,null,null,null,false,false,false,false,false,false,false,false,false,false,null,null,null,null,null,null,null,null,null,null,null,null,null,null,null,null,null,null,null,null,null,null,null,null,null,null,null,null,{"$f":"BF632","v":"Q6.13"},"Q6.13TRUE",true,"Stanovte ukazatele energetické náročnosti (EnPIs) vhodné pro měření a monitorování energetické náročnosti. EnPIs by měly organizaci umožnit prokázat zlepšení energetické náročnosti. Při zřizování ENPIs je proto důležité zvážit proměnné, které významně ovlivňují energetickou účinnost (např. Výrobní jednotky). Porovnejte EnPIs s jejich příslušnými EnBs výchozí energie. Na základě těchto údajů stanovte cíle zlepšení a energetické cíle. Investujte do inteligentních technologií pro zlepšení energetické náročnosti."]
[null,null,null,null,null,null,null,{"$f":"'Kapitola 6'!K97","v":false},null,null,null,null,false,null,null,null,null,null,null,null,null,null,null,null,null,null,null,null,null,null,null,null,null,null,null,null,null,null,null,null,null,null,null,null,null,null,null,null,null,null,null,null,null,null,null,null,null,{"$f":"BF633","v":"Q6.13"},"Q6.13FALSE",false,"Analyzujte vývoj spotřeby energie a využití energie prostřednictvím přezkumu energie. Identifikujte významná využití energie, určete a upřednostněte příležitosti ke zlepšení energetické náročnosti a odhadněte budoucí spotřebu a spotřebu energie. Pravidelně vyhodnoťte a zlepšujte účinnost plánu snižování spotřeby energie.\nZhodnoťte účinnost provedených implementací."]
[null,null,null,null,null,null,null,{"$f":"'Kapitola 6'!K98","v":false},null,null,null,null,true,null,null,null,null,null,null,null,null,null,null,null,null,null,null,null,null,null,null,null,null,null,null,null,null,null,null,null,null,null,null,null,null,null,null,null,null,null,null,null,null,null,null,null,null,{"$f":"BF634","v":"Q6.13"},"Q6.13FALSE",false,"Není třeba okamžitě měnit strategii, vždy se však snažte zlepšit."]
[null,null,null,null,null,null,{"$f":"B597","v":"Q6.14"},{"$f":"'Kapitola 6'!K101","v":false},null,null,null,null,null,null,null,null,null,null,{"$f":"G612","v":"Q6.8"},{"$f":"IF(I612=\"\",$H612,I612)","v":false},false,false,false,false,false,false,false,false,false,null,null,null,null,null,null,null,null,null,null,null,null,null,null,null,null,null,null,null,null,null,null,null,null,null,null,null,null,{"$f":"G636","v":"Q6.14"},"Q6.14FALSE",false,"Identifikujte možné zdroje opakovaného využití energie ve  vaší organizaci a možnosti zvýšení podílu obnovitelných zdrojů energie.\nAnalyzovat možnosti dotace týkající se přechodu při výběru energetických zdrojů organizace.\nZahajte energetický přechod vaší organizace prostřednictvím konkrétních projektů.\nPokud je to možné, využívaná fosilní paliva postupně nahrazujte využíváním obnovitelných zdrojů."]
[null,null,null,null,null,null,null,{"$f":"'Kapitola 6'!K102","v":false},null,null,null,null,null,null,null,null,null,null,null,false,false,false,false,false,false,false,false,false,false,null,null,null,null,null,null,null,null,null,null,null,null,null,null,null,null,null,null,null,null,null,null,null,null,null,null,null,null,{"$f":"BF636","v":"Q6.14"},"Q6.14FALSE",false,"Identifikujte potenciální zdroje opakovaného využití energie ve vaší organizaci (např. zbytkové teplo, výroba bioplynu).\nUzavřete smlouvy o dodávkách obnovitelné energie s dodavatelem elektřiny vaší organizace.\nPlně využívejte zdroje obnovitelné energie a flexibility vaší organizace."]
[null,null,null,null,null,null,null,{"$f":"'Kapitola 6'!K103","v":true},null,null,null,null,null,null,null,null,null,null,null,true,true,true,true,true,true,true,true,true,false,null,null,null,null,null,null,null,null,null,null,null,null,null,null,null,null,null,null,null,null,null,null,null,null,null,null,null,null,{"$f":"BF637","v":"Q6.14"},"Q6.14TRUE",true,"Vytvářet partnerství s geograficky souvisejícími organizacemi za účelem rozvoje „místních synergií“ (příklad: prodej zbytkového tepla mezi dvěma subjekty).\nImplementujte identifikovanou spolupráci."]
[null,null,null,null,null,null,null,{"$f":"'Kapitola 6'!K104","v":false},null,null,null,null,null,null,null,null,null,null,null,false,false,false,false,false,false,false,false,false,false,null,null,null,null,null,null,null,null,null,null,null,null,null,null,null,null,null,null,null,null,null,null,null,null,null,null,null,null,{"$f":"BF638","v":"Q6.14"},"Q6.14FALSE",false,"Není třeba okamžitě měnit strategii, vždy se však snažte zlepšit."]
[null,null,null,null,null,null,{"$f":"B598","v":"Q6.15"},{"$f":"'Kapitola 6'!K107","v":false},null,null,null,null,null,null,null,null,null,null,null,null,null,null,null,null,null,null,null,null,null,null,null,null,null,null,null,null,null,null,null,null,null,null,null,null,null,null,null,null,null,null,null,null,null,null,null,null,null,{"$f":"G640","v":"Q6.15"},"Q6.15FALSE",false,"Proveďte analýzu mezer a identifikujte potenciál ke snížení emisí z rozsahu 1 a 2."]
[null,null,null,null,null,null,null,{"$f":"'Kapitola 6'!K108","v":true},null,null,null,null,null,null,null,null,null,null,null,null,null,null,null,null,null,null,null,null,null,null,null,null,null,null,null,null,null,null,null,null,null,null,null,null,null,null,null,null,null,null,null,null,null,null,null,null,null,{"$f":"BF640","v":"Q6.15"},"Q6.15TRUE",true,"Stanovte jasné cíle ke snížení emisí skleníkových plynů (např. Přechod k obnovitelné energii) a pravidelně sledujte pokrok směrem k těmto cílům. Podnikněte kroky ke snížení emisí z rozsahu 1 a 2."]
[null,null,null,null,null,null,null,{"$f":"'Kapitola 6'!K109","v":false},null,null,null,null,null,null,null,null,null,null,{"$f":"G616","v":"Q6.9"},{"$f":"IF(I616=\"\",$H616,I616)","v":true},true,true,true,true,true,true,true,true,false,null,null,null,null,null,null,null,null,null,null,null,null,null,null,null,null,null,null,null,null,null,null,null,null,null,null,null,null,{"$f":"BF641","v":"Q6.15"},"Q6.15FALSE",false,"Proveďte kompenzaci zbývající uhlíkové stopy vaší organizace. Každoročně zveřejňujte výsledky své organizace týkající se uhlíkové stopy pro rozsah 3."]
[null,null,null,null,null,null,null,{"$f":"'Kapitola 6'!K110","v":false},null,null,null,null,null,null,null,null,null,null,null,false,false,false,false,false,false,false,false,false,false,null,null,null,null,null,null,null,null,null,null,null,null,null,null,null,null,null,null,null,null,null,null,null,null,null,null,null,null,{"$f":"BF642","v":"Q6.15"},"Q6.15FALSE",false,"Není třeba okamžitě měnit strategii, vždy se však snažte zlepšit."]
[null,null,null,null,null,null,{"$f":"B599","v":"Q6.16"},{"$f":"'Kapitola 6'!K113","v":false},null,false,false,false,null,false,false,false,null,null,null,false,false,false,false,false,false,false,false,false,false,null,null,null,null,null,null,null,null,null,null,null,null,null,null,null,null,null,null,null,null,null,null,null,null,null,null,null,null,{"$f":"G644","v":"Q6.16"},"Q6.16FALSE",false,"Identifikujte střednědobé dlouhodobé potenciální dopady změny klimatu na činnost vaší organizace."]
[null,null,null,null,null,null,null,{"$f":"'Kapitola 6'!K114","v":true},null,false,false,false,null,false,false,false,null,null,null,false,false,false,false,false,false,false,false,false,false,null,null,null,null,null,null,null,null,null,null,null,null,null,null,null,null,null,null,null,null,null,null,null,null,null,null,null,null,{"$f":"BF644","v":"Q6.16"},"Q6.16TRUE",true,"Identifikujte rizika spojená se změnou klimatu pro činnosti vaší organizace a možná opatření k omezení těchto rizik."]
[null,null,null,null,null,null,null,{"$f":"'Kapitola 6'!K115","v":false},null,true,true,true,null,true,true,true,null,null,null,null,null,null,null,null,null,null,null,null,null,null,null,null,null,null,null,null,null,null,null,null,null,null,null,null,null,null,null,null,null,null,null,null,null,null,null,null,null,{"$f":"BF645","v":"Q6.16"},"Q6.16FALSE",false,"Investujte do opatření ke zlepšení odolnosti vaší organizace vůči změně klimatu a zhodnocení jejich účinnosti."]
[null,null,null,null,null,null,null,{"$f":"'Kapitola 6'!K116","v":false},null,false,false,false,null,false,false,false,null,null,null,null,null,null,null,null,null,null,null,null,null,null,null,null,null,null,null,null,null,null,null,null,null,null,null,null,null,null,null,null,null,null,null,null,null,null,null,null,null,{"$f":"BF646","v":"Q6.16"},"Q6.16FALSE",false,"Není třeba okamžitě měnit strategii, vždy se však snažte zlepšit."]
[null,null,null,null,null,null,{"$f":"B600","v":"Q6.17"},{"$f":"'Kapitola 6'!K121","v":false},null,null,null,null,null,null,null,null,null,null,null,null,null,null,null,null,null,null,null,null,null,null,null,null,null,null,null,null,null,null,null,null,null,null,null,null,null,null,null,null,null,null,null,null,null,null,null,null,null,{"$f":"G648","v":"Q6.17"},{"$f":"CONCATENATE(BF648,BH648)","v":"Q6.17FALSE"},false,"Přijměte závazek (např. Podpis charty dobré praxe), pokud jde o rovné příležitosti, a vytvořte specializované procesy pro zajištění rovných příležitostí."]
[null,null,null,null,null,null,null,{"$f":"'Kapitola 6'!K122","v":false},null,null,null,null,null,null,null,null,null,null,null,null,null,null,null,null,null,null,null,null,null,null,null,null,null,null,null,null,null,null,null,null,null,null,null,null,null,null,null,null,null,null,null,null,null,null,null,null,null,{"$f":"BF648","v":"Q6.17"},"Q6.17FALSE",false,"Vytvořte jasný akční plán s kvantifikovanými cíli, který zajistí rovné příležitosti a integruje aspekty rozmanitosti do všech procesů lidských zdrojů vaší organizace."]
[null,null,null,null,null,null,null,{"$f":"'Kapitola 6'!K123","v":true},null,null,null,null,null,null,null,null,null,null,{"$f":"G620","v":"Q6.10"},{"$f":"IF(I620=\"\",$H620,I620)","v":false},false,false,false,false,false,false,false,false,false,null,null,null,null,null,null,null,null,null,null,null,null,null,null,null,null,null,null,null,null,null,null,null,null,null,null,null,null,{"$f":"BF649","v":"Q6.17"},"Q6.17TRUE",true,"Výsledky pravidelně vyhodnocujte a komunikujte je interně i externě."]
[null,null,null,null,null,null,null,{"$f":"'Kapitola 6'!K124","v":false},null,null,null,null,null,null,null,null,null,null,null,true,true,true,true,true,true,true,true,true,false,null,null,null,null,null,null,null,null,null,null,null,null,null,null,null,null,null,null,null,null,null,null,null,null,null,null,null,null,"Q6.17","Q6.17FALSE",false,"Není třeba okamžitě měnit strategii, nicméně vždy hledejte zlepšení."]
[null,null,null,null,null,null,null,null,null,null,null,null,null,null,null,null,null,null,null,false,false,false,false,false,false,false,false,false,false]
[null,null,null,null,null,null,null,null,null,null,null,null,null,null,null,null,null,null,null,false,false,false,false,false,false,false,false,false,false]
[]
[]
[]
[]
[null,null,null,null,null,null,null,null,null,null,null,null,null,null,null,null,null,null,{"$f":"G624","v":"Q6.11"},{"$f":"IF(I624=\"\",$H624,I624)","v":false},{"$f":"IF(J624=\"\",$H624,J624)","v":false},{"$f":"IF(K624=\"\",$H624,K624)","v":false},{"$f":"IF(L624=\"\",$H624,L624)","v":false},{"$f":"IF(M624=\"\",$H624,M624)","v":false},{"$f":"IF(N624=\"\",$H624,N624)","v":false},false,false,false,false]
[null,null,null,null,null,null,null,null,null,null,null,null,null,null,null,null,null,null,null,{"$f":"IF(I625=\"\",$H625,I625)","v":false},{"$f":"IF(J625=\"\",$H625,J625)","v":false},{"$f":"IF(K625=\"\",$H625,K625)","v":false},{"$f":"IF(L625=\"\",$H625,L625)","v":false},{"$f":"IF(M625=\"\",$H625,M625)","v":false},{"$f":"IF(N625=\"\",$H625,N625)","v":false},{"$f":"IF(O625=\"\",$H625,O625)","v":false},{"$f":"IF(P625=\"\",$H625,P625)","v":false},false,false]
[null,null,null,null,null,null,null,null,null,null,null,null,null,null,null,null,null,null,null,{"$f":"IF(I626=\"\",$H626,I626)","v":true},true,true,true,true,true,true,true,true,false]
[null,null,null,null,null,null,null,null,null,null,null,null,null,null,null,null,null,null,null,false,false,false,false,false,false,false,false,false,false]
[]
[]
[null,null,null,null,null,null,null,null,null,null,null,null,null,null,null,null,null,null,{"$f":"G628","v":"Q6.12"},{"$f":"IF(I628=\"\",$H628,I628)","v":true},{"$f":"IF(J628=\"\",$H628,J628)","v":true},{"$f":"IF(K628=\"\",$H628,K628)","v":true},{"$f":"IF(L628=\"\",$H628,L628)","v":true},{"$f":"IF(M628=\"\",$H628,M628)","v":true},{"$f":"IF(N628=\"\",$H628,N628)","v":true},true,true,true,false]
[null,null,null,null,null,null,null,null,null,null,null,null,null,null,null,null,null,null,null,{"$f":"IF(I629=\"\",$H629,I629)","v":false},{"$f":"IF(J629=\"\",$H629,J629)","v":false},{"$f":"IF(K629=\"\",$H629,K629)","v":false},{"$f":"IF(L629=\"\",$H629,L629)","v":false},{"$f":"IF(M629=\"\",$H629,M629)","v":false},{"$f":"IF(N629=\"\",$H629,N629)","v":false},{"$f":"IF(O629=\"\",$H629,O629)","v":false},{"$f":"IF(P629=\"\",$H629,P629)","v":false},false,false]
[null,null,null,null,null,null,null,null,null,null,null,null,null,null,null,null,null,null,null,false,false,false,false,false,false,false,false,false,false]
[null,null,null,null,null,null,null,null,null,null,null,null,null,null,null,null,null,null,null,false,false,false,false,false,false,false,false,false,false]
[]
[]
[]
[]
[null,null,null,null,null,null,null,null,null,null,null,null,null,null,null,null,null,null,{"$f":"G632","v":"Q6.13"},{"$f":"IF(I632=\"\",$H632,I632)","v":false},{"$f":"IF(J632=\"\",$H632,J632)","v":false},{"$f":"IF(K632=\"\",$H632,K632)","v":false},{"$f":"IF(L632=\"\",$H632,L632)","v":false},{"$f":"IF(M632=\"\",$H632,M632)","v":false},{"$f":"IF(N632=\"\",$H632,N632)","v":false},false,false,false,false]
[null,null,null,null,null,null,null,null,null,null,null,null,null,null,null,null,null,null,null,{"$f":"IF(I633=\"\",$H633,I633)","v":true},{"$f":"IF(J633=\"\",$H633,J633)","v":true},{"$f":"IF(K633=\"\",$H633,K633)","v":true},{"$f":"IF(L633=\"\",$H633,L633)","v":true},{"$f":"IF(M633=\"\",$H633,M633)","v":false},{"$f":"IF(N633=\"\",$H633,N633)","v":true},{"$f":"IF(O633=\"\",$H633,O633)","v":true},{"$f":"IF(P633=\"\",$H633,P633)","v":true},true,false]
[null,null,null,null,null,null,null,null,null,null,null,null,null,null,null,null,null,null,null,false,false,false,false,false,false,false,false,false,false]
[null,null,null,null,null,null,null,null,null,null,null,null,null,null,null,null,null,null,null,false,false,false,false,true,false,false,false,false,false]
[]
[]
[null,null,null,null,null,null,null,null,null,null,null,null,null,null,null,null,null,null,{"$f":"G636","v":"Q6.14"},{"$f":"IF(I636=\"\",$H636,I636)","v":false},{"$f":"IF(J636=\"\",$H636,J636)","v":false},{"$f":"IF(K636=\"\",$H636,K636)","v":false},{"$f":"IF(L636=\"\",$H636,L636)","v":false},{"$f":"IF(M636=\"\",$H636,M636)","v":false},{"$f":"IF(N636=\"\",$H636,N636)","v":false},false,false,false,false]
[null,null,null,null,null,null,null,null,null,null,null,null,null,null,null,null,null,null,null,{"$f":"IF(I637=\"\",$H637,I637)","v":false},{"$f":"IF(J637=\"\",$H637,J637)","v":false},{"$f":"IF(K637=\"\",$H637,K637)","v":false},{"$f":"IF(L637=\"\",$H637,L637)","v":false},{"$f":"IF(M637=\"\",$H637,M637)","v":false},{"$f":"IF(N637=\"\",$H637,N637)","v":false},{"$f":"IF(O637=\"\",$H637,O637)","v":false},{"$f":"IF(P637=\"\",$H637,P637)","v":false},false,false]
[null,null,null,null,null,null,null,null,null,null,null,null,null,null,null,null,null,null,null,true,true,true,true,true,true,true,true,true,false]
[null,null,null,null,null,null,null,null,null,null,null,null,null,null,null,null,null,null,null,false,false,false,false,false,false,false,false,false,false]
[]
[]
[null,null,null,null,null,null,null,null,null,null,null,null,null,null,null,null,null,null,{"$f":"G640","v":"Q6.15"},{"$f":"IF(I640=\"\",$H640,I640)","v":false},{"$f":"IF(J640=\"\",$H640,J640)","v":false},{"$f":"IF(K640=\"\",$H640,K640)","v":false},{"$f":"IF(L640=\"\",$H640,L640)","v":false},{"$f":"IF(M640=\"\",$H640,M640)","v":false},{"$f":"IF(N640=\"\",$H640,N640)","v":false},false,false,false,false]
[null,null,null,null,null,null,null,null,null,null,null,null,null,null,null,null,null,null,null,{"$f":"IF(I641=\"\",$H641,I641)","v":true},{"$f":"IF(J641=\"\",$H641,J641)","v":true},{"$f":"IF(K641=\"\",$H641,K641)","v":true},{"$f":"IF(L641=\"\",$H641,L641)","v":true},{"$f":"IF(M641=\"\",$H641,M641)","v":true},{"$f":"IF(N641=\"\",$H641,N641)","v":true},{"$f":"IF(O641=\"\",$H641,O641)","v":true},{"$f":"IF(P641=\"\",$H641,P641)","v":true},true,false]
[null,null,null,null,null,null,null,null,null,null,null,null,null,null,null,null,null,null,null,false,false,false,false,false,false,false,false,false,false]
[null,null,null,null,null,null,null,null,null,null,null,null,null,null,null,null,null,null,null,false,false,false,false,false,false,false,false,false,false]
[]
[]
[null,null,null,null,null,null,null,null,null,null,null,null,null,null,null,null,null,null,{"$f":"G644","v":"Q6.16"},{"$f":"IF(I644=\"\",$H644,I644)","v":false},{"$f":"IF(J644=\"\",$H644,J644)","v":false},{"$f":"IF(K644=\"\",$H644,K644)","v":false},{"$f":"IF(L644=\"\",$H644,L644)","v":false},{"$f":"IF(M644=\"\",$H644,M644)","v":false},{"$f":"IF(N644=\"\",$H644,N644)","v":false},false,false,false,false]
[null,null,null,null,null,null,null,null,null,null,null,null,null,null,null,null,null,null,null,{"$f":"IF(I645=\"\",$H645,I645)","v":true},{"$f":"IF(J645=\"\",$H645,J645)","v":false},{"$f":"IF(K645=\"\",$H645,K645)","v":false},{"$f":"IF(L645=\"\",$H645,L645)","v":false},{"$f":"IF(M645=\"\",$H645,M645)","v":true},{"$f":"IF(N645=\"\",$H645,N645)","v":false},{"$f":"IF(O645=\"\",$H645,O645)","v":false},{"$f":"IF(P645=\"\",$H645,P645)","v":false},true,false]
[null,null,null,null,null,null,null,null,null,null,null,null,null,null,null,null,null,null,null,false,true,true,true,false,true,true,true,false,false]
[null,null,null,null,null,null,null,null,null,null,null,null,null,null,null,null,null,null,null,false,false,false,false,false,false,false,false,false,false]
[]
[]
[]
[null,null,null,null,null,null,null,null,null,null,null,null,null,null,null,null,null,null,{"$f":"G648","v":"Q6.17"},{"$f":"IF(I648=\"\",$H648,I648)","v":false},{"$f":"IF(J648=\"\",$H648,J648)","v":false},{"$f":"IF(K648=\"\",$H648,K648)","v":false},{"$f":"IF(L648=\"\",$H648,L648)","v":false},{"$f":"IF(M648=\"\",$H648,M648)","v":false},{"$f":"IF(N648=\"\",$H648,N648)","v":false},false,false,false,false]
[null,null,null,null,null,null,null,null,null,null,null,null,null,null,null,null,null,null,null,{"$f":"IF(I649=\"\",$H649,I649)","v":false},{"$f":"IF(J649=\"\",$H649,J649)","v":false},{"$f":"IF(K649=\"\",$H649,K649)","v":false},{"$f":"IF(L649=\"\",$H649,L649)","v":false},{"$f":"IF(M649=\"\",$H649,M649)","v":false},{"$f":"IF(N649=\"\",$H649,N649)","v":false},{"$f":"IF(O649=\"\",$H649,O649)","v":false},{"$f":"IF(P649=\"\",$H649,P649)","v":false},false,false]
[null,null,null,null,null,null,null,null,null,null,null,null,null,null,null,null,null,null,null,true,true,true,true,true,true,true,true,true,false]
[null,null,null,null,null,null,null,null,null,null,null,null,null,null,null,null,null,null,null,false,false,false,false,false,false,false,false,{"$f":"IF(Q651=\"\",$H651,Q651)","v":false},false]
["general"]
[]
[null,"weights of the chapters",null,null,null,null,{"$f":"IF(SUM(G705:G710)=100,\"ok\",\"error\")","v":"ok"}]
[]
[null,"A Corporate Leadership Culture",null,null,null,null,{"$f":"'Začátek a předvyplnění dotazník'!J22","v":18.7}]
[null,"Safeguarding People and the Environment",null,null,null,null,{"$f":"'Začátek a předvyplnění dotazník'!J23","v":23.2}]
[null,"Strengthening Chemicals Management Systems",null,null,null,null,{"$f":"'Začátek a předvyplnění dotazník'!J24","v":16.100000000000001}]
[null,"Influencing Business Partners",null,null,null,null,{"$f":"'Začátek a předvyplnění dotazník'!J25","v":12.3}]
[null,"Engaging Stakeholders",null,null,null,null,{"$f":"'Začátek a předvyplnění dotazník'!J26","v":12.3}]
[null,"Contributing to Sustainability",null,null,null,null,{"$f":"'Začátek a předvyplnění dotazník'!J27","v":17.399999999999999}]
[]
[null,"answers to be completed"]
[null,{"$f":"COUNTBLANK('Technický list'!$C$10:$C$25)+COUNTBLANK('Technický list'!$C$124:$C$168)+COUNTBLANK('Technický list'!$C$406:$C$415)+COUNTBLANK('Technický list'!$C$482:$C$489)+COUNTBLANK('Technický list'!$C$544:$C$548)+COUNTBLANK('Technický list'!$C$584:$C$600)","v":0}]

{"sheet":"SDG – Technický list ","index":16,"n_rows":108,"n_cols":20,"rows_kept":108,"cut":false,"hidden":false,"merged":[]}
[null,null,null,"minimum score"]
[null,null,"score","SDG1","SDG2","SDG3","SDG4","SDG5","SDG6","SDG7","SDG8","SDG9","SDG10","SDG11","SDG12","SDG13","SDG14","SDG15","SDG16","SDG17"]
[null,{"$f":"'Technický list'!B10","v":"Q1.1"},{"$f":"'Technický list'!C10","v":4}]
[null,{"$f":"'Technický list'!B11","v":"Q1.2"},{"$f":"'Technický list'!C11","v":4}]
[null,{"$f":"'Technický list'!B12","v":"Q1.3"},{"$f":"'Technický list'!C12","v":4}]
[null,{"$f":"'Technický list'!B13","v":"Q1.4"},{"$f":"'Technický list'!C13","v":3}]
[null,{"$f":"'Technický list'!B14","v":"Q1.5"},{"$f":"'Technický list'!C14","v":3}]
[null,{"$f":"'Technický list'!B15","v":"Q1.6"},{"$f":"'Technický list'!C15","v":3}]
[null,{"$f":"'Technický list'!B16","v":"Q1.7"},{"$f":"'Technický list'!C16","v":3}]
[null,{"$f":"'Technický list'!B17","v":"Q1.8"},{"$f":"'Technický list'!C17","v":3}]
[null,{"$f":"'Technický list'!B18","v":"Q1.9"},{"$f":"'Technický list'!C18","v":4}]
[null,{"$f":"'Technický list'!B19","v":"Q1.10"},{"$f":"'Technický list'!C19","v":4}]
[null,{"$f":"'Technický list'!B20","v":"Q1.11"},{"$f":"'Technický list'!C20","v":3}]
[null,{"$f":"'Technický list'!B21","v":"Q1.12"},{"$f":"'Technický list'!C21","v":3}]
[null,{"$f":"'Technický list'!B22","v":"Q1.13"},{"$f":"'Technický list'!C22","v":3}]
[null,{"$f":"'Technický list'!B23","v":"Q1.14"},{"$f":"'Technický list'!C23","v":3}]
[null,{"$f":"'Technický list'!B24","v":"Q1.15"},{"$f":"'Technický list'!C24","v":3}]
[null,{"$f":"'Technický list'!B25","v":"Q1.16"},{"$f":"'Technický list'!C25","v":3}]
[]
[null,{"$f":"'Technický list'!B124","v":"Q2.1"},{"$f":"'Technický list'!C124","v":3},null,null,null,null,null,null,null,3]
[null,{"$f":"'Technický list'!B125","v":"Q2.2"},{"$f":"'Technický list'!C125","v":4},null,null,null,null,null,null,null,3]
[null,{"$f":"'Technický list'!B126","v":"Q2.3"},{"$f":"'Technický list'!C126","v":3},null,null,null,null,null,null,null,3]
[null,{"$f":"'Technický list'!B127","v":"Q2.4"},{"$f":"'Technický list'!C127","v":4}]
[null,{"$f":"'Technický list'!B128","v":"Q2.5"},{"$f":"'Technický list'!C128","v":2}]
[null,{"$f":"'Technický list'!B129","v":"Q2.6"},{"$f":"'Technický list'!C129","v":3}]
[null,{"$f":"'Technický list'!B130","v":"Q2.7"},{"$f":"'Technický list'!C130","v":2},null,null,null,null,null,null,null,3]
[null,{"$f":"'Technický list'!B131","v":"Q2.8"},{"$f":"'Technický list'!C131","v":3},null,null,null,null,null,null,null,3]
[null,{"$f":"'Technický list'!B132","v":"Q2.9"},{"$f":"'Technický list'!C132","v":4}]
[null,{"$f":"'Technický list'!B133","v":"Q2.10"},{"$f":"'Technický list'!C133","v":3},null,null,null,null,null,null,null,3]
[null,{"$f":"'Technický list'!B134","v":"Q2.11"},{"$f":"'Technický list'!C134","v":3}]
[null,{"$f":"'Technický list'!B135","v":"Q2.12"},{"$f":"'Technický list'!C135","v":4}]
[null,{"$f":"'Technický list'!B136","v":"Q2.13"},{"$f":"'Technický list'!C136","v":3}]
[null,{"$f":"'Technický list'!B137","v":"Q2.14"},{"$f":"'Technický list'!C137","v":1}]
[null,{"$f":"'Technický list'!B138","v":"Q2.15"},{"$f":"'Technický list'!C138","v":3}]
[null,{"$f":"'Technický list'!B139","v":"Q2.16"},{"$f":"'Technický list'!C139","v":4}]
[null,{"$f":"'Technický list'!B140","v":"Q2.17"},{"$f":"'Technický list'!C140","v":4}]
[null,{"$f":"'Technický list'!B141","v":"Q2.18"},{"$f":"'Technický list'!C141","v":3}]
[null,{"$f":"'Technický list'!B142","v":"Q2.19"},{"$f":"'Technický list'!C142","v":3}]
[null,{"$f":"'Technický list'!B143","v":"Q2.20"},{"$f":"'Technický list'!C143","v":4}]
[null,{"$f":"'Technický list'!B144","v":"Q2.21"},{"$f":"'Technický list'!C144","v":3}]
[null,{"$f":"'Technický list'!B145","v":"Q2.22"},{"$f":"'Technický list'!C145","v":2}]
[null,{"$f":"'Technický list'!B146","v":"Q2.23"},{"$f":"'Technický list'!C146","v":4}]
[null,{"$f":"'Technický list'!B147","v":"Q2.24"},{"$f":"'Technický list'!C147","v":4}]
[null,{"$f":"'Technický list'!B148","v":"Q2.25"},{"$f":"'Technický list'!C148","v":3}]
[null,{"$f":"'Technický list'!B149","v":"Q2.26"},{"$f":"'Technický list'!C149","v":4}]
[null,{"$f":"'Technický list'!B150","v":"Q2.27"},{"$f":"'Technický list'!C150","v":4}]
[null,{"$f":"'Technický list'!B151","v":"Q2.28"},{"$f":"'Technický list'!C151","v":4}]
[null,{"$f":"'Technický list'!B152","v":"Q2.29"},{"$f":"'Technický list'!C152","v":4}]
[null,{"$f":"'Technický list'!B153","v":"Q2.30"},{"$f":"'Technický list'!C153","v":4}]
[null,{"$f":"'Technický list'!B154","v":"Q2.31"},{"$f":"'Technický list'!C154","v":3}]
[null,{"$f":"'Technický list'!B155","v":"Q2.32"},{"$f":"'Technický list'!C155","v":3}]
[null,{"$f":"'Technický list'!B156","v":"Q2.33"},{"$f":"'Technický list'!C156","v":4},null,null,null,null,null,null,null,null,3,null,null,3]
[null,{"$f":"'Technický list'!B157","v":"Q2.34"},{"$f":"'Technický list'!C157","v":4},null,null,null,null,null,null,null,null,3,null,null,3]
[null,{"$f":"'Technický list'!B158","v":"Q2.35"},{"$f":"'Technický list'!C158","v":3},null,null,null,null,null,null,null,null,3,null,null,3]
[null,{"$f":"'Technický list'!B159","v":"Q2.36"},{"$f":"'Technický list'!C159","v":3},null,null,null,null,null,null,null,null,3,null,null,3]
[null,{"$f":"'Technický list'!B160","v":"Q2.37"},{"$f":"'Technický list'!C160","v":3},null,null,null,null,null,null,null,null,3,null,null,3]
[null,{"$f":"'Technický list'!B161","v":"Q2.38"},{"$f":"'Technický list'!C161","v":4},null,null,null,null,null,null,null,null,3,null,null,3]
[null,{"$f":"'Technický list'!B162","v":"Q2.39"},{"$f":"'Technický list'!C162","v":3},null,null,null,null,null,null,null,null,3,null,null,3]
[null,{"$f":"'Technický list'!B163","v":"Q2.40"},{"$f":"'Technický list'!C163","v":4},null,null,null,null,null,null,null,null,3,null,null,3]
[null,{"$f":"'Technický list'!B164","v":"Q2.41"},{"$f":"'Technický list'!C164","v":3}]
[null,{"$f":"'Technický list'!B165","v":"Q2.42"},{"$f":"'Technický list'!C165","v":4}]
[null,{"$f":"'Technický list'!B166","v":"Q2.43"},{"$f":"'Technický list'!C166","v":4}]
[null,{"$f":"'Technický list'!B167","v":"Q2.44"},{"$f":"'Technický list'!C167","v":4}]
[null,{"$f":"'Technický list'!B168","v":"Q2.45"},{"$f":"'Technický list'!C168","v":3}]
[]
[null,{"$f":"'Technický list'!B406","v":"Q3.1"},{"$f":"'Technický list'!C406","v":3},null,null,null,null,null,null,null,null,3,null,null,3]
[null,{"$f":"'Technický list'!B407","v":"Q3.2"},{"$f":"'Technický list'!C407","v":2},null,null,null,null,null,null,null,null,3,null,null,3]
[null,{"$f":"'Technický list'!B408","v":"Q3.3"},{"$f":"'Technický list'!C408","v":3}]
[null,{"$f":"'Technický list'!B409","v":"Q3.4"},{"$f":"'Technický list'!C409","v":2},null,null,3,null,null,null,null,null,null,null,null,3,null,null,null,null,3]
[null,{"$f":"'Technický list'!B410","v":"Q3.5"},{"$f":"'Technický list'!C410","v":2},null,null,3]
[null,{"$f":"'Technický list'!B411","v":"Q3.6"},{"$f":"'Technický list'!C411","v":4},null,null,3]
[null,{"$f":"'Technický list'!B412","v":"Q3.7"},{"$f":"'Technický list'!C412","v":3},null,null,3,null,null,null,null,null,null,null,null,null,null,null,null,null,3]
[null,{"$f":"'Technický list'!B413","v":"Q3.8"},{"$f":"'Technický list'!C413","v":4},null,null,null,null,null,null,null,null,null,null,null,null,null,null,null,null,3]
[null,{"$f":"'Technický list'!B414","v":"Q3.9"},{"$f":"'Technický list'!C414","v":4},null,null,3]
[null,{"$f":"'Technický list'!B415","v":"Q3.10"},{"$f":"'Technický list'!C415","v":4},null,null,3,null,null,null,null,null,null,null,null,null,null,null,null,null,3]
[]
[null,{"$f":"'Technický list'!B482","v":"Q4.1"},{"$f":"'Technický list'!C482","v":3},null,null,null,null,null,null,null,3]
[null,{"$f":"'Technický list'!B483","v":"Q4.2"},{"$f":"'Technický list'!C483","v":4}]
[null,{"$f":"'Technický list'!B484","v":"Q4.3"},{"$f":"'Technický list'!C484","v":3}]
[null,{"$f":"'Technický list'!B485","v":"Q4.4"},{"$f":"'Technický list'!C485","v":2},null,null,null,null,null,null,null,3]
[null,{"$f":"'Technický list'!B486","v":"Q4.5"},{"$f":"'Technický list'!C486","v":4},null,null,null,null,null,null,null,3]
[null,{"$f":"'Technický list'!B487","v":"Q4.6"},{"$f":"'Technický list'!C487","v":3}]
[null,{"$f":"'Technický list'!B488","v":"Q4.7"},{"$f":"'Technický list'!C488","v":1}]
[null,{"$f":"'Technický list'!B489","v":"Q4.8"},{"$f":"'Technický list'!C489","v":4}]
[]
[null,{"$f":"'Technický list'!B544","v":"Q5.1"},{"$f":"'Technický list'!C544","v":3}]
[null,{"$f":"'Technický list'!B545","v":"Q5.2"},{"$f":"'Technický list'!C545","v":4}]
[null,{"$f":"'Technický list'!B546","v":"Q5.3"},{"$f":"'Technický list'!C546","v":2},null,null,null,null,null,null,null,null,null,null,null,3]
[null,{"$f":"'Technický list'!B547","v":"Q5.4"},{"$f":"'Technický list'!C547","v":2},null,null,null,null,null,null,null,null,null,null,3]
[null,{"$f":"'Technický list'!B548","v":"Q5.5"},{"$f":"'Technický list'!C548","v":3},null,null,null,3,null,null,null,3]
[]
[null,{"$f":"'Technický list'!B584","v":"Q6.1"},{"$f":"'Technický list'!C584","v":2}]
[null,{"$f":"'Technický list'!B585","v":"Q6.2"},{"$f":"'Technický list'!C585","v":2}]
[null,{"$f":"'Technický list'!B586","v":"Q6.3"},{"$f":"'Technický list'!C586","v":3},null,null,null,null,null,null,null,null,null,null,null,3]
[null,{"$f":"'Technický list'!B587","v":"Q6.4"},{"$f":"'Technický list'!C587","v":2},null,null,null,null,null,null,null,null,null,null,null,3]
[null,{"$f":"'Technický list'!B588","v":"Q6.5"},{"$f":"'Technický list'!C588","v":2},null,null,null,null,null,null,null,3,null,null,null,3]
[null,{"$f":"'Technický list'!B589","v":"Q6.6"},{"$f":"'Technický list'!C589","v":1},null,null,null,null,null,null,null,3,null,null,null,3]
[null,{"$f":"'Technický list'!B590","v":"Q6.7"},{"$f":"'Technický list'!C590","v":3},null,null,null,null,null,null,null,3,null,null,null,3]
[null,{"$f":"'Technický list'!B591","v":"Q6.8"},{"$f":"'Technický list'!C591","v":3}]
[null,{"$f":"'Technický list'!B592","v":"Q6.9"},{"$f":"'Technický list'!C592","v":1},null,null,null,null,null,null,null,3]
[null,{"$f":"'Technický list'!B593","v":"Q6.10"},{"$f":"'Technický list'!C593","v":2},null,null,null,null,null,3,null,3,3,null,null,3]
[null,{"$f":"'Technický list'!B594","v":"Q6.11"},{"$f":"'Technický list'!C594","v":3},null,null,null,null,null,3,null,3,3,null,null,3,null,null,3]
[null,{"$f":"'Technický list'!B595","v":"Q6.12"},{"$f":"'Technický list'!C595","v":1},null,null,null,null,null,3,null,3,3,null,null,3,null,null,3]
[null,{"$f":"'Technický list'!B596","v":"Q6.13"},{"$f":"'Technický list'!C596","v":2},null,null,null,null,null,null,3,null,3,null,null,3,3]
[null,{"$f":"'Technický list'!B597","v":"Q6.14"},{"$f":"'Technický list'!C597","v":3},null,null,null,null,null,null,3,null,3,null,null,3,3]
[null,{"$f":"'Technický list'!B598","v":"Q6.15"},{"$f":"'Technický list'!C598","v":2},null,null,null,null,null,null,3,null,3,null,null,3,3]
[null,{"$f":"'Technický list'!B599","v":"Q6.16"},{"$f":"'Technický list'!C599","v":2},null,null,null,null,null,null,3,null,3,null,null,3,3]
[null,{"$f":"'Technický list'!B600","v":"Q6.17"},{"$f":"'Technický list'!C600","v":3},null,null,null,null,3,null,null,3]