{"text_format":"1","workbook":"xlsx","n_sheets":17,"sheets":["Front page","Start and prefill","Glossary","Identification","Chapter 1","Chapter 2","Chapter 3","Chapter 4","Chapter 5","Chapter 6","General outcome","Tips","Specific reports","SDG report","Action plan","Technical page","Technical SDG"],"not_rendered":{"charts":1,"images":20,"macros":1,"external_links":0,"defined_names":23,"comments":0,"pivot_tables":0},"unopened":[],"bounds":{"document_bytes":16777216,"sheet_cells":100000,"rows_first":2000,"rows_last":500,"rows_between":2000,"halvings":0,"cell_chars":16384,"cell_head_chars":4096},"cells_cut":0,"cells_raw":0,"read":"whole","date_system":"1900"}

{"sheet":"Front page","index":0,"n_rows":38,"n_cols":4,"rows_kept":38,"cut":false,"hidden":false,"merged":[[10,2,10,10],[23,1,23,18],[24,1,24,18],[25,1,25,18],[35,3,35,18],[26,1,28,18],[37,1,39,18],[29,1,31,18],[32,3,32,18],[33,3,33,18],[34,3,34,18]]}
[]
[null,"Sebehodnocení  Responsible Care"]
[]
[null,"Tento nástroj slouží společnostem v chemickém sektoru k implementaci Responsible Care."]
[]
[null,"Příručka obsahuje následující stránky: "]
[]
[null,null,"Začátek a předvyplnění dotazníku"]
[null,null,"Přehled zkratek a pojmů"]
[null,null,"Identifikace"]
[null,null,"Identifikace\n Sadu otázek pro každou ze šesti kapitol Responsible Care"]
[null,null,"Stránka s informací o dosažených výsledcích dle hodnocení Responsible Care"]
[null,null,"Tipy a nejlepší praxe"]
[null,null,"Dvě tabulky s s dosaženými výsledky: \n-\tDle konkrétních otázek v rámci kapitol  -K plnění cílů udržitelného rozvoje (SDGs)"]
[null,null,"Akční plán"]
[null,null,"Dvě technické stránky"]
[]
[null,"Používejte tento excelovský soubor nejlépe ve 100% rozlišení."]
[]
[null,"Verze:12/04/2019"]
[null,"Arcadis"]
[]
[]
[null,"Responsible Care je celosvětový dobrovolný závazek chemického průmyslu prosazovat neustálé zlepšování a dosahování vynikajících výsledků při managementu chemických látek."]
[null,"Cefic vytvořil nový systém managementu Responsible Care pro Evropu tak, aby umožnil více společnostem chemického průmyslu připojení ke skupině Responsible Care a zlepšení jejich pověsti a důvěryhodnosti."]
[null,"Revidovaný systém managementu Responsible Care poskytuje evropským chemickým společnostem jasnou, inkluzivní a progresivní cestu k neustálému zlepšování."]
[null,"Zahrnuje vývoj praktických nástrojů (rámec pro správu Responsible Care a nástroj pro samohodnocení Responsible Care), který je cenný jak pro společnosti, tak i pro národní asociace, a pro vytváření úrovní zralosti, které pomohou společnostem v průběhu času růst. Spojuje evropskou společnost Responsible Care® s nejvyššími možnými standardy (tj. Managementem kvality ISO9001, environmentálním managementem ISO14001, EMAS, energetickým managementem ISO50001, managementem zdraví a bezpečnosti ISO45001, ISO26000, RC 14001 a RCMS, dvěma technickými specifikacemi z celosvětové aplikace American Chemistry Council) spolu se zásadami udržitelnosti (tj. cíle udržitelného rozvoje OSN, Charta Cefic Sustainability Charter a ChemistryCan Initiative). V konečném důsledku přispívá k harmonizovanému přístupu Responsible Care na úrovni ICCA."]
[]
[]
[null,"Revidovaný systém řízení zahrnuje soustavné hodnocení výkonnosti a průběžného hodnocení malých i velkých společností nebo pracovišť, které mají nebo nemají zkušenosti s Responsible Care nebo mají či nemají zavedené standardy. Zahrnuje proto 4 následující úrovně pokročilosti/vyspělosti, které reprezentující 4 různé úrovně implementace Responsible Care: "]
[]
[]
[null,"Úroveň 1 ","Zavázat se k Responsible Care","Kandidát se zavazuje k Responsible Care a začíná se seznamovat s implementačními kroky."]
[null,"Úroveň 2 ","Initiate and Plan","PD - Plánování a realizace: organizace zahájila implementaci Responsible Care v rámci své činnosti, jsou vypracovány a implementovány plány zlepšování."]
[null,"Úroveň 3 ","Improve Continuously","PDCA - plánování a kontrola: organizace dosáhla úrovně implementace, kde se plány a akce pouze neuskutečňují, ale také se hodnotí, aby vedly k neustálému zlepšování; plně implementován systémový přístup"]
[null,"Úroveň 4 ","Promote and Sustain Excellence","Podporovat a udržovat vysokou úroveň \nOrganizace dosáhla zlepšeného výkonu, vyšší efektivity. Pokračuje buď přezkoumáním účinnosti svých procesů nebo sdílením osvědčených postupů s kolegy, partnery atd. S cílem podpořit budování podniků a urychlit změny."]
[]
[null,"Upozornění: Jedná se o dobrovolný nástroj pro sebehodnocení, který vypracoval Cefic Responsible Care Issue Team, aby podpořil společnosti v hodnocení výkonnosti v rámci Charty Responsible Care Global. Tento nástroj - a veškeré doprovodné pokyny - nemění ani nenahrazuje obsah Charty Responsible Care Global Charter. Není v žádném případě zamýšleno jako normativní nebo závazné: společnosti a národní asociace mohou svobodně definovat způsob, jakým budou provádět globální chartu, včetně priorit a úrovně angažovanosti. Nakonec je na každém signatáři Globální charty, aby posoudil vhodnost opatření přijatých v rámci plnění Globální charty. Pokud jde o úplnost nebo přesnost nástroje, nejsou vzneseny žádné námitky ani záruky a Cefic ani žádná společnost, která je členem Cefic, nepřijme žádnou odpovědnost za náhradu škody jakékoli povahy vyplývající z použití nebo spolehnutí se na informace, které obsahuje."]

{"sheet":"Start and prefill","index":1,"n_rows":28,"n_cols":15,"rows_kept":28,"cut":false,"hidden":false,"merged":[]}
[]
[null,"Můžete si vybrat, zda začnete s vyplňováním otázek nebo předběžně vyplníte některé otázky založené na dodržování externích norem."]
[null,"Povolte použití makra, aby tato funkce fungovala."]
[]
[null,"PŘEDVYPLNĚNÍ"]
[]
[null,"Pokud splňujete následující standardy, stiskněte tlačítko pro předběžné vyplnění údajů."]
[null,"Předem vyplněné odpovědi můžete vždy ručně přepsat."]
[null,{"$f":"IF(G9=\"\",\"\",\"Questions still to be answered in the chapter tabs:\")","v":""},null,null,null,null,{"$f":"IF('Technical page'!$B$713=0,\"\",'Technical page'!$B$713)","v":""}]
[]
[]
[null,null,null,null,null,null,null,null,null,null,null,null,null,null,"ISO 9001 is prefilled"]
[null,null,null,null,null,null,null,null,null,null,null,null,null,null,"ISO 14001 is prefilled"]
[null,null,null,null,null,null,null,null,null,null,null,null,null,null,"ISO 45001 is prefilled"]
[null,null,null,null,null,null,null,null,null,null,null,null,null,null,"ISO 50001 is prefilled"]
[]
[null,"* ISO 45001 nahrazuje OHSAS / ISO 18001",null,null,null,"** RCMS je technická specifikace ACC systému Responsible Care Management System"]
[null,"ISO 50001 is prefilled"]
[]
[null,"VYPLŇTE DOTAZNÍK",null,null,null,null,null,null,null,"Výsledky z jednotlivých kapitol"]
[]
[null,1,"Podniková kultura vedení",null,null,null,null,null,null,18.7,"%"]
[null,2,"Ochrana lidí a životního prostředí",null,null,null,null,null,null,23.2,"%"]
[null,3,"Posílení systémů řízení chemických látek ",null,null,null,null,null,null,16.100000000000001,"%"]
[null,4,"Působení na obchodní partnery",null,null,null,null,null,null,12.3,"%"]
[null,5,"Zapojení zasinteresovaných stran ",null,null,null,null,null,null,12.3,"%"]
[null,6,"Přispívání k udržitelnosti",null,null,null,null,null,null,17.399999999999999,"%"]
[null,null,null,null,null,null,null,null,null,{"$f":"IF(SUM(J22:J27)=100,\"\",\"error\")","v":""}]

{"sheet":"Glossary","index":2,"n_rows":210,"n_cols":5,"rows_kept":210,"cut":false,"hidden":false,"merged":[[176,4,180,4],[185,2,188,2],[185,4,188,4],[204,4,206,4],[189,2,193,2],[189,4,193,4],[194,2,195,2],[194,4,195,4],[200,4,202,4],[204,2,205,2],[156,4,164,4],[167,4,170,4],[156,2,158,2],[172,3,173,3],[172,4,173,4],[136,4,137,4],[138,4,140,4],[144,4,145,4],[146,4,147,4],[148,2,152,2],[148,4,152,4],[120,4,123,4],[127,2,128,2],[127,4,128,4],[130,4,133,4],[134,2,135,2],[134,4,135,4],[112,2,113,2],[112,3,113,3],[112,4,113,4],[116,2,117,2],[116,4,117,4],[100,2,104,2],[100,4,104,4],[105,2,109,2],[105,4,109,4],[110,2,111,2],[110,3,111,3],[110,4,111,4],[79,2,81,2],[79,4,81,4],[87,4,88,4],[93,4,96,4],[98,2,99,2],[98,3,99,3],[98,4,99,4],[69,2,70,2],[69,4,70,4],[71,2,73,2],[71,4,73,4],[76,2,78,2],[76,4,78,4],[34,2,38,2],[34,4,38,4],[40,4,42,4],[57,2,62,2],[57,4,62,4],[44,4,46,4],[49,4,51,4],[53,4,54,4]]}
[]
[]
[]
[]
[]
[]
[null,null,"Zkratky"]
[null,null,"ACC","Americká rada pro chemii"]
[null,null,"BAT","Nejlepší dostupná technika"]
[null,null,"CSR","Společenská odpovědnost podniku (korporátu)"]
[null,null,"EnB","Energetická základna"]
[null,null,"EnPI","Indikátor energetické výkonnosti"]
[null,null,"EWS","Evropské vodohospodářství"]
[null,null,"GHG","Skleníkový plyn"]
[null,null,"GRI","Globální iniciativa pro reportování"]
[null,null,"H&S","Zdraví a bezpečnost"]
[null,null,"ICCA","Mezinárodní rada chemických asociací"]
[null,null,"ICE","Intervence při mimořádných událostech v chemické dopravě"]
[null,null,"KPI","Klíčový ukazatel výkonnosti"]
[null,null,"LoPC","Ztráta primární obálky "]
[null,null,"MoC","Řízení změn"]
[null,null,"PDCA","Plánování , realizace, kontrola, opatření"]
[null,null,"PPE","Osobní ochranné prostředky"]
[null,null,"R&D","Výzkum a vývoj"]
[null,null,"REACH","Registrace, hodnocení, povolování a omezení chemických látek"]
[null,null,"SDG","Cíle udržitelného rozvoje"]
[null,null,"SDS","Bezpečnostní list"]
[null,null,"SEU","Významné užití/potřeba energie"]
[null,null,"SQAS","Systém hodnocení bezpečnosti a kvality"]
[null,null,"WBCSD","Světová obchodní rada pro udržitelný rozvoj"]
[]
[null,null,"Abecední seznam pojmů"]
[]
[null,null,"Pojem","Definition","Based on "]
[null,null,"Audit","Systematický, nezávislý a zdokumentovaný proces získávání důkazních informací a jeho objektivní hodnocení s cílem určit, do jaké míry jsou splněna kritéria auditu.\n","RC14001"]
[null,null,null,"Poznámka 1: Interní audit je prováděn vlastní organizací nebo externím subjektem v jejím zastoupení."]
[null,null,null,"Poznámka 2: Audit může být kombinovaným auditem (kombinací dvou nebo více oborů)."]
[null,null,null,"Poznámka 3: Nezávislost může být prokázána tím, že je vyloučena odpovědnost za auditovanou činnost nebo za to, že nedochází ke zkreslení a střetu zájmů."]
[null,null,null,"Poznámka 4: „ Auditní důkazy “ se skládají ze záznamů, skutečností nebo jiných informací, které jsou relevantní pro kritéria auditu a jsou ověřitelné; a „auditorská kritéria“ jsou souborem zásad, postupů nebo požadavků použitých jako reference, s nimiž se porovnává důkazní informace, jak je definováno v normě ISO 19011: 2011, 3.3 a 3.2."]
[null,null,"Uhlíková stopa","Čisté množství skleníkových Plynů (GHG) emise a pohlcení, vyjádřené v ekvivalentu CO2.","ISO16759"]
[null,null,"Oběhové hospodářství ","V oběhovém hospodářství je hodnota výrobků a materiálů udržována tak dlouho, jak je to jen možné. Odpady a spotřeba zdrojů jsou minimalizovány a pokud výrobek dosáhne konce své životnosti, znovu se použije k vytvoření nového výrobku. To může přinést velké ekonomické přínosy, které přispějí k inovacím, růstu a vytváření pracovních míst.","https://ec.europa.eu/growth/industry/sustainability/circular-economy_en"]
[null,null,null,"Na úrovni EU není uvedena žádná definice oběhového hospodářství. To je vážný nedostatek. Způsob, jakým EU popisuje oběhové hospodářství, obsahuje některé prvky, jak jsou zahrnuty do definice navrhované výše, ale postrádá holistický pohled na koncept oběhového hospodářství."]
[null,null,null,"Oběhové hospodářství je rozvíjející se ekonomický model, který pokrývá jak techniky, tak obchodní modely, aby se materiály a zdroje udržely co nejdéle a ideálně navždy v uzavřeném cyklu rozšířeného používání, opětovného použití a recyklace. Kritické složky oběhového hospodářství jsou průmyslová symbióza, sdílené hospodářství, „produkt jako služba“, úzký vztah mezi výrobcem a spotřebitelem, blízkost ekonomie, opětovné použití a recyklace, městská těžba, detoxikace materiálových cyklů a udržitelná spotřeba a výroba. Oproti oběhovému hospodářství se jedná o naprogramované zastarávání, downcycling, starší látky nebo ztrátu přidané hodnoty."]
[null,null,"Kompetence","Schopnost aplikovat znalosti a dovednosti k dosažení zamýšlených výsledků.","ISO14001/RC14001"]
[null,null,"Povinnosti v oblasti dodržování předpisů nebo právní požadavky","(Preferovaný termín) právní požadavky a jiné požadavky (přiznaný termín), které musí organizace dodržovat, a další požadavky, které musí organizace splnit nebo se rozhodne splnit. ","ISO14001/RC14001"]
[null,null,null,"Poznámka 1: Povinnosti v oblasti dodržování předpisů se týkají systému řízení z hlediska ochrany životního prostředí. "]
[null,null,null,"Poznámka 2: Povinnosti vyplývající z plnění závazků mohou vyplynout z povinných požadavků, jako jsou platné právní předpisy nebo dobrovolné závazky, jako jsou organizační a průmyslové normy, smluvní vztahy, kodexy praxe a dohody s představiteli měst a obcí nebo nevládními organizacemi (spolky, komunity)."]
[null,null,"Shoda","Splnění požadavku.","ISO14001/RC14001"]
[null,null,"Spotřebitel","Jednotlivý člen široké veřejnosti nakupující nebo využívající nemovitosti, výrobky nebo služby pro komerční, soukromé nebo veřejné účely.","ISO26000"]
[null,null,"Neustálé zlepšování","Opakující se činnost pro zvýšení výkonu. ","ISO14001/RC14001"]
[null,null,null,"Poznámka 1 ke vstupu: Zvyšování výkonnosti souvisí s používáním systému řízení z hlediska ochrany životního prostředí k posílení vlivu činnosti organizace na životní prostředí. "]
[null,null,null,"Poznámka 2 ke vstupu: Činnost nemusí probíhat ve všech oblastech současně, nebo bez přerušení."]
[null,null,"Kontraktor","Externí organizace poskytující služby organizaci v souladu s dohodnutými specifikacemi, podmínkami. Kontraktoři mohou zahrnovat údržbu, výstavbu, provoz, bezpečnost, terénní úpravy, údržbu zařízení, úklid a řadu dalších funkcí.","RC14001/ISO45001"]
[null,null,"Nápravná opatření","Opatření k odstranění příčiny neshody nebo incidentu a k zabránění opakování. ","ISO14001/RC14001/ISO45001"]
[null,null,null,"Poznámka 1 ke vstupu: Pro neshodu může být více než jedna příčina."]
[null,null,"Zákazník","Organizace nebo jednotlivý člen široké veřejnosti nakupující nemovitosti, produkty nebo služby pro komerční, soukromé nebo veřejné účely.","ISO26000"]
[null,null,"Distributoři","Tyto společnosti používá organizace k prodeji (často po přebalení) svých výrobků více následným uživatelům. Distributoři se liší od „prodejců“, kteří nakupují materiál a prodávají jej pod vlastní značkou.","RC14001"]
[null,null,"Dokumentované informace","Informace, které musí kontrolovat a udržovat organizace a medium (prostředek), na kterém jsou obsaženy.","ISO14001/RC14001"]
[null,null,null,"Poznámka 1: Dokumentované informace mohou být v jakémkoli formátu a médiích a z jakéhokoli zdroje."]
[null,null,null,"Poznámka 2: Dokumentované informace se mohou týkat:"]
[null,null,null,"•       systému environmentálního managementu, včetně souvisejících procesů;"]
[null,null,null,"•       informací vytvořené za účelem fungování organizace (lze ji označit jako dokumentaci);"]
[null,null,null,"•       důkazů o dosažených výsledcích (lze označit jako záznamy)."]
[null,null,"Následní uživatelé","Každá fyzická nebo právnická osoba usazená ve Společenství, jiná než výrobce nebo dovozce, která při své průmyslové nebo profesní činnosti používá látku buď samotnou nebo obsaženou v přípravku. Distributor nebo spotřebitel není následným uživatelem.","article 3(13) of REACH"]
[null,null,"Ekodesign","Začlenění environmentálních aspektů do produktového designu a vývoje s cílem snížit nepříznivé dopady na životní prostředí v průběhu celého životního cyklu výrobku.","ISO14006"]
[null,null,"Přírodní zdroje, Ekosystém ","Výhody, které lidé získávají z přírodních zdrojů. Česká definice ekosystému ze Zákona 114/1992, Sb. o ochraně přírody a krajiny: Ekosystém je funkční soustava živých a neživých složek životního prostředí, jež jsou navzájem spojeny výměnou látek, tokem energie a předáváním informací a které se vzájemně ovlivňují a vyvíjejí v určitém prostoru a čase.","Cefic - Biodiversity and Ecosystem services What are they all about?"]
[null,null,"Účinnost","Rozsah, ve kterém jsou realizovány plánované aktivity a dosaženy plánované výsledky.","ISO14001/RC14001"]
[null,null,"EMAS IV (2017)","Nařízení EMAS odkazuje na nařízení Evropského parlamentu a Rady (ES) č. 1221/2009 ze dne 25. listopadu 2009 o dobrovolné účasti organizací v systému Společenství pro environmentální řízení podniků a audit (EMAS) a o zrušení nařízení Rady (ES) č. 761/2001, rozhodnutí Komise 2001/681/ES a 2006/193/ES, známé jako EMAS III (Úřední věstník Evropských společenství L 342 ze dne 22. prosince 2009). Přílohy I, II a III nařízení EMAS byly pozměněny nařízením Komise (EU) 2017/1505, které vstoupilo v platnost dne 18. září 2017.","http://ec.europa.eu/environment/emas/emas_publications/policy_en.htm"]
[null,null,"Zaměstnanec","Osoba ve vztahu uznávaném jako „pracovní poměr“ ve vnitrostátním právu nebo praxi.","ISO26000"]
[null,null,"Energetická základna","Kvantitativní odkazy poskytující základ pro porovnání energetické náročnosti. Výchozí stav sptřeby energie. ","ISO50001"]
[null,null,null,"Poznámka 1: Energetická základna je založena na údajích z určeného časového období a/nebo podmínek, jak jsou definovány organizací."]
[null,null,"Energetická účinnost","Poměr nebo jiný kvantitativní vztah mezi výkonem, službou, zbožím, komoditami nebo energií a vstupem energie.","ISO50001"]
[null,null,null,"Příklad: Účinnost konverze; potřebná energie/ spotřebovaná energie. "]
[null,null,null,"Poznámka 1: Vstup i výstup by měly být jasně specifikovány z hlediska množství a kvality a měly by být měřitelné."]
[null,null,"Indikátor energetické účinnosti (ENPI)","Kvantifikace EnPI v určitém bodě nebo za určité časové období.","ISO50001"]
[null,null,"Využití energie","Použití energie. Příklad: Větrání; osvětlení; topení; chlazení; přeprava; datové úložiště; výrobní proces.","ISO50001"]
[null,null,"Životní prostředí","Přírodní prostředí, ve kterém organizace působí, včetně ovzduší, vody, půdy, přírodních zdrojů, flóry, fauny, lidí a jejich vzájemných vztahů.","ISO14001/RC14001/ISO26000"]
[null,null,null,"Poznámka 1: Okolí se může rozšířit zevnitř organizace na místní, regionální a globální systém."]
[null,null,null,"Poznámka 2: Okolí lze popsat z hlediska biodiverzity, ekosystémů, klimatu nebo jiných charakteristik."]
[null,null,"Environmentální aspekt","Prvek činnosti organizace nebo produktů nebo služeb, které jsou nebo mohou být v interakci s životním prostředím.","ISO14001/RC14001"]
[null,null,null,"Poznámka 1: Environmentální aspekt může způsobit dopad(y) na životní prostředí. Významným environmentálním aspektem je aspekt, který má nebo může mít jeden nebo více významných dopadů na životní prostředí."]
[null,null,null,"Poznámka 2: Významné environmentální aspekty určuje organizace, která uplatňuje jedno nebo více kritérií."]
[null,null,"Stav životního prostředí","Stav nebo charakteristika prostředí určená v určitém časovém okamžiku.","ISO14001/RC14001"]
[null,null,"Ukazatele environmentální výkonnosti ","Environmentální cíl, cílová hodnota nebo jiný zamýšlený údaj environmentální výkonnosti stanovený vedením organizace a používaný pro účely hodnocení environmentální výkonnosti.","ISO14050"]
[null,null,"Vliv na životní prostředí","Změna životního prostředí, ať už nepříznivá nebo prospěšná, zcela nebo částečně vyplývající z environmentálních aspektů organizace.","ISO14001/RC14001"]
[null,null,"Systém řízení z hlediska ochrany životního prostředí","Část systému řízení používaného pro řízení environmentálních aspektů, plnění povinností týkajících se dodržování předpisů a řešení rizik a příležitostí.","ISO14001/RC14001"]
[null,null,"Environmentální cíl","Cíl stanovený organizací v souladu s její politikou v oblasti životního prostředí.","ISO14001/RC14001"]
[null,null,"Vliv na životní prostředí","Výkonnost související s řízením environmentálních aspektů.","ISO14001/RC14001"]
[null,null,null,"Poznámka 1: U systému environmentálního řízení lze výsledky měřit podle environmentální politiky organizace, environmentálních cílů nebo jiných kritérií s využitím ukazatelů."]
[null,null,"Etické chování","Chování, které je v souladu s přijatými zásadami správného nebo dobrého chování v souvislosti s určitou situací a je v souladu s mezinárodními normami chování. Mezinárodními normami chování jsou očekávání společensky odpovědného organizačního chování odvozená od obvyklého mezinárodního práva, obecně uznávaných zásad mezinárodního práva nebo mezivládních dohod (včetně smluv a úmluv), které jsou všeobecně nebo téměř všeobecně uznávány.","ISO26000"]
[null,null,"Emise skleníkových plynů v rozsahu 1, 2 a 3","Firemní standard protokolu GHG klasifikuje emise skleníkových plynů společnosti do tří „scope = rozsahů“. Emise scope 1 jsou přímé emise z vlastněných nebo kontrolovaných zdrojů. Emise scope 2 jsou nepřímé emise z výroby nakoupené energie. Emise scope 3 jsou všechny nepřímé emise (nezahrnuté do scope 2), které se vyskytují v hodnotovém řetězci vykazující společnosti, včetně předcházejících i navazujících emisí.","GHG protocol"]
[null,null,"GHS","Globálně harmonizovaný systém klasifikace a označování chemických látek je mezinárodně dohodnutý standard, který řídí Organizace spojených národů pro klasifikaci a označování chemikálií, které lze považovat za základ správného chemického řízení.","GHS"]
[null,null,"Nebezpečí","Skutečná nebo potenciální situace, která ohrožuje život, zdraví, majetek, životní prostředí nebo pracoviště nebo jejich kombinaci.","RC14001/RCMS"]
[null,null,"Mimořádná událost (nehoda)","Výskyt nebo průběh prací, které vedou nebo by mohly vést k újmě na zdraví. ","ISO45001"]
[null,null,null,"Poznámka 1: Událost, kdy dojde ke zranění a poškození zdraví, bývá někdy označován za „nehodu“. "]
[null,null,null,"Poznámka 2: Událost, kdy k žádnému zranění a poškození zdraví nedochází, ale má k tomu potenciál, může být označován jako „skoronehoda”."]
[null,null,null,"Poznámka 3: K incidentu zpravidla dochází následkem jedné nebo více neshod, nicméně k incidentu může dojít i tam, kdy nedochází k neshodě."]
[null,null,"Ukazatel ","Měřitelné znázornění stavu nebo stavu operací, řízení nebo podmínek.","RC14001"]
[null,null,"ISO 9001:2015 Řízení kvality (Quality management)","ISO 9001:2015 stanoví kritéria pro systém řízení kvality. Tento standard je založen na řadě principů řízení kvality, včetně silného zaměření na zákazníka, motivace a implikace vrcholového managementu, procesního přístupu a neustálého zlepšování. Použití ISO 9001:2015 pomáhá zajistit, aby zákazníci získali konzistentní, kvalitní produkty a služby, což zase přináší mnoho obchodních výhod.","www.iso.org"]
[]
[null,null,"ISO14001: 2015: Systémy environmentálního managementu - Požadavky s návodem k použití","ISO 14001: 2015 specifikuje požadavky na systém environmentálního managementu, který může organizace použít ke zlepšení svého vlivu na životní prostředí. ISO 14001: 2015 je určena k použití organizací usilující o systematické řízení environmentálních odpovědností, které přispívají k environmentálnímu pilíři udržitelnosti. ISO 14001: 2015 pomáhá organizaci dosáhnout zamýšlených výsledků jejího systému environmentálního managementu, který poskytuje hodnotu pro životní prostředí, samotnou organizaci a zainteresované strany. V souladu s environmentální politikou organizace zahrnují zamýšlené výstupy systému environmentálního managementu:","www.iso.org"]
[null,null,null,"· Zlepšení vlivu na životní prostředí;"]
[null,null,null,"· Plnění povinností v oblasti dodržování předpisů;"]
[null,null,null,"· Dosažení environmentálních cílů."]
[null,null,null,"ISO 14001: 2015 je použitelná pro jakoukoli organizaci, bez ohledu na velikost, typ a povahu a vztahuje se na environmentální aspekty svých činností, produktů a služeb, které organizace stanoví, že může kontrolovat nebo ovlivňovat s ohledem na životní cyklus."]
[null,null,"ISO45001: 2018: Systémy řízení ","ISO 45001: 2018 specifikuje požadavky na systém řízení bezpečnosti a ochrany zdraví při práci (BOZP) a poskytuje pokyny pro jeho používání, aby organizace mohly poskytovat bezpečné a zdravé pracoviště s prevencí pracovních úrazů a nemocí z povolání, jakož i aktivním zlepšováním jejich OH&S výkonu. ISO 45001: 2018 je použitelná pro všechny organizace, které si přejí zřídit, implementovat a udržovat systém řízení BOZP, aby se zlepšilo zdraví a bezpečnost při práci, eliminovaly rizika a minimalizovaly rizika BOZP (včetně systémových nedostatků), využívaly příležitosti BOZP a řešily řízení BOZP systémové neshody spojené s jeho činnostmi. ISO 45001: 2018 pomáhá organizaci dosáhnout zamýšlených výsledků jejího systému řízení BOZP. V souladu s politikou organizace BOZP jsou zamýšlenými výstupy systému řízení BOZP:","www.iso.org"]
[null,null,null,"a) neustálé zlepšování výkonu OH&S;"]
[null,null,null,"b) plnění právních požadavků a dalších požadavků;"]
[null,null,null,"c) dosažení cílů BOZP."]
[null,null,null,"Tato norma nahrazuje předchozí OHSAS 18001 (možný přechod do roku 2021)."]
[null,null,"ISO50001: 2018: Systémy řízení energie - Požadavky s návodem k použití","Tato norma specifikuje požadavky na zřízení, implementaci, údržbu a zdokonalení systému řízení energií (EnMS). Zamýšleným výsledkem je umožnit organizaci systematický přístup k dosažení neustálého zlepšování energetické náročnosti a EnMS.","www.iso.org"]
[]
[null,null,"ISO26000: 2010: Pokyny pro sociální odpovědnost","ISO 26000 poskytuje návod, jak podniky a organizace mohou fungovat sociálně odpovědným způsobem. To znamená jednat etickým a transparentním způsobem, který přispívá ke zdraví a blahu společnosti. Tato norma poskytuje návod, ale žádné požadavky, protože není certifikovatelná.\twww.iso.org\n","www.iso.org"]
[]
[null,null,"Indikátory zaostávání","Indikátory zaostávajícího stavu měří incidenty společnosti ve formě statistik minulých nehod. Indikátory zaostávání jsou tradiční bezpečnostní ukazatele používané k označení pokroku při dodržování bezpečnostních pravidel. Jedná se o čísla, která hodnotí celkovou efektivitu bezpečnosti v zařízení společnosti.","Ergonomics Plus (ergo-plus.com)"]
[null,null,"Hlavní ukazatelé","Hlavní ukazatel je opatření předcházející nebo označující budoucí událost používanou k řízení a měření činností prováděných k prevenci a kontrole zranění. Hlavní ukazatele jsou zaměřeny na budoucí bezpečnost a neustálé zlepšování. Tato opatření jsou proaktivní povahy a informují o tom, co zaměstnanci pravidelně dělají, aby se zabránilo úrazům.","Ergonomics Plus (ergo-plus.com)"]
[null,null,"Životní cyklus","Následné a vzájemně propojené fáze systému výrobků (nebo služeb), od pořízení surovin nebo výroby od přírodních zdrojů po konečnou likvidaci. ","ISO14001/RC14001"]
[null,null,null,"Poznámka 1: Etapy životního cyklu zahrnují pořízení surovin, návrh, výrobu, přepravu / dodávku, využití, konečnou úpravu a konečnou likvidaci."]
[null,null,"Poskytovatelé logistických služeb ","Kategorie společností, které mohou zahrnovat, ale nejsou omezeny na poskytovatele dopravních služeb, jiné služby související s pohybem produktů a / nebo dodávek.","RC14001"]
[null,null,"Řízení změn (MoC)","Postup používaný při provádění změn v procesním zařízení nebo provozních postupech k podrobnému provedení změn a dokumentování kroků podniknutých k informování a zaškolení obsluhy a příslušných zainteresovaných stran o změnách procesu.","ISO27914"]
[null,null,"Systém řízení","Sada vzájemně propojených nebo vzájemně se ovlivňujících prvků organizace za účelem stanovení politik a cílů a procesů k dosažení těchto cílů.","ISO14001/RC14001"]
[null,null,null,"Poznámka 1: Systém řízení může řešit jednu disciplínu nebo několik oborů (např. Kvalita, životní prostředí, zdraví a bezpečnost při práci, energetika, finanční řízení)."]
[null,null,null,"Poznámka 2: Mezi prvky systému patří struktura, role a odpovědnosti organizace, plánování a provoz, hodnocení a zlepšování výkonu."]
[null,null,null,"Poznámka 3: Rozsah systému řízení může zahrnovat celou organizaci, specifické a identifikované funkce organizace, specifické a identifikované sekce organizace nebo jednu nebo více funkcí napříč skupinou organizací."]
[null,null,"Významnost","Posouzení významnosti je princip, který pomáhá definovat a určit obchodní, sociální a environmentální témata, která jsou pro podnik a jeho zainteresované strany nejdůležitější."]
[null,null,null,"Věcné téma je téma, které odráží významné ekonomické, environmentální a sociální dopady reportující organizace; nebo to podstatně ovlivňuje hodnocení a rozhodnutí zainteresovaných stran","GRI Standards 2018"]
[null,null,"Měření","Proces stanovení hodnoty","ISO14001/RC14001"]
[null,null,"Monitoring","Určení stavu systému, procesu nebo aktivity.","ISO14001/RC14001"]
[null,null,null,"Poznámka 1: K určení stavu může být nutná kontrola, dohled nebo kritické pozorování."]
[null,null,"Neshoda","Nesplnění požadavku. Jakákoli odchylka od plánovaných činností v rámci požadavků systému řízení, které si organizace sama stanoví. Například, pokud systém sledování mimořádných událostií (nehod) v závodě vyžaduje, aby byly mimořádné události (nehody) v oblasti zdraví a bezpečnosti zaznamenány do databáze do 48 hodin od výskytu, jakákoli událost, která nebyla zaznamenána ani zaznamenána po 48 hodinách, by byla považována za neshodu.","ISO14001/RC14001/RCMS"]
[null,null,"Cíl","Výsledek, kterého má být dosaženo.","ISO14001/RC14001"]
[null,null,null,"Poznámka 1: Cíl může být strategický, taktický nebo operativní."]
[null,null,null,"Poznámka 2:: Cíle se mohou týkat různých oborů (jako jsou finanční, zdravotní a bezpečnostní cíle a cíle v oblasti životního prostředí) a mohou se uplatňovat na různých úrovních (např. Strategické, organizační, projektové, produktové, servisní a procesní)."]
[null,null,null,"Poznámka 3: Cíl může být vyjádřen jinými způsoby, např. jako zamýšlený výsledek, účel, provozní kritérium, jako environmentální cíl, nebo použitím jiných slov s podobným významem."]
[null,null,"Systém řízení bezpečnosti a ochrany zdraví při práci (OH&S MS)","Systém řízení nebo část systému řízení používaného k dosažení politiky BOZP.","ISO45001"]
[null,null,null,"Poznámka 1: Zamýšlenými výstupy systému řízení BOZP je předcházet úrazům a špatnému zdraví pracovníků a poskytovat bezpečná a zdravá pracoviště."]
[null,null,"Organizace","Subjekt nebo skupina lidí s uspořádáním odpovědností, pravomocí a vztahů k dosažení svých cílů.","ISO14001/RC14001/ISO26000"]
[null,null,null,"Poznámka 1: Pojem organizace zahrnuje, ale není omezen na živnostníka, společnost, korporaci, firmu, podnik, orgán, partnerství, charitu nebo instituci nebo jejich část nebo kombinaci, ať už jsou začleněny, veřejné nebo soukromé ."]
[null,null,"Výkonnost","Měřitelný výsledek.","ISO14001/RC14001"]
[null,null,null,"Poznámka 1: Výkonnost se může vztahovat buď na kvantitativní, nebo kvalitativní zjištění."]
[null,null,null,"Poznámka 2 k zápisu: Výkonnost se může týkat řízení činností, procesů, produktů (včetně služeb), systémů nebo organizací."]
[null,null,"Ukazatel výkonnosti","Míra nebo jednotka výkonnosti podle definice organizace.","ISO50001"]
[null,null,"Politika","Záměry a řízení organizace související s (environmentálním) výkonem, jak je formálně vyjádřeno vrcholovým managementem.","ISO14001/RC14001"]
[null,null,"Hodnocení udržitelnosti portfolia","Metodika pro podniky nebo celá odvětví při rozvoji vysoce kvalitních přístupů k posouzení udržitelnosti jejich činností nebo jejich segmentů.","WBCSD"]
[null,null,"Prevence znečištění","Používání procesů, postupů, technik, materiálů, produktů, služeb nebo energie k zamezení, omezení nebo kontrole (samostatně nebo v kombinaci) vytváření, emisím nebo vypouštěním jakéhokoli typu znečišťující látky nebo odpadu s cílem snížit nepříznivé dopady na životní prostředí.","ISO14001/RC14001"]
[null,null,null,"Poznámka 1: Prevence znečištění může zahrnovat snížení nebo odstranění zdroje; změny procesů, produktů nebo služeb; efektivní využívání zdrojů; náhradu materiálu a energie; opětovné použití; znovuzískání; recyklaci; rekultivaci nebo zpracování"]
[null,null,"Postup","Specifikovaný způsob provedení činnosti nebo procesu.","ISO45001"]
[null,null,null,"Poznámka 1: Postupy mohou být dokumentovány či nikoli."]
[null,null,"Proces","Sada vzájemně propojených nebo interakčních činností, které transformují vstupy na výstupy.","ISO14001/RC14001/ISO50001"]
[null,null,null,"Poznámka 1: Proces může být   zdokumentován či nikoliv."]
[null,null,null,"Poznámka 2: Proces související s činnostmi organizace může být:"]
[null,null,null,"• fyzický (např. Procesy využívající energii, jako je spalování), nebo"]
[null,null,null,"• podnikání nebo služba (např. Splnění objednávky)."]
[null,null,"Procesní bezpečnost","Procesní bezpečnost je disciplinovaný rámec pro správu integrity operačních systémů a procesů nakládajících s nebezpečnými látkami pomocí dobrých zásad návrhu, inženýrství a provozních postupů. Zabývá se prevencí a kontrolou incidentů, které mají potenciál uvolňovat nebezpečné materiály nebo energii. Tyto incidenty mohou způsobit toxické účinky, požár nebo výbuch a v konečném důsledku by mohly mít za následek vážné zranění, poškození majetku, ztrátu výroby a dopad na životní prostředí.","www.aiche.org"]
[null,null,"Bezpečnost výrobku","Řízení bezpečnosti výrobků vyžaduje pochopení zamýšlených použití produktů, vědecké posouzení potenciálních rizik produktů a zvážení možností řízení bezpečnosti výrobků v hodnotovém řetězci. Klíčovou součástí řízení bezpečnosti produktů stranami v hodnotovém řetězci je výměna informací o nebezpečích produktu, zamýšleném použití, postupech při manipulacích, expozicích a rizicích.","RC14001"]
[null,null,"Dozor nad výrobkem (Správa výrobku)","Produktový dozor vede účastníky zapojené do životního cyklu výrobku k tomu, aby převzali společnou odpovědnost za pochopení, řízení a komunikaci dopadů na lidské zdraví a životní prostředí, které vyplývají z vývoje, výroby, používání, distribuce a řízení výrobku na konci životnosti. To pomáhá společnostem a jejich partnerům podporovat bezpečné a environmentálně udržitelné používání výrobků.","RCMS"]
[null,null,"Informace o dozoru nad výrobkem","Informační prvky, které mohou být zveřejněny, zahrnují mimo jiné:","RC14001"]
[null,null,null,"• Chemická identita (nebo popis kategorie)"]
[null,null,null,"• Použití - aplikace, funkce"]
[null,null,null,"• Fyzikální / chemické vlastnosti"]
[null,null,null,"• Účinky na zdraví"]
[null,null,null,"• Účinky na životní prostředí"]
[null,null,null,"• Expozice - expoziční potenciál"]
[null,null,null,"• Řízení rizik - doporučená opatření"]
[null,null,null,"Mohou být také zahrnuty další prvky, které by mohly posílit zprávu o správě společnosti."]
[null,null,"Recyklace","Recyklací se rozumí jakákoli operace zhodnocování, při které se odpadní materiály přepracují na produkty, materiály nebo látky, ať už pro původní nebo jiné účely. Zahrnuje přepracování organického materiálu, ale nezahrnuje energetické využití a přepracování na materiály, které mají být použity jako paliva nebo pro technické rekultivace","Waste Framework Directive"]
[null,null,"Obnovitelné suroviny","Obnovitelné suroviny jsou suroviny, které nepocházejí z fosilních nebo konečných zdrojů nerostných surovin. Mohou být vyráběny nekonečně na základě přírodních procesů nebo obnovitelné energie.","Management for a Small Planet\" by Jean Garner Stead and W. Edward Stead, M.E. Sharpe 2009"]
[null,null,"Požadavek","Potřeba nebo očekávání, které je uvedeno, obecně předpokládané nebo povinné.","ISO14001/RC14001"]
[null,null,null,"Poznámka 1: „Obecně předpokládané “znamená, že je obvyklou nebo běžnou praxí pro organizaci a zainteresované strany, že uvažovaná potřeba nebo očekávání jsou předpokládány."]
[null,null,null,"Poznámka 2: Specifikovaný požadavek je takový, který je uveden například v dokumentovaných informacích."]
[null,null,null,"Poznámka 3: Jiné požadavky než právní požadavky se stávají povinnými, pokud se organizace rozhodne je dodržet."]
[null,null,"Responsible Care (Odpovědná péče)","Mezinárodní iniciativa pro zlepšení výkonnosti chemického průmyslu v oblasti životního prostředí, zdraví a bezpečnosti (v některých případech zahrnuje i bezpečnost). Responsible Care je založeno na konceptech neustálého zlepšování a otevřenosti v reakci na obavy zainteresovaných stran z provozu a výrobků odvětví.","RC14001"]
[null,null,"RC14001","Jedná se o technickou specifikaci, která kombinuje prvky iniciativy Responsible Care® od American Chemistry Council (ACC) s těmi, které jsou součástí normy ISO Environmental Management Systems Standard, ISO 14001: 2015. Programy Responsible Care v USA a Kanadě formálně přijaty a jednotlivé společnosti (někteří členové ACC, někteří nezávislí na ACC) se rozhodli požádat o certifikaci proti němu v jiných částech světa (např. Evropa, Brazílie, Čína, Indie, Austrálie a Střední východ).","ACC website"]
[null,null,"(Vydání 2015)            "]
[null,null,"RCMS:2013","Systém Responsible Care (RCMS) je technická specifikace ACC. V USA a Kanadě si mohou společnosti Responsible Care vybrat buď certifikát na RC14001 nebo RCMS.","ACC website"]
[null,null,"Opětovné použití","„Opětovným použitím“ se rozumí jakákoli operace, při níž jsou výrobky nebo součásti, které nejsou odpady, znovu použity pro stejný účel, pro který byly určeny;","Waste Framework Directive"]
[null,null,"Riziko","Účinek nejistoty (nepředvídatelnosti).","ISO14001/RC14001"]
[null,null,null,"Poznámka 1: Účinek je odchylka od očekávaného – pozitivní nebo negativní."]
[null,null,null,"Poznámka 2: Nejistota je stav, ato i částečný, nedostatku informací týkajících se události, jejího pochopení nebo znalosti, události, jejího důsledku nebo pravděpodobnosti."]
[null,null,null,"Poznámka 3: Riziko je často charakterizováno odkazem na možné „události“(jak je definováno v ISO Pokynu 73: 2009, 3.5.1.3) a „důsledky“(jak je definováno v ISO Pokynu 73: 2009, 3.6.1.3), nebo jejich kombinace."]
[null,null,null,"Poznámka 4: Riziko se často vyjadřuje jako kombinace důsledků události (včetně změn okolností) a přidružené „pravděpodobnosti“(jak je definováno v ISO Pokynu 73: 2009, 3.6.1.1) výskytu."]
[null,null,"Posouzení rizik","Celkový proces zahrnující analýzu rizik a hodnocení rizik.","ISO14971"]
[null,null,"Rizika a příležitosti","Potenciální nepříznivé účinky (hrozby) a potenciální příznivé účinky (příležitosti).","ISO14001/RC14001"]
[null,null,"Analýza kořenových příčin (RCA)","Proces identifikace všech hlavních příčin, které mají nebo mohly mít za následek nežádoucí stav, situaci, neshodu nebo selhání.","ISO18238"]
[null,null,"Druhotné suroviny","Druhotné suroviny jsou odpady (odpadní materiály) na konci jednoho životního cyklu, které opustily status odpadu a stávají se surovinami pro nový životní cyklus.","http://www.europarl.europa.eu/legislative-train/theme-new-boost-for-jobs-growth-and-investment/file-strategy-for-secondary-raw-materials"]
[null,null,"Významná spotřeba energie (SEU)","Energy use accounting for substantial energy consumption and/or offering considerable","ISO50001"]
[null,null,null,"potential for energy performance improvement."]
[null,null,null,"Note 1 to entry: Significance criteria are determined by the organisation."]
[null,null,null,"Note 2 to entry: SEUs can be facilities, systems, processes, or equipment."]
[null,null,"Společenská odpovědnost","Odpovědnost organizace za dopady jejích rozhodnutí a činností (včetně výrobků, služeb a procesů) na společnost a životní prostředí prostřednictvím transparentního a etického chování, které: ","ISO26000"]
[null,null,null,"•       přispívá k udržitelnému rozvoji, včetně zdraví a blahobytu společnosti;"]
[null,null,null,"•       bere v úvahu očekávání zainteresovaných stran;"]
[null,null,null,"•      je v souladu s platnými právními předpisy a v souladu s mezinárodními normami chování; a"]
[null,null,null,"•      je integrován v celé organizaci a praktikován ve vztazích."]
[null,null,"Zainteresované strany ","Osoba nebo skupina, která může ovlivnit, být ovlivněna nebo vnímat sama sebe, aby byla ovlivněna rozhodnutím nebo činností organizace. Zainteresovanými stranami mohou být vlády, zákazníci, komunity, dodavatelé, nevládní organizace, investoři, sousedé, zaměstnanci a kdokoli jiný s osobním podílem na činnosti organizace. ","ISO14001/RC14001/ISO26000/RCMS"]
[null,null,null,"Poznámka 1: „vnímat sám sebe jako postiženého“ znamená, že vnímání bylo organizaci sděleno.."]
[null,null,"Stop Work Authority (Oprávnění zastavit práci)","Stop Work Authority je program, který zajišťuje každému pracovníkovi (internímu nebo externímu), který se přímo nebo nepřímo účastní operace, odpovědnost a pravomoc ukončit práci do doby, kdy bude ověřeno, že lze v činnosti bezpečně pokračovat.","API Bulletin 97, Well Construction Interface Document Guidelines, První vydání, prosinec 2013"]
[null,null,"Dodavatelé","Nejčastěji jsou definovány jako poskytovatelé surovin potřebných pro výrobní činnosti společnosti. To lze také definovat jako poskytovatele chemikálií pro údržbu, vybavení a v některých případech i služeb. Z tohoto důvodu některé společnosti definují kontraktory jako podkategorii dodavatelů.","RC14001"]
[null,null,"Dodavatelský řetězec","Sled činností nebo stran, které organizaci poskytují produkty nebo služby.","ISO26000"]
[null,null,"Udržitelný rozvoj","Vývoj, který odpovídá potřebám současnosti, aniž by ohrozil schopnost budoucích generací uspokojovat vlastní potřeby.","ISO26000"]
[null,null,"Cíle udržitelného rozvoje (SDGs)","Cíle udržitelného rozvoje jsou souborem 17 globálních cílů stanovených Valným shromážděním OSN v roce 2015. Tyto cíle pokrývají otázky sociálního a ekonomického rozvoje, včetně chudoby, hladu, zdraví, vzdělávání, globálního oteplování, rovnosti žen a mužů, vody, hygieny, energie, urbanizace, životního prostředí a sociální spravedlnosti.","UN"]
[null,null,null,"Více informací můžete nalézt zde: "]
[null,null,null,"https://sustainabledevelopment.un.org/?menu=1300"]
[null,null,"Třetí strany","Každá společnost spojená s činnostmi organizace, která jednoznačně nespadá do kategorií uvedených dříve v ustanovení. Mohou to být sklady, terminály, agenti, dodavatelé odpadů atd.","RC14001"]
[null,null,"Top (vrcholový) management nebo  střední management","Osoba nebo skupina lidí, která vede a řídí organizaci na nejvyšší úrovni.","ISO14001/RC14001"]
[null,null,null,"Poznámka 1: Top management má pravomoc delegovat pravomoci a poskytovat zdroje v rámci organizace."]
[null,null,null,"Poznámka 2: Pokud rozsah systému řízení pokrývá pouze část organizace, top management se týká těch, kteří vedou a řídí tuto část organizace."]
[null,null,"Transparentnost","Otevřenost o rozhodnutích a činnostech, které ovlivňují společnost, ekonomiku a životní prostředí, a ochotu komunikovat je jasným, přesným, včasným, čestným a úplným způsobem.","ISO26000"]
[null,null,"Hodnotový řetězec","Hodnotový řetězec chemie zahrnuje celou řadu činností, které jsou nezbytné k tomu, aby se výstup související s chemií dostal od jeho koncepce až po konečné použití (např. Návrh, nákup, výroba a distribuce). Činnosti hodnotového řetězce mohou být obsaženy v rámci jedné organizace nebo rozděleny mezi různé organizace a mohou být obsaženy v rámci jedné zeměpisné polohy nebo mohou být rozšířeny do širších oblastí.","RC14001"]
[null,null,"Pracoviště","Místo, kde pracovník vykonává pracovní činnost.","ISO45001"]

{"sheet":"Identification","index":3,"n_rows":33,"n_cols":5,"rows_kept":33,"cut":false,"hidden":false,"merged":[[25,1,30,2]]}
[null,"Jedná se o volitelnou stránku, na které můžete uvést podrobnosti o vaší společnosti a rok vyplnění pro účely záznamu a porovnání."]
[]
[null,"Název společnosti","PRECHEZA a.s."]
[]
[null,"Odvětví ","Chemie anorganická",null,"Např. : Chemie, farmacie, výroba polymerů, atd. "]
[]
[null,"Velikost podniku: "]
[null,"Počet plných pracovních úvazků",650]
[null,"Počet závodů",1,null,"Můžete použít tento nástroj pro jednotlivý závod (uveďte 1) nebo pro kombinaci závodů  nebo pro celý právnický subjekt"]
[]
[null,"Historie Responsible Care (rok přihlášení k plnění principů Responsible Care)",1996,null,"Přihlásila se vaše organizace k Responsible Care? Od kdy?"]
[]
[null,"Jméno respondenta","Ing. Pavel Mikulík"]
[]
[null,"Pozice respondenta ve společnosti","HSE manager",null,"Např.: HSE manager, enviromentální inženýr, manager společnosti, …"]
[]
[null,"V případě většího počtu respondentů, uveďte seznam jmen a jejich pozic."]
[]
[null,"Jméno","Pozice",null,"v případě potřeby přidejte řádek"]
[null,"Ing. Tomáš Navrátil","environmentální inženýr"]
[]
[]
[]
[]
[null,"Obecné poznámky"]
[]
[]
[]
[]
[]
[]
[]
[null,"Souhlasíte s tím, že váš výsledek bude použit v anonymním benchmarku?"]

{"sheet":"Chapter 1","index":4,"n_rows":112,"n_cols":15,"rows_kept":112,"cut":false,"hidden":false,"merged":[[54,6,57,9],[60,6,63,9],[66,6,69,9],[108,6,111,9],[74,6,77,9],[80,6,83,9],[86,6,89,9],[92,6,95,9],[100,6,103,9],[53,3,53,4],[6,6,9,9],[12,6,15,9],[20,6,23,9],[28,6,31,9],[34,6,37,9],[40,6,43,9],[46,6,49,9],[39,3,39,4],[107,3,107,4],[97,5,103,5],[105,5,111,5],[33,3,33,4],[5,3,5,4],[73,3,73,4],[85,3,85,4],[91,3,91,4],[79,3,79,4],[3,5,15,5],[17,5,23,5],[25,5,49,5],[51,5,69,5],[71,5,95,5],[27,3,27,4],[45,3,45,4]]}
[null,"KAPITOLA 1: Podniková kultura vedení ",null,null,null,null,null,null,null,null,null,null,null,{"$f":"IF(O1=\"\",\"\",\"Still to do\")","v":""},{"$f":"'Start and prefill'!$G$9","v":""}]
[null,null,null,null,null,null,"only click one of the possibilities"]
[]
[null,"Rozsah & Závazek",null,null,null,{"$f":"B4","v":"Rozsah & Závazek"}]
[null,null,null,null," "]
[null,{"$f":"COUNTIF(C7:C112,\"inconsistent\")","v":0},"Q1.1","Jak se projevuje závazek plnit povinnosti týkající se dodržování předpisů a zásad Responsible Care = RC (tj. ochrana a podpora zdraví a bezpečnost lidí, životního prostředí a udržitelnosti) na všech úrovních organizace?\n",null,null,{"$f":"C6","v":"Q1.1"},"notes"]
[null,null,{"$f":"IF(COUNTIF(K7:K10,TRUE)=0,\"incomplete\",IF(COUNTIF(K7:K10,TRUE)=1,\"\",\"inconsistent\"))","v":""},"a)","Top management se zavazuje k RC a dodržování předpisů, ale tento závazek však ještě není formalizován do podoby konkrétních zásad.",null,"Politika ve vztahu k životnímu prostředí, bezpečnosti práce, hygieně práce, bezpečnosti provozu a energetické hospodárnosti je interně sdělována prostřednictvím firemního Share Pointu a dále prostřednictvím standardní komunikace od vedení směrem k pracovnímu kolektivu. Politika je tak k dispozici všem zaměstnancům společnosti. S politikou jsou rovněž seznámeny externí osoby, provádějících pro společnost nebo z jejího pověření činnosti v areálu společnosti v rámci seznámení s podmíkami v areálu společnosti. Široká veřejnost je s politika seznámena na webových stránkách společnosti - www.precheza.cz.",null,null,null,false]
[null,null,null,"b)","Byla zavedena politika, která však není veřejně přístupná a zahrnuje pouze závazek k některým tématům v oblasti zdraví, bezpečnosti, životního prostředí, energetiky a udržitelnosti.",null,null,null,null,null,false]
[null,null,null,"c)","Zásady jsou komunikovány interně, jsou k dispozici veřejnosti a zahrnují závazek plnit svoje povinnosti vyplývající z dodržování předpisů a neustálého zlepšování RC. To zahrnuje závazek řídit výkonnost v souvislosti se zdravím a bezpečností, životním prostředím, energetikou a udržitelným rozvojem.",null,null,null,null,null,true]
[null,null,null,"d)","Zásady jsou aktivně sdělovány externím stranám (subjektům) a jsou k dispozici veřejnosti. Jsou podporovány viditelně vedením, zapojením top managmentu a dalšími úrovněmi organizace.  Politika je realizována v rámci obchodních procesů.",null,null,null,null,null,false]
[null,null,null,null," "]
[null,null,"Q1.2","Jakým způsobem řídí organizace příslušná rizika a příležitosti?  ",null,null,{"$f":"C12","v":"Q1.2"},"notes"]
[null,null,{"$f":"IF(COUNTIF(K13:K16,TRUE)=0,\"incomplete\",IF(COUNTIF(K13:K16,TRUE)=1,\"\",\"inconsistent\"))","v":""},"a)","Organizace řídí rizika vyplývající z právních požadavků.",null,"Viz přezkoumání systémů životního prostředí, BOZP, bezpečnosti provozu a energetického managementu.",null,null,null,false]
[null,null,null,"b)","Organizace také identifikovala interní a externí problémy, které jsou nezbytné pro plnění jejího účelu a cíle, ale ještě nestanovila, které představují rizika či příležitosti pro organizaci.",null,null,null,null,null,false]
[null,null,null,"c)","Organizace identifikovala klíčové vnější a vnitřní problémy a určila, která představují rizika a příležitosti pro organizaci a zároveň představila zamýšlené výsledky týkající se zdraví, bezpečnosti, životního prostředí, energetiky a udržitelnosti (HSE&S).",null,null,null,null,null,true]
[null,null,null,"d)","Organizace identifikovala problémy, stanovila, které představují rizika nebo příležitosti pro organizaci a proaktivně je řeší vypracováním opatření a jejich pravidelným posuzováním.  ",null,null,null,null,null,false]
[]
[null,"Dodržování předpisů \n ",null,null,null,{"$f":"B18","v":"Dodržování předpisů \n "}]
[null,null,null,null," "]
[null,null,"Q1.3","Jakým způsobem monitoruje organizace svoje zákonné povinnosti? ",null,null,{"$f":"C20","v":"Q1.3"},"notes"]
[null,null,{"$f":"IF(COUNTIF(K21:K24,TRUE)=0,\"incomplete\",IF(COUNTIF(K21:K24,TRUE)=1,\"\",\"inconsistent\"))","v":""},"a)","Organizace monitoruje vývoj legislativy. ",null,"Činnost zajišťuje útvar Systémy řízení pro oblast životního prostředí, BOZP a bezpečnosti provozu a útvar Energetika pro oblast energetického managementu. Implementace právních závazků je součástí integrovaného systému řízení.",null,null,null,false]
[null,null,null,"b)","Vedení organizace určilo oddělení/zaměstnance odpovědného za dokumentování předpisů týkajících se zdraví, bezpečnosti, energie a ochrany životního prostředí a za hodnocení míry jejich souladu s příslušným textem. Kromě toho je zaveden proces implementace právních závazků.",null,null,null,null,null,true]
[null,null,null,"c)","Organizace kromě monitoring a implementace legislativy proaktivně komunikuje s místními úřady. ",null,null,null,null,null,false]
[null,null,null,"d)","Organizace spolupracuje s úřady při přípravě nové legislativy nebo při revizi platných právních předpisů.",null,null,null,null,null,false]
[]
[null,"Struktura řízení (managmentu)",null,null,null,{"$f":"B26","v":"Struktura řízení (managmentu)"}]
[null,null,null,null," "]
[null,null,"Q1.4","Jakým způsobem top management zajišťuje, že jednotlivé aspekty HSE&S (zdraví, bezpečnosti, ochrany životního prostředí & udržitelnosti) jsou přiřazeny stanoveným rolím v organizaci?",null,null,{"$f":"C28","v":"Q1.4"},"notes"]
[null,null,{"$f":"IF(COUNTIF(K29:K32,TRUE)=0,\"incomplete\",IF(COUNTIF(K29:K32,TRUE)=1,\"\",\"inconsistent\"))","v":""},"a)","Tyto aspekty nejsou jednoznačně rozděleny na určité role, s výjimkou těch, které mají právní závazky.",null,"Vedoucí útvaru Systémy řízené (pro oblast životního prostředí, BOZP a bezpečnosti provozu) a vedoucí útvaru Energetika (pro oblast energetického managementu).",null,null,null,false]
[null,null,null,"b)","Jmenováním top managementu odpovědného konkrétního manažera, který má zkušenosti s těmito aspekty a který zajišťuje, že organizace dodržuje určité standardy (zdraví, bezpečnost, životní prostředí, energetika a udržitelnost) a že procesy přinášejí své zamýšlené výstupy.",null,null,null,null,null,true]
[null,null,null,"c)","Skupinou zastupující organizaci složenou ze všech provozních manažerů, která se zodpovídá přímo top managementu a která je odpovědná za systém zdraví, bezpečnosti, životního prostředí, energetiky a udržitelnosti (HSE&S).",null,null,null,null,null,false]
[null,null,null,"d)","Skupinou vlastníků, členů, řídících pracovníků a zástupců klíčových zainteresovaných stran (výbor HSE&S) včetně nejvyššího managementu. Organizace navíc zapojuje zaměstnance do vývoje, komunikace a implementace programů RC.",null,null,null,null,null,false]
[null,null,null,null," "]
[null,null,"Q1.5","Jakým způsobem se top management podílí na řešení záležitostí HSE&S?",null,null,{"$f":"C34","v":"Q1.5"},"notes"]
[null,null,{"$f":"IF(COUNTIF(K35:K38,TRUE)=0,\"incomplete\",IF(COUNTIF(K35:K38,TRUE)=1,\"\",\"inconsistent\"))","v":""},"a)","Nepodílí se přímo.",null,"Top management pravidelně (min. 1x měsíčně) projednává záležitosti živ. prostředí, BOZP, bezpečnosti provozu a energetiky a stanovuje návazně potřebná opatření.",null,null,null,false]
[null,null,null,"b)","Top managment poskytuje rady v případě výskytu a nápravy závažných problémů v souvislosti s HSE&S.",null,null,null,null,null,false]
[null,null,null,"c)","Top managment se podílí a komunikuje potenciální dopady systému řízení (HSE&S) na obchodní činnost organizace (image značky, sociální přijatelnost aktivit, odlišení od konkurence, provozní účinnost ...).",null,null,null,null,null,true]
[null,null,null,"d)","Top managment se podílí, prezentuje a obhajuje system. Je ambasadorem a jde příkladem vlastním zaměstanacům.",null,null,null,null,null,false]
[null,null,null,null," "]
[null,null,"Q1.6","Jakým způsobem jsou odpovědnosti HSE&S začleněny do popisů pracovní náplně nebo ročních cílů?\n",null,null,{"$f":"C40","v":"Q1.6"},"notes"]
[null,null,{"$f":"IF(COUNTIF(K41:K44,TRUE)=0,\"incomplete\",IF(COUNTIF(K41:K44,TRUE)=1,\"\",\"inconsistent\"))","v":""},"a)","Nejsou začleněné.",null,"Popisy pracovních míst, roční úkoly.",null,null,null,false]
[null,null,null,"b)","Jsou zapracovány do popisů pracovní náplně nebo ročních cílů těch, kteří jsou zodpovědní za  oblasti HSE&S.",null,null,null,null,null,false]
[null,null,null,"c)"," Jsou zapracovány do popisů pracovní náplně nebo ročních cílů všech manažerů.",null,null,null,null,null,true]
[null,null,null,"d)","Jsou zapracovány do popisů pracovní náplně nebo ročních cílů všech zaměstnanců.",null,null,null,null,null,false]
[null,null,null,null," "]
[null,null,"Q1.7","Jakým způsobem se řídí (nejdůležitější) procesy v souvislosti s HSE&S?",null,null,{"$f":"C46","v":"Q1.7"},"notes"]
[null,null,{"$f":"IF(COUNTIF(K47:K50,TRUE)=0,\"incomplete\",IF(COUNTIF(K47:K50,TRUE)=1,\"\",\"inconsistent\"))","v":""},"a)","Struktura řízení není stanovena.",null,"Vedoucí útvaru Systémy řízené (pro oblast životního prostředí, BOZP a bezpečnosti provozu) a vedoucí útvaru Energetika (pro oblast energetického managementu).",null,null,null,false]
[null,null,null,"b)","O neustálé zdokonalování procesů pro celou organizaci se stará odpovědná osoba.\n",null,null,null,null,null,false]
[null,null,null,"c)","Odpovědná osoba má na starosti jednotlivé nižší úrovně organizace (jednotky, oddělení ...). K dispozici by měly být ukazatele výkonnosti procesu, které umožňují pravidelné přezkoumání pro všechny klíčové procesy.",null,null,null,null,null,false]
[null,null,null,"d)","Ve společnosti pracuje tým vedený představitelem top managementu, který má za úkol neustálé zlepšování a přeřzkoumávání ukazatelů. Tato osoba odpovědná za HSE&S (zdraví, bezpečnost, životní prostředí, energie a udržitelnost) reportuje přímo nejvyššímu managementu organizace a je jeho součástí.",null,null,null,null,null,true]
[]
[null,"Zabezpečení zlepšování",null,null,null,{"$f":"B52","v":"Zabezpečení zlepšování"}]
[null,null,null,null," "]
[null,null,"Q1.8","Jakým způsobem top management zajišťuje neustálé zlepšování výkonu v oblasti HSE&S (zdraví, bezpečnosti, životního prostředí, energetiky a udržitelnosti)?",null,null,{"$f":"C54","v":"Q1.8"},"notes"]
[null,null,{"$f":"IF(COUNTIF(K55:K58,TRUE)=0,\"incomplete\",IF(COUNTIF(K55:K58,TRUE)=1,\"\",\"inconsistent\"))","v":""},"a)","Top management systematicky nevyhodnocuje žádné otázky týkající se HSE&S.",null,"Roční přezkoumání vedením společnosti za jednotlivé oblasti.",null,null,null,false]
[null,null,null,"b)","Top management každoročně vyhodnocuje výkonnost RC a zároveň se vypracovávají akční plány.",null,null,null,null,null,false]
[null,null,null,"c)","Top management vyhodnocuje výkonnost RC alespoň jednou za rok. Uvádějí se příslušné ukazatele výkonnosti, akční plány se posuzují s ohledem na hlavní rizika a příležitosti pro organizaci a s ohledem na strategii podpory neustálého zlepšování. Na podporu takového zlepšování se vyčleňují prostředky a zdroje.",null,null,null,null,null,true]
[null,null,null,"d)","Výkonnost je hodnocena nejméně jednou ročně top managementem. Jsou stanoveny relevantní výkonnostní ukazatele, jsou revidovány akční plány v souladu s hlavními riziky a příležitostmi pro organizaci a v souladu se strategií pro podporu neustálého zlepšování. K dosažení zlepšení jsou přiděleny odpovídající zdroje.V rámci přezkumu výkonnosti s vrcholovým managementem je dále diskutována interakce se zainteresovanými stranami a KPI jsou přezkoumávány alespoň jednou za čtvrt roku tak, aby se co nejdříve zjistily nebezpečné trendy vývoje.",null,null,null,null,null,false]
[null,null,null,null," "]
[null,null,"Q1.9","Jak jsou organizovány interní audity?",null,null,{"$f":"C60","v":"Q1.9"},"notes"]
[null,null,{"$f":"IF(COUNTIF(K61:K64,TRUE)=0,\"incomplete\",IF(COUNTIF(K61:K64,TRUE)=1,\"\",\"inconsistent\"))","v":""},"a)","Nejsou prováděny žádné interní audity v oblastech HSE&S (zdraví, bezpečnosti, životního prostředí, energií a udržitelnosti).",null,"Interní audity jsou organizovány, stanovena metodika (směrnice), je sestavován roční plán, výsledky jsou projednávány vedením společnosti.",null,null,null,false]
[null,null,null,"b)","Interní audit provádějí řádně vyškolené a odborně připravené osoby v oblasti HSE&S. Neexistuje však žádná dokumentace, která by prokázala, že výsledky auditu projednává management.\n",null,null,null,null,null,false]
[null,null,null,"c)","Výsledky auditů týkajících se HSE&S jsou diskutovány v rámci přezkoumání vedením, identifikují se trendy a přijímají se nápravná opatření. Výsledky nápravných opatření se oznamují střednímu managementu.",null,null,null,null,null,true]
[null,null,null,"d)","Výsledky auditů jsou diskutovány v rámci přezkoumání vedením, identifikují se trendy a přijímají se nápravná opatření. Výsledky nápravných opatření se oznamují střednímu managementu. Kromě toho poučení z nehod a osvědčené postupy jsou sdíleny s dalšími osobami tak, aby je využili pro své vzdělávání. Systematický přístup je certifikován externím ověřovacím orgánem.",null,null,null,null,null,false]
[null,null,null,null," "]
[null,null,"Q1.10","Jakým způsobem probíhá vyšetřování?",null,null,{"$f":"C66","v":"Q1.10"},"notes"]
[null,null,{"$f":"IF(COUNTIF(K67:K70,TRUE)=0,\"incomplete\",IF(COUNTIF(K67:K70,TRUE)=1,\"\",\"inconsistent\"))","v":""},"a)","Neprobíhá žádné systematické vyšetřování incidentů, pokud tak nevyžadují příslušné právní předpisy.",null,"Incidenty jsou šetřeny, stanovena metodika (směrnice), výsledky jsou projednávány vedením společnosti.",null,null,null,false]
[null,null,null,"b)","Závažné incidenty se ohlašují, zkoumají s cílem porozumět příčinám a umožnit nápravu.",null,null,null,null,null,false]
[null,null,null,"c)","Incidenty týkající se HSE&S (zahrnující například skoronehody, nehody a incidenty na pracovištích – místech, narušení provozu, rozlití,…) se ohlašují a posuzují s cílem určit kořenovou příčinu, provést nápravu a zabránit opakování problému.",null,null,null,null,null,true]
[null,null,null,"d)","Závěry vyšetřování jsou sdíleny v rámci celé organizace a získané zkušenosti jsou sdíleny s kolegy a zainteresovanými stranami.",null,null,null,null,null,false]
[]
[null,"Zdroje, školení a zapojení zaměstnanců",null,null,null,{"$f":"B72","v":"Zdroje, školení a zapojení zaměstnanců"}]
[null,null,null,null," "]
[null,null,"Q1.11","Jakým způsobem organizace zajišťuje procesy, čas a zdroje potřebné pro zlepšování procesů řízení HSE&S?",null,null,{"$f":"C74","v":"Q1.11"},"notes"]
[null,null,{"$f":"IF(COUNTIF(K75:K78,TRUE)=0,\"incomplete\",IF(COUNTIF(K75:K78,TRUE)=1,\"\",\"inconsistent\"))","v":""},"a)","Jsou poskytovány zdroje pouze k splnění legislativních povinností.",null,"Zdroje alokovány plánovacím procesem při zohlednění potřeb jednotlivých procesů.",null,null,null,false]
[null,null,null,"b)","Čas a zdroje pro určitá zlepšení se poskytují ad hoc.",null,null,null,null,null,false]
[null,null,null,"c)","Zdroje jsou poskytovány systematicky s cílem zajistit neustálé zlepšování procesů. Tyto zdroje vycházejí z posudků a stanovování naplánovaných priorit.",null,null,null,null,null,true]
[null,null,null,"d)","Požadované zdroje jsou zahrnuty do rozpočtu s cílem dosahovat zlepšení. Za účelem systematického hodnocení implementace se poskytují příslušné časové zdroje.",null,null,null,null,null,false]
[null,null,null,null," "]
[null,null,"Q1.12","Jak organizace zajišťuje, že zaměstnanci jsou si vědomi politik a procesů týkajících se zdraví, bezpečnosti, životního prostředí, energetiky a udržitelnosti?",null,null,{"$f":"C80","v":"Q1.12"},"notes"]
[null,null,{"$f":"IF(COUNTIF(K81:K84,TRUE)=0,\"incomplete\",IF(COUNTIF(K81:K84,TRUE)=1,\"\",\"inconsistent\"))","v":""},"a)","Neexistuje žádná vnitřní komunikace týkající se HSE&S.",null,"Zpracován generální vnitřní komunikační plán a komunikace v rámci dílčích procesů. Standardními nástroji komunikace jsou porady na všech úrovních organizace, nástěnky na pracovištích, Share Point.",null,null,null,false]
[null,null,null,"b)","Existuje určitá ad hoc vnitřní komunikace, která se zabývá tématy týkajícími se HSE&S.",null,null,null,null,null,false]
[null,null,null,"c)","Existuje vnitřní komunikační plán, který stanoví následující položky: hlášení, komu, kdy a jakým komunikačním prostředkem se tato hlášení budou posílat s cílem zajistit adekvátní vnitřní komunikaci.",null,null,null,null,null,true]
[null,null,null,"d)","Kromě vnitřního komunikačního plánu se měří efektivnost komunikace.",null,null,null,null,null,false]
[null,null,null,null," "]
[null,null,"Q1.13","Jakým způsobem organizace zajišťuje správné kompetence pracovníků, pokud jde o aspekty HSE&S týkající se jejich práce?",null,null,{"$f":"C86","v":"Q1.13"},"notes"]
[null,null,{"$f":"IF(COUNTIF(K87:K90,TRUE)=0,\"incomplete\",IF(COUNTIF(K87:K90,TRUE)=1,\"\",\"inconsistent\"))","v":""},"a)","Nejsou stanoveny žádné procesy.",null,"Řešeno interní metodikou (směrnice).",null,null,null,false]
[null,null,null,"b)","Identifikují se požadované kompetence a potřeby školení a osoby na klíčových pozicích absolvují základní školení HSE&S.",null,null,null,null,null,false]
[null,null,null,"c)","Na základě specifických potřeb zaměstnanců a dodavatelů se zřizují a spravují vzdělávací programy.",null,null,null,null,null,true]
[null,null,null,"d)","Při kontrole kompetencí lidí přecházejících na jiné pracovní pozice v rámci společnosti se uplatňuje proces řízení změn. Kontrola kompetencí probíhá i u osob vykonávajících úkoly přímo související s prioritními riziky HSE&S.",null,null,null,null,null,false]
[null,null,null,null," "]
[null,null,"Q1.14","Jaká je struktura zapojení zaměstnanců?",null,null,{"$f":"C92","v":"Q1.14"},"notes"]
[null,null,{"$f":"IF(COUNTIF(K93:K96,TRUE)=0,\"incomplete\",IF(COUNTIF(K93:K96,TRUE)=1,\"\",\"inconsistent\"))","v":""},"a)","Zaměstnanci se aktivně neúčastní. Vše je však v souladu s platnou legislativou.",null,"Informace zaměstnanců prostřednictvím porad na všech úrovních organizace, nástěnek na pracovištích, Share Pointu.",null,null,null,false]
[null,null,null,"b)","Organizace informuje zaměstnance a zástupce pracovníků o tématech, které mohou ovlivňovat organizaci a RC.",null,null,null,null,null,false]
[null,null,null,"c)","Organizace podporuje osobní iniciativy a začleňuje praktickou zpětnou vazbu z provozu do přezkoumání cílů a procesů. Organizace pořádá pravidelná setkání se zaměstnanci s cílem umožnit jim vyjadřovat své názory na politiku organizace týkající se HSE&S.",null,null,null,null,null,true]
[null,null,null,"d)","Zástupci zaměstanaců představují klíčového partnera při všech rozhodnutích.",null,null,null,null,null,false]
[]
[null,"Správa dokumentů",null,null,null,{"$f":"B98","v":"Správa dokumentů"}]
[null,null,null,null," "]
[null,null,"Q1.15","Jakým způsobem se řídí dokumentace HSE&S?",null,null,{"$f":"C100","v":"Q1.15"},"notes"]
[null,null,{"$f":"IF(COUNTIF(K101:K104,TRUE)=0,\"incomplete\",IF(COUNTIF(K101:K104,TRUE)=1,\"\",\"inconsistent\"))","v":""},"a)","Organizace disponuje dokumentací o ochraně zdraví a životního prostředí. Pravidelně ji přehodnocuje a aktualizuje.",null,"Uplatněn elektronický systém řízené dokumentace (Share Point).",null,null,null,false]
[null,null,null,"b)","Činnost organizace řídí komplexní soubor vnitřních předpisů pro oddělení a zaměstnance, kteří odpovídají za bezpečnost na pracovišti, ochranu zdraví a životního prostředí.",null,null,null,null,null,false]
[null,null,null,"c)","Organizace zřídila systém správy dokumentů, který zaručuje, že všechny relevantní dokumenty (např. Vývojové diagramy, schémata P&ID, bezpečnostní studie, studie PHA, studie HAZOP, záznamy o výcviku, záznamy o údržbě a opravách, dokumentace ke všem zařízením, popisy pracovní činnosti a odpovědnosti, havarijní plány, bezpečnostní parametry atd.) jsou aktuální. Neplatná dokumentace je odstraněna, ale uložena a uchovávána v evidenci, tak aby měli všichni zainteresovaní zaměstnanci přístup podle svého postavení.",null,null,null,null,null,true]
[null,null,null,"d)","Vnitřní předpisy jsou přístupné všem zaměstnancům a standardy očekávaného obchodního chování jsou podepsány všemi zaměstnanci.",null,null,null,null,null,false]
[]
[null,"Řízení změn",null,null,null,{"$f":"B106","v":"Řízení změn"}]
[null,null,null,null," "]
[null,null,"Q1.16","Jakým způsobem jsou řízeny změny potenciálně ovlivňující HSE&S (zdraví, bezpečnost, životní prostředí, energetiku a udržitelnost)?",null,null,{"$f":"C108","v":"Q1.16"},"notes"]
[null,null,{"$f":"IF(COUNTIF(K109:K112,TRUE)=0,\"incomplete\",IF(COUNTIF(K109:K112,TRUE)=1,\"\",\"inconsistent\"))","v":""},"a)","Neexistuje systematické řízení změn (MoC).",null,null,null,null,null,false]
[null,null,null,"b)","Existuje postup, který definuje změny, uvádí požadované dokumenty a metodiku na zkoumání rizik vyplývajících z používání, aktualizace, schvalování a ukončování změn. Tento postup zahrnuje změny, jakými je zavedení nové látky do procesu, posuzování specifických rizik a interakcí s jinými látkami a možný dopad změn na technické a HSE&S rizika.",null,null,null,null,null,false]
[null,null,null,"c)","Existuje postup pro řízení změn (všech typů včetně klasifikace látek a přípravků). Tento protokol zajišťuje revizi provozních předpisů, zařízení (včetně osobních ochranných pomůcek), hodnocení rizik HSE&S, povolení a dokumentů (pokud se to vyžaduje), jakož i sdílení informací se stranami zapojenými do procesu. Postup určuje osoby, které jsou odpovědné za proces MoC a které jsou oprávněny podepisovat/schvalovat přezkum změn.",null,null,null,null,null,true]
[null,null,null,"d)","Změny (schválené postupem MoC) jsou registrovány a dostupné pro zainteresované zaměstnance. Tento seznam se aktualizuje a zobrazuje aktuální stav všech projektů týkajících se změn v libovolném čase. Zaměstnanci jsou v případě potřeby seznámeni se schválenými a aplikovanými změnami prostřednictvím školení. Školení musí zajistit, aby zaměstnanci věděli jak tyto změny ovlivní jejich činnosti a kde získají informace modifikované touto změnou. ",null,null,null,null,null,false]

{"sheet":"Chapter 2","index":5,"n_rows":282,"n_cols":15,"rows_kept":282,"cut":false,"hidden":false,"merged":[[278,6,281,9],[248,6,251,9],[254,6,257,9],[260,6,263,9],[266,6,269,9],[272,6,275,9],[218,6,221,9],[224,6,227,9],[230,6,233,9],[236,6,239,9],[242,6,245,9],[192,6,195,9],[198,6,201,9],[206,6,209,9],[212,6,215,9],[160,6,163,9],[168,6,171,9],[174,6,177,9],[180,6,183,9],[186,6,189,9],[128,6,131,9],[134,6,137,9],[140,6,143,9],[146,6,149,9],[154,6,157,9],[98,6,101,9],[104,6,107,9],[110,6,113,9],[116,6,119,9],[122,6,125,9],[68,6,71,9],[74,6,77,9],[80,6,83,9],[86,6,89,9],[92,6,95,9],[36,6,39,9],[42,6,45,9],[48,6,51,9],[54,6,57,9],[60,6,63,9],[6,6,9,9],[12,6,15,9],[18,6,21,9],[24,6,27,9],[30,6,33,9],[159,3,159,4],[167,3,167,4],[173,3,173,4],[109,3,109,4],[115,3,115,4],[121,3,121,4],[127,3,127,4],[133,3,133,4],[139,3,139,4],[145,3,145,4],[153,3,153,4],[3,5,22,5],[23,5,39,5],[40,5,63,5],[67,3,67,4],[79,3,79,4],[5,3,5,4],[29,3,29,4],[35,3,35,4],[59,3,59,4],[73,3,73,4],[179,3,179,4],[185,3,185,4],[191,3,191,4],[197,3,197,4],[205,3,205,4],[211,3,211,4],[217,3,217,4],[223,3,223,4],[229,3,229,4],[235,3,235,4],[271,3,271,4],[277,3,277,4],[241,3,241,4],[247,3,247,4],[253,3,253,4],[259,3,259,4],[265,3,265,4],[85,3,85,4],[65,5,83,5],[84,5,101,5],[102,5,119,5],[120,5,137,5],[103,3,103,4],[222,5,245,5],[246,5,269,5],[270,5,281,5],[138,5,149,5],[151,5,163,5],[165,5,189,5],[190,5,201,5],[203,5,221,5]]}
[null,"KAPITOLA 2: Ochrana lidí a životního prostředí",null,null,null,null,null,null,null,null,null,null,null,{"$f":"IF(O1=\"\",\"\",\"Still to do\")","v":""},{"$f":"'Start and prefill'!$G$9","v":""}]
[null,null,null,null,null,null,"only click one of the possibilities"]
[]
[null,"Bezpečnost a ochrana zdraví při práci",null,null,null,{"$f":"B4","v":"Bezpečnost a ochrana zdraví při práci"}]
[null,null,null,null," "]
[null,{"$f":"COUNTIF(C7:C282,\"inconsistent\")","v":0},"Q2.1","Jak se management zavázal k ochraně zdraví a bezpečnosti při práci (dále jen \"BOZP\")?",null,null,{"$f":"C6","v":"Q2.1"},"notes"]
[null,null,{"$f":"IF(COUNTIF(K7:K10,TRUE)=0,\"incomplete\",IF(COUNTIF(K7:K10,TRUE)=1,\"\",\"inconsistent\"))","v":""},"a)","Existují písemné zásady týkající se neustálého zdokonalování BOZP.",null,"Popisy pracovních míst, organizační řád, vnitřní řídící normy a pracovní předpisy.",null,null,null,false]
[null,null,null,"b)","Byly stanoveny a zpřístupněny úkoly a zdroje s cílem zajistit uplatňování zásad pro všechny strany (včetně dodavatelů). Zároveň byly stanoveny specifické cíle, které se sledují pomocí měřitelných hodnot a ukazatelů zaostávání nebo pokroku.",null,null,null,null,null,false]
[null,null,null,"c)","Na všech úrovních organizace byly stanoveny jasné odpovědnosti s cílem zabránit nehodám a uplatňovat zásady společnosti. Zaměstnancům, kteří se podílejí na řízení BOZP, byly přiděleny jasné cíle s cílem podpořit výkonnost, a to na základě úrovně jejich odpovědnosti.",null,null,null,null,null,true]
[null,null,null,"d)","Zaměstnanci se podílejí na tvorbě zásad a přispívají k výsledku organizace. Všichni zaměstnanci jsou zapojeni do dané problematiky.",null,null,null,null,null,false]
[null,null,null,null," "]
[null,null,"Q2.2","Jakým způsobem se určují rizika a expozice v souvislosti s BOZP?",null,null,{"$f":"C12","v":"Q2.2"},"notes"]
[null,null,{"$f":"IF(COUNTIF(K13:K16,TRUE)=0,\"incomplete\",IF(COUNTIF(K13:K16,TRUE)=1,\"\",\"inconsistent\"))","v":""},"a)","Ne systematicky, avšak v souladu s platnou legislativou.",null,"Stanovena metodika (instrukce bezpečnosti práce), vyhodnocena rizika pro všechna pracoviště.",null,null,null,false]
[null,null,null,"b)","Pro všechny procesy, zařízení a místa byly identifikovány a popsány potenciální rizika zdraví a bezpečnosti při běžném provozu, tak v případě zhoršení situace v souvislosti se změněnou nebo abnormální provozem. Při vyhodnocování nebezpečí týkajících BOZP pro zaměstnance v důsledku procesů, zařízení, potenciálně nebezpečných chemických, fyzikálních nebo biologických látek nebo jiných podmínek pracovišti se využívají posouzení expozic a bezpečnostní analýzy. Provádějí se příslušná ochranná opatření.",null,null,null,null,null,true]
[null,null,null,"c)","V úvahu se berou zvláštní situace a individuální specifika (těhotné ženy, zdravotní postižení, mladí zaměstnanci ...) s cílem chránit pracovníky a s ohledem na příslušné zákony o ochraně soukromí a ochraně údajů o zdravotním stavu těchto pracovníků.",null,null,null,null,null,false]
[null,null,null,"d)","V souvislosti s definovanými scénáři havárií byly stanoveny následující aspekty:\n* Účinky nebezpečných jevů na veřejné zdraví a bezpečnost a jejich intenzita (rozsah závažnosti) \n* pravděpodobnost výskytu (stupnice pravděpodobnosti) a následné stanovení míry rizika nebo kritičnosti (spojení závažnosti a pravděpodobnosti), přičemž informace se sdílejí se zainteresovanými stranami.",null,null,null,null,null,false]
[null,null,null,null," "]
[null,null,"Q2.3","How are medical requirements evaluated?",null,null,{"$f":"C18","v":"Q2.3"},"notes"]
[null,null,{"$f":"IF(COUNTIF(K19:K22,TRUE)=0,\"incomplete\",IF(COUNTIF(K19:K22,TRUE)=1,\"\",\"inconsistent\"))","v":""},"a)","Neposuzují se.",null,"Každému pracovnímu místu přiřazeny zdravotní požadavky v rámci interní metodiky, je to sledováno a pracovníci jsou periodicky vysíláni na zdravotní prohlídky. Organizace má smluvního lékaře.",null,null,null,false]
[null,null,null,"b)","Byly identifikovány všechny specifické fyzické a zdravotní požadavky související s konkrétní pozicí. Specialista v oblasti ochrany zdravý individuálně posoudil riziko nepříznivého zdravotního výsledku pro zaměstnance v důsledku provádění základních pracovních funkcí, ať už s příslušnou nápravou nebo bez ní. Výsledky takového posuzování slouží ke zlepšení pracovního prostředí nebo mohou vést k přeřazení zaměstnance na jinou (vhodnější) pracovní pozici.",null,null,null,null,null,false]
[null,null,null,"c)","Byla identifikována speciální lékařská vyšetření na pomoc při posuzování vhodnosti jednotlivců na konkrétní práci (např. zrak řidičů motorových vozidel) a následně byla začleněna do posuzování zdravotního stavu pracovníků. Tyto posudky vycházejí výhradně z lékařských vyšetření týkajících se požadavků na práci a ne z jiných vyšetření, které by mohly být prováděny jako součást pravidelného vyšetřování zdravotního stavu.",null,null,null,null,null,true]
[null,null,null,"d)","Organizace nabízí další služby pro školení a podporu zaměstnanců v oblasti zvyšování zdraví a bezpečnosti.",null,null,null,null,null,false]
[null,null,null,null," "]
[null,null,"Q2.4","Jakým způsobem zlepšuje organizace BOZP?",null,{"$f":"B4","v":"Bezpečnost a ochrana zdraví při práci"},{"$f":"C24","v":"Q2.4"},"notes"]
[null,null,{"$f":"IF(COUNTIF(K25:K28,TRUE)=0,\"incomplete\",IF(COUNTIF(K25:K28,TRUE)=1,\"\",\"inconsistent\"))","v":""},"a)","V souvislosti s BOZP neexistuje žádný program ani cíle. Organizace podniká zákonné kroky v případech mimořádných událostí.",null,"Uplatněn systém managementu BOZP dle OHSAS 18001/ISO 45001.",null,null,null,false]
[null,null,null,"b)","Management organizace zřídil program BOZP, v jehož rámci se sledují událostí týkající se BOZP.",null,null,null,null,null,false]
[null,null,null,"c)","Byl zřízen program BOZP a existují postupy posuzující příležitosti na zlepšování výkonnosti BOZP při zohlednění plánovaných změn týkajících se organizace, její zásad, postupů nebo činnosti a:\n1) příležitosti pro přizpůsobení práce, pracovní organizace a pracovního prostředí pracovníky; \n2) příležitosti k odstranění nebezpečí a snížení rizik BOZP;\n3) další příležitosti ke zlepšení systému řízení BOZP.",null,null,null,null,null,true]
[null,null,null,"d)","Program BOZP se na základě jeho účinnosti pravidelně vyhodnocuje (např. třetí stranou, prostřednictvím ukazatelů výkonnosti) a přijímají se pravidelné opatření s cílem seznámit zaměstnance a dodavatele o rizicích a příležitostech a umožnit jim účastnit se programu. Výsledkem analýz údajů jsou prediktivní poznatky.",null,null,null,null,null,false]
[null,null,null,null," "]
[null,null,"Q2.5","Jakým způsobem probíhá údržba a udržování pořádku s cílem zajistit bezpečnost provozů, zařízení, nástrojů a (bezpečnostních) pomůcek?",null,null,{"$f":"C30","v":"Q2.5"},"notes"]
[null,null,{"$f":"IF(COUNTIF(K31:K34,TRUE)=0,\"incomplete\",IF(COUNTIF(K31:K34,TRUE)=1,\"\",\"inconsistent\"))","v":""},"a)","Plánuje se zákonem požadovaná údržba.",null,"Plán údržby, plán inspekční údržby, hodnocení údržby na měsíční bázi.",null,null,null,false]
[null,null,null,"b)","Existuje a je naplňována strategie/plán proaktivní údržby.",null,null,null,null,null,false]
[null,null,null,"c)","Účinnost programu údržby se pravidelně vyhodnocuje, měří se úspěch a provedou se příslušné zlepšení.",null,null,null,null,null,true]
[null,null,null,"d)","Organizace zřídila sofistikovaný program údržby a kontroly, který se opírá o rizika nebo poznatky.",null,null,null,null,null,false]
[null,null,null,null," "]
[null,null,"Q2.6","Jak se ověřuje správný výběr, údržba a používání zdravotního a bezpečnostního vybavení (např. osobních ochranných prostředků = OOPP)?",null,null,{"$f":"C36","v":"Q2.6"},"notes"]
[null,null,{"$f":"IF(COUNTIF(K37:K40,TRUE)=0,\"incomplete\",IF(COUNTIF(K37:K40,TRUE)=1,\"\",\"inconsistent\"))","v":""},"a)","Neexistuje žádné ověření.",null,"Interní metodika (instrukce bezpečnosti práce) pro přidělování OOPP. Nové OOPP před používáním hodnoceny. Zaměstnanci školeni ve smyslu nutnosti používat OOPP a pro jejich správné používání. Případné nerespektování používání OOPP pod sankcemi.",null,null,null,false]
[null,null,null,"b)","Výběr je založen na hodnocení rizik, avšak vhodné použití se neověřuje.",null,null,null,null,null,false]
[null,null,null,"c)","Zaměstnanci jsou vyškoleni, aby věděli a pochopili, kdy a jaké OOPP se vyžadují a aby prováděly hodnocení OOPP. Zaměstnanci jsou si vědomi důsledků nepoužívání OOPP. Užívání správných OOPP zahrnuje všechny úrovně organizace.",null,null,null,null,null,true]
[null,null,null,"d)","Zaměstnanci mohou přerušit práci, pokud nepovažují OOPP za dostatečně účinné pro kontrolu nebezpečí.",null,null,null,null,null,false]
[null,null,null,null," ",{"$f":"B4","v":"Bezpečnost a ochrana zdraví při práci"}]
[null,null,"Q2.7","Jak se organizace stará o stres a tělesné a duševní zdraví zaměstnanců?",null,null,{"$f":"C42","v":"Q2.7"},"notes"]
[null,null,{"$f":"IF(COUNTIF(K43:K46,TRUE)=0,\"incomplete\",IF(COUNTIF(K43:K46,TRUE)=1,\"\",\"inconsistent\"))","v":""},"a)","Je řízeno podle zákonných požadavků.",null,"Pružná pracovní doba, rekondiční pobyty, benefity, měření hygienických aspektů.",null,null,null,false]
[null,null,null,"b)","Organizace podporuje vhodnou rovnováhu mezi pracovním a soukromým životem.\nPracovníci mohou podávat návrhy a organizace jejich návrhy řeší.\nJe využíván systém posuzování ergonomických aspektů pracovišť.",null,null,null,null,null,true]
[null,null,null,"c)","Organizace disponuje postupem na registraci požadavků a sledování změn, které se uplatnily při jejich řešení.\nOrganizace měří vnímání zaměstnanců ohledně rovnováhy mezi pracovním a soukromým životem prostřednictvím anonymní ankety a zavedla určitá opatření k jejímu zlepšení (například flexibilní pracovní doba, práce z domova ...).\nZaměstnanci jsou proškoleni v oblasti vhodného ergonomického užívání zařízení.",null,null,null,null,null,false]
[null,null,null,"d)","Organizace stanovila specifický program na zlepšování rovnováhy mezi pracovním a soukromým životem a spokojenosti v práci. Účinnost programu se pravidelně vyhodnocuje.",null,null,null,null,null,false]
[null,null,null,null," "]
[null,null,"Q2.8","Jakým způsobem se vyšetřují onemocnění, zranění, incidenty a potenciálně nebezpečné situace na pracovišti?",null,null,{"$f":"C48","v":"Q2.8"},"notes"]
[null,null,{"$f":"IF(COUNTIF(K49:K52,TRUE)=0,\"incomplete\",IF(COUNTIF(K49:K52,TRUE)=1,\"\",\"inconsistent\"))","v":""},"a)","Nehody a incidenty jsou hlášeny podle právních požadavků.",null,"Součástí šetření incidentů je stanovení nápravných opatření.",null,null,null,false]
[null,null,null,"b)","Organizace identifikuje a vyšetřuje příčiny nehod a incidentů. Organizace hodnotí význam.",null,null,null,null,null,false]
[null,null,null,"c)","Organizace podniká vhodná nápravná opatření s cílem zabránit jejich opakování.",null,null,null,null,null,true]
[null,null,null,"d)","Organizace posuzuje efektivnost vyšetřování a nápravných opatření v souvislosti s BOZP a sdílí klíčová zjištění a související nápravná opatření s příslušnými zainteresovanými stranami, dalšími stranami…",null,null,null,null,null,false]
[null,null,null,null," "]
[null,null,"Q2.9","Jak je organizace připravena na mimořádné události?",null,null,{"$f":"C54","v":"Q2.9"},"notes"]
[null,null,{"$f":"IF(COUNTIF(K55:K58,TRUE)=0,\"incomplete\",IF(COUNTIF(K55:K58,TRUE)=1,\"\",\"inconsistent\"))","v":""},"a)","a)\tExistuje havarijní plán a příslušné pokyny. Byl ustanoven nouzový manažer, na kterého se zaměstnanci mohou v případě výskytu mimořádné události spolehnout. Požadované zařízení (výstražné systémy) jsou dostupné všem zaměstnancům na různých místech provozu.",null,"Jsou vypracovány příslušné havarijní plány a prováděny periodické nácviky. Případná zjištění můžou být promítnuta do obsahu havarijních plánů.",null,null,null,false]
[null,null,null,"b)","Zaměstnanci a dodavatelé jsou připraveni reagovat na mimořádné události díky pravidelným havarijním cvičením. Pracovníci záchranných složek a jiné osoby, jejichž úkolem je reagovat na mimořádné události, byli identifikováni, jmenováni, vyškoleni a zplnomocněni plnit své úkoly.",null,null,null,null,null,false]
[null,null,null,"c)","Havarijní plán se posuzuje na základě poznatků získaných z havarijních cvičení a jiných událostí.",null,null,null,null,null,true]
[null,null,null,"d)","Organizace úzce spolupracuje a zapojuje pracovníky externích záchranných složek, hasičské sbory atd. Pracovníci externích záchranných složek mají přístup k havarijnímu plánu provozu.",null,null,null,null,null,false]
[null,null,null,null," "]
[null,null,"Q2.10","Jakým způsobem zajišťuje organizace správně kompetence všech pracovníků, týkající se požadavků BOZP, které souvisí s jejich pracovní náplní?",null,null,{"$f":"C60","v":"Q2.10"},"notes"]
[null,null,{"$f":"IF(COUNTIF(K61:K64,TRUE)=0,\"incomplete\",IF(COUNTIF(K61:K64,TRUE)=1,\"\",\"inconsistent\"))","v":""},"a)","Pokyny a upozornění týkající se BOZP jsou viditelné a přístupné (např. Prostřednictvím plakátů a značek) a probíhají příslušné školení. Pracoviště je označeno ve smyslu požadavků, např. uvedených v bezpečnostních listech, např. jako výsledek hodnocení na pracovišti, např. na základě doporučení dodavatele zařízení.",null,"Periodická školení BOZP (zaměstanci min. 1x/ 2 roky a vedoucí min. 1x/ 3 roky). Spoluúčast zaměstnanců při prověrkách BOZP. Hodnocení BOZP - pracovní skupina BOZP se zastoupením vedení a zástupců zaměstnanců.",null,null,null,false]
[null,null,null,"b)","Pracovníci i noví zaměstnanci navštěvují pravidelné školení. Pracovní skupiny jsou organizovány tak, aby umožnily zaměstnancům diskutovat o zásadách bezpečnosti a ochrany zdraví v organizaci.",null,null,null,null,null,false]
[null,null,null,"c)","Zaměstnanci organizace se podílejí na hodnocení pracovních rizik. Zásady bezpečnosti a ochrany zdraví v organizaci se pravidelně posuzují a přizpůsobují výsledkem diskusí v rámci pracovních skupin. Prověřuje se úroveň kompetence dodavatelů v oblasti BOZP a organizují se školení.",null,null,null,null,null,true]
[null,null,null,"d)","Organizace posuzuje účinnost této komunikace a školení pro všechny pracovníky.",null,null,null,null,null,false]
[]
[null,"Procesní bezpečnost",null,null,null,{"$f":"B66","v":"Procesní bezpečnost"}]
[null,null,null,null," "]
[null,null,"Q2.11","Jakým způsobem se vedení staví k procesní bezpečnosti?\n\n",null,null,{"$f":"C68","v":"Q2.11"},"notes"]
[null,null,{"$f":"IF(COUNTIF(K69:K72,TRUE)=0,\"incomplete\",IF(COUNTIF(K69:K72,TRUE)=1,\"\",\"inconsistent\"))","v":""},"a)","Byly vypracovány písemné zásady za účelem neustálého zlepšování.",null,"Pracovní předpisy a havarijní plány.",null,null,null,false]
[null,null,null,"b)","Byly stanoveny a zpřístupněny úlohy a zdroje s cílem zajistit uplatňování zásad pro všechny strany (včetně dodavatelů). Zároveň byly stanoveny specifické cíle, které se sledují pomocí měřitelných hodnot a ukazatelů zaostávání nebo pokroku.",null,null,null,null,null,false]
[null,null,null,"c)","Pro všechny úrovně v organizaci byly stanoveny jasné odpovědnosti s cílem zabránit nehodám a uplatňovat zásady společnosti. Zaměstnancům, kteří se podílejí na procesní bezpečnosti, byly přiděleny jasné cíle s cílem přispívat k výkonu, a to na základě úrovně jejich odpovědnosti.",null,null,null,null,null,true]
[null,null,null,"d)","Zaměstnanci se podílejí na tvorbě zásad.",null,null,null,null,null,false]
[null,null,null,null," "]
[null,null,"Q2.12","Jakým způsobem je vypracována identifikace a popis bezpečnosti procesů, zařízení a pracovišť organizace?",null,null,{"$f":"C74","v":"Q2.12"},"notes"]
[null,null,{"$f":"IF(COUNTIF(K75:K78,TRUE)=0,\"incomplete\",IF(COUNTIF(K75:K78,TRUE)=1,\"\",\"inconsistent\"))","v":""},"a)","Provádějí se podrobné studie bezpečnosti procesů, zařízení a pracovišť organizace.",null,"Hodnocení rizik → pracovní předpisy, havarijní plány.",null,null,null,false]
[null,null,null,"b)","Pro všechny procesy, zařízení a pracoviště byly identifikovány a popsány potenciální rizika na zdraví a bezpečnosti při běžném provozu, tak v případě zhoršení situace v souvislosti se změněnou nebo abnormální provozem.",null,null,null,null,null,true]
[null,null,null,"c)","Pro všechny procesy, zařízení a pracoviště byly identifikovány a popsány potenciální rizika na zdraví a bezpečnosti při běžném provozu i v případě zhoršení situace v souvislosti se změněnou nebo abnormální provozem a tyto informace jsou poskytovány místnímu obyvatelstvu s cílem zajistit kontrolu jejich bezpečnosti prostřednictvím šíření těchto informací.",null,null,null,null,null,false]
[null,null,null,"d)","Provádí se kvantitativní hodnocení rizik, které zahrnuje následující aspekty pro každý z identifikovaných havarijních scénářů: \no Účinky nebezpečných jevů na veřejné zdraví a bezpečnost a jejich intenzita (rozsah závažnosti) \no Pravděpodobnost výskytu (stupnice pravděpodobnosti) a následné stanovení míry rizika nebo kritičnosti (spojení závažnosti a pravděpodobnosti).",null,null,null,null,null,false]
[null,null,null,null," "]
[null,null,"Q2.13","Jakým způsobem se zlepšuje procesní bezpečnost po nehodách a incidentech?",null,null,{"$f":"C80","v":"Q2.13"},"notes"]
[null,null,{"$f":"IF(COUNTIF(K81:K84,TRUE)=0,\"incomplete\",IF(COUNTIF(K81:K84,TRUE)=1,\"\",\"inconsistent\"))","v":""},"a)","Existuje postup, který stanoví oznamování a vyšetřování nehod a incidentů s cílem umožnit jejich systematickou analýzu.",null,"Pracovní předpisy a havarijní plány.",null,null,null,true]
[null,null,null,"b)","Na základě povahy, následků a možných rizik nehod byly zavedeny příslušné klasifikační kritéria. Nehody, které jasně souvisejí s procesní bezpečností, jsou identifikovány alespoň ve smyslu definic indikátorů výkonnosti procesní bezpečnosti (LoPC) Mezinárodní rady chemických svazů (ICCA).",null,null,null,null,null,false]
[null,null,null,"c)","Jsou definována kritéria pro členy týmu vyšetřujícího nehody včetně požadavků na koordinátora a časového rámce pro vypracování závěrů",null,null,null,null,null,false]
[null,null,null,"d)","Poznatky z analýzy nehod a incidentů se sdílejí. V případě potřeby se jako preventivní opatření zavádějí osvědčené postupy nápravných opatření.",null,null,null,null,null,false]
[null,null,null,null," ",{"$f":"B66","v":"Procesní bezpečnost"}]
[null,null,"Q2.14","Jakým způsobem se provádějí audity a inspekce procesní bezpečnosti?",null,null,{"$f":"C86","v":"Q2.14"},"notes"]
[null,null,{"$f":"IF(COUNTIF(K87:K90,TRUE)=0,\"incomplete\",IF(COUNTIF(K87:K90,TRUE)=1,\"\",\"inconsistent\"))","v":""},"a)","Je zaveden systém auditů, který zahrnuje procesní bezpečnost zařízení a příslušnou dokumentaci.",null,"Plán interních auditů na kalendářní rok, metodika pro interní audity.",null,null,null,false]
[null,null,null,"b)","Stanoví se kritéria, systém a periodicita kontroly s cílem posoudit procesní bezpečnost a realizaci cílů.\n\nPřezkoumání vedením zahrnuje revizi výsledků auditů a hodnocení cílů pro jednotlivá oddělení nebo úseky společnosti. Za účelem ověření fungování systému se identifikují indikátory.",null,null,null,null,null,true]
[null,null,null,"c)","Prioritním cílem jsou nápravy na základě auditů a inspekcí. Výsledky auditů slouží pro stanovování budoucích cílů.",null,null,null,null,null,false]
[null,null,null,"d)","Všechny dokumenty související s procesní bezpečností se pravidelně posuzují s cílem zajistit jejich aktuálnost (např. Všechny změny se posuzují a vyhodnocují).",null,null,null,null,null,false]
[null,null,null,null," "]
[null,null,"Q2.15","Jakým způsobem se prověřují a zlepšují pracovní pokyny?",null,null,{"$f":"C92","v":"Q2.15"},"notes"]
[null,null,{"$f":"IF(COUNTIF(K93:K96,TRUE)=0,\"incomplete\",IF(COUNTIF(K93:K96,TRUE)=1,\"\",\"inconsistent\"))","v":""},"a)","Na příslušných místech se nacházejí návody k obsluze a písemné postupy. Tyto se pravidelně aktualizují pro každou fázi provozu, která má vliv na procesní bezpečnost.",null,"Systém skoronehod.",null,null,null,false]
[null,null,null,"b)","Byl zaveden systém neustálé komunikace nebo systém na kontrolu přítomnosti pracovníků na kritických místech nebo na izolovaných pracovištích.\n\nPokyny ke kritickým pracovním činnostem se pravidelně revidovány. Pro kritické zařízení a systémy byl zřízen systém pracovních povolení.",null,null,null,null,null,false]
[null,null,null,"c)","Zaměstnanci mohou v rámci stanoveného systému navrhovat zlepšení a poskytovat svou zpětnou vazbu týkající se problémů nebo incidentů, s nimiž se setkali při provádění pracovních úkolů.",null,null,null,null,null,true]
[null,null,null,"d)","Byl posouzen a stanoven minimální počet zaměstnanců. Byly zařízené postupy na bezpečný provoz (nebo vypnutí) v případě, že nelze zajistit minimální počet zaměstnanců (např. V případě nemocí, stávky).",null,null,null,null,null,false]
[null,null,null,null," "]
[null,null,"Q2.16","Jak je navrhována a dokumnetována instalace nových zařízení?",null,null,{"$f":"C98","v":"Q2.16"},"notes"]
[null,null,{"$f":"IF(COUNTIF(K99:K102,TRUE)=0,\"incomplete\",IF(COUNTIF(K99:K102,TRUE)=1,\"\",\"inconsistent\"))","v":""},"a)","Pro každé zařízení, které může ovlivnit procesní bezpečnost (ve smyslu zákonných a jiných požadavků), je k dispozici dokumentace, návody a hodnocení bezpečnosti.",null,"BAT-BREF pro velkoobjemové anorganické chemikálie.",null,null,null,false]
[null,null,null,"b)","K dispozici je podrobný plán zařízení. Dostupné jsou podrobné plány pro lokality, budovy, půdorysy, evakuační trasy a v případě potřeby i oblasti specifických bezpečnostních požadavků, např. požadované vzdálenosti ve smyslu jiných požadavků (ATEX, únikové cesty, přilehlé budovy atd.).",null,null,null,null,null,false]
[null,null,null,"c)","Uplatňují se nejlepší dostupné techniky (BAT).",null,null,null,null,null,true]
[null,null,null,"d)","Instalace je navržena tak, aby i selhání vyústilo do bezpečné situace.",null,null,null,null,null,false]
[null,null,null,null," ",{"$f":"B66","v":"Procesní bezpečnost"}]
[null,null,"Q2.17","Jakým způsobem probíhá kontrola zřizování instalace?",null,null,{"$f":"C104","v":"Q2.17"},"notes"]
[null,null,{"$f":"IF(COUNTIF(K105:K108,TRUE)=0,\"incomplete\",IF(COUNTIF(K105:K108,TRUE)=1,\"\",\"inconsistent\"))","v":""},"a)","Fyzická inspekce během výstavby s cílem zajistit shodu s projektem.",null,"Zajišťuje projekce a konstrukce.",null,null,null,false]
[null,null,null,"b)","Před zahájením se stav provozu posuzuje, testují se bezpečnostní kritická zařízení a ověřují a dokumentují se jejich zamýšlené funkce. Pro případ, že jsou před zahájením identifikována existující rizika, je definován  postup popisující nápravná opatření a dočasné řešení platné do realizace nápravných opatření.",null,null,null,null,null,false]
[null,null,null,"c)","Ověřuje se účinnost nápravných opatření.",null,null,null,null,null,false]
[null,null,null,"d)","K projektu, zřizování, údržbě a aktualizacím se uchovává dokumentace.",null,null,null,null,null,true]
[null,null,null,null," "]
[null,null,"Q2.18","Jakým způsobem je zaručena ochrana zařízení, aby jediná chyba neměla katastrofické následky?",null,null,{"$f":"C110","v":"Q2.18"},"notes"]
[null,null,{"$f":"IF(COUNTIF(K111:K114,TRUE)=0,\"incomplete\",IF(COUNTIF(K111:K114,TRUE)=1,\"\",\"inconsistent\"))","v":""},"a)","Byl zaveden systém, který vyhodnocuje potřebu dostatečných ochranných bariér (technologických, zařízení, izolačních bodů ...) a automatické systémy na vrácení instalace zpět do bezpečného stavu v případě nebezpečné eskalace procesu. Byl zaveden systém poskytující pokyny o potřebě úrovně ochranných bariér (ve smyslu mezinárodně uznávaných norem).",null,"Jednotlivé pracoviště disponují alarmy a tlačítky pro nouzové zastavení zařízení.",null,null,null,false]
[null,null,null,"b)","Byly identifikovány kritické prvky z hlediska bezpečnosti procesu a stanovena požadovaná úroveň jejich spolehlivosti.",null,null,null,null,null,false]
[null,null,null,"c)","Na trvalých pracovištích operátorů se nacházejí alarmy, které upozorňují na odchylky procesů. Tlačítka pro nouzové zastavení se nacházejí na místech, kde je lze bezpečně spustit.",null,null,null,null,null,true]
[null,null,null,"d)","Každý reaktor, sklad nebo jiné zařízení obsahující množství nebezpečných látek překračující určité limity (např. ve smyslu Seveso III) bylo posouzeno s cílem zajistit zavedení systému prevence, zadržení a evakuace. Tento systém musí zajistit např. zamezení (případně) regulování rizika přetlaku / zapálení / úniku / výbuchu I v těch nejnepříznivějších podmínkách.",null,null,null,null,null,false]
[null,null,null,null," "]
[null,null,"Q2.19","Byly zřízeny programy preventivní údržby a péče, které zaručují bezpečnost provozů, nástrojů a zařízení?",null,null,{"$f":"C116","v":"Q2.19"},"notes"]
[null,null,{"$f":"IF(COUNTIF(K117:K120,TRUE)=0,\"incomplete\",IF(COUNTIF(K117:K120,TRUE)=1,\"\",\"inconsistent\"))","v":""},"a)","Byl zřízen a dodržuje se strategický plán proaktivní údržby. Spolu s ním se používá podrobný kalendář pravidelné údržby.",null,"Plán inspekční údržby, plán údržby na kalendářní rok, sledování údržby v rámci SW SAP.",null,null,null,false]
[null,null,null,"b)","Program zahrnuje jasná kritéria týkající se: aktualizací v případě neshod, periodicity, cílů a specifických pokynů k údržbě všech zařízení, které ovlivňují procesní bezpečnost. Specifický program se váže k částem, které jsou z hlediska procesní bezpečnosti kritické.",null,null,null,null,null,false]
[null,null,null,"c)","Osoby odpovědné za provádění programu údržby jsou jasně identifikovány a zaznamenávají výsledky údržby. Existují ukazatele umožňující sledování činností údržby (% vykonané práce, zjištěné problémy atd.).",null,null,null,null,null,true]
[null,null,null,"d)","Účinnost programu údržby se pravidelně vyhodnocuje, měří se úspěch a provedou se příslušné zlepšení.",null,null,null,null,null,false]
[null,null,null,null," ",{"$f":"B66","v":"Procesní bezpečnost"}]
[null,null,"Q2.20","Jakým způsobem se řídí procesy během mimořádných událostí v případě přerušení dodávky energie nebo služeb?",null,null,{"$f":"C122","v":"Q2.20"},"notes"]
[null,null,{"$f":"IF(COUNTIF(K123:K126,TRUE)=0,\"incomplete\",IF(COUNTIF(K123:K126,TRUE)=1,\"\",\"inconsistent\"))","v":""},"a)","Projekt instalace zohledňuje odolnost vůči abnormálním situacím způsobeným vnitřními faktory (např. Mimořádné situace v přilehlých instalacích, domino efekt atd.) A vnějšími faktory (např. Přírodní katastrofy jako záplavy, silné větry, zemětřesení, teplo, chlad atd.).",null,"Jsou vypracovány havarijní plány pro (úniky chemikálií, energetika-plyn, elektřina).",null,null,null,false]
[null,null,null,"b)","Byl proveden posudek s cílem vyhodnotit potřebu bezpečného zásobování energií / dodávkami. V závislosti na výsledcích se předvídá alternativní dodávka hlavní energie nebo služeb (chladírenské vody, stlačeného vzduchu, páry, dusíku atd.) S cílem zajistit bezpečné zastavení provozu.",null,null,null,null,null,false]
[null,null,null,"c)","Ověřuje se správný provoz havarijních systémů a byly stanoveny odpovědné osoby.",null,null,null,null,null,false]
[null,null,null,"d)","Havarijní plán: zahrnuje analýzu možných nepředvídaných událostí a stanovuje přijatelnou dobu odezvy, zásahové skupiny a procesy.",null,null,null,null,null,true]
[null,null,null,null," "]
[null,null,"Q2.21","Jak se připravují havarijní plány?",null,null,{"$f":"C128","v":"Q2.21"},"notes"]
[null,null,{"$f":"IF(COUNTIF(K129:K132,TRUE)=0,\"incomplete\",IF(COUNTIF(K129:K132,TRUE)=1,\"\",\"inconsistent\"))","v":""},"a)","Byl vypracován vnitřní havarijní plán, který se průběžně aktualizuje a zahrnuje i komunikaci po mimořádné události.",null,"Plán nácviku havarijní činnosti, protokoly z nácviku.",null,null,null,false]
[null,null,null,"b)","Alespoň jednou za rok probíhá praktická cvičení, po kterém následuje hodnocení účinnosti havarijního plánu.\nByl zřízen informační program pro komunikaci s příslušnými orgány, zásahovými složkami, médii, komunitou atd. s cílem zvýšit připravenost na mimořádnou událost.",null,null,null,null,null,true]
[null,null,null,"c)","Havarijní plán byl ve spolupráci s partnery a sousedními organizacemi začleněn do externího havarijního plánu.",null,null,null,null,null,false]
[null,null,null,"d)","V souvislosti s územním plánováním byl zaveden postup pro hodnocení a získávání poznatků o sousedních územích s cílem vyhodnotit potřebu připravenosti, komunikace a evakuace během mimořádné události a v případě potřeby vyhodnotit zastavení výroby.",null,null,null,null,null,false]
[null,null,null,null," "]
[null,null,"Q2.22","Jakým způsobem jsou zabezpečeny kompetence a školení zaměstnanců a dodavatelů zapojených do procesů?",null,null,{"$f":"C134","v":"Q2.22"},"notes"]
[null,null,{"$f":"IF(COUNTIF(K135:K138,TRUE)=0,\"incomplete\",IF(COUNTIF(K135:K138,TRUE)=1,\"\",\"inconsistent\"))","v":""},"a)","Pro řídící, inženýrské a provozní pracovníky, jakož i pro dodavatele a poskytovatele služeb byly stanoveny, zdokumentovány a realizovány požadavky na kompetence týkající se procesní bezpečnosti, které odpovídají jejich příslušné vykonávané činnosti.",null,"Program profesního vzdělávání.",null,null,null,false]
[null,null,null,"b)","Zaměstnanci a dodavatelé jsou zaškolování v oblasti bezpečnosti procesů na základě jejich odpovědností za bezpečnost procesů. Příslušný vzdělávací program pokrývá všechny aspekty bezpečnosti procesů a zařízení, a to včetně pravidelných opakování takových školení. Pro zaměstnance, kteří jsou odpovědní za úkoly související s bezpečností procesů a zařízení a kteří byli déle nepřítomni (např. Z důvodu těhotenství, nemoci, delší dovolené atd.), Je k dispozici rekvalifikační program.",null,null,null,null,null,true]
[null,null,null,"c)","Odborníci na procesní bezpečnost ve společnosti získávají další vzdělávání související s nejnovějšími nástroji a technikami v oblasti procesní bezpečnosti.",null,null,null,null,null,false]
[null,null,null,"d)","K dispozici jsou osvědčení o způsobilosti všech osob, které se podílejí na procesní bezpečnosti.",null,null,null,null,null,false]
[null,null,null,null," ",{"$f":"B66","v":"Procesní bezpečnost"}]
[null,null,"Q2.23","Jakým způsobem se sdílejí informace o rizicích látek a přípravků?",null,null,{"$f":"C140","v":"Q2.23"},"notes"]
[null,null,{"$f":"IF(COUNTIF(K141:K144,TRUE)=0,\"incomplete\",IF(COUNTIF(K141:K144,TRUE)=1,\"\",\"inconsistent\"))","v":""},"a)","Zaměstnancům pracujícím na místech, kde se tyto látky používají, je k dispozici aktualizovaný seznam bezpečnostních listů (dále jen \"BL\").",null,"Bezpečnostní listy, pravidla pro zacházení s nebezpečnými chem. látkami a směsmi, pracovní předpisy - vše pro každé relevantní pracoviště.",null,null,null,false]
[null,null,null,"b)","K dispozici jsou vlastnosti a parametry všech relevantních reakcí v procesech (včetně schémat toku, materiálové bilance a energetické bilance pro všechny základní procesy).",null,null,null,null,null,false]
[null,null,null,"c)","V rámci celého procesu je známý vývoj teploty a tlaku v běžných a nejhorších možných situacích.",null,null,null,null,null,false]
[null,null,null,"d)","Jsou známé bezpečnostní údaje pro všechny procesy a látky (včetně možných meziproduktů, zbytků a jiných látek).",null,null,null,null,null,true]
[null,null,null,null," "]
[null,null,"Q2.24","Jak se sdílejí informace o procesu?",null,null,{"$f":"C146","v":"Q2.24"},"notes"]
[null,null,{"$f":"IF(COUNTIF(K147:K150,TRUE)=0,\"incomplete\",IF(COUNTIF(K147:K150,TRUE)=1,\"\",\"inconsistent\"))","v":""},"a)","K dispozici je seznam a aktuální technická dokumentace o zařízeních/nástrojích/regulačních obvodech/vypínačích a poplachů a dalších prvcích kritických z hlediska procesní bezpečnosti.",null,"Pracovní předpisy.",null,null,null,false]
[null,null,null,"b)","K dispozici jsou aktuální schémata potrubí a nástrojů.",null,null,null,null,null,false]
[null,null,null,"c)","Výrobní postupy a návody k obsluze aktualizují podle potřeby a pokrývají všechny možné provozní fáze (např. start, běžný provoz, nouzové vypnutí, mimořádně práce atd.). Pro mimořádné události a anomálie jsou stanoveny provozní rezervy a plánované činnosti.",null,null,null,null,null,false]
[null,null,null,"d)","Všechny jsou v bezprostředním dosahu pro pracovníky zapojených do procesu. Zaměstnanci jsou vyškoleni v oblasti používání dokumentace a činností vyplývajících z těchto postupů nebo návodů.",null,null,null,null,null,true]
[]
[null,"Distribuce",null,null,null,{"$f":"B152","v":"Distribuce"}]
[null,null,null,null," "]
[null,null,"Q2.25","Jakým způsobem organizace hodnotí své logistické partnery z hlediska HSE&S, energetické účinnosti a emisí skleníkových plynů?",null,null,{"$f":"C154","v":"Q2.25"},"notes"]
[null,null,{"$f":"IF(COUNTIF(K155:K158,TRUE)=0,\"incomplete\",IF(COUNTIF(K155:K158,TRUE)=1,\"\",\"inconsistent\"))","v":""},"a)","Neprovádí žádné systematické hodnocení.",null,"Roční hodnocení dodavatelů.",null,null,null,false]
[null,null,null,"b)","Organizace stanovuje pro dodavatele logistických služeb minimální požadavky na HSE&S.",null,null,null,null,null,false]
[null,null,null,"c)","Organizace vyhodnocuje příslušné kroky a bezpečnostní opatření, které se vyžadují při přepravě chemických látek.",null,null,null,null,null,true]
[null,null,null,"d)","Organizace využívá k posouzení potenciálních poskytovatelů logistiky systém hodnocení bezpečnosti a kvality nebo podobné systémy / kritéria.",null,null,null,null,null,false]
[null,null,null,null," "]
[null,null,"Q2.26","Jakým způsobem organizace zabraňuje a reaguje na dopravní nehody?",null,null,{"$f":"C160","v":"Q2.26"},"notes"]
[null,null,{"$f":"IF(COUNTIF(K161:K164,TRUE)=0,\"incomplete\",IF(COUNTIF(K161:K164,TRUE)=1,\"\",\"inconsistent\"))","v":""},"a)","Byly zpracovány checklisty (kontrolní listy) pro nakládání a vykládání nebezpečného zboží.",null,"Dispečink (24/7).",null,null,null,false]
[null,null,null,"b)","Systematicky se uplatňují postupy s cílem dodržovat tyto checklisty a požadavky.",null,null,null,null,null,false]
[null,null,null,"c)","Byl ustanoven systém, který mohou v případě mimořádných událostí používat externí poskytovatelé služeb a poskytovatelé logistických služeb. K dispozici je nepřetržitě kontaktní telefonní číslo (24/7).",null,null,null,null,null,true]
[null,null,null,"d)","Havarijní plán místa zohledňuje logistiku. Společnost nabízí pomoc při odstraňování následků dopravních nehod (např. ICE (zásah při mimořádných událostech v oblasti chemické dopravy)) nebo podobné systémy.",null,null,null,null,null,false]
[]
[null,"Bezpečnost",null,null,null,{"$f":"B166","v":"Bezpečnost"}]
[null,null,null,null," "]
[null,null,"Q2.27","Jakým způsobem organizace identifikuje bezpečnostní problémy?",null,null,{"$f":"C168","v":"Q2.27"},"notes"]
[null,null,{"$f":"IF(COUNTIF(K169:K172,TRUE)=0,\"incomplete\",IF(COUNTIF(K169:K172,TRUE)=1,\"\",\"inconsistent\"))","v":""},"a)","Neexistuje systematický proces, jen se zaznamenávají stížnosti.",null,"Hodnocení rizik vůči společnosti, vč. stanovení opatření.",null,null,null,false]
[null,null,null,"b)","Pravidelně se provádějí a vyhodnocují analýzy hrozeb vůči organizaci.",null,null,null,null,null,true]
[null,null,null,"c)","Identifikované hrozby jsou adresovány pomocí stanovených opatření. Účinnost opatření se posuzuje analýzami probíhajícími po ukončení bezpečnostní události.",null,null,null,null,null,false]
[null,null,null,"d)","Pravidelně se vyhodnocuje účinnost procesu řízení bezpečnostního rizika.",null,null,null,null,null,false]
[null,null,null,null," "]
[null,null,"Q2.28","Jakým způsobem se kontroluje příchod a odchod pracovníků a materiálu na pracovišti a v oblastech s omezeným vstupem?",null,null,{"$f":"C174","v":"Q2.28"},"notes"]
[null,null,{"$f":"IF(COUNTIF(K175:K178,TRUE)=0,\"incomplete\",IF(COUNTIF(K175:K178,TRUE)=1,\"\",\"inconsistent\"))","v":""},"a)","Neprobíhá žádná kontrola.",null,"Bezpečnostní služba na jednotlivých vrátnicích. Návštěvy vždy v doprovodu kmenových pracovníků. ",null,null,null,false]
[null,null,null,"b)","Lidé, vozidla a zboží mohou vstoupit pouze přes kontrolované přístupové body. Příchozí lidé, vozidla a zboží podléhají registraci.",null,null,null,null,null,false]
[null,null,null,"c)","Byl zaveden postup týkající se přístupu. Návštěvníci mohou vstupovat (do budovy, provozních prostor ...) pouze v doprovodu zaměstnanců.",null,null,null,null,null,true]
[null,null,null,"d)","Účinnost postupu týkajícího se přístupu se pravidelně reviduje.",null,null,null,null,null,false]
[null,null,null,null," "]
[null,null,"Q2.29","Jakým způsobem se kontroluje kybernetická bezpečnost?",null,null,{"$f":"C180","v":"Q2.29"},"notes"]
[null,null,{"$f":"IF(COUNTIF(K181:K184,TRUE)=0,\"incomplete\",IF(COUNTIF(K181:K184,TRUE)=1,\"\",\"inconsistent\"))","v":""},"a)","Organizace nemá žádné informace o problematice kybernetické bezpečnosti a neví, jak v případě výskytu takových problémů reagovat.",null,"Školení do úrovně jednotlivých pracovníků, spolupráce IT Prechezy a Agrofertu.",null,null,null,false]
[null,null,null,"b)","Organizace se účastní pracovních skupin v oblasti kybernetické bezpečnosti.",null,null,null,null,null,false]
[null,null,null,"c)","Organizace se účastní pracovních skupin v oblasti kybernetické bezpečnosti a pracovníci jsou vyškoleni ohledně způsobu zacházení s podezřelými e-maily.",null,null,null,null,null,true]
[null,null,null,"d)","Organizace identifikuje, sleduje a zmírňuje rizika kybernetické bezpečnosti, která mají dopad na podnikání a systémy ochrany zdraví, bezpečnosti, životního prostředí a udržitelnosti, pomocí přístupu založeného na rizicích ke zmírňování hrozeb.",null,null,null,null,null,false]
[null,null,null,null," "]
[null,null,"Q2.30","Jakým způsobem probíhá komunikace a výměna informací v případě bezpečnostní krize?",null,null,{"$f":"C186","v":"Q2.30"},"notes"]
[null,null,{"$f":"IF(COUNTIF(K187:K190,TRUE)=0,\"incomplete\",IF(COUNTIF(K187:K190,TRUE)=1,\"\",\"inconsistent\"))","v":""},"a)","Není stanoven žádný proces komunikace v případě bezpečnostní krize.",null,"Havarijní plány, vč. kontaktních míst.",null,null,null,false]
[null,null,null,"b)","Byl vypracován seznam kontaktních údajů o zaměstnancích, který slouží k jejich rychlému kontaktování v případě krize.",null,null,null,null,null,true]
[null,null,null,"c)","Organizace poskytuje informace, které umožňují veřejným orgánům vypracovat specializovaný havarijní plán pro bezpečnostní incident/nehody představující vysokou míru rizika pro organizaci a / nebo její prostředí.",null,null,null,null,null,false]
[null,null,null,"d)","Organizace spolupracuje s institucemi poskytujícími pomoc veřejnosti s cílem stanovit opatření pro případy nehod (například krizové cvičení, školení prováděné organizací ...)",null,null,null,null,null,false]
[null,null,null,null," ",{"$f":"B166","v":"Bezpečnost"}]
[null,null,"Q2.31","Jak se organizace vyrovnává s podezřelým chováním (včetně rizik radikalizace = souhlas a podopra extrémních názorů)",null,null,{"$f":"C192","v":"Q2.31"},"notes"]
[null,null,{"$f":"IF(COUNTIF(K193:K196,TRUE)=0,\"incomplete\",IF(COUNTIF(K193:K196,TRUE)=1,\"\",\"inconsistent\"))","v":""},"a)","Neexistuje žádný příslušný proces.",null,null,null,null,null,true]
[null,null,null,"b)","Organizace věnuje zvláštní pozornost podezřelému chování (a rizikům radikalizace) u zaměstnanců vlastních a externích firem. ",null,null,null,null,null,false]
[null,null,null,"c)","Zaměstnanci mohou v rámci stanoveného postupu nahlásit podezřelé chování.",null,null,null,null,null,false]
[null,null,null,"d)","Organizace spolupracuje s policejními složkami při kontrole všech pracovníků a návštěvníků.",null,null,null,null,null,false]
[null,null,null,null," "]
[null,null,"Q2.32","Jakým způsobem školí organizace pracovníky v oblasti ostrahy ve vazbě na bezpečnostní rizika?  ",null,null,{"$f":"C198","v":"Q2.32"},"notes"]
[null,null,{"$f":"IF(COUNTIF(K199:K202,TRUE)=0,\"incomplete\",IF(COUNTIF(K199:K202,TRUE)=1,\"\",\"inconsistent\"))","v":""},"a)","Organizace se tímto problémem nezabývá.",null,"Interní směrnice.",null,null,null,false]
[null,null,null,"b)","Organizace poskytuje pokyny vybízející k ostražitosti s cílem zajistit postup v případě objevení podezřelých předmětů nebo vozidel.",null,null,null,null,null,true]
[null,null,null,"c)","Jsou poskytovány pokyny k ostražitosti, které personálu připomínají bezpečnostní postupy v případě objevení podezřelých předmětů nebo vozidel a jsou poskytovány čtvrtletní aktualizace těchto pokynů.",null,null,null,null,null,false]
[null,null,null,"d)","Pracovníci jsou nabádani k účasti na zvýšení bezpečnosti.",null,null,null,null,null,false]
[]
[null,"Životní prostředí ",null,null,null,{"$f":"B204","v":"Životní prostředí "}]
[null,null,null,null," "]
[null,null,"Q2.33","Jakým způsobem se posuzuje potenciální vliv organizace na životní prostředí?",null,null,{"$f":"C206","v":"Q2.33"},"notes"]
[null,null,{"$f":"IF(COUNTIF(K207:K210,TRUE)=0,\"incomplete\",IF(COUNTIF(K207:K210,TRUE)=1,\"\",\"inconsistent\"))","v":""},"a)","Neexistuje systematické posuzování vlivů činností na životní prostředí.",null,"Na základě periodického přezkoumání se stanovují akční plány, ty jsou sdělovány zaměstnancům, stejně jako jejich vyhodnocení.",null,null,null,false]
[null,null,null,"b)","Pravidelně se provádí systematické posuzování vlivů činností na životní prostředí.",null,null,null,null,null,false]
[null,null,null,"c)","Na základě tohoto posouzení se v akčním plánu stanovují priority ohledně snižování vlivů činností na životní prostředí. Výsledky posuzování výsledků se sdělují zaměstnancům i veřejnosti.",null,null,null,null,null,true]
[null,null,null,"d)","Kromě toho jsou výsledky posouzení dopadů sdělovány zaměstnancům a veřejnosti.",null,null,null,null,null,false]
[null,null,null,null," "]
[null,null,"Q2.34","Jakým způsobem se řídí environmentální výkonnost?",null,null,{"$f":"C212","v":"Q2.34"},"notes"]
[null,null,{"$f":"IF(COUNTIF(K213:K216,TRUE)=0,\"incomplete\",IF(COUNTIF(K213:K216,TRUE)=1,\"\",\"inconsistent\"))","v":""},"a)","Organizace se nezaměřuje na environmentální výkonnost a záležitosti týkající se životního prostředí řídí ve smyslu zákonných požadavků.",null,"Roční přezkoumání environmentálního managementu, na operativní úrovní 1x měsíčně.",null,null,null,false]
[null,null,null,"b)","Organizace definovala strategické cíle a podpůrné kroky ke kontrole a snížení jejího dopadu na životní prostředí.",null,null,null,null,null,false]
[null,null,null,"c)","Pravidelně se analyzuje vývoj environmentální výkonnosti (prostřednictvím vhodných ukazatelů) a provádění akčních plánů. Účinnost se neustále zlepšuje. Plán zohledňuje obavy obyvatelstva a potenciální rizika a příležitosti z hlediska organizace.",null,null,null,null,null,false]
[null,null,null,"d)","Top management organizace pravidelně hodnotí výkonnost, zdůvodňuje dosahování těchto cílů a zajišťuje dostupnost vhodných zdrojů.",null,null,null,null,null,true]
[null,null,null,null," "]
[null,null,"Q2.35","Jak organizace nakládá s odpadem?",null,null,{"$f":"C218","v":"Q2.35"},"notes"]
[null,null,{"$f":"IF(COUNTIF(K219:K222,TRUE)=0,\"incomplete\",IF(COUNTIF(K219:K222,TRUE)=1,\"\",\"inconsistent\"))","v":""},"a)","S odpadem se nakládá v souladu s platnou legislativou.",null,"Řídí odpadový hospodář.",null,null,null,false]
[null,null,null,"b)","Klasifikace, třídění, skladování a bezpečná likvidace odpadu umožňuje optimalizovat tok materiálů s cílem maximalizovat jejich další zužitkování.",null,null,null,null,null,false]
[null,null,null,"c)","Postupy odpadového hospodářství, které se týkají provozu a zařízení, se periodicky vyhodnocují a v případě potřeby aktualizují.",null,null,null,null,null,true]
[null,null,null,"d)","Ve spolupráci s partnery probíhá program zaměřený na možnosti zlepšování odpadového hospodářství. Byly stanoveny cíle a ukazatele týkající se snižování množství a / nebo zužitkování odpadu. Pokrok při dosahování cílů se systematicky ověřuje.",null,null,null,null,null,false]
[null,null,null,null," ",{"$f":"B204","v":"Životní prostředí "}]
[null,null,"Q2.36","Jakým způsobem řídí organizace rizika týkající se podzemních vod?",null,null,{"$f":"C224","v":"Q2.36"},"notes"]
[null,null,{"$f":"IF(COUNTIF(K225:K228,TRUE)=0,\"incomplete\",IF(COUNTIF(K225:K228,TRUE)=1,\"\",\"inconsistent\"))","v":""},"a)","aRizika znečištění podzemních vod se řídí ve smyslu platné legislativy.",null,"2x ročně zpráva o stavu podzemních vod, zpracovaná externí odbornou firmou na základě jí provedených analýz odběrů podzemní vody.",null,null,null,false]
[null,null,null,"b)","Byly identifikovány hlavní rizikové činností vedoucí ke znečištění podzemních vod. Pro zabránění a odhalování úniku chemikálií do podzemních vod slouží příslušné technické a provozní opatření.",null,null,null,null,null,false]
[null,null,null,"c)","Pravidelně se provádějí zkoušky kvality podzemních vod s cílem identifikovat potenciální kontaminaci podzemních vod.",null,null,null,null,null,true]
[null,null,null,"d)","Organizace přispívá k rozvoji technologií na ochranu podzemních vod a tyto osvědčené postupy následně sdílí s ostatními zainteresovanými stranami.",null,null,null,null,null,false]
[null,null,null,null," "]
[null,null,"Q2.37","Jakým způsobem řídí organizace rizika týkající se znečištění půdy?",null,null,{"$f":"C230","v":"Q2.37"},"notes"]
[null,null,{"$f":"IF(COUNTIF(K231:K234,TRUE)=0,\"incomplete\",IF(COUNTIF(K231:K234,TRUE)=1,\"\",\"inconsistent\"))","v":""},"a)","Rizika znečištění půdy se řídí ve smyslu platné legislativy.",null,"Zpracován havarijní plán, probíhají nácviky činností dle tohoto plánu. Instalovány technické prostředky proti úniku závadných látek. Dle potřeby analýza znečištění.",null,null,null,false]
[null,null,null,"b)","Byly identifikovány hlavní rizikové činnosti, které mohou mít dopad na půdu. Pro zabránění a odhalování úniku chemikálií slouží příslušné technické a provozní opatření. Např. se všemi nebezpečnými látkami se manipuluje v prostorách s nepropustnou podlahou a skladují se v utěsněných nádržích.",null,null,null,null,null,false]
[null,null,null,"c)","Byla zavedena opatření a postupy pro minimalizaci vlivu havarijního úniku do půdy. Pravidelně se provádějí zkoušky kvality půdy s cílem identifikovat potenciální kontaminaci půdy.",null,null,null,null,null,true]
[null,null,null,"d)","Organizace přispívá k rozvoji technologií na ochranu půdy a tyto osvědčené postupy následně sdílí s ostatními zainteresovanými stranami.",null,null,null,null,null,false]
[null,null,null,null," "]
[null,null,"Q2.38","Jakým způsobem řídí organizace existující znečištění půdy?\n",null,null,{"$f":"C236","v":"Q2.38"},"notes"]
[null,null,{"$f":"IF(COUNTIF(K237:K240,TRUE)=0,\"incomplete\",IF(COUNTIF(K237:K240,TRUE)=1,\"\",\"inconsistent\"))","v":""},"a)","Stávající znečištění půdy se řídí ve smyslu platné legislativy.",null,"Řízení starých ekologických zátěží.",null,null,null,false]
[null,null,null,"b)","Organizace stanovila proces odstraňování havarijního znečištění a identifikovala existující znečištění na místě.",null,null,null,null,null,false]
[null,null,null,"c)","Organizace vytvořila plán řízení znečištění pro všechny existující znečištění (pokud existují), včetně řešení k jejich odstranění.",null,null,null,null,null,true]
[null,null,null,"d)","Plán řízení znečištění je zahrnut do rozpočtu i do řízení lokality.",null,null,null,null,null,false]
[null,null,null,null," "]
[null,null,"Q2.39","Jakým způsobem organizace řídí své emise škodlivin do ovzduší?",null,null,{"$f":"C242","v":"Q2.39"},"notes"]
[null,null,{"$f":"IF(COUNTIF(K243:K246,TRUE)=0,\"incomplete\",IF(COUNTIF(K243:K246,TRUE)=1,\"\",\"inconsistent\"))","v":""},"a)","Emise škodlivin do ovzduší se řídí ve smyslu platné legislativy.",null,"Roční přezkoumání environmentálního managementu - hodnocení emisí, stanovení příležitostí ke zlepšování.",null,null,null,false]
[null,null,null,"b)","Organizace identifikovala hlavní činnosti, které ovlivňují emise do ovzduší. Pro minimalizaci, regulaci a monitorování emisí škodlivin do ovzduší slouží příslušné technické a provozní opatření. Byla zavedena opatření ke snížení emisí škodlivin pod limity stanovené zákonnými normami.",null,null,null,null,null,false]
[null,null,null,"c)","Organizace pravidelně posuzuje příležitosti pro zlepšování a systematicky plánuje činnosti s cílem snižovat své emise.",null,null,null,null,null,true]
[null,null,null,"d)","Byly stanoveny cíle a ukazatele snížení emisí škodlivin. Pokrok při dosahování cílů se systematicky ověřuje.",null,null,null,null,null,false]
[null,null,null,null," ",{"$f":"B204","v":"Životní prostředí "}]
[null,null,"Q2.40","Jakým způsobem organizace řídí své emise škodlivin do vody?",null,null,{"$f":"C248","v":"Q2.40"},"notes"]
[null,null,{"$f":"IF(COUNTIF(K249:K252,TRUE)=0,\"incomplete\",IF(COUNTIF(K249:K252,TRUE)=1,\"\",\"inconsistent\"))","v":""},"a)","Emise škodlivin do vody se řídí ve smyslu platné legislativy.",null,"Roční přezkoumání environmentálního managementu - hodnocení emisí, stanovení příležitostí ke zlepšování.",null,null,null,false]
[null,null,null,"b)","Organizace identifikovala hlavní činnosti, které ovlivňují emise škodlivin do vody. Pro minimalizaci, regulaci a monitorování emisí škodlivin do vody slouží příslušné technické a provozní opatření. Byla zavedena opatření ke snížení emisí škodlivin pod hodnoty limitů stanovených zákonnými normami.",null,null,null,null,null,false]
[null,null,null,"c)","Organizace pravidelně posuzuje příležitosti pro zlepšování a systematicky plánuje činnosti s cílem snižovat své emise.",null,null,null,null,null,true]
[null,null,null,"d)","Byly stanoveny cíle a ukazatele snížení emisí škodlivin. Pokrok při dosahování cílů se systematicky ověřuje.",null,null,null,null,null,false]
[null,null,null,null," "]
[null,null,"Q2.41","Jakým způsobem organizace řídí své emise hluku?",null,null,{"$f":"C254","v":"Q2.41"},"notes"]
[null,null,{"$f":"IF(COUNTIF(K255:K258,TRUE)=0,\"incomplete\",IF(COUNTIF(K255:K258,TRUE)=1,\"\",\"inconsistent\"))","v":""},"a)","Hluk se řídí ve smyslu platné legislativy.",null,"Periodické měření hluku ze závodu jako celku i na jednotlivých pracovištích.",null,null,null,false]
[null,null,null,"b)","Organizace identifikovala hlavní činnosti, které ovlivňují emise hluku. Pro zabránění a omezování hluku slouží příslušné technické a provozní opatření.",null,null,null,null,null,false]
[null,null,null,"c)","Byly stanoveny pravidelné monitorovací kampaně. Údaje z monitorování se posuzují s cílem stanovit a naplánovat příležitosti ke zlepšování. Systematicky se plánují opatření ke snižování emisí hluku.",null,null,null,null,null,true]
[null,null,null,"d)","Byly stanoveny cíle a ukazatele snížení emisí hluku. Pokrok při dosahování cílů se systematicky ověřuje.",null,null,null,null,null,false]
[null,null,null,null," "]
[null,null,"Q2.42","Jakým způsobem organizace řídí své emise zápachu?",null,null,{"$f":"C260","v":"Q2.42"},"notes"]
[null,null,{"$f":"IF(COUNTIF(K261:K264,TRUE)=0,\"incomplete\",IF(COUNTIF(K261:K264,TRUE)=1,\"\",\"inconsistent\"))","v":""},"a)","Zápach se řídí ve smyslu platné legislativy.",null,"Zejm. hodnocení zdrojů emisí (posudky, rozptylové studie). Kontakt - výrobní dispečer.",null,null,null,false]
[null,null,null,"b)","Organizace identifikovala hlavní činnosti, které vytvářejí emise zápachu. Pro zabránění a omezování emisí zápachu slouží příslušné technické a provozní opatření.",null,null,null,null,null,false]
[null,null,null,"c)","Organizace disponuje kontaktním místem pro případ obtěžování zápachem.",null,null,null,null,null,true]
[null,null,null,"d)","Organizace disponuje kontaktním místem pro případ obtěžování zápachem. Systematicky se plánují opatření ke zlepšení a omezování emisí zápachu v souladu s požadavky zainteresovaných stran.",null,null,null,null,null,false]
[null,null,null,null," "]
[null,null,"Q2.43","Jakým způsobem organizace zabraňuje a řídí havarijní emise do prostředí?",null,null,{"$f":"C266","v":"Q2.43"},"notes"]
[null,null,{"$f":"IF(COUNTIF(K267:K270,TRUE)=0,\"incomplete\",IF(COUNTIF(K267:K270,TRUE)=1,\"\",\"inconsistent\"))","v":""},"a)","Byly zřízeny opatření k předcházení havarijním emisím ve smyslu platné legislativy.",null,"Provozní řády zdrojů znečišťování ovzduší.",null,null,null,false]
[null,null,null,"b)","Organizace systematicky identifikovala procesy a činnosti, které mohou vést k havarijním emisím do životního prostředí. Pro zabránění a omezování havarijních emisí slouží příslušné technické a provozní opatření (např. hráze, povrchy nepropouštějící kapaliny, kontejnery nebo nádrže s dvojitou stěnou, uzamykací systémy pro kanalizaci nebo odtoky povrchových vod atd.). Účinnost zavedených opatření se pravidelně vyhodnocuje.",null,null,null,null,null,false]
[null,null,null,"c)","V případě havarijního znečištění disponuje organizace havarijním postupem. Zdroje nebo příčiny havarijního znečištění byly vyhodnoceny jako součást studie Procesní bezpečnosti. Následně byly zavedeny příslušné identifikované protiopatření.",null,null,null,null,null,true]
[null,null,null,"d)","V organizaci působí jednotka na předcházení krizím, která provádí cvičení simulující krizi v souvislosti s havarijním znečištěním. Kromě toho byl stanoven postup komunikace s místními zainteresovanými stranami (úřady, médii, místními obyvateli ...) a účinnost tohoto procesu se pravidelně vyhodnocuje a zlepšuje.",null,null,null,null,null,false]
[null,null,null,null," ",{"$f":"B204","v":"Životní prostředí "}]
[null,null,"Q2.44","Jakým způsobem zajišťuje organizace správně kompetence všech pracovníků, týkající se environmentálních požadavků, které souvisejí s jejich pracovní náplní?",null,null,{"$f":"C272","v":"Q2.44"},"notes"]
[null,null,{"$f":"IF(COUNTIF(K273:K276,TRUE)=0,\"incomplete\",IF(COUNTIF(K273:K276,TRUE)=1,\"\",\"inconsistent\"))","v":""},"a)","Organizace identifikovala požadavky na kompetence pro pracovní pozice s klíčovým vlivem na životní prostředí. Takový personál je vhodně vyškolený.",null,"Peridická školení zaměstnanců.",null,null,null,false]
[null,null,null,"b)","Zaměstnanci a dodavatelé jsou zaškolování v oblasti environmentálních záležitostí na základě jejich odpovědností za životní prostředí. Byl vypracován plán odborné přípravy, který zahrnuje všechny významné environmentální aspekty.",null,null,null,null,null,false]
[null,null,null,"c)","Všichni zaměstnanci jsou si přinejmenším vědomi environmentálních cílů organizace. Zaměstnanci vědí, jakým způsobem mohou přispět a jaké jsou důsledky v případě nepřispívání a k procesům environmentálního řízení. Odborníci na životní prostředí získávají další vzdělávání související s nejnovějšími nástroji a technikami.",null,null,null,null,null,true]
[null,null,null,"d)","Pravidelně se vyhodnocují osvědčení o způsobilosti a účinnost školení.",null,null,null,null,null,false]
[null,null,null,null," "]
[null,null,"Q2.45","Jakým způsobem jsou zainteresované strany organizace informovány o environmentálních aspektech a jejich možných dopadech?",null,null,{"$f":"C278","v":"Q2.45"},"notes"]
[null,null,{"$f":"IF(COUNTIF(K279:K282,TRUE)=0,\"incomplete\",IF(COUNTIF(K279:K282,TRUE)=1,\"\",\"inconsistent\"))","v":""},"a)","Organizace upozorňuje své zaměstnance na prevenci a opatření, která je třeba podniknout (například v případě havarijního znečištění).",null,"Peridická školení zaměstnanců.",null,null,null,true]
[null,null,null,"b)","Organizace pravidelně informuje místní obyvatelstvo o environmentálních aspektech souvisejících s jejich aktivitami.",null,null,null,null,null,false]
[null,null,null,"c)","Organizace spolupracuje s místními subjekty a sdruženími s cílem zohlednit jejich očekávání (případně i společná řešení).",null,null,null,null,null,false]
[null,null,null,"d)","Organizace informuje zainteresované strany o výsledcích monitorování ukazatelů environmentálního výkonu s cílem zdůraznit zapojení organizace do environmentální problematiky daného regionu.",null,null,null,null,null,false]

{"sheet":"Chapter 3","index":6,"n_rows":74,"n_cols":15,"rows_kept":74,"cut":false,"hidden":false,"merged":[[56,6,59,9],[62,6,65,9],[70,6,73,9],[47,3,47,4],[45,5,51,5],[55,3,55,4],[61,3,61,4],[53,5,59,5],[60,5,65,5],[69,3,69,4],[67,5,73,5],[6,6,9,9],[14,6,17,9],[22,6,25,9],[28,6,31,9],[34,6,37,9],[40,6,43,9],[48,6,51,9],[27,3,27,4],[33,3,33,4],[39,3,39,4],[19,5,31,5],[32,5,37,5],[38,5,43,5],[13,3,13,4],[21,3,21,4],[5,3,5,4],[3,5,9,5],[11,5,17,5]]}
[null,"KAPITOLA 3: Posílení systémů řízení chemických látek",null,null,null,null,null,null,null,null,null,null,null,{"$f":"IF(O1=\"\",\"\",\"Still to do\")","v":""},{"$f":"'Start and prefill'!$G$9","v":""}]
[null,null,null,null,null,null,"only click one of the possibilities"]
[]
[null,"Návrhování a zlepšování produktu",null,null,null,{"$f":"B4","v":"Návrhování a zlepšování produktu"}]
[null,null,null,null," "]
[null,{"$f":"COUNTIF(C7:C74,\"inconsistent\")","v":0},"Q3.1","Zavedla organizace proces pro navrhování a vývoj nových \nproduktů a služeb?",null,null,{"$f":"C6","v":"Q3.1"},"notes"]
[null,null,{"$f":"IF(COUNTIF(K7:K10,TRUE)=0,\"incomplete\",IF(COUNTIF(K7:K10,TRUE)=1,\"\",\"inconsistent\"))","v":""},"a)","Ano a tento proces je vymezen etapami a opatřeními, které se uplatňují a mohou být upraveny po vyhodnocení s cílem zajistit, aby výstupy splňovaly požadavky na vstupy. Odhad rizika je založen na pokynech nařízení REACH určením pravděpodobných skupin uživatelů, zamýšleného použití a přiměřeně předvídatelného nesprávného použití.",null,"Plán rozvoje a výzkumu.",null,null,null,false]
[null,null,null,"b)","Organizace zahájila úvahu o ekologickém návrhu svých produktů a identifikovala klíčové těžiště při vypracování produktu.",null,null,null,null,null,false]
[null,null,null,"c)","Při navrhování nových výrobků a jejich používání v hodnotovém řetězci se zohledňují charakterizace rizik a úvahy o řízení rizik. Stávající produkty se zlepšují, aby se omezila rizika z počáteční fáze. Může se to projevit tak, že se vyhnete používání škodlivých chemických látek, včetně, ale ne jen těch, které jsou karcinogenní, mutagenní, toxické pro reprodukci, nebo perzistentní a bioakumulativní. Zavádí se další snížení rizika pro každého identifikovaného uživatele nebo kontaktní skupinu.",null,null,null,null,null,false]
[null,null,null,"d)","Organizace bere v úvahu takové faktory, jakými je zamýšlené použití, očekávaná životnost produktu, trvanlivost, opětovné použití, možnost recyklace nebo prospěšné využití produktu při jeho vývoji. Při navrhování procesů spotřeby energie se zvažují možnosti zlepšení energetické náročnosti. Při navrhování nového nebo zlepšování stávajícího produktu se zohledňuje analýza životního cyklu tohoto produktu. Organizace se viditelně hlásí k plnění svých závazků.",null,null,null,null,null,true]
[]
[null,"Stanovování priorit produktů",null,null,null,{"$f":"B12","v":"Stanovování priorit produktů"}]
[null,null,null,null," "]
[null,null,"Q3.2","Má organizace k dispozici proces hodnocení a stanovení priorit svých produktů pro charakterizaci rizik a řízení rizik?\n\n\n",null,null,{"$f":"C14","v":"Q3.2"},"notes"]
[null,null,{"$f":"IF(COUNTIF(K15:K18,TRUE)=0,\"incomplete\",IF(COUNTIF(K15:K18,TRUE)=1,\"\",\"inconsistent\"))","v":""},"a)","Organizace má zavedený proces, který používá jednoduchá kritéria pro upřednostnění chemikálií, na které by se měl primárně zaměřit důsledným způsobem. ",null,"Technický servis výrobků.",null,null,null,false]
[null,null,null,"b)","Tento proces se používá za použití vypracovaných kritérií pro stanovení priorit produktů pro každou skupinu výrobků (kritéria založená na nových informacích, použití a vzorcích expozice v souvislosti s profilem nebezpečnosti chemické látky). Tento proces se vztahuje na nové a stávající produkty. Kritéria pro stanovení priorit jsou pravidelně aktualizována.",null,null,null,null,null,true]
[null,null,null,"c)","Nástroje kritérií screeningu na stanovení priorit rizik se neustále vyvíjejí a zlepšují: Je zaveden proces pro aktuální sběr nových informací umožňujících rozhodování o stanovení priorit.",null,null,null,null,null,false]
[null,null,null,"d)","Metodika stanovení priorit je sdělována externě a je srovnávána.",null,null,null,null,null,false]
[]
[null,"Informace o produktu ",null,null,null,{"$f":"B20","v":"Informace o produktu "}]
[null,null,null,null," "]
[null,null,"Q3.3","Zavedla organizace systém pro sledování použitelnosti, změn a dodržování interních a externích požadavků souvisejících s řízením bezpečnosti chemických látek?",null,null,{"$f":"C22","v":"Q3.3"},"notes"]
[null,null,{"$f":"IF(COUNTIF(K23:K26,TRUE)=0,\"incomplete\",IF(COUNTIF(K23:K26,TRUE)=1,\"\",\"inconsistent\"))","v":""},"a)","V organizaci byl zaveden proces k přezkoumání a určení použitelnosti nařízení a legislativy spolu s požadavky na RC, kterým organizace podléhá. Organizace vyvinula Seznam chemické bezpečnosti, ve kterém jsou uvedeny chemické látky a směsi, které používá, dováží nebo vyrábí.",null,"Technický servis ve vztahu k zákazníkům + zapojení do mezinárodní spolupráce ve vztahu k odvětvové legislativě (TDMA/ CEFIC).",null,null,null,false]
[null,null,null,"b)","Organizace identifikovala příslušné předpisy a certifikace pro každou položku seznamu a pravidelně je aktualizuje s cílem začlenit změny. Tento seznam představuje klíčový nástroj pro identifikaci prioritních chemických látek (látky vzbuzující velké obavy = SVHC látky, omezené látky).",null,null,null,null,null,false]
[null,null,null,"c)","V organizaci byl zaveden systém pro komunikaci v rámci dodavatelského řetězce a pro pravidelnou kontrolu souladu produktů od dodavatelů. Informace o dodržování souladu v rámci dodavatelského řetězce jsou snadno přístupné. Probíhá následná komunikace s cílem potvrdit dodržování příslušných předpisů.",null,null,null,null,null,false]
[null,null,null,"d)","Organizace předpokládá vývoj legislativy v souvislosti s látkami používanými ve svých výrobcích spolu s externími partnery. Tento proces zahrnuje přijímání vhodných a včasných informací o legislativních změnách.\nOrganizace zajišťuje proaktivní komunikaci s dodavatelským řetězcem (řízení omezených látek, náhrada nebezpečných sloučenin).",null,null,null,null,null,true]
[null,null,null,null," "]
[null,null,"Q3.4","Zavedla organizace systém na správu existujících informací o rizicích svých produktů?",null,null,{"$f":"C28","v":"Q3.4"},"notes"]
[null,null,{"$f":"IF(COUNTIF(K29:K32,TRUE)=0,\"incomplete\",IF(COUNTIF(K29:K32,TRUE)=1,\"\",\"inconsistent\"))","v":""},"a)","V organizaci byl zaveden proces pro shromažďování dostupných informací o bezpečnosti produktů, jejich rizicích pro zdraví a životním prostředí.",null,"Bezpečnostní listy, pravidla pro zaházení s nebezpečnými chemickými látkami a směsmi, pracovní předpisy.",null,null,null,false]
[null,null,null,"b)","Existující informace jsou uvedeny v dokumentaci, která se pravidelně aktualizuje a je volně dostupná.",null,null,null,null,null,true]
[null,null,null,"c)","Existující informace se posuzují z hlediska spolehlivosti a jsou shrnuty v monitorovacím systému, který slouží ke sledování jakéhokoliv zdroje informací a revizí (včetně ukazatele spolehlivosti).",null,null,null,null,null,false]
[null,null,null,"d)","Organizace se snaží co nejvíce zpřístupňovat své interní informace třetím stranám s cílem podpořit sdílení dat. Tento postup přispívá například k omezování testů na zvířatech a naplňování databází pro prognostické modely.",null,null,null,null,null,false]
[null,null,null,null," ",{"$f":"B20","v":"Informace o produktu "}]
[null,null,"Q3.5","Zavedla organizace proces řízení informací o používání a expozici svých produktů?",null,null,{"$f":"C34","v":"Q3.5"},"notes"]
[null,null,{"$f":"IF(COUNTIF(K35:K38,TRUE)=0,\"incomplete\",IF(COUNTIF(K35:K38,TRUE)=1,\"\",\"inconsistent\"))","v":""},"a)","V organizaci byl zaveden proces na dokumentaci používání a spotřeby produktů na základě systému deskriptorů použití, a to včetně informací o příslušných provozních podmínkách (např. roční objemy, trvání expozice).",null,"Hodnocení shody s expozičními scénáři.",null,null,null,true]
[null,null,null,"b)","Organizace vyvíjí proces identifikace záměrného zneužití nebo nesprávného používání produktu.\nStávající informace jsou strukturovány v dokumentačním systému a pravidelně se aktualizují a sdělují.\nVyžaduje se konečné používání zákazníkem v rámci dodavatelského řetězce.\nZpracovávají se obecné modely expozice, které zohledňují realistické opatření pro řízení provozních rizik.",null,null,null,null,null,false]
[null,null,null,"c)","Pro nebezpečné směsi s vysokou pravděpodobností expozice a při povinném monitorování na základě zákonných požadavků nebo na základě povolení jsou k dispozici spolehlivé údaje z monitorování expozice při práci.\nUrčená použití od dalších uživatelů a koncových zákazníků se zaznamenávají a začleňují do dokumentačního systému.",null,null,null,null,null,false]
[null,null,null,"d)","Existuje specializovaný proces pro distributorské sítě, např. smlouva, která uvádí povolené použití.\nOrganizace zavedla proces na proaktivní shromažďování a uchovávání informací o použití a expozici a příslušném řízení změn v rámci dodavatelského řetězce.\nCitlivé informace o použití (vhodné použití, záměrné zneužití) jsou identifikovány a ověřují se.",null,null,null,null,null,false]
[null,null,null,null," ",{"$f":"B20","v":"Informace o produktu "}]
[null,null,"Q3.6","Zavedla organizace proces na správu nových informací?",null,null,{"$f":"C40","v":"Q3.6"},"notes"]
[null,null,{"$f":"IF(COUNTIF(K41:K44,TRUE)=0,\"incomplete\",IF(COUNTIF(K41:K44,TRUE)=1,\"\",\"inconsistent\"))","v":""},"a)","Organizace zavedla proces na:\n• identifikaci nedostatečných údajů v požadavcích na údaje s ohledem na stávající a novou legislativu.\n• stanovení a provádění plánů testování chemických látek za účelem doplňování informací dle potřeby a\n• vývoj a údržbu informací o nebezpečí, které se vyžadují pro splnění minimálních právních požadavků.\nInterní a / nebo externí zdroje by měly být technicky schopny porozumět informacím o nebezpečnosti a potenciální expozici.",null,"Plnění povinností v rámci programu REACH; zapojení do výrobkových konsorcií.",null,null,null,true]
[null,null,null,"b)","Organizace pravidelně monitoruje dostupnost nových informací o nebezpečnosti, které se vztahují na její produkty (literatura, informace o podobných produktech pro účely analogického, sdílení dat s třetími stranami) a zavedla proces začleňování nových informací o charakterizaci nebezpečnosti a expozice svých produktů.\n",null,null,null,null,null,false]
[null,null,null,"c)","Kromě informací o nebezpečnosti organizace začleňuje dostupné informace o použití svých produktů nebo expozici do svých produktů včetně, ale nejen:\n• nových trhů a použití na místech, kde se mění povaha expozice, jako například přechod z průmyslového použití na profesionální nebo spotřebitelské použití, \n• předpokládaných aplikacích a použití v regionech, které se původně nezvažovaly,\n• případů zneužití, \n• stížností zákazníků, \n• nehod a incidentů.\nTakové shromážděné informace se následně vyhodnocují. V případě potřeby se vyhodnocuje základní příčina. Nabyté poznatky se následně použijí při aktualizaci charakterizace rizik.",null,null,null,null,null,false]
[null,null,null,"d)","Revizní a schvalovací systémy zohledňují zároveň všechny změny během životního cyklu produktu, např. změny ve výrobním procesu, změny balení a distribuce, nové trhy či změny použití a zaručují komunikaci s příslušnými zainteresovanými stranami.",null,null,null,null,null,false]
[]
[null,"Charakterizace rizik",null,null,null,{"$f":"B46","v":"Charakterizace rizik"}]
[null,null,null,null," "]
[null,null,"Q3.7","Zavedla organizace proces charakterizace rizik na základě shromážděných informací?",null,null,{"$f":"C48","v":"Q3.7"},"notes"]
[null,null,{"$f":"IF(COUNTIF(K49:K52,TRUE)=0,\"incomplete\",IF(COUNTIF(K49:K52,TRUE)=1,\"\",\"inconsistent\"))","v":""},"a)","Organizace zavedla proces charakterizace potenciálních rizik svých produktů pomocí opakovaného a odstupňovaného procesu, který zohledňuje výsledky stanovování priorit. Na základě stanovení těchto priorit se pro dané produkty posuzují a dokumentují rizika.\n\nProces charakterizace rizik zohledňuje podnikové zásady, které zvažují rizika a konečné použití produktů (např. zásady medicínských aplikací, používání produktu při výrobě spotřebních výrobků atd.). Tento postup se pravidelně aktualizuje s cílem začlenit nejnovější informace a poznatky.",null,"Technický servis - sběr informací a jejich hodnocení.",null,null,null,false]
[null,null,null,"b)","Organizace pravidelně posuzuje vliv nových informací o nebezpečnosti, použití a expozici, platných předpisů a osvědčení nových trhů nebo aplikací, událostí hlášených v rámci dodavatelského řetězce, nových technologií testování a vznikajících zdravotních nebo environmentálních problémů.\n\nDíky postupům zaměřeným na bdělost se zachycují nová rizika v rámci hodnotového řetězce.\nK dispozici je seznam událostí, které vedou k přehodnocení řízení bezpečnosti (např. nová aplikace, nová oblast prodeje, nové údaje o produktu atd.). V případě potřeby se přezkoumávají stávající hodnocení rizik.",null,null,null,null,null,true]
[null,null,null,"c)","Organizace nepřetržitě a proaktivně zlepšuje kvalitu stávajících charakteristik rizik.\nCharakterizace rizik se zdokonaluje s ohledem na citlivé skupiny obyvatel nebo zneužívání a systematicky se provádí pro všechny používané, dovážené a vyráběné produkty, a to bez ohledu na jejich objem.\n\nProces charakterizace rizik pokrývá celý životní cyklus výrobků (od začátku až po konec).",null,null,null,null,null,false]
[null,null,null,"d)","Organizace spolupracuje s průmyslem, vládou a dalšími zainteresovanými stranami, čímž přispívá ke zvyšování znalostí o charakterizaci rizik při používání chemických látek nebo produktů. Organizace je zapojena do \n• rozvoje a ověřování nových, alternativních metodik hodnocení rizika a expozice a charakterizace rizik\n• omezování používání zvířat při testování a vývoje alternativních metod testů na zvířatech,\n",null,null,null,null,null,false]
[]
[null,"Řízení rizik produktu",null,null,null,{"$f":"B54","v":"Řízení rizik produktu"}]
[null,null,null,null," "]
[null,null,"Q3.8","Zavedla organizace proces řízení rizik na základě shromážděných informací?",null,null,{"$f":"C56","v":"Q3.8"},"notes"]
[null,null,{"$f":"IF(COUNTIF(K57:K60,TRUE)=0,\"incomplete\",IF(COUNTIF(K57:K60,TRUE)=1,\"\",\"inconsistent\"))","v":""},"a)","Organizace zavedla proces zajišťování používání vhodných opatření k řízení rizik na základě dostupných informací.\n\nOrganizace informuje koncové uživatele o nebezpečnosti produktů a požadovaných preventivních a ochranných opatřeních (podmínky bezpečné manipulace, používání a skladování, likvidace). Na účinnou komunikaci o nebezpečích slouží správné označování a vhodné balení.",null,"Prostřednictvím bezpečnostních listů, příp. expozičních scénářů, a značením balení/ dopravy.",null,null,null,true]
[null,null,null,"b)","Byl zaveden proces na přehodnocování opatření k řízení rizik při používání, skladování a likvidaci chemikálií v případě, že jsou k dispozici nové informace o nebezpečnosti produktu a charakterizaci rizik.",null,null,null,null,null,false]
[null,null,null,"c)","Organizace neustále zlepšuje doporučení k řízení rizik ohledně podmínek používání, dopravy a skladování svých produktů a poskytuje informace o možnostech recyklace (nebo bezpečné likvidace) produktů. Organizace aktivně vyhledává a získává nové informace s cílem zlepšovat opatření týkající se řízení rizik a aktivně komunikuje se zákazníky s cílem shromažďovat a zpracovat jejich zpětnou vazbu ohledně produktů. Organizace přijala opatření zabraňující nebezpečnému používání produktů v důsledku nesprávné manipulace nebo skladování širokou veřejností nebo spotřebiteli.",null,null,null,null,null,false]
[null,null,null,"d)","Organizace zvyšuje transparentnost informací o správě produktů.\n\nOrganizace zveřejňuje příslušné souhrny charakterizace rizik s příslušnými opatřeními k řízení rizik (např. V podobě bezpečnostních listů).\n\nV případě potřeby se zajišťuje vzdělávání koncových zákazníků o chemických rizicích a procesech bezpečné manipulace, např. prostřednictvím organizovaných školení a workshopů.",null,null,null,null,null,false]
[null,null,null,null," ",{"$f":"B54","v":"Řízení rizik produktu"}]
[null,null,"Q3.9","Zavedla organizace účinný proces sledování svých produktů po dodání a provádění nápravných opatření?\n",null,null,{"$f":"C62","v":"Q3.9"},"notes"]
[null,null,{"$f":"IF(COUNTIF(K63:K66,TRUE)=0,\"incomplete\",IF(COUNTIF(K63:K66,TRUE)=1,\"\",\"inconsistent\"))","v":""},"a)","Organizace zavedla postup pro zajišťování kontrolovaných podmínek a splnění požadavků na produkty a služby nabízené zákazníkům. Organizace zřídila identifikační systém výstupů, jejich stavu s ohledem na požadavky na monitorování a měření, zajišťování jejich jednoznačné identifikace pro účely sledovatelnosti a jejich uchovávání během výroby a poskytování služeb s cílem zajistit soulad s příslušnými předpisy a nařízeními.",null,"Technický servis, včetně řešení stížností a reklamací.",null,null,null,false]
[null,null,null,"b)","Organizace dbá na identifikaci a kontrolu výstupů, které nesplňují příslušné požadavky s cílem zabránit jejich neúmyslnému použití nebo dodání. Tato opatření se dokumentují a podléhají sledování a provádění nápravných opatření.",null,null,null,null,null,false]
[null,null,null,"c)","Organizace zavedla a implementovala procesy pro oblast:\n• otázek a stížností od zákazníků \n• incidentů nebo nehod \n• odvolání produktů v rámci hodnotového řetězce.\nV rámci tohoto postupu se stanoví preventivní a nápravná opatření s cílem neustále zlepšovat řízení rizik produktů.",null,null,null,null,null,true]
[null,null,null,"d)"," Organizace zavedla postup při odvolávání nebo stažení produktů z trhu. V takovém případě se sestavuje příslušný tým, který zahrnuje koordinátora, vyšší management, oddělení prodeje, zákaznické služby a jakékoliv jiné oddělení. Odpovědnosti jsou jasně stanoveny z hlediska rozhodování, implementace havarijního plánu a nápravných opatření. Postup objasňuje kroky nutné k odvolávání produktů v případě podezření, že ovlivňují zdraví nebo bezpečnost uživatelů či spotřebitelů. Takový postup by měl zahrnovat následující kroky:\n- Hodnocení produktu: shromažďují se stížnosti a koordinátor vyhodnotí možnost odvolávání produktu. Všechny zainteresované strany (regulační orgány, dodavatelský řetězec, interní komunikace) byly identifikovány a přijali příslušná opatření.\n- lokalizace a identifikace dotyčných produktů,\n - včasné informování dotčených stran \n- odstranění produktu: Vrácené produkty musí shromažďovat, oddělovat a zpracovávat na místě odděleném od jakýchkoli jiných produktů. Před svým zničením, opětovným zpracováním nebo přesměrováním se nesmí opět dostat na trh. Doporučuje se zřídit dokumentaci o množstvích a identifikaci produktů.\nVyžaduje se prověření účinnosti postupu stažení z trhu (oznámení zákazníkům, přijetí vhodných opatření).",null,null,null,null,null,false]
[]
[null,"Řízení hodnotového řetězce",null,null,null,{"$f":"B68","v":"Řízení hodnotového řetězce"}]
[null,null,null,null," "]
[null,null,"Q3.10","Poskytuje organizace efektivní komunikaci v rámci dodavatelského řetězce ohledně opatření k řízení rizik, které se vztahují na jejich produkty?",null,null,{"$f":"C70","v":"Q3.10"},"notes"]
[null,null,{"$f":"IF(COUNTIF(K71:K74,TRUE)=0,\"incomplete\",IF(COUNTIF(K71:K74,TRUE)=1,\"\",\"inconsistent\"))","v":""},"a)","a) Organizace má k dispozici aktuální a kompletní soubor bezpečnostních listů (BL) pro všechny nebezpečné materiály, které se používají nebo skladují na místě (suroviny, meziprodukty, produkty). Před komercializací nebo odesláním se zajišťuje správné označení.",null,"Technický servis v kontaktu se zákazníky.",null,null,null,false]
[null,null,null,"b)","Organizace zavedla proces pravidelného aktualizování svých BL s cílem začlenit nové informace (interní nebo externí) a jejich vliv z hlediska řízení rizik.\nOrganizace posuzuje kvalitu BL, které obdržela od dodavatelů.",null,null,null,null,null,false]
[null,null,null,"c)","Organizace zavedla proces sledování distribuce aktualizovaných verzí BL následným uživatelům a dalším zainteresovaným stranám. Organizace zajišťuje příjem a správné chápání svých BL a v případě potřeby navrhuje školení pro zákazníky a distributory s cílem zajistit bezpečnou manipulaci s produkty.",null,null,null,null,null,true]
[null,null,null,"d)","BL jsou veřejně dostupné a přizpůsobené regionu, ve kterém se produkt používá. Na BL se nacházejí i kontaktní údaje o odpovědné osobě v rámci společnosti, která odpovídá na případné otázky ohledně chemických látek. BL a označení obsahují informace o možnosti recyklace výrobku, pokud jsou takové informace k dispozici.",null,null,null,null,null,false]

{"sheet":"Chapter 4","index":7,"n_rows":62,"n_cols":15,"rows_kept":62,"cut":false,"hidden":false,"merged":[[44,6,47,9],[52,6,55,9],[58,6,61,9],[35,6,38,9],[39,6,39,9],[19,5,25,5],[29,3,29,4],[27,5,39,5],[6,6,9,9],[14,6,17,9],[22,6,25,9],[3,5,9,5],[11,5,17,5],[30,6,33,9],[43,3,43,4],[41,5,47,5],[51,3,51,4],[49,5,61,5],[35,3,35,4]]}
[null,"KAPITOLA 4: Působení na obchodní partnery",null,null,null,null,null,null,null,null,null,null,null,{"$f":"IF(O1=\"\",\"\",\"Still to do\")","v":""},{"$f":"'Start and prefill'!$G$9","v":""}]
[null,null,null,null,null,null,"only click one of the possibilities"]
[]
[null,"Odpovědné získávání zdrojů",null,null,null,{"$f":"B4","v":"Odpovědné získávání zdrojů"}]
[null,null,null,null," "]
[null,{"$f":"COUNTIF(C7:C62,\"inconsistent\")","v":0},"Q4.1","Jak se organizace zavázala k odpovědnému získávání zdrojů?",null,null,{"$f":"C6","v":"Q4.1"},"notes"]
[null,null,{"$f":"IF(COUNTIF(K7:K10,TRUE)=0,\"incomplete\",IF(COUNTIF(K7:K10,TRUE)=1,\"\",\"inconsistent\"))","v":""},"a)","Organizace dodržuje legislativní povinnosti, avšak nemá jasný závazek ani nezřídila formální proces týkající se odpovědného získávání zdrojů.",null,"Politika integrovaných systémů řízení, vč. jejího rozšíření na kontraktory.",null,null,null,false]
[null,null,null,"b)","Organizace stanovila zásady, které objasňují její přístup k odpovědnému získávání zdrojů a zároveň vyžaduje, aby její dodavatelé v rámci spolupráce tyto zásady uznaly a podpořily přístup k podnikové sociální odpovědnosti.",null,null,null,null,null,false]
[null,null,null,"c)","c) Organizace zmapovala rizika spojená s obstaráváním a zohledňuje vliv na životní prostředí prostřednictvím ekologických kritérií v rámci procesu výběru zakoupeného zboží, vybavení a služeb. Při získávání energie za použití produktů, zařízení nebo služeb bere organizace jako jedno z kritérií energetickou náročnost po dobu předpokládané životnosti.",null,null,null,null,null,true]
[null,null,null,"d)","d) Organizace vyčlenila rozpočet na nákup vybavení, zboží a služeb, které jsou šetrné k životnímu prostředí. Na základě posouzení dopadů se stanoví příslušné priority.",null,null,null,null,null,false]
[]
[null,"Spolupráce v dodavatelském řetězci (obchodní partneři)",null,null,null,{"$f":"B12","v":"Spolupráce v dodavatelském řetězci (obchodní partneři)"}]
[null,null,null,null," "]
[null,null,"Q4.2","Jak organizace zlepšuje spolupráci v dodavatelském řetězci?",null,null,{"$f":"C14","v":"Q4.2"},"notes"]
[null,null,{"$f":"IF(COUNTIF(K15:K18,TRUE)=0,\"incomplete\",IF(COUNTIF(K15:K18,TRUE)=1,\"\",\"inconsistent\"))","v":""},"a)","Organizace dodržuje své legislativní povinnosti, avšak nemá jasný závazek v této oblasti.",null,"Periodické hodnocení spokojenosti zákazníků.",null,null,null,false]
[null,null,null,"b)","Organizace zajišťuje přednostně služby pro důvěryhodné obchodní partnery a hodnotí jejich spokojenost s cílem udržení dobré spolupráce v čase.",null,null,null,null,null,true]
[null,null,null,"c)","Organizace poskytuje svým hlavním byznys partnerům střednědobé kontrakty, aby byli schopni investovat do efektivních a šetrných technologií.",null,null,null,null,null,false]
[null,null,null,"d)","Organizace se podílí na R&D projektech a specifických partnerstvích v rámci dodavatelského řetězce za účelem společného vývoje nových produktů a služeb.",null,null,null,null,null,false]
[]
[null,"Obchodní integrita",null,null,null,{"$f":"B20","v":"Obchodní integrita"}]
[null,null,null,null," "]
[null,null,"Q4.3","Jakým způsobem vyjadřuje organizace svůj závazek vůči podnikatelské etice?",null,null,{"$f":"C22","v":"Q4.3"},"notes"]
[null,null,{"$f":"IF(COUNTIF(K23:K26,TRUE)=0,\"incomplete\",IF(COUNTIF(K23:K26,TRUE)=1,\"\",\"inconsistent\"))","v":""},"a)","Organizace splňuje příslušné zákonné požadavky, nepřijala však žádné konkrétní závazky.",null,"Etický kodex + etická linka/ Compliance Officer/ vyčleněné tele. Číslo.",null,null,null,false]
[null,null,null,"b)","Organizace stanovila zásady nebo kodex chování v oblasti podnikatelské etiky (včetně postupů boje proti nekalé soutěži a korupci), který je formálně schválen vrcholovým vedením a/nebo informuje zaměstnance o chování v rizikových situacích.",null,null,null,null,null,false]
[null,null,null,"c)","Organizace zavedla procesy, které zabraňují angažování nebo spolupůsobení v situacích nekalé soutěže a korupci (např. Zavedením systému, který umožňuje zaměstnancům anonymně upozorňovat na jakoukoliv situaci představující takové riziko).",null,null,null,null,null,true]
[null,null,null,"d)","Organizace seznámila zainteresované strany o těchto zásadách a umožnila jim přístup k systému na upozorňování na jakékoli situace představující takové riziko.",null,null,null,null,null,false]
[]
[null,"Pracovní práva (Práva zaměstnanců)",null,null,null,{"$f":"B28","v":"Pracovní práva (Práva zaměstnanců)"}]
[null,null,null,null," "]
[null,null,"Q4.4","Jakým způsobem řeší organizace sociální problematiku a lidská práva v rámci spolupráce s obchodními partnery?",null,null,{"$f":"C30","v":"Q4.4"},"notes"]
[null,null,{"$f":"IF(COUNTIF(K31:K34,TRUE)=0,\"incomplete\",IF(COUNTIF(K31:K34,TRUE)=1,\"\",\"inconsistent\"))","v":""},"a)","Tímto tématem se nezabývá.",null,null,null,null,null,true]
[null,null,null,"b)","Organizace stanoví minimální požadavky týkající se lidských práv a na základě těchto kritérií vybírá obchodní partnery.",null,null,null,null,null,false]
[null,null,null,"c)","Organizace ustanovila proces posuzování obchodních partnerů na základě těchto kritérií.",null,null,null,null,null,false]
[null,null,null,"d)","Organizace pravidelně prověřuje schopnost obchodních partnerů zajistit dodržování lidských a sociálních práv.",null,null,null,null,null,false]
[null,null,null,null," ",null,{"$f":"C36","v":"Q4.5"},"notes"]
[null,null,"Q4.5","Jakým způsobem zabraňuje organizace dětské práci?\nOrganizace\n1-\tzavedla systém ověřování věku; \n2-\tnezaměstnává děti mladší 15 let (v závislosti na místní legislativy). Jedinou výjimku představují učni, školní praxe nebo vzdělávací stáže; \n3-\tzaručuje, aby pracovní náplň osob mladších než 18 let neovlivňovala jejich školní docházku (doba strávená dopravou do práce a školy a z práce a školy, školní docházkou a prací je méně než 10 hodin denně );\n4-\tzajišťuje, že pracovní náplň mladých pracovníků není duševně, fyzicky, společensky ani morálně nebezpečná a škodlivá.",null,null,"S vyjímkou letních brigád nejsou zaměstnávány osoby mladší 18 let."]
[null,null,{"$f":"IF(COUNTIF(K37:K40,TRUE)=0,\"incomplete\",IF(COUNTIF(K37:K40,TRUE)=1,\"\",\"inconsistent\"))","v":""},"a)","Žádná ze čtyř",null,null,null,null,null,false]
[null,null,null,"b)","Jeden nebo dva ze čtyř",null,null,null,null,null,false]
[null,null,null,"c)","Tři ze čtyř",null,null,null,null,null,false]
[null,null,null,"d)","všechny čtyři",null,null,null,null,null,true]
[]
[null,"Logističtí partneři",null,null,null,{"$f":"B42","v":"Logističtí partneři"}]
[null,null,null,null," "]
[null,null,"Q4.6","Jakým způsobem zabezpečuje organizace splnění svých požadavků ze strany logistických partnerů?",null,null,{"$f":"C44","v":"Q4.6"},"notes"]
[null,null,{"$f":"IF(COUNTIF(K45:K48,TRUE)=0,\"incomplete\",IF(COUNTIF(K45:K48,TRUE)=1,\"\",\"inconsistent\"))","v":""},"a)","Organizace nevymezila vůči svým logistickým partnerům žádné jasné požadavky.",null,"Periodické hodnocení dodavatelů + výběrová řízení.",null,null,null,false]
[null,null,null,"b)","Organizace zavedla pro své dodavatele logistických služeb minimální požadavky na HSE&S.",null,null,null,null,null,false]
[null,null,null,"c)","Organizace ustanovila proces hodnocení svých logistických partnerů na základě dodržování požadavků organizace.",null,null,null,null,null,true]
[null,null,null,"d)","Organizace pravidelně prověřuje schopnost svých logistických partnerů dodržovat požadavky organizace (včetně energetické účinnosti a emisí skleníkových plynů).",null,null,null,null,null,false]
[]
[null,"Následní uživatelé",null,null,null,{"$f":"B50","v":"Následní uživatelé"}]
[null,null,null,null," "]
[null,null,"Q4.7","Jakým způsobem organizace chrání a zabezpečuje majetek a údaje následných uživatelů nebo externích poskytovatelů, které se používají nebo začleňují do produktů a služeb?",null,null,{"$f":"C52","v":"Q4.7"},"notes"]
[null,null,{"$f":"IF(COUNTIF(K53:K56,TRUE)=0,\"incomplete\",IF(COUNTIF(K53:K56,TRUE)=1,\"\",\"inconsistent\"))","v":""},"a)","Organizace postupuje v souladu s místní a mezinárodní legislativou o ochraně údajů (ochrana, souhlas, právo na odstranění) a majetku, avšak pro dané téma nezavedla žádný konkrétní proces.",null,null,null,null,null,false]
[null,null,null,"b)","V případě, že se majetek nebo údaje následného uživatele nebo externího poskytovatele ztratí, poškodí nebo se jinak zjistí, že jsou nevhodné k použití, organizace o tom informuje následného uživatele nebo externího poskytovatele a uchovává zdokumentované informace o tom, co se stalo.",null,null,null,null,null,false]
[null,null,null,"c)","Organizace zavedla interní pravidla pro správu dat a majetku, které zajišťují jejich utajení (např. žádné údaje se neuchovávají déle, než je potřeba).",null,null,null,null,null,true]
[null,null,null,"d)","Organizace navázala pravidelný dialog se svými následnými uživateli a externími poskytovateli s cílem informovat je o situaci a procesech pro zajištění té nejvhodnější ochrany jejich údajů a majetku.",null,null,null,null,null,false]
[null,null,null,null," "]
[null,null,"Q4.8","Co zahrnuje dialog s následnými uživateli?",null,null,{"$f":"C58","v":"Q4.8"},"notes"]
[null,null,{"$f":"IF(COUNTIF(K59:K62,TRUE)=0,\"incomplete\",IF(COUNTIF(K59:K62,TRUE)=1,\"\",\"inconsistent\"))","v":""},"a)","Poskytování informací o produktech a službách.",null,null,null,null,null,false]
[null,null,null,"b)","Poskytování informací o produktech a službách, vyřizování poptávek, smluv nebo objednávek včetně změn.",null,null,null,null,null,false]
[null,null,null,"c)","Poskytování informací o produktech a službách, vyřizování poptávek, smluv nebo objednávek včetně změn, získávání zpětné odezvy od zákazníků ohledně produktů a služeb, a to včetně stížností následných uživatelů.",null,null,null,null,null,false]
[null,null,null,"d)","Poskytování informací o produktech a službách, vyřizování poptávek, smluv nebo objednávek včetně změn, získávání zpětné odezvy od zákazníků ohledně produktů a služeb včetně stížností následných uživatelů a v případě potřeby stanovení zvláštních požadavků na mimořádná opatření.",null,null,null,null,null,true]

{"sheet":"Chapter 5","index":8,"n_rows":38,"n_cols":15,"rows_kept":38,"cut":false,"hidden":false,"merged":[[6,6,9,9],[14,6,17,9],[20,6,23,9],[28,6,31,9],[34,6,37,9],[33,3,33,4],[13,3,13,4],[5,3,5,4],[3,5,9,5],[11,5,23,5],[25,5,37,5],[19,3,19,4]]}
[null,"KAPITOLA 5: Zapojení zainteresovaných stran",null,null,null,null,null,null,null,null,null,null,null,{"$f":"IF(O1=\"\",\"\",\"Still to do\")","v":""},{"$f":"'Start and prefill'!$G$9","v":""}]
[null,null,null,null,null,null,"only click one of the possibilities"]
[]
[null,"Stakeholders assessment",null,null,null,{"$f":"B4","v":"Stakeholders assessment"}]
[null,null,null,null," "]
[null,{"$f":"COUNTIF(C7:C38,\"inconsistent\")","v":0},"Q5.1","Jakým způsobem zapojuje organizace své externí zainteresované strany a naplňuje jejich očekávání?",null,null,{"$f":"C6","v":"Q5.1"},"notes"]
[null,null,{"$f":"IF(COUNTIF(K7:K10,TRUE)=0,\"incomplete\",IF(COUNTIF(K7:K10,TRUE)=1,\"\",\"inconsistent\"))","v":""},"a)","Organizace posuzuje své povinnosti týkající se dodržování příslušných nařízení a předpisů, avšak nezavedla formální proces identifikace svých externích zainteresovaných stran.",null,"Posouzení očekávání zainteresovaných stran.",null,null,null,false]
[null,null,null,"b)","Organizace identifikovala příslušné zainteresované strany a stanovila jejich potřeby a očekávání.",null,null,null,null,null,false]
[null,null,null,"c)","Organizace posoudila hlediska svých zainteresovaných stran a bere je v úvahu. Na základě jejich vlivu organizace upřednostnila různé zainteresované strany (mapování).",null,null,null,null,null,true]
[null,null,null,"d)","Organizace ověřila potřeby a očekávání prioritních zainteresovaných stran ve spolupráci s nimi a začleňuje hlediska zainteresovaných stran do přezkoumání vedením.",null,null,null,null,null,false]
[]
[null,"Externí dialog a transparentnost",null,null,null,{"$f":"B12","v":"Externí dialog a transparentnost"}]
[null,null,null,null," "]
[null,null,"Q5.2","Jakým způsobem vede organizace dialog s veřejností, úřady a dalšími zainteresovanými stranami, včetně místních komunit a zákazníků v souvislosti s HSE&S v rámci jejich činností, produktů a služeb?",null,null,{"$f":"C14","v":"Q5.2"},"notes"]
[null,null,{"$f":"IF(COUNTIF(K15:K18,TRUE)=0,\"incomplete\",IF(COUNTIF(K15:K18,TRUE)=1,\"\",\"inconsistent\"))","v":""},"a)","Organizace vede dialog za výjimečných okolností nebo v reakci na stížnosti.",null,"Zřízen kontakt s orgány státní správy a samosprávy.",null,null,null,false]
[null,null,null,"b)","Organizace informuje a komunikuje s klíčovými zainteresovanými stranami o svých aktivitách.",null,null,null,null,null,true]
[null,null,null,"c)","Organizace formálně zřídila příslušné kanály pro dialog se svými klíčovými zainteresovanými stranami a pravidelně je využívá.",null,null,null,null,null,false]
[null,null,null,"d)","Organizace systematicky konzultuje a přímo zapojuje své zainteresované strany do svých aktivit prostřednictvím rozvoje společných projektů nebo partnerství.",null,null,null,null,null,false]
[null,null,null,null," "]
[null,null,"Q5.3","Jakým způsobem zveřejňuje organizace informace týkající se\n HSE&S?",null,null,{"$f":"C20","v":"Q5.3"},"notes"]
[null,null,{"$f":"IF(COUNTIF(K21:K24,TRUE)=0,\"incomplete\",IF(COUNTIF(K21:K24,TRUE)=1,\"\",\"inconsistent\"))","v":""},"a)","Informace týkající se HSE&S se nezveřejňují; výjimkou jsou konkrétní požadavky.",null,"Roční zpráva o stavu životního prostředí, vč. bezpečnosti.",null,null,null,false]
[null,null,null,"b)","Výsledky hodnocení výkonnosti organizace se zveřejňují.",null,null,null,null,null,true]
[null,null,null,"c)","Výsledky hodnocení výkonnosti organizace jsou před zveřejněním každoročně posouzeny nezávislou třetí stranou.",null,null,null,null,null,false]
[null,null,null,"d)","Organizace je proaktivní a sdílí výsledky hodnocení své výkonnosti s příslušnými zainteresovanými stranami, např. vedení organizace seznamuje úřady veřejné správy a jiné státní orgány nebo místní komunity o dosažených výsledcích.",null,null,null,null,null,false]
[]
[null," Místní komunity",null,null,null,{"$f":"B26","v":" Místní komunity"}]
[null,null,null,null," "]
[null,null,"Q5.4","Jakým způsobem podporuje organizace místní komunity?",null,null,{"$f":"C28","v":"Q5.4"},"notes"]
[null,null,{"$f":"IF(COUNTIF(K29:K32,TRUE)=0,\"incomplete\",IF(COUNTIF(K29:K32,TRUE)=1,\"\",\"inconsistent\"))","v":""},"a)","Organizace splňuje příslušné zákonné požadavky.",null,"Podpora účasti zaměstnanců v místní samosprávě, podpora sportu a školství.",null,null,null,false]
[null,null,null,"b)","Organizace reaguje na konkrétní požadavky místních komunit. Organizace vede dialog s místními zástupci a bere ohled na blaho sousedů.",null,null,null,null,null,false]
[null,null,null,"c)","Organizace podporuje místní projekty a činnosti (např. Účast zaměstnanců na místních projektech během pracovní doby, v místních školách během vyučování a informace o různých pracovních nabídkách atd.) s cílem přispět k místnímu rozvoji.",null,null,null,null,null,true]
[null,null,null,"d)","Organizace podporuje místní komunitu účastí v různých skupinách, prostřednictvím komunikačních prostředků, veřejné správy, organizací firem a zástupců zaměstnanců, ekologických skupin, odborníků, sousedních firem, sousedských sdružení a podobně. Organizace spolupracuje a předvídá rozpočet na rozvoj společných projektů, činností nebo partnerství na základě požadavků komunity.",null,null,null,null,null,false]
[null,null,null,null," "]
[null,null,"Q5.5","Jakým způsobem stimuluje organizace místní zaměstnanost a vzdělávání?",null,null,{"$f":"C34","v":"Q5.5"},"notes"]
[null,null,{"$f":"IF(COUNTIF(K35:K38,TRUE)=0,\"incomplete\",IF(COUNTIF(K35:K38,TRUE)=1,\"\",\"inconsistent\"))","v":""},"a)","Organizace splňuje příslušné zákonné požadavky.",null,"Partnerství se školami (ZŠ, SŠ, VŠ) -chemické olympiády, brigády, stáže, exkurze.",null,null,null,false]
[null,null,null,"b)","Organizace reaguje na specifické požadavky místních škol a pracovních organizací a vede dialog s místními zástupci.",null,null,null,null,null,true]
[null,null,null,"c)","Organizace přispívá k místní zaměstnanosti a podporuje místní školy: v rámci pracovního náboru zapojuje místní pracovní organizace včetně platforem pro reintegraci zaměstnanců, organizace vítá stážisty z místních škol a účastní se školních aktivit.",null,null,null,null,null,false]
[null,null,null,"d)","Organizace navázala partnerství s místními pracovními organizacemi a spolupracuje na vzdělávacích programech s místními školami a vědeckou komunitou (např. Spolupráce s univerzitami, granty, výzkum atd.).",null,null,null,null,null,false]

{"sheet":"Chapter 6","index":9,"n_rows":124,"n_cols":15,"rows_kept":124,"cut":false,"hidden":false,"merged":[[112,6,115,9],[120,6,123,9],[80,6,83,9],[86,6,89,9],[94,6,97,9],[100,6,103,9],[106,6,109,9],[69,5,75,5],[79,3,79,4],[6,6,11,9],[16,6,19,9],[24,6,27,9],[32,6,35,9],[40,6,43,9],[46,6,49,9],[52,6,55,9],[58,6,61,9],[64,6,67,9],[72,6,75,9],[51,3,51,4],[50,5,67,5],[5,3,5,4],[39,3,39,4],[3,5,11,5],[13,5,19,5],[21,5,27,5],[31,3,31,4],[29,5,35,5],[37,5,49,5],[104,5,115,5],[119,3,119,4],[117,5,123,5],[85,3,85,4],[77,5,89,5],[93,3,93,4],[99,3,99,4],[91,5,103,5]]}
[null,"KAPITOLA 6: Přispívání k udržitelnosti",null,null,null,null,null,null,null,null,null,null,null,{"$f":"IF(O1=\"\",\"\",\"Still to do\")","v":""},{"$f":"'Start and prefill'!$G$9","v":""}]
[null,null,null,null,null,null,"only click one of the possibilities"]
[]
[null,"Hodnocení závažnosti",null,null,null,{"$f":"B4","v":"Hodnocení závažnosti"}]
[null,null,null,null," "]
[null,{"$f":"COUNTIF(C7:C124,\"inconsistent\")","v":0},"Q6.1","Jakým způsobem definuje organizace významné problémy a závažnost?",null,null,{"$f":"C6","v":"Q6.1"},"notes"]
[null,null,{"$f":"IF(COUNTIF(K7:K12,TRUE)=0,\"incomplete\",IF(COUNTIF(K7:K12,TRUE)=1,\"\",\"inconsistent\"))","v":""},"a)","a)\tOrganizace ještě neidentifikovala své nejvýznamnější problémy a závažnost, ale splňuje své legislativní povinnosti.",null,"Analýza kontextu organizace, rizik a příležitostí.",null,null,null,false]
[null,null,null,"b)","Organizace identifikovala významné sociální, ekonomické a environmentální otázky představující rizika nebo příležitosti pro samotnou organizaci na základě stávajících sektorových plánů (např. Sektorový plán WBCSD:",null,null,null,null,null,true]
[null,null,null,null,"https://www.wbcsd.org/Programs/People/Sustainable-Development-Goals/SDG-Sector-Roadmaps/Resources/SDG-Sector-Roadmaps."]
[null,null,null,null,"Charta CEFIC: https://cefic.org/app/uploads/2019/01/Cefic-Sustainability-Charter-TeamingUp-For-A-SustainableEurope.pdf - Zásady ACC: \nhttps://www.americanchemistry.com/Sustainability/Principles.html"]
[null,null,null,"c)","Organizace zavedla komplexní proces hodnocení významnosti, který zohledňuje význam pro samotnou organizaci i pro její externí zainteresované strany.",null,null,null,null,null,false]
[null,null,null,"d)","Organizace publikuje výsledky svých hodnocení významnosti v souladu s pokyny mezinárodní organizace Global Reporting Initiative (GRI) nebo jejich ekvivalentu.",null,null,null,null,null,false]
[]
[null,"Udržitelný rozvoj",null,null,null,{"$f":"B14","v":"Udržitelný rozvoj"}]
[null,null,null,null," "]
[null,null,"Q6.2","Jakým způsobem hodlá organizace přispívat k udržitelnému rozvoji?",null,null,{"$f":"C16","v":"Q6.2"},"notes"]
[null,null,{"$f":"IF(COUNTIF(K17:K20,TRUE)=0,\"incomplete\",IF(COUNTIF(K17:K20,TRUE)=1,\"\",\"inconsistent\"))","v":""},"a)","Organizace splňuje příslušné zákonné (právní) povinnosti, avšak nesoustředí se na udržitelný rozvoj.",null,null,null,null,null,true]
[null,null,null,"b)","Organizace zmapovala své příspěvky do programu Cílů udržitelného rozvoje (SDGs).",null,null,null,null,null,false]
[null,null,null,"c)","Organizace identifikovala příležitosti vlivu a plánované příspěvky ve smyslu plánu pro SDG pro chemický průmysl. ",null,null,null,null,null,false]
[null,null,null,"d)","Organizace zcela začlenila principy udržitelnosti do své obchodní strategie.",null,null,null,null,null,false]
[]
[null,"Komunikace",null,null,null,{"$f":"B22","v":"Komunikace"}]
[null,null,null,null," "]
[null,null,"Q6.3","Jakým způsobem komunikuje organizace zainteresovaných stran na téma udržitelnosti?",null,null,{"$f":"C24","v":"Q6.3"},"notes"]
[null,null,{"$f":"IF(COUNTIF(K25:K28,TRUE)=0,\"incomplete\",IF(COUNTIF(K25:K28,TRUE)=1,\"\",\"inconsistent\"))","v":""},"a)","Organizace splňuje příslušné zákonné požadavky, nijak však v rámci daného tématu nekomunikuje.",null,"Zákaznické konference, jednání se státní správou a samosprávou.",null,null,null,false]
[null,null,null,"b)","Organizace vede jednoduchou, přímou a věcnou interní komunikaci na téma udržitelnosti.",null,null,null,null,null,false]
[null,null,null,"c)","Organizace vede ad hoc externí komunikaci na téma udržitelnosti se zákazníky, pracovními partnery a komunitou.",null,null,null,null,null,true]
[null,null,null,"d)","Organizace vede interní i externí komunikaci na téma udržitelnosti. Organizace každoročně publikuje úplnou zprávu o udržitelnosti ve všech významných otázkách v souladu s pokyny mezinárodní organizace Global Reporting Initiative (GRI) (https://www2.globalreporting.org/standards/g4/Pages/default.aspx)  nebo jejich ekvivalentu.",null,null,null,null,null,false]
[]
[null,"Udržitelné portfolio",null,null,null,{"$f":"B30","v":"Udržitelné portfolio"}]
[null,null,null,null," "]
[null,null,"Q6.4","Má organizace zavedený proces navrhování výrobků s lepšími výsledky udržitelnosti?",null,null,{"$f":"C32","v":"Q6.4"},"notes"]
[null,null,{"$f":"IF(COUNTIF(K33:K36,TRUE)=0,\"incomplete\",IF(COUNTIF(K33:K36,TRUE)=1,\"\",\"inconsistent\"))","v":""},"a)","Při navrhování výrobků nejsou systematicky zohledňovány úvahy o udržitelnosti.",null,"Rozvoj a výzkum - příprava nových produktů.",null,null,null,false]
[null,null,null,"b)","Organizace se dohodla na společném chápání toho, co znamená „udržitelnost“ v rámci produktových portfolií, identifikovala kritické zájmy zainteresovaných stran a klíčové body rozhodování při zpracování produktu.",null,null,null,null,null,true]
[null,null,null,"c)","Organizace zavedla proces hodnocení udržitelnosti svého portfolia: definují cíle, rozsah, procesy a segmenty hodnocení. Signály trhu jsou zachyceny.",null,null,null,null,null,false]
[null,null,null,"d)","Organizace implementuje, monitoruje a podává zprávy o systému hodnocení udržitelnosti pro veřejnost, zákazníky a další relevantní zainteresované strany.",null,null,null,null,null,false]
[]
[null,"Efektivnost zdrojů / oběhové hospodářství\n",null,null,null,{"$f":"B38","v":"Efektivnost zdrojů / oběhové hospodářství\n"}]
[null,null,null,null," "]
[null,null,"Q6.5","Jakým způsobem zvyšuje organizace efektivnost zdrojů ve svých výrobních procesech?",null,null,{"$f":"C40","v":"Q6.5"},"notes"]
[null,null,{"$f":"IF(COUNTIF(K41:K44,TRUE)=0,\"incomplete\",IF(COUNTIF(K41:K44,TRUE)=1,\"\",\"inconsistent\"))","v":""},"a)","Organizace splňuje příslušné zákonné povinnosti týkající se monitoringu, avšak zvlášť se nezabývá zvyšováním účinnosti zdrojů ve svých výrobních procesech.",null,"Monitorování spotřeby zdrojů na měsíční bázi.",null,null,null,false]
[null,null,null,"b)","Organizace zavedla systém pro měření efektivity zdrojů ve svých výrobních procesech.",null,null,null,null,null,true]
[null,null,null,"c)","Organizace má zavedený proces pro zlepšení efektivnosti zdrojů ve svém výrobním procesu.\nTento proces je navržen a přezkoumán s ohledem na upřednostňování recyklovatelných surovin (materiálů) a opětovné použití prostřednictvím implementace kritérií týkajících se těchto aspektů při výběru nákupu, jako alternativu k neobnovitelným surovinám.\nÚčinnost tohoto procesu je pravidelně vyhodnocována.",null,null,null,null,null,false]
[null,null,null,"d)","Organizace navázala partnerství na zvyšování efektivnosti zdrojů ve svých výrobních procesech a se svými obchodními partnery sdílí osvědčené postupy. Organizace se zapojuje do průmyslové symbiózy. To zahrnuje společnou tvorbu, v jejímž rámci intenzivní spolupráce s třetími stranami zaručuje dodávku vhodných druhotných surovin.",null,null,null,null,null,false]
[null,null,null,null," "]
[null,null,"Q6.6","Jakým způsobem stimuluje organizace oběhové hospodářství prostřednictvím svých produktů?",null,null,{"$f":"C46","v":"Q6.6"},"notes"]
[null,null,{"$f":"IF(COUNTIF(K47:K50,TRUE)=0,\"incomplete\",IF(COUNTIF(K47:K50,TRUE)=1,\"\",\"inconsistent\"))","v":""},"a)","Organizace splňuje příslušné zákonné povinnosti týkající se monitoringu, ovšem nesoustředí se na aspekt cirkularity (oběhu).",null,null,null,null,null,true]
[null,null,null,"b)","Organizace prozkoumala a identifikovala možnost recyklace a trvanlivost svých produktů a zavedla plány na zlepšení procesu navrhování produktů, které tyto aspekty zohledňují.",null,null,null,null,null,false]
[null,null,null,"c)","Výrobky a obchodní procesy jsou koncipovány a přehodnocují se s ohledem na možnost recyklace a trvanlivost produktů organizace.\nVýrobky organizace jsou navrženy za účelem snadnější recyklace a minimalizace množství vyrobeného odpadu.",null,null,null,null,null,false]
[null,null,null,"d)","Organizace pracuje s hodnotovým řetězcem s cílem zlepšit cirkulační řešení pro své produkty. Kromě toho organizace sdílí osvědčené postupy se svými obchodními partnery.",null,null,null,null,null,false]
[null,null,null,null," ",{"$f":"B38","v":"Efektivnost zdrojů / oběhové hospodářství\n"}]
[null,null,"Q6.7","Jakým způsobem podporuje organizace inovace při vývoji produktů a řešení, které odpovídají výzvám udržitelnosti?",null,null,{"$f":"C52","v":"Q6.7"},"notes"]
[null,null,{"$f":"IF(COUNTIF(K53:K56,TRUE)=0,\"incomplete\",IF(COUNTIF(K53:K56,TRUE)=1,\"\",\"inconsistent\"))","v":""},"a)","Investice do inovací se soustřeďují na požadované zlepšení s cílem splnit příslušné zákonné požadavky.",null,"Rozvoj a výzkum - příprava nových produktů.",null,null,null,false]
[null,null,null,"b)","Při hodnocení projektů inovace se berou v úvahu kritéria týkající se zlepšování sociálních nebo environmentálních vlivů.",null,null,null,null,null,true]
[null,null,null,"c)","Projekty inovace se posuzují na základě kritérií udržitelnosti, které sdružují environmentální, ekonomické a sociální aspekty.",null,null,null,null,null,false]
[null,null,null,"d)","Organizace má zavedenou strategii a harmonogram.",null,null,null,null,null,false]
[null,null,null,null," "]
[null,null,"Q6.8","Jakým způsobem stimuluje organizace inovaci a spolupráci?",null,null,{"$f":"C58","v":"Q6.8"},"notes"]
[null,null,{"$f":"IF(COUNTIF(K59:K62,TRUE)=0,\"incomplete\",IF(COUNTIF(K59:K62,TRUE)=1,\"\",\"inconsistent\"))","v":""},"a)","Organizace splňuje příslušné zákonné požadavky, tímto tématem se však zvlášť nezabývá.",null,"Rozvoj a výzkum.",null,null,null,false]
[null,null,null,"b)","Organizace se aktivně nezapojuje do partnerství v oblasti inovací, avšak sleduje výsledky stávajících spoluprací a partnerství.",null,null,null,null,null,false]
[null,null,null,"c)","Organizace se podílí na spolupráci v oblasti inovací s průmyslovými partnery nebo akademickou obcí.",null,null,null,null,null,true]
[null,null,null,"d)","Organizace se zapojuje do programů inovace s průmyslovými partnery nebo akademickými obcemi se společnými sdílenými prostředky (materiál, rozpočet, zdroje atd.).",null,null,null,null,null,false]
[null,null,null,null," "]
[null,null,"Q6.9","Jakým způsobem podporuje organizace udržitelné způsoby spotřeby?",null,null,{"$f":"C64","v":"Q6.9"},"notes"]
[null,null,{"$f":"IF(COUNTIF(K65:K68,TRUE)=0,\"incomplete\",IF(COUNTIF(K65:K68,TRUE)=1,\"\",\"inconsistent\"))","v":""},"a)","Organizace splňuje příslušné zákonné požadavky, tímto tématem se však zvlášť nezabývá.",null,"Life cycle analysis.",null,null,null,false]
[null,null,null,"b)","Organizace zná dopad svých výrobních operací a informuje zákazníky.",null,null,null,null,null,true]
[null,null,null,"c)","Organizace spolupracuje s partnery v chemickém průmyslu s cílem podporovat udržitelné způsoby spotřeby.",null,null,null,null,null,false]
[null,null,null,"d)","Organizace zapojuje své zainteresované strany do podpory udržitelné spotřeby (návody, bílá kniha, diskuse atd.)",null,null,null,null,null,false]
[]
[null,"Používání vody ",null,null,null,{"$f":"B70","v":"Používání vody "}]
[null,null,null,null," "]
[null,null,"Q6.10","Jakým způsobem organizace kontroluje a optimalizuje spotřebu vody?",null,null,{"$f":"C72","v":"Q6.10"},"notes"]
[null,null,{"$f":"IF(COUNTIF(K73:K76,TRUE)=0,\"incomplete\",IF(COUNTIF(K73:K76,TRUE)=1,\"\",\"inconsistent\"))","v":""},"a)","Organizace splňuje příslušné zákonné povinnosti týkající se monitoringu (pouze v oblasti spotřeby).",null,"Kritérium zejména v oblasti investiční výstavby.",null,null,null,false]
[null,null,null,"b)","Organizace zřídila program na omezování spotřeby vody, informuje o výsledcích tohoto plánu a o záznamech o spotřebě vody.",null,null,null,null,null,false]
[null,null,null,"c)","Organizace plánuje konkrétní opatření ke snížení spotřeby vody na základě klíčových problémů identifikovaných prostřednictvím monitoringu.",null,null,null,null,null,true]
[null,null,null,"d)","Organizace uplatňuje principy vodního hospodářství (např. Principy Evropského vodního hospodářství (EWS) nebo podobné). Zohledňuje přitom místní citlivost a zásoby vody. Pravidelně investuje do účinnějších vodohospodářských technologií a podporuje vsakování dešťové vody z míst (střechy, silnice) v zemi s cílem spolupodílet se na obnově zásob podzemní vody.",null,null,null,null,null,false]
[]
[null,"Využívání půdy a biodiverzita",null,null,null,{"$f":"B78","v":"Využívání půdy a biodiverzita"}]
[null,null,null,null," "]
[null,null,"Q6.11","Jakým způsobem se řídí vliv organizace na biodiverzitu a ekosystém?",null,null,{"$f":"C80","v":"Q6.11"},"notes"]
[null,null,{"$f":"IF(COUNTIF(K81:K84,TRUE)=0,\"incomplete\",IF(COUNTIF(K81:K84,TRUE)=1,\"\",\"inconsistent\"))","v":""},"a)","Organizace splňuje příslušné zákonné požadavky, tímto tématem se však zvlášť nezabývá.",null,null,null,null,null,true]
[null,null,null,"b)","Organizace identifikovala dopad svých výrobních míst a produktů na biodiverzitu a specificky citlivé okolní prostředí a zavedla akční plán pro omezení jejího vlivu (např. snížením spotřeby papíru s cílem zamezení zabránit odlesňování, instalací tzv. zelených střech, obydlí pro hmyz atd.).",null,null,null,null,null,false]
[null,null,null,"c)","Organizace vypracovala ukazatele (lidské, finanční a organizační) na ochranu biodiverzity (např. vývoj postupů údržby zelených ploch - typ plevele, frekvence sečení, druh výsadby, nároky na vodu a pod., zařízení na ochranu ptáků na výškových budovách atd.) a pravidelně je vyhodnocuje.",null,null,null,null,null,false]
[null,null,null,"d)","Organizace spolupracuje se subjekty zapojenými do ochrany životního prostředí ohledně možných způsobů přispívání k zachování místní biodiverzity a k podobným krokům vybízí i své zaměstnance.",null,null,null,null,null,false]
[null,null,null,null," "]
[null,null,"Q6.12","Jakým způsobem posuzuje organizace svou závislost na přírodních zdrojích (ekosystémech)?",null,null,{"$f":"C86","v":"Q6.12"},"notes"]
[null,null,{"$f":"IF(COUNTIF(K87:K90,TRUE)=0,\"incomplete\",IF(COUNTIF(K87:K90,TRUE)=1,\"\",\"inconsistent\"))","v":""},"a)","Organizace se tímto tématem nijak zvlášť nezabývá.",null,null,null,null,null,true]
[null,null,null,"b)","Organizace identifikovala opatření pro zajištění služeb poskytovaných ekosystémy pro svou činnost (např. závislost na určitých surovinách).",null,null,null,null,null,false]
[null,null,null,"c)","Organizace zavedla určitá konkrétní opatření na ochranu služeb poskytovaných ekosystémy pro svou činnost (např. závislost na určitých surovinách).",null,null,null,null,null,false]
[null,null,null,"d)","Organizace zavedla strukturovaný přístup k ochraně služeb poskytovaných okolními ekosystémy (např. závislost na určitých surovinách). Organizace zveřejňuje své výsledky a sdílí osvědčené postupy.",null,null,null,null,null,false]
[]
[null,"Klima a využívání energie",null,null,null,{"$f":"B92","v":"Klima a využívání energie"}]
[null,null,null,null," "]
[null,null,"Q6.13","Jakým způsobem řídí organizace svou spotřebu energie?",null,null,{"$f":"C94","v":"Q6.13"},"notes"]
[null,null,{"$f":"IF(COUNTIF(K95:K98,TRUE)=0,\"incomplete\",IF(COUNTIF(K95:K98,TRUE)=1,\"\",\"inconsistent\"))","v":""},"a)","Organizace splňuje příslušné zákonné povinnosti a provádí zlepšení tam, kde je návratnost investic téměř okamžitá (méně než 2 roky).",null,"Implementován EnMS dle ISO 50001.",null,null,null,false]
[null,null,null,"b)","Organizace definovala a implementovala plán sběru dat o energii odpovídající jeho velikosti, složitosti, zdrojům a měřicím a monitorovacím zařízením. Plán určuje údaje potřebné ke sledování klíčových charakteristik a uvádí, jakým způsobem a s jakou frekvencí budou tyto údaje shromažďovány a uchovávány.",null,null,null,null,null,false]
[null,null,null,"c)","Organizace určila ukazatele energetické náročnosti (EnPI), které jsou vhodné pro monitorování její energetické výkonnosti a umožňují organizaci prokázat zlepšení energetické účinnosti. Údaje o tom, že relevantní proměnné významně ovlivňují energetický výkon, byly považovány za vhodné pro stanovení vhodných EnPI. Hodnoty EnPI jsou porovnány s jejich příslušnou energetickou základnou EnB (s). Na základě těchto údajů organizace stanovila cíle zlepšení a energetické cíle. Organizace dále investuje do inteligentních technologií (automatické osvětlení, regulované vytápění, automatizované procesy, systémy využití energie atd.).",null,null,null,null,null,false]
[null,null,null,"d)","Organizace analyzuje využití a spotřebu energie na základě měření a dalších údajů, identifikuje významná využití energie SEU (včetně příslušných proměnných; současná energetická náročnost; osoba (osoby) ovlivňující tuto SEU), určuje a upřednostňuje příležitosti pro zlepšení energetické výkonnosti; a odhaduje budoucí spotřebu energie a spotřebu energie. Účinnost plánu snižování spotřeby energie je pravidelně vyhodnocována a zlepšována prostřednictvím energetického přezkumu.",null,null,null,null,null,true]
[null,null,null,null," "]
[null,null,"Q6.14","Jakým způsobem řídí organizace emise skleníkových plynů (kromě úspor energie)?",null,null,{"$f":"C100","v":"Q6.14"},"notes"]
[null,null,{"$f":"IF(COUNTIF(K101:K104,TRUE)=0,\"incomplete\",IF(COUNTIF(K101:K104,TRUE)=1,\"\",\"inconsistent\"))","v":""},"a)","Organizace splňuje příslušné zákonné povinnosti, avšak zvlášť se nezabývá emisemi skleníkových plynů.",null,"Parní turbína - výroba elektřiny z bezuhlíkového zdroje.",null,null,null,false]
[null,null,null,"b)","Organizace identifikovala své potenciální zdroje obnovy energie a možnosti zvýšení podílu obnovitelné energie.",null,null,null,null,null,false]
[null,null,null,"c)","Organizace využívá své potenciální zdroje obnovitelné energie a uzavřela s dodavatelem elektrické energie smlouvu o dodávkách energie z obnovitelných zdrojů.",null,null,null,null,null,true]
[null,null,null,"d)","Organizace navázala partnerství s geograficky příbuznými organizacemi s cílem rozvíjet \"místní synergie\" (například prodej zbytkového tepla mezi dvěma subjekty) a spolupráci.",null,null,null,null,null,false]
[null,null,null,null," ",{"$f":"B92","v":"Klima a využívání energie"}]
[null,null,"Q6.15","Jaká je strategie organizace na snižování emisí skleníkových plynů?",null,null,{"$f":"C106","v":"Q6.15"},"notes"]
[null,null,{"$f":"IF(COUNTIF(K107:K110,TRUE)=0,\"incomplete\",IF(COUNTIF(K107:K110,TRUE)=1,\"\",\"inconsistent\"))","v":""},"a)","Organizace se zvlášť nezabývá emisemi skleníkových plynů.",null,"Provedeno hodnocení v rámci rozvoje a výzkumu.",null,null,null,false]
[null,null,null,"b)","Organizace provedla analýzu nedostatků s cílem identifikovat potenciál snižování emisí scope 1 & 2.",null,null,null,null,null,true]
[null,null,null,"c)","Organizace stanovila jasné cíle, hodnotí pokrok při jejich dosahování a podniká kroky ke snížení emisí scope 1 & 2.",null,null,null,null,null,false]
[null,null,null,"d)","Organizace stanovila jasné cíle, hodnotí pokrok při jejich dosahování a kompenzuje zbylou uhlíkovou stopu. Organizace navíc každoročně zveřejňuje své výsledky týkající se uhlíkové stopy (scope 3).",null,null,null,null,null,false]
[null,null,null,null," "]
[null,null,"Q6.16","Jakým způsobem se organizace připravuje na klimatické změny? ",null,null,{"$f":"C112","v":"Q6.16"},"notes"]
[null,null,{"$f":"IF(COUNTIF(K113:K116,TRUE)=0,\"incomplete\",IF(COUNTIF(K113:K116,TRUE)=1,\"\",\"inconsistent\"))","v":""},"a)","Organizace splňuje příslušné zákonné požadavky, tímto tématem se však zvlášť nezabývá.",null,"Především zajištění zdrojů vody.",null,null,null,false]
[null,null,null,"b)","Organizace si uvědomuje střednědobé potenciální účinky klimatických změn na svou činnost.",null,null,null,null,null,false]
[null,null,null,"c)","Organizace určila rizika související s klimatickými změnami pro své činnosti a potenciálně opatření k omezení těchto rizik.",null,null,null,null,null,true]
[null,null,null,"d)","Organizace investuje do opatření na zlepšení své odolnosti vůči klimatickým změnám a hodnotí jejich účinnost.",null,null,null,null,null,false]
[]
[null,"Různé",null,null,null,{"$f":"B118","v":"Různé"}]
[null,null,null,null," "]
[null,null,"Q6.17","Jak organizace zajišťuje rovné příležitosti při náboru a během kariéry všech?",null,null,{"$f":"C120","v":"Q6.17"},"notes",null,null,false]
[null,null,{"$f":"IF(COUNTIF(K121:K124,TRUE)=0,\"incomplete\",IF(COUNTIF(K121:K124,TRUE)=1,\"\",\"inconsistent\"))","v":""},"a)","Společnost nedefinovala konkrétní závazek k zajištění rovných příležitostí, ale plní legislativní povinnosti.",null,"Etický kodex.",null,null,null,false]
[null,null,null,"b)","The organisation has made a commitment (e.g. signature of a good practice charter) in terms of equal opportunities and has set up dedicated processes to ensure equal opportunities.",null,null,null,null,null,true]
[null,null,null,"c)","Organizace má jasný akční plán s kvantifikovanými cíli k zajištění rovných příležitostí a začlenila aspekty rozmanitosti do všech svých procesů v oblasti lidských zdrojů.",null,null,null,null,null,false]
[null,null,null,"d)","Organizace pravidelně vyhodnocuje výsledky a interně i externě je komunikuje.",null,null,null,null,null,false]

{"sheet":"General outcome","index":10,"n_rows":13,"n_cols":14,"rows_kept":13,"cut":false,"hidden":false,"merged":[[1,2,1,8]]}
[null,null,null,null,null,null,null,null,null,null,null,null,{"$f":"IF(N1=\"\",\"\",\"Still to do\")","v":""},{"$f":"'Start and prefill'!$G$9","v":""}]
[null,null,"GENERAL OUTCOME"]
[]
[null,null,"Partial scores",null,null,"score","minimum","maximum"]
[null,null,null,"CHAPTER 1","A Corporate Leadership Culture",{"$f":"IF('Chapter 1'!B6=0,'Technical page'!AL9,\"answers inconsistent\")","v":2.8571428571428577},1,4,{"$f":"'Technical page'!AR27","v":""}]
[null,null,null,"CHAPTER 2","Safeguarding People and the Environment",{"$f":"IF('Chapter 2'!B6=0,'Technical page'!AL123,\"answers inconsistent\")","v":2.7777777777777772},1,4,{"$f":"'Technical page'!AR170","v":"Key RC elements are still to be implemented, see tips"}]
[null,null,null,"CHAPTER 3","Strengthening Chemicals Management Systems",{"$f":"IF('Chapter 3'!B6=0,'Technical page'!AL405,\"answers inconsistent\")","v":2.5000000000000004},1,4,{"$f":"'Technical page'!AR417","v":""}]
[null,null,null,"CHAPTER 4","Influencing Business Partners",{"$f":"IF('Chapter 4'!B6=0,'Technical page'!AL481,\"answers inconsistent\")","v":2.833333333333333},1,4,{"$f":"'Technical page'!AR491","v":"Key RC elements are still to be implemented, see tips"}]
[null,null,null,"CHAPTER 5","Engaging Stakeholders",{"$f":"IF('Chapter 5'!B6=0,'Technical page'!AL543,\"answers inconsistent\")","v":2.5000000000000004},1,4,{"$f":"'Technical page'!AR550","v":""}]
[null,null,null,"CHAPTER 6","Contributing to Sustainability",{"$f":"IF('Chapter 6'!B6=0,'Technical page'!AL583,\"answers inconsistent\")","v":2.1764705882352939},1,4,{"$f":"'Technical page'!AR601","v":"Key RC elements are still to be implemented, see tips"}]
[]
[null,null,"Total score"]
[null,null,null,null,null,{"$f":"(F5*'Technical page'!G705+'General outcome'!F6*'Technical page'!G706+'General outcome'!F7*'Technical page'!G707+'General outcome'!F8*'Technical page'!G708+'General outcome'!F9*'Technical page'!G709+'General outcome'!F10*'Technical page'!G710)/100","v":2.6159360410831001},{"$f":"F13/4*100","v":65.398401027077497},"%",{"$f":"IF(F13>3,\":-) :-) :-)\",IF(F13>2,\":-) :-)\",IF(F13>1,\":-)\",\"\")))","v":":-) :-)"}]

{"sheet":"Tips","index":11,"n_rows":425,"n_cols":20,"rows_kept":425,"cut":false,"hidden":false,"merged":[[0,1,0,11],[4,4,4,10],[294,4,294,6],[322,4,322,6],[318,4,318,6],[314,4,314,6],[310,4,310,6],[306,4,306,6],[302,4,302,6],[298,4,298,6],[44,4,44,10],[260,4,260,10],[332,4,332,10],[52,4,52,10],[5,13,6,20],[9,13,10,20],[13,13,14,20],[17,13,18,20],[21,13,22,20],[25,13,26,20],[29,13,30,20],[33,13,34,20],[37,13,38,20],[41,13,42,20],[45,13,46,20],[49,13,50,20],[53,13,54,20],[57,13,58,20],[61,13,62,20],[71,13,72,20],[75,13,76,20],[79,13,80,20],[83,13,84,20],[65,13,66,20],[87,13,88,20],[91,13,92,20],[95,13,96,20],[99,13,100,20],[103,13,104,20],[107,13,108,20],[111,13,112,20],[115,13,116,20],[119,13,120,20],[123,13,124,20],[127,13,128,20],[131,13,132,20],[135,13,136,20],[139,13,140,20],[143,13,144,20],[147,13,148,20],[151,13,152,20],[155,13,156,20],[159,13,160,20],[163,13,164,20],[167,13,168,20],[171,13,172,20],[175,13,176,20],[179,13,180,20],[183,13,184,20],[187,13,188,20],[191,13,192,20],[195,13,196,20],[199,13,200,20],[203,13,204,20],[207,13,208,20],[211,13,212,20],[215,13,216,20],[219,13,220,20],[223,13,224,20],[227,13,228,20],[231,13,232,20],[235,13,236,20],[239,13,240,20],[243,13,244,20],[265,13,266,20],[269,13,270,20],[273,13,274,20],[277,13,278,20],[281,13,282,20],[257,13,258,20],[261,13,262,20],[247,13,248,20],[253,13,254,20],[307,13,308,20],[311,13,312,20],[315,13,316,20],[319,13,320,20],[323,13,324,20],[285,13,286,20],[289,13,290,20],[295,13,296,20],[299,13,300,20],[303,13,304,20],[351,13,352,20],[358,13,359,20],[365,13,366,20],[369,13,370,20],[373,13,374,20],[329,13,330,20],[333,13,334,20],[337,13,338,20],[341,13,342,20],[345,13,346,20],[419,13,420,20],[423,13,424,20],[399,13,400,20],[403,13,404,20],[407,13,408,20],[411,13,412,20],[415,13,416,20],[377,13,378,20],[381,13,382,20],[385,13,386,20],[389,13,390,20],[393,13,394,20]]}
[null,"These implementation tips are by no means intended to be prescriptive or mandatory. They are of advisory nature to support signatories of the Responsible Care Global Charter in their efforts to strengthen the Responsible Care initiative.\n\nTip are structured according to chapters, scroll downwards to find the other chapters."]
[null,"Click to add a tip to the action plan."]
[null,null,"CHAPTER 1","A Corporate Leadership Culture",null,null,null,null,null,null,null,null,true]
[null,{"$f":"'Chapter 1'!B4","v":"Rozsah & Závazek"},null,null,null,null,null,null,null,null,null,null,null,{"$f":"IF(L5=8,\"\",\"increase score for:\")","v":"increase score for:"}]
[null,null,{"$f":"IF(VLOOKUP(D5,'Technical page'!$AO$10:$AQ$24,3,0)=\"OK\",\"\",\"major issue\")","v":""},{"$f":"'Chapter 1'!C6","v":"Q1.1"},{"$f":"'Chapter 1'!D6","v":"Jak se projevuje závazek plnit povinnosti týkající se dodržování předpisů a zásad Responsible Care = RC (tj. ochrana a podpora zdraví a bezpečnost lidí, životního prostředí a udržitelnosti) na všech úrovních organizace?\n"},null,null,null,null,null,null,{"$f":"COUNTBLANK(N5:U5)","v":7},null,{"$f":"IF(VLOOKUP(D5,'Specific reports'!$E$6:$H$112,4,FALSE)=\"increase score\",\"ISO 9001\",\"\")","v":""},{"$f":"IF(VLOOKUP(D5,'Specific reports'!$E$116:$H$222,4,FALSE)=\"increase score\",\"ISO 14001\",\"\")","v":""},{"$f":"IF(VLOOKUP(D5,'Specific reports'!$E$226:$H$332,4,FALSE)=\"increase score\",\"ISO 26000\",\"\")","v":""},{"$f":"IF(VLOOKUP(D5,'Specific reports'!$E$336:$H$552,4,FALSE)=\"increase score\",\"ISO 45001\",\"\")","v":""},{"$f":"IF(VLOOKUP(D5,'Specific reports'!$E$556:$H$662,4,FALSE)=\"increase score\",\"EMAS\",\"\")","v":""},{"$f":"IF(VLOOKUP(D5,'Specific reports'!$E$666:$H$772,4,FALSE)=\"increase score\",\"RC14001\",\"\")","v":""},{"$f":"IF(VLOOKUP(D5,'Specific reports'!$E$776:$H$882,4,FALSE)=\"increase score\",\"RCMS\",\"\")","v":"RCMS"}]
[null,null,null,null,"Your score",null,{"$f":"VLOOKUP(D5,'Technical page'!$B$10:$C$25,2,FALSE)","v":3},null,null,null,null,null,null,{"$f":"CONCATENATE(G6,\" = \",HLOOKUP(\" \",'Chapter 1'!E5:E10,Tips!G6+2))","v":"3 = Zásady jsou komunikovány interně, jsou k dispozici veřejnosti a zahrnují závazek plnit svoje povinnosti vyplývající z dodržování předpisů a neustálého zlepšování RC. To zahrnuje závazek řídit výkonnost v souvislosti se zdravím a bezpečností, životním prostředím, energetikou a udržitelným rozvojem."}]
[null,null,null,null,"Try to improve",null,{"$f":"VLOOKUP(CONCATENATE(D5,$M$3),'Technical page'!$BG$10:$BI$73,3,FALSE)","v":"Communicate the policy to your stakeholders as appropriate, and make it available to the public. Your stakeholders can include on-site contractors, commercial partners, members of the community etc., as identified by the organisation. Companies may want to consider maintaining a generic list of its stakeholders and how it communicates the policy and other information to them. The organisation may wish to periodically test awareness of the policy with these stakeholders as part of its process to gauge its communications effectiveness.\n\nThe policy also needs to be available to the public. Some examples of how to communicate it to the public is by posting the policy on the organisation website, placing the policy on business cards, placing it in annual reports or other publications...\n\nDate the policy and include a signature of a senior management representative. This will demonstrate senior management commitment to the policy.\nConduct an inventory with management personnel to determine what they do to show support for Health, Safety, Environment, Energy & Sustainability/Responsible Care (e.g. management involvement in Health, Safety, Environment, Energy & Sustainability programs, speeches, goal setting activities...)."}]
[null,null,null,null,null,null,null,null,null,null,null,null,null,{"$f":"IF(L9=8,\"\",\"increase score for:\")","v":""}]
[null,null,{"$f":"IF(VLOOKUP(D9,'Technical page'!$AO$10:$AQ$24,3,0)=\"OK\",\"\",\"major issue\")","v":""},{"$f":"'Chapter 1'!C12","v":"Q1.2"},{"$f":"'Chapter 1'!D12","v":"Jakým způsobem řídí organizace příslušná rizika a příležitosti?  "},null,null,null,null,null,null,{"$f":"COUNTBLANK(N9:U9)","v":8},null,{"$f":"IF(VLOOKUP(D9,'Specific reports'!$E$6:$H$112,4,FALSE)=\"increase score\",\"ISO 9001\",\"\")","v":""},{"$f":"IF(VLOOKUP(D9,'Specific reports'!$E$116:$H$222,4,FALSE)=\"increase score\",\"ISO 14001\",\"\")","v":""},{"$f":"IF(VLOOKUP(D9,'Specific reports'!$E$226:$H$332,4,FALSE)=\"increase score\",\"ISO 26000\",\"\")","v":""},{"$f":"IF(VLOOKUP(D9,'Specific reports'!$E$336:$H$552,4,FALSE)=\"increase score\",\"ISO 45001\",\"\")","v":""},{"$f":"IF(VLOOKUP(D9,'Specific reports'!$E$556:$H$662,4,FALSE)=\"increase score\",\"EMAS\",\"\")","v":""},{"$f":"IF(VLOOKUP(D9,'Specific reports'!$E$666:$H$772,4,FALSE)=\"increase score\",\"RC14001\",\"\")","v":""},{"$f":"IF(VLOOKUP(D9,'Specific reports'!$E$776:$H$882,4,FALSE)=\"increase score\",\"RCMS\",\"\")","v":""}]
[null,null,null,null,"Your score",null,{"$f":"VLOOKUP(D9,'Technical page'!$B$10:$C$25,2,FALSE)","v":3},null,null,null,null,null,null,{"$f":"CONCATENATE(G10,\" = \",HLOOKUP(\" \",'Chapter 1'!E11:E16,Tips!G10+2))","v":"3 = Organizace identifikovala klíčové vnější a vnitřní problémy a určila, která představují rizika a příležitosti pro organizaci a zároveň představila zamýšlené výsledky týkající se zdraví, bezpečnosti, životního prostředí, energetiky a udržitelnosti (HSE&S)."}]
[null,null,null,null,"Try to improve",null,{"$f":"VLOOKUP(CONCATENATE(D9,$M$3),'Technical page'!$BG$10:$BI$73,3,FALSE)","v":"Address the external and internal issues proactively through setting up actions to cope with risks and opportunities. For each action, define who is responsible to enable follow up and ensure the actions are performed."}]
[null,{"$f":"'Chapter 1'!B18","v":"Dodržování předpisů \n "},null,null,null,null,null,null,null,null,null,null,null,{"$f":"IF(L13=8,\"\",\"increase score for:\")","v":""}]
[null,null,{"$f":"IF(VLOOKUP(D13,'Technical page'!$AO$10:$AQ$24,3,0)=\"OK\",\"\",\"major issue\")","v":""},{"$f":"'Chapter 1'!C20","v":"Q1.3"},{"$f":"'Chapter 1'!D20","v":"Jakým způsobem monitoruje organizace svoje zákonné povinnosti? "},null,null,null,null,null,null,{"$f":"COUNTBLANK(N13:U13)","v":8},null,{"$f":"IF(VLOOKUP(D13,'Specific reports'!$E$6:$H$112,4,FALSE)=\"increase score\",\"ISO 9001\",\"\")","v":""},{"$f":"IF(VLOOKUP(D13,'Specific reports'!$E$116:$H$222,4,FALSE)=\"increase score\",\"ISO 14001\",\"\")","v":""},{"$f":"IF(VLOOKUP(D13,'Specific reports'!$E$226:$H$332,4,FALSE)=\"increase score\",\"ISO 26000\",\"\")","v":""},{"$f":"IF(VLOOKUP(D13,'Specific reports'!$E$336:$H$552,4,FALSE)=\"increase score\",\"ISO 45001\",\"\")","v":""},{"$f":"IF(VLOOKUP(D13,'Specific reports'!$E$556:$H$662,4,FALSE)=\"increase score\",\"EMAS\",\"\")","v":""},{"$f":"IF(VLOOKUP(D13,'Specific reports'!$E$666:$H$772,4,FALSE)=\"increase score\",\"RC14001\",\"\")","v":""},{"$f":"IF(VLOOKUP(D13,'Specific reports'!$E$776:$H$882,4,FALSE)=\"increase score\",\"RCMS\",\"\")","v":""}]
[null,null,null,null,"Your score",null,{"$f":"VLOOKUP(D13,'Technical page'!$B$10:$C$25,2,FALSE)","v":2},null,null,null,null,null,null,{"$f":"CONCATENATE(G14,\" = \",HLOOKUP(\" \",'Chapter 1'!E19:E24,Tips!G14+2))","v":"2 = Vedení organizace určilo oddělení/zaměstnance odpovědného za dokumentování předpisů týkajících se zdraví, bezpečnosti, energie a ochrany životního prostředí a za hodnocení míry jejich souladu s příslušným textem. Kromě toho je zaveden proces implementace právních závazků."}]
[null,null,null,null,"Try to improve",null,{"$f":"VLOOKUP(CONCATENATE(D13,$M$3),'Technical page'!$BG$10:$BI$73,3,FALSE)","v":"Get actively involved in the preparation of new legislations at national/federal level."}]
[null,{"$f":"'Chapter 1'!B26","v":"Struktura řízení (managmentu)"},null,null,null,null,null,null,null,null,null,null,null,{"$f":"IF(L17=8,\"\",\"increase score for:\")","v":"increase score for:"}]
[null,null,{"$f":"IF(VLOOKUP(D17,'Technical page'!$AO$10:$AQ$24,3,0)=\"OK\",\"\",\"major issue\")","v":""},{"$f":"'Chapter 1'!C28","v":"Q1.4"},{"$f":"'Chapter 1'!D28","v":"Jakým způsobem top management zajišťuje, že jednotlivé aspekty HSE&S (zdraví, bezpečnosti, ochrany životního prostředí & udržitelnosti) jsou přiřazeny stanoveným rolím v organizaci?"},null,null,null,null,null,null,{"$f":"COUNTBLANK(N17:U17)","v":7},null,{"$f":"IF(VLOOKUP(D17,'Specific reports'!$E$6:$H$112,4,FALSE)=\"increase score\",\"ISO 9001\",\"\")","v":""},{"$f":"IF(VLOOKUP(D17,'Specific reports'!$E$116:$H$222,4,FALSE)=\"increase score\",\"ISO 14001\",\"\")","v":""},{"$f":"IF(VLOOKUP(D17,'Specific reports'!$E$226:$H$332,4,FALSE)=\"increase score\",\"ISO 26000\",\"\")","v":"ISO 26000"},{"$f":"IF(VLOOKUP(D17,'Specific reports'!$E$336:$H$552,4,FALSE)=\"increase score\",\"ISO 45001\",\"\")","v":""},{"$f":"IF(VLOOKUP(D17,'Specific reports'!$E$556:$H$662,4,FALSE)=\"increase score\",\"EMAS\",\"\")","v":""},{"$f":"IF(VLOOKUP(D17,'Specific reports'!$E$666:$H$772,4,FALSE)=\"increase score\",\"RC14001\",\"\")","v":""},{"$f":"IF(VLOOKUP(D17,'Specific reports'!$E$776:$H$882,4,FALSE)=\"increase score\",\"RCMS\",\"\")","v":""}]
[null,null,null,null,"Your score",null,{"$f":"VLOOKUP(D17,'Technical page'!$B$10:$C$25,2,FALSE)","v":2},null,null,null,null,null,null,{"$f":"CONCATENATE(G18,\" = \",HLOOKUP(\" \",'Chapter 1'!E27:E32,Tips!G18+2))","v":"2 = Jmenováním top managementu odpovědného konkrétního manažera, který má zkušenosti s těmito aspekty a který zajišťuje, že organizace dodržuje určité standardy (zdraví, bezpečnost, životní prostředí, energetika a udržitelnost) a že procesy přinášejí své zamýšlené výstupy."}]
[null,null,null,null,"Try to improve",null,{"$f":"VLOOKUP(CONCATENATE(D17,$M$3),'Technical page'!$BG$10:$BI$73,3,FALSE)","v":"Assign a group of persons to work on the implementation of a Health, Safety, Environment, Energy & Sustainability management system, and ask them to report to the highest level of management.\n\nUse clear, concise and specific language so that everyone will know what is expected.\n- Define responsibility at every level within the organisation.\n- Assign responsibilities only to those who are assigned to implement, direct, and control the actions within their area of responsibility.\n- Measure employee performance on assigned responsibilities.\n\nBe aware that the most effective employee involvement programs start by involving employees during the implementation phase of the management system (Health, Safety, Environment, Energy & Sustainability)."}]
[null,null,null,null,null,null,null,null,null,null,null,null,null,{"$f":"IF(L21=8,\"\",\"increase score for:\")","v":""}]
[null,null,{"$f":"IF(VLOOKUP(D21,'Technical page'!$AO$10:$AQ$24,3,0)=\"OK\",\"\",\"major issue\")","v":""},{"$f":"'Chapter 1'!C34","v":"Q1.5"},{"$f":"'Chapter 1'!D34","v":"Jakým způsobem se top management podílí na řešení záležitostí HSE&S?"},null,null,null,null,null,null,{"$f":"COUNTBLANK(N21:U21)","v":8},null,{"$f":"IF(VLOOKUP(D21,'Specific reports'!$E$6:$H$112,4,FALSE)=\"increase score\",\"ISO 9001\",\"\")","v":""},{"$f":"IF(VLOOKUP(D21,'Specific reports'!$E$116:$H$222,4,FALSE)=\"increase score\",\"ISO 14001\",\"\")","v":""},{"$f":"IF(VLOOKUP(D21,'Specific reports'!$E$226:$H$332,4,FALSE)=\"increase score\",\"ISO 26000\",\"\")","v":""},{"$f":"IF(VLOOKUP(D21,'Specific reports'!$E$336:$H$552,4,FALSE)=\"increase score\",\"ISO 45001\",\"\")","v":""},{"$f":"IF(VLOOKUP(D21,'Specific reports'!$E$556:$H$662,4,FALSE)=\"increase score\",\"EMAS\",\"\")","v":""},{"$f":"IF(VLOOKUP(D21,'Specific reports'!$E$666:$H$772,4,FALSE)=\"increase score\",\"RC14001\",\"\")","v":""},{"$f":"IF(VLOOKUP(D21,'Specific reports'!$E$776:$H$882,4,FALSE)=\"increase score\",\"RCMS\",\"\")","v":""}]
[null,null,null,null,"Your score",null,{"$f":"VLOOKUP(D21,'Technical page'!$B$10:$C$25,2,FALSE)","v":3},null,null,null,null,null,null,{"$f":"CONCATENATE(G22,\" = \",HLOOKUP(\" \",'Chapter 1'!E33:E38,Tips!G22+2))","v":"3 = Top managment se podílí a komunikuje potenciální dopady systému řízení (HSE&S) na obchodní činnost organizace (image značky, sociální přijatelnost aktivit, odlišení od konkurence, provozní účinnost ...)."}]
[null,null,null,null,"Try to improve",null,{"$f":"VLOOKUP(CONCATENATE(D21,$M$3),'Technical page'!$BG$10:$BI$73,3,FALSE)","v":"The management board becomes an ambassador for the management system (Health, Safety, Environment, Energy & Sustainability) and leads by example:\nGet the management board involved:\n- Include Health, Safety, Environment, Energy & Sustainability in new year's speeches, staff parties, internal competitions, etc;\n- Ensure visibility of environmental policies, actions and outcomes;\n- Bring the message to customers;\n- Keep communicating."}]
[null,null,null,null,null,null,null,null,null,null,null,null,null,{"$f":"IF(L25=8,\"\",\"increase score for:\")","v":""}]
[null,null,{"$f":"IF(VLOOKUP(D25,'Technical page'!$AO$8:$AQ$30,3,0)=\"OK\",\"\",\"major issue\")","v":""},{"$f":"'Chapter 1'!C40","v":"Q1.6"},{"$f":"'Chapter 1'!D40","v":"Jakým způsobem jsou odpovědnosti HSE&S začleněny do popisů pracovní náplně nebo ročních cílů?\n"},null,null,null,null,null,null,{"$f":"COUNTBLANK(N25:U25)","v":8},null,{"$f":"IF(VLOOKUP(D25,'Specific reports'!$E$6:$H$112,4,FALSE)=\"increase score\",\"ISO 9001\",\"\")","v":""},{"$f":"IF(VLOOKUP(D25,'Specific reports'!$E$116:$H$222,4,FALSE)=\"increase score\",\"ISO 14001\",\"\")","v":""},{"$f":"IF(VLOOKUP(D25,'Specific reports'!$E$226:$H$332,4,FALSE)=\"increase score\",\"ISO 26000\",\"\")","v":""},{"$f":"IF(VLOOKUP(D25,'Specific reports'!$E$336:$H$552,4,FALSE)=\"increase score\",\"ISO 45001\",\"\")","v":""},{"$f":"IF(VLOOKUP(D25,'Specific reports'!$E$556:$H$662,4,FALSE)=\"increase score\",\"EMAS\",\"\")","v":""},{"$f":"IF(VLOOKUP(D25,'Specific reports'!$E$666:$H$772,4,FALSE)=\"increase score\",\"RC14001\",\"\")","v":""},{"$f":"IF(VLOOKUP(D25,'Specific reports'!$E$776:$H$882,4,FALSE)=\"increase score\",\"RCMS\",\"\")","v":""}]
[null,null,null,null,"Your score",null,{"$f":"VLOOKUP(D25,'Technical page'!$B10:$C$25,2,FALSE)","v":3},null,null,null,null,null,null,{"$f":"CONCATENATE(G26,\" = \",HLOOKUP(\" \",'Chapter 1'!E39:E44,Tips!G26+2))","v":"3 =  Jsou zapracovány do popisů pracovní náplně nebo ročních cílů všech manažerů."}]
[null,null,null,null,"Try to improve",null,{"$f":"VLOOKUP(CONCATENATE(D25,$M$3),'Technical page'!$BG$10:$BI$73,3,FALSE)","v":"Objectives are integrated in the definition of the job descriptions of all employees that are linked to the management system (Health, Safety, Environment, Energy & Sustainability) or implement other incentives to motivate Care performance of employees at all levels of the organisation. "}]
[null,null,null,null,null,null,null,null,null,null,null,null,null,{"$f":"IF(L29=8,\"\",\"increase score for:\")","v":""}]
[null,null,{"$f":"IF(VLOOKUP(D29,'Technical page'!$AO$8:$AQ$30,3,0)=\"OK\",\"\",\"major issue\")","v":""},{"$f":"'Chapter 1'!C46","v":"Q1.7"},{"$f":"'Chapter 1'!D46","v":"Jakým způsobem se řídí (nejdůležitější) procesy v souvislosti s HSE&S?"},null,null,null,null,null,null,{"$f":"COUNTBLANK(N29:U29)","v":8},null,{"$f":"IF(VLOOKUP(D29,'Specific reports'!$E$6:$H$112,4,FALSE)=\"increase score\",\"ISO 9001\",\"\")","v":""},{"$f":"IF(VLOOKUP(D29,'Specific reports'!$E$116:$H$222,4,FALSE)=\"increase score\",\"ISO 14001\",\"\")","v":""},{"$f":"IF(VLOOKUP(D29,'Specific reports'!$E$226:$H$332,4,FALSE)=\"increase score\",\"ISO 26000\",\"\")","v":""},{"$f":"IF(VLOOKUP(D29,'Specific reports'!$E$336:$H$552,4,FALSE)=\"increase score\",\"ISO 45001\",\"\")","v":""},{"$f":"IF(VLOOKUP(D29,'Specific reports'!$E$556:$H$662,4,FALSE)=\"increase score\",\"EMAS\",\"\")","v":""},{"$f":"IF(VLOOKUP(D29,'Specific reports'!$E$666:$H$772,4,FALSE)=\"increase score\",\"RC14001\",\"\")","v":""},{"$f":"IF(VLOOKUP(D29,'Specific reports'!$E$776:$H$882,4,FALSE)=\"increase score\",\"RCMS\",\"\")","v":""}]
[null,null,null,null,"Your score",null,{"$f":"VLOOKUP(D29,'Technical page'!$B10:$C$25,2,FALSE)","v":4},null,null,null,null,null,null,{"$f":"CONCATENATE(G30,\" = \",HLOOKUP(\" \",'Chapter 1'!E45:E50,Tips!G30+2))","v":"4 = Ve společnosti pracuje tým vedený představitelem top managementu, který má za úkol neustálé zlepšování a přeřzkoumávání ukazatelů. Tato osoba odpovědná za HSE&S (zdraví, bezpečnost, životní prostředí, energie a udržitelnost) reportuje přímo nejvyššímu managementu organizace a je jeho součástí."}]
[null,null,null,null,"Try to improve",null,{"$f":"VLOOKUP(CONCATENATE(D29,$M$3),'Technical page'!$BG$10:$BI$73,3,FALSE)","v":"It is recommended to annually review the system and to decide upon what is still needed, what can be left out, where are new issues arising…"}]
[null,{"$f":"'Chapter 1'!B52","v":"Zabezpečení zlepšování"},null,null,null,null,null,null,null,null,null,null,null,{"$f":"IF(L33=8,\"\",\"increase score for:\")","v":""}]
[null,null,{"$f":"IF(VLOOKUP(D33,'Technical page'!$AO$8:$AQ$30,3,0)=\"OK\",\"\",\"major issue\")","v":""},{"$f":"'Chapter 1'!C54","v":"Q1.8"},{"$f":"'Chapter 1'!D54","v":"Jakým způsobem top management zajišťuje neustálé zlepšování výkonu v oblasti HSE&S (zdraví, bezpečnosti, životního prostředí, energetiky a udržitelnosti)?"},null,null,null,null,null,null,{"$f":"COUNTBLANK(N33:U33)","v":8},null,{"$f":"IF(VLOOKUP(D33,'Specific reports'!$E$6:$H$112,4,FALSE)=\"increase score\",\"ISO 9001\",\"\")","v":""},{"$f":"IF(VLOOKUP(D33,'Specific reports'!$E$116:$H$222,4,FALSE)=\"increase score\",\"ISO 14001\",\"\")","v":""},{"$f":"IF(VLOOKUP(D33,'Specific reports'!$E$226:$H$332,4,FALSE)=\"increase score\",\"ISO 26000\",\"\")","v":""},{"$f":"IF(VLOOKUP(D33,'Specific reports'!$E$336:$H$552,4,FALSE)=\"increase score\",\"ISO 45001\",\"\")","v":""},{"$f":"IF(VLOOKUP(D33,'Specific reports'!$E$556:$H$662,4,FALSE)=\"increase score\",\"EMAS\",\"\")","v":""},{"$f":"IF(VLOOKUP(D33,'Specific reports'!$E$666:$H$772,4,FALSE)=\"increase score\",\"RC14001\",\"\")","v":""},{"$f":"IF(VLOOKUP(D33,'Specific reports'!$E$776:$H$882,4,FALSE)=\"increase score\",\"RCMS\",\"\")","v":""}]
[null,null,null,null,"Your score",null,{"$f":"VLOOKUP(D33,'Technical page'!$B10:$C$25,2,FALSE)","v":3},null,null,null,null,null,null,{"$f":"CONCATENATE(G34,\" = \",HLOOKUP(\" \",'Chapter 1'!E53:E58,Tips!G34+2))","v":"3 = Top management vyhodnocuje výkonnost RC alespoň jednou za rok. Uvádějí se příslušné ukazatele výkonnosti, akční plány se posuzují s ohledem na hlavní rizika a příležitosti pro organizaci a s ohledem na strategii podpory neustálého zlepšování. Na podporu takového zlepšování se vyčleňují prostředky a zdroje."}]
[null,null,null,null,"Try to improve",null,{"$f":"VLOOKUP(CONCATENATE(D33,$M$3),'Technical page'!$BG$10:$BI$73,3,FALSE)","v":"Make sure to follow up on the actions regularly. Discuss the performance review and the interaction with stakeholders regularly with top management. Review the Key Performance Indicators at least on a quarterly basis in order to see emerging trends as early as possible. "}]
[null,null,null,null,null,null,null,null,null,null,null,null,null,{"$f":"IF(L37=8,\"\",\"increase score for:\")","v":""}]
[null,null,{"$f":"IF(VLOOKUP(D37,'Technical page'!$AO$8:$AQ$30,3,0)=\"OK\",\"\",\"major issue\")","v":""},{"$f":"'Chapter 1'!C60","v":"Q1.9"},{"$f":"'Chapter 1'!D60","v":"Jak jsou organizovány interní audity?"},null,null,null,null,null,null,{"$f":"COUNTBLANK(N37:U37)","v":8},null,{"$f":"IF(VLOOKUP(D37,'Specific reports'!$E$6:$H$112,4,FALSE)=\"increase score\",\"ISO 9001\",\"\")","v":""},{"$f":"IF(VLOOKUP(D37,'Specific reports'!$E$116:$H$222,4,FALSE)=\"increase score\",\"ISO 14001\",\"\")","v":""},{"$f":"IF(VLOOKUP(D37,'Specific reports'!$E$226:$H$332,4,FALSE)=\"increase score\",\"ISO 26000\",\"\")","v":""},{"$f":"IF(VLOOKUP(D37,'Specific reports'!$E$336:$H$552,4,FALSE)=\"increase score\",\"ISO 45001\",\"\")","v":""},{"$f":"IF(VLOOKUP(D37,'Specific reports'!$E$556:$H$662,4,FALSE)=\"increase score\",\"EMAS\",\"\")","v":""},{"$f":"IF(VLOOKUP(D37,'Specific reports'!$E$666:$H$772,4,FALSE)=\"increase score\",\"RC14001\",\"\")","v":""},{"$f":"IF(VLOOKUP(D37,'Specific reports'!$E$776:$H$882,4,FALSE)=\"increase score\",\"RCMS\",\"\")","v":""}]
[null,null,null,null,"Your score",null,{"$f":"VLOOKUP(D37,'Technical page'!$B10:$C$25,2,FALSE)","v":3},null,null,null,null,null,null,{"$f":"CONCATENATE(G38,\" = \",HLOOKUP(\" \",'Chapter 1'!E59:E64,Tips!G38+2))","v":"3 = Výsledky auditů týkajících se HSE&S jsou diskutovány v rámci přezkoumání vedením, identifikují se trendy a přijímají se nápravná opatření. Výsledky nápravných opatření se oznamují střednímu managementu."}]
[null,null,null,null,"Try to improve",null,{"$f":"VLOOKUP(CONCATENATE(D37,$M$3),'Technical page'!$BG$10:$BI$73,3,FALSE)","v":"Ensure when non-conformities occur corrective actions are taken and reported to the senior management."}]
[null,null,null,null,null,null,null,null,null,null,null,null,null,{"$f":"IF(L41=8,\"\",\"increase score for:\")","v":""}]
[null,null,{"$f":"IF(VLOOKUP(D41,'Technical page'!$AO$8:$AQ$30,3,0)=\"OK\",\"\",\"major issue\")","v":""},{"$f":"'Chapter 1'!C66","v":"Q1.10"},{"$f":"'Chapter 1'!D66","v":"Jakým způsobem probíhá vyšetřování?"},null,null,null,null,null,null,{"$f":"COUNTBLANK(N41:U41)","v":8},null,{"$f":"IF(VLOOKUP(D41,'Specific reports'!$E$6:$H$112,4,FALSE)=\"increase score\",\"ISO 9001\",\"\")","v":""},{"$f":"IF(VLOOKUP(D41,'Specific reports'!$E$116:$H$222,4,FALSE)=\"increase score\",\"ISO 14001\",\"\")","v":""},{"$f":"IF(VLOOKUP(D41,'Specific reports'!$E$226:$H$332,4,FALSE)=\"increase score\",\"ISO 26000\",\"\")","v":""},{"$f":"IF(VLOOKUP(D41,'Specific reports'!$E$336:$H$552,4,FALSE)=\"increase score\",\"ISO 45001\",\"\")","v":""},{"$f":"IF(VLOOKUP(D41,'Specific reports'!$E$556:$H$662,4,FALSE)=\"increase score\",\"EMAS\",\"\")","v":""},{"$f":"IF(VLOOKUP(D41,'Specific reports'!$E$666:$H$772,4,FALSE)=\"increase score\",\"RC14001\",\"\")","v":""},{"$f":"IF(VLOOKUP(D41,'Specific reports'!$E$776:$H$882,4,FALSE)=\"increase score\",\"RCMS\",\"\")","v":""}]
[null,null,null,null,"Your score",null,{"$f":"VLOOKUP(D41,'Technical page'!$B10:$C$25,2,FALSE)","v":3},null,null,null,null,null,null,{"$f":"CONCATENATE(G42,\" = \",HLOOKUP(\" \",'Chapter 1'!E65:E70,Tips!G42+2))","v":"3 = Incidenty týkající se HSE&S (zahrnující například skoronehody, nehody a incidenty na pracovištích – místech, narušení provozu, rozlití,…) se ohlašují a posuzují s cílem určit kořenovou příčinu, provést nápravu a zabránit opakování problému."}]
[null,null,null,null,"Try to improve",null,{"$f":"VLOOKUP(CONCATENATE(D41,$M$3),'Technical page'!$BG$10:$BI$73,3,FALSE)","v":"Ensure lessons learned from investigations are shared outside the organisation for partner organisations or peers as appropriate. "}]
[null,{"$f":"'Chapter 1'!B72","v":"Zdroje, školení a zapojení zaměstnanců"},null,null,null,null,null,null,null,null,null,null,null,{"$f":"IF(L45=8,\"\",\"increase score for:\")","v":""}]
[null,null,{"$f":"IF(VLOOKUP(D45,'Technical page'!$AO$8:$AQ$30,3,0)=\"OK\",\"\",\"major issue\")","v":""},{"$f":"'Chapter 1'!C74","v":"Q1.11"},{"$f":"'Chapter 1'!D74","v":"Jakým způsobem organizace zajišťuje procesy, čas a zdroje potřebné pro zlepšování procesů řízení HSE&S?"},null,null,null,null,null,null,{"$f":"COUNTBLANK(N45:U45)","v":8},null,{"$f":"IF(VLOOKUP(D45,'Specific reports'!$E$6:$H$112,4,FALSE)=\"increase score\",\"ISO 9001\",\"\")","v":""},{"$f":"IF(VLOOKUP(D45,'Specific reports'!$E$116:$H$222,4,FALSE)=\"increase score\",\"ISO 14001\",\"\")","v":""},{"$f":"IF(VLOOKUP(D45,'Specific reports'!$E$226:$H$332,4,FALSE)=\"increase score\",\"ISO 26000\",\"\")","v":""},{"$f":"IF(VLOOKUP(D45,'Specific reports'!$E$336:$H$552,4,FALSE)=\"increase score\",\"ISO 45001\",\"\")","v":""},{"$f":"IF(VLOOKUP(D45,'Specific reports'!$E$556:$H$662,4,FALSE)=\"increase score\",\"EMAS\",\"\")","v":""},{"$f":"IF(VLOOKUP(D45,'Specific reports'!$E$666:$H$772,4,FALSE)=\"increase score\",\"RC14001\",\"\")","v":""},{"$f":"IF(VLOOKUP(D45,'Specific reports'!$E$776:$H$882,4,FALSE)=\"increase score\",\"RCMS\",\"\")","v":""}]
[null,null,null,null,"Your score",null,{"$f":"VLOOKUP(D45,'Technical page'!$B10:$C$25,2,FALSE)","v":3},null,null,null,null,null,null,{"$f":"CONCATENATE(G46,\" = \",HLOOKUP(\" \",'Chapter 1'!E73:E78,Tips!G46+2))","v":"3 = Zdroje jsou poskytovány systematicky s cílem zajistit neustálé zlepšování procesů. Tyto zdroje vycházejí z posudků a stanovování naplánovaných priorit."}]
[null,null,null,null,"Try to improve",null,{"$f":"VLOOKUP(CONCATENATE(D45,$M$3),'Technical page'!$BG$10:$BI$73,3,FALSE)","v":"Resources to evaluate the improvements should also be planned, in addition to those on implementing actions."}]
[null,null,null,null,null,null,null,null,null,null,null,null,null,{"$f":"IF(L49=8,\"\",\"increase score for:\")","v":"increase score for:"}]
[null,null,{"$f":"IF(VLOOKUP(D49,'Technical page'!$AO$8:$AQ$30,3,0)=\"OK\",\"\",\"major issue\")","v":""},{"$f":"'Chapter 1'!C80","v":"Q1.12"},{"$f":"'Chapter 1'!D80","v":"Jak organizace zajišťuje, že zaměstnanci jsou si vědomi politik a procesů týkajících se zdraví, bezpečnosti, životního prostředí, energetiky a udržitelnosti?"},null,null,null,null,null,null,{"$f":"COUNTBLANK(N49:U49)","v":7},null,{"$f":"IF(VLOOKUP(D49,'Specific reports'!$E$6:$H$112,4,FALSE)=\"increase score\",\"ISO 9001\",\"\")","v":""},{"$f":"IF(VLOOKUP(D49,'Specific reports'!$E$116:$H$222,4,FALSE)=\"increase score\",\"ISO 14001\",\"\")","v":""},{"$f":"IF(VLOOKUP(D49,'Specific reports'!$E$226:$H$332,4,FALSE)=\"increase score\",\"ISO 26000\",\"\")","v":""},{"$f":"IF(VLOOKUP(D49,'Specific reports'!$E$336:$H$552,4,FALSE)=\"increase score\",\"ISO 45001\",\"\")","v":""},{"$f":"IF(VLOOKUP(D49,'Specific reports'!$E$556:$H$662,4,FALSE)=\"increase score\",\"EMAS\",\"\")","v":""},{"$f":"IF(VLOOKUP(D49,'Specific reports'!$E$666:$H$772,4,FALSE)=\"increase score\",\"RC14001\",\"\")","v":""},{"$f":"IF(VLOOKUP(D49,'Specific reports'!$E$776:$H$882,4,FALSE)=\"increase score\",\"RCMS\",\"\")","v":"RCMS"}]
[null,null,null,null,"Your score",null,{"$f":"VLOOKUP(D49,'Technical page'!$B10:$C$25,2,FALSE)","v":3},null,null,null,null,null,null,{"$f":"CONCATENATE(G50,\" = \",HLOOKUP(\" \",'Chapter 1'!E79:E84,Tips!G50+2))","v":"3 = Existuje vnitřní komunikační plán, který stanoví následující položky: hlášení, komu, kdy a jakým komunikačním prostředkem se tato hlášení budou posílat s cílem zajistit adekvátní vnitřní komunikaci."}]
[null,null,null,null,"Try to improve",null,{"$f":"VLOOKUP(CONCATENATE(D49,$M$3),'Technical page'!$BG$10:$BI$73,3,FALSE)","v":"Evaluate the effectiveness of the internal communication plan through a possible regular survey: are employees aware? Which information do they still request? How many employees have you reached with the planned communication? Was the goal achieved? Did the message come across as expected? "}]
[null,null,null,null,null,null,null,null,null,null,null,null,null,{"$f":"IF(L53=8,\"\",\"increase score for:\")","v":""}]
[null,null,{"$f":"IF(VLOOKUP(D53,'Technical page'!$AO$8:$AQ$30,3,0)=\"OK\",\"\",\"major issue\")","v":""},{"$f":"'Chapter 1'!C86","v":"Q1.13"},{"$f":"'Chapter 1'!D86","v":"Jakým způsobem organizace zajišťuje správné kompetence pracovníků, pokud jde o aspekty HSE&S týkající se jejich práce?"},null,null,null,null,null,null,{"$f":"COUNTBLANK(N53:U53)","v":8},null,{"$f":"IF(VLOOKUP(D53,'Specific reports'!$E$6:$H$112,4,FALSE)=\"increase score\",\"ISO 9001\",\"\")","v":""},{"$f":"IF(VLOOKUP(D53,'Specific reports'!$E$116:$H$222,4,FALSE)=\"increase score\",\"ISO 14001\",\"\")","v":""},{"$f":"IF(VLOOKUP(D53,'Specific reports'!$E$226:$H$332,4,FALSE)=\"increase score\",\"ISO 26000\",\"\")","v":""},{"$f":"IF(VLOOKUP(D53,'Specific reports'!$E$336:$H$552,4,FALSE)=\"increase score\",\"ISO 45001\",\"\")","v":""},{"$f":"IF(VLOOKUP(D53,'Specific reports'!$E$556:$H$662,4,FALSE)=\"increase score\",\"EMAS\",\"\")","v":""},{"$f":"IF(VLOOKUP(D53,'Specific reports'!$E$666:$H$772,4,FALSE)=\"increase score\",\"RC14001\",\"\")","v":""},{"$f":"IF(VLOOKUP(D53,'Specific reports'!$E$776:$H$882,4,FALSE)=\"increase score\",\"RCMS\",\"\")","v":""}]
[null,null,null,null,"Your score",null,{"$f":"VLOOKUP(D53,'Technical page'!$B10:$C$25,2,FALSE)","v":3},null,null,null,null,null,null,{"$f":"CONCATENATE(G54,\" = \",HLOOKUP(\" \",'Chapter 1'!E85:E90,Tips!G54+2))","v":"3 = Na základě specifických potřeb zaměstnanců a dodavatelů se zřizují a spravují vzdělávací programy."}]
[null,null,null,null,"Try to improve",null,{"$f":"VLOOKUP(CONCATENATE(D53,$M$3),'Technical page'!$BG$10:$BI$73,3,FALSE)","v":"In order to be effective, the management system should include determination of competency for those employees that work in identified areas of significant risk through the organisation's risk assessment system.\n"}]
[null,null,null,null,null,null,null,null,null,null,null,null,null,{"$f":"IF(L57=8,\"\",\"increase score for:\")","v":""}]
[null,null,{"$f":"IF(VLOOKUP(D57,'Technical page'!$AO$8:$AQ$30,3,0)=\"OK\",\"\",\"major issue\")","v":""},{"$f":"'Chapter 1'!C92","v":"Q1.14"},{"$f":"'Chapter 1'!D92","v":"Jaká je struktura zapojení zaměstnanců?"},null,null,null,null,null,null,{"$f":"COUNTBLANK(N57:U57)","v":8},null,{"$f":"IF(VLOOKUP(D57,'Specific reports'!$E$6:$H$112,4,FALSE)=\"increase score\",\"ISO 9001\",\"\")","v":""},{"$f":"IF(VLOOKUP(D57,'Specific reports'!$E$116:$H$222,4,FALSE)=\"increase score\",\"ISO 14001\",\"\")","v":""},{"$f":"IF(VLOOKUP(D57,'Specific reports'!$E$226:$H$332,4,FALSE)=\"increase score\",\"ISO 26000\",\"\")","v":""},{"$f":"IF(VLOOKUP(D57,'Specific reports'!$E$336:$H$552,4,FALSE)=\"increase score\",\"ISO 45001\",\"\")","v":""},{"$f":"IF(VLOOKUP(D57,'Specific reports'!$E$556:$H$662,4,FALSE)=\"increase score\",\"EMAS\",\"\")","v":""},{"$f":"IF(VLOOKUP(D57,'Specific reports'!$E$666:$H$772,4,FALSE)=\"increase score\",\"RC14001\",\"\")","v":""},{"$f":"IF(VLOOKUP(D57,'Specific reports'!$E$776:$H$882,4,FALSE)=\"increase score\",\"RCMS\",\"\")","v":""}]
[null,null,null,null,"Your score",null,{"$f":"VLOOKUP(D57,'Technical page'!$B10:$C$25,2,FALSE)","v":3},null,null,null,null,null,null,{"$f":"CONCATENATE(G58,\" = \",HLOOKUP(\" \",'Chapter 1'!E91:E96,Tips!G58+2))","v":"3 = Organizace podporuje osobní iniciativy a začleňuje praktickou zpětnou vazbu z provozu do přezkoumání cílů a procesů. Organizace pořádá pravidelná setkání se zaměstnanci s cílem umožnit jim vyjadřovat své názory na politiku organizace týkající se HSE&S."}]
[null,null,null,null,"Try to improve",null,{"$f":"VLOOKUP(CONCATENATE(D57,$M$3),'Technical page'!$BG$10:$BI$73,3,FALSE)","v":"Evaluate the effectiveness of the employee involvement.\nMake employee's organisation a key partner for all decisions. Establish a system rewarding good suggestions."}]
[null,{"$f":"'Chapter 1'!B98","v":"Správa dokumentů"},null,null,null,null,null,null,null,null,null,null,null,{"$f":"IF(L61=8,\"\",\"increase score for:\")","v":""}]
[null,null,{"$f":"IF(VLOOKUP(D61,'Technical page'!$AO$8:$AQ$30,3,0)=\"OK\",\"\",\"major issue\")","v":""},{"$f":"'Chapter 1'!C100","v":"Q1.15"},{"$f":"'Chapter 1'!D100","v":"Jakým způsobem se řídí dokumentace HSE&S?"},null,null,null,null,null,null,{"$f":"COUNTBLANK(N61:U61)","v":8},null,{"$f":"IF(VLOOKUP(D61,'Specific reports'!$E$6:$H$112,4,FALSE)=\"increase score\",\"ISO 9001\",\"\")","v":""},{"$f":"IF(VLOOKUP(D61,'Specific reports'!$E$116:$H$222,4,FALSE)=\"increase score\",\"ISO 14001\",\"\")","v":""},{"$f":"IF(VLOOKUP(D61,'Specific reports'!$E$226:$H$332,4,FALSE)=\"increase score\",\"ISO 26000\",\"\")","v":""},{"$f":"IF(VLOOKUP(D61,'Specific reports'!$E$336:$H$552,4,FALSE)=\"increase score\",\"ISO 45001\",\"\")","v":""},{"$f":"IF(VLOOKUP(D61,'Specific reports'!$E$556:$H$662,4,FALSE)=\"increase score\",\"EMAS\",\"\")","v":""},{"$f":"IF(VLOOKUP(D61,'Specific reports'!$E$666:$H$772,4,FALSE)=\"increase score\",\"RC14001\",\"\")","v":""},{"$f":"IF(VLOOKUP(D61,'Specific reports'!$E$776:$H$882,4,FALSE)=\"increase score\",\"RCMS\",\"\")","v":""}]
[null,null,null,null,"Your score",null,{"$f":"VLOOKUP(D61,'Technical page'!$B10:$C$25,2,FALSE)","v":3},null,null,null,null,null,null,{"$f":"CONCATENATE(G62,\" = \",HLOOKUP(\" \",'Chapter 1'!E99:E104,Tips!G62+2))","v":"3 = Organizace zřídila systém správy dokumentů, který zaručuje, že všechny relevantní dokumenty (např. Vývojové diagramy, schémata P&ID, bezpečnostní studie, studie PHA, studie HAZOP, záznamy o výcviku, záznamy o údržbě a opravách, dokumentace ke všem zařízením, popisy pracovní činnosti a odpovědnosti, havarijní plány, bezpečnostní parametry atd.) jsou aktuální. Neplatná dokumentace je odstraněna, ale uložena a uchovávána v evidenci, tak aby měli všichni zainteresovaní zaměstnanci přístup podle svého postavení."}]
[null,null,null,null,"Try to improve",null,{"$f":"VLOOKUP(CONCATENATE(D61,$M$3),'Technical page'!$BG$10:$BI$73,3,FALSE)","v":"It is advised to make Health, Safety, Environment, Energy & Sustainability documentation is accessible to all employees."}]
[null,{"$f":"'Chapter 1'!B106","v":"Řízení změn"},null,null,null,null,null,null,null,null,null,null,null,{"$f":"IF(L65=8,\"\",\"increase score for:\")","v":""}]
[null,null,{"$f":"IF(VLOOKUP(D65,'Technical page'!$AO$8:$AQ$30,3,0)=\"OK\",\"\",\"major issue\")","v":""},{"$f":"'Chapter 1'!C108","v":"Q1.16"},{"$f":"'Chapter 1'!D108","v":"Jakým způsobem jsou řízeny změny potenciálně ovlivňující HSE&S (zdraví, bezpečnost, životní prostředí, energetiku a udržitelnost)?"},null,null,null,null,null,null,{"$f":"COUNTBLANK(N65:U65)","v":8},null,{"$f":"IF(VLOOKUP(D65,'Specific reports'!$E$6:$H$112,4,FALSE)=\"increase score\",\"ISO 9001\",\"\")","v":""},{"$f":"IF(VLOOKUP(D65,'Specific reports'!$E$116:$H$222,4,FALSE)=\"increase score\",\"ISO 14001\",\"\")","v":""},{"$f":"IF(VLOOKUP(D65,'Specific reports'!$E$226:$H$332,4,FALSE)=\"increase score\",\"ISO 26000\",\"\")","v":""},{"$f":"IF(VLOOKUP(D65,'Specific reports'!$E$336:$H$552,4,FALSE)=\"increase score\",\"ISO 45001\",\"\")","v":""},{"$f":"IF(VLOOKUP(D65,'Specific reports'!$E$556:$H$662,4,FALSE)=\"increase score\",\"EMAS\",\"\")","v":""},{"$f":"IF(VLOOKUP(D65,'Specific reports'!$E$666:$H$772,4,FALSE)=\"increase score\",\"RC14001\",\"\")","v":""},{"$f":"IF(VLOOKUP(D65,'Specific reports'!$E$776:$H$882,4,FALSE)=\"increase score\",\"RCMS\",\"\")","v":""}]
[null,null,null,null,"Your score",null,{"$f":"VLOOKUP(D65,'Technical page'!$B10:$C$25,2,FALSE)","v":3},null,null,null,null,null,null,{"$f":"CONCATENATE(G66,\" = \",HLOOKUP(\" \",'Chapter 1'!E107:E112,Tips!G66+2))","v":"3 = Existuje postup pro řízení změn (všech typů včetně klasifikace látek a přípravků). Tento protokol zajišťuje revizi provozních předpisů, zařízení (včetně osobních ochranných pomůcek), hodnocení rizik HSE&S, povolení a dokumentů (pokud se to vyžaduje), jakož i sdílení informací se stranami zapojenými do procesu. Postup určuje osoby, které jsou odpovědné za proces MoC a které jsou oprávněny podepisovat/schvalovat přezkum změn."}]
[null,null,null,null,"Try to improve",null,{"$f":"VLOOKUP(CONCATENATE(D65,$M$3),'Technical page'!$BG$10:$BI$73,3,FALSE)","v":"Set up a Management of Change Register to keep the overview for all concerned staff. This overview shall be updated and show the actual state of all projects.\nInformation and training of staff (including contractors) is key."}]
[]
[null,null,"CHAPTER 2","Safeguarding People and the Environment"]
[null,{"$f":"'Chapter 2'!B4","v":"Bezpečnost a ochrana zdraví při práci"},null,null,null,null,null,null,null,null,null,null,null,{"$f":"IF(L71=8,\"\",\"increase score for:\")","v":""}]
[null,null,{"$f":"IF(VLOOKUP(D71,'Technical page'!$AO$124:$AQ$168,3,0)=\"OK\",\"\",\"major issue\")","v":""},{"$f":"'Chapter 2'!C6","v":"Q2.1"},{"$f":"'Chapter 2'!D6","v":"Jak se management zavázal k ochraně zdraví a bezpečnosti při práci (dále jen \"BOZP\")?"},null,null,null,null,null,null,{"$f":"COUNTBLANK(N71:U71)","v":8},null,{"$f":"IF(VLOOKUP(D71,'Specific reports'!$E$6:$H$112,4,FALSE)=\"increase score\",\"ISO 9001\",\"\")","v":""},{"$f":"IF(VLOOKUP(D71,'Specific reports'!$E$116:$H$222,4,FALSE)=\"increase score\",\"ISO 14001\",\"\")","v":""},{"$f":"IF(VLOOKUP(D71,'Specific reports'!$E$226:$H$332,4,FALSE)=\"increase score\",\"ISO 26000\",\"\")","v":""},{"$f":"IF(VLOOKUP(D71,'Specific reports'!$E$336:$H$552,4,FALSE)=\"increase score\",\"ISO 45001\",\"\")","v":""},{"$f":"IF(VLOOKUP(D71,'Specific reports'!$E$556:$H$662,4,FALSE)=\"increase score\",\"EMAS\",\"\")","v":""},{"$f":"IF(VLOOKUP(D71,'Specific reports'!$E$666:$H$772,4,FALSE)=\"increase score\",\"RC14001\",\"\")","v":""},{"$f":"IF(VLOOKUP(D71,'Specific reports'!$E$776:$H$882,4,FALSE)=\"increase score\",\"RCMS\",\"\")","v":""}]
[null,null,null,null,"Your score",null,{"$f":"VLOOKUP(D71,'Technical page'!$B$124:$C$168,2,FALSE)","v":3},null,null,null,null,null,null,{"$f":"CONCATENATE(G72,\" = \",HLOOKUP(\" \",'Chapter 2'!D5:E10,Tips!G72+2))","v":"3 = Na všech úrovních organizace byly stanoveny jasné odpovědnosti s cílem zabránit nehodám a uplatňovat zásady společnosti. Zaměstnancům, kteří se podílejí na řízení BOZP, byly přiděleny jasné cíle s cílem podpořit výkonnost, a to na základě úrovně jejich odpovědnosti."}]
[null,null,null,null,"Try to improve",null,{"$f":"VLOOKUP(CONCATENATE(D71,$M$3),'Technical page'!$BG$124:$BI$303,3,FALSE)","v":"Involve the employees in the policy development."}]
[null,null,null,null,null,null,null,null,null,null,null,null,null,{"$f":"IF(L75=8,\"\",\"increase score for:\")","v":""}]
[null,null,{"$f":"IF(VLOOKUP(D75,'Technical page'!$AO$124:$AQ$168,3,0)=\"OK\",\"\",\"major issue\")","v":""},{"$f":"'Chapter 2'!C12","v":"Q2.2"},{"$f":"'Chapter 2'!D12","v":"Jakým způsobem se určují rizika a expozice v souvislosti s BOZP?"},null,null,null,null,null,null,{"$f":"COUNTBLANK(N75:U75)","v":8},null,{"$f":"IF(VLOOKUP(D75,'Specific reports'!$E$6:$H$112,4,FALSE)=\"increase score\",\"ISO 9001\",\"\")","v":""},{"$f":"IF(VLOOKUP(D75,'Specific reports'!$E$116:$H$222,4,FALSE)=\"increase score\",\"ISO 14001\",\"\")","v":""},{"$f":"IF(VLOOKUP(D75,'Specific reports'!$E$226:$H$332,4,FALSE)=\"increase score\",\"ISO 26000\",\"\")","v":""},{"$f":"IF(VLOOKUP(D75,'Specific reports'!$E$336:$H$552,4,FALSE)=\"increase score\",\"ISO 45001\",\"\")","v":""},{"$f":"IF(VLOOKUP(D75,'Specific reports'!$E$556:$H$662,4,FALSE)=\"increase score\",\"EMAS\",\"\")","v":""},{"$f":"IF(VLOOKUP(D75,'Specific reports'!$E$666:$H$772,4,FALSE)=\"increase score\",\"RC14001\",\"\")","v":""},{"$f":"IF(VLOOKUP(D75,'Specific reports'!$E$776:$H$882,4,FALSE)=\"increase score\",\"RCMS\",\"\")","v":""}]
[null,null,null,null,"Your score",null,{"$f":"VLOOKUP(D75,'Technical page'!$B$124:$C$168,2,FALSE)","v":2},null,null,null,null,null,null,{"$f":"CONCATENATE(G76,\" = \",HLOOKUP(\" \",'Chapter 2'!D11:E16,Tips!G76+2))","v":"2 = Pro všechny procesy, zařízení a místa byly identifikovány a popsány potenciální rizika zdraví a bezpečnosti při běžném provozu, tak v případě zhoršení situace v souvislosti se změněnou nebo abnormální provozem. Při vyhodnocování nebezpečí týkajících BOZP pro zaměstnance v důsledku procesů, zařízení, potenciálně nebezpečných chemických, fyzikálních nebo biologických látek nebo jiných podmínek pracovišti se využívají posouzení expozic a bezpečnostní analýzy. Provádějí se příslušná ochranná opatření."}]
[null,null,null,null,"Try to improve",null,{"$f":"VLOOKUP(CONCATENATE(D75,$M$3),'Technical page'!$BG$124:$BI$303,3,FALSE)","v":"Identify employees at risk for exposure to health and safety hazards.\n"}]
[null,null,null,null,null,null,null,null,null,null,null,null,null,{"$f":"IF(L79=8,\"\",\"increase score for:\")","v":""}]
[null,null,{"$f":"IF(VLOOKUP(D79,'Technical page'!$AO$124:$AQ$168,3,0)=\"OK\",\"\",\"major issue\")","v":""},{"$f":"'Chapter 2'!C18","v":"Q2.3"},{"$f":"'Chapter 2'!D18","v":"How are medical requirements evaluated?"},null,null,null,null,null,null,{"$f":"COUNTBLANK(N79:U79)","v":8},null,{"$f":"IF(VLOOKUP(D79,'Specific reports'!$E$6:$H$112,4,FALSE)=\"increase score\",\"ISO 9001\",\"\")","v":""},{"$f":"IF(VLOOKUP(D79,'Specific reports'!$E$116:$H$222,4,FALSE)=\"increase score\",\"ISO 14001\",\"\")","v":""},{"$f":"IF(VLOOKUP(D79,'Specific reports'!$E$226:$H$332,4,FALSE)=\"increase score\",\"ISO 26000\",\"\")","v":""},{"$f":"IF(VLOOKUP(D79,'Specific reports'!$E$336:$H$552,4,FALSE)=\"increase score\",\"ISO 45001\",\"\")","v":""},{"$f":"IF(VLOOKUP(D79,'Specific reports'!$E$556:$H$662,4,FALSE)=\"increase score\",\"EMAS\",\"\")","v":""},{"$f":"IF(VLOOKUP(D79,'Specific reports'!$E$666:$H$772,4,FALSE)=\"increase score\",\"RC14001\",\"\")","v":""},{"$f":"IF(VLOOKUP(D79,'Specific reports'!$E$776:$H$882,4,FALSE)=\"increase score\",\"RCMS\",\"\")","v":""}]
[null,null,null,null,"Your score",null,{"$f":"VLOOKUP(D79,'Technical page'!$B$124:$C$168,2,FALSE)","v":3},null,null,null,null,null,null,{"$f":"CONCATENATE(G80,\" = \",HLOOKUP(\" \",'Chapter 2'!D17:E22,Tips!G80+2))","v":"3 = Byla identifikována speciální lékařská vyšetření na pomoc při posuzování vhodnosti jednotlivců na konkrétní práci (např. zrak řidičů motorových vozidel) a následně byla začleněna do posuzování zdravotního stavu pracovníků. Tyto posudky vycházejí výhradně z lékařských vyšetření týkajících se požadavků na práci a ne z jiných vyšetření, které by mohly být prováděny jako součást pravidelného vyšetřování zdravotního stavu."}]
[null,null,null,null,"Try to improve",null,{"$f":"VLOOKUP(CONCATENATE(D79,$M$3),'Technical page'!$BG$124:$BI$303,3,FALSE)","v":"Health professionals are advised to ensure that only they review the results of medical testing to ensure confidentiality of medical results."}]
[null,null,null,null,null,null,null,null,null,null,null,null,null,{"$f":"IF(L83=8,\"\",\"increase score for:\")","v":""}]
[null,null,{"$f":"IF(VLOOKUP(D83,'Technical page'!$AO$124:$AQ$168,3,0)=\"OK\",\"\",\"major issue\")","v":""},{"$f":"'Chapter 2'!C24","v":"Q2.4"},{"$f":"'Chapter 2'!D24","v":"Jakým způsobem zlepšuje organizace BOZP?"},null,null,null,null,null,null,{"$f":"COUNTBLANK(N83:U83)","v":8},null,{"$f":"IF(VLOOKUP(D83,'Specific reports'!$E$6:$H$112,4,FALSE)=\"increase score\",\"ISO 9001\",\"\")","v":""},{"$f":"IF(VLOOKUP(D83,'Specific reports'!$E$116:$H$222,4,FALSE)=\"increase score\",\"ISO 14001\",\"\")","v":""},{"$f":"IF(VLOOKUP(D83,'Specific reports'!$E$226:$H$332,4,FALSE)=\"increase score\",\"ISO 26000\",\"\")","v":""},{"$f":"IF(VLOOKUP(D83,'Specific reports'!$E$336:$H$552,4,FALSE)=\"increase score\",\"ISO 45001\",\"\")","v":""},{"$f":"IF(VLOOKUP(D83,'Specific reports'!$E$556:$H$662,4,FALSE)=\"increase score\",\"EMAS\",\"\")","v":""},{"$f":"IF(VLOOKUP(D83,'Specific reports'!$E$666:$H$772,4,FALSE)=\"increase score\",\"RC14001\",\"\")","v":""},{"$f":"IF(VLOOKUP(D83,'Specific reports'!$E$776:$H$882,4,FALSE)=\"increase score\",\"RCMS\",\"\")","v":""}]
[null,null,null,null,"Your score",null,{"$f":"VLOOKUP(D83,'Technical page'!$B$124:$C$168,2,FALSE)","v":3},null,null,null,null,null,null,{"$f":"CONCATENATE(G84,\" = \",HLOOKUP(\" \",'Chapter 2'!D23:E28,Tips!G84+2))","v":"3 = Byl zřízen program BOZP a existují postupy posuzující příležitosti na zlepšování výkonnosti BOZP při zohlednění plánovaných změn týkajících se organizace, její zásad, postupů nebo činnosti a:\n1) příležitosti pro přizpůsobení práce, pracovní organizace a pracovního prostředí pracovníky; \n2) příležitosti k odstranění nebezpečí a snížení rizik BOZP;\n3) další příležitosti ke zlepšení systému řízení BOZP."}]
[null,null,null,null,"Try to improve",null,{"$f":"VLOOKUP(CONCATENATE(D83,$M$3),'Technical page'!$BG$124:$BI$303,3,FALSE)","v":"Evaluate the Health & Safety programme regularly on its effectiveness (i.e. externally verified, for example via performance indicators) and take regular actions to keep employees and contractors aware of risks and opportunities and have them participate in the program."}]
[null,null,null,null,null,null,null,null,null,null,null,null,null,{"$f":"IF(L87=8,\"\",\"increase score for:\")","v":""}]
[null,null,{"$f":"IF(VLOOKUP(D87,'Technical page'!$AO$124:$AQ$168,3,0)=\"OK\",\"\",\"major issue\")","v":""},{"$f":"'Chapter 2'!C30","v":"Q2.5"},{"$f":"'Chapter 2'!D30","v":"Jakým způsobem probíhá údržba a udržování pořádku s cílem zajistit bezpečnost provozů, zařízení, nástrojů a (bezpečnostních) pomůcek?"},null,null,null,null,null,null,{"$f":"COUNTBLANK(N87:U87)","v":8},null,{"$f":"IF(VLOOKUP(D87,'Specific reports'!$E$6:$H$112,4,FALSE)=\"increase score\",\"ISO 9001\",\"\")","v":""},{"$f":"IF(VLOOKUP(D87,'Specific reports'!$E$116:$H$222,4,FALSE)=\"increase score\",\"ISO 14001\",\"\")","v":""},{"$f":"IF(VLOOKUP(D87,'Specific reports'!$E$226:$H$332,4,FALSE)=\"increase score\",\"ISO 26000\",\"\")","v":""},{"$f":"IF(VLOOKUP(D87,'Specific reports'!$E$336:$H$552,4,FALSE)=\"increase score\",\"ISO 45001\",\"\")","v":""},{"$f":"IF(VLOOKUP(D87,'Specific reports'!$E$556:$H$662,4,FALSE)=\"increase score\",\"EMAS\",\"\")","v":""},{"$f":"IF(VLOOKUP(D87,'Specific reports'!$E$666:$H$772,4,FALSE)=\"increase score\",\"RC14001\",\"\")","v":""},{"$f":"IF(VLOOKUP(D87,'Specific reports'!$E$776:$H$882,4,FALSE)=\"increase score\",\"RCMS\",\"\")","v":""}]
[null,null,null,null,"Your score",null,{"$f":"VLOOKUP(D87,'Technical page'!$B$124:$C$168,2,FALSE)","v":3},null,null,null,null,null,null,{"$f":"CONCATENATE(G88,\" = \",HLOOKUP(\" \",'Chapter 2'!D29:E34,Tips!G88+2))","v":"3 = Účinnost programu údržby se pravidelně vyhodnocuje, měří se úspěch a provedou se příslušné zlepšení."}]
[null,null,null,null,"Try to improve",null,{"$f":"VLOOKUP(CONCATENATE(D87,$M$3),'Technical page'!$BG$124:$BI$303,3,FALSE)","v":"Establish a sophisticated risk- or knowledge-based maintenance and inspection program."}]
[null,null,null,null,null,null,null,null,null,null,null,null,null,{"$f":"IF(L91=8,\"\",\"increase score for:\")","v":""}]
[null,null,{"$f":"IF(VLOOKUP(D91,'Technical page'!$AO$124:$AQ$168,3,0)=\"OK\",\"\",\"major issue\")","v":""},{"$f":"'Chapter 2'!C36","v":"Q2.6"},{"$f":"'Chapter 2'!D36","v":"Jak se ověřuje správný výběr, údržba a používání zdravotního a bezpečnostního vybavení (např. osobních ochranných prostředků = OOPP)?"},null,null,null,null,null,null,{"$f":"COUNTBLANK(N91:U91)","v":8},null,{"$f":"IF(VLOOKUP(D91,'Specific reports'!$E$6:$H$112,4,FALSE)=\"increase score\",\"ISO 9001\",\"\")","v":""},{"$f":"IF(VLOOKUP(D91,'Specific reports'!$E$116:$H$222,4,FALSE)=\"increase score\",\"ISO 14001\",\"\")","v":""},{"$f":"IF(VLOOKUP(D91,'Specific reports'!$E$226:$H$332,4,FALSE)=\"increase score\",\"ISO 26000\",\"\")","v":""},{"$f":"IF(VLOOKUP(D91,'Specific reports'!$E$336:$H$552,4,FALSE)=\"increase score\",\"ISO 45001\",\"\")","v":""},{"$f":"IF(VLOOKUP(D91,'Specific reports'!$E$556:$H$662,4,FALSE)=\"increase score\",\"EMAS\",\"\")","v":""},{"$f":"IF(VLOOKUP(D91,'Specific reports'!$E$666:$H$772,4,FALSE)=\"increase score\",\"RC14001\",\"\")","v":""},{"$f":"IF(VLOOKUP(D91,'Specific reports'!$E$776:$H$882,4,FALSE)=\"increase score\",\"RCMS\",\"\")","v":""}]
[null,null,null,null,"Your score",null,{"$f":"VLOOKUP(D91,'Technical page'!$B$124:$C$168,2,FALSE)","v":3},null,null,null,null,null,null,{"$f":"CONCATENATE(G92,\" = \",HLOOKUP(\" \",'Chapter 2'!D35:E40,Tips!G92+2))","v":"3 = Zaměstnanci jsou vyškoleni, aby věděli a pochopili, kdy a jaké OOPP se vyžadují a aby prováděly hodnocení OOPP. Zaměstnanci jsou si vědomi důsledků nepoužívání OOPP. Užívání správných OOPP zahrnuje všechny úrovně organizace."}]
[null,null,null,null,"Try to improve",null,{"$f":"VLOOKUP(CONCATENATE(D91,$M$3),'Technical page'!$BG$124:$BI$303,3,FALSE)","v":"Make employees aware that they can use the 'stop work authority' if Personal Protective Equipment (PPE) is deemed ineffective to control a hazard. "}]
[null,null,null,null,null,null,null,null,null,null,null,null,null,{"$f":"IF(L95=8,\"\",\"increase score for:\")","v":"increase score for:"}]
[null,null,{"$f":"IF(VLOOKUP(D95,'Technical page'!$AO$124:$AQ$168,3,0)=\"OK\",\"\",\"major issue\")","v":""},{"$f":"'Chapter 2'!C42","v":"Q2.7"},{"$f":"'Chapter 2'!D42","v":"Jak se organizace stará o stres a tělesné a duševní zdraví zaměstnanců?"},null,null,null,null,null,null,{"$f":"COUNTBLANK(N95:U95)","v":5},null,{"$f":"IF(VLOOKUP(D95,'Specific reports'!$E$6:$H$112,4,FALSE)=\"increase score\",\"ISO 9001\",\"\")","v":""},{"$f":"IF(VLOOKUP(D95,'Specific reports'!$E$116:$H$222,4,FALSE)=\"increase score\",\"ISO 14001\",\"\")","v":""},{"$f":"IF(VLOOKUP(D95,'Specific reports'!$E$226:$H$332,4,FALSE)=\"increase score\",\"ISO 26000\",\"\")","v":"ISO 26000"},{"$f":"IF(VLOOKUP(D95,'Specific reports'!$E$336:$H$552,4,FALSE)=\"increase score\",\"ISO 45001\",\"\")","v":"ISO 45001"},{"$f":"IF(VLOOKUP(D95,'Specific reports'!$E$556:$H$662,4,FALSE)=\"increase score\",\"EMAS\",\"\")","v":""},{"$f":"IF(VLOOKUP(D95,'Specific reports'!$E$666:$H$772,4,FALSE)=\"increase score\",\"RC14001\",\"\")","v":"RC14001"},{"$f":"IF(VLOOKUP(D95,'Specific reports'!$E$776:$H$882,4,FALSE)=\"increase score\",\"RCMS\",\"\")","v":""}]
[null,null,null,null,"Your score",null,{"$f":"VLOOKUP(D95,'Technical page'!$B$124:$C$168,2,FALSE)","v":2},null,null,null,null,null,null,{"$f":"CONCATENATE(G96,\" = \",HLOOKUP(\" \",'Chapter 2'!D41:E46,Tips!G96+2))","v":"2 = Organizace podporuje vhodnou rovnováhu mezi pracovním a soukromým životem.\nPracovníci mohou podávat návrhy a organizace jejich návrhy řeší.\nJe využíván systém posuzování ergonomických aspektů pracovišť."}]
[null,null,null,null,"Try to improve",null,{"$f":"VLOOKUP(CONCATENATE(D95,$M$3),'Technical page'!$BG$124:$BI$303,3,FALSE)","v":"Put a procedure in place to register the suggestions of the workers and track the modifications applied to address them.\nTrain staff to the appropriate ergonomic use of the equipment.\nMeasure the perception of staff concerning their work-life balance through an anonymous survey."}]
[null,null,null,null,null,null,null,null,null,null,null,null,null,{"$f":"IF(L99=8,\"\",\"increase score for:\")","v":"increase score for:"}]
[null,null,{"$f":"IF(VLOOKUP(D99,'Technical page'!$AO$124:$AQ$168,3,0)=\"OK\",\"\",\"major issue\")","v":""},{"$f":"'Chapter 2'!C48","v":"Q2.8"},{"$f":"'Chapter 2'!D48","v":"Jakým způsobem se vyšetřují onemocnění, zranění, incidenty a potenciálně nebezpečné situace na pracovišti?"},null,null,null,null,null,null,{"$f":"COUNTBLANK(N99:U99)","v":7},null,{"$f":"IF(VLOOKUP(D99,'Specific reports'!$E$6:$H$112,4,FALSE)=\"increase score\",\"ISO 9001\",\"\")","v":""},{"$f":"IF(VLOOKUP(D99,'Specific reports'!$E$116:$H$222,4,FALSE)=\"increase score\",\"ISO 14001\",\"\")","v":""},{"$f":"IF(VLOOKUP(D99,'Specific reports'!$E$226:$H$332,4,FALSE)=\"increase score\",\"ISO 26000\",\"\")","v":""},{"$f":"IF(VLOOKUP(D99,'Specific reports'!$E$336:$H$552,4,FALSE)=\"increase score\",\"ISO 45001\",\"\")","v":""},{"$f":"IF(VLOOKUP(D99,'Specific reports'!$E$556:$H$662,4,FALSE)=\"increase score\",\"EMAS\",\"\")","v":""},{"$f":"IF(VLOOKUP(D99,'Specific reports'!$E$666:$H$772,4,FALSE)=\"increase score\",\"RC14001\",\"\")","v":"RC14001"},{"$f":"IF(VLOOKUP(D99,'Specific reports'!$E$776:$H$882,4,FALSE)=\"increase score\",\"RCMS\",\"\")","v":""}]
[null,null,null,null,"Your score",null,{"$f":"VLOOKUP(D99,'Technical page'!$B$124:$C$168,2,FALSE)","v":3},null,null,null,null,null,null,{"$f":"CONCATENATE(G100,\" = \",HLOOKUP(\" \",'Chapter 2'!D47:E52,Tips!G100+2))","v":"3 = Organizace podniká vhodná nápravná opatření s cílem zabránit jejich opakování."}]
[null,null,null,null,"Try to improve",null,{"$f":"VLOOKUP(CONCATENATE(D99,$M$3),'Technical page'!$BG$124:$BI$303,3,FALSE)","v":"Share key findings and associated corrective actions with relevant interested parties."}]
[null,null,null,null,null,null,null,null,null,null,null,null,null,{"$f":"IF(L103=8,\"\",\"increase score for:\")","v":""}]
[null,null,{"$f":"IF(VLOOKUP(D103,'Technical page'!$AO$124:$AQ$168,3,0)=\"OK\",\"\",\"major issue\")","v":""},{"$f":"'Chapter 2'!C54","v":"Q2.9"},{"$f":"'Chapter 2'!D54","v":"Jak je organizace připravena na mimořádné události?"},null,null,null,null,null,null,{"$f":"COUNTBLANK(N103:U103)","v":8},null,{"$f":"IF(VLOOKUP(D103,'Specific reports'!$E$6:$H$112,4,FALSE)=\"increase score\",\"ISO 9001\",\"\")","v":""},{"$f":"IF(VLOOKUP(D103,'Specific reports'!$E$116:$H$222,4,FALSE)=\"increase score\",\"ISO 14001\",\"\")","v":""},{"$f":"IF(VLOOKUP(D103,'Specific reports'!$E$226:$H$332,4,FALSE)=\"increase score\",\"ISO 26000\",\"\")","v":""},{"$f":"IF(VLOOKUP(D103,'Specific reports'!$E$336:$H$552,4,FALSE)=\"increase score\",\"ISO 45001\",\"\")","v":""},{"$f":"IF(VLOOKUP(D103,'Specific reports'!$E$556:$H$662,4,FALSE)=\"increase score\",\"EMAS\",\"\")","v":""},{"$f":"IF(VLOOKUP(D103,'Specific reports'!$E$666:$H$772,4,FALSE)=\"increase score\",\"RC14001\",\"\")","v":""},{"$f":"IF(VLOOKUP(D103,'Specific reports'!$E$776:$H$882,4,FALSE)=\"increase score\",\"RCMS\",\"\")","v":""}]
[null,null,null,null,"Your score",null,{"$f":"VLOOKUP(D103,'Technical page'!$B$124:$C$168,2,FALSE)","v":3},null,null,null,null,null,null,{"$f":"CONCATENATE(G104,\" = \",HLOOKUP(\" \",'Chapter 2'!D53:E58,Tips!G104+2))","v":"3 = Havarijní plán se posuzuje na základě poznatků získaných z havarijních cvičení a jiných událostí."}]
[null,null,null,null,"Try to improve",null,{"$f":"VLOOKUP(CONCATENATE(D103,$M$3),'Technical page'!$BG$124:$BI$303,3,FALSE)","v":"Ensure close cooperation with external responders by having them join some emergency exercises, know the site and have the site emergency plan accessible."}]
[null,null,null,null,null,null,null,null,null,null,null,null,null,{"$f":"IF(L107=8,\"\",\"increase score for:\")","v":""}]
[null,null,{"$f":"IF(VLOOKUP(D107,'Technical page'!$AO$124:$AQ$168,3,0)=\"OK\",\"\",\"major issue\")","v":""},{"$f":"'Chapter 2'!C60","v":"Q2.10"},{"$f":"'Chapter 2'!D60","v":"Jakým způsobem zajišťuje organizace správně kompetence všech pracovníků, týkající se požadavků BOZP, které souvisí s jejich pracovní náplní?"},null,null,null,null,null,null,{"$f":"COUNTBLANK(N107:U107)","v":8},null,{"$f":"IF(VLOOKUP(D107,'Specific reports'!$E$6:$H$112,4,FALSE)=\"increase score\",\"ISO 9001\",\"\")","v":""},{"$f":"IF(VLOOKUP(D107,'Specific reports'!$E$116:$H$222,4,FALSE)=\"increase score\",\"ISO 14001\",\"\")","v":""},{"$f":"IF(VLOOKUP(D107,'Specific reports'!$E$226:$H$332,4,FALSE)=\"increase score\",\"ISO 26000\",\"\")","v":""},{"$f":"IF(VLOOKUP(D107,'Specific reports'!$E$336:$H$552,4,FALSE)=\"increase score\",\"ISO 45001\",\"\")","v":""},{"$f":"IF(VLOOKUP(D107,'Specific reports'!$E$556:$H$662,4,FALSE)=\"increase score\",\"EMAS\",\"\")","v":""},{"$f":"IF(VLOOKUP(D107,'Specific reports'!$E$666:$H$772,4,FALSE)=\"increase score\",\"RC14001\",\"\")","v":""},{"$f":"IF(VLOOKUP(D107,'Specific reports'!$E$776:$H$882,4,FALSE)=\"increase score\",\"RCMS\",\"\")","v":""}]
[null,null,null,null,"Your score",null,{"$f":"VLOOKUP(D107,'Technical page'!$B$124:$C$168,2,FALSE)","v":3},null,null,null,null,null,null,{"$f":"CONCATENATE(G108,\" = \",HLOOKUP(\" \",'Chapter 2'!D59:E64,Tips!G108+2))","v":"3 = Zaměstnanci organizace se podílejí na hodnocení pracovních rizik. Zásady bezpečnosti a ochrany zdraví v organizaci se pravidelně posuzují a přizpůsobují výsledkem diskusí v rámci pracovních skupin. Prověřuje se úroveň kompetence dodavatelů v oblasti BOZP a organizují se školení."}]
[null,null,null,null,"Try to improve",null,{"$f":"VLOOKUP(CONCATENATE(D107,$M$3),'Technical page'!$BG$124:$BI$303,3,FALSE)","v":"Evaluate the effectiveness of the communications and trainings for all workers."}]
[null,{"$f":"'Chapter 2'!B66","v":"Procesní bezpečnost"},null,null,null,null,null,null,null,null,null,null,null,{"$f":"IF(L111=8,\"\",\"increase score for:\")","v":""}]
[null,null,{"$f":"IF(VLOOKUP(D111,'Technical page'!$AO$124:$AQ$168,3,0)=\"OK\",\"\",\"major issue\")","v":""},{"$f":"'Chapter 2'!C68","v":"Q2.11"},{"$f":"'Chapter 2'!D68","v":"Jakým způsobem se vedení staví k procesní bezpečnosti?\n\n"},null,null,null,null,null,null,{"$f":"COUNTBLANK(N111:U111)","v":8},null,{"$f":"IF(VLOOKUP(D111,'Specific reports'!$E$6:$H$112,4,FALSE)=\"increase score\",\"ISO 9001\",\"\")","v":""},{"$f":"IF(VLOOKUP(D111,'Specific reports'!$E$116:$H$222,4,FALSE)=\"increase score\",\"ISO 14001\",\"\")","v":""},{"$f":"IF(VLOOKUP(D111,'Specific reports'!$E$226:$H$332,4,FALSE)=\"increase score\",\"ISO 26000\",\"\")","v":""},{"$f":"IF(VLOOKUP(D111,'Specific reports'!$E$336:$H$552,4,FALSE)=\"increase score\",\"ISO 45001\",\"\")","v":""},{"$f":"IF(VLOOKUP(D111,'Specific reports'!$E$556:$H$662,4,FALSE)=\"increase score\",\"EMAS\",\"\")","v":""},{"$f":"IF(VLOOKUP(D111,'Specific reports'!$E$666:$H$772,4,FALSE)=\"increase score\",\"RC14001\",\"\")","v":""},{"$f":"IF(VLOOKUP(D111,'Specific reports'!$E$776:$H$882,4,FALSE)=\"increase score\",\"RCMS\",\"\")","v":""}]
[null,null,null,null,"Your score",null,{"$f":"VLOOKUP(D111,'Technical page'!$B$124:$C$168,2,FALSE)","v":3},null,null,null,null,null,null,{"$f":"CONCATENATE(G112,\" = \",HLOOKUP(\" \",'Chapter 2'!D67:E72,Tips!G112+2))","v":"3 = Pro všechny úrovně v organizaci byly stanoveny jasné odpovědnosti s cílem zabránit nehodám a uplatňovat zásady společnosti. Zaměstnancům, kteří se podílejí na procesní bezpečnosti, byly přiděleny jasné cíle s cílem přispívat k výkonu, a to na základě úrovně jejich odpovědnosti."}]
[null,null,null,null,"Try to improve",null,{"$f":"VLOOKUP(CONCATENATE(D111,$M$3),'Technical page'!$BG$124:$BI$303,3,FALSE)","v":"Involve the employees in the policy development."}]
[null,null,null,null,null,null,null,null,null,null,null,null,null,{"$f":"IF(L115=8,\"\",\"increase score for:\")","v":""}]
[null,null,{"$f":"IF(VLOOKUP(D115,'Technical page'!$AO$124:$AQ$168,3,0)=\"OK\",\"\",\"major issue\")","v":""},{"$f":"'Chapter 2'!C74","v":"Q2.12"},{"$f":"'Chapter 2'!D74","v":"Jakým způsobem je vypracována identifikace a popis bezpečnosti procesů, zařízení a pracovišť organizace?"},null,null,null,null,null,null,{"$f":"COUNTBLANK(N115:U115)","v":8},null,{"$f":"IF(VLOOKUP(D115,'Specific reports'!$E$6:$H$112,4,FALSE)=\"increase score\",\"ISO 9001\",\"\")","v":""},{"$f":"IF(VLOOKUP(D115,'Specific reports'!$E$116:$H$222,4,FALSE)=\"increase score\",\"ISO 14001\",\"\")","v":""},{"$f":"IF(VLOOKUP(D115,'Specific reports'!$E$226:$H$332,4,FALSE)=\"increase score\",\"ISO 26000\",\"\")","v":""},{"$f":"IF(VLOOKUP(D115,'Specific reports'!$E$336:$H$552,4,FALSE)=\"increase score\",\"ISO 45001\",\"\")","v":""},{"$f":"IF(VLOOKUP(D115,'Specific reports'!$E$556:$H$662,4,FALSE)=\"increase score\",\"EMAS\",\"\")","v":""},{"$f":"IF(VLOOKUP(D115,'Specific reports'!$E$666:$H$772,4,FALSE)=\"increase score\",\"RC14001\",\"\")","v":""},{"$f":"IF(VLOOKUP(D115,'Specific reports'!$E$776:$H$882,4,FALSE)=\"increase score\",\"RCMS\",\"\")","v":""}]
[null,null,null,null,"Your score",null,{"$f":"VLOOKUP(D115,'Technical page'!$B$124:$C$168,2,FALSE)","v":2},null,null,null,null,null,null,{"$f":"CONCATENATE(G116,\" = \",HLOOKUP(\" \",'Chapter 2'!D73:E78,Tips!G116+2))","v":"2 = Pro všechny procesy, zařízení a pracoviště byly identifikovány a popsány potenciální rizika na zdraví a bezpečnosti při běžném provozu, tak v případě zhoršení situace v souvislosti se změněnou nebo abnormální provozem."}]
[null,null,null,null,"Try to improve",null,{"$f":"VLOOKUP(CONCATENATE(D115,$M$3),'Technical page'!$BG$124:$BI$303,3,FALSE)","v":"In addition: \n- Provide this information about the potential risks in the different situations to local residents;\n- Ensure that security is controlled by the dissemination of this information."}]
[null,null,null,null,null,null,null,null,null,null,null,null,null,{"$f":"IF(L119=8,\"\",\"increase score for:\")","v":""}]
[null,null,{"$f":"IF(VLOOKUP(D119,'Technical page'!$AO$124:$AQ$168,3,0)=\"OK\",\"\",\"major issue\")","v":""},{"$f":"'Chapter 2'!C80","v":"Q2.13"},{"$f":"'Chapter 2'!D80","v":"Jakým způsobem se zlepšuje procesní bezpečnost po nehodách a incidentech?"},null,null,null,null,null,null,{"$f":"COUNTBLANK(N119:U119)","v":8},null,{"$f":"IF(VLOOKUP(D119,'Specific reports'!$E$6:$H$112,4,FALSE)=\"increase score\",\"ISO 9001\",\"\")","v":""},{"$f":"IF(VLOOKUP(D119,'Specific reports'!$E$116:$H$222,4,FALSE)=\"increase score\",\"ISO 14001\",\"\")","v":""},{"$f":"IF(VLOOKUP(D119,'Specific reports'!$E$226:$H$332,4,FALSE)=\"increase score\",\"ISO 26000\",\"\")","v":""},{"$f":"IF(VLOOKUP(D119,'Specific reports'!$E$336:$H$552,4,FALSE)=\"increase score\",\"ISO 45001\",\"\")","v":""},{"$f":"IF(VLOOKUP(D119,'Specific reports'!$E$556:$H$662,4,FALSE)=\"increase score\",\"EMAS\",\"\")","v":""},{"$f":"IF(VLOOKUP(D119,'Specific reports'!$E$666:$H$772,4,FALSE)=\"increase score\",\"RC14001\",\"\")","v":""},{"$f":"IF(VLOOKUP(D119,'Specific reports'!$E$776:$H$882,4,FALSE)=\"increase score\",\"RCMS\",\"\")","v":""}]
[null,null,null,null,"Your score",null,{"$f":"VLOOKUP(D119,'Technical page'!$B$124:$C$168,2,FALSE)","v":1},null,null,null,null,null,null,{"$f":"CONCATENATE(G120,\" = \",HLOOKUP(\" \",'Chapter 2'!D79:E84,Tips!G120+2))","v":"1 = Existuje postup, který stanoví oznamování a vyšetřování nehod a incidentů s cílem umožnit jejich systematickou analýzu."}]
[null,null,null,null,"Try to improve",null,{"$f":"VLOOKUP(CONCATENATE(D119,$M$3),'Technical page'!$BG$124:$BI$303,3,FALSE)","v":"Establish classification criteria for the accidents (based on nature/consequence and potential risks).\nIdentify the incidents linked with process safety (at least under definitions of the ICCA Indicator of Performance of Process Safety (LoC)) (https://cefic.org/app/uploads/2019/02/Cefic-ICCA-Guidance-on-Process-Safety-Performance-Indicators.pdf)."}]
[null,null,null,null,null,null,null,null,null,null,null,null,null,{"$f":"IF(L123=8,\"\",\"increase score for:\")","v":""}]
[null,null,{"$f":"IF(VLOOKUP(D123,'Technical page'!$AO$124:$AQ$168,3,0)=\"OK\",\"\",\"major issue\")","v":""},{"$f":"'Chapter 2'!C86","v":"Q2.14"},{"$f":"'Chapter 2'!D86","v":"Jakým způsobem se provádějí audity a inspekce procesní bezpečnosti?"},null,null,null,null,null,null,{"$f":"COUNTBLANK(N123:U123)","v":8},null,{"$f":"IF(VLOOKUP(D123,'Specific reports'!$E$6:$H$112,4,FALSE)=\"increase score\",\"ISO 9001\",\"\")","v":""},{"$f":"IF(VLOOKUP(D123,'Specific reports'!$E$116:$H$222,4,FALSE)=\"increase score\",\"ISO 14001\",\"\")","v":""},{"$f":"IF(VLOOKUP(D123,'Specific reports'!$E$226:$H$332,4,FALSE)=\"increase score\",\"ISO 26000\",\"\")","v":""},{"$f":"IF(VLOOKUP(D123,'Specific reports'!$E$336:$H$552,4,FALSE)=\"increase score\",\"ISO 45001\",\"\")","v":""},{"$f":"IF(VLOOKUP(D123,'Specific reports'!$E$556:$H$662,4,FALSE)=\"increase score\",\"EMAS\",\"\")","v":""},{"$f":"IF(VLOOKUP(D123,'Specific reports'!$E$666:$H$772,4,FALSE)=\"increase score\",\"RC14001\",\"\")","v":""},{"$f":"IF(VLOOKUP(D123,'Specific reports'!$E$776:$H$882,4,FALSE)=\"increase score\",\"RCMS\",\"\")","v":""}]
[null,null,null,null,"Your score",null,{"$f":"VLOOKUP(D123,'Technical page'!$B$124:$C$168,2,FALSE)","v":2},null,null,null,null,null,null,{"$f":"CONCATENATE(G124,\" = \",HLOOKUP(\" \",'Chapter 2'!D85:E90,Tips!G124+2))","v":"2 = Stanoví se kritéria, systém a periodicita kontroly s cílem posoudit procesní bezpečnost a realizaci cílů.\n\nPřezkoumání vedením zahrnuje revizi výsledků auditů a hodnocení cílů pro jednotlivá oddělení nebo úseky společnosti. Za účelem ověření fungování systému se identifikují indikátory."}]
[null,null,null,null,"Try to improve",null,{"$f":"VLOOKUP(CONCATENATE(D123,$M$3),'Technical page'!$BG$124:$BI$303,3,FALSE)","v":"Prioritise to audits and inspections results.\nUse the audits results to define future objectives."}]
[null,null,null,null,null,null,null,null,null,null,null,null,null,{"$f":"IF(L127=8,\"\",\"increase score for:\")","v":""}]
[null,null,{"$f":"IF(VLOOKUP(D127,'Technical page'!$AO$124:$AQ$168,3,0)=\"OK\",\"\",\"major issue\")","v":""},{"$f":"'Chapter 2'!C92","v":"Q2.15"},{"$f":"'Chapter 2'!D92","v":"Jakým způsobem se prověřují a zlepšují pracovní pokyny?"},null,null,null,null,null,null,{"$f":"COUNTBLANK(N127:U127)","v":8},null,{"$f":"IF(VLOOKUP(D127,'Specific reports'!$E$6:$H$112,4,FALSE)=\"increase score\",\"ISO 9001\",\"\")","v":""},{"$f":"IF(VLOOKUP(D127,'Specific reports'!$E$116:$H$222,4,FALSE)=\"increase score\",\"ISO 14001\",\"\")","v":""},{"$f":"IF(VLOOKUP(D127,'Specific reports'!$E$226:$H$332,4,FALSE)=\"increase score\",\"ISO 26000\",\"\")","v":""},{"$f":"IF(VLOOKUP(D127,'Specific reports'!$E$336:$H$552,4,FALSE)=\"increase score\",\"ISO 45001\",\"\")","v":""},{"$f":"IF(VLOOKUP(D127,'Specific reports'!$E$556:$H$662,4,FALSE)=\"increase score\",\"EMAS\",\"\")","v":""},{"$f":"IF(VLOOKUP(D127,'Specific reports'!$E$666:$H$772,4,FALSE)=\"increase score\",\"RC14001\",\"\")","v":""},{"$f":"IF(VLOOKUP(D127,'Specific reports'!$E$776:$H$882,4,FALSE)=\"increase score\",\"RCMS\",\"\")","v":""}]
[null,null,null,null,"Your score",null,{"$f":"VLOOKUP(D127,'Technical page'!$B$124:$C$168,2,FALSE)","v":3},null,null,null,null,null,null,{"$f":"CONCATENATE(G128,\" = \",HLOOKUP(\" \",'Chapter 2'!D91:E96,Tips!G128+2))","v":"3 = Zaměstnanci mohou v rámci stanoveného systému navrhovat zlepšení a poskytovat svou zpětnou vazbu týkající se problémů nebo incidentů, s nimiž se setkali při provádění pracovních úkolů."}]
[null,null,null,null,"Try to improve",null,{"$f":"VLOOKUP(CONCATENATE(D127,$M$3),'Technical page'!$BG$124:$BI$303,3,FALSE)","v":"Evaluate and define the minimum staff.\nProcesses are in place for safe operation (or shutdown) in case minimum staffing cannot be ensured (e.g. illnesses, strikes …)."}]
[null,null,null,null,null,null,null,null,null,null,null,null,null,{"$f":"IF(L131=8,\"\",\"increase score for:\")","v":""}]
[null,null,{"$f":"IF(VLOOKUP(D131,'Technical page'!$AO$124:$AQ$168,3,0)=\"OK\",\"\",\"major issue\")","v":""},{"$f":"'Chapter 2'!C98","v":"Q2.16"},{"$f":"'Chapter 2'!D98","v":"Jak je navrhována a dokumnetována instalace nových zařízení?"},null,null,null,null,null,null,{"$f":"COUNTBLANK(N131:U131)","v":8},null,{"$f":"IF(VLOOKUP(D131,'Specific reports'!$E$6:$H$112,4,FALSE)=\"increase score\",\"ISO 9001\",\"\")","v":""},{"$f":"IF(VLOOKUP(D131,'Specific reports'!$E$116:$H$222,4,FALSE)=\"increase score\",\"ISO 14001\",\"\")","v":""},{"$f":"IF(VLOOKUP(D131,'Specific reports'!$E$226:$H$332,4,FALSE)=\"increase score\",\"ISO 26000\",\"\")","v":""},{"$f":"IF(VLOOKUP(D131,'Specific reports'!$E$336:$H$552,4,FALSE)=\"increase score\",\"ISO 45001\",\"\")","v":""},{"$f":"IF(VLOOKUP(D131,'Specific reports'!$E$556:$H$662,4,FALSE)=\"increase score\",\"EMAS\",\"\")","v":""},{"$f":"IF(VLOOKUP(D131,'Specific reports'!$E$666:$H$772,4,FALSE)=\"increase score\",\"RC14001\",\"\")","v":""},{"$f":"IF(VLOOKUP(D131,'Specific reports'!$E$776:$H$882,4,FALSE)=\"increase score\",\"RCMS\",\"\")","v":""}]
[null,null,null,null,"Your score",null,{"$f":"VLOOKUP(D131,'Technical page'!$B$124:$C$168,2,FALSE)","v":3},null,null,null,null,null,null,{"$f":"CONCATENATE(G132,\" = \",HLOOKUP(\" \",'Chapter 2'!D97:E102,Tips!G132+2))","v":"3 = Uplatňují se nejlepší dostupné techniky (BAT)."}]
[null,null,null,null,"Try to improve",null,{"$f":"VLOOKUP(CONCATENATE(D131,$M$3),'Technical page'!$BG$124:$BI$303,3,FALSE)","v":"Design such that even a failure would lead to a safe situation."}]
[null,null,null,null,null,null,null,null,null,null,null,null,null,{"$f":"IF(L135=8,\"\",\"increase score for:\")","v":""}]
[null,null,{"$f":"IF(VLOOKUP(D135,'Technical page'!$AO$124:$AQ$168,3,0)=\"OK\",\"\",\"major issue\")","v":""},{"$f":"'Chapter 2'!C104","v":"Q2.17"},{"$f":"'Chapter 2'!D104","v":"Jakým způsobem probíhá kontrola zřizování instalace?"},null,null,null,null,null,null,{"$f":"COUNTBLANK(N135:U135)","v":8},null,{"$f":"IF(VLOOKUP(D135,'Specific reports'!$E$6:$H$112,4,FALSE)=\"increase score\",\"ISO 9001\",\"\")","v":""},{"$f":"IF(VLOOKUP(D135,'Specific reports'!$E$116:$H$222,4,FALSE)=\"increase score\",\"ISO 14001\",\"\")","v":""},{"$f":"IF(VLOOKUP(D135,'Specific reports'!$E$226:$H$332,4,FALSE)=\"increase score\",\"ISO 26000\",\"\")","v":""},{"$f":"IF(VLOOKUP(D135,'Specific reports'!$E$336:$H$552,4,FALSE)=\"increase score\",\"ISO 45001\",\"\")","v":""},{"$f":"IF(VLOOKUP(D135,'Specific reports'!$E$556:$H$662,4,FALSE)=\"increase score\",\"EMAS\",\"\")","v":""},{"$f":"IF(VLOOKUP(D135,'Specific reports'!$E$666:$H$772,4,FALSE)=\"increase score\",\"RC14001\",\"\")","v":""},{"$f":"IF(VLOOKUP(D135,'Specific reports'!$E$776:$H$882,4,FALSE)=\"increase score\",\"RCMS\",\"\")","v":""}]
[null,null,null,null,"Your score",null,{"$f":"VLOOKUP(D135,'Technical page'!$B$124:$C$168,2,FALSE)","v":4},null,null,null,null,null,null,{"$f":"CONCATENATE(G136,\" = \",HLOOKUP(\" \",'Chapter 2'!D103:E108,Tips!G136+2))","v":"4 = K projektu, zřizování, údržbě a aktualizacím se uchovává dokumentace."}]
[null,null,null,null,"Try to improve",null,{"$f":"VLOOKUP(CONCATENATE(D135,$M$3),'Technical page'!$BG$124:$BI$303,3,FALSE)","v":"No need to immediately change strategy, however always seek improvement."}]
[null,null,null,null,null,null,null,null,null,null,null,null,null,{"$f":"IF(L139=8,\"\",\"increase score for:\")","v":""}]
[null,null,{"$f":"IF(VLOOKUP(D139,'Technical page'!$AO$124:$AQ$168,3,0)=\"OK\",\"\",\"major issue\")","v":""},{"$f":"'Chapter 2'!C110","v":"Q2.18"},{"$f":"'Chapter 2'!D110","v":"Jakým způsobem je zaručena ochrana zařízení, aby jediná chyba neměla katastrofické následky?"},null,null,null,null,null,null,{"$f":"COUNTBLANK(N139:U139)","v":8},null,{"$f":"IF(VLOOKUP(D139,'Specific reports'!$E$6:$H$112,4,FALSE)=\"increase score\",\"ISO 9001\",\"\")","v":""},{"$f":"IF(VLOOKUP(D139,'Specific reports'!$E$116:$H$222,4,FALSE)=\"increase score\",\"ISO 14001\",\"\")","v":""},{"$f":"IF(VLOOKUP(D139,'Specific reports'!$E$226:$H$332,4,FALSE)=\"increase score\",\"ISO 26000\",\"\")","v":""},{"$f":"IF(VLOOKUP(D139,'Specific reports'!$E$336:$H$552,4,FALSE)=\"increase score\",\"ISO 45001\",\"\")","v":""},{"$f":"IF(VLOOKUP(D139,'Specific reports'!$E$556:$H$662,4,FALSE)=\"increase score\",\"EMAS\",\"\")","v":""},{"$f":"IF(VLOOKUP(D139,'Specific reports'!$E$666:$H$772,4,FALSE)=\"increase score\",\"RC14001\",\"\")","v":""},{"$f":"IF(VLOOKUP(D139,'Specific reports'!$E$776:$H$882,4,FALSE)=\"increase score\",\"RCMS\",\"\")","v":""}]
[null,null,null,null,"Your score",null,{"$f":"VLOOKUP(D139,'Technical page'!$B$124:$C$168,2,FALSE)","v":3},null,null,null,null,null,null,{"$f":"CONCATENATE(G140,\" = \",HLOOKUP(\" \",'Chapter 2'!D109:E114,Tips!G140+2))","v":"3 = Na trvalých pracovištích operátorů se nacházejí alarmy, které upozorňují na odchylky procesů. Tlačítka pro nouzové zastavení se nacházejí na místech, kde je lze bezpečně spustit."}]
[null,null,null,null,"Try to improve",null,{"$f":"VLOOKUP(CONCATENATE(D139,$M$3),'Technical page'!$BG$124:$BI$303,3,FALSE)","v":"Carry out an evaluation for every reactor or storage or other piece of equipment containing amounts of hazardous substances above a certain threshold to ensure there is a prevention, contention and evacuation system in place."}]
[null,null,null,null,null,null,null,null,null,null,null,null,null,{"$f":"IF(L143=8,\"\",\"increase score for:\")","v":""}]
[null,null,{"$f":"IF(VLOOKUP(D143,'Technical page'!$AO$124:$AQ$168,3,0)=\"OK\",\"\",\"major issue\")","v":""},{"$f":"'Chapter 2'!C116","v":"Q2.19"},{"$f":"'Chapter 2'!D116","v":"Byly zřízeny programy preventivní údržby a péče, které zaručují bezpečnost provozů, nástrojů a zařízení?"},null,null,null,null,null,null,{"$f":"COUNTBLANK(N143:U143)","v":8},null,{"$f":"IF(VLOOKUP(D143,'Specific reports'!$E$6:$H$112,4,FALSE)=\"increase score\",\"ISO 9001\",\"\")","v":""},{"$f":"IF(VLOOKUP(D143,'Specific reports'!$E$116:$H$222,4,FALSE)=\"increase score\",\"ISO 14001\",\"\")","v":""},{"$f":"IF(VLOOKUP(D143,'Specific reports'!$E$226:$H$332,4,FALSE)=\"increase score\",\"ISO 26000\",\"\")","v":""},{"$f":"IF(VLOOKUP(D143,'Specific reports'!$E$336:$H$552,4,FALSE)=\"increase score\",\"ISO 45001\",\"\")","v":""},{"$f":"IF(VLOOKUP(D143,'Specific reports'!$E$556:$H$662,4,FALSE)=\"increase score\",\"EMAS\",\"\")","v":""},{"$f":"IF(VLOOKUP(D143,'Specific reports'!$E$666:$H$772,4,FALSE)=\"increase score\",\"RC14001\",\"\")","v":""},{"$f":"IF(VLOOKUP(D143,'Specific reports'!$E$776:$H$882,4,FALSE)=\"increase score\",\"RCMS\",\"\")","v":""}]
[null,null,null,null,"Your score",null,{"$f":"VLOOKUP(D143,'Technical page'!$B$124:$C$168,2,FALSE)","v":3},null,null,null,null,null,null,{"$f":"CONCATENATE(G144,\" = \",HLOOKUP(\" \",'Chapter 2'!D115:E120,Tips!G144+2))","v":"3 = Osoby odpovědné za provádění programu údržby jsou jasně identifikovány a zaznamenávají výsledky údržby. Existují ukazatele umožňující sledování činností údržby (% vykonané práce, zjištěné problémy atd.)."}]
[null,null,null,null,"Try to improve",null,{"$f":"VLOOKUP(CONCATENATE(D143,$M$3),'Technical page'!$BG$124:$BI$303,3,FALSE)","v":"Evaluate the effectiveness of the maintenance program on a regular basis. In addition, the success is measured, and the maintenance plans are improved."}]
[null,null,null,null,null,null,null,null,null,null,null,null,null,{"$f":"IF(L147=8,\"\",\"increase score for:\")","v":""}]
[null,null,{"$f":"IF(VLOOKUP(D147,'Technical page'!$AO$124:$AQ$168,3,0)=\"OK\",\"\",\"major issue\")","v":""},{"$f":"'Chapter 2'!C122","v":"Q2.20"},{"$f":"'Chapter 2'!D122","v":"Jakým způsobem se řídí procesy během mimořádných událostí v případě přerušení dodávky energie nebo služeb?"},null,null,null,null,null,null,{"$f":"COUNTBLANK(N147:U147)","v":8},null,{"$f":"IF(VLOOKUP(D147,'Specific reports'!$E$6:$H$112,4,FALSE)=\"increase score\",\"ISO 9001\",\"\")","v":""},{"$f":"IF(VLOOKUP(D147,'Specific reports'!$E$116:$H$222,4,FALSE)=\"increase score\",\"ISO 14001\",\"\")","v":""},{"$f":"IF(VLOOKUP(D147,'Specific reports'!$E$226:$H$332,4,FALSE)=\"increase score\",\"ISO 26000\",\"\")","v":""},{"$f":"IF(VLOOKUP(D147,'Specific reports'!$E$336:$H$552,4,FALSE)=\"increase score\",\"ISO 45001\",\"\")","v":""},{"$f":"IF(VLOOKUP(D147,'Specific reports'!$E$556:$H$662,4,FALSE)=\"increase score\",\"EMAS\",\"\")","v":""},{"$f":"IF(VLOOKUP(D147,'Specific reports'!$E$666:$H$772,4,FALSE)=\"increase score\",\"RC14001\",\"\")","v":""},{"$f":"IF(VLOOKUP(D147,'Specific reports'!$E$776:$H$882,4,FALSE)=\"increase score\",\"RCMS\",\"\")","v":""}]
[null,null,null,null,"Your score",null,{"$f":"VLOOKUP(D147,'Technical page'!$B$124:$C$168,2,FALSE)","v":4},null,null,null,null,null,null,{"$f":"CONCATENATE(G148,\" = \",HLOOKUP(\" \",'Chapter 2'!D121:E126,Tips!G148+2))","v":"4 = Havarijní plán: zahrnuje analýzu možných nepředvídaných událostí a stanovuje přijatelnou dobu odezvy, zásahové skupiny a procesy."}]
[null,null,null,null,"Try to improve",null,{"$f":"VLOOKUP(CONCATENATE(D147,$M$3),'Technical page'!$BG$124:$BI$303,3,FALSE)","v":"No need to immediately change strategy, however always seek improvement."}]
[null,null,null,null,null,null,null,null,null,null,null,null,null,{"$f":"IF(L151=8,\"\",\"increase score for:\")","v":"increase score for:"}]
[null,null,{"$f":"IF(VLOOKUP(D151,'Technical page'!$AO$124:$AQ$168,3,0)=\"OK\",\"\",\"major issue\")","v":""},{"$f":"'Chapter 2'!C128","v":"Q2.21"},{"$f":"'Chapter 2'!D128","v":"Jak se připravují havarijní plány?"},null,null,null,null,null,null,{"$f":"COUNTBLANK(N151:U151)","v":7},null,{"$f":"IF(VLOOKUP(D151,'Specific reports'!$E$6:$H$112,4,FALSE)=\"increase score\",\"ISO 9001\",\"\")","v":""},{"$f":"IF(VLOOKUP(D151,'Specific reports'!$E$116:$H$222,4,FALSE)=\"increase score\",\"ISO 14001\",\"\")","v":""},{"$f":"IF(VLOOKUP(D151,'Specific reports'!$E$226:$H$332,4,FALSE)=\"increase score\",\"ISO 26000\",\"\")","v":"ISO 26000"},{"$f":"IF(VLOOKUP(D151,'Specific reports'!$E$336:$H$552,4,FALSE)=\"increase score\",\"ISO 45001\",\"\")","v":""},{"$f":"IF(VLOOKUP(D151,'Specific reports'!$E$556:$H$662,4,FALSE)=\"increase score\",\"EMAS\",\"\")","v":""},{"$f":"IF(VLOOKUP(D151,'Specific reports'!$E$666:$H$772,4,FALSE)=\"increase score\",\"RC14001\",\"\")","v":""},{"$f":"IF(VLOOKUP(D151,'Specific reports'!$E$776:$H$882,4,FALSE)=\"increase score\",\"RCMS\",\"\")","v":""}]
[null,null,null,null,"Your score",null,{"$f":"VLOOKUP(D151,'Technical page'!$B$124:$C$168,2,FALSE)","v":2},null,null,null,null,null,null,{"$f":"CONCATENATE(G152,\" = \",HLOOKUP(\" \",'Chapter 2'!D127:E132,Tips!G152+2))","v":"2 = Alespoň jednou za rok probíhá praktická cvičení, po kterém následuje hodnocení účinnosti havarijního plánu.\nByl zřízen informační program pro komunikaci s příslušnými orgány, zásahovými složkami, médii, komunitou atd. s cílem zvýšit připravenost na mimořádnou událost."}]
[null,null,null,null,"Try to improve",null,{"$f":"VLOOKUP(CONCATENATE(D151,$M$3),'Technical page'!$BG$124:$BI$303,3,FALSE)","v":"In addition, the emergency plan has been prepared and integrated with an external emergency plan with the collaboration of partners and neighbouring organisations (when applicable). "}]
[null,null,null,null,null,null,null,null,null,null,null,null,null,{"$f":"IF(L155=8,\"\",\"increase score for:\")","v":""}]
[null,null,{"$f":"IF(VLOOKUP(D155,'Technical page'!$AO$124:$AQ$168,3,0)=\"OK\",\"\",\"major issue\")","v":""},{"$f":"'Chapter 2'!C134","v":"Q2.22"},{"$f":"'Chapter 2'!D134","v":"Jakým způsobem jsou zabezpečeny kompetence a školení zaměstnanců a dodavatelů zapojených do procesů?"},null,null,null,null,null,null,{"$f":"COUNTBLANK(N155:U155)","v":8},null,{"$f":"IF(VLOOKUP(D155,'Specific reports'!$E$6:$H$112,4,FALSE)=\"increase score\",\"ISO 9001\",\"\")","v":""},{"$f":"IF(VLOOKUP(D155,'Specific reports'!$E$116:$H$222,4,FALSE)=\"increase score\",\"ISO 14001\",\"\")","v":""},{"$f":"IF(VLOOKUP(D155,'Specific reports'!$E$226:$H$332,4,FALSE)=\"increase score\",\"ISO 26000\",\"\")","v":""},{"$f":"IF(VLOOKUP(D155,'Specific reports'!$E$336:$H$552,4,FALSE)=\"increase score\",\"ISO 45001\",\"\")","v":""},{"$f":"IF(VLOOKUP(D155,'Specific reports'!$E$556:$H$662,4,FALSE)=\"increase score\",\"EMAS\",\"\")","v":""},{"$f":"IF(VLOOKUP(D155,'Specific reports'!$E$666:$H$772,4,FALSE)=\"increase score\",\"RC14001\",\"\")","v":""},{"$f":"IF(VLOOKUP(D155,'Specific reports'!$E$776:$H$882,4,FALSE)=\"increase score\",\"RCMS\",\"\")","v":""}]
[null,null,null,null,"Your score",null,{"$f":"VLOOKUP(D155,'Technical page'!$B$124:$C$168,2,FALSE)","v":2},null,null,null,null,null,null,{"$f":"CONCATENATE(G156,\" = \",HLOOKUP(\" \",'Chapter 2'!D133:E138,Tips!G156+2))","v":"2 = Zaměstnanci a dodavatelé jsou zaškolování v oblasti bezpečnosti procesů na základě jejich odpovědností za bezpečnost procesů. Příslušný vzdělávací program pokrývá všechny aspekty bezpečnosti procesů a zařízení, a to včetně pravidelných opakování takových školení. Pro zaměstnance, kteří jsou odpovědní za úkoly související s bezpečností procesů a zařízení a kteří byli déle nepřítomni (např. Z důvodu těhotenství, nemoci, delší dovolené atd.), Je k dispozici rekvalifikační program."}]
[null,null,null,null,"Try to improve",null,{"$f":"VLOOKUP(CONCATENATE(D155,$M$3),'Technical page'!$BG$124:$BI$303,3,FALSE)","v":"Provide a continuing education related to emerging process safety tools and techniques company process safety experts)."}]
[null,null,null,null,null,null,null,null,null,null,null,null,null,{"$f":"IF(L159=8,\"\",\"increase score for:\")","v":""}]
[null,null,{"$f":"IF(VLOOKUP(D159,'Technical page'!$AO$124:$AQ$168,3,0)=\"OK\",\"\",\"major issue\")","v":""},{"$f":"'Chapter 2'!C140","v":"Q2.23"},{"$f":"'Chapter 2'!D140","v":"Jakým způsobem se sdílejí informace o rizicích látek a přípravků?"},null,null,null,null,null,null,{"$f":"COUNTBLANK(N159:U159)","v":8},null,{"$f":"IF(VLOOKUP(D159,'Specific reports'!$E$6:$H$112,4,FALSE)=\"increase score\",\"ISO 9001\",\"\")","v":""},{"$f":"IF(VLOOKUP(D159,'Specific reports'!$E$116:$H$222,4,FALSE)=\"increase score\",\"ISO 14001\",\"\")","v":""},{"$f":"IF(VLOOKUP(D159,'Specific reports'!$E$226:$H$332,4,FALSE)=\"increase score\",\"ISO 26000\",\"\")","v":""},{"$f":"IF(VLOOKUP(D159,'Specific reports'!$E$336:$H$552,4,FALSE)=\"increase score\",\"ISO 45001\",\"\")","v":""},{"$f":"IF(VLOOKUP(D159,'Specific reports'!$E$556:$H$662,4,FALSE)=\"increase score\",\"EMAS\",\"\")","v":""},{"$f":"IF(VLOOKUP(D159,'Specific reports'!$E$666:$H$772,4,FALSE)=\"increase score\",\"RC14001\",\"\")","v":""},{"$f":"IF(VLOOKUP(D159,'Specific reports'!$E$776:$H$882,4,FALSE)=\"increase score\",\"RCMS\",\"\")","v":""}]
[null,null,null,null,"Your score",null,{"$f":"VLOOKUP(D159,'Technical page'!$B$124:$C$168,2,FALSE)","v":4},null,null,null,null,null,null,{"$f":"CONCATENATE(G160,\" = \",HLOOKUP(\" \",'Chapter 2'!D139:E144,Tips!G160+2))","v":"4 = Jsou známé bezpečnostní údaje pro všechny procesy a látky (včetně možných meziproduktů, zbytků a jiných látek)."}]
[null,null,null,null,"Try to improve",null,{"$f":"VLOOKUP(CONCATENATE(D159,$M$3),'Technical page'!$BG$124:$BI$303,3,FALSE)","v":"No need to immediately change strategy, however always seek improvement."}]
[null,null,null,null,null,null,null,null,null,null,null,null,null,{"$f":"IF(L163=8,\"\",\"increase score for:\")","v":""}]
[null,null,{"$f":"IF(VLOOKUP(D163,'Technical page'!$AO$124:$AQ$168,3,0)=\"OK\",\"\",\"major issue\")","v":""},{"$f":"'Chapter 2'!C146","v":"Q2.24"},{"$f":"'Chapter 2'!D146","v":"Jak se sdílejí informace o procesu?"},null,null,null,null,null,null,{"$f":"COUNTBLANK(N163:U163)","v":8},null,{"$f":"IF(VLOOKUP(D163,'Specific reports'!$E$6:$H$112,4,FALSE)=\"increase score\",\"ISO 9001\",\"\")","v":""},{"$f":"IF(VLOOKUP(D163,'Specific reports'!$E$116:$H$222,4,FALSE)=\"increase score\",\"ISO 14001\",\"\")","v":""},{"$f":"IF(VLOOKUP(D163,'Specific reports'!$E$226:$H$332,4,FALSE)=\"increase score\",\"ISO 26000\",\"\")","v":""},{"$f":"IF(VLOOKUP(D163,'Specific reports'!$E$336:$H$552,4,FALSE)=\"increase score\",\"ISO 45001\",\"\")","v":""},{"$f":"IF(VLOOKUP(D163,'Specific reports'!$E$556:$H$662,4,FALSE)=\"increase score\",\"EMAS\",\"\")","v":""},{"$f":"IF(VLOOKUP(D163,'Specific reports'!$E$666:$H$772,4,FALSE)=\"increase score\",\"RC14001\",\"\")","v":""},{"$f":"IF(VLOOKUP(D163,'Specific reports'!$E$776:$H$882,4,FALSE)=\"increase score\",\"RCMS\",\"\")","v":""}]
[null,null,null,null,"Your score",null,{"$f":"VLOOKUP(D163,'Technical page'!$B$124:$C$168,2,FALSE)","v":4},null,null,null,null,null,null,{"$f":"CONCATENATE(G164,\" = \",HLOOKUP(\" \",'Chapter 2'!D145:E150,Tips!G164+2))","v":"4 = Všechny jsou v bezprostředním dosahu pro pracovníky zapojených do procesu. Zaměstnanci jsou vyškoleni v oblasti používání dokumentace a činností vyplývajících z těchto postupů nebo návodů."}]
[null,null,null,null,"Try to improve",null,{"$f":"VLOOKUP(CONCATENATE(D163,$M$3),'Technical page'!$BG$124:$BI$303,3,FALSE)","v":"No need to immediately change strategy, however always seek improvement."}]
[null,{"$f":"'Chapter 2'!B152","v":"Distribuce"},null,null,null,null,null,null,null,null,null,null,null,{"$f":"IF(L167=8,\"\",\"increase score for:\")","v":""}]
[null,null,{"$f":"IF(VLOOKUP(D167,'Technical page'!$AO$124:$AQ$168,3,0)=\"OK\",\"\",\"major issue\")","v":""},{"$f":"'Chapter 2'!C154","v":"Q2.25"},{"$f":"'Chapter 2'!D154","v":"Jakým způsobem organizace hodnotí své logistické partnery z hlediska HSE&S, energetické účinnosti a emisí skleníkových plynů?"},null,null,null,null,null,null,{"$f":"COUNTBLANK(N167:U167)","v":8},null,{"$f":"IF(VLOOKUP(D167,'Specific reports'!$E$6:$H$112,4,FALSE)=\"increase score\",\"ISO 9001\",\"\")","v":""},{"$f":"IF(VLOOKUP(D167,'Specific reports'!$E$116:$H$222,4,FALSE)=\"increase score\",\"ISO 14001\",\"\")","v":""},{"$f":"IF(VLOOKUP(D167,'Specific reports'!$E$226:$H$332,4,FALSE)=\"increase score\",\"ISO 26000\",\"\")","v":""},{"$f":"IF(VLOOKUP(D167,'Specific reports'!$E$336:$H$552,4,FALSE)=\"increase score\",\"ISO 45001\",\"\")","v":""},{"$f":"IF(VLOOKUP(D167,'Specific reports'!$E$556:$H$662,4,FALSE)=\"increase score\",\"EMAS\",\"\")","v":""},{"$f":"IF(VLOOKUP(D167,'Specific reports'!$E$666:$H$772,4,FALSE)=\"increase score\",\"RC14001\",\"\")","v":""},{"$f":"IF(VLOOKUP(D167,'Specific reports'!$E$776:$H$882,4,FALSE)=\"increase score\",\"RCMS\",\"\")","v":""}]
[null,null,null,null,"Your score",null,{"$f":"VLOOKUP(D167,'Technical page'!$B$124:$C$168,2,FALSE)","v":3},null,null,null,null,null,null,{"$f":"CONCATENATE(G168,\" = \",HLOOKUP(\" \",'Chapter 2'!D153:E158,Tips!G168+2))","v":"3 = Organizace vyhodnocuje příslušné kroky a bezpečnostní opatření, které se vyžadují při přepravě chemických látek."}]
[null,null,null,null,"Try to improve",null,{"$f":"VLOOKUP(CONCATENATE(D167,$M$3),'Technical page'!$BG$124:$BI$303,3,FALSE)","v":"An example of scheme that could be used (in total or parts) is SQAS (https://www.sqas.org/). Companies may decide to use other schemes or systems/criteria if available. The choice of a logistic provider is based on each company individual decision-making process which may or may not include SQAS."}]
[null,null,null,null,null,null,null,null,null,null,null,null,null,{"$f":"IF(L171=8,\"\",\"increase score for:\")","v":""}]
[null,null,{"$f":"IF(VLOOKUP(D171,'Technical page'!$AO$124:$AQ$168,3,0)=\"OK\",\"\",\"major issue\")","v":""},{"$f":"'Chapter 2'!C160","v":"Q2.26"},{"$f":"'Chapter 2'!D160","v":"Jakým způsobem organizace zabraňuje a reaguje na dopravní nehody?"},null,null,null,null,null,null,{"$f":"COUNTBLANK(N171:U171)","v":8},null,{"$f":"IF(VLOOKUP(D171,'Specific reports'!$E$6:$H$112,4,FALSE)=\"increase score\",\"ISO 9001\",\"\")","v":""},{"$f":"IF(VLOOKUP(D171,'Specific reports'!$E$116:$H$222,4,FALSE)=\"increase score\",\"ISO 14001\",\"\")","v":""},{"$f":"IF(VLOOKUP(D171,'Specific reports'!$E$226:$H$332,4,FALSE)=\"increase score\",\"ISO 26000\",\"\")","v":""},{"$f":"IF(VLOOKUP(D171,'Specific reports'!$E$336:$H$552,4,FALSE)=\"increase score\",\"ISO 45001\",\"\")","v":""},{"$f":"IF(VLOOKUP(D171,'Specific reports'!$E$556:$H$662,4,FALSE)=\"increase score\",\"EMAS\",\"\")","v":""},{"$f":"IF(VLOOKUP(D171,'Specific reports'!$E$666:$H$772,4,FALSE)=\"increase score\",\"RC14001\",\"\")","v":""},{"$f":"IF(VLOOKUP(D171,'Specific reports'!$E$776:$H$882,4,FALSE)=\"increase score\",\"RCMS\",\"\")","v":""}]
[null,null,null,null,"Your score",null,{"$f":"VLOOKUP(D171,'Technical page'!$B$124:$C$168,2,FALSE)","v":3},null,null,null,null,null,null,{"$f":"CONCATENATE(G172,\" = \",HLOOKUP(\" \",'Chapter 2'!D159:E164,Tips!G172+2))","v":"3 = Byl ustanoven systém, který mohou v případě mimořádných událostí používat externí poskytovatelé služeb a poskytovatelé logistických služeb. K dispozici je nepřetržitě kontaktní telefonní číslo (24/7)."}]
[null,null,null,null,"Try to improve",null,{"$f":"VLOOKUP(CONCATENATE(D171,$M$3),'Technical page'!$BG$124:$BI$303,3,FALSE)","v":"Include the logistic chain into your site emergency plan.\nBe prepared to provide assistance for cleanup of spill accidents during transport (e.g. through ICE or any similar system)."}]
[null,{"$f":"'Chapter 2'!B166","v":"Bezpečnost"},null,null,null,null,null,null,null,null,null,null,null,{"$f":"IF(L175=8,\"\",\"increase score for:\")","v":""}]
[null,null,{"$f":"IF(VLOOKUP(D175,'Technical page'!$AO$124:$AQ$168,3,0)=\"OK\",\"\",\"major issue\")","v":""},{"$f":"'Chapter 2'!C168","v":"Q2.27"},{"$f":"'Chapter 2'!D168","v":"Jakým způsobem organizace identifikuje bezpečnostní problémy?"},null,null,null,null,null,null,{"$f":"COUNTBLANK(N175:U175)","v":8},null,{"$f":"IF(VLOOKUP(D175,'Specific reports'!$E$6:$H$112,4,FALSE)=\"increase score\",\"ISO 9001\",\"\")","v":""},{"$f":"IF(VLOOKUP(D175,'Specific reports'!$E$116:$H$222,4,FALSE)=\"increase score\",\"ISO 14001\",\"\")","v":""},{"$f":"IF(VLOOKUP(D175,'Specific reports'!$E$226:$H$332,4,FALSE)=\"increase score\",\"ISO 26000\",\"\")","v":""},{"$f":"IF(VLOOKUP(D175,'Specific reports'!$E$336:$H$552,4,FALSE)=\"increase score\",\"ISO 45001\",\"\")","v":""},{"$f":"IF(VLOOKUP(D175,'Specific reports'!$E$556:$H$662,4,FALSE)=\"increase score\",\"EMAS\",\"\")","v":""},{"$f":"IF(VLOOKUP(D175,'Specific reports'!$E$666:$H$772,4,FALSE)=\"increase score\",\"RC14001\",\"\")","v":""},{"$f":"IF(VLOOKUP(D175,'Specific reports'!$E$776:$H$882,4,FALSE)=\"increase score\",\"RCMS\",\"\")","v":""}]
[null,null,null,null,"Your score",null,{"$f":"VLOOKUP(D175,'Technical page'!$B$124:$C$168,2,FALSE)","v":2},null,null,null,null,null,null,{"$f":"CONCATENATE(G176,\" = \",HLOOKUP(\" \",'Chapter 2'!D167:E172,Tips!G176+2))","v":"2 = Pravidelně se provádějí a vyhodnocují analýzy hrozeb vůči organizaci."}]
[null,null,null,null,"Try to improve",null,{"$f":"VLOOKUP(CONCATENATE(D175,$M$3),'Technical page'!$BG$124:$BI$303,3,FALSE)","v":"Set up measures to manage identified threats and all relevant modifications to ensure control."}]
[null,null,null,null,null,null,null,null,null,null,null,null,null,{"$f":"IF(L179=8,\"\",\"increase score for:\")","v":""}]
[null,null,{"$f":"IF(VLOOKUP(D179,'Technical page'!$AO$124:$AQ$168,3,0)=\"OK\",\"\",\"major issue\")","v":""},{"$f":"'Chapter 2'!C174","v":"Q2.28"},{"$f":"'Chapter 2'!D174","v":"Jakým způsobem se kontroluje příchod a odchod pracovníků a materiálu na pracovišti a v oblastech s omezeným vstupem?"},null,null,null,null,null,null,{"$f":"COUNTBLANK(N179:U179)","v":8},null,{"$f":"IF(VLOOKUP(D179,'Specific reports'!$E$6:$H$112,4,FALSE)=\"increase score\",\"ISO 9001\",\"\")","v":""},{"$f":"IF(VLOOKUP(D179,'Specific reports'!$E$116:$H$222,4,FALSE)=\"increase score\",\"ISO 14001\",\"\")","v":""},{"$f":"IF(VLOOKUP(D179,'Specific reports'!$E$226:$H$332,4,FALSE)=\"increase score\",\"ISO 26000\",\"\")","v":""},{"$f":"IF(VLOOKUP(D179,'Specific reports'!$E$336:$H$552,4,FALSE)=\"increase score\",\"ISO 45001\",\"\")","v":""},{"$f":"IF(VLOOKUP(D179,'Specific reports'!$E$556:$H$662,4,FALSE)=\"increase score\",\"EMAS\",\"\")","v":""},{"$f":"IF(VLOOKUP(D179,'Specific reports'!$E$666:$H$772,4,FALSE)=\"increase score\",\"RC14001\",\"\")","v":""},{"$f":"IF(VLOOKUP(D179,'Specific reports'!$E$776:$H$882,4,FALSE)=\"increase score\",\"RCMS\",\"\")","v":""}]
[null,null,null,null,"Your score",null,{"$f":"VLOOKUP(D179,'Technical page'!$B$124:$C$168,2,FALSE)","v":3},null,null,null,null,null,null,{"$f":"CONCATENATE(G180,\" = \",HLOOKUP(\" \",'Chapter 2'!D173:E178,Tips!G180+2))","v":"3 = Byl zaveden postup týkající se přístupu. Návštěvníci mohou vstupovat (do budovy, provozních prostor ...) pouze v doprovodu zaměstnanců."}]
[null,null,null,null,"Try to improve",null,{"$f":"VLOOKUP(CONCATENATE(D179,$M$3),'Technical page'!$BG$124:$BI$303,3,FALSE)","v":"Evaluate the effectiveness of the process through periodic reviews."}]
[null,null,null,null,null,null,null,null,null,null,null,null,null,{"$f":"IF(L183=8,\"\",\"increase score for:\")","v":""}]
[null,null,{"$f":"IF(VLOOKUP(D183,'Technical page'!$AO$124:$AQ$168,3,0)=\"OK\",\"\",\"major issue\")","v":""},{"$f":"'Chapter 2'!C180","v":"Q2.29"},{"$f":"'Chapter 2'!D180","v":"Jakým způsobem se kontroluje kybernetická bezpečnost?"},null,null,null,null,null,null,{"$f":"COUNTBLANK(N183:U183)","v":8},null,{"$f":"IF(VLOOKUP(D183,'Specific reports'!$E$6:$H$112,4,FALSE)=\"increase score\",\"ISO 9001\",\"\")","v":""},{"$f":"IF(VLOOKUP(D183,'Specific reports'!$E$116:$H$222,4,FALSE)=\"increase score\",\"ISO 14001\",\"\")","v":""},{"$f":"IF(VLOOKUP(D183,'Specific reports'!$E$226:$H$332,4,FALSE)=\"increase score\",\"ISO 26000\",\"\")","v":""},{"$f":"IF(VLOOKUP(D183,'Specific reports'!$E$336:$H$552,4,FALSE)=\"increase score\",\"ISO 45001\",\"\")","v":""},{"$f":"IF(VLOOKUP(D183,'Specific reports'!$E$556:$H$662,4,FALSE)=\"increase score\",\"EMAS\",\"\")","v":""},{"$f":"IF(VLOOKUP(D183,'Specific reports'!$E$666:$H$772,4,FALSE)=\"increase score\",\"RC14001\",\"\")","v":""},{"$f":"IF(VLOOKUP(D183,'Specific reports'!$E$776:$H$882,4,FALSE)=\"increase score\",\"RCMS\",\"\")","v":""}]
[null,null,null,null,"Your score",null,{"$f":"VLOOKUP(D183,'Technical page'!$B$124:$C$168,2,FALSE)","v":3},null,null,null,null,null,null,{"$f":"CONCATENATE(G184,\" = \",HLOOKUP(\" \",'Chapter 2'!D179:E184,Tips!G184+2))","v":"3 = Organizace se účastní pracovních skupin v oblasti kybernetické bezpečnosti a pracovníci jsou vyškoleni ohledně způsobu zacházení s podezřelými e-maily."}]
[null,null,null,null,"Try to improve",null,{"$f":"VLOOKUP(CONCATENATE(D183,$M$3),'Technical page'!$BG$124:$BI$303,3,FALSE)","v":"Identify, track and mitigate cybersecurity risks that impact business and Health, Safety, Environment & Sustainability systems by utilizing a risk-based approach to threat mitigation. "}]
[null,null,null,null,null,null,null,null,null,null,null,null,null,{"$f":"IF(L187=8,\"\",\"increase score for:\")","v":""}]
[null,null,{"$f":"IF(VLOOKUP(D187,'Technical page'!$AO$124:$AQ$168,3,0)=\"OK\",\"\",\"major issue\")","v":""},{"$f":"'Chapter 2'!C186","v":"Q2.30"},{"$f":"'Chapter 2'!D186","v":"Jakým způsobem probíhá komunikace a výměna informací v případě bezpečnostní krize?"},null,null,null,null,null,null,{"$f":"COUNTBLANK(N187:U187)","v":8},null,{"$f":"IF(VLOOKUP(D187,'Specific reports'!$E$6:$H$112,4,FALSE)=\"increase score\",\"ISO 9001\",\"\")","v":""},{"$f":"IF(VLOOKUP(D187,'Specific reports'!$E$116:$H$222,4,FALSE)=\"increase score\",\"ISO 14001\",\"\")","v":""},{"$f":"IF(VLOOKUP(D187,'Specific reports'!$E$226:$H$332,4,FALSE)=\"increase score\",\"ISO 26000\",\"\")","v":""},{"$f":"IF(VLOOKUP(D187,'Specific reports'!$E$336:$H$552,4,FALSE)=\"increase score\",\"ISO 45001\",\"\")","v":""},{"$f":"IF(VLOOKUP(D187,'Specific reports'!$E$556:$H$662,4,FALSE)=\"increase score\",\"EMAS\",\"\")","v":""},{"$f":"IF(VLOOKUP(D187,'Specific reports'!$E$666:$H$772,4,FALSE)=\"increase score\",\"RC14001\",\"\")","v":""},{"$f":"IF(VLOOKUP(D187,'Specific reports'!$E$776:$H$882,4,FALSE)=\"increase score\",\"RCMS\",\"\")","v":""}]
[null,null,null,null,"Your score",null,{"$f":"VLOOKUP(D187,'Technical page'!$B$124:$C$168,2,FALSE)","v":2},null,null,null,null,null,null,{"$f":"CONCATENATE(G188,\" = \",HLOOKUP(\" \",'Chapter 2'!D185:E190,Tips!G188+2))","v":"2 = Byl vypracován seznam kontaktních údajů o zaměstnancích, který slouží k jejich rychlému kontaktování v případě krize."}]
[null,null,null,null,"Try to improve",null,{"$f":"VLOOKUP(CONCATENATE(D187,$M$3),'Technical page'!$BG$124:$BI$303,3,FALSE)","v":"Provide information to the public authorities to enable them to draw up a specialised emergency plan for security incidents presenting a high level of risk to the organisation and/or its environment."}]
[null,null,null,null,null,null,null,null,null,null,null,null,null,{"$f":"IF(L191=8,\"\",\"increase score for:\")","v":""}]
[null,null,{"$f":"IF(VLOOKUP(D191,'Technical page'!$AO$124:$AQ$168,3,0)=\"OK\",\"\",\"major issue\")","v":"major issue"},{"$f":"'Chapter 2'!C192","v":"Q2.31"},{"$f":"'Chapter 2'!D192","v":"Jak se organizace vyrovnává s podezřelým chováním (včetně rizik radikalizace = souhlas a podopra extrémních názorů)"},null,null,null,null,null,null,{"$f":"COUNTBLANK(N191:U191)","v":8},null,{"$f":"IF(VLOOKUP(D191,'Specific reports'!$E$6:$H$112,4,FALSE)=\"increase score\",\"ISO 9001\",\"\")","v":""},{"$f":"IF(VLOOKUP(D191,'Specific reports'!$E$116:$H$222,4,FALSE)=\"increase score\",\"ISO 14001\",\"\")","v":""},{"$f":"IF(VLOOKUP(D191,'Specific reports'!$E$226:$H$332,4,FALSE)=\"increase score\",\"ISO 26000\",\"\")","v":""},{"$f":"IF(VLOOKUP(D191,'Specific reports'!$E$336:$H$552,4,FALSE)=\"increase score\",\"ISO 45001\",\"\")","v":""},{"$f":"IF(VLOOKUP(D191,'Specific reports'!$E$556:$H$662,4,FALSE)=\"increase score\",\"EMAS\",\"\")","v":""},{"$f":"IF(VLOOKUP(D191,'Specific reports'!$E$666:$H$772,4,FALSE)=\"increase score\",\"RC14001\",\"\")","v":""},{"$f":"IF(VLOOKUP(D191,'Specific reports'!$E$776:$H$882,4,FALSE)=\"increase score\",\"RCMS\",\"\")","v":""}]
[null,null,null,null,"Your score",null,{"$f":"VLOOKUP(D191,'Technical page'!$B$124:$C$168,2,FALSE)","v":1},null,null,null,null,null,null,{"$f":"CONCATENATE(G192,\" = \",HLOOKUP(\" \",'Chapter 2'!D191:E196,Tips!G192+2))","v":"1 = Neexistuje žádný příslušný proces."}]
[null,null,null,null,"Try to improve",null,{"$f":"VLOOKUP(CONCATENATE(D191,$M$3),'Technical page'!$BG$124:$BI$303,3,FALSE)","v":"Pay particular attention to abnormal behavior and risks of radicalisation among employees and providers."}]
[null,null,null,null,null,null,null,null,null,null,null,null,null,{"$f":"IF(L195=8,\"\",\"increase score for:\")","v":""}]
[null,null,{"$f":"IF(VLOOKUP(D195,'Technical page'!$AO$124:$AQ$168,3,0)=\"OK\",\"\",\"major issue\")","v":""},{"$f":"'Chapter 2'!C198","v":"Q2.32"},{"$f":"'Chapter 2'!D198","v":"Jakým způsobem školí organizace pracovníky v oblasti ostrahy ve vazbě na bezpečnostní rizika?  "},null,null,null,null,null,null,{"$f":"COUNTBLANK(N195:U195)","v":8},null,{"$f":"IF(VLOOKUP(D195,'Specific reports'!$E$6:$H$112,4,FALSE)=\"increase score\",\"ISO 9001\",\"\")","v":""},{"$f":"IF(VLOOKUP(D195,'Specific reports'!$E$116:$H$222,4,FALSE)=\"increase score\",\"ISO 14001\",\"\")","v":""},{"$f":"IF(VLOOKUP(D195,'Specific reports'!$E$226:$H$332,4,FALSE)=\"increase score\",\"ISO 26000\",\"\")","v":""},{"$f":"IF(VLOOKUP(D195,'Specific reports'!$E$336:$H$552,4,FALSE)=\"increase score\",\"ISO 45001\",\"\")","v":""},{"$f":"IF(VLOOKUP(D195,'Specific reports'!$E$556:$H$662,4,FALSE)=\"increase score\",\"EMAS\",\"\")","v":""},{"$f":"IF(VLOOKUP(D195,'Specific reports'!$E$666:$H$772,4,FALSE)=\"increase score\",\"RC14001\",\"\")","v":""},{"$f":"IF(VLOOKUP(D195,'Specific reports'!$E$776:$H$882,4,FALSE)=\"increase score\",\"RCMS\",\"\")","v":""}]
[null,null,null,null,"Your score",null,{"$f":"VLOOKUP(D195,'Technical page'!$B$124:$C$168,2,FALSE)","v":2},null,null,null,null,null,null,{"$f":"CONCATENATE(G196,\" = \",HLOOKUP(\" \",'Chapter 2'!D197:E202,Tips!G196+2))","v":"2 = Organizace poskytuje pokyny vybízející k ostražitosti s cílem zajistit postup v případě objevení podezřelých předmětů nebo vozidel."}]
[null,null,null,null,"Try to improve",null,{"$f":"VLOOKUP(CONCATENATE(D195,$M$3),'Technical page'!$BG$124:$BI$303,3,FALSE)","v":"Remind all workers periodically of vigilance instructions and safety procedures."}]
[null,{"$f":"'Chapter 2'!B204","v":"Životní prostředí "},null,null,null,null,null,null,null,null,null,null,null,{"$f":"IF(L199=8,\"\",\"increase score for:\")","v":""}]
[null,null,{"$f":"IF(VLOOKUP(D199,'Technical page'!$AO$124:$AQ$168,3,0)=\"OK\",\"\",\"major issue\")","v":""},{"$f":"'Chapter 2'!C206","v":"Q2.33"},{"$f":"'Chapter 2'!D206","v":"Jakým způsobem se posuzuje potenciální vliv organizace na životní prostředí?"},null,null,null,null,null,null,{"$f":"COUNTBLANK(N199:U199)","v":8},null,{"$f":"IF(VLOOKUP(D199,'Specific reports'!$E$6:$H$112,4,FALSE)=\"increase score\",\"ISO 9001\",\"\")","v":""},{"$f":"IF(VLOOKUP(D199,'Specific reports'!$E$116:$H$222,4,FALSE)=\"increase score\",\"ISO 14001\",\"\")","v":""},{"$f":"IF(VLOOKUP(D199,'Specific reports'!$E$226:$H$332,4,FALSE)=\"increase score\",\"ISO 26000\",\"\")","v":""},{"$f":"IF(VLOOKUP(D199,'Specific reports'!$E$336:$H$552,4,FALSE)=\"increase score\",\"ISO 45001\",\"\")","v":""},{"$f":"IF(VLOOKUP(D199,'Specific reports'!$E$556:$H$662,4,FALSE)=\"increase score\",\"EMAS\",\"\")","v":""},{"$f":"IF(VLOOKUP(D199,'Specific reports'!$E$666:$H$772,4,FALSE)=\"increase score\",\"RC14001\",\"\")","v":""},{"$f":"IF(VLOOKUP(D199,'Specific reports'!$E$776:$H$882,4,FALSE)=\"increase score\",\"RCMS\",\"\")","v":""}]
[null,null,null,null,"Your score",null,{"$f":"VLOOKUP(D199,'Technical page'!$B$124:$C$168,2,FALSE)","v":3},null,null,null,null,null,null,{"$f":"CONCATENATE(G200,\" = \",HLOOKUP(\" \",'Chapter 2'!D205:E210,Tips!G200+2))","v":"3 = Na základě tohoto posouzení se v akčním plánu stanovují priority ohledně snižování vlivů činností na životní prostředí. Výsledky posuzování výsledků se sdělují zaměstnancům i veřejnosti."}]
[null,null,null,null,"Try to improve",null,{"$f":"VLOOKUP(CONCATENATE(D199,$M$3),'Technical page'!$BG$124:$BI$303,3,FALSE)","v":"Communicate the results of the impact assessment, the inventory and the potential risks to the employees and the public."}]
[null,null,null,null,null,null,null,null,null,null,null,null,null,{"$f":"IF(L203=8,\"\",\"increase score for:\")","v":""}]
[null,null,{"$f":"IF(VLOOKUP(D203,'Technical page'!$AO$124:$AQ$168,3,0)=\"OK\",\"\",\"major issue\")","v":""},{"$f":"'Chapter 2'!C212","v":"Q2.34"},{"$f":"'Chapter 2'!D212","v":"Jakým způsobem se řídí environmentální výkonnost?"},null,null,null,null,null,null,{"$f":"COUNTBLANK(N203:U203)","v":8},null,{"$f":"IF(VLOOKUP(D203,'Specific reports'!$E$6:$H$112,4,FALSE)=\"increase score\",\"ISO 9001\",\"\")","v":""},{"$f":"IF(VLOOKUP(D203,'Specific reports'!$E$116:$H$222,4,FALSE)=\"increase score\",\"ISO 14001\",\"\")","v":""},{"$f":"IF(VLOOKUP(D203,'Specific reports'!$E$226:$H$332,4,FALSE)=\"increase score\",\"ISO 26000\",\"\")","v":""},{"$f":"IF(VLOOKUP(D203,'Specific reports'!$E$336:$H$552,4,FALSE)=\"increase score\",\"ISO 45001\",\"\")","v":""},{"$f":"IF(VLOOKUP(D203,'Specific reports'!$E$556:$H$662,4,FALSE)=\"increase score\",\"EMAS\",\"\")","v":""},{"$f":"IF(VLOOKUP(D203,'Specific reports'!$E$666:$H$772,4,FALSE)=\"increase score\",\"RC14001\",\"\")","v":""},{"$f":"IF(VLOOKUP(D203,'Specific reports'!$E$776:$H$882,4,FALSE)=\"increase score\",\"RCMS\",\"\")","v":""}]
[null,null,null,null,"Your score",null,{"$f":"VLOOKUP(D203,'Technical page'!$B$124:$C$168,2,FALSE)","v":4},null,null,null,null,null,null,{"$f":"CONCATENATE(G204,\" = \",HLOOKUP(\" \",'Chapter 2'!D211:E216,Tips!G204+2))","v":"4 = Top management organizace pravidelně hodnotí výkonnost, zdůvodňuje dosahování těchto cílů a zajišťuje dostupnost vhodných zdrojů."}]
[null,null,null,null,"Try to improve",null,{"$f":"VLOOKUP(CONCATENATE(D203,$M$3),'Technical page'!$BG$124:$BI$303,3,FALSE)","v":"No need to immediately change strategy, however always seek improvement."}]
[null,null,null,null,null,null,null,null,null,null,null,null,null,{"$f":"IF(L207=8,\"\",\"increase score for:\")","v":""}]
[null,null,{"$f":"IF(VLOOKUP(D207,'Technical page'!$AO$124:$AQ$168,3,0)=\"OK\",\"\",\"major issue\")","v":""},{"$f":"'Chapter 2'!C218","v":"Q2.35"},{"$f":"'Chapter 2'!D218","v":"Jak organizace nakládá s odpadem?"},null,null,null,null,null,null,{"$f":"COUNTBLANK(N207:U207)","v":8},null,{"$f":"IF(VLOOKUP(D207,'Specific reports'!$E$6:$H$112,4,FALSE)=\"increase score\",\"ISO 9001\",\"\")","v":""},{"$f":"IF(VLOOKUP(D207,'Specific reports'!$E$116:$H$222,4,FALSE)=\"increase score\",\"ISO 14001\",\"\")","v":""},{"$f":"IF(VLOOKUP(D207,'Specific reports'!$E$226:$H$332,4,FALSE)=\"increase score\",\"ISO 26000\",\"\")","v":""},{"$f":"IF(VLOOKUP(D207,'Specific reports'!$E$336:$H$552,4,FALSE)=\"increase score\",\"ISO 45001\",\"\")","v":""},{"$f":"IF(VLOOKUP(D207,'Specific reports'!$E$556:$H$662,4,FALSE)=\"increase score\",\"EMAS\",\"\")","v":""},{"$f":"IF(VLOOKUP(D207,'Specific reports'!$E$666:$H$772,4,FALSE)=\"increase score\",\"RC14001\",\"\")","v":""},{"$f":"IF(VLOOKUP(D207,'Specific reports'!$E$776:$H$882,4,FALSE)=\"increase score\",\"RCMS\",\"\")","v":""}]
[null,null,null,null,"Your score",null,{"$f":"VLOOKUP(D207,'Technical page'!$B$124:$C$168,2,FALSE)","v":3},null,null,null,null,null,null,{"$f":"CONCATENATE(G208,\" = \",HLOOKUP(\" \",'Chapter 2'!D217:E222,Tips!G208+2))","v":"3 = Postupy odpadového hospodářství, které se týkají provozu a zařízení, se periodicky vyhodnocují a v případě potřeby aktualizují."}]
[null,null,null,null,"Try to improve",null,{"$f":"VLOOKUP(CONCATENATE(D207,$M$3),'Technical page'!$BG$124:$BI$303,3,FALSE)","v":"Implement a program with partners on waste management to address improvement opportunities."}]
[null,null,null,null,null,null,null,null,null,null,null,null,null,{"$f":"IF(L211=8,\"\",\"increase score for:\")","v":""}]
[null,null,{"$f":"IF(VLOOKUP(D211,'Technical page'!$AO$124:$AQ$168,3,0)=\"OK\",\"\",\"major issue\")","v":""},{"$f":"'Chapter 2'!C224","v":"Q2.36"},{"$f":"'Chapter 2'!D224","v":"Jakým způsobem řídí organizace rizika týkající se podzemních vod?"},null,null,null,null,null,null,{"$f":"COUNTBLANK(N211:U211)","v":8},null,{"$f":"IF(VLOOKUP(D211,'Specific reports'!$E$6:$H$112,4,FALSE)=\"increase score\",\"ISO 9001\",\"\")","v":""},{"$f":"IF(VLOOKUP(D211,'Specific reports'!$E$116:$H$222,4,FALSE)=\"increase score\",\"ISO 14001\",\"\")","v":""},{"$f":"IF(VLOOKUP(D211,'Specific reports'!$E$226:$H$332,4,FALSE)=\"increase score\",\"ISO 26000\",\"\")","v":""},{"$f":"IF(VLOOKUP(D211,'Specific reports'!$E$336:$H$552,4,FALSE)=\"increase score\",\"ISO 45001\",\"\")","v":""},{"$f":"IF(VLOOKUP(D211,'Specific reports'!$E$556:$H$662,4,FALSE)=\"increase score\",\"EMAS\",\"\")","v":""},{"$f":"IF(VLOOKUP(D211,'Specific reports'!$E$666:$H$772,4,FALSE)=\"increase score\",\"RC14001\",\"\")","v":""},{"$f":"IF(VLOOKUP(D211,'Specific reports'!$E$776:$H$882,4,FALSE)=\"increase score\",\"RCMS\",\"\")","v":""}]
[null,null,null,null,"Your score",null,{"$f":"VLOOKUP(D211,'Technical page'!$B$124:$C$168,2,FALSE)","v":3},null,null,null,null,null,null,{"$f":"CONCATENATE(G212,\" = \",HLOOKUP(\" \",'Chapter 2'!D223:E228,Tips!G212+2))","v":"3 = Pravidelně se provádějí zkoušky kvality podzemních vod s cílem identifikovat potenciální kontaminaci podzemních vod."}]
[null,null,null,null,"Try to improve",null,{"$f":"VLOOKUP(CONCATENATE(D211,$M$3),'Technical page'!$BG$124:$BI$303,3,FALSE)","v":"Develop technologies to prevent pollution risks to groundwater. Ensure these technologies and best practices are shared within the sector to help others improve too."}]
[null,null,null,null,null,null,null,null,null,null,null,null,null,{"$f":"IF(L215=8,\"\",\"increase score for:\")","v":""}]
[null,null,{"$f":"IF(VLOOKUP(D215,'Technical page'!$AO$124:$AQ$168,3,0)=\"OK\",\"\",\"major issue\")","v":""},{"$f":"'Chapter 2'!C230","v":"Q2.37"},{"$f":"'Chapter 2'!D230","v":"Jakým způsobem řídí organizace rizika týkající se znečištění půdy?"},null,null,null,null,null,null,{"$f":"COUNTBLANK(N215:U215)","v":8},null,{"$f":"IF(VLOOKUP(D215,'Specific reports'!$E$6:$H$112,4,FALSE)=\"increase score\",\"ISO 9001\",\"\")","v":""},{"$f":"IF(VLOOKUP(D215,'Specific reports'!$E$116:$H$222,4,FALSE)=\"increase score\",\"ISO 14001\",\"\")","v":""},{"$f":"IF(VLOOKUP(D215,'Specific reports'!$E$226:$H$332,4,FALSE)=\"increase score\",\"ISO 26000\",\"\")","v":""},{"$f":"IF(VLOOKUP(D215,'Specific reports'!$E$336:$H$552,4,FALSE)=\"increase score\",\"ISO 45001\",\"\")","v":""},{"$f":"IF(VLOOKUP(D215,'Specific reports'!$E$556:$H$662,4,FALSE)=\"increase score\",\"EMAS\",\"\")","v":""},{"$f":"IF(VLOOKUP(D215,'Specific reports'!$E$666:$H$772,4,FALSE)=\"increase score\",\"RC14001\",\"\")","v":""},{"$f":"IF(VLOOKUP(D215,'Specific reports'!$E$776:$H$882,4,FALSE)=\"increase score\",\"RCMS\",\"\")","v":""}]
[null,null,null,null,"Your score",null,{"$f":"VLOOKUP(D215,'Technical page'!$B$124:$C$168,2,FALSE)","v":3},null,null,null,null,null,null,{"$f":"CONCATENATE(G216,\" = \",HLOOKUP(\" \",'Chapter 2'!D229:E234,Tips!G216+2))","v":"3 = Byla zavedena opatření a postupy pro minimalizaci vlivu havarijního úniku do půdy. Pravidelně se provádějí zkoušky kvality půdy s cílem identifikovat potenciální kontaminaci půdy."}]
[null,null,null,null,"Try to improve",null,{"$f":"VLOOKUP(CONCATENATE(D215,$M$3),'Technical page'!$BG$124:$BI$303,3,FALSE)","v":"Develop technologies to prevent pollution risks to soil. Ensure these technologies and best practices are shared within the sector to help others improve too."}]
[null,null,null,null,null,null,null,null,null,null,null,null,null,{"$f":"IF(L219=8,\"\",\"increase score for:\")","v":""}]
[null,null,{"$f":"IF(VLOOKUP(D219,'Technical page'!$AO$124:$AQ$168,3,0)=\"OK\",\"\",\"major issue\")","v":""},{"$f":"'Chapter 2'!C236","v":"Q2.38"},{"$f":"'Chapter 2'!D236","v":"Jakým způsobem řídí organizace existující znečištění půdy?\n"},null,null,null,null,null,null,{"$f":"COUNTBLANK(N219:U219)","v":8},null,{"$f":"IF(VLOOKUP(D219,'Specific reports'!$E$6:$H$112,4,FALSE)=\"increase score\",\"ISO 9001\",\"\")","v":""},{"$f":"IF(VLOOKUP(D219,'Specific reports'!$E$116:$H$222,4,FALSE)=\"increase score\",\"ISO 14001\",\"\")","v":""},{"$f":"IF(VLOOKUP(D219,'Specific reports'!$E$226:$H$332,4,FALSE)=\"increase score\",\"ISO 26000\",\"\")","v":""},{"$f":"IF(VLOOKUP(D219,'Specific reports'!$E$336:$H$552,4,FALSE)=\"increase score\",\"ISO 45001\",\"\")","v":""},{"$f":"IF(VLOOKUP(D219,'Specific reports'!$E$556:$H$662,4,FALSE)=\"increase score\",\"EMAS\",\"\")","v":""},{"$f":"IF(VLOOKUP(D219,'Specific reports'!$E$666:$H$772,4,FALSE)=\"increase score\",\"RC14001\",\"\")","v":""},{"$f":"IF(VLOOKUP(D219,'Specific reports'!$E$776:$H$882,4,FALSE)=\"increase score\",\"RCMS\",\"\")","v":""}]
[null,null,null,null,"Your score",null,{"$f":"VLOOKUP(D219,'Technical page'!$B$124:$C$168,2,FALSE)","v":3},null,null,null,null,null,null,{"$f":"CONCATENATE(G220,\" = \",HLOOKUP(\" \",'Chapter 2'!D235:E240,Tips!G220+2))","v":"3 = Organizace vytvořila plán řízení znečištění pro všechny existující znečištění (pokud existují), včetně řešení k jejich odstranění."}]
[null,null,null,null,"Try to improve",null,{"$f":"VLOOKUP(CONCATENATE(D219,$M$3),'Technical page'!$BG$124:$BI$303,3,FALSE)","v":"Make sure the pollution management plan is budgeted and implemented in the site's management."}]
[null,null,null,null,null,null,null,null,null,null,null,null,null,{"$f":"IF(L223=8,\"\",\"increase score for:\")","v":""}]
[null,null,{"$f":"IF(VLOOKUP(D223,'Technical page'!$AO$124:$AQ$168,3,0)=\"OK\",\"\",\"major issue\")","v":""},{"$f":"'Chapter 2'!C242","v":"Q2.39"},{"$f":"'Chapter 2'!D242","v":"Jakým způsobem organizace řídí své emise škodlivin do ovzduší?"},null,null,null,null,null,null,{"$f":"COUNTBLANK(N223:U223)","v":8},null,{"$f":"IF(VLOOKUP(D223,'Specific reports'!$E$6:$H$112,4,FALSE)=\"increase score\",\"ISO 9001\",\"\")","v":""},{"$f":"IF(VLOOKUP(D223,'Specific reports'!$E$116:$H$222,4,FALSE)=\"increase score\",\"ISO 14001\",\"\")","v":""},{"$f":"IF(VLOOKUP(D223,'Specific reports'!$E$226:$H$332,4,FALSE)=\"increase score\",\"ISO 26000\",\"\")","v":""},{"$f":"IF(VLOOKUP(D223,'Specific reports'!$E$336:$H$552,4,FALSE)=\"increase score\",\"ISO 45001\",\"\")","v":""},{"$f":"IF(VLOOKUP(D223,'Specific reports'!$E$556:$H$662,4,FALSE)=\"increase score\",\"EMAS\",\"\")","v":""},{"$f":"IF(VLOOKUP(D223,'Specific reports'!$E$666:$H$772,4,FALSE)=\"increase score\",\"RC14001\",\"\")","v":""},{"$f":"IF(VLOOKUP(D223,'Specific reports'!$E$776:$H$882,4,FALSE)=\"increase score\",\"RCMS\",\"\")","v":""}]
[null,null,null,null,"Your score",null,{"$f":"VLOOKUP(D223,'Technical page'!$B$124:$C$168,2,FALSE)","v":3},null,null,null,null,null,null,{"$f":"CONCATENATE(G224,\" = \",HLOOKUP(\" \",'Chapter 2'!D241:E246,Tips!G224+2))","v":"3 = Organizace pravidelně posuzuje příležitosti pro zlepšování a systematicky plánuje činnosti s cílem snižovat své emise."}]
[null,null,null,null,"Try to improve",null,{"$f":"VLOOKUP(CONCATENATE(D223,$M$3),'Technical page'!$BG$124:$BI$303,3,FALSE)","v":"Set emission reduction targets and indicators. Verify progress towards these targets systematically."}]
[null,null,null,null,null,null,null,null,null,null,null,null,null,{"$f":"IF(L227=8,\"\",\"increase score for:\")","v":""}]
[null,null,{"$f":"IF(VLOOKUP(D227,'Technical page'!$AO$124:$AQ$168,3,0)=\"OK\",\"\",\"major issue\")","v":""},{"$f":"'Chapter 2'!C248","v":"Q2.40"},{"$f":"'Chapter 2'!D248","v":"Jakým způsobem organizace řídí své emise škodlivin do vody?"},null,null,null,null,null,null,{"$f":"COUNTBLANK(N227:U227)","v":8},null,{"$f":"IF(VLOOKUP(D227,'Specific reports'!$E$6:$H$112,4,FALSE)=\"increase score\",\"ISO 9001\",\"\")","v":""},{"$f":"IF(VLOOKUP(D227,'Specific reports'!$E$116:$H$222,4,FALSE)=\"increase score\",\"ISO 14001\",\"\")","v":""},{"$f":"IF(VLOOKUP(D227,'Specific reports'!$E$226:$H$332,4,FALSE)=\"increase score\",\"ISO 26000\",\"\")","v":""},{"$f":"IF(VLOOKUP(D227,'Specific reports'!$E$336:$H$552,4,FALSE)=\"increase score\",\"ISO 45001\",\"\")","v":""},{"$f":"IF(VLOOKUP(D227,'Specific reports'!$E$556:$H$662,4,FALSE)=\"increase score\",\"EMAS\",\"\")","v":""},{"$f":"IF(VLOOKUP(D227,'Specific reports'!$E$666:$H$772,4,FALSE)=\"increase score\",\"RC14001\",\"\")","v":""},{"$f":"IF(VLOOKUP(D227,'Specific reports'!$E$776:$H$882,4,FALSE)=\"increase score\",\"RCMS\",\"\")","v":""}]
[null,null,null,null,"Your score",null,{"$f":"VLOOKUP(D227,'Technical page'!$B$124:$C$168,2,FALSE)","v":3},null,null,null,null,null,null,{"$f":"CONCATENATE(G228,\" = \",HLOOKUP(\" \",'Chapter 2'!D247:E252,Tips!G228+2))","v":"3 = Organizace pravidelně posuzuje příležitosti pro zlepšování a systematicky plánuje činnosti s cílem snižovat své emise."}]
[null,null,null,null,"Try to improve",null,{"$f":"VLOOKUP(CONCATENATE(D227,$M$3),'Technical page'!$BG$124:$BI$303,3,FALSE)","v":"Set emission reduction targets and indicators. Verify progress towards these targets systematically. In case of plastics, companies may decide to participate in operation clean sweep OCS https://www.opcleansweep.org/ to reduce flake, pellet & powder loss."}]
[null,null,null,null,null,null,null,null,null,null,null,null,null,{"$f":"IF(L231=8,\"\",\"increase score for:\")","v":""}]
[null,null,{"$f":"IF(VLOOKUP(D231,'Technical page'!$AO$124:$AQ$168,3,0)=\"OK\",\"\",\"major issue\")","v":""},{"$f":"'Chapter 2'!C254","v":"Q2.41"},{"$f":"'Chapter 2'!D254","v":"Jakým způsobem organizace řídí své emise hluku?"},null,null,null,null,null,null,{"$f":"COUNTBLANK(N231:U231)","v":8},null,{"$f":"IF(VLOOKUP(D231,'Specific reports'!$E$6:$H$112,4,FALSE)=\"increase score\",\"ISO 9001\",\"\")","v":""},{"$f":"IF(VLOOKUP(D231,'Specific reports'!$E$116:$H$222,4,FALSE)=\"increase score\",\"ISO 14001\",\"\")","v":""},{"$f":"IF(VLOOKUP(D231,'Specific reports'!$E$226:$H$332,4,FALSE)=\"increase score\",\"ISO 26000\",\"\")","v":""},{"$f":"IF(VLOOKUP(D231,'Specific reports'!$E$336:$H$552,4,FALSE)=\"increase score\",\"ISO 45001\",\"\")","v":""},{"$f":"IF(VLOOKUP(D231,'Specific reports'!$E$556:$H$662,4,FALSE)=\"increase score\",\"EMAS\",\"\")","v":""},{"$f":"IF(VLOOKUP(D231,'Specific reports'!$E$666:$H$772,4,FALSE)=\"increase score\",\"RC14001\",\"\")","v":""},{"$f":"IF(VLOOKUP(D231,'Specific reports'!$E$776:$H$882,4,FALSE)=\"increase score\",\"RCMS\",\"\")","v":""}]
[null,null,null,null,"Your score",null,{"$f":"VLOOKUP(D231,'Technical page'!$B$124:$C$168,2,FALSE)","v":3},null,null,null,null,null,null,{"$f":"CONCATENATE(G232,\" = \",HLOOKUP(\" \",'Chapter 2'!D253:E258,Tips!G232+2))","v":"3 = Byly stanoveny pravidelné monitorovací kampaně. Údaje z monitorování se posuzují s cílem stanovit a naplánovat příležitosti ke zlepšování. Systematicky se plánují opatření ke snižování emisí hluku."}]
[null,null,null,null,"Try to improve",null,{"$f":"VLOOKUP(CONCATENATE(D231,$M$3),'Technical page'!$BG$124:$BI$303,3,FALSE)","v":"Set emission reduction targets and indicators. Verify progress towards these targets systematically."}]
[null,null,null,null,null,null,null,null,null,null,null,null,null,{"$f":"IF(L235=8,\"\",\"increase score for:\")","v":""}]
[null,null,{"$f":"IF(VLOOKUP(D235,'Technical page'!$AO$124:$AQ$168,3,0)=\"OK\",\"\",\"major issue\")","v":""},{"$f":"'Chapter 2'!C260","v":"Q2.42"},{"$f":"'Chapter 2'!D260","v":"Jakým způsobem organizace řídí své emise zápachu?"},null,null,null,null,null,null,{"$f":"COUNTBLANK(N235:U235)","v":8},null,{"$f":"IF(VLOOKUP(D235,'Specific reports'!$E$6:$H$112,4,FALSE)=\"increase score\",\"ISO 9001\",\"\")","v":""},{"$f":"IF(VLOOKUP(D235,'Specific reports'!$E$116:$H$222,4,FALSE)=\"increase score\",\"ISO 14001\",\"\")","v":""},{"$f":"IF(VLOOKUP(D235,'Specific reports'!$E$226:$H$332,4,FALSE)=\"increase score\",\"ISO 26000\",\"\")","v":""},{"$f":"IF(VLOOKUP(D235,'Specific reports'!$E$336:$H$552,4,FALSE)=\"increase score\",\"ISO 45001\",\"\")","v":""},{"$f":"IF(VLOOKUP(D235,'Specific reports'!$E$556:$H$662,4,FALSE)=\"increase score\",\"EMAS\",\"\")","v":""},{"$f":"IF(VLOOKUP(D235,'Specific reports'!$E$666:$H$772,4,FALSE)=\"increase score\",\"RC14001\",\"\")","v":""},{"$f":"IF(VLOOKUP(D235,'Specific reports'!$E$776:$H$882,4,FALSE)=\"increase score\",\"RCMS\",\"\")","v":""}]
[null,null,null,null,"Your score",null,{"$f":"VLOOKUP(D235,'Technical page'!$B$124:$C$168,2,FALSE)","v":3},null,null,null,null,null,null,{"$f":"CONCATENATE(G236,\" = \",HLOOKUP(\" \",'Chapter 2'!D259:E264,Tips!G236+2))","v":"3 = Organizace disponuje kontaktním místem pro případ obtěžování zápachem."}]
[null,null,null,null,"Try to improve",null,{"$f":"VLOOKUP(CONCATENATE(D235,$M$3),'Technical page'!$BG$124:$BI$303,3,FALSE)","v":"Set emission reduction targets and indicators. Verify progress towards these targets systematically."}]
[null,null,null,null,null,null,null,null,null,null,null,null,null,{"$f":"IF(L239=8,\"\",\"increase score for:\")","v":"increase score for:"}]
[null,null,{"$f":"IF(VLOOKUP(D239,'Technical page'!$AO$124:$AQ$168,3,0)=\"OK\",\"\",\"major issue\")","v":""},{"$f":"'Chapter 2'!C266","v":"Q2.43"},{"$f":"'Chapter 2'!D266","v":"Jakým způsobem organizace zabraňuje a řídí havarijní emise do prostředí?"},null,null,null,null,null,null,{"$f":"COUNTBLANK(N239:U239)","v":7},null,{"$f":"IF(VLOOKUP(D239,'Specific reports'!$E$6:$H$112,4,FALSE)=\"increase score\",\"ISO 9001\",\"\")","v":""},{"$f":"IF(VLOOKUP(D239,'Specific reports'!$E$116:$H$222,4,FALSE)=\"increase score\",\"ISO 14001\",\"\")","v":""},{"$f":"IF(VLOOKUP(D239,'Specific reports'!$E$226:$H$332,4,FALSE)=\"increase score\",\"ISO 26000\",\"\")","v":"ISO 26000"},{"$f":"IF(VLOOKUP(D239,'Specific reports'!$E$336:$H$552,4,FALSE)=\"increase score\",\"ISO 45001\",\"\")","v":""},{"$f":"IF(VLOOKUP(D239,'Specific reports'!$E$556:$H$662,4,FALSE)=\"increase score\",\"EMAS\",\"\")","v":""},{"$f":"IF(VLOOKUP(D239,'Specific reports'!$E$666:$H$772,4,FALSE)=\"increase score\",\"RC14001\",\"\")","v":""},{"$f":"IF(VLOOKUP(D239,'Specific reports'!$E$776:$H$882,4,FALSE)=\"increase score\",\"RCMS\",\"\")","v":""}]
[null,null,null,null,"Your score",null,{"$f":"VLOOKUP(D239,'Technical page'!$B$124:$C$168,2,FALSE)","v":3},null,null,null,null,null,null,{"$f":"CONCATENATE(G240,\" = \",HLOOKUP(\" \",'Chapter 2'!D265:E270,Tips!G240+2))","v":"3 = V případě havarijního znečištění disponuje organizace havarijním postupem. Zdroje nebo příčiny havarijního znečištění byly vyhodnoceny jako součást studie Procesní bezpečnosti. Následně byly zavedeny příslušné identifikované protiopatření."}]
[null,null,null,null,"Try to improve",null,{"$f":"VLOOKUP(CONCATENATE(D239,$M$3),'Technical page'!$BG$124:$BI$303,3,FALSE)","v":"Set up a communication procedure with local stakeholders (authorities, media, local residents…) and evaluate and improve the effectiveness of the process regularly. In case of plastics, companies may decide to participate in initiatives such as operation clean sweep OCS https://www.opcleansweep.org/ to reduce flake, pellet and powder loss."}]
[null,null,null,null,null,null,null,null,null,null,null,null,null,{"$f":"IF(L243=8,\"\",\"increase score for:\")","v":""}]
[null,null,{"$f":"IF(VLOOKUP(D243,'Technical page'!$AO$124:$AQ$168,3,0)=\"OK\",\"\",\"major issue\")","v":""},{"$f":"'Chapter 2'!C272","v":"Q2.44"},{"$f":"'Chapter 2'!D272","v":"Jakým způsobem zajišťuje organizace správně kompetence všech pracovníků, týkající se environmentálních požadavků, které souvisejí s jejich pracovní náplní?"},null,null,null,null,null,null,{"$f":"COUNTBLANK(N243:U243)","v":8},null,{"$f":"IF(VLOOKUP(D243,'Specific reports'!$E$6:$H$112,4,FALSE)=\"increase score\",\"ISO 9001\",\"\")","v":""},{"$f":"IF(VLOOKUP(D243,'Specific reports'!$E$116:$H$222,4,FALSE)=\"increase score\",\"ISO 14001\",\"\")","v":""},{"$f":"IF(VLOOKUP(D243,'Specific reports'!$E$226:$H$332,4,FALSE)=\"increase score\",\"ISO 26000\",\"\")","v":""},{"$f":"IF(VLOOKUP(D243,'Specific reports'!$E$336:$H$552,4,FALSE)=\"increase score\",\"ISO 45001\",\"\")","v":""},{"$f":"IF(VLOOKUP(D243,'Specific reports'!$E$556:$H$662,4,FALSE)=\"increase score\",\"EMAS\",\"\")","v":""},{"$f":"IF(VLOOKUP(D243,'Specific reports'!$E$666:$H$772,4,FALSE)=\"increase score\",\"RC14001\",\"\")","v":""},{"$f":"IF(VLOOKUP(D243,'Specific reports'!$E$776:$H$882,4,FALSE)=\"increase score\",\"RCMS\",\"\")","v":""}]
[null,null,null,null,"Your score",null,{"$f":"VLOOKUP(D243,'Technical page'!$B$124:$C$168,2,FALSE)","v":3},null,null,null,null,null,null,{"$f":"CONCATENATE(G244,\" = \",HLOOKUP(\" \",'Chapter 2'!D271:E276,Tips!G244+2))","v":"3 = Všichni zaměstnanci jsou si přinejmenším vědomi environmentálních cílů organizace. Zaměstnanci vědí, jakým způsobem mohou přispět a jaké jsou důsledky v případě nepřispívání a k procesům environmentálního řízení. Odborníci na životní prostředí získávají další vzdělávání související s nejnovějšími nástroji a technikami."}]
[null,null,null,null,"Try to improve",null,{"$f":"VLOOKUP(CONCATENATE(D243,$M$3),'Technical page'!$BG$124:$BI$303,3,FALSE)","v":"Keep proof of trainings available and evaluate the effectiveness of the trainings on a regular basis."}]
[null,null,null,null,null,null,null,null,null,null,null,null,null,{"$f":"IF(L247=8,\"\",\"increase score for:\")","v":"increase score for:"}]
[null,null,{"$f":"IF(VLOOKUP(D247,'Technical page'!$AO$124:$AQ$168,3,0)=\"OK\",\"\",\"major issue\")","v":""},{"$f":"'Chapter 2'!C278","v":"Q2.45"},{"$f":"'Chapter 2'!D278","v":"Jakým způsobem jsou zainteresované strany organizace informovány o environmentálních aspektech a jejich možných dopadech?"},null,null,null,null,null,null,{"$f":"COUNTBLANK(N247:U247)","v":4},null,{"$f":"IF(VLOOKUP(D247,'Specific reports'!$E$6:$H$112,4,FALSE)=\"increase score\",\"ISO 9001\",\"\")","v":""},{"$f":"IF(VLOOKUP(D247,'Specific reports'!$E$116:$H$222,4,FALSE)=\"increase score\",\"ISO 14001\",\"\")","v":""},{"$f":"IF(VLOOKUP(D247,'Specific reports'!$E$226:$H$332,4,FALSE)=\"increase score\",\"ISO 26000\",\"\")","v":"ISO 26000"},{"$f":"IF(VLOOKUP(D247,'Specific reports'!$E$336:$H$552,4,FALSE)=\"increase score\",\"ISO 45001\",\"\")","v":""},{"$f":"IF(VLOOKUP(D247,'Specific reports'!$E$556:$H$662,4,FALSE)=\"increase score\",\"EMAS\",\"\")","v":"EMAS"},{"$f":"IF(VLOOKUP(D247,'Specific reports'!$E$666:$H$772,4,FALSE)=\"increase score\",\"RC14001\",\"\")","v":"RC14001"},{"$f":"IF(VLOOKUP(D247,'Specific reports'!$E$776:$H$882,4,FALSE)=\"increase score\",\"RCMS\",\"\")","v":"RCMS"}]
[null,null,null,null,"Your score",null,{"$f":"VLOOKUP(D247,'Technical page'!$B$124:$C$168,2,FALSE)","v":1},null,null,null,null,null,null,{"$f":"CONCATENATE(G248,\" = \",HLOOKUP(\" \",'Chapter 2'!D277:E282,Tips!G248+2))","v":"1 = Organizace upozorňuje své zaměstnance na prevenci a opatření, která je třeba podniknout (například v případě havarijního znečištění)."}]
[null,null,null,null,"Try to improve",null,{"$f":"VLOOKUP(CONCATENATE(D247,$M$3),'Technical page'!$BG$124:$BI$303,3,FALSE)","v":"Inform the local community periodically about environmental aspects related to their activities."}]
[]
[null,null,"CHAPTER 3","Strengthening Chemicals Management Systems"]
[null,{"$f":"'Chapter 3'!B4","v":"Návrhování a zlepšování produktu"},null,null,null,null,null,null,null,null,null,null,null,{"$f":"IF(L253=8,\"\",\"increase score for:\")","v":""}]
[null,null,{"$f":"IF(VLOOKUP(D253,'Technical page'!$AO$406:$AQ$418,3,0)=\"OK\",\"\",\"major issue\")","v":""},{"$f":"'Chapter 3'!C6","v":"Q3.1"},{"$f":"'Chapter 3'!D6","v":"Zavedla organizace proces pro navrhování a vývoj nových \nproduktů a služeb?"},null,null,null,null,null,null,{"$f":"COUNTBLANK(N253:U253)","v":8},null,{"$f":"IF(VLOOKUP(D253,'Specific reports'!$E$6:$H$112,4,FALSE)=\"increase score\",\"ISO 9001\",\"\")","v":""},{"$f":"IF(VLOOKUP(D253,'Specific reports'!$E$116:$H$222,4,FALSE)=\"increase score\",\"ISO 14001\",\"\")","v":""},{"$f":"IF(VLOOKUP(D253,'Specific reports'!$E$226:$H$332,4,FALSE)=\"increase score\",\"ISO 26000\",\"\")","v":""},{"$f":"IF(VLOOKUP(D253,'Specific reports'!$E$336:$H$552,4,FALSE)=\"increase score\",\"ISO 45001\",\"\")","v":""},{"$f":"IF(VLOOKUP(D253,'Specific reports'!$E$556:$H$662,4,FALSE)=\"increase score\",\"EMAS\",\"\")","v":""},{"$f":"IF(VLOOKUP(D253,'Specific reports'!$E$666:$H$772,4,FALSE)=\"increase score\",\"RC14001\",\"\")","v":""},{"$f":"IF(VLOOKUP(D253,'Specific reports'!$E$776:$H$882,4,FALSE)=\"increase score\",\"RCMS\",\"\")","v":""}]
[null,null,null,null,"Your score",null,{"$f":"VLOOKUP(D253,'Technical page'!$B$406:$C$418,2,FALSE)","v":4},null,null,null,null,null,null,{"$f":"CONCATENATE(G254,\" = \",HLOOKUP(\" \",'Chapter 3'!D5:E10,Tips!G254+2))","v":"4 = Organizace bere v úvahu takové faktory, jakými je zamýšlené použití, očekávaná životnost produktu, trvanlivost, opětovné použití, možnost recyklace nebo prospěšné využití produktu při jeho vývoji. Při navrhování procesů spotřeby energie se zvažují možnosti zlepšení energetické náročnosti. Při navrhování nového nebo zlepšování stávajícího produktu se zohledňuje analýza životního cyklu tohoto produktu. Organizace se viditelně hlásí k plnění svých závazků."}]
[null,null,null,null,"Try to improve",null,{"$f":"VLOOKUP(CONCATENATE(D253,$M$3),'Technical page'!$BG$406:$BI$452,3,FALSE)","v":"Take into consideration factors such as intended use, expected product lifetime, durability, reuse, recyclability or beneficial disposition of the product in its development to take into account the full Life Cycle Analysis of the product (including end of life). \nImplement a procedure to develop product substitution strategies for critical products, by identifying appropriate resources and clear objectives. Consider energy performance improvement opportunities in the design of energy consuming processes."}]
[null,{"$f":"'Chapter 3'!B12","v":"Stanovování priorit produktů"},null,null,null,null,null,null,null,null,null,null,null,{"$f":"IF(L257=8,\"\",\"increase score for:\")","v":""}]
[null,null,{"$f":"IF(VLOOKUP(D257,'Technical page'!$AO$406:$AQ$418,3,0)=\"OK\",\"\",\"major issue\")","v":""},{"$f":"'Chapter 3'!C14","v":"Q3.2"},{"$f":"'Chapter 3'!D14","v":"Má organizace k dispozici proces hodnocení a stanovení priorit svých produktů pro charakterizaci rizik a řízení rizik?\n\n\n"},null,null,null,null,null,null,{"$f":"COUNTBLANK(N257:U257)","v":8},null,{"$f":"IF(VLOOKUP(D257,'Specific reports'!$E$6:$H$112,4,FALSE)=\"increase score\",\"ISO 9001\",\"\")","v":""},{"$f":"IF(VLOOKUP(D257,'Specific reports'!$E$116:$H$222,4,FALSE)=\"increase score\",\"ISO 14001\",\"\")","v":""},{"$f":"IF(VLOOKUP(D257,'Specific reports'!$E$226:$H$332,4,FALSE)=\"increase score\",\"ISO 26000\",\"\")","v":""},{"$f":"IF(VLOOKUP(D257,'Specific reports'!$E$336:$H$552,4,FALSE)=\"increase score\",\"ISO 45001\",\"\")","v":""},{"$f":"IF(VLOOKUP(D257,'Specific reports'!$E$556:$H$662,4,FALSE)=\"increase score\",\"EMAS\",\"\")","v":""},{"$f":"IF(VLOOKUP(D257,'Specific reports'!$E$666:$H$772,4,FALSE)=\"increase score\",\"RC14001\",\"\")","v":""},{"$f":"IF(VLOOKUP(D257,'Specific reports'!$E$776:$H$882,4,FALSE)=\"increase score\",\"RCMS\",\"\")","v":""}]
[null,null,null,null,"Your score",null,{"$f":"VLOOKUP(D257,'Technical page'!$B$406:$C$418,2,FALSE)","v":2},null,null,null,null,null,null,{"$f":"CONCATENATE(G258,\" = \",HLOOKUP(\" \",'Chapter 3'!D13:E18,Tips!G258+2))","v":"2 = Tento proces se používá za použití vypracovaných kritérií pro stanovení priorit produktů pro každou skupinu výrobků (kritéria založená na nových informacích, použití a vzorcích expozice v souvislosti s profilem nebezpečnosti chemické látky). Tento proces se vztahuje na nové a stávající produkty. Kritéria pro stanovení priorit jsou pravidelně aktualizována."}]
[null,null,null,null,"Try to improve",null,{"$f":"VLOOKUP(CONCATENATE(D257,$M$3),'Technical page'!$BG$406:$BI$452,3,FALSE)","v":"The process is more elaborated and run on a continuous basis. Automatic alert for new information released on substances and products is in place (e.g. RSS feed from scientific journals). "}]
[null,{"$f":"'Chapter 3'!B20","v":"Informace o produktu "},null,null,null,null,null,null,null,null,null,null,null,{"$f":"IF(L261=8,\"\",\"increase score for:\")","v":""}]
[null,null,{"$f":"IF(VLOOKUP(D261,'Technical page'!$AO$406:$AQ$418,3,0)=\"OK\",\"\",\"major issue\")","v":""},{"$f":"'Chapter 3'!C22","v":"Q3.3"},{"$f":"'Chapter 3'!D22","v":"Zavedla organizace systém pro sledování použitelnosti, změn a dodržování interních a externích požadavků souvisejících s řízením bezpečnosti chemických látek?"},null,null,null,null,null,null,{"$f":"COUNTBLANK(N261:U261)","v":8},null,{"$f":"IF(VLOOKUP(D261,'Specific reports'!$E$6:$H$112,4,FALSE)=\"increase score\",\"ISO 9001\",\"\")","v":""},{"$f":"IF(VLOOKUP(D261,'Specific reports'!$E$116:$H$222,4,FALSE)=\"increase score\",\"ISO 14001\",\"\")","v":""},{"$f":"IF(VLOOKUP(D261,'Specific reports'!$E$226:$H$332,4,FALSE)=\"increase score\",\"ISO 26000\",\"\")","v":""},{"$f":"IF(VLOOKUP(D261,'Specific reports'!$E$336:$H$552,4,FALSE)=\"increase score\",\"ISO 45001\",\"\")","v":""},{"$f":"IF(VLOOKUP(D261,'Specific reports'!$E$556:$H$662,4,FALSE)=\"increase score\",\"EMAS\",\"\")","v":""},{"$f":"IF(VLOOKUP(D261,'Specific reports'!$E$666:$H$772,4,FALSE)=\"increase score\",\"RC14001\",\"\")","v":""},{"$f":"IF(VLOOKUP(D261,'Specific reports'!$E$776:$H$882,4,FALSE)=\"increase score\",\"RCMS\",\"\")","v":""}]
[null,null,null,null,"Your score",null,{"$f":"VLOOKUP(D261,'Technical page'!$B$406:$C$418,2,FALSE)","v":4},null,null,null,null,null,null,{"$f":"CONCATENATE(G262,\" = \",HLOOKUP(\" \",'Chapter 3'!D21:E26,Tips!G262+2))","v":"4 = Organizace předpokládá vývoj legislativy v souvislosti s látkami používanými ve svých výrobcích spolu s externími partnery. Tento proces zahrnuje přijímání vhodných a včasných informací o legislativních změnách.\nOrganizace zajišťuje proaktivní komunikaci s dodavatelským řetězcem (řízení omezených látek, náhrada nebezpečných sloučenin)."}]
[null,null,null,null,"Try to improve",null,{"$f":"VLOOKUP(CONCATENATE(D261,$M$3),'Technical page'!$BG$406:$BI$452,3,FALSE)","v":"No need to immediately change strategy, however always seek improvement."}]
[null,null,null,null,null,null,null,null,null,null,null,null,null,{"$f":"IF(L265=8,\"\",\"increase score for:\")","v":"increase score for:"}]
[null,null,{"$f":"IF(VLOOKUP(D265,'Technical page'!$AO$406:$AQ$418,3,0)=\"OK\",\"\",\"major issue\")","v":""},{"$f":"'Chapter 3'!C28","v":"Q3.4"},{"$f":"'Chapter 3'!D28","v":"Zavedla organizace systém na správu existujících informací o rizicích svých produktů?"},null,null,null,null,null,null,{"$f":"COUNTBLANK(N265:U265)","v":6},null,{"$f":"IF(VLOOKUP(D265,'Specific reports'!$E$6:$H$112,4,FALSE)=\"increase score\",\"ISO 9001\",\"\")","v":""},{"$f":"IF(VLOOKUP(D265,'Specific reports'!$E$116:$H$222,4,FALSE)=\"increase score\",\"ISO 14001\",\"\")","v":""},{"$f":"IF(VLOOKUP(D265,'Specific reports'!$E$226:$H$332,4,FALSE)=\"increase score\",\"ISO 26000\",\"\")","v":""},{"$f":"IF(VLOOKUP(D265,'Specific reports'!$E$336:$H$552,4,FALSE)=\"increase score\",\"ISO 45001\",\"\")","v":""},{"$f":"IF(VLOOKUP(D265,'Specific reports'!$E$556:$H$662,4,FALSE)=\"increase score\",\"EMAS\",\"\")","v":""},{"$f":"IF(VLOOKUP(D265,'Specific reports'!$E$666:$H$772,4,FALSE)=\"increase score\",\"RC14001\",\"\")","v":"RC14001"},{"$f":"IF(VLOOKUP(D265,'Specific reports'!$E$776:$H$882,4,FALSE)=\"increase score\",\"RCMS\",\"\")","v":"RCMS"}]
[null,null,null,null,"Your score",null,{"$f":"VLOOKUP(D265,'Technical page'!$B$406:$C$418,2,FALSE)","v":2},null,null,null,null,null,null,{"$f":"CONCATENATE(G266,\" = \",HLOOKUP(\" \",'Chapter 3'!D27:E32,Tips!G266+2))","v":"2 = Existující informace jsou uvedeny v dokumentaci, která se pravidelně aktualizuje a je volně dostupná."}]
[null,null,null,null,"Try to improve",null,{"$f":"VLOOKUP(CONCATENATE(D265,$M$3),'Technical page'!$BG$406:$BI$452,3,FALSE)","v":"Implement a process to review available information for reliability and quality, by resources trained to assess hazard information. "}]
[null,null,null,null,null,null,null,null,null,null,null,null,null,{"$f":"IF(L269=8,\"\",\"increase score for:\")","v":""}]
[null,null,{"$f":"IF(VLOOKUP(D269,'Technical page'!$AO$406:$AQ$418,3,0)=\"OK\",\"\",\"major issue\")","v":""},{"$f":"'Chapter 3'!C34","v":"Q3.5"},{"$f":"'Chapter 3'!D34","v":"Zavedla organizace proces řízení informací o používání a expozici svých produktů?"},null,null,null,null,null,null,{"$f":"COUNTBLANK(N269:U269)","v":8},null,{"$f":"IF(VLOOKUP(D269,'Specific reports'!$E$6:$H$112,4,FALSE)=\"increase score\",\"ISO 9001\",\"\")","v":""},{"$f":"IF(VLOOKUP(D269,'Specific reports'!$E$116:$H$222,4,FALSE)=\"increase score\",\"ISO 14001\",\"\")","v":""},{"$f":"IF(VLOOKUP(D269,'Specific reports'!$E$226:$H$332,4,FALSE)=\"increase score\",\"ISO 26000\",\"\")","v":""},{"$f":"IF(VLOOKUP(D269,'Specific reports'!$E$336:$H$552,4,FALSE)=\"increase score\",\"ISO 45001\",\"\")","v":""},{"$f":"IF(VLOOKUP(D269,'Specific reports'!$E$556:$H$662,4,FALSE)=\"increase score\",\"EMAS\",\"\")","v":""},{"$f":"IF(VLOOKUP(D269,'Specific reports'!$E$666:$H$772,4,FALSE)=\"increase score\",\"RC14001\",\"\")","v":""},{"$f":"IF(VLOOKUP(D269,'Specific reports'!$E$776:$H$882,4,FALSE)=\"increase score\",\"RCMS\",\"\")","v":""}]
[null,null,null,null,"Your score",null,{"$f":"VLOOKUP(D269,'Technical page'!$B$406:$C$418,2,FALSE)","v":1},null,null,null,null,null,null,{"$f":"CONCATENATE(G270,\" = \",HLOOKUP(\" \",'Chapter 3'!D33:E38,Tips!G270+2))","v":"1 = V organizaci byl zaveden proces na dokumentaci používání a spotřeby produktů na základě systému deskriptorů použití, a to včetně informací o příslušných provozních podmínkách (např. roční objemy, trvání expozice)."}]
[null,null,null,null,"Try to improve",null,{"$f":"VLOOKUP(CONCATENATE(D269,$M$3),'Technical page'!$BG$406:$BI$452,3,FALSE)","v":"In addition to the intended uses of a product, capture deliberate misuses and inappropriate uses and integrate them in a documentation system that tracks uses. \nMake sure you identify information on uses from downstream users. "}]
[null,null,null,null,null,null,null,null,null,null,null,null,null,{"$f":"IF(L273=8,\"\",\"increase score for:\")","v":""}]
[null,null,{"$f":"IF(VLOOKUP(D273,'Technical page'!$AO$406:$AQ$418,3,0)=\"OK\",\"\",\"major issue\")","v":""},{"$f":"'Chapter 3'!C40","v":"Q3.6"},{"$f":"'Chapter 3'!D40","v":"Zavedla organizace proces na správu nových informací?"},null,null,null,null,null,null,{"$f":"COUNTBLANK(N273:U273)","v":8},null,{"$f":"IF(VLOOKUP(D273,'Specific reports'!$E$6:$H$112,4,FALSE)=\"increase score\",\"ISO 9001\",\"\")","v":""},{"$f":"IF(VLOOKUP(D273,'Specific reports'!$E$116:$H$222,4,FALSE)=\"increase score\",\"ISO 14001\",\"\")","v":""},{"$f":"IF(VLOOKUP(D273,'Specific reports'!$E$226:$H$332,4,FALSE)=\"increase score\",\"ISO 26000\",\"\")","v":""},{"$f":"IF(VLOOKUP(D273,'Specific reports'!$E$336:$H$552,4,FALSE)=\"increase score\",\"ISO 45001\",\"\")","v":""},{"$f":"IF(VLOOKUP(D273,'Specific reports'!$E$556:$H$662,4,FALSE)=\"increase score\",\"EMAS\",\"\")","v":""},{"$f":"IF(VLOOKUP(D273,'Specific reports'!$E$666:$H$772,4,FALSE)=\"increase score\",\"RC14001\",\"\")","v":""},{"$f":"IF(VLOOKUP(D273,'Specific reports'!$E$776:$H$882,4,FALSE)=\"increase score\",\"RCMS\",\"\")","v":""}]
[null,null,null,null,"Your score",null,{"$f":"VLOOKUP(D273,'Technical page'!$B$406:$C$418,2,FALSE)","v":1},null,null,null,null,null,null,{"$f":"CONCATENATE(G274,\" = \",HLOOKUP(\" \",'Chapter 3'!D39:E44,Tips!G274+2))","v":"1 = Organizace zavedla proces na:\n• identifikaci nedostatečných údajů v požadavcích na údaje s ohledem na stávající a novou legislativu.\n• stanovení a provádění plánů testování chemických látek za účelem doplňování informací dle potřeby a\n• vývoj a údržbu informací o nebezpečí, které se vyžadují pro splnění minimálních právních požadavků.\nInterní a / nebo externí zdroje by měly být technicky schopny porozumět informacím o nebezpečnosti a potenciální expozici."}]
[null,null,null,null,"Try to improve",null,{"$f":"VLOOKUP(CONCATENATE(D273,$M$3),'Technical page'!$BG$406:$BI$452,3,FALSE)","v":"Assign resources to monitor of new information. Regularly check available information in literature or disseminated REACH dossier information that could be relevant for your products or similar products, or the sector of activity. Implement a procedure to assess and integrate new information to the existing information for possible inclusion as basis for risk characterisation and management."}]
[null,{"$f":"'Chapter 3'!B46","v":"Charakterizace rizik"},null,null,null,null,null,null,null,null,null,null,null,{"$f":"IF(L277=8,\"\",\"increase score for:\")","v":"increase score for:"}]
[null,null,{"$f":"IF(VLOOKUP(D277,'Technical page'!$AO$406:$AQ$418,3,0)=\"OK\",\"\",\"major issue\")","v":""},{"$f":"'Chapter 3'!C48","v":"Q3.7"},{"$f":"'Chapter 3'!D48","v":"Zavedla organizace proces charakterizace rizik na základě shromážděných informací?"},null,null,null,null,null,null,{"$f":"COUNTBLANK(N277:U277)","v":6},null,{"$f":"IF(VLOOKUP(D277,'Specific reports'!$E$6:$H$112,4,FALSE)=\"increase score\",\"ISO 9001\",\"\")","v":""},{"$f":"IF(VLOOKUP(D277,'Specific reports'!$E$116:$H$222,4,FALSE)=\"increase score\",\"ISO 14001\",\"\")","v":""},{"$f":"IF(VLOOKUP(D277,'Specific reports'!$E$226:$H$332,4,FALSE)=\"increase score\",\"ISO 26000\",\"\")","v":""},{"$f":"IF(VLOOKUP(D277,'Specific reports'!$E$336:$H$552,4,FALSE)=\"increase score\",\"ISO 45001\",\"\")","v":""},{"$f":"IF(VLOOKUP(D277,'Specific reports'!$E$556:$H$662,4,FALSE)=\"increase score\",\"EMAS\",\"\")","v":""},{"$f":"IF(VLOOKUP(D277,'Specific reports'!$E$666:$H$772,4,FALSE)=\"increase score\",\"RC14001\",\"\")","v":"RC14001"},{"$f":"IF(VLOOKUP(D277,'Specific reports'!$E$776:$H$882,4,FALSE)=\"increase score\",\"RCMS\",\"\")","v":"RCMS"}]
[null,null,null,null,"Your score",null,{"$f":"VLOOKUP(D277,'Technical page'!$B$406:$C$418,2,FALSE)","v":2},null,null,null,null,null,null,{"$f":"CONCATENATE(G278,\" = \",HLOOKUP(\" \",'Chapter 3'!D47:E52,Tips!G278+2))","v":"2 = Organizace pravidelně posuzuje vliv nových informací o nebezpečnosti, použití a expozici, platných předpisů a osvědčení nových trhů nebo aplikací, událostí hlášených v rámci dodavatelského řetězce, nových technologií testování a vznikajících zdravotních nebo environmentálních problémů.\n\nDíky postupům zaměřeným na bdělost se zachycují nová rizika v rámci hodnotového řetězce.\nK dispozici je seznam událostí, které vedou k přehodnocení řízení bezpečnosti (např. nová aplikace, nová oblast prodeje, nové údaje o produktu atd.). V případě potřeby se přezkoumávají stávající hodnocení rizik."}]
[null,null,null,null,"Try to improve",null,{"$f":"VLOOKUP(CONCATENATE(D277,$M$3),'Technical page'!$BG$406:$BI$452,3,FALSE)","v":"Review regularly the risk characterisations to improve quality and integrate recent best practices (independently from the integration of new information). \nEnlarge the scope of the risk characterisation to integrate secondary information on hazard and uses and/or conduct a risk characterisation that covers the product life's cycle.\nIt is recommended to have a good knowledge of the substances used, manufactured or imported on site, even for those that are not put on the market or subject to regulatory requirements, independently from the tonnage band (minimum battery test, product sheet, DNEL/PNEC calculations)."}]
[null,{"$f":"'Chapter 3'!B54","v":"Řízení rizik produktu"},null,null,null,null,null,null,null,null,null,null,null,{"$f":"IF(L281=8,\"\",\"increase score for:\")","v":"increase score for:"}]
[null,null,{"$f":"IF(VLOOKUP(D281,'Technical page'!$AO$406:$AQ$418,3,0)=\"OK\",\"\",\"major issue\")","v":""},{"$f":"'Chapter 3'!C56","v":"Q3.8"},{"$f":"'Chapter 3'!D56","v":"Zavedla organizace proces řízení rizik na základě shromážděných informací?"},null,null,null,null,null,null,{"$f":"COUNTBLANK(N281:U281)","v":5},null,{"$f":"IF(VLOOKUP(D281,'Specific reports'!$E$6:$H$112,4,FALSE)=\"increase score\",\"ISO 9001\",\"\")","v":""},{"$f":"IF(VLOOKUP(D281,'Specific reports'!$E$116:$H$222,4,FALSE)=\"increase score\",\"ISO 14001\",\"\")","v":""},{"$f":"IF(VLOOKUP(D281,'Specific reports'!$E$226:$H$332,4,FALSE)=\"increase score\",\"ISO 26000\",\"\")","v":"ISO 26000"},{"$f":"IF(VLOOKUP(D281,'Specific reports'!$E$336:$H$552,4,FALSE)=\"increase score\",\"ISO 45001\",\"\")","v":""},{"$f":"IF(VLOOKUP(D281,'Specific reports'!$E$556:$H$662,4,FALSE)=\"increase score\",\"EMAS\",\"\")","v":""},{"$f":"IF(VLOOKUP(D281,'Specific reports'!$E$666:$H$772,4,FALSE)=\"increase score\",\"RC14001\",\"\")","v":"RC14001"},{"$f":"IF(VLOOKUP(D281,'Specific reports'!$E$776:$H$882,4,FALSE)=\"increase score\",\"RCMS\",\"\")","v":"RCMS"}]
[null,null,null,null,"Your score",null,{"$f":"VLOOKUP(D281,'Technical page'!$B$406:$C$418,2,FALSE)","v":1},null,null,null,null,null,null,{"$f":"CONCATENATE(G282,\" = \",HLOOKUP(\" \",'Chapter 3'!D55:E60,Tips!G282+2))","v":"1 = Organizace zavedla proces zajišťování používání vhodných opatření k řízení rizik na základě dostupných informací.\n\nOrganizace informuje koncové uživatele o nebezpečnosti produktů a požadovaných preventivních a ochranných opatřeních (podmínky bezpečné manipulace, používání a skladování, likvidace). Na účinnou komunikaci o nebezpečích slouží správné označování a vhodné balení."}]
[null,null,null,null,"Try to improve",null,{"$f":"VLOOKUP(CONCATENATE(D281,$M$3),'Technical page'!$BG$406:$BI$452,3,FALSE)","v":"Reassess the risk management measures on use, storage and disposal of chemicals when new information is available on product hazard and risk characterisation. The expected level of knowledge and skills of possible user of (end-)products has to considered in the evaluations.  "}]
[null,null,null,null,null,null,null,null,null,null,null,null,null,{"$f":"IF(L285=8,\"\",\"increase score for:\")","v":"increase score for:"}]
[null,null,{"$f":"IF(VLOOKUP(D285,'Technical page'!$AO$406:$AQ$418,3,0)=\"OK\",\"\",\"major issue\")","v":""},{"$f":"'Chapter 3'!C62","v":"Q3.9"},{"$f":"'Chapter 3'!D62","v":"Zavedla organizace účinný proces sledování svých produktů po dodání a provádění nápravných opatření?\n"},null,null,null,null,null,null,{"$f":"COUNTBLANK(N285:U285)","v":5},null,{"$f":"IF(VLOOKUP(D285,'Specific reports'!$E$6:$H$112,4,FALSE)=\"increase score\",\"ISO 9001\",\"\")","v":""},{"$f":"IF(VLOOKUP(D285,'Specific reports'!$E$116:$H$222,4,FALSE)=\"increase score\",\"ISO 14001\",\"\")","v":""},{"$f":"IF(VLOOKUP(D285,'Specific reports'!$E$226:$H$332,4,FALSE)=\"increase score\",\"ISO 26000\",\"\")","v":"ISO 26000"},{"$f":"IF(VLOOKUP(D285,'Specific reports'!$E$336:$H$552,4,FALSE)=\"increase score\",\"ISO 45001\",\"\")","v":""},{"$f":"IF(VLOOKUP(D285,'Specific reports'!$E$556:$H$662,4,FALSE)=\"increase score\",\"EMAS\",\"\")","v":""},{"$f":"IF(VLOOKUP(D285,'Specific reports'!$E$666:$H$772,4,FALSE)=\"increase score\",\"RC14001\",\"\")","v":"RC14001"},{"$f":"IF(VLOOKUP(D285,'Specific reports'!$E$776:$H$882,4,FALSE)=\"increase score\",\"RCMS\",\"\")","v":"RCMS"}]
[null,null,null,null,"Your score",null,{"$f":"VLOOKUP(D285,'Technical page'!$B$406:$C$418,2,FALSE)","v":3},null,null,null,null,null,null,{"$f":"CONCATENATE(G286,\" = \",HLOOKUP(\" \",'Chapter 3'!D61:E66,Tips!G286+2))","v":"3 = Organizace zavedla a implementovala procesy pro oblast:\n• otázek a stížností od zákazníků \n• incidentů nebo nehod \n• odvolání produktů v rámci hodnotového řetězce.\nV rámci tohoto postupu se stanoví preventivní a nápravná opatření s cílem neustále zlepšovat řízení rizik produktů."}]
[null,null,null,null,"Try to improve",null,{"$f":"VLOOKUP(CONCATENATE(D285,$M$3),'Technical page'!$BG$406:$BI$452,3,FALSE)","v":"The organisation has internal processes in place and authorized person named in order to be ready to withdraw a product from the market where verified data demonstrates its harmfulness in some phase of its life cycle, significantly exceeding its useful value. Such processes include proper channels of communications to all stakeholders. In order to achieve a safe withdrawal, a tracking system is needed in order to know to which customers the product at issue has been sold/shipped.\nEstablish and maintain procedures to respond to accidents and emergency situations, and for preventing and/or mitigating the impacts that may be associated with them. These procedures shall include:\n- Appropriate consideration of communications and community recovery needs;\n- Appropriate participation in the development, implementation and maintenance of community emergency preparedness plans; and\n- An appropriate process for responding to raw material, product, process, waste material and transportation incidents."}]
[null,{"$f":"'Chapter 3'!B68","v":"Řízení hodnotového řetězce"},null,null,null,null,null,null,null,null,null,null,null,{"$f":"IF(L289=8,\"\",\"increase score for:\")","v":"increase score for:"}]
[null,null,{"$f":"IF(VLOOKUP(D289,'Technical page'!$AO$406:$AQ$418,3,0)=\"OK\",\"\",\"major issue\")","v":""},{"$f":"'Chapter 3'!C70","v":"Q3.10"},{"$f":"'Chapter 3'!D70","v":"Poskytuje organizace efektivní komunikaci v rámci dodavatelského řetězce ohledně opatření k řízení rizik, které se vztahují na jejich produkty?"},null,null,null,null,null,null,{"$f":"COUNTBLANK(N289:U289)","v":6},null,{"$f":"IF(VLOOKUP(D289,'Specific reports'!$E$6:$H$112,4,FALSE)=\"increase score\",\"ISO 9001\",\"\")","v":""},{"$f":"IF(VLOOKUP(D289,'Specific reports'!$E$116:$H$222,4,FALSE)=\"increase score\",\"ISO 14001\",\"\")","v":""},{"$f":"IF(VLOOKUP(D289,'Specific reports'!$E$226:$H$332,4,FALSE)=\"increase score\",\"ISO 26000\",\"\")","v":""},{"$f":"IF(VLOOKUP(D289,'Specific reports'!$E$336:$H$552,4,FALSE)=\"increase score\",\"ISO 45001\",\"\")","v":""},{"$f":"IF(VLOOKUP(D289,'Specific reports'!$E$556:$H$662,4,FALSE)=\"increase score\",\"EMAS\",\"\")","v":""},{"$f":"IF(VLOOKUP(D289,'Specific reports'!$E$666:$H$772,4,FALSE)=\"increase score\",\"RC14001\",\"\")","v":"RC14001"},{"$f":"IF(VLOOKUP(D289,'Specific reports'!$E$776:$H$882,4,FALSE)=\"increase score\",\"RCMS\",\"\")","v":"RCMS"}]
[null,null,null,null,"Your score",null,{"$f":"VLOOKUP(D289,'Technical page'!$B$406:$C$418,2,FALSE)","v":3},null,null,null,null,null,null,{"$f":"CONCATENATE(G290,\" = \",HLOOKUP(\" \",'Chapter 3'!D69:E74,Tips!G290+2))","v":"3 = Organizace zavedla proces sledování distribuce aktualizovaných verzí BL následným uživatelům a dalším zainteresovaným stranám. Organizace zajišťuje příjem a správné chápání svých BL a v případě potřeby navrhuje školení pro zákazníky a distributory s cílem zajistit bezpečnou manipulaci s produkty."}]
[null,null,null,null,"Try to improve",null,{"$f":"VLOOKUP(CONCATENATE(D289,$M$3),'Technical page'!$BG$406:$BI$452,3,FALSE)","v":"Make the SDSs publicly available and provide contact information for any third party to contact in case further information is requested. Integrate recyclability considerations in the SDS itself."}]
[]
[null,null,"CHAPTER 4","Influencing Business Partners"]
[null,{"$f":"'Chapter 4'!B4","v":"Odpovědné získávání zdrojů"},null,null,null,null,null,null,null,null,null,null,null,{"$f":"IF(L295=8,\"\",\"increase score for:\")","v":""}]
[null,null,{"$f":"IF(VLOOKUP(D295,'Technical page'!$AO$482:$AQ$489,3,0)=\"OK\",\"\",\"major issue\")","v":""},{"$f":"'Chapter 4'!C6","v":"Q4.1"},{"$f":"'Chapter 4'!D6","v":"Jak se organizace zavázala k odpovědnému získávání zdrojů?"},null,null,null,null,null,null,{"$f":"COUNTBLANK(N295:U295)","v":8},null,{"$f":"IF(VLOOKUP(D295,'Specific reports'!$E$6:$H$112,4,FALSE)=\"increase score\",\"ISO 9001\",\"\")","v":""},{"$f":"IF(VLOOKUP(D295,'Specific reports'!$E$116:$H$222,4,FALSE)=\"increase score\",\"ISO 14001\",\"\")","v":""},{"$f":"IF(VLOOKUP(D295,'Specific reports'!$E$226:$H$332,4,FALSE)=\"increase score\",\"ISO 26000\",\"\")","v":""},{"$f":"IF(VLOOKUP(D295,'Specific reports'!$E$336:$H$552,4,FALSE)=\"increase score\",\"ISO 45001\",\"\")","v":""},{"$f":"IF(VLOOKUP(D295,'Specific reports'!$E$556:$H$662,4,FALSE)=\"increase score\",\"EMAS\",\"\")","v":""},{"$f":"IF(VLOOKUP(D295,'Specific reports'!$E$666:$H$772,4,FALSE)=\"increase score\",\"RC14001\",\"\")","v":""},{"$f":"IF(VLOOKUP(D295,'Specific reports'!$E$776:$H$882,4,FALSE)=\"increase score\",\"RCMS\",\"\")","v":""}]
[null,null,null,null,"Your score",null,{"$f":"VLOOKUP(D295,'Technical page'!$B$482:$C$489,2,FALSE)","v":3},null,null,null,null,null,null,{"$f":"CONCATENATE(G296,\" = \",HLOOKUP(\" \",'Chapter 4'!E5:E10,Tips!G296+2))","v":"3 = c) Organizace zmapovala rizika spojená s obstaráváním a zohledňuje vliv na životní prostředí prostřednictvím ekologických kritérií v rámci procesu výběru zakoupeného zboží, vybavení a služeb. Při získávání energie za použití produktů, zařízení nebo služeb bere organizace jako jedno z kritérií energetickou náročnost po dobu předpokládané životnosti."}]
[null,null,null,null,"Try to improve",null,{"$f":"VLOOKUP(CONCATENATE(D295,$M$3),'Technical page'!$BG$482:$BI$513,3,FALSE)","v":"Devote a budget to purchase equipment and services that are more respectful of the environment and set the priorities of your purchases based on impact assessments.\nAn example of scheme that could be used (in total or parts) is TfS (https://tfs-initiative.com/). Companies may decide to use other schemes.  A good guidance document (developed by VCI) on “Sustainable Supply Chain Management for Medium-Size companies in the chemical industry” is https://www.chemiehoch3.de/fileadmin/user_upload/News/Chemie3_Guide_Supply_Chain_eng.pdf"}]
[null,{"$f":"'Chapter 4'!B12","v":"Spolupráce v dodavatelském řetězci (obchodní partneři)"},null,null,null,null,null,null,null,null,null,null,null,{"$f":"IF(L299=8,\"\",\"increase score for:\")","v":""}]
[null,null,{"$f":"IF(VLOOKUP(D299,'Technical page'!$AO$482:$AQ$489,3,0)=\"OK\",\"\",\"major issue\")","v":""},{"$f":"'Chapter 4'!C14","v":"Q4.2"},{"$f":"'Chapter 4'!D14","v":"Jak organizace zlepšuje spolupráci v dodavatelském řetězci?"},null,null,null,null,null,null,{"$f":"COUNTBLANK(N299:U299)","v":8},null,{"$f":"IF(VLOOKUP(D299,'Specific reports'!$E$6:$H$112,4,FALSE)=\"increase score\",\"ISO 9001\",\"\")","v":""},{"$f":"IF(VLOOKUP(D299,'Specific reports'!$E$116:$H$222,4,FALSE)=\"increase score\",\"ISO 14001\",\"\")","v":""},{"$f":"IF(VLOOKUP(D299,'Specific reports'!$E$226:$H$332,4,FALSE)=\"increase score\",\"ISO 26000\",\"\")","v":""},{"$f":"IF(VLOOKUP(D299,'Specific reports'!$E$336:$H$552,4,FALSE)=\"increase score\",\"ISO 45001\",\"\")","v":""},{"$f":"IF(VLOOKUP(D299,'Specific reports'!$E$556:$H$662,4,FALSE)=\"increase score\",\"EMAS\",\"\")","v":""},{"$f":"IF(VLOOKUP(D299,'Specific reports'!$E$666:$H$772,4,FALSE)=\"increase score\",\"RC14001\",\"\")","v":""},{"$f":"IF(VLOOKUP(D299,'Specific reports'!$E$776:$H$882,4,FALSE)=\"increase score\",\"RCMS\",\"\")","v":""}]
[null,null,null,null,"Your score",null,{"$f":"VLOOKUP(D299,'Technical page'!$B$482:$C$489,2,FALSE)","v":2},null,null,null,null,null,null,{"$f":"CONCATENATE(G300,\" = \",HLOOKUP(\" \",'Chapter 4'!E13:E18,Tips!G300+2))","v":"2 = Organizace zajišťuje přednostně služby pro důvěryhodné obchodní partnery a hodnotí jejich spokojenost s cílem udržení dobré spolupráce v čase."}]
[null,null,null,null,"Try to improve",null,{"$f":"VLOOKUP(CONCATENATE(D299,$M$3),'Technical page'!$BG$482:$BI$513,3,FALSE)","v":"Promotes the organisation's main business partners with middle-long terms contracts to enable them to invest in more efficient and responsible technologies."}]
[null,{"$f":"'Chapter 4'!B20","v":"Obchodní integrita"},null,null,null,null,null,null,null,null,null,null,null,{"$f":"IF(L303=8,\"\",\"increase score for:\")","v":"increase score for:"}]
[null,null,{"$f":"IF(VLOOKUP(D303,'Technical page'!$AO$482:$AQ$489,3,0)=\"OK\",\"\",\"major issue\")","v":""},{"$f":"'Chapter 4'!C22","v":"Q4.3"},{"$f":"'Chapter 4'!D22","v":"Jakým způsobem vyjadřuje organizace svůj závazek vůči podnikatelské etice?"},null,null,null,null,null,null,{"$f":"COUNTBLANK(N303:U303)","v":7},null,{"$f":"IF(VLOOKUP(D303,'Specific reports'!$E$6:$H$112,4,FALSE)=\"increase score\",\"ISO 9001\",\"\")","v":""},{"$f":"IF(VLOOKUP(D303,'Specific reports'!$E$116:$H$222,4,FALSE)=\"increase score\",\"ISO 14001\",\"\")","v":""},{"$f":"IF(VLOOKUP(D303,'Specific reports'!$E$226:$H$332,4,FALSE)=\"increase score\",\"ISO 26000\",\"\")","v":"ISO 26000"},{"$f":"IF(VLOOKUP(D303,'Specific reports'!$E$336:$H$552,4,FALSE)=\"increase score\",\"ISO 45001\",\"\")","v":""},{"$f":"IF(VLOOKUP(D303,'Specific reports'!$E$556:$H$662,4,FALSE)=\"increase score\",\"EMAS\",\"\")","v":""},{"$f":"IF(VLOOKUP(D303,'Specific reports'!$E$666:$H$772,4,FALSE)=\"increase score\",\"RC14001\",\"\")","v":""},{"$f":"IF(VLOOKUP(D303,'Specific reports'!$E$776:$H$882,4,FALSE)=\"increase score\",\"RCMS\",\"\")","v":""}]
[null,null,null,null,"Your score",null,{"$f":"VLOOKUP(D303,'Technical page'!$B$482:$C$489,2,FALSE)","v":3},null,null,null,null,null,null,{"$f":"CONCATENATE(G304,\" = \",HLOOKUP(\" \",'Chapter 4'!E21:E26,Tips!G304+2))","v":"3 = Organizace zavedla procesy, které zabraňují angažování nebo spolupůsobení v situacích nekalé soutěže a korupci (např. Zavedením systému, který umožňuje zaměstnancům anonymně upozorňovat na jakoukoliv situaci představující takové riziko)."}]
[null,null,null,null,"Try to improve",null,{"$f":"VLOOKUP(CONCATENATE(D303,$M$3),'Technical page'!$BG$482:$BI$513,3,FALSE)","v":"Make the organisation's stakeholders aware of the organisation's policy or code on business ethics (including anti-trust/breach of competition law rules practices and corruption) and allow the organisation's stakeholders access to a system to signal any situations presenting such risk."}]
[null,{"$f":"'Chapter 4'!B28","v":"Pracovní práva (Práva zaměstnanců)"},null,null,null,null,null,null,null,null,null,null,null,{"$f":"IF(L307=8,\"\",\"increase score for:\")","v":"increase score for:"}]
[null,null,{"$f":"IF(VLOOKUP(D307,'Technical page'!$AO$482:$AQ$489,3,0)=\"OK\",\"\",\"major issue\")","v":"major issue"},{"$f":"'Chapter 4'!C30","v":"Q4.4"},{"$f":"'Chapter 4'!D30","v":"Jakým způsobem řeší organizace sociální problematiku a lidská práva v rámci spolupráce s obchodními partnery?"},null,null,null,null,null,null,{"$f":"COUNTBLANK(N307:U307)","v":7},null,{"$f":"IF(VLOOKUP(D307,'Specific reports'!$E$6:$H$112,4,FALSE)=\"increase score\",\"ISO 9001\",\"\")","v":""},{"$f":"IF(VLOOKUP(D307,'Specific reports'!$E$116:$H$222,4,FALSE)=\"increase score\",\"ISO 14001\",\"\")","v":""},{"$f":"IF(VLOOKUP(D307,'Specific reports'!$E$226:$H$332,4,FALSE)=\"increase score\",\"ISO 26000\",\"\")","v":"ISO 26000"},{"$f":"IF(VLOOKUP(D307,'Specific reports'!$E$336:$H$552,4,FALSE)=\"increase score\",\"ISO 45001\",\"\")","v":""},{"$f":"IF(VLOOKUP(D307,'Specific reports'!$E$556:$H$662,4,FALSE)=\"increase score\",\"EMAS\",\"\")","v":""},{"$f":"IF(VLOOKUP(D307,'Specific reports'!$E$666:$H$772,4,FALSE)=\"increase score\",\"RC14001\",\"\")","v":""},{"$f":"IF(VLOOKUP(D307,'Specific reports'!$E$776:$H$882,4,FALSE)=\"increase score\",\"RCMS\",\"\")","v":""}]
[null,null,null,null,"Your score",null,{"$f":"VLOOKUP(D307,'Technical page'!$B$482:$C$489,2,FALSE)","v":1},null,null,null,null,null,null,{"$f":"CONCATENATE(G308,\" = \",HLOOKUP(\" \",'Chapter 4'!E29:E34,Tips!G308+2))","v":"1 = Tímto tématem se nezabývá."}]
[null,null,null,null,"Try to improve",null,{"$f":"VLOOKUP(CONCATENATE(D307,$M$3),'Technical page'!$BG$482:$BI$513,3,FALSE)","v":"Set up minimum requirements regarding social issues and human rights within the specifications of the organisation's business partners, and selects business partners based on these criteria."}]
[null,null,null,null,null,null,null,null,null,null,null,null,null,{"$f":"IF(L311=8,\"\",\"increase score for:\")","v":""}]
[null,null,{"$f":"IF(VLOOKUP(D311,'Technical page'!$AO$482:$AQ$489,3,0)=\"OK\",\"\",\"major issue\")","v":""},{"$f":"'Chapter 4'!C36","v":"Q4.5"},{"$f":"'Chapter 4'!D36","v":"Jakým způsobem zabraňuje organizace dětské práci?\nOrganizace\n1-\tzavedla systém ověřování věku; \n2-\tnezaměstnává děti mladší 15 let (v závislosti na místní legislativy). Jedinou výjimku představují učni, školní praxe nebo vzdělávací stáže; \n3-\tzaručuje, aby pracovní náplň osob mladších než 18 let neovlivňovala jejich školní docházku (doba strávená dopravou do práce a školy a z práce a školy, školní docházkou a prací je méně než 10 hodin denně );\n4-\tzajišťuje, že pracovní náplň mladých pracovníků není duševně, fyzicky, společensky ani morálně nebezpečná a škodlivá."},null,null,null,null,null,null,{"$f":"COUNTBLANK(N311:U311)","v":8},null,{"$f":"IF(VLOOKUP(D311,'Specific reports'!$E$6:$H$112,4,FALSE)=\"increase score\",\"ISO 9001\",\"\")","v":""},{"$f":"IF(VLOOKUP(D311,'Specific reports'!$E$116:$H$222,4,FALSE)=\"increase score\",\"ISO 14001\",\"\")","v":""},{"$f":"IF(VLOOKUP(D311,'Specific reports'!$E$226:$H$332,4,FALSE)=\"increase score\",\"ISO 26000\",\"\")","v":""},{"$f":"IF(VLOOKUP(D311,'Specific reports'!$E$336:$H$552,4,FALSE)=\"increase score\",\"ISO 45001\",\"\")","v":""},{"$f":"IF(VLOOKUP(D311,'Specific reports'!$E$556:$H$662,4,FALSE)=\"increase score\",\"EMAS\",\"\")","v":""},{"$f":"IF(VLOOKUP(D311,'Specific reports'!$E$666:$H$772,4,FALSE)=\"increase score\",\"RC14001\",\"\")","v":""},{"$f":"IF(VLOOKUP(D311,'Specific reports'!$E$776:$H$882,4,FALSE)=\"increase score\",\"RCMS\",\"\")","v":""}]
[null,null,null,null,"Your score",null,{"$f":"VLOOKUP(D311,'Technical page'!$B$482:$C$489,2,FALSE)","v":4},null,null,null,null,null,null,{"$f":"CONCATENATE(G312,\" = \",HLOOKUP(\" \",'Chapter 4'!E35:E40,Tips!G312+2))","v":"4 = všechny čtyři"}]
[null,null,null,null,"Try to improve",null,{"$f":"VLOOKUP(CONCATENATE(D311,$M$3),'Technical page'!$BG$482:$BI$513,3,FALSE)","v":"No need to immediately change strategy, however always seek improvement."}]
[null,{"$f":"'Chapter 4'!B42","v":"Logističtí partneři"},null,null,null,null,null,null,null,null,null,null,null,{"$f":"IF(L315=8,\"\",\"increase score for:\")","v":""}]
[null,null,{"$f":"IF(VLOOKUP(D315,'Technical page'!$AO$482:$AQ$489,3,0)=\"OK\",\"\",\"major issue\")","v":""},{"$f":"'Chapter 4'!C44","v":"Q4.6"},{"$f":"'Chapter 4'!D44","v":"Jakým způsobem zabezpečuje organizace splnění svých požadavků ze strany logistických partnerů?"},null,null,null,null,null,null,{"$f":"COUNTBLANK(N315:U315)","v":8},null,{"$f":"IF(VLOOKUP(D315,'Specific reports'!$E$6:$H$112,4,FALSE)=\"increase score\",\"ISO 9001\",\"\")","v":""},{"$f":"IF(VLOOKUP(D315,'Specific reports'!$E$116:$H$222,4,FALSE)=\"increase score\",\"ISO 14001\",\"\")","v":""},{"$f":"IF(VLOOKUP(D315,'Specific reports'!$E$226:$H$332,4,FALSE)=\"increase score\",\"ISO 26000\",\"\")","v":""},{"$f":"IF(VLOOKUP(D315,'Specific reports'!$E$336:$H$552,4,FALSE)=\"increase score\",\"ISO 45001\",\"\")","v":""},{"$f":"IF(VLOOKUP(D315,'Specific reports'!$E$556:$H$662,4,FALSE)=\"increase score\",\"EMAS\",\"\")","v":""},{"$f":"IF(VLOOKUP(D315,'Specific reports'!$E$666:$H$772,4,FALSE)=\"increase score\",\"RC14001\",\"\")","v":""},{"$f":"IF(VLOOKUP(D315,'Specific reports'!$E$776:$H$882,4,FALSE)=\"increase score\",\"RCMS\",\"\")","v":""}]
[null,null,null,null,"Your score",null,{"$f":"VLOOKUP(D315,'Technical page'!$B$482:$C$489,2,FALSE)","v":3},null,null,null,null,null,null,{"$f":"CONCATENATE(G316,\" = \",HLOOKUP(\" \",'Chapter 4'!E43:E48,Tips!G316+2))","v":"3 = Organizace ustanovila proces hodnocení svých logistických partnerů na základě dodržování požadavků organizace."}]
[null,null,null,null,"Try to improve",null,{"$f":"VLOOKUP(CONCATENATE(D315,$M$3),'Technical page'!$BG$482:$BI$513,3,FALSE)","v":"Regularly audit the organisation's logistics partners on their capacity to ensure compliance with the organisation's requirements (incl. energy efficiency and Greenhouse Gas (GHG) emissions).\nAn example of scheme that could be used (in total or parts) is SQAS (https://www.sqas.org/). Companies may decide to use other schemes or systems/criteria. The choice of a logistic provider is based on each company individual decision-making process which may or may not include SQAS."}]
[null,{"$f":"'Chapter 4'!B50","v":"Následní uživatelé"},null,null,null,null,null,null,null,null,null,null,null,{"$f":"IF(L319=8,\"\",\"increase score for:\")","v":""}]
[null,null,{"$f":"IF(VLOOKUP(D319,'Technical page'!$AO$482:$AQ$489,3,0)=\"OK\",\"\",\"major issue\")","v":""},{"$f":"'Chapter 4'!C52","v":"Q4.7"},{"$f":"'Chapter 4'!D52","v":"Jakým způsobem organizace chrání a zabezpečuje majetek a údaje následných uživatelů nebo externích poskytovatelů, které se používají nebo začleňují do produktů a služeb?"},null,null,null,null,null,null,{"$f":"COUNTBLANK(N319:U319)","v":8},null,{"$f":"IF(VLOOKUP(D319,'Specific reports'!$E$6:$H$112,4,FALSE)=\"increase score\",\"ISO 9001\",\"\")","v":""},{"$f":"IF(VLOOKUP(D319,'Specific reports'!$E$116:$H$222,4,FALSE)=\"increase score\",\"ISO 14001\",\"\")","v":""},{"$f":"IF(VLOOKUP(D319,'Specific reports'!$E$226:$H$332,4,FALSE)=\"increase score\",\"ISO 26000\",\"\")","v":""},{"$f":"IF(VLOOKUP(D319,'Specific reports'!$E$336:$H$552,4,FALSE)=\"increase score\",\"ISO 45001\",\"\")","v":""},{"$f":"IF(VLOOKUP(D319,'Specific reports'!$E$556:$H$662,4,FALSE)=\"increase score\",\"EMAS\",\"\")","v":""},{"$f":"IF(VLOOKUP(D319,'Specific reports'!$E$666:$H$772,4,FALSE)=\"increase score\",\"RC14001\",\"\")","v":""},{"$f":"IF(VLOOKUP(D319,'Specific reports'!$E$776:$H$882,4,FALSE)=\"increase score\",\"RCMS\",\"\")","v":""}]
[null,null,null,null,"Your score",null,{"$f":"VLOOKUP(D319,'Technical page'!$B$482:$C$489,2,FALSE)","v":3},null,null,null,null,null,null,{"$f":"CONCATENATE(G320,\" = \",HLOOKUP(\" \",'Chapter 4'!E51:E56,Tips!G320+2))","v":"3 = Organizace zavedla interní pravidla pro správu dat a majetku, které zajišťují jejich utajení (např. žádné údaje se neuchovávají déle, než je potřeba)."}]
[null,null,null,null,"Try to improve",null,{"$f":"VLOOKUP(CONCATENATE(D319,$M$3),'Technical page'!$BG$482:$BI$513,3,FALSE)","v":"Establish a regular dialogue with the organisation's downstream users and external providers to inform them on the situation and on the processes applied to ensure the best protection of their data and property."}]
[null,null,null,null,null,null,null,null,null,null,null,null,null,{"$f":"IF(L323=8,\"\",\"increase score for:\")","v":""}]
[null,null,{"$f":"IF(VLOOKUP(D323,'Technical page'!$AO$482:$AQ$489,3,0)=\"OK\",\"\",\"major issue\")","v":""},{"$f":"'Chapter 4'!C58","v":"Q4.8"},{"$f":"'Chapter 4'!D58","v":"Co zahrnuje dialog s následnými uživateli?"},null,null,null,null,null,null,{"$f":"COUNTBLANK(N323:U323)","v":8},null,{"$f":"IF(VLOOKUP(D323,'Specific reports'!$E$6:$H$112,4,FALSE)=\"increase score\",\"ISO 9001\",\"\")","v":""},{"$f":"IF(VLOOKUP(D323,'Specific reports'!$E$116:$H$222,4,FALSE)=\"increase score\",\"ISO 14001\",\"\")","v":""},{"$f":"IF(VLOOKUP(D323,'Specific reports'!$E$226:$H$332,4,FALSE)=\"increase score\",\"ISO 26000\",\"\")","v":""},{"$f":"IF(VLOOKUP(D323,'Specific reports'!$E$336:$H$552,4,FALSE)=\"increase score\",\"ISO 45001\",\"\")","v":""},{"$f":"IF(VLOOKUP(D323,'Specific reports'!$E$556:$H$662,4,FALSE)=\"increase score\",\"EMAS\",\"\")","v":""},{"$f":"IF(VLOOKUP(D323,'Specific reports'!$E$666:$H$772,4,FALSE)=\"increase score\",\"RC14001\",\"\")","v":""},{"$f":"IF(VLOOKUP(D323,'Specific reports'!$E$776:$H$882,4,FALSE)=\"increase score\",\"RCMS\",\"\")","v":""}]
[null,null,null,null,"Your score",null,{"$f":"VLOOKUP(D323,'Technical page'!$B$482:$C$489,2,FALSE)","v":4},null,null,null,null,null,null,{"$f":"CONCATENATE(G324,\" = \",HLOOKUP(\" \",'Chapter 4'!E57:E62,Tips!G324+2))","v":"4 = Poskytování informací o produktech a službách, vyřizování poptávek, smluv nebo objednávek včetně změn, získávání zpětné odezvy od zákazníků ohledně produktů a služeb včetně stížností následných uživatelů a v případě potřeby stanovení zvláštních požadavků na mimořádná opatření."}]
[null,null,null,null,"Try to improve",null,{"$f":"VLOOKUP(CONCATENATE(D323,$M$3),'Technical page'!$BG$482:$BI$513,3,FALSE)","v":"No need to immediately change strategy, however always seek improvement."}]
[]
[null,null,"CHAPTER 5","Engaging Stakeholders"]
[null,{"$f":"'Chapter 5'!B4","v":"Stakeholders assessment"},null,null,null,null,null,null,null,null,null,null,null,{"$f":"IF(L329=8,\"\",\"increase score for:\")","v":"increase score for:"}]
[null,null,null,{"$f":"'Chapter 5'!C6","v":"Q5.1"},{"$f":"'Chapter 5'!D6","v":"Jakým způsobem zapojuje organizace své externí zainteresované strany a naplňuje jejich očekávání?"},null,null,null,null,null,null,{"$f":"COUNTBLANK(N329:U329)","v":6},null,{"$f":"IF(VLOOKUP(D329,'Specific reports'!$E$6:$H$112,4,FALSE)=\"increase score\",\"ISO 9001\",\"\")","v":""},{"$f":"IF(VLOOKUP(D329,'Specific reports'!$E$116:$H$222,4,FALSE)=\"increase score\",\"ISO 14001\",\"\")","v":""},{"$f":"IF(VLOOKUP(D329,'Specific reports'!$E$226:$H$332,4,FALSE)=\"increase score\",\"ISO 26000\",\"\")","v":"ISO 26000"},{"$f":"IF(VLOOKUP(D329,'Specific reports'!$E$336:$H$552,4,FALSE)=\"increase score\",\"ISO 45001\",\"\")","v":""},{"$f":"IF(VLOOKUP(D329,'Specific reports'!$E$556:$H$662,4,FALSE)=\"increase score\",\"EMAS\",\"\")","v":""},{"$f":"IF(VLOOKUP(D329,'Specific reports'!$E$666:$H$772,4,FALSE)=\"increase score\",\"RC14001\",\"\")","v":""},{"$f":"IF(VLOOKUP(D329,'Specific reports'!$E$776:$H$882,4,FALSE)=\"increase score\",\"RCMS\",\"\")","v":"RCMS"}]
[null,null,null,null,"Your score",null,{"$f":"VLOOKUP(D329,'Technical page'!$B$544:$C$548,2,FALSE)","v":3},null,null,null,null,null,null,{"$f":"CONCATENATE(G330,\" = \",HLOOKUP(\" \",'Chapter 5'!D5:E10,Tips!G330+2))","v":"3 = Organizace posoudila hlediska svých zainteresovaných stran a bere je v úvahu. Na základě jejich vlivu organizace upřednostnila různé zainteresované strany (mapování)."}]
[null,null,null,null,"Try to improve",null,{"$f":"VLOOKUP(CONCATENATE(D329,$M$3),'Technical page'!$BG$544:$BI$563,3,FALSE)","v":"Get an understanding of what motivates your stakeholders and how you need to win them around.\n\nStakeholder needs and expectations can be both positive and negative. If stakeholders have positive needs and expectations regarding the organisation and its operations, consider how this information can reinforce programs within their business strategy. The key is that an organisation shall demonstrate active dialogue systems to solicit feedback from the stakeholders.\n\nIf using surveys to collect feedback, set a target for 'acceptable number of replies' prior to sending out the surveys. If the return rate is below your target, identify this area for improvement and develop a corrective action plan. This becomes part of the organisation's continual improvement focus."}]
[null,{"$f":"'Chapter 5'!B12","v":"Externí dialog a transparentnost"},null,null,null,null,null,null,null,null,null,null,null,{"$f":"IF(L333=8,\"\",\"increase score for:\")","v":"increase score for:"}]
[null,null,null,{"$f":"'Chapter 5'!C14","v":"Q5.2"},{"$f":"'Chapter 5'!D14","v":"Jakým způsobem vede organizace dialog s veřejností, úřady a dalšími zainteresovanými stranami, včetně místních komunit a zákazníků v souvislosti s HSE&S v rámci jejich činností, produktů a služeb?"},null,null,null,null,null,null,{"$f":"COUNTBLANK(N333:U333)","v":5},null,{"$f":"IF(VLOOKUP(D333,'Specific reports'!$E$6:$H$112,4,FALSE)=\"increase score\",\"ISO 9001\",\"\")","v":""},{"$f":"IF(VLOOKUP(D333,'Specific reports'!$E$116:$H$222,4,FALSE)=\"increase score\",\"ISO 14001\",\"\")","v":""},{"$f":"IF(VLOOKUP(D333,'Specific reports'!$E$226:$H$332,4,FALSE)=\"increase score\",\"ISO 26000\",\"\")","v":"ISO 26000"},{"$f":"IF(VLOOKUP(D333,'Specific reports'!$E$336:$H$552,4,FALSE)=\"increase score\",\"ISO 45001\",\"\")","v":""},{"$f":"IF(VLOOKUP(D333,'Specific reports'!$E$556:$H$662,4,FALSE)=\"increase score\",\"EMAS\",\"\")","v":"EMAS"},{"$f":"IF(VLOOKUP(D333,'Specific reports'!$E$666:$H$772,4,FALSE)=\"increase score\",\"RC14001\",\"\")","v":""},{"$f":"IF(VLOOKUP(D333,'Specific reports'!$E$776:$H$882,4,FALSE)=\"increase score\",\"RCMS\",\"\")","v":"RCMS"}]
[null,null,null,null,"Your score",null,{"$f":"VLOOKUP(D333,'Technical page'!$B$544:$C$548,2,FALSE)","v":2},null,null,null,null,null,null,{"$f":"CONCATENATE(G334,\" = \",HLOOKUP(\" \",'Chapter 5'!D13:E18,Tips!G334+2))","v":"2 = Organizace informuje a komunikuje s klíčovými zainteresovanými stranami o svých aktivitách."}]
[null,null,null,null,"Try to improve",null,{"$f":"VLOOKUP(CONCATENATE(D333,$M$3),'Technical page'!$BG$544:$BI$563,3,FALSE)","v":"The next step is to define certain relevant channels for dialoguing with your company's key stakeholders. \n\nThis can be achieved by a newsletter, a summary report from stakeholder meetings or by regular progress reports. The central concern is to observe the agreed forms of communication. Be aware that stakeholder dialogues are fragile systems, and transparent and reliable communication may act as a stabilising factor."}]
[null,null,null,null,null,null,null,null,null,null,null,null,null,{"$f":"IF(L337=8,\"\",\"increase score for:\")","v":"increase score for:"}]
[null,null,null,{"$f":"'Chapter 5'!C20","v":"Q5.3"},{"$f":"'Chapter 5'!D20","v":"Jakým způsobem zveřejňuje organizace informace týkající se\n HSE&S?"},null,null,null,null,null,null,{"$f":"COUNTBLANK(N337:U337)","v":7},null,{"$f":"IF(VLOOKUP(D337,'Specific reports'!$E$6:$H$112,4,FALSE)=\"increase score\",\"ISO 9001\",\"\")","v":""},{"$f":"IF(VLOOKUP(D337,'Specific reports'!$E$116:$H$222,4,FALSE)=\"increase score\",\"ISO 14001\",\"\")","v":""},{"$f":"IF(VLOOKUP(D337,'Specific reports'!$E$226:$H$332,4,FALSE)=\"increase score\",\"ISO 26000\",\"\")","v":""},{"$f":"IF(VLOOKUP(D337,'Specific reports'!$E$336:$H$552,4,FALSE)=\"increase score\",\"ISO 45001\",\"\")","v":""},{"$f":"IF(VLOOKUP(D337,'Specific reports'!$E$556:$H$662,4,FALSE)=\"increase score\",\"EMAS\",\"\")","v":"EMAS"},{"$f":"IF(VLOOKUP(D337,'Specific reports'!$E$666:$H$772,4,FALSE)=\"increase score\",\"RC14001\",\"\")","v":""},{"$f":"IF(VLOOKUP(D337,'Specific reports'!$E$776:$H$882,4,FALSE)=\"increase score\",\"RCMS\",\"\")","v":""}]
[null,null,null,null,"Your score",null,{"$f":"VLOOKUP(D337,'Technical page'!$B$544:$C$548,2,FALSE)","v":2},null,null,null,null,null,null,{"$f":"CONCATENATE(G338,\" = \",HLOOKUP(\" \",'Chapter 5'!D19:E24,Tips!G338+2))","v":"2 = Výsledky hodnocení výkonnosti organizace se zveřejňují."}]
[null,null,null,null,"Try to improve",null,{"$f":"VLOOKUP(CONCATENATE(D337,$M$3),'Technical page'!$BG$544:$BI$563,3,FALSE)","v":"Have a third party reviewing the performance evaluation results of the organisation annually before public disclosure."}]
[null,{"$f":"'Chapter 5'!B26","v":" Místní komunity"},null,null,null,null,null,null,null,null,null,null,null,{"$f":"IF(L341=8,\"\",\"increase score for:\")","v":""}]
[null,null,null,{"$f":"'Chapter 5'!C28","v":"Q5.4"},{"$f":"'Chapter 5'!D28","v":"Jakým způsobem podporuje organizace místní komunity?"},null,null,null,null,null,null,{"$f":"COUNTBLANK(N341:U341)","v":8},null,{"$f":"IF(VLOOKUP(D341,'Specific reports'!$E$6:$H$112,4,FALSE)=\"increase score\",\"ISO 9001\",\"\")","v":""},{"$f":"IF(VLOOKUP(D341,'Specific reports'!$E$116:$H$222,4,FALSE)=\"increase score\",\"ISO 14001\",\"\")","v":""},{"$f":"IF(VLOOKUP(D341,'Specific reports'!$E$226:$H$332,4,FALSE)=\"increase score\",\"ISO 26000\",\"\")","v":""},{"$f":"IF(VLOOKUP(D341,'Specific reports'!$E$336:$H$552,4,FALSE)=\"increase score\",\"ISO 45001\",\"\")","v":""},{"$f":"IF(VLOOKUP(D341,'Specific reports'!$E$556:$H$662,4,FALSE)=\"increase score\",\"EMAS\",\"\")","v":""},{"$f":"IF(VLOOKUP(D341,'Specific reports'!$E$666:$H$772,4,FALSE)=\"increase score\",\"RC14001\",\"\")","v":""},{"$f":"IF(VLOOKUP(D341,'Specific reports'!$E$776:$H$882,4,FALSE)=\"increase score\",\"RCMS\",\"\")","v":""}]
[null,null,null,null,"Your score",null,{"$f":"VLOOKUP(D341,'Technical page'!$B$544:$C$548,2,FALSE)","v":3},null,null,null,null,null,null,{"$f":"CONCATENATE(G342,\" = \",HLOOKUP(\" \",'Chapter 5'!D27:E32,Tips!G342+2))","v":"3 = Organizace podporuje místní projekty a činnosti (např. Účast zaměstnanců na místních projektech během pracovní doby, v místních školách během vyučování a informace o různých pracovních nabídkách atd.) s cílem přispět k místnímu rozvoji."}]
[null,null,null,null,"Try to improve",null,{"$f":"VLOOKUP(CONCATENATE(D341,$M$3),'Technical page'!$BG$544:$BI$563,3,FALSE)","v":"Contribute to the local community through participation in various groups, communication means, organisations of companies and representative of employees, ecological groups, professionals, neighbouring companies, neighbours associations, etc. Interact through and foresee a budget for the development of common projects, actions or partnerships according to the demands of the community."}]
[null,null,null,null,null,null,null,null,null,null,null,null,null,{"$f":"IF(L345=8,\"\",\"increase score for:\")","v":""}]
[null,null,null,{"$f":"'Chapter 5'!C34","v":"Q5.5"},{"$f":"'Chapter 5'!D34","v":"Jakým způsobem stimuluje organizace místní zaměstnanost a vzdělávání?"},null,null,null,null,null,null,{"$f":"COUNTBLANK(N345:U345)","v":8},null,{"$f":"IF(VLOOKUP(D345,'Specific reports'!$E$6:$H$112,4,FALSE)=\"increase score\",\"ISO 9001\",\"\")","v":""},{"$f":"IF(VLOOKUP(D345,'Specific reports'!$E$116:$H$222,4,FALSE)=\"increase score\",\"ISO 14001\",\"\")","v":""},{"$f":"IF(VLOOKUP(D345,'Specific reports'!$E$226:$H$332,4,FALSE)=\"increase score\",\"ISO 26000\",\"\")","v":""},{"$f":"IF(VLOOKUP(D345,'Specific reports'!$E$336:$H$552,4,FALSE)=\"increase score\",\"ISO 45001\",\"\")","v":""},{"$f":"IF(VLOOKUP(D345,'Specific reports'!$E$556:$H$662,4,FALSE)=\"increase score\",\"EMAS\",\"\")","v":""},{"$f":"IF(VLOOKUP(D345,'Specific reports'!$E$666:$H$772,4,FALSE)=\"increase score\",\"RC14001\",\"\")","v":""},{"$f":"IF(VLOOKUP(D345,'Specific reports'!$E$776:$H$882,4,FALSE)=\"increase score\",\"RCMS\",\"\")","v":""}]
[null,null,null,null,"Your score",null,{"$f":"VLOOKUP(D345,'Technical page'!$B$544:$C$548,2,FALSE)","v":2},null,null,null,null,null,null,{"$f":"CONCATENATE(G346,\" = \",HLOOKUP(\" \",'Chapter 5'!D33:E38,Tips!G346+2))","v":"2 = Organizace reaguje na specifické požadavky místních škol a pracovních organizací a vede dialog s místními zástupci."}]
[null,null,null,null,"Try to improve",null,{"$f":"VLOOKUP(CONCATENATE(D345,$M$3),'Technical page'!$BG$544:$BI$563,3,FALSE)","v":"No need to immediately change strategy, however always seek improvement."}]
[]
[null,null,"CHAPTER 6","Contributing to Sustainability"]
[null,{"$f":"'Chapter 6'!B4","v":"Hodnocení závažnosti"},null,null,null,null,null,null,null,null,null,null,null,{"$f":"IF(L351=8,\"\",\"increase score for:\")","v":"increase score for:"}]
[null,null,{"$f":"IF(VLOOKUP(D351,'Technical page'!$AO$584:$AQ$600,3,0)=\"OK\",\"\",\"major issue\")","v":""},{"$f":"'Chapter 6'!C6","v":"Q6.1"},{"$f":"'Chapter 6'!D6","v":"Jakým způsobem definuje organizace významné problémy a závažnost?"},null,null,null,null,null,null,{"$f":"COUNTBLANK(N351:U351)","v":7},null,{"$f":"IF(VLOOKUP(D351,'Specific reports'!$E$6:$H$112,4,FALSE)=\"increase score\",\"ISO 9001\",\"\")","v":""},{"$f":"IF(VLOOKUP(D351,'Specific reports'!$E$116:$H$222,4,FALSE)=\"increase score\",\"ISO 14001\",\"\")","v":""},{"$f":"IF(VLOOKUP(D351,'Specific reports'!$E$226:$H$332,4,FALSE)=\"increase score\",\"ISO 26000\",\"\")","v":"ISO 26000"},{"$f":"IF(VLOOKUP(D351,'Specific reports'!$E$336:$H$552,4,FALSE)=\"increase score\",\"ISO 45001\",\"\")","v":""},{"$f":"IF(VLOOKUP(D351,'Specific reports'!$E$556:$H$662,4,FALSE)=\"increase score\",\"EMAS\",\"\")","v":""},{"$f":"IF(VLOOKUP(D351,'Specific reports'!$E$666:$H$772,4,FALSE)=\"increase score\",\"RC14001\",\"\")","v":""},{"$f":"IF(VLOOKUP(D351,'Specific reports'!$E$776:$H$882,4,FALSE)=\"increase score\",\"RCMS\",\"\")","v":""}]
[null,null,null,null,"Your score",null,{"$f":"VLOOKUP(D351,'Technical page'!$B$584:$C$600,2,FALSE)","v":2},null,null,null,null,null,null,{"$f":"CONCATENATE(G352,\" = \",HLOOKUP(\" \",'Chapter 6'!D5:E12,Tips!G352+2))","v":"2 = Organizace identifikovala významné sociální, ekonomické a environmentální otázky představující rizika nebo příležitosti pro samotnou organizaci na základě stávajících sektorových plánů (např. Sektorový plán WBCSD:"}]
[null,null,null,null,"Try to improve",null,{"$f":"VLOOKUP(CONCATENATE(D351,$M$3),'Technical page'!$BG$584:$BI$651,3,FALSE)","v":"Once you’ve you have identified and engaged with stakeholders, determine what sustainability indicators (societal, economic and environmental) to measure so you actually get the insights you want and need; you may use the existing sector roadmaps for this purpose (link to the sectoral roadmap of WBCSD: https://www.wbcsd.org/Programs/People/Sustainable-Development-Goals/SDG-Sector-Roadmaps/Resources/SDG-Sector-Roadmaps), Charter (link to Cefic charter: https://cefic.org/app/uploads/2019/01/Cefic-Sustainability-Charter-TeamingUp-For-A-SustainableEurope.pdf), and principles (link to ACC principles: https://www.americanchemistry.com/Sustainability/Principles.html)."}]
[null,null,null,null,null,null,null,null,null,null,null,null,null,{"$f":"IF($G$352=2,'Technical page'!$BL$585,\"\")","v":"https://www.wbcsd.org/Programs/People/Sustainable-Development-Goals/SDG-Sector-Roadmaps/Resources/SDG-Sector-Roadmaps"}]
[null,null,null,null,null,null,null,null,null,null,null,null,null,{"$f":"IF($G$352=2,'Technical page'!$BL$586,\"\")","v":"https://cefic.org/app/uploads/2019/01/Cefic-Sustainability-Charter-TeamingUp-For-A-SustainableEurope.pdf"}]
[null,null,null,null,null,null,null,null,null,null,null,null,null,{"$f":"IF($G$352=2,'Technical page'!$BL$587,\"\")","v":"https://www.americanchemistry.com/Sustainability/Principles.html"}]
[null,{"$f":"'Chapter 6'!B14","v":"Udržitelný rozvoj"},null,null,null,null,null,null,null,null,null,null,null,{"$f":"IF(L358=8,\"\",\"increase score for:\")","v":""}]
[null,null,{"$f":"IF(VLOOKUP(D358,'Technical page'!$AO$584:$AQ$600,3,0)=\"OK\",\"\",\"major issue\")","v":""},{"$f":"'Chapter 6'!C16","v":"Q6.2"},{"$f":"'Chapter 6'!D16","v":"Jakým způsobem hodlá organizace přispívat k udržitelnému rozvoji?"},null,null,null,null,null,null,{"$f":"COUNTBLANK(N358:U358)","v":8},null,{"$f":"IF(VLOOKUP(D358,'Specific reports'!$E$6:$H$112,4,FALSE)=\"increase score\",\"ISO 9001\",\"\")","v":""},{"$f":"IF(VLOOKUP(D358,'Specific reports'!$E$116:$H$222,4,FALSE)=\"increase score\",\"ISO 14001\",\"\")","v":""},{"$f":"IF(VLOOKUP(D358,'Specific reports'!$E$226:$H$332,4,FALSE)=\"increase score\",\"ISO 26000\",\"\")","v":""},{"$f":"IF(VLOOKUP(D358,'Specific reports'!$E$336:$H$552,4,FALSE)=\"increase score\",\"ISO 45001\",\"\")","v":""},{"$f":"IF(VLOOKUP(D358,'Specific reports'!$E$556:$H$662,4,FALSE)=\"increase score\",\"EMAS\",\"\")","v":""},{"$f":"IF(VLOOKUP(D358,'Specific reports'!$E$666:$H$772,4,FALSE)=\"increase score\",\"RC14001\",\"\")","v":""},{"$f":"IF(VLOOKUP(D358,'Specific reports'!$E$776:$H$882,4,FALSE)=\"increase score\",\"RCMS\",\"\")","v":""}]
[null,null,null,null,"Your score",null,{"$f":"VLOOKUP(D358,'Technical page'!$B$584:$C$600,2,FALSE)","v":1},null,null,null,null,null,null,{"$f":"CONCATENATE(G359,\" = \",HLOOKUP(\" \",'Chapter 6'!D15:E20,Tips!G359+2))","v":"1 = Organizace splňuje příslušné zákonné (právní) povinnosti, avšak nesoustředí se na udržitelný rozvoj."}]
[null,null,null,null,"Try to improve",null,{"$f":"VLOOKUP(CONCATENATE(D358,$M$3),'Technical page'!$BG$584:$BI$651,3,FALSE)","v":"Map the organisation’s contributions to SDGs. "}]
[null,null,null,null,null,null,null,null,null,null,null,null,null,{"$f":"IF($G$359=2,'Technical page'!$BL$589,\"\")","v":""}]
[null,null,null,null,null,null,null,null,null,null,null,null,null,{"$f":"IF($G$359=2,'Technical page'!$BL$590,\"\")","v":""}]
[null,null,null,null,null,null,null,null,null,null,null,null,null,{"$f":"IF($G$359=2,'Technical page'!$BL$591,\"\")","v":""}]
[null,{"$f":"'Chapter 6'!B22","v":"Komunikace"},null,null,null,null,null,null,null,null,null,null,null,{"$f":"IF(L365=8,\"\",\"increase score for:\")","v":"increase score for:"}]
[null,null,{"$f":"IF(VLOOKUP(D365,'Technical page'!$AO$584:$AQ$600,3,0)=\"OK\",\"\",\"major issue\")","v":""},{"$f":"'Chapter 6'!C24","v":"Q6.3"},{"$f":"'Chapter 6'!D24","v":"Jakým způsobem komunikuje organizace zainteresovaných stran na téma udržitelnosti?"},null,null,null,null,null,null,{"$f":"COUNTBLANK(N365:U365)","v":7},null,{"$f":"IF(VLOOKUP(D365,'Specific reports'!$E$6:$H$112,4,FALSE)=\"increase score\",\"ISO 9001\",\"\")","v":""},{"$f":"IF(VLOOKUP(D365,'Specific reports'!$E$116:$H$222,4,FALSE)=\"increase score\",\"ISO 14001\",\"\")","v":""},{"$f":"IF(VLOOKUP(D365,'Specific reports'!$E$226:$H$332,4,FALSE)=\"increase score\",\"ISO 26000\",\"\")","v":"ISO 26000"},{"$f":"IF(VLOOKUP(D365,'Specific reports'!$E$336:$H$552,4,FALSE)=\"increase score\",\"ISO 45001\",\"\")","v":""},{"$f":"IF(VLOOKUP(D365,'Specific reports'!$E$556:$H$662,4,FALSE)=\"increase score\",\"EMAS\",\"\")","v":""},{"$f":"IF(VLOOKUP(D365,'Specific reports'!$E$666:$H$772,4,FALSE)=\"increase score\",\"RC14001\",\"\")","v":""},{"$f":"IF(VLOOKUP(D365,'Specific reports'!$E$776:$H$882,4,FALSE)=\"increase score\",\"RCMS\",\"\")","v":""}]
[null,null,null,null,"Your score",null,{"$f":"VLOOKUP(D365,'Technical page'!$B$584:$C$600,2,FALSE)","v":3},null,null,null,null,null,null,{"$f":"CONCATENATE(G366,\" = \",HLOOKUP(\" \",'Chapter 6'!D23:E28,Tips!G366+2))","v":"3 = Organizace vede ad hoc externí komunikaci na téma udržitelnosti se zákazníky, pracovními partnery a komunitou."}]
[null,null,null,null,"Try to improve",null,{"$f":"VLOOKUP(CONCATENATE(D365,$M$3),'Technical page'!$BG$584:$BI$651,3,FALSE)","v":"Engage both internally and externally about sustainability topics. Publish yearly a full sustainability report on all material, issues with references to Global Reporting Initiative’s (GRI) Sustainability Reporting Guidelines or equivalent.\nSharing information about policies and performance on environmental, social and governance issues will help you build trust with your customers and partners, monitor and mitigate risk, and find ways to improve efficiency, resulting in a positive impact on your financial results. "}]
[null,{"$f":"'Chapter 6'!B30","v":"Udržitelné portfolio"},null,null,null,null,null,null,null,null,null,null,null,{"$f":"IF(L369=8,\"\",\"increase score for:\")","v":""}]
[null,null,{"$f":"IF(VLOOKUP(D369,'Technical page'!$AO$584:$AQ$600,3,0)=\"OK\",\"\",\"major issue\")","v":""},{"$f":"'Chapter 6'!C32","v":"Q6.4"},{"$f":"'Chapter 6'!D32","v":"Má organizace zavedený proces navrhování výrobků s lepšími výsledky udržitelnosti?"},null,null,null,null,null,null,{"$f":"COUNTBLANK(N369:U369)","v":8},null,{"$f":"IF(VLOOKUP(D369,'Specific reports'!$E$6:$H$112,4,FALSE)=\"increase score\",\"ISO 9001\",\"\")","v":""},{"$f":"IF(VLOOKUP(D369,'Specific reports'!$E$116:$H$222,4,FALSE)=\"increase score\",\"ISO 14001\",\"\")","v":""},{"$f":"IF(VLOOKUP(D369,'Specific reports'!$E$226:$H$332,4,FALSE)=\"increase score\",\"ISO 26000\",\"\")","v":""},{"$f":"IF(VLOOKUP(D369,'Specific reports'!$E$336:$H$552,4,FALSE)=\"increase score\",\"ISO 45001\",\"\")","v":""},{"$f":"IF(VLOOKUP(D369,'Specific reports'!$E$556:$H$662,4,FALSE)=\"increase score\",\"EMAS\",\"\")","v":""},{"$f":"IF(VLOOKUP(D369,'Specific reports'!$E$666:$H$772,4,FALSE)=\"increase score\",\"RC14001\",\"\")","v":""},{"$f":"IF(VLOOKUP(D369,'Specific reports'!$E$776:$H$882,4,FALSE)=\"increase score\",\"RCMS\",\"\")","v":""}]
[null,null,null,null,"Your score",null,{"$f":"VLOOKUP(D369,'Technical page'!$B$584:$C$600,2,FALSE)","v":2},null,null,null,null,null,null,{"$f":"CONCATENATE(G370,\" = \",HLOOKUP(\" \",'Chapter 6'!D31:E36,Tips!G370+2))","v":"2 = Organizace se dohodla na společném chápání toho, co znamená „udržitelnost“ v rámci produktových portfolií, identifikovala kritické zájmy zainteresovaných stran a klíčové body rozhodování při zpracování produktu."}]
[null,null,null,null,"Try to improve",null,{"$f":"VLOOKUP(CONCATENATE(D369,$M$3),'Technical page'!$BG$584:$BI$651,3,FALSE)","v":"Guidance on how to put in place a process to design products with improved sustainability outcomes is given by https://www.wbcsd.org/contentwbc/download/5870/80216"}]
[null,{"$f":"'Chapter 6'!B38","v":"Efektivnost zdrojů / oběhové hospodářství\n"},null,null,null,null,null,null,null,null,null,null,null,{"$f":"IF(L373=8,\"\",\"increase score for:\")","v":""}]
[null,null,{"$f":"IF(VLOOKUP(D373,'Technical page'!$AO$584:$AQ$600,3,0)=\"OK\",\"\",\"major issue\")","v":""},{"$f":"'Chapter 6'!C40","v":"Q6.5"},{"$f":"'Chapter 6'!D40","v":"Jakým způsobem zvyšuje organizace efektivnost zdrojů ve svých výrobních procesech?"},null,null,null,null,null,null,{"$f":"COUNTBLANK(N373:U373)","v":8},null,{"$f":"IF(VLOOKUP(D373,'Specific reports'!$E$6:$H$112,4,FALSE)=\"increase score\",\"ISO 9001\",\"\")","v":""},{"$f":"IF(VLOOKUP(D373,'Specific reports'!$E$116:$H$222,4,FALSE)=\"increase score\",\"ISO 14001\",\"\")","v":""},{"$f":"IF(VLOOKUP(D373,'Specific reports'!$E$226:$H$332,4,FALSE)=\"increase score\",\"ISO 26000\",\"\")","v":""},{"$f":"IF(VLOOKUP(D373,'Specific reports'!$E$336:$H$552,4,FALSE)=\"increase score\",\"ISO 45001\",\"\")","v":""},{"$f":"IF(VLOOKUP(D373,'Specific reports'!$E$556:$H$662,4,FALSE)=\"increase score\",\"EMAS\",\"\")","v":""},{"$f":"IF(VLOOKUP(D373,'Specific reports'!$E$666:$H$772,4,FALSE)=\"increase score\",\"RC14001\",\"\")","v":""},{"$f":"IF(VLOOKUP(D373,'Specific reports'!$E$776:$H$882,4,FALSE)=\"increase score\",\"RCMS\",\"\")","v":""}]
[null,null,null,null,"Your score",null,{"$f":"VLOOKUP(D373,'Technical page'!$B$584:$C$600,2,FALSE)","v":2},null,null,null,null,null,null,{"$f":"CONCATENATE(G374,\" = \",HLOOKUP(\" \",'Chapter 6'!D39:E44,Tips!G374+2))","v":"2 = Organizace zavedla systém pro měření efektivity zdrojů ve svých výrobních procesech."}]
[null,null,null,null,"Try to improve",null,{"$f":"VLOOKUP(CONCATENATE(D373,$M$3),'Technical page'!$BG$584:$BI$651,3,FALSE)","v":"Put a process in place to improve the resource efficiency in your organisation's production processes.\nWithin this process, favor eco-designed products, bio-based raw materials, secondary raw materials from recycling, and re-use through implementation of criteria on these aspects in the purchasing selection, as an alternative to non-renewable raw materials.\nEvaluate the effectiveness of this process is periodically."}]
[null,null,null,null,null,null,null,null,null,null,null,null,null,{"$f":"IF(L377=8,\"\",\"increase score for:\")","v":"increase score for:"}]
[null,null,{"$f":"IF(VLOOKUP(D377,'Technical page'!$AO$584:$AQ$600,3,0)=\"OK\",\"\",\"major issue\")","v":""},{"$f":"'Chapter 6'!C46","v":"Q6.6"},{"$f":"'Chapter 6'!D46","v":"Jakým způsobem stimuluje organizace oběhové hospodářství prostřednictvím svých produktů?"},null,null,null,null,null,null,{"$f":"COUNTBLANK(N377:U377)","v":7},null,{"$f":"IF(VLOOKUP(D377,'Specific reports'!$E$6:$H$112,4,FALSE)=\"increase score\",\"ISO 9001\",\"\")","v":""},{"$f":"IF(VLOOKUP(D377,'Specific reports'!$E$116:$H$222,4,FALSE)=\"increase score\",\"ISO 14001\",\"\")","v":""},{"$f":"IF(VLOOKUP(D377,'Specific reports'!$E$226:$H$332,4,FALSE)=\"increase score\",\"ISO 26000\",\"\")","v":"ISO 26000"},{"$f":"IF(VLOOKUP(D377,'Specific reports'!$E$336:$H$552,4,FALSE)=\"increase score\",\"ISO 45001\",\"\")","v":""},{"$f":"IF(VLOOKUP(D377,'Specific reports'!$E$556:$H$662,4,FALSE)=\"increase score\",\"EMAS\",\"\")","v":""},{"$f":"IF(VLOOKUP(D377,'Specific reports'!$E$666:$H$772,4,FALSE)=\"increase score\",\"RC14001\",\"\")","v":""},{"$f":"IF(VLOOKUP(D377,'Specific reports'!$E$776:$H$882,4,FALSE)=\"increase score\",\"RCMS\",\"\")","v":""}]
[null,null,null,null,"Your score",null,{"$f":"VLOOKUP(D377,'Technical page'!$B$584:$C$600,2,FALSE)","v":1},null,null,null,null,null,null,{"$f":"CONCATENATE(G378,\" = \",HLOOKUP(\" \",'Chapter 6'!D45:E50,Tips!G378+2))","v":"1 = Organizace splňuje příslušné zákonné povinnosti týkající se monitoringu, ovšem nesoustředí se na aspekt cirkularity (oběhu)."}]
[null,null,null,null,"Try to improve",null,{"$f":"VLOOKUP(CONCATENATE(D377,$M$3),'Technical page'!$BG$584:$BI$651,3,FALSE)","v":"\nResearch and identify the recyclability and durability of its products, and plan improvements in the product design process towards these aspects."}]
[null,null,null,null,null,null,null,null,null,null,null,null,null,{"$f":"IF(L381=8,\"\",\"increase score for:\")","v":""}]
[null,null,{"$f":"IF(VLOOKUP(D381,'Technical page'!$AO$584:$AQ$600,3,0)=\"OK\",\"\",\"major issue\")","v":""},{"$f":"'Chapter 6'!C52","v":"Q6.7"},{"$f":"'Chapter 6'!D52","v":"Jakým způsobem podporuje organizace inovace při vývoji produktů a řešení, které odpovídají výzvám udržitelnosti?"},null,null,null,null,null,null,{"$f":"COUNTBLANK(N381:U381)","v":8},null,{"$f":"IF(VLOOKUP(D381,'Specific reports'!$E$6:$H$112,4,FALSE)=\"increase score\",\"ISO 9001\",\"\")","v":""},{"$f":"IF(VLOOKUP(D381,'Specific reports'!$E$116:$H$222,4,FALSE)=\"increase score\",\"ISO 14001\",\"\")","v":""},{"$f":"IF(VLOOKUP(D381,'Specific reports'!$E$226:$H$332,4,FALSE)=\"increase score\",\"ISO 26000\",\"\")","v":""},{"$f":"IF(VLOOKUP(D381,'Specific reports'!$E$336:$H$552,4,FALSE)=\"increase score\",\"ISO 45001\",\"\")","v":""},{"$f":"IF(VLOOKUP(D381,'Specific reports'!$E$556:$H$662,4,FALSE)=\"increase score\",\"EMAS\",\"\")","v":""},{"$f":"IF(VLOOKUP(D381,'Specific reports'!$E$666:$H$772,4,FALSE)=\"increase score\",\"RC14001\",\"\")","v":""},{"$f":"IF(VLOOKUP(D381,'Specific reports'!$E$776:$H$882,4,FALSE)=\"increase score\",\"RCMS\",\"\")","v":""}]
[null,null,null,null,"Your score",null,{"$f":"VLOOKUP(D381,'Technical page'!$B$584:$C$600,2,FALSE)","v":2},null,null,null,null,null,null,{"$f":"CONCATENATE(G382,\" = \",HLOOKUP(\" \",'Chapter 6'!D51:E56,Tips!G382+2))","v":"2 = Při hodnocení projektů inovace se berou v úvahu kritéria týkající se zlepšování sociálních nebo environmentálních vlivů."}]
[null,null,null,null,"Try to improve",null,{"$f":"VLOOKUP(CONCATENATE(D381,$M$3),'Technical page'!$BG$584:$BI$651,3,FALSE)","v":"Focus and assess your organisation's innovation projects mainly on sustainability criteria, combining environmental, economical and social considerations."}]
[null,null,null,null,null,null,null,null,null,null,null,null,null,{"$f":"IF(L385=8,\"\",\"increase score for:\")","v":""}]
[null,null,{"$f":"IF(VLOOKUP(D385,'Technical page'!$AO$584:$AQ$600,3,0)=\"OK\",\"\",\"major issue\")","v":""},{"$f":"'Chapter 6'!C58","v":"Q6.8"},{"$f":"'Chapter 6'!D58","v":"Jakým způsobem stimuluje organizace inovaci a spolupráci?"},null,null,null,null,null,null,{"$f":"COUNTBLANK(N385:U385)","v":8},null,{"$f":"IF(VLOOKUP(D385,'Specific reports'!$E$6:$H$112,4,FALSE)=\"increase score\",\"ISO 9001\",\"\")","v":""},{"$f":"IF(VLOOKUP(D385,'Specific reports'!$E$116:$H$222,4,FALSE)=\"increase score\",\"ISO 14001\",\"\")","v":""},{"$f":"IF(VLOOKUP(D385,'Specific reports'!$E$226:$H$332,4,FALSE)=\"increase score\",\"ISO 26000\",\"\")","v":""},{"$f":"IF(VLOOKUP(D385,'Specific reports'!$E$336:$H$552,4,FALSE)=\"increase score\",\"ISO 45001\",\"\")","v":""},{"$f":"IF(VLOOKUP(D385,'Specific reports'!$E$556:$H$662,4,FALSE)=\"increase score\",\"EMAS\",\"\")","v":""},{"$f":"IF(VLOOKUP(D385,'Specific reports'!$E$666:$H$772,4,FALSE)=\"increase score\",\"RC14001\",\"\")","v":""},{"$f":"IF(VLOOKUP(D385,'Specific reports'!$E$776:$H$882,4,FALSE)=\"increase score\",\"RCMS\",\"\")","v":""}]
[null,null,null,null,"your score",null,{"$f":"VLOOKUP(D385,'Technical page'!$B$584:$C$600,2,FALSE)","v":3},null,null,null,null,null,null,{"$f":"CONCATENATE(G386,\" = \",HLOOKUP(\" \",'Chapter 6'!D57:E62,Tips!G386+2))","v":"3 = Organizace se podílí na spolupráci v oblasti inovací s průmyslovými partnery nebo akademickou obcí."}]
[null,null,null,null,"Try to improve",null,{"$f":"VLOOKUP(CONCATENATE(D385,$M$3),'Technical page'!$BG$584:$BI$651,3,FALSE)","v":"Set up innovation programmes with industrial or academical actors in which your organisation shares means (materials, budgets, resources, etc.)."}]
[null,null,null,null,null,null,null,null,null,null,null,null,null,{"$f":"IF(L389=8,\"\",\"increase score for:\")","v":""}]
[null,null,{"$f":"IF(VLOOKUP(D389,'Technical page'!$AO$584:$AQ$600,3,0)=\"OK\",\"\",\"major issue\")","v":""},{"$f":"'Chapter 6'!C64","v":"Q6.9"},{"$f":"'Chapter 6'!D64","v":"Jakým způsobem podporuje organizace udržitelné způsoby spotřeby?"},null,null,null,null,null,null,{"$f":"COUNTBLANK(N389:U389)","v":8},null,{"$f":"IF(VLOOKUP(D389,'Specific reports'!$E$6:$H$112,4,FALSE)=\"increase score\",\"ISO 9001\",\"\")","v":""},{"$f":"IF(VLOOKUP(D389,'Specific reports'!$E$116:$H$222,4,FALSE)=\"increase score\",\"ISO 14001\",\"\")","v":""},{"$f":"IF(VLOOKUP(D389,'Specific reports'!$E$226:$H$332,4,FALSE)=\"increase score\",\"ISO 26000\",\"\")","v":""},{"$f":"IF(VLOOKUP(D389,'Specific reports'!$E$336:$H$552,4,FALSE)=\"increase score\",\"ISO 45001\",\"\")","v":""},{"$f":"IF(VLOOKUP(D389,'Specific reports'!$E$556:$H$662,4,FALSE)=\"increase score\",\"EMAS\",\"\")","v":""},{"$f":"IF(VLOOKUP(D389,'Specific reports'!$E$666:$H$772,4,FALSE)=\"increase score\",\"RC14001\",\"\")","v":""},{"$f":"IF(VLOOKUP(D389,'Specific reports'!$E$776:$H$882,4,FALSE)=\"increase score\",\"RCMS\",\"\")","v":""}]
[null,null,null,null,"Your score",null,{"$f":"VLOOKUP(D389,'Technical page'!$B$584:$C$600,2,FALSE)","v":2},null,null,null,null,null,null,{"$f":"CONCATENATE(G390,\" = \",HLOOKUP(\" \",'Chapter 6'!D63:E68,Tips!G390+2))","v":"2 = Organizace zná dopad svých výrobních operací a informuje zákazníky."}]
[null,null,null,null,"Try to improve",null,{"$f":"VLOOKUP(CONCATENATE(D389,$M$3),'Technical page'!$BG$584:$BI$651,3,FALSE)","v":"Collaborates with peers and partners of the chemical industry to support sustainable consumption modes."}]
[null,{"$f":"'Chapter 6'!B70","v":"Používání vody "},null,null,null,null,null,null,null,null,null,null,null,{"$f":"IF(L393=8,\"\",\"increase score for:\")","v":""}]
[null,null,{"$f":"IF(VLOOKUP(D393,'Technical page'!$AO$584:$AQ$600,3,0)=\"OK\",\"\",\"major issue\")","v":""},{"$f":"'Chapter 6'!C72","v":"Q6.10"},{"$f":"'Chapter 6'!D72","v":"Jakým způsobem organizace kontroluje a optimalizuje spotřebu vody?"},null,null,null,null,null,null,{"$f":"COUNTBLANK(N393:U393)","v":8},null,{"$f":"IF(VLOOKUP(D393,'Specific reports'!$E$6:$H$112,4,FALSE)=\"increase score\",\"ISO 9001\",\"\")","v":""},{"$f":"IF(VLOOKUP(D393,'Specific reports'!$E$116:$H$222,4,FALSE)=\"increase score\",\"ISO 14001\",\"\")","v":""},{"$f":"IF(VLOOKUP(D393,'Specific reports'!$E$226:$H$332,4,FALSE)=\"increase score\",\"ISO 26000\",\"\")","v":""},{"$f":"IF(VLOOKUP(D393,'Specific reports'!$E$336:$H$552,4,FALSE)=\"increase score\",\"ISO 45001\",\"\")","v":""},{"$f":"IF(VLOOKUP(D393,'Specific reports'!$E$556:$H$662,4,FALSE)=\"increase score\",\"EMAS\",\"\")","v":""},{"$f":"IF(VLOOKUP(D393,'Specific reports'!$E$666:$H$772,4,FALSE)=\"increase score\",\"RC14001\",\"\")","v":""},{"$f":"IF(VLOOKUP(D393,'Specific reports'!$E$776:$H$882,4,FALSE)=\"increase score\",\"RCMS\",\"\")","v":""}]
[null,null,null,null,"Your score",null,{"$f":"VLOOKUP(D393,'Technical page'!$B$584:$C$600,2,FALSE)","v":3},null,null,null,null,null,null,{"$f":"CONCATENATE(G394,\" = \",HLOOKUP(\" \",'Chapter 6'!D71:E76,Tips!G394+2))","v":"3 = Organizace plánuje konkrétní opatření ke snížení spotřeby vody na základě klíčových problémů identifikovaných prostřednictvím monitoringu."}]
[null,null,null,null,"Try to improve",null,{"$f":"VLOOKUP(CONCATENATE(D393,$M$3),'Technical page'!$BG$584:$BI$651,3,FALSE)","v":"Invest in more water-efficient technologies and apply infiltration rainwater from the sites (roofs, roads) in the ground to participate in the recharge of groundwater.\nGood water stewardship approaches are: EWS-https://ews.info/ and CDP – Water- https://www.cdp.net/en/water"}]
[null,null,null,null,null,null,null,null,null,null,null,null,null,{"$f":"IF(G394<4,'Technical page'!$BL$621,\"\")","v":"https://ews.info/"}]
[null,null,null,null,null,null,null,null,null,null,null,null,null,{"$f":"IF(G394<4,'Technical page'!$BL$622,\"\")","v":"https://www.cdp.net/en/water"}]
[null,{"$f":"'Chapter 6'!B78","v":"Využívání půdy a biodiverzita"},null,null,null,null,null,null,null,null,null,null,null,{"$f":"IF(L399=8,\"\",\"increase score for:\")","v":""}]
[null,null,{"$f":"IF(VLOOKUP(D399,'Technical page'!$AO$584:$AQ$600,3,0)=\"OK\",\"\",\"major issue\")","v":""},{"$f":"'Chapter 6'!C80","v":"Q6.11"},{"$f":"'Chapter 6'!D80","v":"Jakým způsobem se řídí vliv organizace na biodiverzitu a ekosystém?"},null,null,null,null,null,null,{"$f":"COUNTBLANK(N399:U399)","v":8},null,{"$f":"IF(VLOOKUP(D399,'Specific reports'!$E$6:$H$112,4,FALSE)=\"increase score\",\"ISO 9001\",\"\")","v":""},{"$f":"IF(VLOOKUP(D399,'Specific reports'!$E$116:$H$222,4,FALSE)=\"increase score\",\"ISO 14001\",\"\")","v":""},{"$f":"IF(VLOOKUP(D399,'Specific reports'!$E$226:$H$332,4,FALSE)=\"increase score\",\"ISO 26000\",\"\")","v":""},{"$f":"IF(VLOOKUP(D399,'Specific reports'!$E$336:$H$552,4,FALSE)=\"increase score\",\"ISO 45001\",\"\")","v":""},{"$f":"IF(VLOOKUP(D399,'Specific reports'!$E$556:$H$662,4,FALSE)=\"increase score\",\"EMAS\",\"\")","v":""},{"$f":"IF(VLOOKUP(D399,'Specific reports'!$E$666:$H$772,4,FALSE)=\"increase score\",\"RC14001\",\"\")","v":""},{"$f":"IF(VLOOKUP(D399,'Specific reports'!$E$776:$H$882,4,FALSE)=\"increase score\",\"RCMS\",\"\")","v":""}]
[null,null,null,null,"Your score",null,{"$f":"VLOOKUP(D399,'Technical page'!$B$584:$C$600,2,FALSE)","v":1},null,null,null,null,null,null,{"$f":"CONCATENATE(G400,\" = \",HLOOKUP(\" \",'Chapter 6'!D79:E84,Tips!G400+2))","v":"1 = Organizace splňuje příslušné zákonné požadavky, tímto tématem se však zvlášť nezabývá."}]
[null,null,null,null,"Try to improve",null,{"$f":"VLOOKUP(CONCATENATE(D399,$M$3),'Technical page'!$BG$584:$BI$651,3,FALSE)","v":"Analyse the impact of your organisation's site(s) production and products on biodiversity and put in place an action plan to limit those impacts (including your organisation's impact on deforestation, e.g. by reducing paper use). Set up an ecological inventory of the organisation's sites and products and identify the specific sensitivities of the surrounding. \nPossible actions: \n- Recreate habitats and ecological continuity with surrounding spaces\n- Install a green roof and promote the ecological management of spaces\n- Establish measurements facilitating biodiversity (e.g. coppice, insect house, etc.).\n- ...\n\nAmong the valuable guidance documents, there is http://www.teebweb.org/areas-of-work/teeb-for-business/"}]
[null,null,null,null,null,null,null,null,null,null,null,null,null,{"$f":"IF(L403=8,\"\",\"increase score for:\")","v":""}]
[null,null,{"$f":"IF(VLOOKUP(D403,'Technical page'!$AO$584:$AQ$600,3,0)=\"OK\",\"\",\"major issue\")","v":"major issue"},{"$f":"'Chapter 6'!C86","v":"Q6.12"},{"$f":"'Chapter 6'!D86","v":"Jakým způsobem posuzuje organizace svou závislost na přírodních zdrojích (ekosystémech)?"},null,null,null,null,null,null,{"$f":"COUNTBLANK(N403:U403)","v":8},null,{"$f":"IF(VLOOKUP(D403,'Specific reports'!$E$6:$H$112,4,FALSE)=\"increase score\",\"ISO 9001\",\"\")","v":""},{"$f":"IF(VLOOKUP(D403,'Specific reports'!$E$116:$H$222,4,FALSE)=\"increase score\",\"ISO 14001\",\"\")","v":""},{"$f":"IF(VLOOKUP(D403,'Specific reports'!$E$226:$H$332,4,FALSE)=\"increase score\",\"ISO 26000\",\"\")","v":""},{"$f":"IF(VLOOKUP(D403,'Specific reports'!$E$336:$H$552,4,FALSE)=\"increase score\",\"ISO 45001\",\"\")","v":""},{"$f":"IF(VLOOKUP(D403,'Specific reports'!$E$556:$H$662,4,FALSE)=\"increase score\",\"EMAS\",\"\")","v":""},{"$f":"IF(VLOOKUP(D403,'Specific reports'!$E$666:$H$772,4,FALSE)=\"increase score\",\"RC14001\",\"\")","v":""},{"$f":"IF(VLOOKUP(D403,'Specific reports'!$E$776:$H$882,4,FALSE)=\"increase score\",\"RCMS\",\"\")","v":""}]
[null,null,null,null,"Your score",null,{"$f":"VLOOKUP(D403,'Technical page'!$B$584:$C$600,2,FALSE)","v":1},null,null,null,null,null,null,{"$f":"CONCATENATE(G404,\" = \",HLOOKUP(\" \",'Chapter 6'!D85:E90,Tips!G404+2))","v":"1 = Organizace se tímto tématem nijak zvlášť nezabývá."}]
[null,null,null,null,"Try to improve",null,{"$f":"VLOOKUP(CONCATENATE(D403,$M$3),'Technical page'!$BG$584:$BI$651,3,FALSE)","v":"Identify some specific actions to safeguard the services rendered to your activity (e.g. dependence on certain raw materials) by the ecosystems. \nAmong the valuable guidance documents, there is http://www.teebweb.org/areas-of-work/teeb-for-business/"}]
[null,{"$f":"'Chapter 6'!B92","v":"Klima a využívání energie"},null,null,null,null,null,null,null,null,null,null,null,{"$f":"IF(L407=8,\"\",\"increase score for:\")","v":""}]
[null,null,{"$f":"IF(VLOOKUP(D407,'Technical page'!$AO$584:$AQ$600,3,0)=\"OK\",\"\",\"major issue\")","v":""},{"$f":"'Chapter 6'!C94","v":"Q6.13"},{"$f":"'Chapter 6'!D94","v":"Jakým způsobem řídí organizace svou spotřebu energie?"},null,null,null,null,null,null,{"$f":"COUNTBLANK(N407:U407)","v":8},null,{"$f":"IF(VLOOKUP(D407,'Specific reports'!$E$6:$H$112,4,FALSE)=\"increase score\",\"ISO 9001\",\"\")","v":""},{"$f":"IF(VLOOKUP(D407,'Specific reports'!$E$116:$H$222,4,FALSE)=\"increase score\",\"ISO 14001\",\"\")","v":""},{"$f":"IF(VLOOKUP(D407,'Specific reports'!$E$226:$H$332,4,FALSE)=\"increase score\",\"ISO 26000\",\"\")","v":""},{"$f":"IF(VLOOKUP(D407,'Specific reports'!$E$336:$H$552,4,FALSE)=\"increase score\",\"ISO 45001\",\"\")","v":""},{"$f":"IF(VLOOKUP(D407,'Specific reports'!$E$556:$H$662,4,FALSE)=\"increase score\",\"EMAS\",\"\")","v":""},{"$f":"IF(VLOOKUP(D407,'Specific reports'!$E$666:$H$772,4,FALSE)=\"increase score\",\"RC14001\",\"\")","v":""},{"$f":"IF(VLOOKUP(D407,'Specific reports'!$E$776:$H$882,4,FALSE)=\"increase score\",\"RCMS\",\"\")","v":""}]
[null,null,null,null,"Your score",null,{"$f":"VLOOKUP(D407,'Technical page'!$B$584:$C$600,2,FALSE)","v":4},null,null,null,null,null,null,{"$f":"CONCATENATE(G408,\" = \",HLOOKUP(\" \",'Chapter 6'!D93:E98,Tips!G408+2))","v":"4 = Organizace analyzuje využití a spotřebu energie na základě měření a dalších údajů, identifikuje významná využití energie SEU (včetně příslušných proměnných; současná energetická náročnost; osoba (osoby) ovlivňující tuto SEU), určuje a upřednostňuje příležitosti pro zlepšení energetické výkonnosti; a odhaduje budoucí spotřebu energie a spotřebu energie. Účinnost plánu snižování spotřeby energie je pravidelně vyhodnocována a zlepšována prostřednictvím energetického přezkumu."}]
[null,null,null,null,"Try to improve",null,{"$f":"VLOOKUP(CONCATENATE(D407,$M$3),'Technical page'!$BG$584:$BI$651,3,FALSE)","v":"No need to immediately change strategy, however always seek improvement."}]
[null,null,null,null,null,null,null,null,null,null,null,null,null,{"$f":"IF(L411=8,\"\",\"increase score for:\")","v":""}]
[null,null,{"$f":"IF(VLOOKUP(D411,'Technical page'!$AO$584:$AQ$600,3,0)=\"OK\",\"\",\"major issue\")","v":""},{"$f":"'Chapter 6'!C100","v":"Q6.14"},{"$f":"'Chapter 6'!D100","v":"Jakým způsobem řídí organizace emise skleníkových plynů (kromě úspor energie)?"},null,null,null,null,null,null,{"$f":"COUNTBLANK(N411:U411)","v":8},null,{"$f":"IF(VLOOKUP(D411,'Specific reports'!$E$6:$H$112,4,FALSE)=\"increase score\",\"ISO 9001\",\"\")","v":""},{"$f":"IF(VLOOKUP(D411,'Specific reports'!$E$116:$H$222,4,FALSE)=\"increase score\",\"ISO 14001\",\"\")","v":""},{"$f":"IF(VLOOKUP(D411,'Specific reports'!$E$226:$H$332,4,FALSE)=\"increase score\",\"ISO 26000\",\"\")","v":""},{"$f":"IF(VLOOKUP(D411,'Specific reports'!$E$336:$H$552,4,FALSE)=\"increase score\",\"ISO 45001\",\"\")","v":""},{"$f":"IF(VLOOKUP(D411,'Specific reports'!$E$556:$H$662,4,FALSE)=\"increase score\",\"EMAS\",\"\")","v":""},{"$f":"IF(VLOOKUP(D411,'Specific reports'!$E$666:$H$772,4,FALSE)=\"increase score\",\"RC14001\",\"\")","v":""},{"$f":"IF(VLOOKUP(D411,'Specific reports'!$E$776:$H$882,4,FALSE)=\"increase score\",\"RCMS\",\"\")","v":""}]
[null,null,null,null,"Your score",null,{"$f":"VLOOKUP(D411,'Technical page'!$B$584:$C$600,2,FALSE)","v":3},null,null,null,null,null,null,{"$f":"CONCATENATE(G412,\" = \",HLOOKUP(\" \",'Chapter 6'!D99:E104,Tips!G412+2))","v":"3 = Organizace využívá své potenciální zdroje obnovitelné energie a uzavřela s dodavatelem elektrické energie smlouvu o dodávkách energie z obnovitelných zdrojů."}]
[null,null,null,null,"Try to improve",null,{"$f":"VLOOKUP(CONCATENATE(D411,$M$3),'Technical page'!$BG$584:$BI$651,3,FALSE)","v":"Create partnerships with geographically related organisations to develop \"local synergies\" (example: sale of fatal heat between two entities).\nImplement the identified collaborations."}]
[null,null,null,null,null,null,null,null,null,null,null,null,null,{"$f":"IF(L415=8,\"\",\"increase score for:\")","v":""}]
[null,null,{"$f":"IF(VLOOKUP(D415,'Technical page'!$AO$584:$AQ$600,3,0)=\"OK\",\"\",\"major issue\")","v":""},{"$f":"'Chapter 6'!C106","v":"Q6.15"},{"$f":"'Chapter 6'!D106","v":"Jaká je strategie organizace na snižování emisí skleníkových plynů?"},null,null,null,null,null,null,{"$f":"COUNTBLANK(N415:U415)","v":8},null,{"$f":"IF(VLOOKUP(D415,'Specific reports'!$E$6:$H$112,4,FALSE)=\"increase score\",\"ISO 9001\",\"\")","v":""},{"$f":"IF(VLOOKUP(D415,'Specific reports'!$E$116:$H$222,4,FALSE)=\"increase score\",\"ISO 14001\",\"\")","v":""},{"$f":"IF(VLOOKUP(D415,'Specific reports'!$E$226:$H$332,4,FALSE)=\"increase score\",\"ISO 26000\",\"\")","v":""},{"$f":"IF(VLOOKUP(D415,'Specific reports'!$E$336:$H$552,4,FALSE)=\"increase score\",\"ISO 45001\",\"\")","v":""},{"$f":"IF(VLOOKUP(D415,'Specific reports'!$E$556:$H$662,4,FALSE)=\"increase score\",\"EMAS\",\"\")","v":""},{"$f":"IF(VLOOKUP(D415,'Specific reports'!$E$666:$H$772,4,FALSE)=\"increase score\",\"RC14001\",\"\")","v":""},{"$f":"IF(VLOOKUP(D415,'Specific reports'!$E$776:$H$882,4,FALSE)=\"increase score\",\"RCMS\",\"\")","v":""}]
[null,null,null,null,"Your score",null,{"$f":"VLOOKUP(D415,'Technical page'!$B$584:$C$600,2,FALSE)","v":2},null,null,null,null,null,null,{"$f":"CONCATENATE(G416,\" = \",HLOOKUP(\" \",'Chapter 6'!D105:E110,Tips!G416+2))","v":"2 = Organizace provedla analýzu nedostatků s cílem identifikovat potenciál snižování emisí scope 1 & 2."}]
[null,null,null,null,"Try to improve",null,{"$f":"VLOOKUP(CONCATENATE(D415,$M$3),'Technical page'!$BG$584:$BI$651,3,FALSE)","v":"Set clear targets to reduce Greenhouse Gas (e.g. transition towards renewable energy) and periodically review progress towards these targets. Take actions to reduce scope 1 & 2 emissions."}]
[null,null,null,null,null,null,null,null,null,null,null,null,null,{"$f":"IF(L419=8,\"\",\"increase score for:\")","v":""}]
[null,null,{"$f":"IF(VLOOKUP(D419,'Technical page'!$AO$584:$AQ$600,3,0)=\"OK\",\"\",\"major issue\")","v":""},{"$f":"'Chapter 6'!C112","v":"Q6.16"},{"$f":"'Chapter 6'!D112","v":"Jakým způsobem se organizace připravuje na klimatické změny? "},null,null,null,null,null,null,{"$f":"COUNTBLANK(N419:U419)","v":8},null,{"$f":"IF(VLOOKUP(D419,'Specific reports'!$E$6:$H$112,4,FALSE)=\"increase score\",\"ISO 9001\",\"\")","v":""},{"$f":"IF(VLOOKUP(D419,'Specific reports'!$E$116:$H$222,4,FALSE)=\"increase score\",\"ISO 14001\",\"\")","v":""},{"$f":"IF(VLOOKUP(D419,'Specific reports'!$E$226:$H$332,4,FALSE)=\"increase score\",\"ISO 26000\",\"\")","v":""},{"$f":"IF(VLOOKUP(D419,'Specific reports'!$E$336:$H$552,4,FALSE)=\"increase score\",\"ISO 45001\",\"\")","v":""},{"$f":"IF(VLOOKUP(D419,'Specific reports'!$E$556:$H$662,4,FALSE)=\"increase score\",\"EMAS\",\"\")","v":""},{"$f":"IF(VLOOKUP(D419,'Specific reports'!$E$666:$H$772,4,FALSE)=\"increase score\",\"RC14001\",\"\")","v":""},{"$f":"IF(VLOOKUP(D419,'Specific reports'!$E$776:$H$882,4,FALSE)=\"increase score\",\"RCMS\",\"\")","v":""}]
[null,null,null,null,"Your score",null,{"$f":"VLOOKUP(D419,'Technical page'!$B$584:$C$600,2,FALSE)","v":3},null,null,null,null,null,null,{"$f":"CONCATENATE(G420,\" = \",HLOOKUP(\" \",'Chapter 6'!D111:E116,Tips!G420+2))","v":"3 = Organizace určila rizika související s klimatickými změnami pro své činnosti a potenciálně opatření k omezení těchto rizik."}]
[null,null,null,null,"Try to improve",null,{"$f":"VLOOKUP(CONCATENATE(D419,$M$3),'Technical page'!$BG$584:$BI$651,3,FALSE)","v":"Invest in measures to improve your organisation's resilience to climate change and evaluate their effectiveness."}]
[null,{"$f":"'Chapter 6'!B118","v":"Různé"},null,null,null,null,null,null,null,null,null,null,null,{"$f":"IF(L423=8,\"\",\"increase score for:\")","v":""}]
[null,null,{"$f":"IF(VLOOKUP(D423,'Technical page'!$AO$584:$AQ$600,3,0)=\"OK\",\"\",\"major issue\")","v":""},{"$f":"'Chapter 6'!C120","v":"Q6.17"},{"$f":"'Chapter 6'!D120","v":"Jak organizace zajišťuje rovné příležitosti při náboru a během kariéry všech?"},null,null,null,null,null,null,{"$f":"COUNTBLANK(N423:U423)","v":8},null,{"$f":"IF(VLOOKUP(D423,'Specific reports'!$E$6:$H$112,4,FALSE)=\"increase score\",\"ISO 9001\",\"\")","v":""},{"$f":"IF(VLOOKUP(D423,'Specific reports'!$E$116:$H$222,4,FALSE)=\"increase score\",\"ISO 14001\",\"\")","v":""},{"$f":"IF(VLOOKUP(D423,'Specific reports'!$E$226:$H$332,4,FALSE)=\"increase score\",\"ISO 26000\",\"\")","v":""},{"$f":"IF(VLOOKUP(D423,'Specific reports'!$E$336:$H$552,4,FALSE)=\"increase score\",\"ISO 45001\",\"\")","v":""},{"$f":"IF(VLOOKUP(D423,'Specific reports'!$E$556:$H$662,4,FALSE)=\"increase score\",\"EMAS\",\"\")","v":""},{"$f":"IF(VLOOKUP(D423,'Specific reports'!$E$666:$H$772,4,FALSE)=\"increase score\",\"RC14001\",\"\")","v":""},{"$f":"IF(VLOOKUP(D423,'Specific reports'!$E$776:$H$882,4,FALSE)=\"increase score\",\"RCMS\",\"\")","v":""}]
[null,null,null,null,"Your score",null,{"$f":"VLOOKUP(D423,'Technical page'!$B$584:$C$600,2,FALSE)","v":2},null,null,null,null,null,null,{"$f":"CONCATENATE(G424,\" = \",HLOOKUP(\" \",'Chapter 6'!D119:E124,Tips!G424+2))","v":"2 = The organisation has made a commitment (e.g. signature of a good practice charter) in terms of equal opportunities and has set up dedicated processes to ensure equal opportunities."}]
[null,null,null,null,"Try to improve",null,{"$f":"VLOOKUP(CONCATENATE(D423,$M$3),'Technical page'!$BG$584:$BI$651,3,FALSE)","v":"Set up a clear action plan with quantified objectives to ensure equal opportunities and integrate diversity aspects into all of your organisation's Human Resource processes."}]

{"sheet":"Specific reports","index":12,"n_rows":991,"n_cols":10,"rows_kept":991,"cut":false,"hidden":false,"merged":[]}
[]
[null,null,"Report on distance to compliance with ISO 9001"]
[null,null,null,null,null,"Your score","Minimum score for ISO 9001"]
[]
[null,null,null,null,"CHAPTER 1 : A corporate leadership culture"]
[null,null,null,null,{"$f":"'Technical page'!B10","v":"Q1.1"},{"$f":"'Technical page'!C10","v":3},{"$f":"VLOOKUP(E6,'Technical page'!$AU$10:$BD$25,2,0)","v":3},{"$f":"IF(G6=\"-\",\"n.a.\",IF(F6-G6>-1,\"compliant\",\"increase score\"))","v":"compliant"},null,{"$f":"VLOOKUP(E6,'Chapter 1'!$C$6:$D$112,2,0)","v":"Jak se projevuje závazek plnit povinnosti týkající se dodržování předpisů a zásad Responsible Care = RC (tj. ochrana a podpora zdraví a bezpečnost lidí, životního prostředí a udržitelnosti) na všech úrovních organizace?\n"}]
[null,null,null,null,{"$f":"'Technical page'!B11","v":"Q1.2"},{"$f":"'Technical page'!C11","v":3},{"$f":"VLOOKUP(E7,'Technical page'!$AU$10:$BD$25,2,0)","v":3},"compliant",null,{"$f":"VLOOKUP(E7,'Chapter 1'!$C$6:$D$112,2,0)","v":"Jakým způsobem řídí organizace příslušná rizika a příležitosti?  "}]
[null,null,null,null,{"$f":"'Technical page'!B12","v":"Q1.3"},{"$f":"'Technical page'!C12","v":2},{"$f":"VLOOKUP(E8,'Technical page'!$AU$10:$BD$25,2,0)","v":"-"},"n.a.",null,{"$f":"VLOOKUP(E8,'Chapter 1'!$C$6:$D$112,2,0)","v":"Jakým způsobem monitoruje organizace svoje zákonné povinnosti? "}]
[null,null,null,null,{"$f":"'Technical page'!B13","v":"Q1.4"},{"$f":"'Technical page'!C13","v":2},{"$f":"VLOOKUP(E9,'Technical page'!$AU$10:$BD$25,2,0)","v":2},"compliant",null,{"$f":"VLOOKUP(E9,'Chapter 1'!$C$6:$D$112,2,0)","v":"Jakým způsobem top management zajišťuje, že jednotlivé aspekty HSE&S (zdraví, bezpečnosti, ochrany životního prostředí & udržitelnosti) jsou přiřazeny stanoveným rolím v organizaci?"}]
[null,null,null,null,{"$f":"'Technical page'!B14","v":"Q1.5"},{"$f":"'Technical page'!C14","v":3},{"$f":"VLOOKUP(E10,'Technical page'!$AU$10:$BD$25,2,0)","v":3},"compliant",null,{"$f":"VLOOKUP(E10,'Chapter 1'!$C$6:$D$112,2,0)","v":"Jakým způsobem se top management podílí na řešení záležitostí HSE&S?"}]
[null,null,null,null,{"$f":"'Technical page'!B15","v":"Q1.6"},{"$f":"'Technical page'!C15","v":3},{"$f":"VLOOKUP(E11,'Technical page'!$AU$10:$BD$25,2,0)","v":"-"},"n.a.",null,{"$f":"VLOOKUP(E11,'Chapter 1'!$C$6:$D$112,2,0)","v":"Jakým způsobem jsou odpovědnosti HSE&S začleněny do popisů pracovní náplně nebo ročních cílů?\n"}]
[null,null,null,null,{"$f":"'Technical page'!B16","v":"Q1.7"},{"$f":"'Technical page'!C16","v":4},{"$f":"VLOOKUP(E12,'Technical page'!$AU$10:$BD$25,2,0)","v":3},"compliant",null,{"$f":"VLOOKUP(E12,'Chapter 1'!$C$6:$D$112,2,0)","v":"Jakým způsobem se řídí (nejdůležitější) procesy v souvislosti s HSE&S?"}]
[null,null,null,null,{"$f":"'Technical page'!B17","v":"Q1.8"},{"$f":"'Technical page'!C17","v":3},{"$f":"VLOOKUP(E13,'Technical page'!$AU$10:$BD$25,2,0)","v":3},"compliant",null,{"$f":"VLOOKUP(E13,'Chapter 1'!$C$6:$D$112,2,0)","v":"Jakým způsobem top management zajišťuje neustálé zlepšování výkonu v oblasti HSE&S (zdraví, bezpečnosti, životního prostředí, energetiky a udržitelnosti)?"}]
[null,null,null,null,{"$f":"'Technical page'!B18","v":"Q1.9"},{"$f":"'Technical page'!C18","v":3},{"$f":"VLOOKUP(E14,'Technical page'!$AU$10:$BD$25,2,0)","v":3},"compliant",null,{"$f":"VLOOKUP(E14,'Chapter 1'!$C$6:$D$112,2,0)","v":"Jak jsou organizovány interní audity?"}]
[null,null,null,null,{"$f":"'Technical page'!B19","v":"Q1.10"},{"$f":"'Technical page'!C19","v":3},{"$f":"VLOOKUP(E15,'Technical page'!$AU$10:$BD$25,2,0)","v":3},"compliant",null,{"$f":"VLOOKUP(E15,'Chapter 1'!$C$6:$D$112,2,0)","v":"Jakým způsobem probíhá vyšetřování?"}]
[null,null,null,null,{"$f":"'Technical page'!B20","v":"Q1.11"},{"$f":"'Technical page'!C20","v":3},{"$f":"VLOOKUP(E16,'Technical page'!$AU$10:$BD$25,2,0)","v":3},"compliant",null,{"$f":"VLOOKUP(E16,'Chapter 1'!$C$6:$D$112,2,0)","v":"Jakým způsobem organizace zajišťuje procesy, čas a zdroje potřebné pro zlepšování procesů řízení HSE&S?"}]
[null,null,null,null,{"$f":"'Technical page'!B21","v":"Q1.12"},{"$f":"'Technical page'!C21","v":3},{"$f":"VLOOKUP(E17,'Technical page'!$AU$10:$BD$25,2,0)","v":3},"compliant",null,{"$f":"VLOOKUP(E17,'Chapter 1'!$C$6:$D$112,2,0)","v":"Jak organizace zajišťuje, že zaměstnanci jsou si vědomi politik a procesů týkajících se zdraví, bezpečnosti, životního prostředí, energetiky a udržitelnosti?"}]
[null,null,null,null,{"$f":"'Technical page'!B22","v":"Q1.13"},{"$f":"'Technical page'!C22","v":3},{"$f":"VLOOKUP(E18,'Technical page'!$AU$10:$BD$25,2,0)","v":3},"compliant",null,{"$f":"VLOOKUP(E18,'Chapter 1'!$C$6:$D$112,2,0)","v":"Jakým způsobem organizace zajišťuje správné kompetence pracovníků, pokud jde o aspekty HSE&S týkající se jejich práce?"}]
[null,null,null,null,{"$f":"'Technical page'!B23","v":"Q1.14"},{"$f":"'Technical page'!C23","v":3},{"$f":"VLOOKUP(E19,'Technical page'!$AU$10:$BD$25,2,0)","v":"-"},"n.a.",null,{"$f":"VLOOKUP(E19,'Chapter 1'!$C$6:$D$112,2,0)","v":"Jaká je struktura zapojení zaměstnanců?"}]
[null,null,null,null,{"$f":"'Technical page'!B24","v":"Q1.15"},{"$f":"'Technical page'!C24","v":3},{"$f":"VLOOKUP(E20,'Technical page'!$AU$10:$BD$25,2,0)","v":3},"compliant",null,{"$f":"VLOOKUP(E20,'Chapter 1'!$C$6:$D$112,2,0)","v":"Jakým způsobem se řídí dokumentace HSE&S?"}]
[null,null,null,null,{"$f":"'Technical page'!B25","v":"Q1.16"},{"$f":"'Technical page'!C25","v":3},{"$f":"VLOOKUP(E21,'Technical page'!$AU$10:$BD$25,2,0)","v":3},"compliant",null,{"$f":"VLOOKUP(E21,'Chapter 1'!$C$6:$D$112,2,0)","v":"Jakým způsobem jsou řízeny změny potenciálně ovlivňující HSE&S (zdraví, bezpečnost, životní prostředí, energetiku a udržitelnost)?"}]
[null,null,null,null,"CHAPTER 2 : Safeguarding people and the environment"]
[null,null,null,null,{"$f":"'Technical page'!B124","v":"Q2.1"},{"$f":"'Technical page'!C124","v":3},{"$f":"VLOOKUP(E23,'Technical page'!$AU$124:$BD$168,2,0)","v":"-"},"n.a.",null,{"$f":"VLOOKUP(E23,'Chapter 2'!$C$6:$D$282,2,0)","v":"Jak se management zavázal k ochraně zdraví a bezpečnosti při práci (dále jen \"BOZP\")?"}]
[null,null,null,null,{"$f":"'Technical page'!B125","v":"Q2.2"},{"$f":"'Technical page'!C125","v":2},{"$f":"VLOOKUP(E24,'Technical page'!$AU$124:$BD$168,2,0)","v":"-"},{"$f":"IF(G24=\"-\",\"n.a.\",IF(F24-G24>-1,\"compliant\",\"increase score\"))","v":"n.a."},null,{"$f":"VLOOKUP(E24,'Chapter 2'!$C$6:$D$282,2,0)","v":"Jakým způsobem se určují rizika a expozice v souvislosti s BOZP?"}]
[null,null,null,null,{"$f":"'Technical page'!B126","v":"Q2.3"},{"$f":"'Technical page'!C126","v":3},{"$f":"VLOOKUP(E25,'Technical page'!$AU$124:$BD$168,2,0)","v":"-"},"n.a.",null,{"$f":"VLOOKUP(E25,'Chapter 2'!$C$6:$D$282,2,0)","v":"How are medical requirements evaluated?"}]
[null,null,null,null,{"$f":"'Technical page'!B127","v":"Q2.4"},{"$f":"'Technical page'!C127","v":3},{"$f":"VLOOKUP(E26,'Technical page'!$AU$124:$BD$168,2,0)","v":"-"},"n.a.",null,{"$f":"VLOOKUP(E26,'Chapter 2'!$C$6:$D$282,2,0)","v":"Jakým způsobem zlepšuje organizace BOZP?"}]
[null,null,null,null,{"$f":"'Technical page'!B128","v":"Q2.5"},{"$f":"'Technical page'!C128","v":3},{"$f":"VLOOKUP(E27,'Technical page'!$AU$124:$BD$168,2,0)","v":"-"},"n.a.",null,{"$f":"VLOOKUP(E27,'Chapter 2'!$C$6:$D$282,2,0)","v":"Jakým způsobem probíhá údržba a udržování pořádku s cílem zajistit bezpečnost provozů, zařízení, nástrojů a (bezpečnostních) pomůcek?"}]
[null,null,null,null,{"$f":"'Technical page'!B129","v":"Q2.6"},{"$f":"'Technical page'!C129","v":3},{"$f":"VLOOKUP(E28,'Technical page'!$AU$124:$BD$168,2,0)","v":"-"},"n.a.",null,{"$f":"VLOOKUP(E28,'Chapter 2'!$C$6:$D$282,2,0)","v":"Jak se ověřuje správný výběr, údržba a používání zdravotního a bezpečnostního vybavení (např. osobních ochranných prostředků = OOPP)?"}]
[null,null,null,null,{"$f":"'Technical page'!B130","v":"Q2.7"},{"$f":"'Technical page'!C130","v":2},{"$f":"VLOOKUP(E29,'Technical page'!$AU$124:$BD$168,2,0)","v":"-"},"n.a.",null,{"$f":"VLOOKUP(E29,'Chapter 2'!$C$6:$D$282,2,0)","v":"Jak se organizace stará o stres a tělesné a duševní zdraví zaměstnanců?"}]
[null,null,null,null,{"$f":"'Technical page'!B131","v":"Q2.8"},{"$f":"'Technical page'!C131","v":3},{"$f":"VLOOKUP(E30,'Technical page'!$AU$124:$BD$168,2,0)","v":"-"},"n.a.",null,{"$f":"VLOOKUP(E30,'Chapter 2'!$C$6:$D$282,2,0)","v":"Jakým způsobem se vyšetřují onemocnění, zranění, incidenty a potenciálně nebezpečné situace na pracovišti?"}]
[null,null,null,null,{"$f":"'Technical page'!B132","v":"Q2.9"},{"$f":"'Technical page'!C132","v":3},{"$f":"VLOOKUP(E31,'Technical page'!$AU$124:$BD$168,2,0)","v":"-"},"n.a.",null,{"$f":"VLOOKUP(E31,'Chapter 2'!$C$6:$D$282,2,0)","v":"Jak je organizace připravena na mimořádné události?"}]
[null,null,null,null,{"$f":"'Technical page'!B133","v":"Q2.10"},{"$f":"'Technical page'!C133","v":3},{"$f":"VLOOKUP(E32,'Technical page'!$AU$124:$BD$168,2,0)","v":3},"compliant",null,{"$f":"VLOOKUP(E32,'Chapter 2'!$C$6:$D$282,2,0)","v":"Jakým způsobem zajišťuje organizace správně kompetence všech pracovníků, týkající se požadavků BOZP, které souvisí s jejich pracovní náplní?"}]
[null,null,null,null,{"$f":"'Technical page'!B134","v":"Q2.11"},{"$f":"'Technical page'!C134","v":3},{"$f":"VLOOKUP(E33,'Technical page'!$AU$124:$BD$168,2,0)","v":"-"},{"$f":"IF(G33=\"-\",\"n.a.\",IF(F33-G33>-1,\"compliant\",\"increase score\"))","v":"n.a."},null,{"$f":"VLOOKUP(E33,'Chapter 2'!$C$6:$D$282,2,0)","v":"Jakým způsobem se vedení staví k procesní bezpečnosti?\n\n"}]
[null,null,null,null,{"$f":"'Technical page'!B135","v":"Q2.12"},{"$f":"'Technical page'!C135","v":2},{"$f":"VLOOKUP(E34,'Technical page'!$AU$124:$BD$168,2,0)","v":"-"},"n.a.",null,{"$f":"VLOOKUP(E34,'Chapter 2'!$C$6:$D$282,2,0)","v":"Jakým způsobem je vypracována identifikace a popis bezpečnosti procesů, zařízení a pracovišť organizace?"}]
[null,null,null,null,{"$f":"'Technical page'!B136","v":"Q2.13"},{"$f":"'Technical page'!C136","v":1},{"$f":"VLOOKUP(E35,'Technical page'!$AU$124:$BD$168,2,0)","v":"-"},"n.a.",null,{"$f":"VLOOKUP(E35,'Chapter 2'!$C$6:$D$282,2,0)","v":"Jakým způsobem se zlepšuje procesní bezpečnost po nehodách a incidentech?"}]
[null,null,null,null,{"$f":"'Technical page'!B137","v":"Q2.14"},{"$f":"'Technical page'!C137","v":2},{"$f":"VLOOKUP(E36,'Technical page'!$AU$124:$BD$168,2,0)","v":"-"},"n.a.",null,{"$f":"VLOOKUP(E36,'Chapter 2'!$C$6:$D$282,2,0)","v":"Jakým způsobem se provádějí audity a inspekce procesní bezpečnosti?"}]
[null,null,null,null,{"$f":"'Technical page'!B138","v":"Q2.15"},{"$f":"'Technical page'!C138","v":3},{"$f":"VLOOKUP(E37,'Technical page'!$AU$124:$BD$168,2,0)","v":"-"},"n.a.",null,{"$f":"VLOOKUP(E37,'Chapter 2'!$C$6:$D$282,2,0)","v":"Jakým způsobem se prověřují a zlepšují pracovní pokyny?"}]
[null,null,null,null,{"$f":"'Technical page'!B139","v":"Q2.16"},{"$f":"'Technical page'!C139","v":3},{"$f":"VLOOKUP(E38,'Technical page'!$AU$124:$BD$168,2,0)","v":"-"},"n.a.",null,{"$f":"VLOOKUP(E38,'Chapter 2'!$C$6:$D$282,2,0)","v":"Jak je navrhována a dokumnetována instalace nových zařízení?"}]
[null,null,null,null,{"$f":"'Technical page'!B140","v":"Q2.17"},{"$f":"'Technical page'!C140","v":4},{"$f":"VLOOKUP(E39,'Technical page'!$AU$124:$BD$168,2,0)","v":"-"},"n.a.",null,{"$f":"VLOOKUP(E39,'Chapter 2'!$C$6:$D$282,2,0)","v":"Jakým způsobem probíhá kontrola zřizování instalace?"}]
[null,null,null,null,{"$f":"'Technical page'!B141","v":"Q2.18"},{"$f":"'Technical page'!C141","v":3},{"$f":"VLOOKUP(E40,'Technical page'!$AU$124:$BD$168,2,0)","v":"-"},"n.a.",null,{"$f":"VLOOKUP(E40,'Chapter 2'!$C$6:$D$282,2,0)","v":"Jakým způsobem je zaručena ochrana zařízení, aby jediná chyba neměla katastrofické následky?"}]
[null,null,null,null,{"$f":"'Technical page'!B142","v":"Q2.19"},{"$f":"'Technical page'!C142","v":3},{"$f":"VLOOKUP(E41,'Technical page'!$AU$124:$BD$168,2,0)","v":"-"},"n.a.",null,{"$f":"VLOOKUP(E41,'Chapter 2'!$C$6:$D$282,2,0)","v":"Byly zřízeny programy preventivní údržby a péče, které zaručují bezpečnost provozů, nástrojů a zařízení?"}]
[null,null,null,null,{"$f":"'Technical page'!B143","v":"Q2.20"},{"$f":"'Technical page'!C143","v":4},{"$f":"VLOOKUP(E42,'Technical page'!$AU$124:$BD$168,2,0)","v":"-"},"n.a.",null,{"$f":"VLOOKUP(E42,'Chapter 2'!$C$6:$D$282,2,0)","v":"Jakým způsobem se řídí procesy během mimořádných událostí v případě přerušení dodávky energie nebo služeb?"}]
[null,null,null,null,{"$f":"'Technical page'!B144","v":"Q2.21"},{"$f":"'Technical page'!C144","v":2},{"$f":"VLOOKUP(E43,'Technical page'!$AU$124:$BD$168,2,0)","v":"-"},"n.a.",null,{"$f":"VLOOKUP(E43,'Chapter 2'!$C$6:$D$282,2,0)","v":"Jak se připravují havarijní plány?"}]
[null,null,null,null,{"$f":"'Technical page'!B145","v":"Q2.22"},{"$f":"'Technical page'!C145","v":2},{"$f":"VLOOKUP(E44,'Technical page'!$AU$124:$BD$168,2,0)","v":"-"},"n.a.",null,{"$f":"VLOOKUP(E44,'Chapter 2'!$C$6:$D$282,2,0)","v":"Jakým způsobem jsou zabezpečeny kompetence a školení zaměstnanců a dodavatelů zapojených do procesů?"}]
[null,null,null,null,{"$f":"'Technical page'!B146","v":"Q2.23"},{"$f":"'Technical page'!C146","v":4},{"$f":"VLOOKUP(E45,'Technical page'!$AU$124:$BD$168,2,0)","v":"-"},"n.a.",null,{"$f":"VLOOKUP(E45,'Chapter 2'!$C$6:$D$282,2,0)","v":"Jakým způsobem se sdílejí informace o rizicích látek a přípravků?"}]
[null,null,null,null,{"$f":"'Technical page'!B147","v":"Q2.24"},{"$f":"'Technical page'!C147","v":4},{"$f":"VLOOKUP(E46,'Technical page'!$AU$124:$BD$168,2,0)","v":"-"},"n.a.",null,{"$f":"VLOOKUP(E46,'Chapter 2'!$C$6:$D$282,2,0)","v":"Jak se sdílejí informace o procesu?"}]
[null,null,null,null,{"$f":"'Technical page'!B148","v":"Q2.25"},{"$f":"'Technical page'!C148","v":3},{"$f":"VLOOKUP(E47,'Technical page'!$AU$124:$BD$168,2,0)","v":"-"},"n.a.",null,{"$f":"VLOOKUP(E47,'Chapter 2'!$C$6:$D$282,2,0)","v":"Jakým způsobem organizace hodnotí své logistické partnery z hlediska HSE&S, energetické účinnosti a emisí skleníkových plynů?"}]
[null,null,null,null,{"$f":"'Technical page'!B149","v":"Q2.26"},{"$f":"'Technical page'!C149","v":3},{"$f":"VLOOKUP(E48,'Technical page'!$AU$124:$BD$168,2,0)","v":"-"},"n.a.",null,{"$f":"VLOOKUP(E48,'Chapter 2'!$C$6:$D$282,2,0)","v":"Jakým způsobem organizace zabraňuje a reaguje na dopravní nehody?"}]
[null,null,null,null,{"$f":"'Technical page'!B150","v":"Q2.27"},{"$f":"'Technical page'!C150","v":2},{"$f":"VLOOKUP(E49,'Technical page'!$AU$124:$BD$168,2,0)","v":"-"},"n.a.",null,{"$f":"VLOOKUP(E49,'Chapter 2'!$C$6:$D$282,2,0)","v":"Jakým způsobem organizace identifikuje bezpečnostní problémy?"}]
[null,null,null,null,{"$f":"'Technical page'!B151","v":"Q2.28"},{"$f":"'Technical page'!C151","v":3},{"$f":"VLOOKUP(E50,'Technical page'!$AU$124:$BD$168,2,0)","v":"-"},"n.a.",null,{"$f":"VLOOKUP(E50,'Chapter 2'!$C$6:$D$282,2,0)","v":"Jakým způsobem se kontroluje příchod a odchod pracovníků a materiálu na pracovišti a v oblastech s omezeným vstupem?"}]
[null,null,null,null,{"$f":"'Technical page'!B152","v":"Q2.29"},{"$f":"'Technical page'!C152","v":3},{"$f":"VLOOKUP(E51,'Technical page'!$AU$124:$BD$168,2,0)","v":"-"},"n.a.",null,{"$f":"VLOOKUP(E51,'Chapter 2'!$C$6:$D$282,2,0)","v":"Jakým způsobem se kontroluje kybernetická bezpečnost?"}]
[null,null,null,null,{"$f":"'Technical page'!B153","v":"Q2.30"},{"$f":"'Technical page'!C153","v":2},{"$f":"VLOOKUP(E52,'Technical page'!$AU$124:$BD$168,2,0)","v":"-"},"n.a.",null,{"$f":"VLOOKUP(E52,'Chapter 2'!$C$6:$D$282,2,0)","v":"Jakým způsobem probíhá komunikace a výměna informací v případě bezpečnostní krize?"}]
[null,null,null,null,{"$f":"'Technical page'!B154","v":"Q2.31"},{"$f":"'Technical page'!C154","v":1},{"$f":"VLOOKUP(E53,'Technical page'!$AU$124:$BD$168,2,0)","v":"-"},"n.a.",null,{"$f":"VLOOKUP(E53,'Chapter 2'!$C$6:$D$282,2,0)","v":"Jak se organizace vyrovnává s podezřelým chováním (včetně rizik radikalizace = souhlas a podopra extrémních názorů)"}]
[null,null,null,null,{"$f":"'Technical page'!B155","v":"Q2.32"},{"$f":"'Technical page'!C155","v":2},{"$f":"VLOOKUP(E54,'Technical page'!$AU$124:$BD$168,2,0)","v":"-"},"n.a.",null,{"$f":"VLOOKUP(E54,'Chapter 2'!$C$6:$D$282,2,0)","v":"Jakým způsobem školí organizace pracovníky v oblasti ostrahy ve vazbě na bezpečnostní rizika?  "}]
[null,null,null,null,{"$f":"'Technical page'!B156","v":"Q2.33"},{"$f":"'Technical page'!C156","v":3},{"$f":"VLOOKUP(E55,'Technical page'!$AU$124:$BD$168,2,0)","v":"-"},"n.a.",null,{"$f":"VLOOKUP(E55,'Chapter 2'!$C$6:$D$282,2,0)","v":"Jakým způsobem se posuzuje potenciální vliv organizace na životní prostředí?"}]
[null,null,null,null,{"$f":"'Technical page'!B157","v":"Q2.34"},{"$f":"'Technical page'!C157","v":4},{"$f":"VLOOKUP(E56,'Technical page'!$AU$124:$BD$168,2,0)","v":"-"},"n.a.",null,{"$f":"VLOOKUP(E56,'Chapter 2'!$C$6:$D$282,2,0)","v":"Jakým způsobem se řídí environmentální výkonnost?"}]
[null,null,null,null,{"$f":"'Technical page'!B158","v":"Q2.35"},{"$f":"'Technical page'!C158","v":3},{"$f":"VLOOKUP(E57,'Technical page'!$AU$124:$BD$168,2,0)","v":"-"},{"$f":"IF(G57=\"-\",\"n.a.\",IF(F57-G57>-1,\"compliant\",\"increase score\"))","v":"n.a."},null,{"$f":"VLOOKUP(E57,'Chapter 2'!$C$6:$D$282,2,0)","v":"Jak organizace nakládá s odpadem?"}]
[null,null,null,null,{"$f":"'Technical page'!B159","v":"Q2.36"},{"$f":"'Technical page'!C159","v":3},{"$f":"VLOOKUP(E58,'Technical page'!$AU$124:$BD$168,2,0)","v":"-"},"n.a.",null,{"$f":"VLOOKUP(E58,'Chapter 2'!$C$6:$D$282,2,0)","v":"Jakým způsobem řídí organizace rizika týkající se podzemních vod?"}]
[null,null,null,null,{"$f":"'Technical page'!B160","v":"Q2.37"},{"$f":"'Technical page'!C160","v":3},{"$f":"VLOOKUP(E59,'Technical page'!$AU$124:$BD$168,2,0)","v":"-"},{"$f":"IF(G59=\"-\",\"n.a.\",IF(F59-G59>-1,\"compliant\",\"increase score\"))","v":"n.a."},null,{"$f":"VLOOKUP(E59,'Chapter 2'!$C$6:$D$282,2,0)","v":"Jakým způsobem řídí organizace rizika týkající se znečištění půdy?"}]
[null,null,null,null,{"$f":"'Technical page'!B161","v":"Q2.38"},{"$f":"'Technical page'!C161","v":3},{"$f":"VLOOKUP(E60,'Technical page'!$AU$124:$BD$168,2,0)","v":"-"},"n.a.",null,{"$f":"VLOOKUP(E60,'Chapter 2'!$C$6:$D$282,2,0)","v":"Jakým způsobem řídí organizace existující znečištění půdy?\n"}]
[null,null,null,null,{"$f":"'Technical page'!B162","v":"Q2.39"},{"$f":"'Technical page'!C162","v":3},{"$f":"VLOOKUP(E61,'Technical page'!$AU$124:$BD$168,2,0)","v":"-"},"n.a.",null,{"$f":"VLOOKUP(E61,'Chapter 2'!$C$6:$D$282,2,0)","v":"Jakým způsobem organizace řídí své emise škodlivin do ovzduší?"}]
[null,null,null,null,{"$f":"'Technical page'!B163","v":"Q2.40"},{"$f":"'Technical page'!C163","v":3},{"$f":"VLOOKUP(E62,'Technical page'!$AU$124:$BD$168,2,0)","v":"-"},"n.a.",null,{"$f":"VLOOKUP(E62,'Chapter 2'!$C$6:$D$282,2,0)","v":"Jakým způsobem organizace řídí své emise škodlivin do vody?"}]
[null,null,null,null,{"$f":"'Technical page'!B164","v":"Q2.41"},{"$f":"'Technical page'!C164","v":3},{"$f":"VLOOKUP(E63,'Technical page'!$AU$124:$BD$168,2,0)","v":"-"},"n.a.",null,{"$f":"VLOOKUP(E63,'Chapter 2'!$C$6:$D$282,2,0)","v":"Jakým způsobem organizace řídí své emise hluku?"}]
[null,null,null,null,{"$f":"'Technical page'!B165","v":"Q2.42"},{"$f":"'Technical page'!C165","v":3},{"$f":"VLOOKUP(E64,'Technical page'!$AU$124:$BD$168,2,0)","v":"-"},"n.a.",null,{"$f":"VLOOKUP(E64,'Chapter 2'!$C$6:$D$282,2,0)","v":"Jakým způsobem organizace řídí své emise zápachu?"}]
[null,null,null,null,{"$f":"'Technical page'!B166","v":"Q2.43"},{"$f":"'Technical page'!C166","v":3},{"$f":"VLOOKUP(E65,'Technical page'!$AU$124:$BD$168,2,0)","v":"-"},"n.a.",null,{"$f":"VLOOKUP(E65,'Chapter 2'!$C$6:$D$282,2,0)","v":"Jakým způsobem organizace zabraňuje a řídí havarijní emise do prostředí?"}]
[null,null,null,null,{"$f":"'Technical page'!B167","v":"Q2.44"},{"$f":"'Technical page'!C167","v":3},{"$f":"VLOOKUP(E66,'Technical page'!$AU$124:$BD$168,2,0)","v":"-"},"n.a.",null,{"$f":"VLOOKUP(E66,'Chapter 2'!$C$6:$D$282,2,0)","v":"Jakým způsobem zajišťuje organizace správně kompetence všech pracovníků, týkající se environmentálních požadavků, které souvisejí s jejich pracovní náplní?"}]
[null,null,null,null,{"$f":"'Technical page'!B168","v":"Q2.45"},{"$f":"'Technical page'!C168","v":1},{"$f":"VLOOKUP(E67,'Technical page'!$AU$124:$BD$168,2,0)","v":"-"},"n.a.",null,{"$f":"VLOOKUP(E67,'Chapter 2'!$C$6:$D$282,2,0)","v":"Jakým způsobem jsou zainteresované strany organizace informovány o environmentálních aspektech a jejich možných dopadech?"}]
[null,null,null,null,"CHAPTER 3 : Strengthening chemicals management systems"]
[null,null,null,null,{"$f":"'Technical page'!$B$406","v":"Q3.1"},{"$f":"'Technical page'!$C$406","v":4},{"$f":"VLOOKUP(E69,'Technical page'!$AU$406:$BD$418,2,0)","v":1},"compliant",null,{"$f":"VLOOKUP(E69,'Chapter 3'!$C$6:$D$89,2,0)","v":"Zavedla organizace proces pro navrhování a vývoj nových \nproduktů a služeb?"}]
[null,null,null,null,{"$f":"'Technical page'!$B$407","v":"Q3.2"},{"$f":"'Technical page'!$C$407","v":2},{"$f":"VLOOKUP(E70,'Technical page'!$AU$406:$BD$418,2,0)","v":"-"},"n.a.",null,{"$f":"VLOOKUP(E70,'Chapter 3'!$C$6:$D$89,2,0)","v":"Má organizace k dispozici proces hodnocení a stanovení priorit svých produktů pro charakterizaci rizik a řízení rizik?\n\n\n"}]
[null,null,null,null,{"$f":"'Technical page'!$B$408","v":"Q3.3"},{"$f":"'Technical page'!$C$408","v":4},{"$f":"VLOOKUP(E71,'Technical page'!$AU$406:$BD$418,2,0)","v":1},"compliant",null,{"$f":"VLOOKUP(E71,'Chapter 3'!$C$6:$D$89,2,0)","v":"Zavedla organizace systém pro sledování použitelnosti, změn a dodržování interních a externích požadavků souvisejících s řízením bezpečnosti chemických látek?"}]
[null,null,null,null,{"$f":"'Technical page'!$B$409","v":"Q3.4"},{"$f":"'Technical page'!$C$409","v":2},{"$f":"VLOOKUP(E72,'Technical page'!$AU$406:$BD$418,2,0)","v":"-"},"n.a.",null,{"$f":"VLOOKUP(E72,'Chapter 3'!$C$6:$D$89,2,0)","v":"Zavedla organizace systém na správu existujících informací o rizicích svých produktů?"}]
[null,null,null,null,{"$f":"'Technical page'!$B$410","v":"Q3.5"},{"$f":"'Technical page'!$C$410","v":1},{"$f":"VLOOKUP(E73,'Technical page'!$AU$406:$BD$418,2,0)","v":"-"},"n.a.",null,{"$f":"VLOOKUP(E73,'Chapter 3'!$C$6:$D$89,2,0)","v":"Zavedla organizace proces řízení informací o používání a expozici svých produktů?"}]
[null,null,null,null,{"$f":"'Technical page'!$B$411","v":"Q3.6"},{"$f":"'Technical page'!$C$411","v":1},{"$f":"VLOOKUP(E74,'Technical page'!$AU$406:$BD$418,2,0)","v":"-"},"n.a.",null,{"$f":"VLOOKUP(E74,'Chapter 3'!$C$6:$D$89,2,0)","v":"Zavedla organizace proces na správu nových informací?"}]
[null,null,null,null,{"$f":"'Technical page'!$B$412","v":"Q3.7"},{"$f":"'Technical page'!$C$412","v":2},{"$f":"VLOOKUP(E75,'Technical page'!$AU$406:$BD$418,2,0)","v":"-"},"n.a.",null,{"$f":"VLOOKUP(E75,'Chapter 3'!$C$6:$D$89,2,0)","v":"Zavedla organizace proces charakterizace rizik na základě shromážděných informací?"}]
[null,null,null,null,{"$f":"'Technical page'!$B$413","v":"Q3.8"},{"$f":"'Technical page'!$C$413","v":1},{"$f":"VLOOKUP(E76,'Technical page'!$AU$406:$BD$418,2,0)","v":1},"compliant",null,{"$f":"VLOOKUP(E76,'Chapter 3'!$C$6:$D$89,2,0)","v":"Zavedla organizace proces řízení rizik na základě shromážděných informací?"}]
[null,null,null,null,{"$f":"'Technical page'!$B$414","v":"Q3.9"},{"$f":"'Technical page'!$C$414","v":3},{"$f":"VLOOKUP(E77,'Technical page'!$AU$406:$BD$418,2,0)","v":3},"compliant",null,{"$f":"VLOOKUP(E77,'Chapter 3'!$C$6:$D$89,2,0)","v":"Zavedla organizace účinný proces sledování svých produktů po dodání a provádění nápravných opatření?\n"}]
[null,null,null,null,{"$f":"'Technical page'!$B$415","v":"Q3.10"},{"$f":"'Technical page'!$C$415","v":3},{"$f":"VLOOKUP(E78,'Technical page'!$AU$406:$BD$418,2,0)","v":"-"},"n.a.",null,{"$f":"VLOOKUP(E78,'Chapter 3'!$C$6:$D$89,2,0)","v":"Poskytuje organizace efektivní komunikaci v rámci dodavatelského řetězce ohledně opatření k řízení rizik, které se vztahují na jejich produkty?"}]
[null,null,null,null,"CHAPTER 4 : Influencing business partners"]
[null,null,null,null,{"$f":"'Technical page'!B482","v":"Q4.1"},{"$f":"'Technical page'!C482","v":3},{"$f":"VLOOKUP(E80,'Technical page'!$AU$482:$BD$489,2,0)","v":3},{"$f":"IF(G80=\"-\",\"n.a.\",IF(F80-G80>-1,\"compliant\",\"increase score\"))","v":"compliant"},null,{"$f":"VLOOKUP(E80,'Chapter 4'!$C$6:$D$91,2,0)","v":"Jak se organizace zavázala k odpovědnému získávání zdrojů?"}]
[null,null,null,null,{"$f":"'Technical page'!B483","v":"Q4.2"},{"$f":"'Technical page'!C483","v":2},{"$f":"VLOOKUP(E81,'Technical page'!$AU$482:$BD$489,2,0)","v":"-"},{"$f":"IF(G81=\"-\",\"n.a.\",IF(F81-G81>-1,\"compliant\",\"increase score\"))","v":"n.a."},null,{"$f":"VLOOKUP(E81,'Chapter 4'!$C$6:$D$91,2,0)","v":"Jak organizace zlepšuje spolupráci v dodavatelském řetězci?"}]
[null,null,null,null,{"$f":"'Technical page'!B484","v":"Q4.3"},{"$f":"'Technical page'!C484","v":3},{"$f":"VLOOKUP(E82,'Technical page'!$AU$482:$BD$489,2,0)","v":"-"},"n.a.",null,{"$f":"VLOOKUP(E82,'Chapter 4'!$C$6:$D$91,2,0)","v":"Jakým způsobem vyjadřuje organizace svůj závazek vůči podnikatelské etice?"}]
[null,null,null,null,{"$f":"'Technical page'!B485","v":"Q4.4"},{"$f":"'Technical page'!C485","v":1},{"$f":"VLOOKUP(E83,'Technical page'!$AU$482:$BD$489,2,0)","v":"-"},"n.a.",null,{"$f":"VLOOKUP(E83,'Chapter 4'!$C$6:$D$91,2,0)","v":"Jakým způsobem řeší organizace sociální problematiku a lidská práva v rámci spolupráce s obchodními partnery?"}]
[null,null,null,null,{"$f":"'Technical page'!B486","v":"Q4.5"},{"$f":"'Technical page'!C486","v":4},{"$f":"VLOOKUP(E84,'Technical page'!$AU$482:$BD$489,2,0)","v":"-"},"n.a.",null,{"$f":"VLOOKUP(E84,'Chapter 4'!$C$6:$D$91,2,0)","v":"Jakým způsobem zabraňuje organizace dětské práci?\nOrganizace\n1-\tzavedla systém ověřování věku; \n2-\tnezaměstnává děti mladší 15 let (v závislosti na místní legislativy). Jedinou výjimku představují učni, školní praxe nebo vzdělávací stáže; \n3-\tzaručuje, aby pracovní náplň osob mladších než 18 let neovlivňovala jejich školní docházku (doba strávená dopravou do práce a školy a z práce a školy, školní docházkou a prací je méně než 10 hodin denně );\n4-\tzajišťuje, že pracovní náplň mladých pracovníků není duševně, fyzicky, společensky ani morálně nebezpečná a škodlivá."}]
[null,null,null,null,{"$f":"'Technical page'!B487","v":"Q4.6"},{"$f":"'Technical page'!C487","v":3},{"$f":"VLOOKUP(E85,'Technical page'!$AU$482:$BD$489,2,0)","v":"-"},"n.a.",null,{"$f":"VLOOKUP(E85,'Chapter 4'!$C$6:$D$91,2,0)","v":"Jakým způsobem zabezpečuje organizace splnění svých požadavků ze strany logistických partnerů?"}]
[null,null,null,null,{"$f":"'Technical page'!B488","v":"Q4.7"},{"$f":"'Technical page'!C488","v":3},{"$f":"VLOOKUP(E86,'Technical page'!$AU$482:$BD$489,2,0)","v":3},"compliant",null,{"$f":"VLOOKUP(E86,'Chapter 4'!$C$6:$D$91,2,0)","v":"Jakým způsobem organizace chrání a zabezpečuje majetek a údaje následných uživatelů nebo externích poskytovatelů, které se používají nebo začleňují do produktů a služeb?"}]
[null,null,null,null,{"$f":"'Technical page'!B489","v":"Q4.8"},{"$f":"'Technical page'!C489","v":4},{"$f":"VLOOKUP(E87,'Technical page'!$AU$482:$BD$489,2,0)","v":4},"compliant",null,{"$f":"VLOOKUP(E87,'Chapter 4'!$C$6:$D$91,2,0)","v":"Co zahrnuje dialog s následnými uživateli?"}]
[null,null,null,null,"CHAPTER 5 : Engaging stakeholders"]
[null,null,null,null,{"$f":"'Technical page'!B544","v":"Q5.1"},{"$f":"'Technical page'!C544","v":3},{"$f":"VLOOKUP(E89,'Technical page'!$AU$544:$BD$548,2,0)","v":3},{"$f":"IF(G89=\"-\",\"n.a.\",IF(F89-G89>-1,\"compliant\",\"increase score\"))","v":"compliant"},null,{"$f":"VLOOKUP(E89,'Chapter 5'!$C$6:$D$89,2,0)","v":"Jakým způsobem zapojuje organizace své externí zainteresované strany a naplňuje jejich očekávání?"}]
[null,null,null,null,{"$f":"'Technical page'!B545","v":"Q5.2"},{"$f":"'Technical page'!C545","v":2},{"$f":"VLOOKUP(E90,'Technical page'!$AU$544:$BD$548,2,0)","v":"-"},{"$f":"IF(G90=\"-\",\"n.a.\",IF(F90-G90>-1,\"compliant\",\"increase score\"))","v":"n.a."},null,{"$f":"VLOOKUP(E90,'Chapter 5'!$C$6:$D$89,2,0)","v":"Jakým způsobem vede organizace dialog s veřejností, úřady a dalšími zainteresovanými stranami, včetně místních komunit a zákazníků v souvislosti s HSE&S v rámci jejich činností, produktů a služeb?"}]
[null,null,null,null,{"$f":"'Technical page'!B546","v":"Q5.3"},{"$f":"'Technical page'!C546","v":2},{"$f":"VLOOKUP(E91,'Technical page'!$AU$544:$BD$548,2,0)","v":"-"},"n.a.",null,{"$f":"VLOOKUP(E91,'Chapter 5'!$C$6:$D$89,2,0)","v":"Jakým způsobem zveřejňuje organizace informace týkající se\n HSE&S?"}]
[null,null,null,null,{"$f":"'Technical page'!B547","v":"Q5.4"},{"$f":"'Technical page'!C547","v":3},{"$f":"VLOOKUP(E92,'Technical page'!$AU$544:$BD$548,2,0)","v":"-"},"n.a.",null,{"$f":"VLOOKUP(E92,'Chapter 5'!$C$6:$D$89,2,0)","v":"Jakým způsobem podporuje organizace místní komunity?"}]
[null,null,null,null,{"$f":"'Technical page'!B548","v":"Q5.5"},{"$f":"'Technical page'!C548","v":2},{"$f":"VLOOKUP(E93,'Technical page'!$AU$544:$BD$548,2,0)","v":"-"},"n.a.",null,{"$f":"VLOOKUP(E93,'Chapter 5'!$C$6:$D$89,2,0)","v":"Jakým způsobem stimuluje organizace místní zaměstnanost a vzdělávání?"}]
[null,null,null,null,"CHAPTER 6 : Contributing to sustainability"]
[null,null,null,null,{"$f":"'Technical page'!B584","v":"Q6.1"},{"$f":"'Technical page'!C584","v":2},{"$f":"VLOOKUP(E95,'Technical page'!$AU$584:$BD$600,2,0)","v":"-"},{"$f":"IF(G95=\"-\",\"n.a.\",IF(F95-G95>-1,\"compliant\",\"increase score\"))","v":"n.a."},null,{"$f":"VLOOKUP(E95,'Chapter 6'!$C$6:$D$120,2,0)","v":"Jakým způsobem definuje organizace významné problémy a závažnost?"}]
[null,null,null,null,{"$f":"'Technical page'!B585","v":"Q6.2"},{"$f":"'Technical page'!C585","v":1},{"$f":"VLOOKUP(E96,'Technical page'!$AU$584:$BD$600,2,0)","v":"-"},{"$f":"IF(G96=\"-\",\"n.a.\",IF(F96-G96>-1,\"compliant\",\"increase score\"))","v":"n.a."},null,{"$f":"VLOOKUP(E96,'Chapter 6'!$C$6:$D$120,2,0)","v":"Jakým způsobem hodlá organizace přispívat k udržitelnému rozvoji?"}]
[null,null,null,null,{"$f":"'Technical page'!B586","v":"Q6.3"},{"$f":"'Technical page'!C586","v":3},{"$f":"VLOOKUP(E97,'Technical page'!$AU$584:$BD$600,2,0)","v":"-"},"n.a.",null,{"$f":"VLOOKUP(E97,'Chapter 6'!$C$6:$D$120,2,0)","v":"Jakým způsobem komunikuje organizace zainteresovaných stran na téma udržitelnosti?"}]
[null,null,null,null,{"$f":"'Technical page'!B587","v":"Q6.4"},{"$f":"'Technical page'!C587","v":2},{"$f":"VLOOKUP(E98,'Technical page'!$AU$584:$BD$600,2,0)","v":"-"},"n.a.",null,{"$f":"VLOOKUP(E98,'Chapter 6'!$C$6:$D$120,2,0)","v":"Má organizace zavedený proces navrhování výrobků s lepšími výsledky udržitelnosti?"}]
[null,null,null,null,{"$f":"'Technical page'!B588","v":"Q6.5"},{"$f":"'Technical page'!C588","v":2},{"$f":"VLOOKUP(E99,'Technical page'!$AU$584:$BD$600,2,0)","v":"-"},"n.a.",null,{"$f":"VLOOKUP(E99,'Chapter 6'!$C$6:$D$120,2,0)","v":"Jakým způsobem zvyšuje organizace efektivnost zdrojů ve svých výrobních procesech?"}]
[null,null,null,null,{"$f":"'Technical page'!B589","v":"Q6.6"},{"$f":"'Technical page'!C589","v":1},{"$f":"VLOOKUP(E100,'Technical page'!$AU$584:$BD$600,2,0)","v":"-"},"n.a.",null,{"$f":"VLOOKUP(E100,'Chapter 6'!$C$6:$D$120,2,0)","v":"Jakým způsobem stimuluje organizace oběhové hospodářství prostřednictvím svých produktů?"}]
[null,null,null,null,{"$f":"'Technical page'!B590","v":"Q6.7"},{"$f":"'Technical page'!C590","v":2},{"$f":"VLOOKUP(E101,'Technical page'!$AU$584:$BD$600,2,0)","v":"-"},"n.a.",null,{"$f":"VLOOKUP(E101,'Chapter 6'!$C$6:$D$120,2,0)","v":"Jakým způsobem podporuje organizace inovace při vývoji produktů a řešení, které odpovídají výzvám udržitelnosti?"}]
[null,null,null,null,{"$f":"'Technical page'!B591","v":"Q6.8"},{"$f":"'Technical page'!C591","v":3},{"$f":"VLOOKUP(E102,'Technical page'!$AU$584:$BD$600,2,0)","v":"-"},"n.a.",null,{"$f":"VLOOKUP(E102,'Chapter 6'!$C$6:$D$120,2,0)","v":"Jakým způsobem stimuluje organizace inovaci a spolupráci?"}]
[null,null,null,null,{"$f":"'Technical page'!B592","v":"Q6.9"},{"$f":"'Technical page'!C592","v":2},{"$f":"VLOOKUP(E103,'Technical page'!$AU$584:$BD$600,2,0)","v":"-"},"n.a.",null,{"$f":"VLOOKUP(E103,'Chapter 6'!$C$6:$D$120,2,0)","v":"Jakým způsobem podporuje organizace udržitelné způsoby spotřeby?"}]
[null,null,null,null,{"$f":"'Technical page'!B593","v":"Q6.10"},{"$f":"'Technical page'!C593","v":3},{"$f":"VLOOKUP(E104,'Technical page'!$AU$584:$BD$600,2,0)","v":"-"},"n.a.",null,{"$f":"VLOOKUP(E104,'Chapter 6'!$C$6:$D$120,2,0)","v":"Jakým způsobem organizace kontroluje a optimalizuje spotřebu vody?"}]
[null,null,null,null,{"$f":"'Technical page'!B594","v":"Q6.11"},{"$f":"'Technical page'!C594","v":1},{"$f":"VLOOKUP(E105,'Technical page'!$AU$584:$BD$600,2,0)","v":"-"},"n.a.",null,{"$f":"VLOOKUP(E105,'Chapter 6'!$C$6:$D$120,2,0)","v":"Jakým způsobem se řídí vliv organizace na biodiverzitu a ekosystém?"}]
[null,null,null,null,{"$f":"'Technical page'!B595","v":"Q6.12"},{"$f":"'Technical page'!C595","v":1},{"$f":"VLOOKUP(E106,'Technical page'!$AU$584:$BD$600,2,0)","v":"-"},"n.a.",null,{"$f":"VLOOKUP(E106,'Chapter 6'!$C$6:$D$120,2,0)","v":"Jakým způsobem posuzuje organizace svou závislost na přírodních zdrojích (ekosystémech)?"}]
[null,null,null,null,{"$f":"'Technical page'!B596","v":"Q6.13"},{"$f":"'Technical page'!C596","v":4},{"$f":"VLOOKUP(E107,'Technical page'!$AU$584:$BD$600,2,0)","v":"-"},"n.a.",null,{"$f":"VLOOKUP(E107,'Chapter 6'!$C$6:$D$120,2,0)","v":"Jakým způsobem řídí organizace svou spotřebu energie?"}]
[null,null,null,null,{"$f":"'Technical page'!B597","v":"Q6.14"},{"$f":"'Technical page'!C597","v":3},{"$f":"VLOOKUP(E108,'Technical page'!$AU$584:$BD$600,2,0)","v":"-"},"n.a.",null,{"$f":"VLOOKUP(E108,'Chapter 6'!$C$6:$D$120,2,0)","v":"Jakým způsobem řídí organizace emise skleníkových plynů (kromě úspor energie)?"}]
[null,null,null,null,{"$f":"'Technical page'!B598","v":"Q6.15"},{"$f":"'Technical page'!C598","v":2},{"$f":"VLOOKUP(E109,'Technical page'!$AU$584:$BD$600,2,0)","v":"-"},"n.a.",null,{"$f":"VLOOKUP(E109,'Chapter 6'!$C$6:$D$120,2,0)","v":"Jaká je strategie organizace na snižování emisí skleníkových plynů?"}]
[null,null,null,null,{"$f":"'Technical page'!B599","v":"Q6.16"},{"$f":"'Technical page'!C599","v":3},{"$f":"VLOOKUP(E110,'Technical page'!$AU$584:$BD$600,2,0)","v":"-"},"n.a.",null,{"$f":"VLOOKUP(E110,'Chapter 6'!$C$6:$D$120,2,0)","v":"Jakým způsobem se organizace připravuje na klimatické změny? "}]
[null,null,null,null,{"$f":"'Technical page'!B600","v":"Q6.17"},{"$f":"'Technical page'!C600","v":2},{"$f":"VLOOKUP(E111,'Technical page'!$AU$584:$BD$600,2,0)","v":"-"},"n.a.",null,{"$f":"VLOOKUP(E111,'Chapter 6'!$C$6:$D$120,2,0)","v":"Jak organizace zajišťuje rovné příležitosti při náboru a během kariéry všech?"}]
[]
[null,null,"Report on distance to compliance with ISO 14001"]
[null,null,null,null,null,"Your score","Minimum score for ISO 14001"]
[null,null,null,null,"CHAPTER 1 : A corporate leadership culture"]
[null,null,null,null,{"$f":"'Technical page'!B10","v":"Q1.1"},{"$f":"'Technical page'!C10","v":3},{"$f":"VLOOKUP(E116,'Technical page'!$AU$10:$BD$25,3,0)","v":3},{"$f":"IF(G116=\"-\",\"n.a.\",IF(F116-G116>-1,\"compliant\",\"increase score\"))","v":"compliant"},null,{"$f":"VLOOKUP(E116,'Chapter 1'!$C$6:$D$112,2,0)","v":"Jak se projevuje závazek plnit povinnosti týkající se dodržování předpisů a zásad Responsible Care = RC (tj. ochrana a podpora zdraví a bezpečnost lidí, životního prostředí a udržitelnosti) na všech úrovních organizace?\n"}]
[null,null,null,null,{"$f":"'Technical page'!B11","v":"Q1.2"},{"$f":"'Technical page'!C11","v":3},{"$f":"VLOOKUP(E117,'Technical page'!$AU$10:$BD$25,3,0)","v":3},{"$f":"IF(G117=\"-\",\"n.a.\",IF(F117-G117>-1,\"compliant\",\"increase score\"))","v":"compliant"},null,{"$f":"VLOOKUP(E117,'Chapter 1'!$C$6:$D$112,2,0)","v":"Jakým způsobem řídí organizace příslušná rizika a příležitosti?  "}]
[null,null,null,null,{"$f":"'Technical page'!B12","v":"Q1.3"},{"$f":"'Technical page'!C12","v":2},{"$f":"VLOOKUP(E118,'Technical page'!$AU$10:$BD$25,3,0)","v":2},"compliant",null,{"$f":"VLOOKUP(E118,'Chapter 1'!$C$6:$D$112,2,0)","v":"Jakým způsobem monitoruje organizace svoje zákonné povinnosti? "}]
[null,null,null,null,{"$f":"'Technical page'!B13","v":"Q1.4"},{"$f":"'Technical page'!C13","v":2},{"$f":"VLOOKUP(E119,'Technical page'!$AU$10:$BD$25,3,0)","v":2},"compliant",null,{"$f":"VLOOKUP(E119,'Chapter 1'!$C$6:$D$112,2,0)","v":"Jakým způsobem top management zajišťuje, že jednotlivé aspekty HSE&S (zdraví, bezpečnosti, ochrany životního prostředí & udržitelnosti) jsou přiřazeny stanoveným rolím v organizaci?"}]
[null,null,null,null,{"$f":"'Technical page'!B14","v":"Q1.5"},{"$f":"'Technical page'!C14","v":3},{"$f":"VLOOKUP(E120,'Technical page'!$AU$10:$BD$25,3,0)","v":3},"compliant",null,{"$f":"VLOOKUP(E120,'Chapter 1'!$C$6:$D$112,2,0)","v":"Jakým způsobem se top management podílí na řešení záležitostí HSE&S?"}]
[null,null,null,null,{"$f":"'Technical page'!B15","v":"Q1.6"},{"$f":"'Technical page'!C15","v":3},{"$f":"VLOOKUP(E121,'Technical page'!$AU$10:$BD$25,3,0)","v":"-"},"n.a.",null,{"$f":"VLOOKUP(E121,'Chapter 1'!$C$6:$D$112,2,0)","v":"Jakým způsobem jsou odpovědnosti HSE&S začleněny do popisů pracovní náplně nebo ročních cílů?\n"}]
[null,null,null,null,{"$f":"'Technical page'!B16","v":"Q1.7"},{"$f":"'Technical page'!C16","v":4},{"$f":"VLOOKUP(E122,'Technical page'!$AU$10:$BD$25,3,0)","v":3},"compliant",null,{"$f":"VLOOKUP(E122,'Chapter 1'!$C$6:$D$112,2,0)","v":"Jakým způsobem se řídí (nejdůležitější) procesy v souvislosti s HSE&S?"}]
[null,null,null,null,{"$f":"'Technical page'!B17","v":"Q1.8"},{"$f":"'Technical page'!C17","v":3},{"$f":"VLOOKUP(E123,'Technical page'!$AU$10:$BD$25,3,0)","v":3},"compliant",null,{"$f":"VLOOKUP(E123,'Chapter 1'!$C$6:$D$112,2,0)","v":"Jakým způsobem top management zajišťuje neustálé zlepšování výkonu v oblasti HSE&S (zdraví, bezpečnosti, životního prostředí, energetiky a udržitelnosti)?"}]
[null,null,null,null,{"$f":"'Technical page'!B18","v":"Q1.9"},{"$f":"'Technical page'!C18","v":3},{"$f":"VLOOKUP(E124,'Technical page'!$AU$10:$BD$25,3,0)","v":3},"compliant",null,{"$f":"VLOOKUP(E124,'Chapter 1'!$C$6:$D$112,2,0)","v":"Jak jsou organizovány interní audity?"}]
[null,null,null,null,{"$f":"'Technical page'!B19","v":"Q1.10"},{"$f":"'Technical page'!C19","v":3},{"$f":"VLOOKUP(E125,'Technical page'!$AU$10:$BD$25,3,0)","v":3},"compliant",null,{"$f":"VLOOKUP(E125,'Chapter 1'!$C$6:$D$112,2,0)","v":"Jakým způsobem probíhá vyšetřování?"}]
[null,null,null,null,{"$f":"'Technical page'!B20","v":"Q1.11"},{"$f":"'Technical page'!C20","v":3},{"$f":"VLOOKUP(E126,'Technical page'!$AU$10:$BD$25,3,0)","v":3},"compliant",null,{"$f":"VLOOKUP(E126,'Chapter 1'!$C$6:$D$112,2,0)","v":"Jakým způsobem organizace zajišťuje procesy, čas a zdroje potřebné pro zlepšování procesů řízení HSE&S?"}]
[null,null,null,null,{"$f":"'Technical page'!B21","v":"Q1.12"},{"$f":"'Technical page'!C21","v":3},{"$f":"VLOOKUP(E127,'Technical page'!$AU$10:$BD$25,3,0)","v":3},"compliant",null,{"$f":"VLOOKUP(E127,'Chapter 1'!$C$6:$D$112,2,0)","v":"Jak organizace zajišťuje, že zaměstnanci jsou si vědomi politik a procesů týkajících se zdraví, bezpečnosti, životního prostředí, energetiky a udržitelnosti?"}]
[null,null,null,null,{"$f":"'Technical page'!B22","v":"Q1.13"},{"$f":"'Technical page'!C22","v":3},{"$f":"VLOOKUP(E128,'Technical page'!$AU$10:$BD$25,3,0)","v":3},"compliant",null,{"$f":"VLOOKUP(E128,'Chapter 1'!$C$6:$D$112,2,0)","v":"Jakým způsobem organizace zajišťuje správné kompetence pracovníků, pokud jde o aspekty HSE&S týkající se jejich práce?"}]
[null,null,null,null,{"$f":"'Technical page'!B23","v":"Q1.14"},{"$f":"'Technical page'!C23","v":3},{"$f":"VLOOKUP(E129,'Technical page'!$AU$10:$BD$25,3,0)","v":2},"compliant",null,{"$f":"VLOOKUP(E129,'Chapter 1'!$C$6:$D$112,2,0)","v":"Jaká je struktura zapojení zaměstnanců?"}]
[null,null,null,null,{"$f":"'Technical page'!B24","v":"Q1.15"},{"$f":"'Technical page'!C24","v":3},{"$f":"VLOOKUP(E130,'Technical page'!$AU$10:$BD$25,3,0)","v":3},"compliant",null,{"$f":"VLOOKUP(E130,'Chapter 1'!$C$6:$D$112,2,0)","v":"Jakým způsobem se řídí dokumentace HSE&S?"}]
[null,null,null,null,{"$f":"'Technical page'!B25","v":"Q1.16"},{"$f":"'Technical page'!C25","v":3},{"$f":"VLOOKUP(E131,'Technical page'!$AU$10:$BD$25,3,0)","v":3},"compliant",null,{"$f":"VLOOKUP(E131,'Chapter 1'!$C$6:$D$112,2,0)","v":"Jakým způsobem jsou řízeny změny potenciálně ovlivňující HSE&S (zdraví, bezpečnost, životní prostředí, energetiku a udržitelnost)?"}]
[null,null,null,null,"CHAPTER 2 : Safeguarding people and the environment"]
[null,null,null,null,{"$f":"'Technical page'!B124","v":"Q2.1"},{"$f":"'Technical page'!C124","v":3},{"$f":"VLOOKUP(E133,'Technical page'!$AU$124:$BD$168,3,0)","v":"-"},"n.a.",null,{"$f":"VLOOKUP(E133,'Chapter 2'!$C$6:$D$282,2,0)","v":"Jak se management zavázal k ochraně zdraví a bezpečnosti při práci (dále jen \"BOZP\")?"}]
[null,null,null,null,{"$f":"'Technical page'!B125","v":"Q2.2"},{"$f":"'Technical page'!C125","v":2},{"$f":"VLOOKUP(E134,'Technical page'!$AU$124:$BD$168,3,0)","v":"-"},{"$f":"IF(G134=\"-\",\"n.a.\",IF(F134-G134>-1,\"compliant\",\"increase score\"))","v":"n.a."},null,{"$f":"VLOOKUP(E134,'Chapter 2'!$C$6:$D$282,2,0)","v":"Jakým způsobem se určují rizika a expozice v souvislosti s BOZP?"}]
[null,null,null,null,{"$f":"'Technical page'!B126","v":"Q2.3"},{"$f":"'Technical page'!C126","v":3},{"$f":"VLOOKUP(E135,'Technical page'!$AU$124:$BD$168,3,0)","v":"-"},"n.a.",null,{"$f":"VLOOKUP(E135,'Chapter 2'!$C$6:$D$282,2,0)","v":"How are medical requirements evaluated?"}]
[null,null,null,null,{"$f":"'Technical page'!B127","v":"Q2.4"},{"$f":"'Technical page'!C127","v":3},{"$f":"VLOOKUP(E136,'Technical page'!$AU$124:$BD$168,3,0)","v":"-"},"n.a.",null,{"$f":"VLOOKUP(E136,'Chapter 2'!$C$6:$D$282,2,0)","v":"Jakým způsobem zlepšuje organizace BOZP?"}]
[null,null,null,null,{"$f":"'Technical page'!B128","v":"Q2.5"},{"$f":"'Technical page'!C128","v":3},{"$f":"VLOOKUP(E137,'Technical page'!$AU$124:$BD$168,3,0)","v":"-"},"n.a.",null,{"$f":"VLOOKUP(E137,'Chapter 2'!$C$6:$D$282,2,0)","v":"Jakým způsobem probíhá údržba a udržování pořádku s cílem zajistit bezpečnost provozů, zařízení, nástrojů a (bezpečnostních) pomůcek?"}]
[null,null,null,null,{"$f":"'Technical page'!B129","v":"Q2.6"},{"$f":"'Technical page'!C129","v":3},{"$f":"VLOOKUP(E138,'Technical page'!$AU$124:$BD$168,3,0)","v":"-"},"n.a.",null,{"$f":"VLOOKUP(E138,'Chapter 2'!$C$6:$D$282,2,0)","v":"Jak se ověřuje správný výběr, údržba a používání zdravotního a bezpečnostního vybavení (např. osobních ochranných prostředků = OOPP)?"}]
[null,null,null,null,{"$f":"'Technical page'!B130","v":"Q2.7"},{"$f":"'Technical page'!C130","v":2},{"$f":"VLOOKUP(E139,'Technical page'!$AU$124:$BD$168,3,0)","v":"-"},"n.a.",null,{"$f":"VLOOKUP(E139,'Chapter 2'!$C$6:$D$282,2,0)","v":"Jak se organizace stará o stres a tělesné a duševní zdraví zaměstnanců?"}]
[null,null,null,null,{"$f":"'Technical page'!B131","v":"Q2.8"},{"$f":"'Technical page'!C131","v":3},{"$f":"VLOOKUP(E140,'Technical page'!$AU$124:$BD$168,3,0)","v":3},"compliant",null,{"$f":"VLOOKUP(E140,'Chapter 2'!$C$6:$D$282,2,0)","v":"Jakým způsobem se vyšetřují onemocnění, zranění, incidenty a potenciálně nebezpečné situace na pracovišti?"}]
[null,null,null,null,{"$f":"'Technical page'!B132","v":"Q2.9"},{"$f":"'Technical page'!C132","v":3},{"$f":"VLOOKUP(E141,'Technical page'!$AU$124:$BD$168,3,0)","v":"-"},"n.a.",null,{"$f":"VLOOKUP(E141,'Chapter 2'!$C$6:$D$282,2,0)","v":"Jak je organizace připravena na mimořádné události?"}]
[null,null,null,null,{"$f":"'Technical page'!B133","v":"Q2.10"},{"$f":"'Technical page'!C133","v":3},{"$f":"VLOOKUP(E142,'Technical page'!$AU$124:$BD$168,3,0)","v":3},"compliant",null,{"$f":"VLOOKUP(E142,'Chapter 2'!$C$6:$D$282,2,0)","v":"Jakým způsobem zajišťuje organizace správně kompetence všech pracovníků, týkající se požadavků BOZP, které souvisí s jejich pracovní náplní?"}]
[null,null,null,null,{"$f":"'Technical page'!B134","v":"Q2.11"},{"$f":"'Technical page'!C134","v":3},{"$f":"VLOOKUP(E143,'Technical page'!$AU$124:$BD$168,3,0)","v":"-"},"n.a.",null,{"$f":"VLOOKUP(E143,'Chapter 2'!$C$6:$D$282,2,0)","v":"Jakým způsobem se vedení staví k procesní bezpečnosti?\n\n"}]
[null,null,null,null,{"$f":"'Technical page'!B135","v":"Q2.12"},{"$f":"'Technical page'!C135","v":2},{"$f":"VLOOKUP(E144,'Technical page'!$AU$124:$BD$168,3,0)","v":"-"},"n.a.",null,{"$f":"VLOOKUP(E144,'Chapter 2'!$C$6:$D$282,2,0)","v":"Jakým způsobem je vypracována identifikace a popis bezpečnosti procesů, zařízení a pracovišť organizace?"}]
[null,null,null,null,{"$f":"'Technical page'!B136","v":"Q2.13"},{"$f":"'Technical page'!C136","v":1},{"$f":"VLOOKUP(E145,'Technical page'!$AU$124:$BD$168,3,0)","v":"-"},"n.a.",null,{"$f":"VLOOKUP(E145,'Chapter 2'!$C$6:$D$282,2,0)","v":"Jakým způsobem se zlepšuje procesní bezpečnost po nehodách a incidentech?"}]
[null,null,null,null,{"$f":"'Technical page'!B137","v":"Q2.14"},{"$f":"'Technical page'!C137","v":2},{"$f":"VLOOKUP(E146,'Technical page'!$AU$124:$BD$168,3,0)","v":"-"},"n.a.",null,{"$f":"VLOOKUP(E146,'Chapter 2'!$C$6:$D$282,2,0)","v":"Jakým způsobem se provádějí audity a inspekce procesní bezpečnosti?"}]
[null,null,null,null,{"$f":"'Technical page'!B138","v":"Q2.15"},{"$f":"'Technical page'!C138","v":3},{"$f":"VLOOKUP(E147,'Technical page'!$AU$124:$BD$168,3,0)","v":"-"},"n.a.",null,{"$f":"VLOOKUP(E147,'Chapter 2'!$C$6:$D$282,2,0)","v":"Jakým způsobem se prověřují a zlepšují pracovní pokyny?"}]
[null,null,null,null,{"$f":"'Technical page'!B139","v":"Q2.16"},{"$f":"'Technical page'!C139","v":3},{"$f":"VLOOKUP(E148,'Technical page'!$AU$124:$BD$168,3,0)","v":"-"},"n.a.",null,{"$f":"VLOOKUP(E148,'Chapter 2'!$C$6:$D$282,2,0)","v":"Jak je navrhována a dokumnetována instalace nových zařízení?"}]
[null,null,null,null,{"$f":"'Technical page'!B140","v":"Q2.17"},{"$f":"'Technical page'!C140","v":4},{"$f":"VLOOKUP(E149,'Technical page'!$AU$124:$BD$168,3,0)","v":"-"},"n.a.",null,{"$f":"VLOOKUP(E149,'Chapter 2'!$C$6:$D$282,2,0)","v":"Jakým způsobem probíhá kontrola zřizování instalace?"}]
[null,null,null,null,{"$f":"'Technical page'!B141","v":"Q2.18"},{"$f":"'Technical page'!C141","v":3},{"$f":"VLOOKUP(E150,'Technical page'!$AU$124:$BD$168,3,0)","v":"-"},"n.a.",null,{"$f":"VLOOKUP(E150,'Chapter 2'!$C$6:$D$282,2,0)","v":"Jakým způsobem je zaručena ochrana zařízení, aby jediná chyba neměla katastrofické následky?"}]
[null,null,null,null,{"$f":"'Technical page'!B142","v":"Q2.19"},{"$f":"'Technical page'!C142","v":3},{"$f":"VLOOKUP(E151,'Technical page'!$AU$124:$BD$168,3,0)","v":"-"},"n.a.",null,{"$f":"VLOOKUP(E151,'Chapter 2'!$C$6:$D$282,2,0)","v":"Byly zřízeny programy preventivní údržby a péče, které zaručují bezpečnost provozů, nástrojů a zařízení?"}]
[null,null,null,null,{"$f":"'Technical page'!B143","v":"Q2.20"},{"$f":"'Technical page'!C143","v":4},{"$f":"VLOOKUP(E152,'Technical page'!$AU$124:$BD$168,3,0)","v":"-"},"n.a.",null,{"$f":"VLOOKUP(E152,'Chapter 2'!$C$6:$D$282,2,0)","v":"Jakým způsobem se řídí procesy během mimořádných událostí v případě přerušení dodávky energie nebo služeb?"}]
[null,null,null,null,{"$f":"'Technical page'!B144","v":"Q2.21"},{"$f":"'Technical page'!C144","v":2},{"$f":"VLOOKUP(E153,'Technical page'!$AU$124:$BD$168,3,0)","v":"-"},"n.a.",null,{"$f":"VLOOKUP(E153,'Chapter 2'!$C$6:$D$282,2,0)","v":"Jak se připravují havarijní plány?"}]
[null,null,null,null,{"$f":"'Technical page'!B145","v":"Q2.22"},{"$f":"'Technical page'!C145","v":2},{"$f":"VLOOKUP(E154,'Technical page'!$AU$124:$BD$168,3,0)","v":"-"},"n.a.",null,{"$f":"VLOOKUP(E154,'Chapter 2'!$C$6:$D$282,2,0)","v":"Jakým způsobem jsou zabezpečeny kompetence a školení zaměstnanců a dodavatelů zapojených do procesů?"}]
[null,null,null,null,{"$f":"'Technical page'!B146","v":"Q2.23"},{"$f":"'Technical page'!C146","v":4},{"$f":"VLOOKUP(E155,'Technical page'!$AU$124:$BD$168,3,0)","v":"-"},"n.a.",null,{"$f":"VLOOKUP(E155,'Chapter 2'!$C$6:$D$282,2,0)","v":"Jakým způsobem se sdílejí informace o rizicích látek a přípravků?"}]
[null,null,null,null,{"$f":"'Technical page'!B147","v":"Q2.24"},{"$f":"'Technical page'!C147","v":4},{"$f":"VLOOKUP(E156,'Technical page'!$AU$124:$BD$168,3,0)","v":"-"},"n.a.",null,{"$f":"VLOOKUP(E156,'Chapter 2'!$C$6:$D$282,2,0)","v":"Jak se sdílejí informace o procesu?"}]
[null,null,null,null,{"$f":"'Technical page'!B148","v":"Q2.25"},{"$f":"'Technical page'!C148","v":3},{"$f":"VLOOKUP(E157,'Technical page'!$AU$124:$BD$168,3,0)","v":"-"},"n.a.",null,{"$f":"VLOOKUP(E157,'Chapter 2'!$C$6:$D$282,2,0)","v":"Jakým způsobem organizace hodnotí své logistické partnery z hlediska HSE&S, energetické účinnosti a emisí skleníkových plynů?"}]
[null,null,null,null,{"$f":"'Technical page'!B149","v":"Q2.26"},{"$f":"'Technical page'!C149","v":3},{"$f":"VLOOKUP(E158,'Technical page'!$AU$124:$BD$168,3,0)","v":"-"},"n.a.",null,{"$f":"VLOOKUP(E158,'Chapter 2'!$C$6:$D$282,2,0)","v":"Jakým způsobem organizace zabraňuje a reaguje na dopravní nehody?"}]
[null,null,null,null,{"$f":"'Technical page'!B150","v":"Q2.27"},{"$f":"'Technical page'!C150","v":2},{"$f":"VLOOKUP(E159,'Technical page'!$AU$124:$BD$168,3,0)","v":"-"},"n.a.",null,{"$f":"VLOOKUP(E159,'Chapter 2'!$C$6:$D$282,2,0)","v":"Jakým způsobem organizace identifikuje bezpečnostní problémy?"}]
[null,null,null,null,{"$f":"'Technical page'!B151","v":"Q2.28"},{"$f":"'Technical page'!C151","v":3},{"$f":"VLOOKUP(E160,'Technical page'!$AU$124:$BD$168,3,0)","v":"-"},"n.a.",null,{"$f":"VLOOKUP(E160,'Chapter 2'!$C$6:$D$282,2,0)","v":"Jakým způsobem se kontroluje příchod a odchod pracovníků a materiálu na pracovišti a v oblastech s omezeným vstupem?"}]
[null,null,null,null,{"$f":"'Technical page'!B152","v":"Q2.29"},{"$f":"'Technical page'!C152","v":3},{"$f":"VLOOKUP(E161,'Technical page'!$AU$124:$BD$168,3,0)","v":"-"},"n.a.",null,{"$f":"VLOOKUP(E161,'Chapter 2'!$C$6:$D$282,2,0)","v":"Jakým způsobem se kontroluje kybernetická bezpečnost?"}]
[null,null,null,null,{"$f":"'Technical page'!B153","v":"Q2.30"},{"$f":"'Technical page'!C153","v":2},{"$f":"VLOOKUP(E162,'Technical page'!$AU$124:$BD$168,3,0)","v":"-"},"n.a.",null,{"$f":"VLOOKUP(E162,'Chapter 2'!$C$6:$D$282,2,0)","v":"Jakým způsobem probíhá komunikace a výměna informací v případě bezpečnostní krize?"}]
[null,null,null,null,{"$f":"'Technical page'!B154","v":"Q2.31"},{"$f":"'Technical page'!C154","v":1},{"$f":"VLOOKUP(E163,'Technical page'!$AU$124:$BD$168,3,0)","v":"-"},"n.a.",null,{"$f":"VLOOKUP(E163,'Chapter 2'!$C$6:$D$282,2,0)","v":"Jak se organizace vyrovnává s podezřelým chováním (včetně rizik radikalizace = souhlas a podopra extrémních názorů)"}]
[null,null,null,null,{"$f":"'Technical page'!B155","v":"Q2.32"},{"$f":"'Technical page'!C155","v":2},{"$f":"VLOOKUP(E164,'Technical page'!$AU$124:$BD$168,3,0)","v":"-"},"n.a.",null,{"$f":"VLOOKUP(E164,'Chapter 2'!$C$6:$D$282,2,0)","v":"Jakým způsobem školí organizace pracovníky v oblasti ostrahy ve vazbě na bezpečnostní rizika?  "}]
[null,null,null,null,{"$f":"'Technical page'!B156","v":"Q2.33"},{"$f":"'Technical page'!C156","v":3},{"$f":"VLOOKUP(E165,'Technical page'!$AU$124:$BD$168,3,0)","v":3},"compliant",null,{"$f":"VLOOKUP(E165,'Chapter 2'!$C$6:$D$282,2,0)","v":"Jakým způsobem se posuzuje potenciální vliv organizace na životní prostředí?"}]
[null,null,null,null,{"$f":"'Technical page'!B157","v":"Q2.34"},{"$f":"'Technical page'!C157","v":4},{"$f":"VLOOKUP(E166,'Technical page'!$AU$124:$BD$168,3,0)","v":4},"compliant",null,{"$f":"VLOOKUP(E166,'Chapter 2'!$C$6:$D$282,2,0)","v":"Jakým způsobem se řídí environmentální výkonnost?"}]
[null,null,null,null,{"$f":"'Technical page'!B158","v":"Q2.35"},{"$f":"'Technical page'!C158","v":3},{"$f":"VLOOKUP(E167,'Technical page'!$AU$124:$BD$168,3,0)","v":3},"compliant",null,{"$f":"VLOOKUP(E167,'Chapter 2'!$C$6:$D$282,2,0)","v":"Jak organizace nakládá s odpadem?"}]
[null,null,null,null,{"$f":"'Technical page'!B159","v":"Q2.36"},{"$f":"'Technical page'!C159","v":3},{"$f":"VLOOKUP(E168,'Technical page'!$AU$124:$BD$168,3,0)","v":3},"compliant",null,{"$f":"VLOOKUP(E168,'Chapter 2'!$C$6:$D$282,2,0)","v":"Jakým způsobem řídí organizace rizika týkající se podzemních vod?"}]
[null,null,null,null,{"$f":"'Technical page'!B160","v":"Q2.37"},{"$f":"'Technical page'!C160","v":3},{"$f":"VLOOKUP(E169,'Technical page'!$AU$124:$BD$168,3,0)","v":3},"compliant",null,{"$f":"VLOOKUP(E169,'Chapter 2'!$C$6:$D$282,2,0)","v":"Jakým způsobem řídí organizace rizika týkající se znečištění půdy?"}]
[null,null,null,null,{"$f":"'Technical page'!B161","v":"Q2.38"},{"$f":"'Technical page'!C161","v":3},{"$f":"VLOOKUP(E170,'Technical page'!$AU$124:$BD$168,3,0)","v":3},"compliant",null,{"$f":"VLOOKUP(E170,'Chapter 2'!$C$6:$D$282,2,0)","v":"Jakým způsobem řídí organizace existující znečištění půdy?\n"}]
[null,null,null,null,{"$f":"'Technical page'!B162","v":"Q2.39"},{"$f":"'Technical page'!C162","v":3},{"$f":"VLOOKUP(E171,'Technical page'!$AU$124:$BD$168,3,0)","v":3},"compliant",null,{"$f":"VLOOKUP(E171,'Chapter 2'!$C$6:$D$282,2,0)","v":"Jakým způsobem organizace řídí své emise škodlivin do ovzduší?"}]
[null,null,null,null,{"$f":"'Technical page'!B163","v":"Q2.40"},{"$f":"'Technical page'!C163","v":3},{"$f":"VLOOKUP(E172,'Technical page'!$AU$124:$BD$168,3,0)","v":3},"compliant",null,{"$f":"VLOOKUP(E172,'Chapter 2'!$C$6:$D$282,2,0)","v":"Jakým způsobem organizace řídí své emise škodlivin do vody?"}]
[null,null,null,null,{"$f":"'Technical page'!B164","v":"Q2.41"},{"$f":"'Technical page'!C164","v":3},{"$f":"VLOOKUP(E173,'Technical page'!$AU$124:$BD$168,3,0)","v":3},"compliant",null,{"$f":"VLOOKUP(E173,'Chapter 2'!$C$6:$D$282,2,0)","v":"Jakým způsobem organizace řídí své emise hluku?"}]
[null,null,null,null,{"$f":"'Technical page'!B165","v":"Q2.42"},{"$f":"'Technical page'!C165","v":3},{"$f":"VLOOKUP(E174,'Technical page'!$AU$124:$BD$168,3,0)","v":3},"compliant",null,{"$f":"VLOOKUP(E174,'Chapter 2'!$C$6:$D$282,2,0)","v":"Jakým způsobem organizace řídí své emise zápachu?"}]
[null,null,null,null,{"$f":"'Technical page'!B166","v":"Q2.43"},{"$f":"'Technical page'!C166","v":3},{"$f":"VLOOKUP(E175,'Technical page'!$AU$124:$BD$168,3,0)","v":3},"compliant",null,{"$f":"VLOOKUP(E175,'Chapter 2'!$C$6:$D$282,2,0)","v":"Jakým způsobem organizace zabraňuje a řídí havarijní emise do prostředí?"}]
[null,null,null,null,{"$f":"'Technical page'!B167","v":"Q2.44"},{"$f":"'Technical page'!C167","v":3},{"$f":"VLOOKUP(E176,'Technical page'!$AU$124:$BD$168,3,0)","v":3},"compliant",null,{"$f":"VLOOKUP(E176,'Chapter 2'!$C$6:$D$282,2,0)","v":"Jakým způsobem zajišťuje organizace správně kompetence všech pracovníků, týkající se environmentálních požadavků, které souvisejí s jejich pracovní náplní?"}]
[null,null,null,null,{"$f":"'Technical page'!B168","v":"Q2.45"},{"$f":"'Technical page'!C168","v":1},{"$f":"VLOOKUP(E177,'Technical page'!$AU$124:$BD$168,3,0)","v":1},"compliant",null,{"$f":"VLOOKUP(E177,'Chapter 2'!$C$6:$D$282,2,0)","v":"Jakým způsobem jsou zainteresované strany organizace informovány o environmentálních aspektech a jejich možných dopadech?"}]
[null,null,null,null,"CHAPTER 3 : Strengthening chemicals management systems"]
[null,null,null,null,{"$f":"'Technical page'!$B$406","v":"Q3.1"},{"$f":"'Technical page'!$C$406","v":4},{"$f":"VLOOKUP(E179,'Technical page'!$AU$406:$BD$418,3,0)","v":"-"},{"$f":"IF(G179=\"-\",\"n.a.\",IF(F179-G179>-1,\"compliant\",\"increase score\"))","v":"n.a."},null,{"$f":"VLOOKUP(E179,'Chapter 3'!$C$6:$D$89,2,0)","v":"Zavedla organizace proces pro navrhování a vývoj nových \nproduktů a služeb?"}]
[null,null,null,null,{"$f":"'Technical page'!$B$407","v":"Q3.2"},{"$f":"'Technical page'!$C$407","v":2},{"$f":"VLOOKUP(E180,'Technical page'!$AU$406:$BD$418,3,0)","v":"-"},"n.a.",null,{"$f":"VLOOKUP(E180,'Chapter 3'!$C$6:$D$89,2,0)","v":"Má organizace k dispozici proces hodnocení a stanovení priorit svých produktů pro charakterizaci rizik a řízení rizik?\n\n\n"}]
[null,null,null,null,{"$f":"'Technical page'!$B$408","v":"Q3.3"},{"$f":"'Technical page'!$C$408","v":4},{"$f":"VLOOKUP(E181,'Technical page'!$AU$406:$BD$418,3,0)","v":"-"},"n.a.",null,{"$f":"VLOOKUP(E181,'Chapter 3'!$C$6:$D$89,2,0)","v":"Zavedla organizace systém pro sledování použitelnosti, změn a dodržování interních a externích požadavků souvisejících s řízením bezpečnosti chemických látek?"}]
[null,null,null,null,{"$f":"'Technical page'!$B$409","v":"Q3.4"},{"$f":"'Technical page'!$C$409","v":2},{"$f":"VLOOKUP(E182,'Technical page'!$AU$406:$BD$418,3,0)","v":"-"},"n.a.",null,{"$f":"VLOOKUP(E182,'Chapter 3'!$C$6:$D$89,2,0)","v":"Zavedla organizace systém na správu existujících informací o rizicích svých produktů?"}]
[null,null,null,null,{"$f":"'Technical page'!$B$410","v":"Q3.5"},{"$f":"'Technical page'!$C$410","v":1},{"$f":"VLOOKUP(E183,'Technical page'!$AU$406:$BD$418,3,0)","v":"-"},"n.a.",null,{"$f":"VLOOKUP(E183,'Chapter 3'!$C$6:$D$89,2,0)","v":"Zavedla organizace proces řízení informací o používání a expozici svých produktů?"}]
[null,null,null,null,{"$f":"'Technical page'!$B$411","v":"Q3.6"},{"$f":"'Technical page'!$C$411","v":1},{"$f":"VLOOKUP(E184,'Technical page'!$AU$406:$BD$418,3,0)","v":"-"},"n.a.",null,{"$f":"VLOOKUP(E184,'Chapter 3'!$C$6:$D$89,2,0)","v":"Zavedla organizace proces na správu nových informací?"}]
[null,null,null,null,{"$f":"'Technical page'!$B$412","v":"Q3.7"},{"$f":"'Technical page'!$C$412","v":2},{"$f":"VLOOKUP(E185,'Technical page'!$AU$406:$BD$418,3,0)","v":"-"},"n.a.",null,{"$f":"VLOOKUP(E185,'Chapter 3'!$C$6:$D$89,2,0)","v":"Zavedla organizace proces charakterizace rizik na základě shromážděných informací?"}]
[null,null,null,null,{"$f":"'Technical page'!$B$413","v":"Q3.8"},{"$f":"'Technical page'!$C$413","v":1},{"$f":"VLOOKUP(E186,'Technical page'!$AU$406:$BD$418,3,0)","v":"-"},"n.a.",null,{"$f":"VLOOKUP(E186,'Chapter 3'!$C$6:$D$89,2,0)","v":"Zavedla organizace proces řízení rizik na základě shromážděných informací?"}]
[null,null,null,null,{"$f":"'Technical page'!$B$414","v":"Q3.9"},{"$f":"'Technical page'!$C$414","v":3},{"$f":"VLOOKUP(E187,'Technical page'!$AU$406:$BD$418,3,0)","v":"-"},"n.a.",null,{"$f":"VLOOKUP(E187,'Chapter 3'!$C$6:$D$89,2,0)","v":"Zavedla organizace účinný proces sledování svých produktů po dodání a provádění nápravných opatření?\n"}]
[null,null,null,null,{"$f":"'Technical page'!$B$415","v":"Q3.10"},{"$f":"'Technical page'!$C$415","v":3},{"$f":"VLOOKUP(E188,'Technical page'!$AU$406:$BD$418,3,0)","v":"-"},"n.a.",null,{"$f":"VLOOKUP(E188,'Chapter 3'!$C$6:$D$89,2,0)","v":"Poskytuje organizace efektivní komunikaci v rámci dodavatelského řetězce ohledně opatření k řízení rizik, které se vztahují na jejich produkty?"}]
[null,null,null,null,"CHAPTER 4 : Influencing business partners"]
[null,null,null,null,{"$f":"'Technical page'!B482","v":"Q4.1"},{"$f":"'Technical page'!C482","v":3},{"$f":"VLOOKUP(E190,'Technical page'!$AU$482:$BD$489,3,0)","v":"-"},{"$f":"IF(G190=\"-\",\"n.a.\",IF(F190-G190>-1,\"compliant\",\"increase score\"))","v":"n.a."},null,{"$f":"VLOOKUP(E190,'Chapter 4'!$C$6:$D$91,2,0)","v":"Jak se organizace zavázala k odpovědnému získávání zdrojů?"}]
[null,null,null,null,{"$f":"'Technical page'!B483","v":"Q4.2"},{"$f":"'Technical page'!C483","v":2},{"$f":"VLOOKUP(E191,'Technical page'!$AU$482:$BD$489,3,0)","v":"-"},{"$f":"IF(G191=\"-\",\"n.a.\",IF(F191-G191>-1,\"compliant\",\"increase score\"))","v":"n.a."},null,{"$f":"VLOOKUP(E191,'Chapter 4'!$C$6:$D$91,2,0)","v":"Jak organizace zlepšuje spolupráci v dodavatelském řetězci?"}]
[null,null,null,null,{"$f":"'Technical page'!B484","v":"Q4.3"},{"$f":"'Technical page'!C484","v":3},{"$f":"VLOOKUP(E192,'Technical page'!$AU$482:$BD$489,3,0)","v":"-"},"n.a.",null,{"$f":"VLOOKUP(E192,'Chapter 4'!$C$6:$D$91,2,0)","v":"Jakým způsobem vyjadřuje organizace svůj závazek vůči podnikatelské etice?"}]
[null,null,null,null,{"$f":"'Technical page'!B485","v":"Q4.4"},{"$f":"'Technical page'!C485","v":1},{"$f":"VLOOKUP(E193,'Technical page'!$AU$482:$BD$489,3,0)","v":"-"},"n.a.",null,{"$f":"VLOOKUP(E193,'Chapter 4'!$C$6:$D$91,2,0)","v":"Jakým způsobem řeší organizace sociální problematiku a lidská práva v rámci spolupráce s obchodními partnery?"}]
[null,null,null,null,{"$f":"'Technical page'!B486","v":"Q4.5"},{"$f":"'Technical page'!C486","v":4},{"$f":"VLOOKUP(E194,'Technical page'!$AU$482:$BD$489,3,0)","v":"-"},"n.a.",null,{"$f":"VLOOKUP(E194,'Chapter 4'!$C$6:$D$91,2,0)","v":"Jakým způsobem zabraňuje organizace dětské práci?\nOrganizace\n1-\tzavedla systém ověřování věku; \n2-\tnezaměstnává děti mladší 15 let (v závislosti na místní legislativy). Jedinou výjimku představují učni, školní praxe nebo vzdělávací stáže; \n3-\tzaručuje, aby pracovní náplň osob mladších než 18 let neovlivňovala jejich školní docházku (doba strávená dopravou do práce a školy a z práce a školy, školní docházkou a prací je méně než 10 hodin denně );\n4-\tzajišťuje, že pracovní náplň mladých pracovníků není duševně, fyzicky, společensky ani morálně nebezpečná a škodlivá."}]
[null,null,null,null,{"$f":"'Technical page'!B487","v":"Q4.6"},{"$f":"'Technical page'!C487","v":3},{"$f":"VLOOKUP(E195,'Technical page'!$AU$482:$BD$489,3,0)","v":"-"},"n.a.",null,{"$f":"VLOOKUP(E195,'Chapter 4'!$C$6:$D$91,2,0)","v":"Jakým způsobem zabezpečuje organizace splnění svých požadavků ze strany logistických partnerů?"}]
[null,null,null,null,{"$f":"'Technical page'!B488","v":"Q4.7"},{"$f":"'Technical page'!C488","v":3},{"$f":"VLOOKUP(E196,'Technical page'!$AU$482:$BD$489,3,0)","v":"-"},"n.a.",null,{"$f":"VLOOKUP(E196,'Chapter 4'!$C$6:$D$91,2,0)","v":"Jakým způsobem organizace chrání a zabezpečuje majetek a údaje následných uživatelů nebo externích poskytovatelů, které se používají nebo začleňují do produktů a služeb?"}]
[null,null,null,null,{"$f":"'Technical page'!B489","v":"Q4.8"},{"$f":"'Technical page'!C489","v":4},{"$f":"VLOOKUP(E197,'Technical page'!$AU$482:$BD$489,3,0)","v":"-"},"n.a.",null,{"$f":"VLOOKUP(E197,'Chapter 4'!$C$6:$D$91,2,0)","v":"Co zahrnuje dialog s následnými uživateli?"}]
[null,null,null,null,"CHAPTER 5 : Engaging stakeholders"]
[null,null,null,null,{"$f":"'Technical page'!B544","v":"Q5.1"},{"$f":"'Technical page'!C544","v":3},{"$f":"VLOOKUP(E199,'Technical page'!$AU$544:$BD$548,3,0)","v":3},{"$f":"IF(G199=\"-\",\"n.a.\",IF(F199-G199>-1,\"compliant\",\"increase score\"))","v":"compliant"},null,{"$f":"VLOOKUP(E199,'Chapter 5'!$C$6:$D$89,2,0)","v":"Jakým způsobem zapojuje organizace své externí zainteresované strany a naplňuje jejich očekávání?"}]
[null,null,null,null,{"$f":"'Technical page'!B545","v":"Q5.2"},{"$f":"'Technical page'!C545","v":2},{"$f":"VLOOKUP(E200,'Technical page'!$AU$544:$BD$548,3,0)","v":"-"},{"$f":"IF(G200=\"-\",\"n.a.\",IF(F200-G200>-1,\"compliant\",\"increase score\"))","v":"n.a."},null,{"$f":"VLOOKUP(E200,'Chapter 5'!$C$6:$D$89,2,0)","v":"Jakým způsobem vede organizace dialog s veřejností, úřady a dalšími zainteresovanými stranami, včetně místních komunit a zákazníků v souvislosti s HSE&S v rámci jejich činností, produktů a služeb?"}]
[null,null,null,null,{"$f":"'Technical page'!B546","v":"Q5.3"},{"$f":"'Technical page'!C546","v":2},{"$f":"VLOOKUP(E201,'Technical page'!$AU$544:$BD$548,3,0)","v":"-"},"n.a.",null,{"$f":"VLOOKUP(E201,'Chapter 5'!$C$6:$D$89,2,0)","v":"Jakým způsobem zveřejňuje organizace informace týkající se\n HSE&S?"}]
[null,null,null,null,{"$f":"'Technical page'!B547","v":"Q5.4"},{"$f":"'Technical page'!C547","v":3},{"$f":"VLOOKUP(E202,'Technical page'!$AU$544:$BD$548,3,0)","v":"-"},"n.a.",null,{"$f":"VLOOKUP(E202,'Chapter 5'!$C$6:$D$89,2,0)","v":"Jakým způsobem podporuje organizace místní komunity?"}]
[null,null,null,null,{"$f":"'Technical page'!B548","v":"Q5.5"},{"$f":"'Technical page'!C548","v":2},{"$f":"VLOOKUP(E203,'Technical page'!$AU$544:$BD$548,3,0)","v":"-"},"n.a.",null,{"$f":"VLOOKUP(E203,'Chapter 5'!$C$6:$D$89,2,0)","v":"Jakým způsobem stimuluje organizace místní zaměstnanost a vzdělávání?"}]
[null,null,null,null,"CHAPTER 6 : Contributing to sustainability"]
[null,null,null,null,{"$f":"'Technical page'!B584","v":"Q6.1"},{"$f":"'Technical page'!C584","v":2},{"$f":"VLOOKUP(E205,'Technical page'!$AU$584:$BD$600,3,0)","v":"-"},{"$f":"IF(G205=\"-\",\"n.a.\",IF(F205-G205>-1,\"compliant\",\"increase score\"))","v":"n.a."},null,{"$f":"VLOOKUP(E205,'Chapter 6'!$C$6:$D$120,2,0)","v":"Jakým způsobem definuje organizace významné problémy a závažnost?"}]
[null,null,null,null,{"$f":"'Technical page'!B585","v":"Q6.2"},{"$f":"'Technical page'!C585","v":1},{"$f":"VLOOKUP(E206,'Technical page'!$AU$584:$BD$600,3,0)","v":"-"},{"$f":"IF(G206=\"-\",\"n.a.\",IF(F206-G206>-1,\"compliant\",\"increase score\"))","v":"n.a."},null,{"$f":"VLOOKUP(E206,'Chapter 6'!$C$6:$D$120,2,0)","v":"Jakým způsobem hodlá organizace přispívat k udržitelnému rozvoji?"}]
[null,null,null,null,{"$f":"'Technical page'!B586","v":"Q6.3"},{"$f":"'Technical page'!C586","v":3},{"$f":"VLOOKUP(E207,'Technical page'!$AU$584:$BD$600,3,0)","v":"-"},"n.a.",null,{"$f":"VLOOKUP(E207,'Chapter 6'!$C$6:$D$120,2,0)","v":"Jakým způsobem komunikuje organizace zainteresovaných stran na téma udržitelnosti?"}]
[null,null,null,null,{"$f":"'Technical page'!B587","v":"Q6.4"},{"$f":"'Technical page'!C587","v":2},{"$f":"VLOOKUP(E208,'Technical page'!$AU$584:$BD$600,3,0)","v":"-"},"n.a.",null,{"$f":"VLOOKUP(E208,'Chapter 6'!$C$6:$D$120,2,0)","v":"Má organizace zavedený proces navrhování výrobků s lepšími výsledky udržitelnosti?"}]
[null,null,null,null,{"$f":"'Technical page'!B588","v":"Q6.5"},{"$f":"'Technical page'!C588","v":2},{"$f":"VLOOKUP(E209,'Technical page'!$AU$584:$BD$600,3,0)","v":"-"},"n.a.",null,{"$f":"VLOOKUP(E209,'Chapter 6'!$C$6:$D$120,2,0)","v":"Jakým způsobem zvyšuje organizace efektivnost zdrojů ve svých výrobních procesech?"}]
[null,null,null,null,{"$f":"'Technical page'!B589","v":"Q6.6"},{"$f":"'Technical page'!C589","v":1},{"$f":"VLOOKUP(E210,'Technical page'!$AU$584:$BD$600,3,0)","v":"-"},"n.a.",null,{"$f":"VLOOKUP(E210,'Chapter 6'!$C$6:$D$120,2,0)","v":"Jakým způsobem stimuluje organizace oběhové hospodářství prostřednictvím svých produktů?"}]
[null,null,null,null,{"$f":"'Technical page'!B590","v":"Q6.7"},{"$f":"'Technical page'!C590","v":2},{"$f":"VLOOKUP(E211,'Technical page'!$AU$584:$BD$600,3,0)","v":"-"},"n.a.",null,{"$f":"VLOOKUP(E211,'Chapter 6'!$C$6:$D$120,2,0)","v":"Jakým způsobem podporuje organizace inovace při vývoji produktů a řešení, které odpovídají výzvám udržitelnosti?"}]
[null,null,null,null,{"$f":"'Technical page'!B591","v":"Q6.8"},{"$f":"'Technical page'!C591","v":3},{"$f":"VLOOKUP(E212,'Technical page'!$AU$584:$BD$600,3,0)","v":"-"},"n.a.",null,{"$f":"VLOOKUP(E212,'Chapter 6'!$C$6:$D$120,2,0)","v":"Jakým způsobem stimuluje organizace inovaci a spolupráci?"}]
[null,null,null,null,{"$f":"'Technical page'!B592","v":"Q6.9"},{"$f":"'Technical page'!C592","v":2},{"$f":"VLOOKUP(E213,'Technical page'!$AU$584:$BD$600,3,0)","v":"-"},"n.a.",null,{"$f":"VLOOKUP(E213,'Chapter 6'!$C$6:$D$120,2,0)","v":"Jakým způsobem podporuje organizace udržitelné způsoby spotřeby?"}]
[null,null,null,null,{"$f":"'Technical page'!B593","v":"Q6.10"},{"$f":"'Technical page'!C593","v":3},{"$f":"VLOOKUP(E214,'Technical page'!$AU$584:$BD$600,3,0)","v":"-"},"n.a.",null,{"$f":"VLOOKUP(E214,'Chapter 6'!$C$6:$D$120,2,0)","v":"Jakým způsobem organizace kontroluje a optimalizuje spotřebu vody?"}]
[null,null,null,null,{"$f":"'Technical page'!B594","v":"Q6.11"},{"$f":"'Technical page'!C594","v":1},{"$f":"VLOOKUP(E215,'Technical page'!$AU$584:$BD$600,3,0)","v":"-"},"n.a.",null,{"$f":"VLOOKUP(E215,'Chapter 6'!$C$6:$D$120,2,0)","v":"Jakým způsobem se řídí vliv organizace na biodiverzitu a ekosystém?"}]
[null,null,null,null,{"$f":"'Technical page'!B595","v":"Q6.12"},{"$f":"'Technical page'!C595","v":1},{"$f":"VLOOKUP(E216,'Technical page'!$AU$584:$BD$600,3,0)","v":"-"},"n.a.",null,{"$f":"VLOOKUP(E216,'Chapter 6'!$C$6:$D$120,2,0)","v":"Jakým způsobem posuzuje organizace svou závislost na přírodních zdrojích (ekosystémech)?"}]
[null,null,null,null,{"$f":"'Technical page'!B596","v":"Q6.13"},{"$f":"'Technical page'!C596","v":4},{"$f":"VLOOKUP(E217,'Technical page'!$AU$584:$BD$600,3,0)","v":"-"},"n.a.",null,{"$f":"VLOOKUP(E217,'Chapter 6'!$C$6:$D$120,2,0)","v":"Jakým způsobem řídí organizace svou spotřebu energie?"}]
[null,null,null,null,{"$f":"'Technical page'!B597","v":"Q6.14"},{"$f":"'Technical page'!C597","v":3},{"$f":"VLOOKUP(E218,'Technical page'!$AU$584:$BD$600,3,0)","v":"-"},"n.a.",null,{"$f":"VLOOKUP(E218,'Chapter 6'!$C$6:$D$120,2,0)","v":"Jakým způsobem řídí organizace emise skleníkových plynů (kromě úspor energie)?"}]
[null,null,null,null,{"$f":"'Technical page'!B598","v":"Q6.15"},{"$f":"'Technical page'!C598","v":2},{"$f":"VLOOKUP(E219,'Technical page'!$AU$584:$BD$600,3,0)","v":"-"},"n.a.",null,{"$f":"VLOOKUP(E219,'Chapter 6'!$C$6:$D$120,2,0)","v":"Jaká je strategie organizace na snižování emisí skleníkových plynů?"}]
[null,null,null,null,{"$f":"'Technical page'!B599","v":"Q6.16"},{"$f":"'Technical page'!C599","v":3},{"$f":"VLOOKUP(E220,'Technical page'!$AU$584:$BD$600,3,0)","v":3},{"$f":"IF(G220=\"-\",\"n.a.\",IF(F220-G220>-1,\"compliant\",\"increase score\"))","v":"compliant"},null,{"$f":"VLOOKUP(E220,'Chapter 6'!$C$6:$D$120,2,0)","v":"Jakým způsobem se organizace připravuje na klimatické změny? "}]
[null,null,null,null,{"$f":"'Technical page'!B600","v":"Q6.17"},{"$f":"'Technical page'!C600","v":2},{"$f":"VLOOKUP(E221,'Technical page'!$AU$584:$BD$600,3,0)","v":"-"},"n.a.",null,{"$f":"VLOOKUP(E221,'Chapter 6'!$C$6:$D$120,2,0)","v":"Jak organizace zajišťuje rovné příležitosti při náboru a během kariéry všech?"}]
[]
[null,null,"Report on level of adaptation of the ISO 26000 principles"]
[null,null,null,null,null,"Your score","Minimum score for ISO 26000"]
[null,null,null,null,"CHAPTER 1 : A corporate leadership culture"]
[null,null,null,null,{"$f":"'Technical page'!B10","v":"Q1.1"},{"$f":"'Technical page'!C10","v":3},{"$f":"VLOOKUP(E226,'Technical page'!$AU$10:$BD$25,4,0)","v":3},{"$f":"IF(G226=\"-\",\"n.a.\",IF(F226-G226>-1,\"compliant\",\"increase score\"))","v":"compliant"},null,{"$f":"VLOOKUP(E226,'Chapter 1'!$C$6:$D$112,2,0)","v":"Jak se projevuje závazek plnit povinnosti týkající se dodržování předpisů a zásad Responsible Care = RC (tj. ochrana a podpora zdraví a bezpečnost lidí, životního prostředí a udržitelnosti) na všech úrovních organizace?\n"}]
[null,null,null,null,{"$f":"'Technical page'!B11","v":"Q1.2"},{"$f":"'Technical page'!C11","v":3},{"$f":"VLOOKUP(E227,'Technical page'!$AU$10:$BD$25,4,0)","v":"-"},{"$f":"IF(G227=\"-\",\"n.a.\",IF(F227-G227>-1,\"compliant\",\"increase score\"))","v":"n.a."},null,{"$f":"VLOOKUP(E227,'Chapter 1'!$C$6:$D$112,2,0)","v":"Jakým způsobem řídí organizace příslušná rizika a příležitosti?  "}]
[null,null,null,null,{"$f":"'Technical page'!B12","v":"Q1.3"},{"$f":"'Technical page'!C12","v":2},{"$f":"VLOOKUP(E228,'Technical page'!$AU$10:$BD$25,4,0)","v":2},"compliant",null,{"$f":"VLOOKUP(E228,'Chapter 1'!$C$6:$D$112,2,0)","v":"Jakým způsobem monitoruje organizace svoje zákonné povinnosti? "}]
[null,null,null,null,{"$f":"'Technical page'!B13","v":"Q1.4"},{"$f":"'Technical page'!C13","v":2},{"$f":"VLOOKUP(E229,'Technical page'!$AU$10:$BD$25,4,0)","v":4},"increase score",null,{"$f":"VLOOKUP(E229,'Chapter 1'!$C$6:$D$112,2,0)","v":"Jakým způsobem top management zajišťuje, že jednotlivé aspekty HSE&S (zdraví, bezpečnosti, ochrany životního prostředí & udržitelnosti) jsou přiřazeny stanoveným rolím v organizaci?"}]
[null,null,null,null,{"$f":"'Technical page'!B14","v":"Q1.5"},{"$f":"'Technical page'!C14","v":3},{"$f":"VLOOKUP(E230,'Technical page'!$AU$10:$BD$25,4,0)","v":3},"compliant",null,{"$f":"VLOOKUP(E230,'Chapter 1'!$C$6:$D$112,2,0)","v":"Jakým způsobem se top management podílí na řešení záležitostí HSE&S?"}]
[null,null,null,null,{"$f":"'Technical page'!B15","v":"Q1.6"},{"$f":"'Technical page'!C15","v":3},{"$f":"VLOOKUP(E231,'Technical page'!$AU$10:$BD$25,4,0)","v":"-"},"n.a.",null,{"$f":"VLOOKUP(E231,'Chapter 1'!$C$6:$D$112,2,0)","v":"Jakým způsobem jsou odpovědnosti HSE&S začleněny do popisů pracovní náplně nebo ročních cílů?\n"}]
[null,null,null,null,{"$f":"'Technical page'!B16","v":"Q1.7"},{"$f":"'Technical page'!C16","v":4},{"$f":"VLOOKUP(E232,'Technical page'!$AU$10:$BD$25,4,0)","v":"-"},"n.a.",null,{"$f":"VLOOKUP(E232,'Chapter 1'!$C$6:$D$112,2,0)","v":"Jakým způsobem se řídí (nejdůležitější) procesy v souvislosti s HSE&S?"}]
[null,null,null,null,{"$f":"'Technical page'!B17","v":"Q1.8"},{"$f":"'Technical page'!C17","v":3},{"$f":"VLOOKUP(E233,'Technical page'!$AU$10:$BD$25,4,0)","v":"-"},"n.a.",null,{"$f":"VLOOKUP(E233,'Chapter 1'!$C$6:$D$112,2,0)","v":"Jakým způsobem top management zajišťuje neustálé zlepšování výkonu v oblasti HSE&S (zdraví, bezpečnosti, životního prostředí, energetiky a udržitelnosti)?"}]
[null,null,null,null,{"$f":"'Technical page'!B18","v":"Q1.9"},{"$f":"'Technical page'!C18","v":3},{"$f":"VLOOKUP(E234,'Technical page'!$AU$10:$BD$25,4,0)","v":"-"},"n.a.",null,{"$f":"VLOOKUP(E234,'Chapter 1'!$C$6:$D$112,2,0)","v":"Jak jsou organizovány interní audity?"}]
[null,null,null,null,{"$f":"'Technical page'!B19","v":"Q1.10"},{"$f":"'Technical page'!C19","v":3},{"$f":"VLOOKUP(E235,'Technical page'!$AU$10:$BD$25,4,0)","v":"-"},"n.a.",null,{"$f":"VLOOKUP(E235,'Chapter 1'!$C$6:$D$112,2,0)","v":"Jakým způsobem probíhá vyšetřování?"}]
[null,null,null,null,{"$f":"'Technical page'!B20","v":"Q1.11"},{"$f":"'Technical page'!C20","v":3},{"$f":"VLOOKUP(E236,'Technical page'!$AU$10:$BD$25,4,0)","v":"-"},"n.a.",null,{"$f":"VLOOKUP(E236,'Chapter 1'!$C$6:$D$112,2,0)","v":"Jakým způsobem organizace zajišťuje procesy, čas a zdroje potřebné pro zlepšování procesů řízení HSE&S?"}]
[null,null,null,null,{"$f":"'Technical page'!B21","v":"Q1.12"},{"$f":"'Technical page'!C21","v":3},{"$f":"VLOOKUP(E237,'Technical page'!$AU$10:$BD$25,4,0)","v":"-"},"n.a.",null,{"$f":"VLOOKUP(E237,'Chapter 1'!$C$6:$D$112,2,0)","v":"Jak organizace zajišťuje, že zaměstnanci jsou si vědomi politik a procesů týkajících se zdraví, bezpečnosti, životního prostředí, energetiky a udržitelnosti?"}]
[null,null,null,null,{"$f":"'Technical page'!B22","v":"Q1.13"},{"$f":"'Technical page'!C22","v":3},{"$f":"VLOOKUP(E238,'Technical page'!$AU$10:$BD$25,4,0)","v":"-"},"n.a.",null,{"$f":"VLOOKUP(E238,'Chapter 1'!$C$6:$D$112,2,0)","v":"Jakým způsobem organizace zajišťuje správné kompetence pracovníků, pokud jde o aspekty HSE&S týkající se jejich práce?"}]
[null,null,null,null,{"$f":"'Technical page'!B23","v":"Q1.14"},{"$f":"'Technical page'!C23","v":3},{"$f":"VLOOKUP(E239,'Technical page'!$AU$10:$BD$25,4,0)","v":"-"},"n.a.",null,{"$f":"VLOOKUP(E239,'Chapter 1'!$C$6:$D$112,2,0)","v":"Jaká je struktura zapojení zaměstnanců?"}]
[null,null,null,null,{"$f":"'Technical page'!B24","v":"Q1.15"},{"$f":"'Technical page'!C24","v":3},{"$f":"VLOOKUP(E240,'Technical page'!$AU$10:$BD$25,4,0)","v":"-"},"n.a.",null,{"$f":"VLOOKUP(E240,'Chapter 1'!$C$6:$D$112,2,0)","v":"Jakým způsobem se řídí dokumentace HSE&S?"}]
[null,null,null,null,{"$f":"'Technical page'!B25","v":"Q1.16"},{"$f":"'Technical page'!C25","v":3},{"$f":"VLOOKUP(E241,'Technical page'!$AU$10:$BD$25,4,0)","v":"-"},"n.a.",null,{"$f":"VLOOKUP(E241,'Chapter 1'!$C$6:$D$112,2,0)","v":"Jakým způsobem jsou řízeny změny potenciálně ovlivňující HSE&S (zdraví, bezpečnost, životní prostředí, energetiku a udržitelnost)?"}]
[null,null,null,null,"CHAPTER 2 : Safeguarding people and the environment"]
[null,null,null,null,{"$f":"'Technical page'!B124","v":"Q2.1"},{"$f":"'Technical page'!C124","v":3},{"$f":"VLOOKUP(E243,'Technical page'!$AU$124:$BD$168,4,0)","v":"-"},"n.a.",null,{"$f":"VLOOKUP(E243,'Chapter 2'!$C$6:$D$282,2,0)","v":"Jak se management zavázal k ochraně zdraví a bezpečnosti při práci (dále jen \"BOZP\")?"}]
[null,null,null,null,{"$f":"'Technical page'!B125","v":"Q2.2"},{"$f":"'Technical page'!C125","v":2},{"$f":"VLOOKUP(E244,'Technical page'!$AU$124:$BD$168,4,0)","v":"-"},{"$f":"IF(G244=\"-\",\"n.a.\",IF(F244-G244>-1,\"compliant\",\"increase score\"))","v":"n.a."},null,{"$f":"VLOOKUP(E244,'Chapter 2'!$C$6:$D$282,2,0)","v":"Jakým způsobem se určují rizika a expozice v souvislosti s BOZP?"}]
[null,null,null,null,{"$f":"'Technical page'!B126","v":"Q2.3"},{"$f":"'Technical page'!C126","v":3},{"$f":"VLOOKUP(E245,'Technical page'!$AU$124:$BD$168,4,0)","v":"-"},"n.a.",null,{"$f":"VLOOKUP(E245,'Chapter 2'!$C$6:$D$282,2,0)","v":"How are medical requirements evaluated?"}]
[null,null,null,null,{"$f":"'Technical page'!B127","v":"Q2.4"},{"$f":"'Technical page'!C127","v":3},{"$f":"VLOOKUP(E246,'Technical page'!$AU$124:$BD$168,4,0)","v":"-"},"n.a.",null,{"$f":"VLOOKUP(E246,'Chapter 2'!$C$6:$D$282,2,0)","v":"Jakým způsobem zlepšuje organizace BOZP?"}]
[null,null,null,null,{"$f":"'Technical page'!B128","v":"Q2.5"},{"$f":"'Technical page'!C128","v":3},{"$f":"VLOOKUP(E247,'Technical page'!$AU$124:$BD$168,4,0)","v":"-"},"n.a.",null,{"$f":"VLOOKUP(E247,'Chapter 2'!$C$6:$D$282,2,0)","v":"Jakým způsobem probíhá údržba a udržování pořádku s cílem zajistit bezpečnost provozů, zařízení, nástrojů a (bezpečnostních) pomůcek?"}]
[null,null,null,null,{"$f":"'Technical page'!B129","v":"Q2.6"},{"$f":"'Technical page'!C129","v":3},{"$f":"VLOOKUP(E248,'Technical page'!$AU$124:$BD$168,4,0)","v":"-"},"n.a.",null,{"$f":"VLOOKUP(E248,'Chapter 2'!$C$6:$D$282,2,0)","v":"Jak se ověřuje správný výběr, údržba a používání zdravotního a bezpečnostního vybavení (např. osobních ochranných prostředků = OOPP)?"}]
[null,null,null,null,{"$f":"'Technical page'!B130","v":"Q2.7"},{"$f":"'Technical page'!C130","v":2},{"$f":"VLOOKUP(E249,'Technical page'!$AU$124:$BD$168,4,0)","v":4},"increase score",null,{"$f":"VLOOKUP(E249,'Chapter 2'!$C$6:$D$282,2,0)","v":"Jak se organizace stará o stres a tělesné a duševní zdraví zaměstnanců?"}]
[null,null,null,null,{"$f":"'Technical page'!B131","v":"Q2.8"},{"$f":"'Technical page'!C131","v":3},{"$f":"VLOOKUP(E250,'Technical page'!$AU$124:$BD$168,4,0)","v":3},"compliant",null,{"$f":"VLOOKUP(E250,'Chapter 2'!$C$6:$D$282,2,0)","v":"Jakým způsobem se vyšetřují onemocnění, zranění, incidenty a potenciálně nebezpečné situace na pracovišti?"}]
[null,null,null,null,{"$f":"'Technical page'!B132","v":"Q2.9"},{"$f":"'Technical page'!C132","v":3},{"$f":"VLOOKUP(E251,'Technical page'!$AU$124:$BD$168,4,0)","v":3},"compliant",null,{"$f":"VLOOKUP(E251,'Chapter 2'!$C$6:$D$282,2,0)","v":"Jak je organizace připravena na mimořádné události?"}]
[null,null,null,null,{"$f":"'Technical page'!B133","v":"Q2.10"},{"$f":"'Technical page'!C133","v":3},{"$f":"VLOOKUP(E252,'Technical page'!$AU$124:$BD$168,4,0)","v":3},"compliant",null,{"$f":"VLOOKUP(E252,'Chapter 2'!$C$6:$D$282,2,0)","v":"Jakým způsobem zajišťuje organizace správně kompetence všech pracovníků, týkající se požadavků BOZP, které souvisí s jejich pracovní náplní?"}]
[null,null,null,null,{"$f":"'Technical page'!B134","v":"Q2.11"},{"$f":"'Technical page'!C134","v":3},{"$f":"VLOOKUP(E253,'Technical page'!$AU$124:$BD$168,4,0)","v":"-"},"n.a.",null,{"$f":"VLOOKUP(E253,'Chapter 2'!$C$6:$D$282,2,0)","v":"Jakým způsobem se vedení staví k procesní bezpečnosti?\n\n"}]
[null,null,null,null,{"$f":"'Technical page'!B135","v":"Q2.12"},{"$f":"'Technical page'!C135","v":2},{"$f":"VLOOKUP(E254,'Technical page'!$AU$124:$BD$168,4,0)","v":"-"},"n.a.",null,{"$f":"VLOOKUP(E254,'Chapter 2'!$C$6:$D$282,2,0)","v":"Jakým způsobem je vypracována identifikace a popis bezpečnosti procesů, zařízení a pracovišť organizace?"}]
[null,null,null,null,{"$f":"'Technical page'!B136","v":"Q2.13"},{"$f":"'Technical page'!C136","v":1},{"$f":"VLOOKUP(E255,'Technical page'!$AU$124:$BD$168,4,0)","v":"-"},"n.a.",null,{"$f":"VLOOKUP(E255,'Chapter 2'!$C$6:$D$282,2,0)","v":"Jakým způsobem se zlepšuje procesní bezpečnost po nehodách a incidentech?"}]
[null,null,null,null,{"$f":"'Technical page'!B137","v":"Q2.14"},{"$f":"'Technical page'!C137","v":2},{"$f":"VLOOKUP(E256,'Technical page'!$AU$124:$BD$168,4,0)","v":"-"},"n.a.",null,{"$f":"VLOOKUP(E256,'Chapter 2'!$C$6:$D$282,2,0)","v":"Jakým způsobem se provádějí audity a inspekce procesní bezpečnosti?"}]
[null,null,null,null,{"$f":"'Technical page'!B138","v":"Q2.15"},{"$f":"'Technical page'!C138","v":3},{"$f":"VLOOKUP(E257,'Technical page'!$AU$124:$BD$168,4,0)","v":"-"},"n.a.",null,{"$f":"VLOOKUP(E257,'Chapter 2'!$C$6:$D$282,2,0)","v":"Jakým způsobem se prověřují a zlepšují pracovní pokyny?"}]
[null,null,null,null,{"$f":"'Technical page'!B139","v":"Q2.16"},{"$f":"'Technical page'!C139","v":3},{"$f":"VLOOKUP(E258,'Technical page'!$AU$124:$BD$168,4,0)","v":"-"},"n.a.",null,{"$f":"VLOOKUP(E258,'Chapter 2'!$C$6:$D$282,2,0)","v":"Jak je navrhována a dokumnetována instalace nových zařízení?"}]
[null,null,null,null,{"$f":"'Technical page'!B140","v":"Q2.17"},{"$f":"'Technical page'!C140","v":4},{"$f":"VLOOKUP(E259,'Technical page'!$AU$124:$BD$168,4,0)","v":"-"},"n.a.",null,{"$f":"VLOOKUP(E259,'Chapter 2'!$C$6:$D$282,2,0)","v":"Jakým způsobem probíhá kontrola zřizování instalace?"}]
[null,null,null,null,{"$f":"'Technical page'!B141","v":"Q2.18"},{"$f":"'Technical page'!C141","v":3},{"$f":"VLOOKUP(E260,'Technical page'!$AU$124:$BD$168,4,0)","v":"-"},"n.a.",null,{"$f":"VLOOKUP(E260,'Chapter 2'!$C$6:$D$282,2,0)","v":"Jakým způsobem je zaručena ochrana zařízení, aby jediná chyba neměla katastrofické následky?"}]
[null,null,null,null,{"$f":"'Technical page'!B142","v":"Q2.19"},{"$f":"'Technical page'!C142","v":3},{"$f":"VLOOKUP(E261,'Technical page'!$AU$124:$BD$168,4,0)","v":"-"},"n.a.",null,{"$f":"VLOOKUP(E261,'Chapter 2'!$C$6:$D$282,2,0)","v":"Byly zřízeny programy preventivní údržby a péče, které zaručují bezpečnost provozů, nástrojů a zařízení?"}]
[null,null,null,null,{"$f":"'Technical page'!B143","v":"Q2.20"},{"$f":"'Technical page'!C143","v":4},{"$f":"VLOOKUP(E262,'Technical page'!$AU$124:$BD$168,4,0)","v":"-"},"n.a.",null,{"$f":"VLOOKUP(E262,'Chapter 2'!$C$6:$D$282,2,0)","v":"Jakým způsobem se řídí procesy během mimořádných událostí v případě přerušení dodávky energie nebo služeb?"}]
[null,null,null,null,{"$f":"'Technical page'!B144","v":"Q2.21"},{"$f":"'Technical page'!C144","v":2},{"$f":"VLOOKUP(E263,'Technical page'!$AU$124:$BD$168,4,0)","v":3},"increase score",null,{"$f":"VLOOKUP(E263,'Chapter 2'!$C$6:$D$282,2,0)","v":"Jak se připravují havarijní plány?"}]
[null,null,null,null,{"$f":"'Technical page'!B145","v":"Q2.22"},{"$f":"'Technical page'!C145","v":2},{"$f":"VLOOKUP(E264,'Technical page'!$AU$124:$BD$168,4,0)","v":"-"},"n.a.",null,{"$f":"VLOOKUP(E264,'Chapter 2'!$C$6:$D$282,2,0)","v":"Jakým způsobem jsou zabezpečeny kompetence a školení zaměstnanců a dodavatelů zapojených do procesů?"}]
[null,null,null,null,{"$f":"'Technical page'!B146","v":"Q2.23"},{"$f":"'Technical page'!C146","v":4},{"$f":"VLOOKUP(E265,'Technical page'!$AU$124:$BD$168,4,0)","v":"-"},"n.a.",null,{"$f":"VLOOKUP(E265,'Chapter 2'!$C$6:$D$282,2,0)","v":"Jakým způsobem se sdílejí informace o rizicích látek a přípravků?"}]
[null,null,null,null,{"$f":"'Technical page'!B147","v":"Q2.24"},{"$f":"'Technical page'!C147","v":4},{"$f":"VLOOKUP(E266,'Technical page'!$AU$124:$BD$168,4,0)","v":"-"},"n.a.",null,{"$f":"VLOOKUP(E266,'Chapter 2'!$C$6:$D$282,2,0)","v":"Jak se sdílejí informace o procesu?"}]
[null,null,null,null,{"$f":"'Technical page'!B148","v":"Q2.25"},{"$f":"'Technical page'!C148","v":3},{"$f":"VLOOKUP(E267,'Technical page'!$AU$124:$BD$168,4,0)","v":"-"},"n.a.",null,{"$f":"VLOOKUP(E267,'Chapter 2'!$C$6:$D$282,2,0)","v":"Jakým způsobem organizace hodnotí své logistické partnery z hlediska HSE&S, energetické účinnosti a emisí skleníkových plynů?"}]
[null,null,null,null,{"$f":"'Technical page'!B149","v":"Q2.26"},{"$f":"'Technical page'!C149","v":3},{"$f":"VLOOKUP(E268,'Technical page'!$AU$124:$BD$168,4,0)","v":"-"},"n.a.",null,{"$f":"VLOOKUP(E268,'Chapter 2'!$C$6:$D$282,2,0)","v":"Jakým způsobem organizace zabraňuje a reaguje na dopravní nehody?"}]
[null,null,null,null,{"$f":"'Technical page'!B150","v":"Q2.27"},{"$f":"'Technical page'!C150","v":2},{"$f":"VLOOKUP(E269,'Technical page'!$AU$124:$BD$168,4,0)","v":"-"},"n.a.",null,{"$f":"VLOOKUP(E269,'Chapter 2'!$C$6:$D$282,2,0)","v":"Jakým způsobem organizace identifikuje bezpečnostní problémy?"}]
[null,null,null,null,{"$f":"'Technical page'!B151","v":"Q2.28"},{"$f":"'Technical page'!C151","v":3},{"$f":"VLOOKUP(E270,'Technical page'!$AU$124:$BD$168,4,0)","v":"-"},"n.a.",null,{"$f":"VLOOKUP(E270,'Chapter 2'!$C$6:$D$282,2,0)","v":"Jakým způsobem se kontroluje příchod a odchod pracovníků a materiálu na pracovišti a v oblastech s omezeným vstupem?"}]
[null,null,null,null,{"$f":"'Technical page'!B152","v":"Q2.29"},{"$f":"'Technical page'!C152","v":3},{"$f":"VLOOKUP(E271,'Technical page'!$AU$124:$BD$168,4,0)","v":"-"},"n.a.",null,{"$f":"VLOOKUP(E271,'Chapter 2'!$C$6:$D$282,2,0)","v":"Jakým způsobem se kontroluje kybernetická bezpečnost?"}]
[null,null,null,null,{"$f":"'Technical page'!B153","v":"Q2.30"},{"$f":"'Technical page'!C153","v":2},{"$f":"VLOOKUP(E272,'Technical page'!$AU$124:$BD$168,4,0)","v":"-"},"n.a.",null,{"$f":"VLOOKUP(E272,'Chapter 2'!$C$6:$D$282,2,0)","v":"Jakým způsobem probíhá komunikace a výměna informací v případě bezpečnostní krize?"}]
[null,null,null,null,{"$f":"'Technical page'!B154","v":"Q2.31"},{"$f":"'Technical page'!C154","v":1},{"$f":"VLOOKUP(E273,'Technical page'!$AU$124:$BD$168,4,0)","v":"-"},"n.a.",null,{"$f":"VLOOKUP(E273,'Chapter 2'!$C$6:$D$282,2,0)","v":"Jak se organizace vyrovnává s podezřelým chováním (včetně rizik radikalizace = souhlas a podopra extrémních názorů)"}]
[null,null,null,null,{"$f":"'Technical page'!B155","v":"Q2.32"},{"$f":"'Technical page'!C155","v":2},{"$f":"VLOOKUP(E274,'Technical page'!$AU$124:$BD$168,4,0)","v":"-"},"n.a.",null,{"$f":"VLOOKUP(E274,'Chapter 2'!$C$6:$D$282,2,0)","v":"Jakým způsobem školí organizace pracovníky v oblasti ostrahy ve vazbě na bezpečnostní rizika?  "}]
[null,null,null,null,{"$f":"'Technical page'!B156","v":"Q2.33"},{"$f":"'Technical page'!C156","v":3},{"$f":"VLOOKUP(E275,'Technical page'!$AU$124:$BD$168,4,0)","v":3},"compliant",null,{"$f":"VLOOKUP(E275,'Chapter 2'!$C$6:$D$282,2,0)","v":"Jakým způsobem se posuzuje potenciální vliv organizace na životní prostředí?"}]
[null,null,null,null,{"$f":"'Technical page'!B157","v":"Q2.34"},{"$f":"'Technical page'!C157","v":4},{"$f":"VLOOKUP(E276,'Technical page'!$AU$124:$BD$168,4,0)","v":"-"},"n.a.",null,{"$f":"VLOOKUP(E276,'Chapter 2'!$C$6:$D$282,2,0)","v":"Jakým způsobem se řídí environmentální výkonnost?"}]
[null,null,null,null,{"$f":"'Technical page'!B158","v":"Q2.35"},{"$f":"'Technical page'!C158","v":3},{"$f":"VLOOKUP(E277,'Technical page'!$AU$124:$BD$168,4,0)","v":"-"},"n.a.",null,{"$f":"VLOOKUP(E277,'Chapter 2'!$C$6:$D$282,2,0)","v":"Jak organizace nakládá s odpadem?"}]
[null,null,null,null,{"$f":"'Technical page'!B159","v":"Q2.36"},{"$f":"'Technical page'!C159","v":3},{"$f":"VLOOKUP(E278,'Technical page'!$AU$124:$BD$168,4,0)","v":"-"},"n.a.",null,{"$f":"VLOOKUP(E278,'Chapter 2'!$C$6:$D$282,2,0)","v":"Jakým způsobem řídí organizace rizika týkající se podzemních vod?"}]
[null,null,null,null,{"$f":"'Technical page'!B160","v":"Q2.37"},{"$f":"'Technical page'!C160","v":3},{"$f":"VLOOKUP(E279,'Technical page'!$AU$124:$BD$168,4,0)","v":"-"},"n.a.",null,{"$f":"VLOOKUP(E279,'Chapter 2'!$C$6:$D$282,2,0)","v":"Jakým způsobem řídí organizace rizika týkající se znečištění půdy?"}]
[null,null,null,null,{"$f":"'Technical page'!B161","v":"Q2.38"},{"$f":"'Technical page'!C161","v":3},{"$f":"VLOOKUP(E280,'Technical page'!$AU$124:$BD$168,4,0)","v":"-"},"n.a.",null,{"$f":"VLOOKUP(E280,'Chapter 2'!$C$6:$D$282,2,0)","v":"Jakým způsobem řídí organizace existující znečištění půdy?\n"}]
[null,null,null,null,{"$f":"'Technical page'!B162","v":"Q2.39"},{"$f":"'Technical page'!C162","v":3},{"$f":"VLOOKUP(E281,'Technical page'!$AU$124:$BD$168,4,0)","v":"-"},"n.a.",null,{"$f":"VLOOKUP(E281,'Chapter 2'!$C$6:$D$282,2,0)","v":"Jakým způsobem organizace řídí své emise škodlivin do ovzduší?"}]
[null,null,null,null,{"$f":"'Technical page'!B163","v":"Q2.40"},{"$f":"'Technical page'!C163","v":3},{"$f":"VLOOKUP(E282,'Technical page'!$AU$124:$BD$168,4,0)","v":"-"},"n.a.",null,{"$f":"VLOOKUP(E282,'Chapter 2'!$C$6:$D$282,2,0)","v":"Jakým způsobem organizace řídí své emise škodlivin do vody?"}]
[null,null,null,null,{"$f":"'Technical page'!B164","v":"Q2.41"},{"$f":"'Technical page'!C164","v":3},{"$f":"VLOOKUP(E283,'Technical page'!$AU$124:$BD$168,4,0)","v":"-"},"n.a.",null,{"$f":"VLOOKUP(E283,'Chapter 2'!$C$6:$D$282,2,0)","v":"Jakým způsobem organizace řídí své emise hluku?"}]
[null,null,null,null,{"$f":"'Technical page'!B165","v":"Q2.42"},{"$f":"'Technical page'!C165","v":3},{"$f":"VLOOKUP(E284,'Technical page'!$AU$124:$BD$168,4,0)","v":"-"},"n.a.",null,{"$f":"VLOOKUP(E284,'Chapter 2'!$C$6:$D$282,2,0)","v":"Jakým způsobem organizace řídí své emise zápachu?"}]
[null,null,null,null,{"$f":"'Technical page'!B166","v":"Q2.43"},{"$f":"'Technical page'!C166","v":3},{"$f":"VLOOKUP(E285,'Technical page'!$AU$124:$BD$168,4,0)","v":4},"increase score",null,{"$f":"VLOOKUP(E285,'Chapter 2'!$C$6:$D$282,2,0)","v":"Jakým způsobem organizace zabraňuje a řídí havarijní emise do prostředí?"}]
[null,null,null,null,{"$f":"'Technical page'!B167","v":"Q2.44"},{"$f":"'Technical page'!C167","v":3},{"$f":"VLOOKUP(E286,'Technical page'!$AU$124:$BD$168,4,0)","v":3},"compliant",null,{"$f":"VLOOKUP(E286,'Chapter 2'!$C$6:$D$282,2,0)","v":"Jakým způsobem zajišťuje organizace správně kompetence všech pracovníků, týkající se environmentálních požadavků, které souvisejí s jejich pracovní náplní?"}]
[null,null,null,null,{"$f":"'Technical page'!B168","v":"Q2.45"},{"$f":"'Technical page'!C168","v":1},{"$f":"VLOOKUP(E287,'Technical page'!$AU$124:$BD$168,4,0)","v":3},"increase score",null,{"$f":"VLOOKUP(E287,'Chapter 2'!$C$6:$D$282,2,0)","v":"Jakým způsobem jsou zainteresované strany organizace informovány o environmentálních aspektech a jejich možných dopadech?"}]
[null,null,null,null,"CHAPTER 3 : Strengthening chemicals management systems"]
[null,null,null,null,{"$f":"'Technical page'!$B$406","v":"Q3.1"},{"$f":"'Technical page'!$C$406","v":4},{"$f":"VLOOKUP(E289,'Technical page'!$AU$406:$BD$418,4,0)","v":4},{"$f":"IF(G289=\"-\",\"n.a.\",IF(F289-G289>-1,\"compliant\",\"increase score\"))","v":"compliant"},null,{"$f":"VLOOKUP(E289,'Chapter 3'!$C$6:$D$89,2,0)","v":"Zavedla organizace proces pro navrhování a vývoj nových \nproduktů a služeb?"}]
[null,null,null,null,{"$f":"'Technical page'!$B$407","v":"Q3.2"},{"$f":"'Technical page'!$C$407","v":2},{"$f":"VLOOKUP(E290,'Technical page'!$AU$406:$BD$418,4,0)","v":"-"},"n.a.",null,{"$f":"VLOOKUP(E290,'Chapter 3'!$C$6:$D$89,2,0)","v":"Má organizace k dispozici proces hodnocení a stanovení priorit svých produktů pro charakterizaci rizik a řízení rizik?\n\n\n"}]
[null,null,null,null,{"$f":"'Technical page'!$B$408","v":"Q3.3"},{"$f":"'Technical page'!$C$408","v":4},{"$f":"VLOOKUP(E291,'Technical page'!$AU$406:$BD$418,4,0)","v":"-"},"n.a.",null,{"$f":"VLOOKUP(E291,'Chapter 3'!$C$6:$D$89,2,0)","v":"Zavedla organizace systém pro sledování použitelnosti, změn a dodržování interních a externích požadavků souvisejících s řízením bezpečnosti chemických látek?"}]
[null,null,null,null,{"$f":"'Technical page'!$B$409","v":"Q3.4"},{"$f":"'Technical page'!$C$409","v":2},{"$f":"VLOOKUP(E292,'Technical page'!$AU$406:$BD$418,4,0)","v":"-"},"n.a.",null,{"$f":"VLOOKUP(E292,'Chapter 3'!$C$6:$D$89,2,0)","v":"Zavedla organizace systém na správu existujících informací o rizicích svých produktů?"}]
[null,null,null,null,{"$f":"'Technical page'!$B$410","v":"Q3.5"},{"$f":"'Technical page'!$C$410","v":1},{"$f":"VLOOKUP(E293,'Technical page'!$AU$406:$BD$418,4,0)","v":"-"},"n.a.",null,{"$f":"VLOOKUP(E293,'Chapter 3'!$C$6:$D$89,2,0)","v":"Zavedla organizace proces řízení informací o používání a expozici svých produktů?"}]
[null,null,null,null,{"$f":"'Technical page'!$B$411","v":"Q3.6"},{"$f":"'Technical page'!$C$411","v":1},{"$f":"VLOOKUP(E294,'Technical page'!$AU$406:$BD$418,4,0)","v":"-"},"n.a.",null,{"$f":"VLOOKUP(E294,'Chapter 3'!$C$6:$D$89,2,0)","v":"Zavedla organizace proces na správu nových informací?"}]
[null,null,null,null,{"$f":"'Technical page'!$B$412","v":"Q3.7"},{"$f":"'Technical page'!$C$412","v":2},{"$f":"VLOOKUP(E295,'Technical page'!$AU$406:$BD$418,4,0)","v":1},"compliant",null,{"$f":"VLOOKUP(E295,'Chapter 3'!$C$6:$D$89,2,0)","v":"Zavedla organizace proces charakterizace rizik na základě shromážděných informací?"}]
[null,null,null,null,{"$f":"'Technical page'!$B$413","v":"Q3.8"},{"$f":"'Technical page'!$C$413","v":1},{"$f":"VLOOKUP(E296,'Technical page'!$AU$406:$BD$418,4,0)","v":2},"increase score",null,{"$f":"VLOOKUP(E296,'Chapter 3'!$C$6:$D$89,2,0)","v":"Zavedla organizace proces řízení rizik na základě shromážděných informací?"}]
[null,null,null,null,{"$f":"'Technical page'!$B$414","v":"Q3.9"},{"$f":"'Technical page'!$C$414","v":3},{"$f":"VLOOKUP(E297,'Technical page'!$AU$406:$BD$418,4,0)","v":4},"increase score",null,{"$f":"VLOOKUP(E297,'Chapter 3'!$C$6:$D$89,2,0)","v":"Zavedla organizace účinný proces sledování svých produktů po dodání a provádění nápravných opatření?\n"}]
[null,null,null,null,{"$f":"'Technical page'!$B$415","v":"Q3.10"},{"$f":"'Technical page'!$C$415","v":3},{"$f":"VLOOKUP(E298,'Technical page'!$AU$406:$BD$418,4,0)","v":"-"},"n.a.",null,{"$f":"VLOOKUP(E298,'Chapter 3'!$C$6:$D$89,2,0)","v":"Poskytuje organizace efektivní komunikaci v rámci dodavatelského řetězce ohledně opatření k řízení rizik, které se vztahují na jejich produkty?"}]
[null,null,null,null,"CHAPTER 4 : Influencing business partners"]
[null,null,null,null,{"$f":"'Technical page'!B482","v":"Q4.1"},{"$f":"'Technical page'!C482","v":3},{"$f":"VLOOKUP(E300,'Technical page'!$AU$482:$BD$489,4,0)","v":"-"},{"$f":"IF(G300=\"-\",\"n.a.\",IF(F300-G300>-1,\"compliant\",\"increase score\"))","v":"n.a."},null,{"$f":"VLOOKUP(E300,'Chapter 4'!$C$6:$D$91,2,0)","v":"Jak se organizace zavázala k odpovědnému získávání zdrojů?"}]
[null,null,null,null,{"$f":"'Technical page'!B483","v":"Q4.2"},{"$f":"'Technical page'!C483","v":2},{"$f":"VLOOKUP(E301,'Technical page'!$AU$482:$BD$489,4,0)","v":"-"},{"$f":"IF(G301=\"-\",\"n.a.\",IF(F301-G301>-1,\"compliant\",\"increase score\"))","v":"n.a."},null,{"$f":"VLOOKUP(E301,'Chapter 4'!$C$6:$D$91,2,0)","v":"Jak organizace zlepšuje spolupráci v dodavatelském řetězci?"}]
[null,null,null,null,{"$f":"'Technical page'!B484","v":"Q4.3"},{"$f":"'Technical page'!C484","v":3},{"$f":"VLOOKUP(E302,'Technical page'!$AU$482:$BD$489,4,0)","v":4},"increase score",null,{"$f":"VLOOKUP(E302,'Chapter 4'!$C$6:$D$91,2,0)","v":"Jakým způsobem vyjadřuje organizace svůj závazek vůči podnikatelské etice?"}]
[null,null,null,null,{"$f":"'Technical page'!B485","v":"Q4.4"},{"$f":"'Technical page'!C485","v":1},{"$f":"VLOOKUP(E303,'Technical page'!$AU$482:$BD$489,4,0)","v":4},"increase score",null,{"$f":"VLOOKUP(E303,'Chapter 4'!$C$6:$D$91,2,0)","v":"Jakým způsobem řeší organizace sociální problematiku a lidská práva v rámci spolupráce s obchodními partnery?"}]
[null,null,null,null,{"$f":"'Technical page'!B486","v":"Q4.5"},{"$f":"'Technical page'!C486","v":4},{"$f":"VLOOKUP(E304,'Technical page'!$AU$482:$BD$489,4,0)","v":4},"compliant",null,{"$f":"VLOOKUP(E304,'Chapter 4'!$C$6:$D$91,2,0)","v":"Jakým způsobem zabraňuje organizace dětské práci?\nOrganizace\n1-\tzavedla systém ověřování věku; \n2-\tnezaměstnává děti mladší 15 let (v závislosti na místní legislativy). Jedinou výjimku představují učni, školní praxe nebo vzdělávací stáže; \n3-\tzaručuje, aby pracovní náplň osob mladších než 18 let neovlivňovala jejich školní docházku (doba strávená dopravou do práce a školy a z práce a školy, školní docházkou a prací je méně než 10 hodin denně );\n4-\tzajišťuje, že pracovní náplň mladých pracovníků není duševně, fyzicky, společensky ani morálně nebezpečná a škodlivá."}]
[null,null,null,null,{"$f":"'Technical page'!B487","v":"Q4.6"},{"$f":"'Technical page'!C487","v":3},{"$f":"VLOOKUP(E305,'Technical page'!$AU$482:$BD$489,4,0)","v":"-"},"n.a.",null,{"$f":"VLOOKUP(E305,'Chapter 4'!$C$6:$D$91,2,0)","v":"Jakým způsobem zabezpečuje organizace splnění svých požadavků ze strany logistických partnerů?"}]
[null,null,null,null,{"$f":"'Technical page'!B488","v":"Q4.7"},{"$f":"'Technical page'!C488","v":3},{"$f":"VLOOKUP(E306,'Technical page'!$AU$482:$BD$489,4,0)","v":"-"},"n.a.",null,{"$f":"VLOOKUP(E306,'Chapter 4'!$C$6:$D$91,2,0)","v":"Jakým způsobem organizace chrání a zabezpečuje majetek a údaje následných uživatelů nebo externích poskytovatelů, které se používají nebo začleňují do produktů a služeb?"}]
[null,null,null,null,{"$f":"'Technical page'!B489","v":"Q4.8"},{"$f":"'Technical page'!C489","v":4},{"$f":"VLOOKUP(E307,'Technical page'!$AU$482:$BD$489,4,0)","v":"-"},"n.a.",null,{"$f":"VLOOKUP(E307,'Chapter 4'!$C$6:$D$91,2,0)","v":"Co zahrnuje dialog s následnými uživateli?"}]
[null,null,null,null,"CHAPTER 5 : Engaging stakeholders"]
[null,null,null,null,{"$f":"'Technical page'!B544","v":"Q5.1"},{"$f":"'Technical page'!C544","v":3},{"$f":"VLOOKUP(E309,'Technical page'!$AU$544:$BD$548,4,0)","v":4},{"$f":"IF(G309=\"-\",\"n.a.\",IF(F309-G309>-1,\"compliant\",\"increase score\"))","v":"increase score"},null,{"$f":"VLOOKUP(E309,'Chapter 5'!$C$6:$D$89,2,0)","v":"Jakým způsobem zapojuje organizace své externí zainteresované strany a naplňuje jejich očekávání?"}]
[null,null,null,null,{"$f":"'Technical page'!B545","v":"Q5.2"},{"$f":"'Technical page'!C545","v":2},{"$f":"VLOOKUP(E310,'Technical page'!$AU$544:$BD$548,4,0)","v":4},{"$f":"IF(G310=\"-\",\"n.a.\",IF(F310-G310>-1,\"compliant\",\"increase score\"))","v":"increase score"},null,{"$f":"VLOOKUP(E310,'Chapter 5'!$C$6:$D$89,2,0)","v":"Jakým způsobem vede organizace dialog s veřejností, úřady a dalšími zainteresovanými stranami, včetně místních komunit a zákazníků v souvislosti s HSE&S v rámci jejich činností, produktů a služeb?"}]
[null,null,null,null,{"$f":"'Technical page'!B546","v":"Q5.3"},{"$f":"'Technical page'!C546","v":2},{"$f":"VLOOKUP(E311,'Technical page'!$AU$544:$BD$548,4,0)","v":"-"},"n.a.",null,{"$f":"VLOOKUP(E311,'Chapter 5'!$C$6:$D$89,2,0)","v":"Jakým způsobem zveřejňuje organizace informace týkající se\n HSE&S?"}]
[null,null,null,null,{"$f":"'Technical page'!B547","v":"Q5.4"},{"$f":"'Technical page'!C547","v":3},{"$f":"VLOOKUP(E312,'Technical page'!$AU$544:$BD$548,4,0)","v":"-"},"n.a.",null,{"$f":"VLOOKUP(E312,'Chapter 5'!$C$6:$D$89,2,0)","v":"Jakým způsobem podporuje organizace místní komunity?"}]
[null,null,null,null,{"$f":"'Technical page'!B548","v":"Q5.5"},{"$f":"'Technical page'!C548","v":2},{"$f":"VLOOKUP(E313,'Technical page'!$AU$544:$BD$548,4,0)","v":"-"},"n.a.",null,{"$f":"VLOOKUP(E313,'Chapter 5'!$C$6:$D$89,2,0)","v":"Jakým způsobem stimuluje organizace místní zaměstnanost a vzdělávání?"}]
[null,null,null,null,"CHAPTER 6 : Contributing to sustainability"]
[null,null,null,null,{"$f":"'Technical page'!B584","v":"Q6.1"},{"$f":"'Technical page'!C584","v":2},{"$f":"VLOOKUP(E315,'Technical page'!$AU$584:$BD$600,4,0)","v":3},{"$f":"IF(G315=\"-\",\"n.a.\",IF(F315-G315>-1,\"compliant\",\"increase score\"))","v":"increase score"},null,{"$f":"VLOOKUP(E315,'Chapter 6'!$C$6:$D$120,2,0)","v":"Jakým způsobem definuje organizace významné problémy a závažnost?"}]
[null,null,null,null,{"$f":"'Technical page'!B585","v":"Q6.2"},{"$f":"'Technical page'!C585","v":1},{"$f":"VLOOKUP(E316,'Technical page'!$AU$584:$BD$600,4,0)","v":"-"},{"$f":"IF(G316=\"-\",\"n.a.\",IF(F316-G316>-1,\"compliant\",\"increase score\"))","v":"n.a."},null,{"$f":"VLOOKUP(E316,'Chapter 6'!$C$6:$D$120,2,0)","v":"Jakým způsobem hodlá organizace přispívat k udržitelnému rozvoji?"}]
[null,null,null,null,{"$f":"'Technical page'!B586","v":"Q6.3"},{"$f":"'Technical page'!C586","v":3},{"$f":"VLOOKUP(E317,'Technical page'!$AU$584:$BD$600,4,0)","v":4},"increase score",null,{"$f":"VLOOKUP(E317,'Chapter 6'!$C$6:$D$120,2,0)","v":"Jakým způsobem komunikuje organizace zainteresovaných stran na téma udržitelnosti?"}]
[null,null,null,null,{"$f":"'Technical page'!B587","v":"Q6.4"},{"$f":"'Technical page'!C587","v":2},{"$f":"VLOOKUP(E318,'Technical page'!$AU$584:$BD$600,4,0)","v":"-"},"n.a.",null,{"$f":"VLOOKUP(E318,'Chapter 6'!$C$6:$D$120,2,0)","v":"Má organizace zavedený proces navrhování výrobků s lepšími výsledky udržitelnosti?"}]
[null,null,null,null,{"$f":"'Technical page'!B588","v":"Q6.5"},{"$f":"'Technical page'!C588","v":2},{"$f":"VLOOKUP(E319,'Technical page'!$AU$584:$BD$600,4,0)","v":1},"compliant",null,{"$f":"VLOOKUP(E319,'Chapter 6'!$C$6:$D$120,2,0)","v":"Jakým způsobem zvyšuje organizace efektivnost zdrojů ve svých výrobních procesech?"}]
[null,null,null,null,{"$f":"'Technical page'!B589","v":"Q6.6"},{"$f":"'Technical page'!C589","v":1},{"$f":"VLOOKUP(E320,'Technical page'!$AU$584:$BD$600,4,0)","v":3},"increase score",null,{"$f":"VLOOKUP(E320,'Chapter 6'!$C$6:$D$120,2,0)","v":"Jakým způsobem stimuluje organizace oběhové hospodářství prostřednictvím svých produktů?"}]
[null,null,null,null,{"$f":"'Technical page'!B590","v":"Q6.7"},{"$f":"'Technical page'!C590","v":2},{"$f":"VLOOKUP(E321,'Technical page'!$AU$584:$BD$600,4,0)","v":"-"},"n.a.",null,{"$f":"VLOOKUP(E321,'Chapter 6'!$C$6:$D$120,2,0)","v":"Jakým způsobem podporuje organizace inovace při vývoji produktů a řešení, které odpovídají výzvám udržitelnosti?"}]
[null,null,null,null,{"$f":"'Technical page'!B591","v":"Q6.8"},{"$f":"'Technical page'!C591","v":3},{"$f":"VLOOKUP(E322,'Technical page'!$AU$584:$BD$600,4,0)","v":"-"},"n.a.",null,{"$f":"VLOOKUP(E322,'Chapter 6'!$C$6:$D$120,2,0)","v":"Jakým způsobem stimuluje organizace inovaci a spolupráci?"}]
[null,null,null,null,{"$f":"'Technical page'!B592","v":"Q6.9"},{"$f":"'Technical page'!C592","v":2},{"$f":"VLOOKUP(E323,'Technical page'!$AU$584:$BD$600,4,0)","v":"-"},"n.a.",null,{"$f":"VLOOKUP(E323,'Chapter 6'!$C$6:$D$120,2,0)","v":"Jakým způsobem podporuje organizace udržitelné způsoby spotřeby?"}]
[null,null,null,null,{"$f":"'Technical page'!B593","v":"Q6.10"},{"$f":"'Technical page'!C593","v":3},{"$f":"VLOOKUP(E324,'Technical page'!$AU$584:$BD$600,4,0)","v":"-"},"n.a.",null,{"$f":"VLOOKUP(E324,'Chapter 6'!$C$6:$D$120,2,0)","v":"Jakým způsobem organizace kontroluje a optimalizuje spotřebu vody?"}]
[null,null,null,null,{"$f":"'Technical page'!B594","v":"Q6.11"},{"$f":"'Technical page'!C594","v":1},{"$f":"VLOOKUP(E325,'Technical page'!$AU$584:$BD$600,4,0)","v":"-"},"n.a.",null,{"$f":"VLOOKUP(E325,'Chapter 6'!$C$6:$D$120,2,0)","v":"Jakým způsobem se řídí vliv organizace na biodiverzitu a ekosystém?"}]
[null,null,null,null,{"$f":"'Technical page'!B595","v":"Q6.12"},{"$f":"'Technical page'!C595","v":1},{"$f":"VLOOKUP(E326,'Technical page'!$AU$584:$BD$600,4,0)","v":"-"},"n.a.",null,{"$f":"VLOOKUP(E326,'Chapter 6'!$C$6:$D$120,2,0)","v":"Jakým způsobem posuzuje organizace svou závislost na přírodních zdrojích (ekosystémech)?"}]
[null,null,null,null,{"$f":"'Technical page'!B596","v":"Q6.13"},{"$f":"'Technical page'!C596","v":4},{"$f":"VLOOKUP(E327,'Technical page'!$AU$584:$BD$600,4,0)","v":"-"},"n.a.",null,{"$f":"VLOOKUP(E327,'Chapter 6'!$C$6:$D$120,2,0)","v":"Jakým způsobem řídí organizace svou spotřebu energie?"}]
[null,null,null,null,{"$f":"'Technical page'!B597","v":"Q6.14"},{"$f":"'Technical page'!C597","v":3},{"$f":"VLOOKUP(E328,'Technical page'!$AU$584:$BD$600,4,0)","v":"-"},"n.a.",null,{"$f":"VLOOKUP(E328,'Chapter 6'!$C$6:$D$120,2,0)","v":"Jakým způsobem řídí organizace emise skleníkových plynů (kromě úspor energie)?"}]
[null,null,null,null,{"$f":"'Technical page'!B598","v":"Q6.15"},{"$f":"'Technical page'!C598","v":2},{"$f":"VLOOKUP(E329,'Technical page'!$AU$584:$BD$600,4,0)","v":"-"},"n.a.",null,{"$f":"VLOOKUP(E329,'Chapter 6'!$C$6:$D$120,2,0)","v":"Jaká je strategie organizace na snižování emisí skleníkových plynů?"}]
[null,null,null,null,{"$f":"'Technical page'!B599","v":"Q6.16"},{"$f":"'Technical page'!C599","v":3},{"$f":"VLOOKUP(E330,'Technical page'!$AU$584:$BD$600,4,0)","v":3},"compliant",null,{"$f":"VLOOKUP(E330,'Chapter 6'!$C$6:$D$120,2,0)","v":"Jakým způsobem se organizace připravuje na klimatické změny? "}]
[null,null,null,null,{"$f":"'Technical page'!B600","v":"Q6.17"},{"$f":"'Technical page'!C600","v":2},{"$f":"VLOOKUP(E331,'Technical page'!$AU$584:$BD$600,4,0)","v":"-"},"n.a.",null,{"$f":"VLOOKUP(E331,'Chapter 6'!$C$6:$D$120,2,0)","v":"Jak organizace zajišťuje rovné příležitosti při náboru a během kariéry všech?"}]
[]
[null,null,"Report on distance to compliance with ISO 45001"]
[null,null,null,null,null,"Your score","Minimum score for ISO 45001"]
[null,null,null,null,"CHAPTER 1 : A corporate leadership culture"]
[null,null,null,null,{"$f":"'Technical page'!B10","v":"Q1.1"},{"$f":"'Technical page'!C10","v":3},{"$f":"VLOOKUP(E336,'Technical page'!$AU$10:$BD$25,5,0)","v":3},{"$f":"IF(G336=\"-\",\"n.a.\",IF(F336-G336>-1,\"compliant\",\"increase score\"))","v":"compliant"},null,{"$f":"VLOOKUP(E336,'Chapter 1'!$C$6:$D$112,2,0)","v":"Jak se projevuje závazek plnit povinnosti týkající se dodržování předpisů a zásad Responsible Care = RC (tj. ochrana a podpora zdraví a bezpečnost lidí, životního prostředí a udržitelnosti) na všech úrovních organizace?\n"}]
[null,null,null,null,{"$f":"'Technical page'!B11","v":"Q1.2"},{"$f":"'Technical page'!C11","v":3},{"$f":"VLOOKUP(E337,'Technical page'!$AU$10:$BD$25,5,0)","v":3},{"$f":"IF(G337=\"-\",\"n.a.\",IF(F337-G337>-1,\"compliant\",\"increase score\"))","v":"compliant"},null,{"$f":"VLOOKUP(E337,'Chapter 1'!$C$6:$D$112,2,0)","v":"Jakým způsobem řídí organizace příslušná rizika a příležitosti?  "}]
[null,null,null,null,{"$f":"'Technical page'!B12","v":"Q1.3"},{"$f":"'Technical page'!C12","v":2},{"$f":"VLOOKUP(E338,'Technical page'!$AU$10:$BD$25,5,0)","v":2},"compliant",null,{"$f":"VLOOKUP(E338,'Chapter 1'!$C$6:$D$112,2,0)","v":"Jakým způsobem monitoruje organizace svoje zákonné povinnosti? "}]
[null,null,null,null,{"$f":"'Technical page'!B13","v":"Q1.4"},{"$f":"'Technical page'!C13","v":2},{"$f":"VLOOKUP(E339,'Technical page'!$AU$10:$BD$25,5,0)","v":2},"compliant",null,{"$f":"VLOOKUP(E339,'Chapter 1'!$C$6:$D$112,2,0)","v":"Jakým způsobem top management zajišťuje, že jednotlivé aspekty HSE&S (zdraví, bezpečnosti, ochrany životního prostředí & udržitelnosti) jsou přiřazeny stanoveným rolím v organizaci?"}]
[null,null,null,null,{"$f":"'Technical page'!B14","v":"Q1.5"},{"$f":"'Technical page'!C14","v":3},{"$f":"VLOOKUP(E340,'Technical page'!$AU$10:$BD$25,5,0)","v":3},"compliant",null,{"$f":"VLOOKUP(E340,'Chapter 1'!$C$6:$D$112,2,0)","v":"Jakým způsobem se top management podílí na řešení záležitostí HSE&S?"}]
[null,null,null,null,{"$f":"'Technical page'!B15","v":"Q1.6"},{"$f":"'Technical page'!C15","v":3},{"$f":"VLOOKUP(E341,'Technical page'!$AU$10:$BD$25,5,0)","v":"-"},"n.a.",null,{"$f":"VLOOKUP(E341,'Chapter 1'!$C$6:$D$112,2,0)","v":"Jakým způsobem jsou odpovědnosti HSE&S začleněny do popisů pracovní náplně nebo ročních cílů?\n"}]
[null,null,null,null,{"$f":"'Technical page'!B16","v":"Q1.7"},{"$f":"'Technical page'!C16","v":4},{"$f":"VLOOKUP(E342,'Technical page'!$AU$10:$BD$25,5,0)","v":3},"compliant",null,{"$f":"VLOOKUP(E342,'Chapter 1'!$C$6:$D$112,2,0)","v":"Jakým způsobem se řídí (nejdůležitější) procesy v souvislosti s HSE&S?"}]
[null,null,null,null,{"$f":"'Technical page'!B17","v":"Q1.8"},{"$f":"'Technical page'!C17","v":3},{"$f":"VLOOKUP(E343,'Technical page'!$AU$10:$BD$25,5,0)","v":3},"compliant",null,{"$f":"VLOOKUP(E343,'Chapter 1'!$C$6:$D$112,2,0)","v":"Jakým způsobem top management zajišťuje neustálé zlepšování výkonu v oblasti HSE&S (zdraví, bezpečnosti, životního prostředí, energetiky a udržitelnosti)?"}]
[null,null,null,null,{"$f":"'Technical page'!B18","v":"Q1.9"},{"$f":"'Technical page'!C18","v":3},{"$f":"VLOOKUP(E344,'Technical page'!$AU$10:$BD$25,5,0)","v":3},"compliant",null,{"$f":"VLOOKUP(E344,'Chapter 1'!$C$6:$D$112,2,0)","v":"Jak jsou organizovány interní audity?"}]
[null,null,null,null,{"$f":"'Technical page'!B19","v":"Q1.10"},{"$f":"'Technical page'!C19","v":3},{"$f":"VLOOKUP(E345,'Technical page'!$AU$10:$BD$25,5,0)","v":3},"compliant",null,{"$f":"VLOOKUP(E345,'Chapter 1'!$C$6:$D$112,2,0)","v":"Jakým způsobem probíhá vyšetřování?"}]
[null,null,null,null,{"$f":"'Technical page'!B20","v":"Q1.11"},{"$f":"'Technical page'!C20","v":3},{"$f":"VLOOKUP(E346,'Technical page'!$AU$10:$BD$25,5,0)","v":3},"compliant",null,{"$f":"VLOOKUP(E346,'Chapter 1'!$C$6:$D$112,2,0)","v":"Jakým způsobem organizace zajišťuje procesy, čas a zdroje potřebné pro zlepšování procesů řízení HSE&S?"}]
[null,null,null,null,{"$f":"'Technical page'!B21","v":"Q1.12"},{"$f":"'Technical page'!C21","v":3},{"$f":"VLOOKUP(E347,'Technical page'!$AU$10:$BD$25,5,0)","v":3},"compliant",null,{"$f":"VLOOKUP(E347,'Chapter 1'!$C$6:$D$112,2,0)","v":"Jak organizace zajišťuje, že zaměstnanci jsou si vědomi politik a procesů týkajících se zdraví, bezpečnosti, životního prostředí, energetiky a udržitelnosti?"}]
[null,null,null,null,{"$f":"'Technical page'!B22","v":"Q1.13"},{"$f":"'Technical page'!C22","v":3},{"$f":"VLOOKUP(E348,'Technical page'!$AU$10:$BD$25,5,0)","v":3},"compliant",null,{"$f":"VLOOKUP(E348,'Chapter 1'!$C$6:$D$112,2,0)","v":"Jakým způsobem organizace zajišťuje správné kompetence pracovníků, pokud jde o aspekty HSE&S týkající se jejich práce?"}]
[null,null,null,null,{"$f":"'Technical page'!B23","v":"Q1.14"},{"$f":"'Technical page'!C23","v":3},{"$f":"VLOOKUP(E349,'Technical page'!$AU$10:$BD$25,5,0)","v":3},"compliant",null,{"$f":"VLOOKUP(E349,'Chapter 1'!$C$6:$D$112,2,0)","v":"Jaká je struktura zapojení zaměstnanců?"}]
[null,null,null,null,{"$f":"'Technical page'!B24","v":"Q1.15"},{"$f":"'Technical page'!C24","v":3},{"$f":"VLOOKUP(E350,'Technical page'!$AU$10:$BD$25,5,0)","v":3},"compliant",null,{"$f":"VLOOKUP(E350,'Chapter 1'!$C$6:$D$112,2,0)","v":"Jakým způsobem se řídí dokumentace HSE&S?"}]
[null,null,null,null,{"$f":"'Technical page'!B25","v":"Q1.16"},{"$f":"'Technical page'!C25","v":3},{"$f":"VLOOKUP(E351,'Technical page'!$AU$10:$BD$25,5,0)","v":3},"compliant",null,{"$f":"VLOOKUP(E351,'Chapter 1'!$C$6:$D$112,2,0)","v":"Jakým způsobem jsou řízeny změny potenciálně ovlivňující HSE&S (zdraví, bezpečnost, životní prostředí, energetiku a udržitelnost)?"}]
[null,null,null,null,"CHAPTER 2 : Safeguarding people and the environment"]
[null,null,null,null,{"$f":"'Technical page'!B124","v":"Q2.1"},{"$f":"'Technical page'!C124","v":3},{"$f":"VLOOKUP(E353,'Technical page'!$AU$124:$BD$168,5,0)","v":2},{"$f":"IF(G353=\"-\",\"n.a.\",IF(F353-G353>-1,\"compliant\",\"increase score\"))","v":"compliant"},null,{"$f":"VLOOKUP(E353,'Chapter 2'!$C$6:$D$282,2,0)","v":"Jak se management zavázal k ochraně zdraví a bezpečnosti při práci (dále jen \"BOZP\")?"}]
[null,null,null,null,{"$f":"'Technical page'!B125","v":"Q2.2"},{"$f":"'Technical page'!C125","v":2},{"$f":"VLOOKUP(E354,'Technical page'!$AU$124:$BD$168,5,0)","v":2},{"$f":"IF(G354=\"-\",\"n.a.\",IF(F354-G354>-1,\"compliant\",\"increase score\"))","v":"compliant"},null,{"$f":"VLOOKUP(E354,'Chapter 2'!$C$6:$D$282,2,0)","v":"Jakým způsobem se určují rizika a expozice v souvislosti s BOZP?"}]
[null,null,null,null,{"$f":"'Technical page'!B126","v":"Q2.3"},{"$f":"'Technical page'!C126","v":3},{"$f":"VLOOKUP(E355,'Technical page'!$AU$124:$BD$168,5,0)","v":3},"compliant",null,{"$f":"VLOOKUP(E355,'Chapter 2'!$C$6:$D$282,2,0)","v":"How are medical requirements evaluated?"}]
[null,null,null,null,{"$f":"'Technical page'!B127","v":"Q2.4"},{"$f":"'Technical page'!C127","v":3},{"$f":"VLOOKUP(E356,'Technical page'!$AU$124:$BD$168,5,0)","v":3},"compliant",null,{"$f":"VLOOKUP(E356,'Chapter 2'!$C$6:$D$282,2,0)","v":"Jakým způsobem zlepšuje organizace BOZP?"}]
[null,null,null,null,{"$f":"'Technical page'!B128","v":"Q2.5"},{"$f":"'Technical page'!C128","v":3},{"$f":"VLOOKUP(E357,'Technical page'!$AU$124:$BD$168,5,0)","v":3},"compliant",null,{"$f":"VLOOKUP(E357,'Chapter 2'!$C$6:$D$282,2,0)","v":"Jakým způsobem probíhá údržba a udržování pořádku s cílem zajistit bezpečnost provozů, zařízení, nástrojů a (bezpečnostních) pomůcek?"}]
[null,null,null,null,{"$f":"'Technical page'!B129","v":"Q2.6"},{"$f":"'Technical page'!C129","v":3},{"$f":"VLOOKUP(E358,'Technical page'!$AU$124:$BD$168,5,0)","v":3},"compliant",null,{"$f":"VLOOKUP(E358,'Chapter 2'!$C$6:$D$282,2,0)","v":"Jak se ověřuje správný výběr, údržba a používání zdravotního a bezpečnostního vybavení (např. osobních ochranných prostředků = OOPP)?"}]
[null,null,null,null,{"$f":"'Technical page'!B130","v":"Q2.7"},{"$f":"'Technical page'!C130","v":2},{"$f":"VLOOKUP(E359,'Technical page'!$AU$124:$BD$168,5,0)","v":3},"increase score",null,{"$f":"VLOOKUP(E359,'Chapter 2'!$C$6:$D$282,2,0)","v":"Jak se organizace stará o stres a tělesné a duševní zdraví zaměstnanců?"}]
[null,null,null,null,{"$f":"'Technical page'!B131","v":"Q2.8"},{"$f":"'Technical page'!C131","v":3},{"$f":"VLOOKUP(E360,'Technical page'!$AU$124:$BD$168,5,0)","v":3},"compliant",null,{"$f":"VLOOKUP(E360,'Chapter 2'!$C$6:$D$282,2,0)","v":"Jakým způsobem se vyšetřují onemocnění, zranění, incidenty a potenciálně nebezpečné situace na pracovišti?"}]
[null,null,null,null,{"$f":"'Technical page'!B132","v":"Q2.9"},{"$f":"'Technical page'!C132","v":3},{"$f":"VLOOKUP(E361,'Technical page'!$AU$124:$BD$168,5,0)","v":3},"compliant",null,{"$f":"VLOOKUP(E361,'Chapter 2'!$C$6:$D$282,2,0)","v":"Jak je organizace připravena na mimořádné události?"}]
[null,null,null,null,{"$f":"'Technical page'!B133","v":"Q2.10"},{"$f":"'Technical page'!C133","v":3},{"$f":"VLOOKUP(E362,'Technical page'!$AU$124:$BD$168,5,0)","v":3},"compliant",null,{"$f":"VLOOKUP(E362,'Chapter 2'!$C$6:$D$282,2,0)","v":"Jakým způsobem zajišťuje organizace správně kompetence všech pracovníků, týkající se požadavků BOZP, které souvisí s jejich pracovní náplní?"}]
[null,null,null,null,{"$f":"'Technical page'!B134","v":"Q2.11"},{"$f":"'Technical page'!C134","v":3},{"$f":"VLOOKUP(E363,'Technical page'!$AU$124:$BD$168,5,0)","v":"-"},"n.a.",null,{"$f":"VLOOKUP(E363,'Chapter 2'!$C$6:$D$282,2,0)","v":"Jakým způsobem se vedení staví k procesní bezpečnosti?\n\n"}]
[null,null,null,null,{"$f":"'Technical page'!B135","v":"Q2.12"},{"$f":"'Technical page'!C135","v":2},{"$f":"VLOOKUP(E364,'Technical page'!$AU$124:$BD$168,5,0)","v":"-"},"n.a.",null,{"$f":"VLOOKUP(E364,'Chapter 2'!$C$6:$D$282,2,0)","v":"Jakým způsobem je vypracována identifikace a popis bezpečnosti procesů, zařízení a pracovišť organizace?"}]
[null,null,null,null,{"$f":"'Technical page'!B136","v":"Q2.13"},{"$f":"'Technical page'!C136","v":1},{"$f":"VLOOKUP(E365,'Technical page'!$AU$124:$BD$168,5,0)","v":"-"},"n.a.",null,{"$f":"VLOOKUP(E365,'Chapter 2'!$C$6:$D$282,2,0)","v":"Jakým způsobem se zlepšuje procesní bezpečnost po nehodách a incidentech?"}]
[null,null,null,null,{"$f":"'Technical page'!B137","v":"Q2.14"},{"$f":"'Technical page'!C137","v":2},{"$f":"VLOOKUP(E366,'Technical page'!$AU$124:$BD$168,5,0)","v":"-"},"n.a.",null,{"$f":"VLOOKUP(E366,'Chapter 2'!$C$6:$D$282,2,0)","v":"Jakým způsobem se provádějí audity a inspekce procesní bezpečnosti?"}]
[null,null,null,null,{"$f":"'Technical page'!B138","v":"Q2.15"},{"$f":"'Technical page'!C138","v":3},{"$f":"VLOOKUP(E367,'Technical page'!$AU$124:$BD$168,5,0)","v":"-"},"n.a.",null,{"$f":"VLOOKUP(E367,'Chapter 2'!$C$6:$D$282,2,0)","v":"Jakým způsobem se prověřují a zlepšují pracovní pokyny?"}]
[null,null,null,null,{"$f":"'Technical page'!B139","v":"Q2.16"},{"$f":"'Technical page'!C139","v":3},{"$f":"VLOOKUP(E368,'Technical page'!$AU$124:$BD$168,5,0)","v":"-"},"n.a.",null,{"$f":"VLOOKUP(E368,'Chapter 2'!$C$6:$D$282,2,0)","v":"Jak je navrhována a dokumnetována instalace nových zařízení?"}]
[null,null,null,null,{"$f":"'Technical page'!B140","v":"Q2.17"},{"$f":"'Technical page'!C140","v":4},{"$f":"VLOOKUP(E369,'Technical page'!$AU$124:$BD$168,5,0)","v":"-"},"n.a.",null,{"$f":"VLOOKUP(E369,'Chapter 2'!$C$6:$D$282,2,0)","v":"Jakým způsobem probíhá kontrola zřizování instalace?"}]
[null,null,null,null,{"$f":"'Technical page'!B141","v":"Q2.18"},{"$f":"'Technical page'!C141","v":3},{"$f":"VLOOKUP(E370,'Technical page'!$AU$124:$BD$168,5,0)","v":"-"},"n.a.",null,{"$f":"VLOOKUP(E370,'Chapter 2'!$C$6:$D$282,2,0)","v":"Jakým způsobem je zaručena ochrana zařízení, aby jediná chyba neměla katastrofické následky?"}]
[null,null,null,null,{"$f":"'Technical page'!B142","v":"Q2.19"},{"$f":"'Technical page'!C142","v":3},{"$f":"VLOOKUP(E371,'Technical page'!$AU$124:$BD$168,5,0)","v":"-"},"n.a.",null,{"$f":"VLOOKUP(E371,'Chapter 2'!$C$6:$D$282,2,0)","v":"Byly zřízeny programy preventivní údržby a péče, které zaručují bezpečnost provozů, nástrojů a zařízení?"}]
[null,null,null,null,{"$f":"'Technical page'!B143","v":"Q2.20"},{"$f":"'Technical page'!C143","v":4},{"$f":"VLOOKUP(E372,'Technical page'!$AU$124:$BD$168,5,0)","v":"-"},"n.a.",null,{"$f":"VLOOKUP(E372,'Chapter 2'!$C$6:$D$282,2,0)","v":"Jakým způsobem se řídí procesy během mimořádných událostí v případě přerušení dodávky energie nebo služeb?"}]
[null,null,null,null,{"$f":"'Technical page'!B144","v":"Q2.21"},{"$f":"'Technical page'!C144","v":2},{"$f":"VLOOKUP(E373,'Technical page'!$AU$124:$BD$168,5,0)","v":"-"},"n.a.",null,{"$f":"VLOOKUP(E373,'Chapter 2'!$C$6:$D$282,2,0)","v":"Jak se připravují havarijní plány?"}]
[null,null,null,null,{"$f":"'Technical page'!B145","v":"Q2.22"},{"$f":"'Technical page'!C145","v":2},{"$f":"VLOOKUP(E374,'Technical page'!$AU$124:$BD$168,5,0)","v":"-"},"n.a.",null,{"$f":"VLOOKUP(E374,'Chapter 2'!$C$6:$D$282,2,0)","v":"Jakým způsobem jsou zabezpečeny kompetence a školení zaměstnanců a dodavatelů zapojených do procesů?"}]
[null,null,null,null,{"$f":"'Technical page'!B146","v":"Q2.23"},{"$f":"'Technical page'!C146","v":4},{"$f":"VLOOKUP(E375,'Technical page'!$AU$124:$BD$168,5,0)","v":"-"},"n.a.",null,{"$f":"VLOOKUP(E375,'Chapter 2'!$C$6:$D$282,2,0)","v":"Jakým způsobem se sdílejí informace o rizicích látek a přípravků?"}]
[null,null,null,null,{"$f":"'Technical page'!B147","v":"Q2.24"},{"$f":"'Technical page'!C147","v":4},{"$f":"VLOOKUP(E376,'Technical page'!$AU$124:$BD$168,5,0)","v":"-"},"n.a.",null,{"$f":"VLOOKUP(E376,'Chapter 2'!$C$6:$D$282,2,0)","v":"Jak se sdílejí informace o procesu?"}]
[null,null,null,null,{"$f":"'Technical page'!B148","v":"Q2.25"},{"$f":"'Technical page'!C148","v":3},{"$f":"VLOOKUP(E377,'Technical page'!$AU$124:$BD$168,5,0)","v":"-"},"n.a.",null,{"$f":"VLOOKUP(E377,'Chapter 2'!$C$6:$D$282,2,0)","v":"Jakým způsobem organizace hodnotí své logistické partnery z hlediska HSE&S, energetické účinnosti a emisí skleníkových plynů?"}]
[null,null,null,null,{"$f":"'Technical page'!B149","v":"Q2.26"},{"$f":"'Technical page'!C149","v":3},{"$f":"VLOOKUP(E378,'Technical page'!$AU$124:$BD$168,5,0)","v":"-"},"n.a.",null,{"$f":"VLOOKUP(E378,'Chapter 2'!$C$6:$D$282,2,0)","v":"Jakým způsobem organizace zabraňuje a reaguje na dopravní nehody?"}]
[null,null,null,null,{"$f":"'Technical page'!B150","v":"Q2.27"},{"$f":"'Technical page'!C150","v":2},{"$f":"VLOOKUP(E379,'Technical page'!$AU$124:$BD$168,5,0)","v":"-"},"n.a.",null,{"$f":"VLOOKUP(E379,'Chapter 2'!$C$6:$D$282,2,0)","v":"Jakým způsobem organizace identifikuje bezpečnostní problémy?"}]
[null,null,null,null,{"$f":"'Technical page'!B151","v":"Q2.28"},{"$f":"'Technical page'!C151","v":3},{"$f":"VLOOKUP(E380,'Technical page'!$AU$124:$BD$168,5,0)","v":"-"},"n.a.",null,{"$f":"VLOOKUP(E380,'Chapter 2'!$C$6:$D$282,2,0)","v":"Jakým způsobem se kontroluje příchod a odchod pracovníků a materiálu na pracovišti a v oblastech s omezeným vstupem?"}]
[null,null,null,null,{"$f":"'Technical page'!B152","v":"Q2.29"},{"$f":"'Technical page'!C152","v":3},{"$f":"VLOOKUP(E381,'Technical page'!$AU$124:$BD$168,5,0)","v":"-"},"n.a.",null,{"$f":"VLOOKUP(E381,'Chapter 2'!$C$6:$D$282,2,0)","v":"Jakým způsobem se kontroluje kybernetická bezpečnost?"}]
[null,null,null,null,{"$f":"'Technical page'!B153","v":"Q2.30"},{"$f":"'Technical page'!C153","v":2},{"$f":"VLOOKUP(E382,'Technical page'!$AU$124:$BD$168,5,0)","v":"-"},"n.a.",null,{"$f":"VLOOKUP(E382,'Chapter 2'!$C$6:$D$282,2,0)","v":"Jakým způsobem probíhá komunikace a výměna informací v případě bezpečnostní krize?"}]
[null,null,null,null,{"$f":"'Technical page'!B154","v":"Q2.31"},{"$f":"'Technical page'!C154","v":1},{"$f":"VLOOKUP(E383,'Technical page'!$AU$124:$BD$168,5,0)","v":"-"},"n.a.",null,{"$f":"VLOOKUP(E383,'Chapter 2'!$C$6:$D$282,2,0)","v":"Jak se organizace vyrovnává s podezřelým chováním (včetně rizik radikalizace = souhlas a podopra extrémních názorů)"}]
[null,null,null,null,{"$f":"'Technical page'!B155","v":"Q2.32"},{"$f":"'Technical page'!C155","v":2},{"$f":"VLOOKUP(E384,'Technical page'!$AU$124:$BD$168,5,0)","v":"-"},"n.a.",null,{"$f":"VLOOKUP(E384,'Chapter 2'!$C$6:$D$282,2,0)","v":"Jakým způsobem školí organizace pracovníky v oblasti ostrahy ve vazbě na bezpečnostní rizika?  "}]
[null,null,null,null,{"$f":"'Technical page'!B156","v":"Q2.33"},{"$f":"'Technical page'!C156","v":3},{"$f":"VLOOKUP(E385,'Technical page'!$AU$124:$BD$168,5,0)","v":"-"},"n.a.",null,{"$f":"VLOOKUP(E385,'Chapter 2'!$C$6:$D$282,2,0)","v":"Jakým způsobem se posuzuje potenciální vliv organizace na životní prostředí?"}]
[null,null,null,null,{"$f":"'Technical page'!B157","v":"Q2.34"},{"$f":"'Technical page'!C157","v":4},{"$f":"VLOOKUP(E386,'Technical page'!$AU$124:$BD$168,5,0)","v":"-"},"n.a.",null,{"$f":"VLOOKUP(E386,'Chapter 2'!$C$6:$D$282,2,0)","v":"Jakým způsobem se řídí environmentální výkonnost?"}]
[null,null,null,null,{"$f":"'Technical page'!B158","v":"Q2.35"},{"$f":"'Technical page'!C158","v":3},{"$f":"VLOOKUP(E387,'Technical page'!$AU$124:$BD$168,5,0)","v":"-"},"n.a.",null,{"$f":"VLOOKUP(E387,'Chapter 2'!$C$6:$D$282,2,0)","v":"Jak organizace nakládá s odpadem?"}]
[null,null,null,null,{"$f":"'Technical page'!B159","v":"Q2.36"},{"$f":"'Technical page'!C159","v":3},{"$f":"VLOOKUP(E388,'Technical page'!$AU$124:$BD$168,5,0)","v":"-"},"n.a.",null,{"$f":"VLOOKUP(E388,'Chapter 2'!$C$6:$D$282,2,0)","v":"Jakým způsobem řídí organizace rizika týkající se podzemních vod?"}]
[null,null,null,null,{"$f":"'Technical page'!B160","v":"Q2.37"},{"$f":"'Technical page'!C160","v":3},{"$f":"VLOOKUP(E389,'Technical page'!$AU$124:$BD$168,5,0)","v":"-"},"n.a.",null,{"$f":"VLOOKUP(E389,'Chapter 2'!$C$6:$D$282,2,0)","v":"Jakým způsobem řídí organizace rizika týkající se znečištění půdy?"}]
[null,null,null,null,{"$f":"'Technical page'!B161","v":"Q2.38"},{"$f":"'Technical page'!C161","v":3},{"$f":"VLOOKUP(E390,'Technical page'!$AU$124:$BD$168,5,0)","v":"-"},"n.a.",null,{"$f":"VLOOKUP(E390,'Chapter 2'!$C$6:$D$282,2,0)","v":"Jakým způsobem řídí organizace existující znečištění půdy?\n"}]
[null,null,null,null,{"$f":"'Technical page'!B162","v":"Q2.39"},{"$f":"'Technical page'!C162","v":3},{"$f":"VLOOKUP(E391,'Technical page'!$AU$124:$BD$168,5,0)","v":"-"},"n.a.",null,{"$f":"VLOOKUP(E391,'Chapter 2'!$C$6:$D$282,2,0)","v":"Jakým způsobem organizace řídí své emise škodlivin do ovzduší?"}]
[null,null,null,null,{"$f":"'Technical page'!B163","v":"Q2.40"},{"$f":"'Technical page'!C163","v":3},{"$f":"VLOOKUP(E392,'Technical page'!$AU$124:$BD$168,5,0)","v":"-"},"n.a.",null,{"$f":"VLOOKUP(E392,'Chapter 2'!$C$6:$D$282,2,0)","v":"Jakým způsobem organizace řídí své emise škodlivin do vody?"}]
[null,null,null,null,{"$f":"'Technical page'!B164","v":"Q2.41"},{"$f":"'Technical page'!C164","v":3},{"$f":"VLOOKUP(E393,'Technical page'!$AU$124:$BD$168,5,0)","v":"-"},"n.a.",null,{"$f":"VLOOKUP(E393,'Chapter 2'!$C$6:$D$282,2,0)","v":"Jakým způsobem organizace řídí své emise hluku?"}]
[null,null,null,null,{"$f":"'Technical page'!B165","v":"Q2.42"},{"$f":"'Technical page'!C165","v":3},{"$f":"VLOOKUP(E394,'Technical page'!$AU$124:$BD$168,5,0)","v":"-"},"n.a.",null,{"$f":"VLOOKUP(E394,'Chapter 2'!$C$6:$D$282,2,0)","v":"Jakým způsobem organizace řídí své emise zápachu?"}]
[null,null,null,null,{"$f":"'Technical page'!B166","v":"Q2.43"},{"$f":"'Technical page'!C166","v":3},{"$f":"VLOOKUP(E395,'Technical page'!$AU$124:$BD$168,5,0)","v":"-"},"n.a.",null,{"$f":"VLOOKUP(E395,'Chapter 2'!$C$6:$D$282,2,0)","v":"Jakým způsobem organizace zabraňuje a řídí havarijní emise do prostředí?"}]
[null,null,null,null,{"$f":"'Technical page'!B167","v":"Q2.44"},{"$f":"'Technical page'!C167","v":3},{"$f":"VLOOKUP(E396,'Technical page'!$AU$124:$BD$168,5,0)","v":"-"},"n.a.",null,{"$f":"VLOOKUP(E396,'Chapter 2'!$C$6:$D$282,2,0)","v":"Jakým způsobem zajišťuje organizace správně kompetence všech pracovníků, týkající se environmentálních požadavků, které souvisejí s jejich pracovní náplní?"}]
[null,null,null,null,{"$f":"'Technical page'!B168","v":"Q2.45"},{"$f":"'Technical page'!C168","v":1},{"$f":"VLOOKUP(E397,'Technical page'!$AU$124:$BD$168,5,0)","v":"-"},"n.a.",null,{"$f":"VLOOKUP(E397,'Chapter 2'!$C$6:$D$282,2,0)","v":"Jakým způsobem jsou zainteresované strany organizace informovány o environmentálních aspektech a jejich možných dopadech?"}]
[null,null,null,null,"CHAPTER 3 : Strengthening chemicals management systems"]
[null,null,null,null,{"$f":"'Technical page'!$B$406","v":"Q3.1"},{"$f":"'Technical page'!$C$406","v":4},{"$f":"VLOOKUP(E399,'Technical page'!$AU$406:$BD$418,5,0)","v":"-"},{"$f":"IF(G399=\"-\",\"n.a.\",IF(F399-G399>-1,\"compliant\",\"increase score\"))","v":"n.a."},null,{"$f":"VLOOKUP(E399,'Chapter 3'!$C$6:$D$89,2,0)","v":"Zavedla organizace proces pro navrhování a vývoj nových \nproduktů a služeb?"}]
[null,null,null,null,{"$f":"'Technical page'!$B$407","v":"Q3.2"},{"$f":"'Technical page'!$C$407","v":2},{"$f":"VLOOKUP(E400,'Technical page'!$AU$406:$BD$418,5,0)","v":"-"},"n.a.",null,{"$f":"VLOOKUP(E400,'Chapter 3'!$C$6:$D$89,2,0)","v":"Má organizace k dispozici proces hodnocení a stanovení priorit svých produktů pro charakterizaci rizik a řízení rizik?\n\n\n"}]
[null,null,null,null,{"$f":"'Technical page'!$B$408","v":"Q3.3"},{"$f":"'Technical page'!$C$408","v":4},{"$f":"VLOOKUP(E401,'Technical page'!$AU$406:$BD$418,5,0)","v":"-"},"n.a.",null,{"$f":"VLOOKUP(E401,'Chapter 3'!$C$6:$D$89,2,0)","v":"Zavedla organizace systém pro sledování použitelnosti, změn a dodržování interních a externích požadavků souvisejících s řízením bezpečnosti chemických látek?"}]
[null,null,null,null,{"$f":"'Technical page'!$B$409","v":"Q3.4"},{"$f":"'Technical page'!$C$409","v":2},{"$f":"VLOOKUP(E402,'Technical page'!$AU$406:$BD$418,5,0)","v":"-"},"n.a.",null,{"$f":"VLOOKUP(E402,'Chapter 3'!$C$6:$D$89,2,0)","v":"Zavedla organizace systém na správu existujících informací o rizicích svých produktů?"}]
[null,null,null,null,{"$f":"'Technical page'!$B$410","v":"Q3.5"},{"$f":"'Technical page'!$C$410","v":1},{"$f":"VLOOKUP(E403,'Technical page'!$AU$406:$BD$418,5,0)","v":"-"},"n.a.",null,{"$f":"VLOOKUP(E403,'Chapter 3'!$C$6:$D$89,2,0)","v":"Zavedla organizace proces řízení informací o používání a expozici svých produktů?"}]
[null,null,null,null,{"$f":"'Technical page'!$B$411","v":"Q3.6"},{"$f":"'Technical page'!$C$411","v":1},{"$f":"VLOOKUP(E404,'Technical page'!$AU$406:$BD$418,5,0)","v":"-"},"n.a.",null,{"$f":"VLOOKUP(E404,'Chapter 3'!$C$6:$D$89,2,0)","v":"Zavedla organizace proces na správu nových informací?"}]
[null,null,null,null,{"$f":"'Technical page'!$B$412","v":"Q3.7"},{"$f":"'Technical page'!$C$412","v":2},{"$f":"VLOOKUP(E405,'Technical page'!$AU$406:$BD$418,5,0)","v":"-"},"n.a.",null,{"$f":"VLOOKUP(E405,'Chapter 3'!$C$6:$D$89,2,0)","v":"Zavedla organizace proces charakterizace rizik na základě shromážděných informací?"}]
[null,null,null,null,{"$f":"'Technical page'!$B$413","v":"Q3.8"},{"$f":"'Technical page'!$C$413","v":1},{"$f":"VLOOKUP(E406,'Technical page'!$AU$406:$BD$418,5,0)","v":"-"},"n.a.",null,{"$f":"VLOOKUP(E406,'Chapter 3'!$C$6:$D$89,2,0)","v":"Zavedla organizace proces řízení rizik na základě shromážděných informací?"}]
[null,null,null,null,{"$f":"'Technical page'!$B$414","v":"Q3.9"},{"$f":"'Technical page'!$C$414","v":3},{"$f":"VLOOKUP(E407,'Technical page'!$AU$406:$BD$418,5,0)","v":"-"},"n.a.",null,{"$f":"VLOOKUP(E407,'Chapter 3'!$C$6:$D$89,2,0)","v":"Zavedla organizace účinný proces sledování svých produktů po dodání a provádění nápravných opatření?\n"}]
[null,null,null,null,{"$f":"'Technical page'!$B$415","v":"Q3.10"},{"$f":"'Technical page'!$C$415","v":3},{"$f":"VLOOKUP(E408,'Technical page'!$AU$406:$BD$418,5,0)","v":"-"},"n.a.",null,{"$f":"VLOOKUP(E408,'Chapter 3'!$C$6:$D$89,2,0)","v":"Poskytuje organizace efektivní komunikaci v rámci dodavatelského řetězce ohledně opatření k řízení rizik, které se vztahují na jejich produkty?"}]
[null,null,null,null,"CHAPTER 4 : Influencing business partners"]
[null,null,null,null,{"$f":"'Technical page'!B482","v":"Q4.1"},{"$f":"'Technical page'!C482","v":3},{"$f":"VLOOKUP(E410,'Technical page'!$AU$482:$BD$489,5,0)","v":"-"},{"$f":"IF(G410=\"-\",\"n.a.\",IF(F410-G410>-1,\"compliant\",\"increase score\"))","v":"n.a."},null,{"$f":"VLOOKUP(E410,'Chapter 4'!$C$6:$D$91,2,0)","v":"Jak se organizace zavázala k odpovědnému získávání zdrojů?"}]
[null,null,null,null,{"$f":"'Technical page'!B483","v":"Q4.2"},{"$f":"'Technical page'!C483","v":2},{"$f":"VLOOKUP(E411,'Technical page'!$AU$482:$BD$489,5,0)","v":"-"},{"$f":"IF(G411=\"-\",\"n.a.\",IF(F411-G411>-1,\"compliant\",\"increase score\"))","v":"n.a."},null,{"$f":"VLOOKUP(E411,'Chapter 4'!$C$6:$D$91,2,0)","v":"Jak organizace zlepšuje spolupráci v dodavatelském řetězci?"}]
[null,null,null,null,{"$f":"'Technical page'!B484","v":"Q4.3"},{"$f":"'Technical page'!C484","v":3},{"$f":"VLOOKUP(E412,'Technical page'!$AU$482:$BD$489,5,0)","v":"-"},"n.a.",null,{"$f":"VLOOKUP(E412,'Chapter 4'!$C$6:$D$91,2,0)","v":"Jakým způsobem vyjadřuje organizace svůj závazek vůči podnikatelské etice?"}]
[null,null,null,null,{"$f":"'Technical page'!B485","v":"Q4.4"},{"$f":"'Technical page'!C485","v":1},{"$f":"VLOOKUP(E413,'Technical page'!$AU$482:$BD$489,5,0)","v":"-"},"n.a.",null,{"$f":"VLOOKUP(E413,'Chapter 4'!$C$6:$D$91,2,0)","v":"Jakým způsobem řeší organizace sociální problematiku a lidská práva v rámci spolupráce s obchodními partnery?"}]
[null,null,null,null,{"$f":"'Technical page'!B486","v":"Q4.5"},{"$f":"'Technical page'!C486","v":4},{"$f":"VLOOKUP(E414,'Technical page'!$AU$482:$BD$489,5,0)","v":"-"},"n.a.",null,{"$f":"VLOOKUP(E414,'Chapter 4'!$C$6:$D$91,2,0)","v":"Jakým způsobem zabraňuje organizace dětské práci?\nOrganizace\n1-\tzavedla systém ověřování věku; \n2-\tnezaměstnává děti mladší 15 let (v závislosti na místní legislativy). Jedinou výjimku představují učni, školní praxe nebo vzdělávací stáže; \n3-\tzaručuje, aby pracovní náplň osob mladších než 18 let neovlivňovala jejich školní docházku (doba strávená dopravou do práce a školy a z práce a školy, školní docházkou a prací je méně než 10 hodin denně );\n4-\tzajišťuje, že pracovní náplň mladých pracovníků není duševně, fyzicky, společensky ani morálně nebezpečná a škodlivá."}]
[null,null,null,null,{"$f":"'Technical page'!B487","v":"Q4.6"},{"$f":"'Technical page'!C487","v":3},{"$f":"VLOOKUP(E415,'Technical page'!$AU$482:$BD$489,5,0)","v":3},"compliant",null,{"$f":"VLOOKUP(E415,'Chapter 4'!$C$6:$D$91,2,0)","v":"Jakým způsobem zabezpečuje organizace splnění svých požadavků ze strany logistických partnerů?"}]
[null,null,null,null,{"$f":"'Technical page'!B488","v":"Q4.7"},{"$f":"'Technical page'!C488","v":3},{"$f":"VLOOKUP(E416,'Technical page'!$AU$482:$BD$489,5,0)","v":"-"},"n.a.",null,{"$f":"VLOOKUP(E416,'Chapter 4'!$C$6:$D$91,2,0)","v":"Jakým způsobem organizace chrání a zabezpečuje majetek a údaje následných uživatelů nebo externích poskytovatelů, které se používají nebo začleňují do produktů a služeb?"}]
[null,null,null,null,{"$f":"'Technical page'!B489","v":"Q4.8"},{"$f":"'Technical page'!C489","v":4},{"$f":"VLOOKUP(E417,'Technical page'!$AU$482:$BD$489,5,0)","v":"-"},"n.a.",null,{"$f":"VLOOKUP(E417,'Chapter 4'!$C$6:$D$91,2,0)","v":"Co zahrnuje dialog s následnými uživateli?"}]
[null,null,null,null,"CHAPTER 5 : Engaging stakeholders"]
[null,null,null,null,{"$f":"'Technical page'!B544","v":"Q5.1"},{"$f":"'Technical page'!C544","v":3},{"$f":"VLOOKUP(E419,'Technical page'!$AU$544:$BD$548,5,0)","v":3},"compliant",null,{"$f":"VLOOKUP(E419,'Chapter 5'!$C$6:$D$89,2,0)","v":"Jakým způsobem zapojuje organizace své externí zainteresované strany a naplňuje jejich očekávání?"}]
[null,null,null,null,{"$f":"'Technical page'!B545","v":"Q5.2"},{"$f":"'Technical page'!C545","v":2},{"$f":"VLOOKUP(E420,'Technical page'!$AU$544:$BD$548,5,0)","v":"-"},{"$f":"IF(G420=\"-\",\"n.a.\",IF(F420-G420>-1,\"compliant\",\"increase score\"))","v":"n.a."},null,{"$f":"VLOOKUP(E420,'Chapter 5'!$C$6:$D$89,2,0)","v":"Jakým způsobem vede organizace dialog s veřejností, úřady a dalšími zainteresovanými stranami, včetně místních komunit a zákazníků v souvislosti s HSE&S v rámci jejich činností, produktů a služeb?"}]
[null,null,null,null,{"$f":"'Technical page'!B546","v":"Q5.3"},{"$f":"'Technical page'!C546","v":2},{"$f":"VLOOKUP(E421,'Technical page'!$AU$544:$BD$548,5,0)","v":"-"},"n.a.",null,{"$f":"VLOOKUP(E421,'Chapter 5'!$C$6:$D$89,2,0)","v":"Jakým způsobem zveřejňuje organizace informace týkající se\n HSE&S?"}]
[null,null,null,null,{"$f":"'Technical page'!B547","v":"Q5.4"},{"$f":"'Technical page'!C547","v":3},{"$f":"VLOOKUP(E422,'Technical page'!$AU$544:$BD$548,5,0)","v":"-"},"n.a.",null,{"$f":"VLOOKUP(E422,'Chapter 5'!$C$6:$D$89,2,0)","v":"Jakým způsobem podporuje organizace místní komunity?"}]
[null,null,null,null,{"$f":"'Technical page'!B548","v":"Q5.5"},{"$f":"'Technical page'!C548","v":2},{"$f":"VLOOKUP(E423,'Technical page'!$AU$544:$BD$548,5,0)","v":"-"},"n.a.",null,{"$f":"VLOOKUP(E423,'Chapter 5'!$C$6:$D$89,2,0)","v":"Jakým způsobem stimuluje organizace místní zaměstnanost a vzdělávání?"}]
[null,null,null,null,"CHAPTER 6 : Contributing to sustainability"]
[null,null,null,null,{"$f":"'Technical page'!B584","v":"Q6.1"},{"$f":"'Technical page'!C584","v":2},{"$f":"VLOOKUP(E425,'Technical page'!$AU$584:$BD$600,5,0)","v":"-"},{"$f":"IF(G425=\"-\",\"n.a.\",IF(F425-G425>-1,\"compliant\",\"increase score\"))","v":"n.a."},null,{"$f":"VLOOKUP(E425,'Chapter 6'!$C$6:$D$120,2,0)","v":"Jakým způsobem definuje organizace významné problémy a závažnost?"}]
[null,null,null,null,{"$f":"'Technical page'!B585","v":"Q6.2"},{"$f":"'Technical page'!C585","v":1},{"$f":"VLOOKUP(E426,'Technical page'!$AU$584:$BD$600,5,0)","v":"-"},{"$f":"IF(G426=\"-\",\"n.a.\",IF(F426-G426>-1,\"compliant\",\"increase score\"))","v":"n.a."},null,{"$f":"VLOOKUP(E426,'Chapter 6'!$C$6:$D$120,2,0)","v":"Jakým způsobem hodlá organizace přispívat k udržitelnému rozvoji?"}]
[null,null,null,null,{"$f":"'Technical page'!B586","v":"Q6.3"},{"$f":"'Technical page'!C586","v":3},{"$f":"VLOOKUP(E427,'Technical page'!$AU$584:$BD$600,5,0)","v":"-"},"n.a.",null,{"$f":"VLOOKUP(E427,'Chapter 6'!$C$6:$D$120,2,0)","v":"Jakým způsobem komunikuje organizace zainteresovaných stran na téma udržitelnosti?"}]
[null,null,null,null,{"$f":"'Technical page'!B587","v":"Q6.4"},{"$f":"'Technical page'!C587","v":2},{"$f":"VLOOKUP(E428,'Technical page'!$AU$584:$BD$600,5,0)","v":"-"},"n.a.",null,{"$f":"VLOOKUP(E428,'Chapter 6'!$C$6:$D$120,2,0)","v":"Má organizace zavedený proces navrhování výrobků s lepšími výsledky udržitelnosti?"}]
[null,null,null,null,{"$f":"'Technical page'!B588","v":"Q6.5"},{"$f":"'Technical page'!C588","v":2},{"$f":"VLOOKUP(E429,'Technical page'!$AU$584:$BD$600,5,0)","v":"-"},"n.a.",null,{"$f":"VLOOKUP(E429,'Chapter 6'!$C$6:$D$120,2,0)","v":"Jakým způsobem zvyšuje organizace efektivnost zdrojů ve svých výrobních procesech?"}]
[null,null,null,null,{"$f":"'Technical page'!B589","v":"Q6.6"},{"$f":"'Technical page'!C589","v":1},{"$f":"VLOOKUP(E430,'Technical page'!$AU$584:$BD$600,5,0)","v":"-"},"n.a.",null,{"$f":"VLOOKUP(E430,'Chapter 6'!$C$6:$D$120,2,0)","v":"Jakým způsobem stimuluje organizace oběhové hospodářství prostřednictvím svých produktů?"}]
[null,null,null,null,{"$f":"'Technical page'!B590","v":"Q6.7"},{"$f":"'Technical page'!C590","v":2},{"$f":"VLOOKUP(E431,'Technical page'!$AU$584:$BD$600,5,0)","v":"-"},"n.a.",null,{"$f":"VLOOKUP(E431,'Chapter 6'!$C$6:$D$120,2,0)","v":"Jakým způsobem podporuje organizace inovace při vývoji produktů a řešení, které odpovídají výzvám udržitelnosti?"}]
[null,null,null,null,{"$f":"'Technical page'!B591","v":"Q6.8"},{"$f":"'Technical page'!C591","v":3},{"$f":"VLOOKUP(E432,'Technical page'!$AU$584:$BD$600,5,0)","v":"-"},"n.a.",null,{"$f":"VLOOKUP(E432,'Chapter 6'!$C$6:$D$120,2,0)","v":"Jakým způsobem stimuluje organizace inovaci a spolupráci?"}]
[null,null,null,null,{"$f":"'Technical page'!B592","v":"Q6.9"},{"$f":"'Technical page'!C592","v":2},{"$f":"VLOOKUP(E433,'Technical page'!$AU$584:$BD$600,5,0)","v":"-"},"n.a.",null,{"$f":"VLOOKUP(E433,'Chapter 6'!$C$6:$D$120,2,0)","v":"Jakým způsobem podporuje organizace udržitelné způsoby spotřeby?"}]
[null,null,null,null,{"$f":"'Technical page'!B593","v":"Q6.10"},{"$f":"'Technical page'!C593","v":3},{"$f":"VLOOKUP(E434,'Technical page'!$AU$584:$BD$600,5,0)","v":"-"},"n.a.",null,{"$f":"VLOOKUP(E434,'Chapter 6'!$C$6:$D$120,2,0)","v":"Jakým způsobem organizace kontroluje a optimalizuje spotřebu vody?"}]
[null,null,null,null,{"$f":"'Technical page'!B594","v":"Q6.11"},{"$f":"'Technical page'!C594","v":1},{"$f":"VLOOKUP(E435,'Technical page'!$AU$584:$BD$600,5,0)","v":"-"},"n.a.",null,{"$f":"VLOOKUP(E435,'Chapter 6'!$C$6:$D$120,2,0)","v":"Jakým způsobem se řídí vliv organizace na biodiverzitu a ekosystém?"}]
[null,null,null,null,{"$f":"'Technical page'!B595","v":"Q6.12"},{"$f":"'Technical page'!C595","v":1},{"$f":"VLOOKUP(E436,'Technical page'!$AU$584:$BD$600,5,0)","v":"-"},"n.a.",null,{"$f":"VLOOKUP(E436,'Chapter 6'!$C$6:$D$120,2,0)","v":"Jakým způsobem posuzuje organizace svou závislost na přírodních zdrojích (ekosystémech)?"}]
[null,null,null,null,{"$f":"'Technical page'!B596","v":"Q6.13"},{"$f":"'Technical page'!C596","v":4},{"$f":"VLOOKUP(E437,'Technical page'!$AU$584:$BD$600,5,0)","v":"-"},"n.a.",null,{"$f":"VLOOKUP(E437,'Chapter 6'!$C$6:$D$120,2,0)","v":"Jakým způsobem řídí organizace svou spotřebu energie?"}]
[null,null,null,null,{"$f":"'Technical page'!B597","v":"Q6.14"},{"$f":"'Technical page'!C597","v":3},{"$f":"VLOOKUP(E438,'Technical page'!$AU$584:$BD$600,5,0)","v":"-"},"n.a.",null,{"$f":"VLOOKUP(E438,'Chapter 6'!$C$6:$D$120,2,0)","v":"Jakým způsobem řídí organizace emise skleníkových plynů (kromě úspor energie)?"}]
[null,null,null,null,{"$f":"'Technical page'!B598","v":"Q6.15"},{"$f":"'Technical page'!C598","v":2},{"$f":"VLOOKUP(E439,'Technical page'!$AU$584:$BD$600,5,0)","v":"-"},"n.a.",null,{"$f":"VLOOKUP(E439,'Chapter 6'!$C$6:$D$120,2,0)","v":"Jaká je strategie organizace na snižování emisí skleníkových plynů?"}]
[null,null,null,null,{"$f":"'Technical page'!B599","v":"Q6.16"},{"$f":"'Technical page'!C599","v":3},{"$f":"VLOOKUP(E440,'Technical page'!$AU$584:$BD$600,5,0)","v":3},"compliant",null,{"$f":"VLOOKUP(E440,'Chapter 6'!$C$6:$D$120,2,0)","v":"Jakým způsobem se organizace připravuje na klimatické změny? "}]
[null,null,null,null,{"$f":"'Technical page'!B600","v":"Q6.17"},{"$f":"'Technical page'!C600","v":2},{"$f":"VLOOKUP(E441,'Technical page'!$AU$584:$BD$600,5,0)","v":"-"},"n.a.",null,{"$f":"VLOOKUP(E441,'Chapter 6'!$C$6:$D$120,2,0)","v":"Jak organizace zajišťuje rovné příležitosti při náboru a během kariéry všech?"}]
[]
[null,null,"Report on distance to compliance with ISO 50001"]
[null,null,null,null,null,"Your score","Minimum score for ISO 50001"]
[null,null,null,null,"CHAPTER 1 : A corporate leadership culture"]
[null,null,null,null,{"$f":"'Technical page'!B10","v":"Q1.1"},{"$f":"'Technical page'!C10","v":3},{"$f":"VLOOKUP(E446,'Technical page'!$AU$10:$BD$25,6,0)","v":3},{"$f":"IF(G446=\"-\",\"n.a.\",IF(F446-G446>-1,\"compliant\",\"increase score\"))","v":"compliant"},null,{"$f":"VLOOKUP(E446,'Chapter 1'!$C$6:$D$112,2,0)","v":"Jak se projevuje závazek plnit povinnosti týkající se dodržování předpisů a zásad Responsible Care = RC (tj. ochrana a podpora zdraví a bezpečnost lidí, životního prostředí a udržitelnosti) na všech úrovních organizace?\n"}]
[null,null,null,null,{"$f":"'Technical page'!B11","v":"Q1.2"},{"$f":"'Technical page'!C11","v":3},{"$f":"VLOOKUP(E447,'Technical page'!$AU$10:$BD$25,6,0)","v":3},"compliant",null,{"$f":"VLOOKUP(E447,'Chapter 1'!$C$6:$D$112,2,0)","v":"Jakým způsobem řídí organizace příslušná rizika a příležitosti?  "}]
[null,null,null,null,{"$f":"'Technical page'!B12","v":"Q1.3"},{"$f":"'Technical page'!C12","v":2},{"$f":"VLOOKUP(E448,'Technical page'!$AU$10:$BD$25,6,0)","v":2},"compliant",null,{"$f":"VLOOKUP(E448,'Chapter 1'!$C$6:$D$112,2,0)","v":"Jakým způsobem monitoruje organizace svoje zákonné povinnosti? "}]
[null,null,null,null,{"$f":"'Technical page'!B13","v":"Q1.4"},{"$f":"'Technical page'!C13","v":2},{"$f":"VLOOKUP(E449,'Technical page'!$AU$10:$BD$25,6,0)","v":2},"compliant",null,{"$f":"VLOOKUP(E449,'Chapter 1'!$C$6:$D$112,2,0)","v":"Jakým způsobem top management zajišťuje, že jednotlivé aspekty HSE&S (zdraví, bezpečnosti, ochrany životního prostředí & udržitelnosti) jsou přiřazeny stanoveným rolím v organizaci?"}]
[null,null,null,null,{"$f":"'Technical page'!B14","v":"Q1.5"},{"$f":"'Technical page'!C14","v":3},{"$f":"VLOOKUP(E450,'Technical page'!$AU$10:$BD$25,6,0)","v":3},"compliant",null,{"$f":"VLOOKUP(E450,'Chapter 1'!$C$6:$D$112,2,0)","v":"Jakým způsobem se top management podílí na řešení záležitostí HSE&S?"}]
[null,null,null,null,{"$f":"'Technical page'!B15","v":"Q1.6"},{"$f":"'Technical page'!C15","v":3},{"$f":"VLOOKUP(E451,'Technical page'!$AU$10:$BD$25,6,0)","v":"-"},"n.a.",null,{"$f":"VLOOKUP(E451,'Chapter 1'!$C$6:$D$112,2,0)","v":"Jakým způsobem jsou odpovědnosti HSE&S začleněny do popisů pracovní náplně nebo ročních cílů?\n"}]
[null,null,null,null,{"$f":"'Technical page'!B16","v":"Q1.7"},{"$f":"'Technical page'!C16","v":4},{"$f":"VLOOKUP(E452,'Technical page'!$AU$10:$BD$25,6,0)","v":3},"compliant",null,{"$f":"VLOOKUP(E452,'Chapter 1'!$C$6:$D$112,2,0)","v":"Jakým způsobem se řídí (nejdůležitější) procesy v souvislosti s HSE&S?"}]
[null,null,null,null,{"$f":"'Technical page'!B17","v":"Q1.8"},{"$f":"'Technical page'!C17","v":3},{"$f":"VLOOKUP(E453,'Technical page'!$AU$10:$BD$25,6,0)","v":3},"compliant",null,{"$f":"VLOOKUP(E453,'Chapter 1'!$C$6:$D$112,2,0)","v":"Jakým způsobem top management zajišťuje neustálé zlepšování výkonu v oblasti HSE&S (zdraví, bezpečnosti, životního prostředí, energetiky a udržitelnosti)?"}]
[null,null,null,null,{"$f":"'Technical page'!B18","v":"Q1.9"},{"$f":"'Technical page'!C18","v":3},{"$f":"VLOOKUP(E454,'Technical page'!$AU$10:$BD$25,6,0)","v":3},"compliant",null,{"$f":"VLOOKUP(E454,'Chapter 1'!$C$6:$D$112,2,0)","v":"Jak jsou organizovány interní audity?"}]
[null,null,null,null,{"$f":"'Technical page'!B19","v":"Q1.10"},{"$f":"'Technical page'!C19","v":3},{"$f":"VLOOKUP(E455,'Technical page'!$AU$10:$BD$25,6,0)","v":3},"compliant",null,{"$f":"VLOOKUP(E455,'Chapter 1'!$C$6:$D$112,2,0)","v":"Jakým způsobem probíhá vyšetřování?"}]
[null,null,null,null,{"$f":"'Technical page'!B20","v":"Q1.11"},{"$f":"'Technical page'!C20","v":3},{"$f":"VLOOKUP(E456,'Technical page'!$AU$10:$BD$25,6,0)","v":3},"compliant",null,{"$f":"VLOOKUP(E456,'Chapter 1'!$C$6:$D$112,2,0)","v":"Jakým způsobem organizace zajišťuje procesy, čas a zdroje potřebné pro zlepšování procesů řízení HSE&S?"}]
[null,null,null,null,{"$f":"'Technical page'!B21","v":"Q1.12"},{"$f":"'Technical page'!C21","v":3},{"$f":"VLOOKUP(E457,'Technical page'!$AU$10:$BD$25,6,0)","v":3},"compliant",null,{"$f":"VLOOKUP(E457,'Chapter 1'!$C$6:$D$112,2,0)","v":"Jak organizace zajišťuje, že zaměstnanci jsou si vědomi politik a procesů týkajících se zdraví, bezpečnosti, životního prostředí, energetiky a udržitelnosti?"}]
[null,null,null,null,{"$f":"'Technical page'!B22","v":"Q1.13"},{"$f":"'Technical page'!C22","v":3},{"$f":"VLOOKUP(E458,'Technical page'!$AU$10:$BD$25,6,0)","v":3},"compliant",null,{"$f":"VLOOKUP(E458,'Chapter 1'!$C$6:$D$112,2,0)","v":"Jakým způsobem organizace zajišťuje správné kompetence pracovníků, pokud jde o aspekty HSE&S týkající se jejich práce?"}]
[null,null,null,null,{"$f":"'Technical page'!B23","v":"Q1.14"},{"$f":"'Technical page'!C23","v":3},{"$f":"VLOOKUP(E459,'Technical page'!$AU$10:$BD$25,6,0)","v":2},"compliant",null,{"$f":"VLOOKUP(E459,'Chapter 1'!$C$6:$D$112,2,0)","v":"Jaká je struktura zapojení zaměstnanců?"}]
[null,null,null,null,{"$f":"'Technical page'!B24","v":"Q1.15"},{"$f":"'Technical page'!C24","v":3},{"$f":"VLOOKUP(E460,'Technical page'!$AU$10:$BD$25,6,0)","v":3},"compliant",null,{"$f":"VLOOKUP(E460,'Chapter 1'!$C$6:$D$112,2,0)","v":"Jakým způsobem se řídí dokumentace HSE&S?"}]
[null,null,null,null,{"$f":"'Technical page'!B25","v":"Q1.16"},{"$f":"'Technical page'!C25","v":3},{"$f":"VLOOKUP(E461,'Technical page'!$AU$10:$BD$25,6,0)","v":3},"compliant",null,{"$f":"VLOOKUP(E461,'Chapter 1'!$C$6:$D$112,2,0)","v":"Jakým způsobem jsou řízeny změny potenciálně ovlivňující HSE&S (zdraví, bezpečnost, životní prostředí, energetiku a udržitelnost)?"}]
[null,null,null,null,"CHAPTER 2 : Safeguarding people and the environment"]
[null,null,null,null,{"$f":"'Technical page'!B124","v":"Q2.1"},{"$f":"'Technical page'!C124","v":3},{"$f":"VLOOKUP(E463,'Technical page'!$AU$124:$BD$168,6,0)","v":"-"},{"$f":"IF(G463=\"-\",\"n.a.\",IF(F463-G463>-1,\"compliant\",\"increase score\"))","v":"n.a."},null,{"$f":"VLOOKUP(E463,'Chapter 2'!$C$6:$D$282,2,0)","v":"Jak se management zavázal k ochraně zdraví a bezpečnosti při práci (dále jen \"BOZP\")?"}]
[null,null,null,null,{"$f":"'Technical page'!B125","v":"Q2.2"},{"$f":"'Technical page'!C125","v":2},{"$f":"VLOOKUP(E464,'Technical page'!$AU$124:$BD$168,6,0)","v":"-"},"n.a.",null,{"$f":"VLOOKUP(E464,'Chapter 2'!$C$6:$D$282,2,0)","v":"Jakým způsobem se určují rizika a expozice v souvislosti s BOZP?"}]
[null,null,null,null,{"$f":"'Technical page'!B126","v":"Q2.3"},{"$f":"'Technical page'!C126","v":3},{"$f":"VLOOKUP(E465,'Technical page'!$AU$124:$BD$168,6,0)","v":"-"},"n.a.",null,{"$f":"VLOOKUP(E465,'Chapter 2'!$C$6:$D$282,2,0)","v":"How are medical requirements evaluated?"}]
[null,null,null,null,{"$f":"'Technical page'!B127","v":"Q2.4"},{"$f":"'Technical page'!C127","v":3},{"$f":"VLOOKUP(E466,'Technical page'!$AU$124:$BD$168,6,0)","v":"-"},"n.a.",null,{"$f":"VLOOKUP(E466,'Chapter 2'!$C$6:$D$282,2,0)","v":"Jakým způsobem zlepšuje organizace BOZP?"}]
[null,null,null,null,{"$f":"'Technical page'!B128","v":"Q2.5"},{"$f":"'Technical page'!C128","v":3},{"$f":"VLOOKUP(E467,'Technical page'!$AU$124:$BD$168,6,0)","v":"-"},"n.a.",null,{"$f":"VLOOKUP(E467,'Chapter 2'!$C$6:$D$282,2,0)","v":"Jakým způsobem probíhá údržba a udržování pořádku s cílem zajistit bezpečnost provozů, zařízení, nástrojů a (bezpečnostních) pomůcek?"}]
[null,null,null,null,{"$f":"'Technical page'!B129","v":"Q2.6"},{"$f":"'Technical page'!C129","v":3},{"$f":"VLOOKUP(E468,'Technical page'!$AU$124:$BD$168,6,0)","v":"-"},"n.a.",null,{"$f":"VLOOKUP(E468,'Chapter 2'!$C$6:$D$282,2,0)","v":"Jak se ověřuje správný výběr, údržba a používání zdravotního a bezpečnostního vybavení (např. osobních ochranných prostředků = OOPP)?"}]
[null,null,null,null,{"$f":"'Technical page'!B130","v":"Q2.7"},{"$f":"'Technical page'!C130","v":2},{"$f":"VLOOKUP(E469,'Technical page'!$AU$124:$BD$168,6,0)","v":"-"},"n.a.",null,{"$f":"VLOOKUP(E469,'Chapter 2'!$C$6:$D$282,2,0)","v":"Jak se organizace stará o stres a tělesné a duševní zdraví zaměstnanců?"}]
[null,null,null,null,{"$f":"'Technical page'!B131","v":"Q2.8"},{"$f":"'Technical page'!C131","v":3},{"$f":"VLOOKUP(E470,'Technical page'!$AU$124:$BD$168,6,0)","v":"-"},"n.a.",null,{"$f":"VLOOKUP(E470,'Chapter 2'!$C$6:$D$282,2,0)","v":"Jakým způsobem se vyšetřují onemocnění, zranění, incidenty a potenciálně nebezpečné situace na pracovišti?"}]
[null,null,null,null,{"$f":"'Technical page'!B132","v":"Q2.9"},{"$f":"'Technical page'!C132","v":3},{"$f":"VLOOKUP(E471,'Technical page'!$AU$124:$BD$168,6,0)","v":"-"},"n.a.",null,{"$f":"VLOOKUP(E471,'Chapter 2'!$C$6:$D$282,2,0)","v":"Jak je organizace připravena na mimořádné události?"}]
[null,null,null,null,{"$f":"'Technical page'!B133","v":"Q2.10"},{"$f":"'Technical page'!C133","v":3},{"$f":"VLOOKUP(E472,'Technical page'!$AU$124:$BD$168,6,0)","v":3},"compliant",null,{"$f":"VLOOKUP(E472,'Chapter 2'!$C$6:$D$282,2,0)","v":"Jakým způsobem zajišťuje organizace správně kompetence všech pracovníků, týkající se požadavků BOZP, které souvisí s jejich pracovní náplní?"}]
[null,null,null,null,{"$f":"'Technical page'!B134","v":"Q2.11"},{"$f":"'Technical page'!C134","v":3},{"$f":"VLOOKUP(E473,'Technical page'!$AU$124:$BD$168,6,0)","v":"-"},"n.a.",null,{"$f":"VLOOKUP(E473,'Chapter 2'!$C$6:$D$282,2,0)","v":"Jakým způsobem se vedení staví k procesní bezpečnosti?\n\n"}]
[null,null,null,null,{"$f":"'Technical page'!B135","v":"Q2.12"},{"$f":"'Technical page'!C135","v":2},{"$f":"VLOOKUP(E474,'Technical page'!$AU$124:$BD$168,6,0)","v":"-"},"n.a.",null,{"$f":"VLOOKUP(E474,'Chapter 2'!$C$6:$D$282,2,0)","v":"Jakým způsobem je vypracována identifikace a popis bezpečnosti procesů, zařízení a pracovišť organizace?"}]
[null,null,null,null,{"$f":"'Technical page'!B136","v":"Q2.13"},{"$f":"'Technical page'!C136","v":1},{"$f":"VLOOKUP(E475,'Technical page'!$AU$124:$BD$168,6,0)","v":"-"},"n.a.",null,{"$f":"VLOOKUP(E475,'Chapter 2'!$C$6:$D$282,2,0)","v":"Jakým způsobem se zlepšuje procesní bezpečnost po nehodách a incidentech?"}]
[null,null,null,null,{"$f":"'Technical page'!B137","v":"Q2.14"},{"$f":"'Technical page'!C137","v":2},{"$f":"VLOOKUP(E476,'Technical page'!$AU$124:$BD$168,6,0)","v":"-"},"n.a.",null,{"$f":"VLOOKUP(E476,'Chapter 2'!$C$6:$D$282,2,0)","v":"Jakým způsobem se provádějí audity a inspekce procesní bezpečnosti?"}]
[null,null,null,null,{"$f":"'Technical page'!B138","v":"Q2.15"},{"$f":"'Technical page'!C138","v":3},{"$f":"VLOOKUP(E477,'Technical page'!$AU$124:$BD$168,6,0)","v":"-"},"n.a.",null,{"$f":"VLOOKUP(E477,'Chapter 2'!$C$6:$D$282,2,0)","v":"Jakým způsobem se prověřují a zlepšují pracovní pokyny?"}]
[null,null,null,null,{"$f":"'Technical page'!B139","v":"Q2.16"},{"$f":"'Technical page'!C139","v":3},{"$f":"VLOOKUP(E478,'Technical page'!$AU$124:$BD$168,6,0)","v":"-"},"n.a.",null,{"$f":"VLOOKUP(E478,'Chapter 2'!$C$6:$D$282,2,0)","v":"Jak je navrhována a dokumnetována instalace nových zařízení?"}]
[null,null,null,null,{"$f":"'Technical page'!B140","v":"Q2.17"},{"$f":"'Technical page'!C140","v":4},{"$f":"VLOOKUP(E479,'Technical page'!$AU$124:$BD$168,6,0)","v":"-"},"n.a.",null,{"$f":"VLOOKUP(E479,'Chapter 2'!$C$6:$D$282,2,0)","v":"Jakým způsobem probíhá kontrola zřizování instalace?"}]
[null,null,null,null,{"$f":"'Technical page'!B141","v":"Q2.18"},{"$f":"'Technical page'!C141","v":3},{"$f":"VLOOKUP(E480,'Technical page'!$AU$124:$BD$168,6,0)","v":"-"},"n.a.",null,{"$f":"VLOOKUP(E480,'Chapter 2'!$C$6:$D$282,2,0)","v":"Jakým způsobem je zaručena ochrana zařízení, aby jediná chyba neměla katastrofické následky?"}]
[null,null,null,null,{"$f":"'Technical page'!B142","v":"Q2.19"},{"$f":"'Technical page'!C142","v":3},{"$f":"VLOOKUP(E481,'Technical page'!$AU$124:$BD$168,6,0)","v":"-"},"n.a.",null,{"$f":"VLOOKUP(E481,'Chapter 2'!$C$6:$D$282,2,0)","v":"Byly zřízeny programy preventivní údržby a péče, které zaručují bezpečnost provozů, nástrojů a zařízení?"}]
[null,null,null,null,{"$f":"'Technical page'!B143","v":"Q2.20"},{"$f":"'Technical page'!C143","v":4},{"$f":"VLOOKUP(E482,'Technical page'!$AU$124:$BD$168,6,0)","v":"-"},"n.a.",null,{"$f":"VLOOKUP(E482,'Chapter 2'!$C$6:$D$282,2,0)","v":"Jakým způsobem se řídí procesy během mimořádných událostí v případě přerušení dodávky energie nebo služeb?"}]
[null,null,null,null,{"$f":"'Technical page'!B144","v":"Q2.21"},{"$f":"'Technical page'!C144","v":2},{"$f":"VLOOKUP(E483,'Technical page'!$AU$124:$BD$168,6,0)","v":"-"},"n.a.",null,{"$f":"VLOOKUP(E483,'Chapter 2'!$C$6:$D$282,2,0)","v":"Jak se připravují havarijní plány?"}]
[null,null,null,null,{"$f":"'Technical page'!B145","v":"Q2.22"},{"$f":"'Technical page'!C145","v":2},{"$f":"VLOOKUP(E484,'Technical page'!$AU$124:$BD$168,6,0)","v":"-"},"n.a.",null,{"$f":"VLOOKUP(E484,'Chapter 2'!$C$6:$D$282,2,0)","v":"Jakým způsobem jsou zabezpečeny kompetence a školení zaměstnanců a dodavatelů zapojených do procesů?"}]
[null,null,null,null,{"$f":"'Technical page'!B146","v":"Q2.23"},{"$f":"'Technical page'!C146","v":4},{"$f":"VLOOKUP(E485,'Technical page'!$AU$124:$BD$168,6,0)","v":"-"},"n.a.",null,{"$f":"VLOOKUP(E485,'Chapter 2'!$C$6:$D$282,2,0)","v":"Jakým způsobem se sdílejí informace o rizicích látek a přípravků?"}]
[null,null,null,null,{"$f":"'Technical page'!B147","v":"Q2.24"},{"$f":"'Technical page'!C147","v":4},{"$f":"VLOOKUP(E486,'Technical page'!$AU$124:$BD$168,6,0)","v":"-"},"n.a.",null,{"$f":"VLOOKUP(E486,'Chapter 2'!$C$6:$D$282,2,0)","v":"Jak se sdílejí informace o procesu?"}]
[null,null,null,null,{"$f":"'Technical page'!B148","v":"Q2.25"},{"$f":"'Technical page'!C148","v":3},{"$f":"VLOOKUP(E487,'Technical page'!$AU$124:$BD$168,6,0)","v":"-"},"n.a.",null,{"$f":"VLOOKUP(E487,'Chapter 2'!$C$6:$D$282,2,0)","v":"Jakým způsobem organizace hodnotí své logistické partnery z hlediska HSE&S, energetické účinnosti a emisí skleníkových plynů?"}]
[null,null,null,null,{"$f":"'Technical page'!B149","v":"Q2.26"},{"$f":"'Technical page'!C149","v":3},{"$f":"VLOOKUP(E488,'Technical page'!$AU$124:$BD$168,6,0)","v":"-"},"n.a.",null,{"$f":"VLOOKUP(E488,'Chapter 2'!$C$6:$D$282,2,0)","v":"Jakým způsobem organizace zabraňuje a reaguje na dopravní nehody?"}]
[null,null,null,null,{"$f":"'Technical page'!B150","v":"Q2.27"},{"$f":"'Technical page'!C150","v":2},{"$f":"VLOOKUP(E489,'Technical page'!$AU$124:$BD$168,6,0)","v":"-"},"n.a.",null,{"$f":"VLOOKUP(E489,'Chapter 2'!$C$6:$D$282,2,0)","v":"Jakým způsobem organizace identifikuje bezpečnostní problémy?"}]
[null,null,null,null,{"$f":"'Technical page'!B151","v":"Q2.28"},{"$f":"'Technical page'!C151","v":3},{"$f":"VLOOKUP(E490,'Technical page'!$AU$124:$BD$168,6,0)","v":"-"},"n.a.",null,{"$f":"VLOOKUP(E490,'Chapter 2'!$C$6:$D$282,2,0)","v":"Jakým způsobem se kontroluje příchod a odchod pracovníků a materiálu na pracovišti a v oblastech s omezeným vstupem?"}]
[null,null,null,null,{"$f":"'Technical page'!B152","v":"Q2.29"},{"$f":"'Technical page'!C152","v":3},{"$f":"VLOOKUP(E491,'Technical page'!$AU$124:$BD$168,6,0)","v":"-"},"n.a.",null,{"$f":"VLOOKUP(E491,'Chapter 2'!$C$6:$D$282,2,0)","v":"Jakým způsobem se kontroluje kybernetická bezpečnost?"}]
[null,null,null,null,{"$f":"'Technical page'!B153","v":"Q2.30"},{"$f":"'Technical page'!C153","v":2},{"$f":"VLOOKUP(E492,'Technical page'!$AU$124:$BD$168,6,0)","v":"-"},"n.a.",null,{"$f":"VLOOKUP(E492,'Chapter 2'!$C$6:$D$282,2,0)","v":"Jakým způsobem probíhá komunikace a výměna informací v případě bezpečnostní krize?"}]
[null,null,null,null,{"$f":"'Technical page'!B154","v":"Q2.31"},{"$f":"'Technical page'!C154","v":1},{"$f":"VLOOKUP(E493,'Technical page'!$AU$124:$BD$168,6,0)","v":"-"},"n.a.",null,{"$f":"VLOOKUP(E493,'Chapter 2'!$C$6:$D$282,2,0)","v":"Jak se organizace vyrovnává s podezřelým chováním (včetně rizik radikalizace = souhlas a podopra extrémních názorů)"}]
[null,null,null,null,{"$f":"'Technical page'!B155","v":"Q2.32"},{"$f":"'Technical page'!C155","v":2},{"$f":"VLOOKUP(E494,'Technical page'!$AU$124:$BD$168,6,0)","v":"-"},"n.a.",null,{"$f":"VLOOKUP(E494,'Chapter 2'!$C$6:$D$282,2,0)","v":"Jakým způsobem školí organizace pracovníky v oblasti ostrahy ve vazbě na bezpečnostní rizika?  "}]
[null,null,null,null,{"$f":"'Technical page'!B156","v":"Q2.33"},{"$f":"'Technical page'!C156","v":3},{"$f":"VLOOKUP(E495,'Technical page'!$AU$124:$BD$168,6,0)","v":"-"},"n.a.",null,{"$f":"VLOOKUP(E495,'Chapter 2'!$C$6:$D$282,2,0)","v":"Jakým způsobem se posuzuje potenciální vliv organizace na životní prostředí?"}]
[null,null,null,null,{"$f":"'Technical page'!B157","v":"Q2.34"},{"$f":"'Technical page'!C157","v":4},{"$f":"VLOOKUP(E496,'Technical page'!$AU$124:$BD$168,6,0)","v":4},"compliant",null,{"$f":"VLOOKUP(E496,'Chapter 2'!$C$6:$D$282,2,0)","v":"Jakým způsobem se řídí environmentální výkonnost?"}]
[null,null,null,null,{"$f":"'Technical page'!B158","v":"Q2.35"},{"$f":"'Technical page'!C158","v":3},{"$f":"VLOOKUP(E497,'Technical page'!$AU$124:$BD$168,6,0)","v":"-"},"n.a.",null,{"$f":"VLOOKUP(E497,'Chapter 2'!$C$6:$D$282,2,0)","v":"Jak organizace nakládá s odpadem?"}]
[null,null,null,null,{"$f":"'Technical page'!B159","v":"Q2.36"},{"$f":"'Technical page'!C159","v":3},{"$f":"VLOOKUP(E498,'Technical page'!$AU$124:$BD$168,6,0)","v":"-"},"n.a.",null,{"$f":"VLOOKUP(E498,'Chapter 2'!$C$6:$D$282,2,0)","v":"Jakým způsobem řídí organizace rizika týkající se podzemních vod?"}]
[null,null,null,null,{"$f":"'Technical page'!B160","v":"Q2.37"},{"$f":"'Technical page'!C160","v":3},{"$f":"VLOOKUP(E499,'Technical page'!$AU$124:$BD$168,6,0)","v":"-"},"n.a.",null,{"$f":"VLOOKUP(E499,'Chapter 2'!$C$6:$D$282,2,0)","v":"Jakým způsobem řídí organizace rizika týkající se znečištění půdy?"}]
[null,null,null,null,{"$f":"'Technical page'!B161","v":"Q2.38"},{"$f":"'Technical page'!C161","v":3},{"$f":"VLOOKUP(E500,'Technical page'!$AU$124:$BD$168,6,0)","v":"-"},"n.a.",null,{"$f":"VLOOKUP(E500,'Chapter 2'!$C$6:$D$282,2,0)","v":"Jakým způsobem řídí organizace existující znečištění půdy?\n"}]
[null,null,null,null,{"$f":"'Technical page'!B162","v":"Q2.39"},{"$f":"'Technical page'!C162","v":3},{"$f":"VLOOKUP(E501,'Technical page'!$AU$124:$BD$168,6,0)","v":"-"},"n.a.",null,{"$f":"VLOOKUP(E501,'Chapter 2'!$C$6:$D$282,2,0)","v":"Jakým způsobem organizace řídí své emise škodlivin do ovzduší?"}]
[null,null,null,null,{"$f":"'Technical page'!B163","v":"Q2.40"},{"$f":"'Technical page'!C163","v":3},{"$f":"VLOOKUP(E502,'Technical page'!$AU$124:$BD$168,6,0)","v":"-"},"n.a.",null,{"$f":"VLOOKUP(E502,'Chapter 2'!$C$6:$D$282,2,0)","v":"Jakým způsobem organizace řídí své emise škodlivin do vody?"}]
[null,null,null,null,{"$f":"'Technical page'!B164","v":"Q2.41"},{"$f":"'Technical page'!C164","v":3},{"$f":"VLOOKUP(E503,'Technical page'!$AU$124:$BD$168,6,0)","v":"-"},"n.a.",null,{"$f":"VLOOKUP(E503,'Chapter 2'!$C$6:$D$282,2,0)","v":"Jakým způsobem organizace řídí své emise hluku?"}]
[null,null,null,null,{"$f":"'Technical page'!B165","v":"Q2.42"},{"$f":"'Technical page'!C165","v":3},{"$f":"VLOOKUP(E504,'Technical page'!$AU$124:$BD$168,6,0)","v":"-"},"n.a.",null,{"$f":"VLOOKUP(E504,'Chapter 2'!$C$6:$D$282,2,0)","v":"Jakým způsobem organizace řídí své emise zápachu?"}]
[null,null,null,null,{"$f":"'Technical page'!B166","v":"Q2.43"},{"$f":"'Technical page'!C166","v":3},{"$f":"VLOOKUP(E505,'Technical page'!$AU$124:$BD$168,6,0)","v":"-"},"n.a.",null,{"$f":"VLOOKUP(E505,'Chapter 2'!$C$6:$D$282,2,0)","v":"Jakým způsobem organizace zabraňuje a řídí havarijní emise do prostředí?"}]
[null,null,null,null,{"$f":"'Technical page'!B167","v":"Q2.44"},{"$f":"'Technical page'!C167","v":3},{"$f":"VLOOKUP(E506,'Technical page'!$AU$124:$BD$168,6,0)","v":"-"},"n.a.",null,{"$f":"VLOOKUP(E506,'Chapter 2'!$C$6:$D$282,2,0)","v":"Jakým způsobem zajišťuje organizace správně kompetence všech pracovníků, týkající se environmentálních požadavků, které souvisejí s jejich pracovní náplní?"}]
[null,null,null,null,{"$f":"'Technical page'!B168","v":"Q2.45"},{"$f":"'Technical page'!C168","v":1},{"$f":"VLOOKUP(E507,'Technical page'!$AU$124:$BD$168,6,0)","v":"-"},"n.a.",null,{"$f":"VLOOKUP(E507,'Chapter 2'!$C$6:$D$282,2,0)","v":"Jakým způsobem jsou zainteresované strany organizace informovány o environmentálních aspektech a jejich možných dopadech?"}]
[null,null,null,null,"CHAPTER 3 : Strengthening chemicals management systems"]
[null,null,null,null,{"$f":"'Technical page'!B406","v":"Q3.1"},{"$f":"'Technical page'!$C$406","v":4},{"$f":"VLOOKUP(E509,'Technical page'!$AU$406:$BD$418,6,0)","v":4},{"$f":"IF(G509=\"-\",\"n.a.\",IF(F509-G509>-1,\"compliant\",\"increase score\"))","v":"compliant"},null,{"$f":"VLOOKUP(E509,'Chapter 3'!$C$6:$D$89,2,0)","v":"Zavedla organizace proces pro navrhování a vývoj nových \nproduktů a služeb?"}]
[null,null,null,null,{"$f":"'Technical page'!B407","v":"Q3.2"},{"$f":"'Technical page'!$C$407","v":2},{"$f":"VLOOKUP(E510,'Technical page'!$AU$406:$BD$418,6,0)","v":"-"},"n.a.",null,{"$f":"VLOOKUP(E510,'Chapter 3'!$C$6:$D$89,2,0)","v":"Má organizace k dispozici proces hodnocení a stanovení priorit svých produktů pro charakterizaci rizik a řízení rizik?\n\n\n"}]
[null,null,null,null,{"$f":"'Technical page'!B408","v":"Q3.3"},{"$f":"'Technical page'!$C$408","v":4},{"$f":"VLOOKUP(E511,'Technical page'!$AU$406:$BD$418,6,0)","v":"-"},"n.a.",null,{"$f":"VLOOKUP(E511,'Chapter 3'!$C$6:$D$89,2,0)","v":"Zavedla organizace systém pro sledování použitelnosti, změn a dodržování interních a externích požadavků souvisejících s řízením bezpečnosti chemických látek?"}]
[null,null,null,null,{"$f":"'Technical page'!B409","v":"Q3.4"},{"$f":"'Technical page'!$C$409","v":2},{"$f":"VLOOKUP(E512,'Technical page'!$AU$406:$BD$418,6,0)","v":"-"},"n.a.",null,{"$f":"VLOOKUP(E512,'Chapter 3'!$C$6:$D$89,2,0)","v":"Zavedla organizace systém na správu existujících informací o rizicích svých produktů?"}]
[null,null,null,null,{"$f":"'Technical page'!B410","v":"Q3.5"},{"$f":"'Technical page'!$C$410","v":1},{"$f":"VLOOKUP(E513,'Technical page'!$AU$406:$BD$418,6,0)","v":"-"},"n.a.",null,{"$f":"VLOOKUP(E513,'Chapter 3'!$C$6:$D$89,2,0)","v":"Zavedla organizace proces řízení informací o používání a expozici svých produktů?"}]
[null,null,null,null,{"$f":"'Technical page'!B411","v":"Q3.6"},{"$f":"'Technical page'!$C$411","v":1},{"$f":"VLOOKUP(E514,'Technical page'!$AU$406:$BD$418,6,0)","v":"-"},"n.a.",null,{"$f":"VLOOKUP(E514,'Chapter 3'!$C$6:$D$89,2,0)","v":"Zavedla organizace proces na správu nových informací?"}]
[null,null,null,null,{"$f":"'Technical page'!B412","v":"Q3.7"},{"$f":"'Technical page'!$C$412","v":2},{"$f":"VLOOKUP(E515,'Technical page'!$AU$406:$BD$418,6,0)","v":"-"},"n.a.",null,{"$f":"VLOOKUP(E515,'Chapter 3'!$C$6:$D$89,2,0)","v":"Zavedla organizace proces charakterizace rizik na základě shromážděných informací?"}]
[null,null,null,null,{"$f":"'Technical page'!B413","v":"Q3.8"},{"$f":"'Technical page'!$C$413","v":1},{"$f":"VLOOKUP(E516,'Technical page'!$AU$406:$BD$418,6,0)","v":"-"},"n.a.",null,{"$f":"VLOOKUP(E516,'Chapter 3'!$C$6:$D$89,2,0)","v":"Zavedla organizace proces řízení rizik na základě shromážděných informací?"}]
[null,null,null,null,{"$f":"'Technical page'!B414","v":"Q3.9"},{"$f":"'Technical page'!$C$414","v":3},{"$f":"VLOOKUP(E517,'Technical page'!$AU$406:$BD$418,6,0)","v":"-"},"n.a.",null,{"$f":"VLOOKUP(E517,'Chapter 3'!$C$6:$D$89,2,0)","v":"Zavedla organizace účinný proces sledování svých produktů po dodání a provádění nápravných opatření?\n"}]
[null,null,null,null,{"$f":"'Technical page'!B415","v":"Q3.10"},{"$f":"'Technical page'!$C$415","v":3},{"$f":"VLOOKUP(E518,'Technical page'!$AU$406:$BD$418,6,0)","v":"-"},"n.a.",null,{"$f":"VLOOKUP(E518,'Chapter 3'!$C$6:$D$89,2,0)","v":"Poskytuje organizace efektivní komunikaci v rámci dodavatelského řetězce ohledně opatření k řízení rizik, které se vztahují na jejich produkty?"}]
[null,null,null,null,"CHAPTER 4 : Influencing business partners"]
[null,null,null,null,{"$f":"'Technical page'!B482","v":"Q4.1"},{"$f":"'Technical page'!C593","v":3},{"$f":"VLOOKUP(E520,'Technical page'!$AU$482:$BD$489,6,0)","v":3},{"$f":"IF(G520=\"-\",\"n.a.\",IF(F520-G520>-1,\"compliant\",\"increase score\"))","v":"compliant"},null,{"$f":"VLOOKUP(E520,'Chapter 4'!$C$6:$D$91,2,0)","v":"Jak se organizace zavázala k odpovědnému získávání zdrojů?"}]
[null,null,null,null,{"$f":"'Technical page'!B483","v":"Q4.2"},{"$f":"'Technical page'!C594","v":1},{"$f":"VLOOKUP(E521,'Technical page'!$AU$482:$BD$489,6,0)","v":"-"},"n.a.",null,{"$f":"VLOOKUP(E521,'Chapter 4'!$C$6:$D$91,2,0)","v":"Jak organizace zlepšuje spolupráci v dodavatelském řetězci?"}]
[null,null,null,null,{"$f":"'Technical page'!B484","v":"Q4.3"},{"$f":"'Technical page'!C595","v":1},{"$f":"VLOOKUP(E522,'Technical page'!$AU$482:$BD$489,6,0)","v":"-"},"n.a.",null,{"$f":"VLOOKUP(E522,'Chapter 4'!$C$6:$D$91,2,0)","v":"Jakým způsobem vyjadřuje organizace svůj závazek vůči podnikatelské etice?"}]
[null,null,null,null,{"$f":"'Technical page'!B485","v":"Q4.4"},{"$f":"'Technical page'!C596","v":4},{"$f":"VLOOKUP(E523,'Technical page'!$AU$482:$BD$489,6,0)","v":"-"},"n.a.",null,{"$f":"VLOOKUP(E523,'Chapter 4'!$C$6:$D$91,2,0)","v":"Jakým způsobem řeší organizace sociální problematiku a lidská práva v rámci spolupráce s obchodními partnery?"}]
[null,null,null,null,{"$f":"'Technical page'!B486","v":"Q4.5"},{"$f":"'Technical page'!C597","v":3},{"$f":"VLOOKUP(E524,'Technical page'!$AU$482:$BD$489,6,0)","v":"-"},"n.a.",null,{"$f":"VLOOKUP(E524,'Chapter 4'!$C$6:$D$91,2,0)","v":"Jakým způsobem zabraňuje organizace dětské práci?\nOrganizace\n1-\tzavedla systém ověřování věku; \n2-\tnezaměstnává děti mladší 15 let (v závislosti na místní legislativy). Jedinou výjimku představují učni, školní praxe nebo vzdělávací stáže; \n3-\tzaručuje, aby pracovní náplň osob mladších než 18 let neovlivňovala jejich školní docházku (doba strávená dopravou do práce a školy a z práce a školy, školní docházkou a prací je méně než 10 hodin denně );\n4-\tzajišťuje, že pracovní náplň mladých pracovníků není duševně, fyzicky, společensky ani morálně nebezpečná a škodlivá."}]
[null,null,null,null,{"$f":"'Technical page'!B487","v":"Q4.6"},{"$f":"'Technical page'!C598","v":2},{"$f":"VLOOKUP(E525,'Technical page'!$AU$482:$BD$489,6,0)","v":"-"},"n.a.",null,{"$f":"VLOOKUP(E525,'Chapter 4'!$C$6:$D$91,2,0)","v":"Jakým způsobem zabezpečuje organizace splnění svých požadavků ze strany logistických partnerů?"}]
[null,null,null,null,{"$f":"'Technical page'!B488","v":"Q4.7"},{"$f":"'Technical page'!C599","v":3},{"$f":"VLOOKUP(E526,'Technical page'!$AU$482:$BD$489,6,0)","v":"-"},"n.a.",null,{"$f":"VLOOKUP(E526,'Chapter 4'!$C$6:$D$91,2,0)","v":"Jakým způsobem organizace chrání a zabezpečuje majetek a údaje následných uživatelů nebo externích poskytovatelů, které se používají nebo začleňují do produktů a služeb?"}]
[null,null,null,null,{"$f":"'Technical page'!B489","v":"Q4.8"},{"$f":"'Technical page'!C600","v":2},{"$f":"VLOOKUP(E527,'Technical page'!$AU$482:$BD$489,6,0)","v":"-"},"n.a.",null,{"$f":"VLOOKUP(E527,'Chapter 4'!$C$6:$D$91,2,0)","v":"Co zahrnuje dialog s následnými uživateli?"}]
[null,null,null,null,"CHAPTER 5 : Engaging stakeholders"]
[null,null,null,null,{"$f":"'Technical page'!B544","v":"Q5.1"},{"$f":"'Technical page'!C544","v":3},{"$f":"VLOOKUP(E529,'Technical page'!$AU$544:$BD$548,6,0)","v":3},{"$f":"IF(G529=\"-\",\"n.a.\",IF(F529-G529>-1,\"compliant\",\"increase score\"))","v":"compliant"},null,{"$f":"VLOOKUP(E529,'Chapter 5'!$C$6:$D$89,2,0)","v":"Jakým způsobem zapojuje organizace své externí zainteresované strany a naplňuje jejich očekávání?"}]
[null,null,null,null,{"$f":"'Technical page'!B545","v":"Q5.2"},{"$f":"'Technical page'!C545","v":2},{"$f":"VLOOKUP(E530,'Technical page'!$AU$544:$BD$548,6,0)","v":"-"},"n.a.",null,{"$f":"VLOOKUP(E530,'Chapter 5'!$C$6:$D$89,2,0)","v":"Jakým způsobem vede organizace dialog s veřejností, úřady a dalšími zainteresovanými stranami, včetně místních komunit a zákazníků v souvislosti s HSE&S v rámci jejich činností, produktů a služeb?"}]
[null,null,null,null,{"$f":"'Technical page'!B546","v":"Q5.3"},{"$f":"'Technical page'!C546","v":2},{"$f":"VLOOKUP(E531,'Technical page'!$AU$544:$BD$548,6,0)","v":"-"},"n.a.",null,{"$f":"VLOOKUP(E531,'Chapter 5'!$C$6:$D$89,2,0)","v":"Jakým způsobem zveřejňuje organizace informace týkající se\n HSE&S?"}]
[null,null,null,null,{"$f":"'Technical page'!B547","v":"Q5.4"},{"$f":"'Technical page'!C547","v":3},{"$f":"VLOOKUP(E532,'Technical page'!$AU$544:$BD$548,6,0)","v":"-"},"n.a.",null,{"$f":"VLOOKUP(E532,'Chapter 5'!$C$6:$D$89,2,0)","v":"Jakým způsobem podporuje organizace místní komunity?"}]
[null,null,null,null,{"$f":"'Technical page'!B548","v":"Q5.5"},{"$f":"'Technical page'!C548","v":2},{"$f":"VLOOKUP(E533,'Technical page'!$AU$544:$BD$548,6,0)","v":"-"},"n.a.",null,{"$f":"VLOOKUP(E533,'Chapter 5'!$C$6:$D$89,2,0)","v":"Jakým způsobem stimuluje organizace místní zaměstnanost a vzdělávání?"}]
[null,null,null,null,"CHAPTER 6 : Contributing to sustainability"]
[null,null,null,null,{"$f":"'Technical page'!B584","v":"Q6.1"},{"$f":"'Technical page'!C584","v":2},{"$f":"VLOOKUP(E535,'Technical page'!$AU$584:$BD$600,6,0)","v":"-"},{"$f":"IF(G535=\"-\",\"n.a.\",IF(F535-G535>-1,\"compliant\",\"increase score\"))","v":"n.a."},null,{"$f":"VLOOKUP(E535,'Chapter 6'!$C$6:$D$120,2,0)","v":"Jakým způsobem definuje organizace významné problémy a závažnost?"}]
[null,null,null,null,{"$f":"'Technical page'!B585","v":"Q6.2"},{"$f":"'Technical page'!C585","v":1},{"$f":"VLOOKUP(E536,'Technical page'!$AU$584:$BD$600,6,0)","v":"-"},{"$f":"IF(G536=\"-\",\"n.a.\",IF(F536-G536>-1,\"compliant\",\"increase score\"))","v":"n.a."},null,{"$f":"VLOOKUP(E536,'Chapter 6'!$C$6:$D$120,2,0)","v":"Jakým způsobem hodlá organizace přispívat k udržitelnému rozvoji?"}]
[null,null,null,null,{"$f":"'Technical page'!B586","v":"Q6.3"},{"$f":"'Technical page'!C586","v":3},{"$f":"VLOOKUP(E537,'Technical page'!$AU$584:$BD$600,6,0)","v":"-"},"n.a.",null,{"$f":"VLOOKUP(E537,'Chapter 6'!$C$6:$D$120,2,0)","v":"Jakým způsobem komunikuje organizace zainteresovaných stran na téma udržitelnosti?"}]
[null,null,null,null,{"$f":"'Technical page'!B587","v":"Q6.4"},{"$f":"'Technical page'!C587","v":2},{"$f":"VLOOKUP(E538,'Technical page'!$AU$584:$BD$600,6,0)","v":"-"},"n.a.",null,{"$f":"VLOOKUP(E538,'Chapter 6'!$C$6:$D$120,2,0)","v":"Má organizace zavedený proces navrhování výrobků s lepšími výsledky udržitelnosti?"}]
[null,null,null,null,{"$f":"'Technical page'!B588","v":"Q6.5"},{"$f":"'Technical page'!C588","v":2},{"$f":"VLOOKUP(E539,'Technical page'!$AU$584:$BD$600,6,0)","v":"-"},"n.a.",null,{"$f":"VLOOKUP(E539,'Chapter 6'!$C$6:$D$120,2,0)","v":"Jakým způsobem zvyšuje organizace efektivnost zdrojů ve svých výrobních procesech?"}]
[null,null,null,null,{"$f":"'Technical page'!B589","v":"Q6.6"},{"$f":"'Technical page'!C589","v":1},{"$f":"VLOOKUP(E540,'Technical page'!$AU$584:$BD$600,6,0)","v":"-"},"n.a.",null,{"$f":"VLOOKUP(E540,'Chapter 6'!$C$6:$D$120,2,0)","v":"Jakým způsobem stimuluje organizace oběhové hospodářství prostřednictvím svých produktů?"}]
[null,null,null,null,{"$f":"'Technical page'!B590","v":"Q6.7"},{"$f":"'Technical page'!C590","v":2},{"$f":"VLOOKUP(E541,'Technical page'!$AU$584:$BD$600,6,0)","v":"-"},"n.a.",null,{"$f":"VLOOKUP(E541,'Chapter 6'!$C$6:$D$120,2,0)","v":"Jakým způsobem podporuje organizace inovace při vývoji produktů a řešení, které odpovídají výzvám udržitelnosti?"}]
[null,null,null,null,{"$f":"'Technical page'!B591","v":"Q6.8"},{"$f":"'Technical page'!C591","v":3},{"$f":"VLOOKUP(E542,'Technical page'!$AU$584:$BD$600,6,0)","v":"-"},"n.a.",null,{"$f":"VLOOKUP(E542,'Chapter 6'!$C$6:$D$120,2,0)","v":"Jakým způsobem stimuluje organizace inovaci a spolupráci?"}]
[null,null,null,null,{"$f":"'Technical page'!B592","v":"Q6.9"},{"$f":"'Technical page'!C592","v":2},{"$f":"VLOOKUP(E543,'Technical page'!$AU$584:$BD$600,6,0)","v":"-"},"n.a.",null,{"$f":"VLOOKUP(E543,'Chapter 6'!$C$6:$D$120,2,0)","v":"Jakým způsobem podporuje organizace udržitelné způsoby spotřeby?"}]
[null,null,null,null,{"$f":"'Technical page'!B593","v":"Q6.10"},{"$f":"'Technical page'!C593","v":3},{"$f":"VLOOKUP(E544,'Technical page'!$AU$584:$BD$600,6,0)","v":"-"},"n.a.",null,{"$f":"VLOOKUP(E544,'Chapter 6'!$C$6:$D$120,2,0)","v":"Jakým způsobem organizace kontroluje a optimalizuje spotřebu vody?"}]
[null,null,null,null,{"$f":"'Technical page'!B594","v":"Q6.11"},{"$f":"'Technical page'!C594","v":1},{"$f":"VLOOKUP(E545,'Technical page'!$AU$584:$BD$600,6,0)","v":"-"},"n.a.",null,{"$f":"VLOOKUP(E545,'Chapter 6'!$C$6:$D$120,2,0)","v":"Jakým způsobem se řídí vliv organizace na biodiverzitu a ekosystém?"}]
[null,null,null,null,{"$f":"'Technical page'!B595","v":"Q6.12"},{"$f":"'Technical page'!C595","v":1},{"$f":"VLOOKUP(E546,'Technical page'!$AU$584:$BD$600,6,0)","v":"-"},"n.a.",null,{"$f":"VLOOKUP(E546,'Chapter 6'!$C$6:$D$120,2,0)","v":"Jakým způsobem posuzuje organizace svou závislost na přírodních zdrojích (ekosystémech)?"}]
[null,null,null,null,{"$f":"'Technical page'!B596","v":"Q6.13"},{"$f":"'Technical page'!C596","v":4},{"$f":"VLOOKUP(E547,'Technical page'!$AU$584:$BD$600,6,0)","v":4},"compliant",null,{"$f":"VLOOKUP(E547,'Chapter 6'!$C$6:$D$120,2,0)","v":"Jakým způsobem řídí organizace svou spotřebu energie?"}]
[null,null,null,null,{"$f":"'Technical page'!B597","v":"Q6.14"},{"$f":"'Technical page'!C597","v":3},{"$f":"VLOOKUP(E548,'Technical page'!$AU$584:$BD$600,6,0)","v":"-"},"n.a.",null,{"$f":"VLOOKUP(E548,'Chapter 6'!$C$6:$D$120,2,0)","v":"Jakým způsobem řídí organizace emise skleníkových plynů (kromě úspor energie)?"}]
[null,null,null,null,{"$f":"'Technical page'!B598","v":"Q6.15"},{"$f":"'Technical page'!C598","v":2},{"$f":"VLOOKUP(E549,'Technical page'!$AU$584:$BD$600,6,0)","v":"-"},"n.a.",null,{"$f":"VLOOKUP(E549,'Chapter 6'!$C$6:$D$120,2,0)","v":"Jaká je strategie organizace na snižování emisí skleníkových plynů?"}]
[null,null,null,null,{"$f":"'Technical page'!B599","v":"Q6.16"},{"$f":"'Technical page'!C599","v":3},{"$f":"VLOOKUP(E550,'Technical page'!$AU$584:$BD$600,6,0)","v":"-"},"n.a.",null,{"$f":"VLOOKUP(E550,'Chapter 6'!$C$6:$D$120,2,0)","v":"Jakým způsobem se organizace připravuje na klimatické změny? "}]
[null,null,null,null,{"$f":"'Technical page'!B600","v":"Q6.17"},{"$f":"'Technical page'!C600","v":2},{"$f":"VLOOKUP(E551,'Technical page'!$AU$584:$BD$600,6,0)","v":"-"},"n.a.",null,{"$f":"VLOOKUP(E551,'Chapter 6'!$C$6:$D$120,2,0)","v":"Jak organizace zajišťuje rovné příležitosti při náboru a během kariéry všech?"}]
[]
[null,null,"Report on distance to compliance with EMAS"]
[null,null,null,null,null,"Your score","Minimum score for EMAS"]
[null,null,null,null,"CHAPTER 1 : A corporate leadership culture"]
[null,null,null,null,{"$f":"'Technical page'!B10","v":"Q1.1"},{"$f":"'Technical page'!C10","v":3},{"$f":"VLOOKUP(E556,'Technical page'!$AU$10:$BD$25,7,0)","v":3},{"$f":"IF(G556=\"-\",\"n.a.\",IF(F556-G556>-1,\"compliant\",\"increase score\"))","v":"compliant"},null,{"$f":"VLOOKUP(E556,'Chapter 1'!$C$6:$D$112,2,0)","v":"Jak se projevuje závazek plnit povinnosti týkající se dodržování předpisů a zásad Responsible Care = RC (tj. ochrana a podpora zdraví a bezpečnost lidí, životního prostředí a udržitelnosti) na všech úrovních organizace?\n"}]
[null,null,null,null,{"$f":"'Technical page'!B11","v":"Q1.2"},{"$f":"'Technical page'!C11","v":3},{"$f":"VLOOKUP(E557,'Technical page'!$AU$10:$BD$25,7,0)","v":3},{"$f":"IF(G557=\"-\",\"n.a.\",IF(F557-G557>-1,\"compliant\",\"increase score\"))","v":"compliant"},null,{"$f":"VLOOKUP(E557,'Chapter 1'!$C$6:$D$112,2,0)","v":"Jakým způsobem řídí organizace příslušná rizika a příležitosti?  "}]
[null,null,null,null,{"$f":"'Technical page'!B12","v":"Q1.3"},{"$f":"'Technical page'!C12","v":2},{"$f":"VLOOKUP(E558,'Technical page'!$AU$10:$BD$25,7,0)","v":2},"compliant",null,{"$f":"VLOOKUP(E558,'Chapter 1'!$C$6:$D$112,2,0)","v":"Jakým způsobem monitoruje organizace svoje zákonné povinnosti? "}]
[null,null,null,null,{"$f":"'Technical page'!B13","v":"Q1.4"},{"$f":"'Technical page'!C13","v":2},{"$f":"VLOOKUP(E559,'Technical page'!$AU$10:$BD$25,7,0)","v":2},"compliant",null,{"$f":"VLOOKUP(E559,'Chapter 1'!$C$6:$D$112,2,0)","v":"Jakým způsobem top management zajišťuje, že jednotlivé aspekty HSE&S (zdraví, bezpečnosti, ochrany životního prostředí & udržitelnosti) jsou přiřazeny stanoveným rolím v organizaci?"}]
[null,null,null,null,{"$f":"'Technical page'!B14","v":"Q1.5"},{"$f":"'Technical page'!C14","v":3},{"$f":"VLOOKUP(E560,'Technical page'!$AU$10:$BD$25,7,0)","v":3},"compliant",null,{"$f":"VLOOKUP(E560,'Chapter 1'!$C$6:$D$112,2,0)","v":"Jakým způsobem se top management podílí na řešení záležitostí HSE&S?"}]
[null,null,null,null,{"$f":"'Technical page'!B15","v":"Q1.6"},{"$f":"'Technical page'!C15","v":3},{"$f":"VLOOKUP(E561,'Technical page'!$AU$10:$BD$25,7,0)","v":"-"},"n.a.",null,{"$f":"VLOOKUP(E561,'Chapter 1'!$C$6:$D$112,2,0)","v":"Jakým způsobem jsou odpovědnosti HSE&S začleněny do popisů pracovní náplně nebo ročních cílů?\n"}]
[null,null,null,null,{"$f":"'Technical page'!B16","v":"Q1.7"},{"$f":"'Technical page'!C16","v":4},{"$f":"VLOOKUP(E562,'Technical page'!$AU$10:$BD$25,7,0)","v":4},"compliant",null,{"$f":"VLOOKUP(E562,'Chapter 1'!$C$6:$D$112,2,0)","v":"Jakým způsobem se řídí (nejdůležitější) procesy v souvislosti s HSE&S?"}]
[null,null,null,null,{"$f":"'Technical page'!B17","v":"Q1.8"},{"$f":"'Technical page'!C17","v":3},{"$f":"VLOOKUP(E563,'Technical page'!$AU$10:$BD$25,7,0)","v":3},"compliant",null,{"$f":"VLOOKUP(E563,'Chapter 1'!$C$6:$D$112,2,0)","v":"Jakým způsobem top management zajišťuje neustálé zlepšování výkonu v oblasti HSE&S (zdraví, bezpečnosti, životního prostředí, energetiky a udržitelnosti)?"}]
[null,null,null,null,{"$f":"'Technical page'!B18","v":"Q1.9"},{"$f":"'Technical page'!C18","v":3},{"$f":"VLOOKUP(E564,'Technical page'!$AU$10:$BD$25,7,0)","v":3},"compliant",null,{"$f":"VLOOKUP(E564,'Chapter 1'!$C$6:$D$112,2,0)","v":"Jak jsou organizovány interní audity?"}]
[null,null,null,null,{"$f":"'Technical page'!B19","v":"Q1.10"},{"$f":"'Technical page'!C19","v":3},{"$f":"VLOOKUP(E565,'Technical page'!$AU$10:$BD$25,7,0)","v":3},"compliant",null,{"$f":"VLOOKUP(E565,'Chapter 1'!$C$6:$D$112,2,0)","v":"Jakým způsobem probíhá vyšetřování?"}]
[null,null,null,null,{"$f":"'Technical page'!B20","v":"Q1.11"},{"$f":"'Technical page'!C20","v":3},{"$f":"VLOOKUP(E566,'Technical page'!$AU$10:$BD$25,7,0)","v":3},"compliant",null,{"$f":"VLOOKUP(E566,'Chapter 1'!$C$6:$D$112,2,0)","v":"Jakým způsobem organizace zajišťuje procesy, čas a zdroje potřebné pro zlepšování procesů řízení HSE&S?"}]
[null,null,null,null,{"$f":"'Technical page'!B21","v":"Q1.12"},{"$f":"'Technical page'!C21","v":3},{"$f":"VLOOKUP(E567,'Technical page'!$AU$10:$BD$25,7,0)","v":3},"compliant",null,{"$f":"VLOOKUP(E567,'Chapter 1'!$C$6:$D$112,2,0)","v":"Jak organizace zajišťuje, že zaměstnanci jsou si vědomi politik a procesů týkajících se zdraví, bezpečnosti, životního prostředí, energetiky a udržitelnosti?"}]
[null,null,null,null,{"$f":"'Technical page'!B22","v":"Q1.13"},{"$f":"'Technical page'!C22","v":3},{"$f":"VLOOKUP(E568,'Technical page'!$AU$10:$BD$25,7,0)","v":3},"compliant",null,{"$f":"VLOOKUP(E568,'Chapter 1'!$C$6:$D$112,2,0)","v":"Jakým způsobem organizace zajišťuje správné kompetence pracovníků, pokud jde o aspekty HSE&S týkající se jejich práce?"}]
[null,null,null,null,{"$f":"'Technical page'!B23","v":"Q1.14"},{"$f":"'Technical page'!C23","v":3},{"$f":"VLOOKUP(E569,'Technical page'!$AU$10:$BD$25,7,0)","v":3},"compliant",null,{"$f":"VLOOKUP(E569,'Chapter 1'!$C$6:$D$112,2,0)","v":"Jaká je struktura zapojení zaměstnanců?"}]
[null,null,null,null,{"$f":"'Technical page'!B24","v":"Q1.15"},{"$f":"'Technical page'!C24","v":3},{"$f":"VLOOKUP(E570,'Technical page'!$AU$10:$BD$25,7,0)","v":3},"compliant",null,{"$f":"VLOOKUP(E570,'Chapter 1'!$C$6:$D$112,2,0)","v":"Jakým způsobem se řídí dokumentace HSE&S?"}]
[null,null,null,null,{"$f":"'Technical page'!B25","v":"Q1.16"},{"$f":"'Technical page'!C25","v":3},{"$f":"VLOOKUP(E571,'Technical page'!$AU$10:$BD$25,7,0)","v":3},"compliant",null,{"$f":"VLOOKUP(E571,'Chapter 1'!$C$6:$D$112,2,0)","v":"Jakým způsobem jsou řízeny změny potenciálně ovlivňující HSE&S (zdraví, bezpečnost, životní prostředí, energetiku a udržitelnost)?"}]
[null,null,null,null,"CHAPTER 2 : Safeguarding people and the environment"]
[null,null,null,null,{"$f":"'Technical page'!B124","v":"Q2.1"},{"$f":"'Technical page'!C124","v":3},{"$f":"VLOOKUP(E573,'Technical page'!$AU$124:$BD$168,7,0)","v":"-"},"n.a.",null,{"$f":"VLOOKUP(E573,'Chapter 2'!$C$6:$D$282,2,0)","v":"Jak se management zavázal k ochraně zdraví a bezpečnosti při práci (dále jen \"BOZP\")?"}]
[null,null,null,null,{"$f":"'Technical page'!B125","v":"Q2.2"},{"$f":"'Technical page'!C125","v":2},{"$f":"VLOOKUP(E574,'Technical page'!$AU$124:$BD$168,7,0)","v":"-"},{"$f":"IF(G574=\"-\",\"n.a.\",IF(F574-G574>-1,\"compliant\",\"increase score\"))","v":"n.a."},null,{"$f":"VLOOKUP(E574,'Chapter 2'!$C$6:$D$282,2,0)","v":"Jakým způsobem se určují rizika a expozice v souvislosti s BOZP?"}]
[null,null,null,null,{"$f":"'Technical page'!B126","v":"Q2.3"},{"$f":"'Technical page'!C126","v":3},{"$f":"VLOOKUP(E575,'Technical page'!$AU$124:$BD$168,7,0)","v":"-"},"n.a.",null,{"$f":"VLOOKUP(E575,'Chapter 2'!$C$6:$D$282,2,0)","v":"How are medical requirements evaluated?"}]
[null,null,null,null,{"$f":"'Technical page'!B127","v":"Q2.4"},{"$f":"'Technical page'!C127","v":3},{"$f":"VLOOKUP(E576,'Technical page'!$AU$124:$BD$168,7,0)","v":"-"},"n.a.",null,{"$f":"VLOOKUP(E576,'Chapter 2'!$C$6:$D$282,2,0)","v":"Jakým způsobem zlepšuje organizace BOZP?"}]
[null,null,null,null,{"$f":"'Technical page'!B128","v":"Q2.5"},{"$f":"'Technical page'!C128","v":3},{"$f":"VLOOKUP(E577,'Technical page'!$AU$124:$BD$168,7,0)","v":"-"},"n.a.",null,{"$f":"VLOOKUP(E577,'Chapter 2'!$C$6:$D$282,2,0)","v":"Jakým způsobem probíhá údržba a udržování pořádku s cílem zajistit bezpečnost provozů, zařízení, nástrojů a (bezpečnostních) pomůcek?"}]
[null,null,null,null,{"$f":"'Technical page'!B129","v":"Q2.6"},{"$f":"'Technical page'!C129","v":3},{"$f":"VLOOKUP(E578,'Technical page'!$AU$124:$BD$168,7,0)","v":"-"},"n.a.",null,{"$f":"VLOOKUP(E578,'Chapter 2'!$C$6:$D$282,2,0)","v":"Jak se ověřuje správný výběr, údržba a používání zdravotního a bezpečnostního vybavení (např. osobních ochranných prostředků = OOPP)?"}]
[null,null,null,null,{"$f":"'Technical page'!B130","v":"Q2.7"},{"$f":"'Technical page'!C130","v":2},{"$f":"VLOOKUP(E579,'Technical page'!$AU$124:$BD$168,7,0)","v":"-"},"n.a.",null,{"$f":"VLOOKUP(E579,'Chapter 2'!$C$6:$D$282,2,0)","v":"Jak se organizace stará o stres a tělesné a duševní zdraví zaměstnanců?"}]
[null,null,null,null,{"$f":"'Technical page'!B131","v":"Q2.8"},{"$f":"'Technical page'!C131","v":3},{"$f":"VLOOKUP(E580,'Technical page'!$AU$124:$BD$168,7,0)","v":"-"},"n.a.",null,{"$f":"VLOOKUP(E580,'Chapter 2'!$C$6:$D$282,2,0)","v":"Jakým způsobem se vyšetřují onemocnění, zranění, incidenty a potenciálně nebezpečné situace na pracovišti?"}]
[null,null,null,null,{"$f":"'Technical page'!B132","v":"Q2.9"},{"$f":"'Technical page'!C132","v":3},{"$f":"VLOOKUP(E581,'Technical page'!$AU$124:$BD$168,7,0)","v":"-"},"n.a.",null,{"$f":"VLOOKUP(E581,'Chapter 2'!$C$6:$D$282,2,0)","v":"Jak je organizace připravena na mimořádné události?"}]
[null,null,null,null,{"$f":"'Technical page'!B133","v":"Q2.10"},{"$f":"'Technical page'!C133","v":3},{"$f":"VLOOKUP(E582,'Technical page'!$AU$124:$BD$168,7,0)","v":3},"compliant",null,{"$f":"VLOOKUP(E582,'Chapter 2'!$C$6:$D$282,2,0)","v":"Jakým způsobem zajišťuje organizace správně kompetence všech pracovníků, týkající se požadavků BOZP, které souvisí s jejich pracovní náplní?"}]
[null,null,null,null,{"$f":"'Technical page'!B134","v":"Q2.11"},{"$f":"'Technical page'!C134","v":3},{"$f":"VLOOKUP(E583,'Technical page'!$AU$124:$BD$168,7,0)","v":"-"},"n.a.",null,{"$f":"VLOOKUP(E583,'Chapter 2'!$C$6:$D$282,2,0)","v":"Jakým způsobem se vedení staví k procesní bezpečnosti?\n\n"}]
[null,null,null,null,{"$f":"'Technical page'!B135","v":"Q2.12"},{"$f":"'Technical page'!C135","v":2},{"$f":"VLOOKUP(E584,'Technical page'!$AU$124:$BD$168,7,0)","v":"-"},"n.a.",null,{"$f":"VLOOKUP(E584,'Chapter 2'!$C$6:$D$282,2,0)","v":"Jakým způsobem je vypracována identifikace a popis bezpečnosti procesů, zařízení a pracovišť organizace?"}]
[null,null,null,null,{"$f":"'Technical page'!B136","v":"Q2.13"},{"$f":"'Technical page'!C136","v":1},{"$f":"VLOOKUP(E585,'Technical page'!$AU$124:$BD$168,7,0)","v":"-"},"n.a.",null,{"$f":"VLOOKUP(E585,'Chapter 2'!$C$6:$D$282,2,0)","v":"Jakým způsobem se zlepšuje procesní bezpečnost po nehodách a incidentech?"}]
[null,null,null,null,{"$f":"'Technical page'!B137","v":"Q2.14"},{"$f":"'Technical page'!C137","v":2},{"$f":"VLOOKUP(E586,'Technical page'!$AU$124:$BD$168,7,0)","v":"-"},"n.a.",null,{"$f":"VLOOKUP(E586,'Chapter 2'!$C$6:$D$282,2,0)","v":"Jakým způsobem se provádějí audity a inspekce procesní bezpečnosti?"}]
[null,null,null,null,{"$f":"'Technical page'!B138","v":"Q2.15"},{"$f":"'Technical page'!C138","v":3},{"$f":"VLOOKUP(E587,'Technical page'!$AU$124:$BD$168,7,0)","v":"-"},"n.a.",null,{"$f":"VLOOKUP(E587,'Chapter 2'!$C$6:$D$282,2,0)","v":"Jakým způsobem se prověřují a zlepšují pracovní pokyny?"}]
[null,null,null,null,{"$f":"'Technical page'!B139","v":"Q2.16"},{"$f":"'Technical page'!C139","v":3},{"$f":"VLOOKUP(E588,'Technical page'!$AU$124:$BD$168,7,0)","v":"-"},"n.a.",null,{"$f":"VLOOKUP(E588,'Chapter 2'!$C$6:$D$282,2,0)","v":"Jak je navrhována a dokumnetována instalace nových zařízení?"}]
[null,null,null,null,{"$f":"'Technical page'!B140","v":"Q2.17"},{"$f":"'Technical page'!C140","v":4},{"$f":"VLOOKUP(E589,'Technical page'!$AU$124:$BD$168,7,0)","v":"-"},"n.a.",null,{"$f":"VLOOKUP(E589,'Chapter 2'!$C$6:$D$282,2,0)","v":"Jakým způsobem probíhá kontrola zřizování instalace?"}]
[null,null,null,null,{"$f":"'Technical page'!B141","v":"Q2.18"},{"$f":"'Technical page'!C141","v":3},{"$f":"VLOOKUP(E590,'Technical page'!$AU$124:$BD$168,7,0)","v":"-"},"n.a.",null,{"$f":"VLOOKUP(E590,'Chapter 2'!$C$6:$D$282,2,0)","v":"Jakým způsobem je zaručena ochrana zařízení, aby jediná chyba neměla katastrofické následky?"}]
[null,null,null,null,{"$f":"'Technical page'!B142","v":"Q2.19"},{"$f":"'Technical page'!C142","v":3},{"$f":"VLOOKUP(E591,'Technical page'!$AU$124:$BD$168,7,0)","v":"-"},"n.a.",null,{"$f":"VLOOKUP(E591,'Chapter 2'!$C$6:$D$282,2,0)","v":"Byly zřízeny programy preventivní údržby a péče, které zaručují bezpečnost provozů, nástrojů a zařízení?"}]
[null,null,null,null,{"$f":"'Technical page'!B143","v":"Q2.20"},{"$f":"'Technical page'!C143","v":4},{"$f":"VLOOKUP(E592,'Technical page'!$AU$124:$BD$168,7,0)","v":"-"},"n.a.",null,{"$f":"VLOOKUP(E592,'Chapter 2'!$C$6:$D$282,2,0)","v":"Jakým způsobem se řídí procesy během mimořádných událostí v případě přerušení dodávky energie nebo služeb?"}]
[null,null,null,null,{"$f":"'Technical page'!B144","v":"Q2.21"},{"$f":"'Technical page'!C144","v":2},{"$f":"VLOOKUP(E593,'Technical page'!$AU$124:$BD$168,7,0)","v":"-"},"n.a.",null,{"$f":"VLOOKUP(E593,'Chapter 2'!$C$6:$D$282,2,0)","v":"Jak se připravují havarijní plány?"}]
[null,null,null,null,{"$f":"'Technical page'!B145","v":"Q2.22"},{"$f":"'Technical page'!C145","v":2},{"$f":"VLOOKUP(E594,'Technical page'!$AU$124:$BD$168,7,0)","v":"-"},"n.a.",null,{"$f":"VLOOKUP(E594,'Chapter 2'!$C$6:$D$282,2,0)","v":"Jakým způsobem jsou zabezpečeny kompetence a školení zaměstnanců a dodavatelů zapojených do procesů?"}]
[null,null,null,null,{"$f":"'Technical page'!B146","v":"Q2.23"},{"$f":"'Technical page'!C146","v":4},{"$f":"VLOOKUP(E595,'Technical page'!$AU$124:$BD$168,7,0)","v":"-"},"n.a.",null,{"$f":"VLOOKUP(E595,'Chapter 2'!$C$6:$D$282,2,0)","v":"Jakým způsobem se sdílejí informace o rizicích látek a přípravků?"}]
[null,null,null,null,{"$f":"'Technical page'!B147","v":"Q2.24"},{"$f":"'Technical page'!C147","v":4},{"$f":"VLOOKUP(E596,'Technical page'!$AU$124:$BD$168,7,0)","v":"-"},"n.a.",null,{"$f":"VLOOKUP(E596,'Chapter 2'!$C$6:$D$282,2,0)","v":"Jak se sdílejí informace o procesu?"}]
[null,null,null,null,{"$f":"'Technical page'!B148","v":"Q2.25"},{"$f":"'Technical page'!C148","v":3},{"$f":"VLOOKUP(E597,'Technical page'!$AU$124:$BD$168,7,0)","v":"-"},"n.a.",null,{"$f":"VLOOKUP(E597,'Chapter 2'!$C$6:$D$282,2,0)","v":"Jakým způsobem organizace hodnotí své logistické partnery z hlediska HSE&S, energetické účinnosti a emisí skleníkových plynů?"}]
[null,null,null,null,{"$f":"'Technical page'!B149","v":"Q2.26"},{"$f":"'Technical page'!C149","v":3},{"$f":"VLOOKUP(E598,'Technical page'!$AU$124:$BD$168,7,0)","v":"-"},"n.a.",null,{"$f":"VLOOKUP(E598,'Chapter 2'!$C$6:$D$282,2,0)","v":"Jakým způsobem organizace zabraňuje a reaguje na dopravní nehody?"}]
[null,null,null,null,{"$f":"'Technical page'!B150","v":"Q2.27"},{"$f":"'Technical page'!C150","v":2},{"$f":"VLOOKUP(E599,'Technical page'!$AU$124:$BD$168,7,0)","v":"-"},"n.a.",null,{"$f":"VLOOKUP(E599,'Chapter 2'!$C$6:$D$282,2,0)","v":"Jakým způsobem organizace identifikuje bezpečnostní problémy?"}]
[null,null,null,null,{"$f":"'Technical page'!B151","v":"Q2.28"},{"$f":"'Technical page'!C151","v":3},{"$f":"VLOOKUP(E600,'Technical page'!$AU$124:$BD$168,7,0)","v":"-"},"n.a.",null,{"$f":"VLOOKUP(E600,'Chapter 2'!$C$6:$D$282,2,0)","v":"Jakým způsobem se kontroluje příchod a odchod pracovníků a materiálu na pracovišti a v oblastech s omezeným vstupem?"}]
[null,null,null,null,{"$f":"'Technical page'!B152","v":"Q2.29"},{"$f":"'Technical page'!C152","v":3},{"$f":"VLOOKUP(E601,'Technical page'!$AU$124:$BD$168,7,0)","v":"-"},"n.a.",null,{"$f":"VLOOKUP(E601,'Chapter 2'!$C$6:$D$282,2,0)","v":"Jakým způsobem se kontroluje kybernetická bezpečnost?"}]
[null,null,null,null,{"$f":"'Technical page'!B153","v":"Q2.30"},{"$f":"'Technical page'!C153","v":2},{"$f":"VLOOKUP(E602,'Technical page'!$AU$124:$BD$168,7,0)","v":"-"},"n.a.",null,{"$f":"VLOOKUP(E602,'Chapter 2'!$C$6:$D$282,2,0)","v":"Jakým způsobem probíhá komunikace a výměna informací v případě bezpečnostní krize?"}]
[null,null,null,null,{"$f":"'Technical page'!B154","v":"Q2.31"},{"$f":"'Technical page'!C154","v":1},{"$f":"VLOOKUP(E603,'Technical page'!$AU$124:$BD$168,7,0)","v":"-"},"n.a.",null,{"$f":"VLOOKUP(E603,'Chapter 2'!$C$6:$D$282,2,0)","v":"Jak se organizace vyrovnává s podezřelým chováním (včetně rizik radikalizace = souhlas a podopra extrémních názorů)"}]
[null,null,null,null,{"$f":"'Technical page'!B155","v":"Q2.32"},{"$f":"'Technical page'!C155","v":2},{"$f":"VLOOKUP(E604,'Technical page'!$AU$124:$BD$168,7,0)","v":"-"},"n.a.",null,{"$f":"VLOOKUP(E604,'Chapter 2'!$C$6:$D$282,2,0)","v":"Jakým způsobem školí organizace pracovníky v oblasti ostrahy ve vazbě na bezpečnostní rizika?  "}]
[null,null,null,null,{"$f":"'Technical page'!B156","v":"Q2.33"},{"$f":"'Technical page'!C156","v":3},{"$f":"VLOOKUP(E605,'Technical page'!$AU$124:$BD$168,7,0)","v":3},"compliant",null,{"$f":"VLOOKUP(E605,'Chapter 2'!$C$6:$D$282,2,0)","v":"Jakým způsobem se posuzuje potenciální vliv organizace na životní prostředí?"}]
[null,null,null,null,{"$f":"'Technical page'!B157","v":"Q2.34"},{"$f":"'Technical page'!C157","v":4},{"$f":"VLOOKUP(E606,'Technical page'!$AU$124:$BD$168,7,0)","v":4},"compliant",null,{"$f":"VLOOKUP(E606,'Chapter 2'!$C$6:$D$282,2,0)","v":"Jakým způsobem se řídí environmentální výkonnost?"}]
[null,null,null,null,{"$f":"'Technical page'!B158","v":"Q2.35"},{"$f":"'Technical page'!C158","v":3},{"$f":"VLOOKUP(E607,'Technical page'!$AU$124:$BD$168,7,0)","v":3},"compliant",null,{"$f":"VLOOKUP(E607,'Chapter 2'!$C$6:$D$282,2,0)","v":"Jak organizace nakládá s odpadem?"}]
[null,null,null,null,{"$f":"'Technical page'!B159","v":"Q2.36"},{"$f":"'Technical page'!C159","v":3},{"$f":"VLOOKUP(E608,'Technical page'!$AU$124:$BD$168,7,0)","v":3},"compliant",null,{"$f":"VLOOKUP(E608,'Chapter 2'!$C$6:$D$282,2,0)","v":"Jakým způsobem řídí organizace rizika týkající se podzemních vod?"}]
[null,null,null,null,{"$f":"'Technical page'!B160","v":"Q2.37"},{"$f":"'Technical page'!C160","v":3},{"$f":"VLOOKUP(E609,'Technical page'!$AU$124:$BD$168,7,0)","v":3},"compliant",null,{"$f":"VLOOKUP(E609,'Chapter 2'!$C$6:$D$282,2,0)","v":"Jakým způsobem řídí organizace rizika týkající se znečištění půdy?"}]
[null,null,null,null,{"$f":"'Technical page'!B161","v":"Q2.38"},{"$f":"'Technical page'!C161","v":3},{"$f":"VLOOKUP(E610,'Technical page'!$AU$124:$BD$168,7,0)","v":3},"compliant",null,{"$f":"VLOOKUP(E610,'Chapter 2'!$C$6:$D$282,2,0)","v":"Jakým způsobem řídí organizace existující znečištění půdy?\n"}]
[null,null,null,null,{"$f":"'Technical page'!B162","v":"Q2.39"},{"$f":"'Technical page'!C162","v":3},{"$f":"VLOOKUP(E611,'Technical page'!$AU$124:$BD$168,7,0)","v":3},"compliant",null,{"$f":"VLOOKUP(E611,'Chapter 2'!$C$6:$D$282,2,0)","v":"Jakým způsobem organizace řídí své emise škodlivin do ovzduší?"}]
[null,null,null,null,{"$f":"'Technical page'!B163","v":"Q2.40"},{"$f":"'Technical page'!C163","v":3},{"$f":"VLOOKUP(E612,'Technical page'!$AU$124:$BD$168,7,0)","v":3},"compliant",null,{"$f":"VLOOKUP(E612,'Chapter 2'!$C$6:$D$282,2,0)","v":"Jakým způsobem organizace řídí své emise škodlivin do vody?"}]
[null,null,null,null,{"$f":"'Technical page'!B164","v":"Q2.41"},{"$f":"'Technical page'!C164","v":3},{"$f":"VLOOKUP(E613,'Technical page'!$AU$124:$BD$168,7,0)","v":3},"compliant",null,{"$f":"VLOOKUP(E613,'Chapter 2'!$C$6:$D$282,2,0)","v":"Jakým způsobem organizace řídí své emise hluku?"}]
[null,null,null,null,{"$f":"'Technical page'!B165","v":"Q2.42"},{"$f":"'Technical page'!C165","v":3},{"$f":"VLOOKUP(E614,'Technical page'!$AU$124:$BD$168,7,0)","v":3},"compliant",null,{"$f":"VLOOKUP(E614,'Chapter 2'!$C$6:$D$282,2,0)","v":"Jakým způsobem organizace řídí své emise zápachu?"}]
[null,null,null,null,{"$f":"'Technical page'!B166","v":"Q2.43"},{"$f":"'Technical page'!C166","v":3},{"$f":"VLOOKUP(E615,'Technical page'!$AU$124:$BD$168,7,0)","v":3},"compliant",null,{"$f":"VLOOKUP(E615,'Chapter 2'!$C$6:$D$282,2,0)","v":"Jakým způsobem organizace zabraňuje a řídí havarijní emise do prostředí?"}]
[null,null,null,null,{"$f":"'Technical page'!B167","v":"Q2.44"},{"$f":"'Technical page'!C167","v":3},{"$f":"VLOOKUP(E616,'Technical page'!$AU$124:$BD$168,7,0)","v":3},"compliant",null,{"$f":"VLOOKUP(E616,'Chapter 2'!$C$6:$D$282,2,0)","v":"Jakým způsobem zajišťuje organizace správně kompetence všech pracovníků, týkající se environmentálních požadavků, které souvisejí s jejich pracovní náplní?"}]
[null,null,null,null,{"$f":"'Technical page'!B168","v":"Q2.45"},{"$f":"'Technical page'!C168","v":1},{"$f":"VLOOKUP(E617,'Technical page'!$AU$124:$BD$168,7,0)","v":2},"increase score",null,{"$f":"VLOOKUP(E617,'Chapter 2'!$C$6:$D$282,2,0)","v":"Jakým způsobem jsou zainteresované strany organizace informovány o environmentálních aspektech a jejich možných dopadech?"}]
[null,null,null,null,"CHAPTER 3 : Strengthening chemicals management systems"]
[null,null,null,null,{"$f":"'Technical page'!$B$406","v":"Q3.1"},{"$f":"'Technical page'!$C$406","v":4},{"$f":"VLOOKUP(E619,'Technical page'!$AU$406:$BD$418,7,0)","v":"-"},{"$f":"IF(G619=\"-\",\"n.a.\",IF(F619-G619>-1,\"compliant\",\"increase score\"))","v":"n.a."},null,{"$f":"VLOOKUP(E619,'Chapter 3'!$C$6:$D$89,2,0)","v":"Zavedla organizace proces pro navrhování a vývoj nových \nproduktů a služeb?"}]
[null,null,null,null,{"$f":"'Technical page'!$B$407","v":"Q3.2"},{"$f":"'Technical page'!$C$407","v":2},{"$f":"VLOOKUP(E620,'Technical page'!$AU$406:$BD$418,7,0)","v":"-"},"n.a.",null,{"$f":"VLOOKUP(E620,'Chapter 3'!$C$6:$D$89,2,0)","v":"Má organizace k dispozici proces hodnocení a stanovení priorit svých produktů pro charakterizaci rizik a řízení rizik?\n\n\n"}]
[null,null,null,null,{"$f":"'Technical page'!$B$408","v":"Q3.3"},{"$f":"'Technical page'!$C$408","v":4},{"$f":"VLOOKUP(E621,'Technical page'!$AU$406:$BD$418,7,0)","v":"-"},"n.a.",null,{"$f":"VLOOKUP(E621,'Chapter 3'!$C$6:$D$89,2,0)","v":"Zavedla organizace systém pro sledování použitelnosti, změn a dodržování interních a externích požadavků souvisejících s řízením bezpečnosti chemických látek?"}]
[null,null,null,null,{"$f":"'Technical page'!$B$409","v":"Q3.4"},{"$f":"'Technical page'!$C$409","v":2},{"$f":"VLOOKUP(E622,'Technical page'!$AU$406:$BD$418,7,0)","v":"-"},"n.a.",null,{"$f":"VLOOKUP(E622,'Chapter 3'!$C$6:$D$89,2,0)","v":"Zavedla organizace systém na správu existujících informací o rizicích svých produktů?"}]
[null,null,null,null,{"$f":"'Technical page'!$B$410","v":"Q3.5"},{"$f":"'Technical page'!$C$410","v":1},{"$f":"VLOOKUP(E623,'Technical page'!$AU$406:$BD$418,7,0)","v":"-"},"n.a.",null,{"$f":"VLOOKUP(E623,'Chapter 3'!$C$6:$D$89,2,0)","v":"Zavedla organizace proces řízení informací o používání a expozici svých produktů?"}]
[null,null,null,null,{"$f":"'Technical page'!$B$411","v":"Q3.6"},{"$f":"'Technical page'!$C$411","v":1},{"$f":"VLOOKUP(E624,'Technical page'!$AU$406:$BD$418,7,0)","v":"-"},"n.a.",null,{"$f":"VLOOKUP(E624,'Chapter 3'!$C$6:$D$89,2,0)","v":"Zavedla organizace proces na správu nových informací?"}]
[null,null,null,null,{"$f":"'Technical page'!$B$412","v":"Q3.7"},{"$f":"'Technical page'!$C$412","v":2},{"$f":"VLOOKUP(E625,'Technical page'!$AU$406:$BD$418,7,0)","v":"-"},"n.a.",null,{"$f":"VLOOKUP(E625,'Chapter 3'!$C$6:$D$89,2,0)","v":"Zavedla organizace proces charakterizace rizik na základě shromážděných informací?"}]
[null,null,null,null,{"$f":"'Technical page'!$B$413","v":"Q3.8"},{"$f":"'Technical page'!$C$413","v":1},{"$f":"VLOOKUP(E626,'Technical page'!$AU$406:$BD$418,7,0)","v":"-"},"n.a.",null,{"$f":"VLOOKUP(E626,'Chapter 3'!$C$6:$D$89,2,0)","v":"Zavedla organizace proces řízení rizik na základě shromážděných informací?"}]
[null,null,null,null,{"$f":"'Technical page'!$B$414","v":"Q3.9"},{"$f":"'Technical page'!$C$414","v":3},{"$f":"VLOOKUP(E627,'Technical page'!$AU$406:$BD$418,7,0)","v":"-"},"n.a.",null,{"$f":"VLOOKUP(E627,'Chapter 3'!$C$6:$D$89,2,0)","v":"Zavedla organizace účinný proces sledování svých produktů po dodání a provádění nápravných opatření?\n"}]
[null,null,null,null,{"$f":"'Technical page'!$B$415","v":"Q3.10"},{"$f":"'Technical page'!$C$415","v":3},{"$f":"VLOOKUP(E628,'Technical page'!$AU$406:$BD$418,7,0)","v":"-"},"n.a.",null,{"$f":"VLOOKUP(E628,'Chapter 3'!$C$6:$D$89,2,0)","v":"Poskytuje organizace efektivní komunikaci v rámci dodavatelského řetězce ohledně opatření k řízení rizik, které se vztahují na jejich produkty?"}]
[null,null,null,null,"CHAPTER 4 : Influencing business partners"]
[null,null,null,null,{"$f":"'Technical page'!B482","v":"Q4.1"},{"$f":"'Technical page'!C482","v":3},{"$f":"VLOOKUP(E630,'Technical page'!$AU$482:$BD$489,7,0)","v":"-"},{"$f":"IF(G630=\"-\",\"n.a.\",IF(F630-G630>-1,\"compliant\",\"increase score\"))","v":"n.a."},null,{"$f":"VLOOKUP(E630,'Chapter 4'!$C$6:$D$91,2,0)","v":"Jak se organizace zavázala k odpovědnému získávání zdrojů?"}]
[null,null,null,null,{"$f":"'Technical page'!B483","v":"Q4.2"},{"$f":"'Technical page'!C483","v":2},{"$f":"VLOOKUP(E631,'Technical page'!$AU$482:$BD$489,7,0)","v":"-"},{"$f":"IF(G631=\"-\",\"n.a.\",IF(F631-G631>-1,\"compliant\",\"increase score\"))","v":"n.a."},null,{"$f":"VLOOKUP(E631,'Chapter 4'!$C$6:$D$91,2,0)","v":"Jak organizace zlepšuje spolupráci v dodavatelském řetězci?"}]
[null,null,null,null,{"$f":"'Technical page'!B484","v":"Q4.3"},{"$f":"'Technical page'!C484","v":3},{"$f":"VLOOKUP(E632,'Technical page'!$AU$482:$BD$489,7,0)","v":"-"},"n.a.",null,{"$f":"VLOOKUP(E632,'Chapter 4'!$C$6:$D$91,2,0)","v":"Jakým způsobem vyjadřuje organizace svůj závazek vůči podnikatelské etice?"}]
[null,null,null,null,{"$f":"'Technical page'!B485","v":"Q4.4"},{"$f":"'Technical page'!C485","v":1},{"$f":"VLOOKUP(E633,'Technical page'!$AU$482:$BD$489,7,0)","v":"-"},"n.a.",null,{"$f":"VLOOKUP(E633,'Chapter 4'!$C$6:$D$91,2,0)","v":"Jakým způsobem řeší organizace sociální problematiku a lidská práva v rámci spolupráce s obchodními partnery?"}]
[null,null,null,null,{"$f":"'Technical page'!B486","v":"Q4.5"},{"$f":"'Technical page'!C486","v":4},{"$f":"VLOOKUP(E634,'Technical page'!$AU$482:$BD$489,7,0)","v":"-"},"n.a.",null,{"$f":"VLOOKUP(E634,'Chapter 4'!$C$6:$D$91,2,0)","v":"Jakým způsobem zabraňuje organizace dětské práci?\nOrganizace\n1-\tzavedla systém ověřování věku; \n2-\tnezaměstnává děti mladší 15 let (v závislosti na místní legislativy). Jedinou výjimku představují učni, školní praxe nebo vzdělávací stáže; \n3-\tzaručuje, aby pracovní náplň osob mladších než 18 let neovlivňovala jejich školní docházku (doba strávená dopravou do práce a školy a z práce a školy, školní docházkou a prací je méně než 10 hodin denně );\n4-\tzajišťuje, že pracovní náplň mladých pracovníků není duševně, fyzicky, společensky ani morálně nebezpečná a škodlivá."}]
[null,null,null,null,{"$f":"'Technical page'!B487","v":"Q4.6"},{"$f":"'Technical page'!C487","v":3},{"$f":"VLOOKUP(E635,'Technical page'!$AU$482:$BD$489,7,0)","v":"-"},"n.a.",null,{"$f":"VLOOKUP(E635,'Chapter 4'!$C$6:$D$91,2,0)","v":"Jakým způsobem zabezpečuje organizace splnění svých požadavků ze strany logistických partnerů?"}]
[null,null,null,null,{"$f":"'Technical page'!B488","v":"Q4.7"},{"$f":"'Technical page'!C488","v":3},{"$f":"VLOOKUP(E636,'Technical page'!$AU$482:$BD$489,7,0)","v":"-"},"n.a.",null,{"$f":"VLOOKUP(E636,'Chapter 4'!$C$6:$D$91,2,0)","v":"Jakým způsobem organizace chrání a zabezpečuje majetek a údaje následných uživatelů nebo externích poskytovatelů, které se používají nebo začleňují do produktů a služeb?"}]
[null,null,null,null,{"$f":"'Technical page'!B489","v":"Q4.8"},{"$f":"'Technical page'!C489","v":4},{"$f":"VLOOKUP(E637,'Technical page'!$AU$482:$BD$489,7,0)","v":"-"},"n.a.",null,{"$f":"VLOOKUP(E637,'Chapter 4'!$C$6:$D$91,2,0)","v":"Co zahrnuje dialog s následnými uživateli?"}]
[null,null,null,null,"CHAPTER 5 : Engaging stakeholders"]
[null,null,null,null,{"$f":"'Technical page'!B544","v":"Q5.1"},{"$f":"'Technical page'!C544","v":3},{"$f":"VLOOKUP(E639,'Technical page'!$AU$544:$BD$548,7,0)","v":3},{"$f":"IF(G639=\"-\",\"n.a.\",IF(F639-G639>-1,\"compliant\",\"increase score\"))","v":"compliant"},null,{"$f":"VLOOKUP(E639,'Chapter 5'!$C$6:$D$89,2,0)","v":"Jakým způsobem zapojuje organizace své externí zainteresované strany a naplňuje jejich očekávání?"}]
[null,null,null,null,{"$f":"'Technical page'!B545","v":"Q5.2"},{"$f":"'Technical page'!C545","v":2},{"$f":"VLOOKUP(E640,'Technical page'!$AU$544:$BD$548,7,0)","v":3},{"$f":"IF(G640=\"-\",\"n.a.\",IF(F640-G640>-1,\"compliant\",\"increase score\"))","v":"increase score"},null,{"$f":"VLOOKUP(E640,'Chapter 5'!$C$6:$D$89,2,0)","v":"Jakým způsobem vede organizace dialog s veřejností, úřady a dalšími zainteresovanými stranami, včetně místních komunit a zákazníků v souvislosti s HSE&S v rámci jejich činností, produktů a služeb?"}]
[null,null,null,null,{"$f":"'Technical page'!B546","v":"Q5.3"},{"$f":"'Technical page'!C546","v":2},{"$f":"VLOOKUP(E641,'Technical page'!$AU$544:$BD$548,7,0)","v":3},"increase score",null,{"$f":"VLOOKUP(E641,'Chapter 5'!$C$6:$D$89,2,0)","v":"Jakým způsobem zveřejňuje organizace informace týkající se\n HSE&S?"}]
[null,null,null,null,{"$f":"'Technical page'!B547","v":"Q5.4"},{"$f":"'Technical page'!C547","v":3},{"$f":"VLOOKUP(E642,'Technical page'!$AU$544:$BD$548,7,0)","v":"-"},"n.a.",null,{"$f":"VLOOKUP(E642,'Chapter 5'!$C$6:$D$89,2,0)","v":"Jakým způsobem podporuje organizace místní komunity?"}]
[null,null,null,null,{"$f":"'Technical page'!B548","v":"Q5.5"},{"$f":"'Technical page'!C548","v":2},{"$f":"VLOOKUP(E643,'Technical page'!$AU$544:$BD$548,7,0)","v":"-"},"n.a.",null,{"$f":"VLOOKUP(E643,'Chapter 5'!$C$6:$D$89,2,0)","v":"Jakým způsobem stimuluje organizace místní zaměstnanost a vzdělávání?"}]
[null,null,null,null,"CHAPTER 6 : Contributing to sustainability"]
[null,null,null,null,{"$f":"'Technical page'!B584","v":"Q6.1"},{"$f":"'Technical page'!C584","v":2},{"$f":"VLOOKUP(E645,'Technical page'!$AU$584:$BD$600,7,0)","v":"-"},{"$f":"IF(G645=\"-\",\"n.a.\",IF(F645-G645>-1,\"compliant\",\"increase score\"))","v":"n.a."},null,{"$f":"VLOOKUP(E645,'Chapter 6'!$C$6:$D$120,2,0)","v":"Jakým způsobem definuje organizace významné problémy a závažnost?"}]
[null,null,null,null,{"$f":"'Technical page'!B585","v":"Q6.2"},{"$f":"'Technical page'!C585","v":1},{"$f":"VLOOKUP(E646,'Technical page'!$AU$584:$BD$600,7,0)","v":"-"},{"$f":"IF(G646=\"-\",\"n.a.\",IF(F646-G646>-1,\"compliant\",\"increase score\"))","v":"n.a."},null,{"$f":"VLOOKUP(E646,'Chapter 6'!$C$6:$D$120,2,0)","v":"Jakým způsobem hodlá organizace přispívat k udržitelnému rozvoji?"}]
[null,null,null,null,{"$f":"'Technical page'!B586","v":"Q6.3"},{"$f":"'Technical page'!C586","v":3},{"$f":"VLOOKUP(E647,'Technical page'!$AU$584:$BD$600,7,0)","v":"-"},"n.a.",null,{"$f":"VLOOKUP(E647,'Chapter 6'!$C$6:$D$120,2,0)","v":"Jakým způsobem komunikuje organizace zainteresovaných stran na téma udržitelnosti?"}]
[null,null,null,null,{"$f":"'Technical page'!B587","v":"Q6.4"},{"$f":"'Technical page'!C587","v":2},{"$f":"VLOOKUP(E648,'Technical page'!$AU$584:$BD$600,7,0)","v":"-"},"n.a.",null,{"$f":"VLOOKUP(E648,'Chapter 6'!$C$6:$D$120,2,0)","v":"Má organizace zavedený proces navrhování výrobků s lepšími výsledky udržitelnosti?"}]
[null,null,null,null,{"$f":"'Technical page'!B588","v":"Q6.5"},{"$f":"'Technical page'!C588","v":2},{"$f":"VLOOKUP(E649,'Technical page'!$AU$584:$BD$600,7,0)","v":"-"},"n.a.",null,{"$f":"VLOOKUP(E649,'Chapter 6'!$C$6:$D$120,2,0)","v":"Jakým způsobem zvyšuje organizace efektivnost zdrojů ve svých výrobních procesech?"}]
[null,null,null,null,{"$f":"'Technical page'!B589","v":"Q6.6"},{"$f":"'Technical page'!C589","v":1},{"$f":"VLOOKUP(E650,'Technical page'!$AU$584:$BD$600,7,0)","v":"-"},"n.a.",null,{"$f":"VLOOKUP(E650,'Chapter 6'!$C$6:$D$120,2,0)","v":"Jakým způsobem stimuluje organizace oběhové hospodářství prostřednictvím svých produktů?"}]
[null,null,null,null,{"$f":"'Technical page'!B590","v":"Q6.7"},{"$f":"'Technical page'!C590","v":2},{"$f":"VLOOKUP(E651,'Technical page'!$AU$584:$BD$600,7,0)","v":"-"},"n.a.",null,{"$f":"VLOOKUP(E651,'Chapter 6'!$C$6:$D$120,2,0)","v":"Jakým způsobem podporuje organizace inovace při vývoji produktů a řešení, které odpovídají výzvám udržitelnosti?"}]
[null,null,null,null,{"$f":"'Technical page'!B591","v":"Q6.8"},{"$f":"'Technical page'!C591","v":3},{"$f":"VLOOKUP(E652,'Technical page'!$AU$584:$BD$600,7,0)","v":"-"},"n.a.",null,{"$f":"VLOOKUP(E652,'Chapter 6'!$C$6:$D$120,2,0)","v":"Jakým způsobem stimuluje organizace inovaci a spolupráci?"}]
[null,null,null,null,{"$f":"'Technical page'!B592","v":"Q6.9"},{"$f":"'Technical page'!C592","v":2},{"$f":"VLOOKUP(E653,'Technical page'!$AU$584:$BD$600,7,0)","v":"-"},"n.a.",null,{"$f":"VLOOKUP(E653,'Chapter 6'!$C$6:$D$120,2,0)","v":"Jakým způsobem podporuje organizace udržitelné způsoby spotřeby?"}]
[null,null,null,null,{"$f":"'Technical page'!B593","v":"Q6.10"},{"$f":"'Technical page'!C593","v":3},{"$f":"VLOOKUP(E654,'Technical page'!$AU$584:$BD$600,7,0)","v":"-"},"n.a.",null,{"$f":"VLOOKUP(E654,'Chapter 6'!$C$6:$D$120,2,0)","v":"Jakým způsobem organizace kontroluje a optimalizuje spotřebu vody?"}]
[null,null,null,null,{"$f":"'Technical page'!B594","v":"Q6.11"},{"$f":"'Technical page'!C594","v":1},{"$f":"VLOOKUP(E655,'Technical page'!$AU$584:$BD$600,7,0)","v":"-"},"n.a.",null,{"$f":"VLOOKUP(E655,'Chapter 6'!$C$6:$D$120,2,0)","v":"Jakým způsobem se řídí vliv organizace na biodiverzitu a ekosystém?"}]
[null,null,null,null,{"$f":"'Technical page'!B595","v":"Q6.12"},{"$f":"'Technical page'!C595","v":1},{"$f":"VLOOKUP(E656,'Technical page'!$AU$584:$BD$600,7,0)","v":"-"},"n.a.",null,{"$f":"VLOOKUP(E656,'Chapter 6'!$C$6:$D$120,2,0)","v":"Jakým způsobem posuzuje organizace svou závislost na přírodních zdrojích (ekosystémech)?"}]
[null,null,null,null,{"$f":"'Technical page'!B596","v":"Q6.13"},{"$f":"'Technical page'!C596","v":4},{"$f":"VLOOKUP(E657,'Technical page'!$AU$584:$BD$600,7,0)","v":"-"},"n.a.",null,{"$f":"VLOOKUP(E657,'Chapter 6'!$C$6:$D$120,2,0)","v":"Jakým způsobem řídí organizace svou spotřebu energie?"}]
[null,null,null,null,{"$f":"'Technical page'!B597","v":"Q6.14"},{"$f":"'Technical page'!C597","v":3},{"$f":"VLOOKUP(E658,'Technical page'!$AU$584:$BD$600,7,0)","v":"-"},"n.a.",null,{"$f":"VLOOKUP(E658,'Chapter 6'!$C$6:$D$120,2,0)","v":"Jakým způsobem řídí organizace emise skleníkových plynů (kromě úspor energie)?"}]
[null,null,null,null,{"$f":"'Technical page'!B598","v":"Q6.15"},{"$f":"'Technical page'!C598","v":2},{"$f":"VLOOKUP(E659,'Technical page'!$AU$584:$BD$600,7,0)","v":"-"},"n.a.",null,{"$f":"VLOOKUP(E659,'Chapter 6'!$C$6:$D$120,2,0)","v":"Jaká je strategie organizace na snižování emisí skleníkových plynů?"}]
[null,null,null,null,{"$f":"'Technical page'!B599","v":"Q6.16"},{"$f":"'Technical page'!C599","v":3},{"$f":"VLOOKUP(E660,'Technical page'!$AU$584:$BD$600,7,0)","v":3},"compliant",null,{"$f":"VLOOKUP(E660,'Chapter 6'!$C$6:$D$120,2,0)","v":"Jakým způsobem se organizace připravuje na klimatické změny? "}]
[null,null,null,null,{"$f":"'Technical page'!B600","v":"Q6.17"},{"$f":"'Technical page'!C600","v":2},{"$f":"VLOOKUP(E661,'Technical page'!$AU$584:$BD$600,7,0)","v":"-"},"n.a.",null,{"$f":"VLOOKUP(E661,'Chapter 6'!$C$6:$D$120,2,0)","v":"Jak organizace zajišťuje rovné příležitosti při náboru a během kariéry všech?"}]
[]
[null,null,"Report on distance to compliance with RC 14001"]
[null,null,null,null,null,"Your score","Minimum score for RC 14001"]
[null,null,null,null,"CHAPTER 1 : A corporate leadership culture"]
[null,null,null,null,{"$f":"'Technical page'!B10","v":"Q1.1"},{"$f":"'Technical page'!C10","v":3},{"$f":"VLOOKUP(E666,'Technical page'!$AU$10:$BD$25,8,0)","v":3},{"$f":"IF(G666=\"-\",\"n.a.\",IF(F666-G666>-1,\"compliant\",\"increase score\"))","v":"compliant"},null,{"$f":"VLOOKUP(E666,'Chapter 1'!$C$6:$D$112,2,0)","v":"Jak se projevuje závazek plnit povinnosti týkající se dodržování předpisů a zásad Responsible Care = RC (tj. ochrana a podpora zdraví a bezpečnost lidí, životního prostředí a udržitelnosti) na všech úrovních organizace?\n"}]
[null,null,null,null,{"$f":"'Technical page'!B11","v":"Q1.2"},{"$f":"'Technical page'!C11","v":3},{"$f":"VLOOKUP(E667,'Technical page'!$AU$10:$BD$25,8,0)","v":3},{"$f":"IF(G667=\"-\",\"n.a.\",IF(F667-G667>-1,\"compliant\",\"increase score\"))","v":"compliant"},null,{"$f":"VLOOKUP(E667,'Chapter 1'!$C$6:$D$112,2,0)","v":"Jakým způsobem řídí organizace příslušná rizika a příležitosti?  "}]
[null,null,null,null,{"$f":"'Technical page'!B12","v":"Q1.3"},{"$f":"'Technical page'!C12","v":2},{"$f":"VLOOKUP(E668,'Technical page'!$AU$10:$BD$25,8,0)","v":2},"compliant",null,{"$f":"VLOOKUP(E668,'Chapter 1'!$C$6:$D$112,2,0)","v":"Jakým způsobem monitoruje organizace svoje zákonné povinnosti? "}]
[null,null,null,null,{"$f":"'Technical page'!B13","v":"Q1.4"},{"$f":"'Technical page'!C13","v":2},{"$f":"VLOOKUP(E669,'Technical page'!$AU$10:$BD$25,8,0)","v":2},"compliant",null,{"$f":"VLOOKUP(E669,'Chapter 1'!$C$6:$D$112,2,0)","v":"Jakým způsobem top management zajišťuje, že jednotlivé aspekty HSE&S (zdraví, bezpečnosti, ochrany životního prostředí & udržitelnosti) jsou přiřazeny stanoveným rolím v organizaci?"}]
[null,null,null,null,{"$f":"'Technical page'!B14","v":"Q1.5"},{"$f":"'Technical page'!C14","v":3},{"$f":"VLOOKUP(E670,'Technical page'!$AU$10:$BD$25,8,0)","v":3},"compliant",null,{"$f":"VLOOKUP(E670,'Chapter 1'!$C$6:$D$112,2,0)","v":"Jakým způsobem se top management podílí na řešení záležitostí HSE&S?"}]
[null,null,null,null,{"$f":"'Technical page'!B15","v":"Q1.6"},{"$f":"'Technical page'!C15","v":3},{"$f":"VLOOKUP(E671,'Technical page'!$AU$10:$BD$25,8,0)","v":3},"compliant",null,{"$f":"VLOOKUP(E671,'Chapter 1'!$C$6:$D$112,2,0)","v":"Jakým způsobem jsou odpovědnosti HSE&S začleněny do popisů pracovní náplně nebo ročních cílů?\n"}]
[null,null,null,null,{"$f":"'Technical page'!B16","v":"Q1.7"},{"$f":"'Technical page'!C16","v":4},{"$f":"VLOOKUP(E672,'Technical page'!$AU$10:$BD$25,8,0)","v":3},"compliant",null,{"$f":"VLOOKUP(E672,'Chapter 1'!$C$6:$D$112,2,0)","v":"Jakým způsobem se řídí (nejdůležitější) procesy v souvislosti s HSE&S?"}]
[null,null,null,null,{"$f":"'Technical page'!B17","v":"Q1.8"},{"$f":"'Technical page'!C17","v":3},{"$f":"VLOOKUP(E673,'Technical page'!$AU$10:$BD$25,8,0)","v":3},"compliant",null,{"$f":"VLOOKUP(E673,'Chapter 1'!$C$6:$D$112,2,0)","v":"Jakým způsobem top management zajišťuje neustálé zlepšování výkonu v oblasti HSE&S (zdraví, bezpečnosti, životního prostředí, energetiky a udržitelnosti)?"}]
[null,null,null,null,{"$f":"'Technical page'!B18","v":"Q1.9"},{"$f":"'Technical page'!C18","v":3},{"$f":"VLOOKUP(E674,'Technical page'!$AU$10:$BD$25,8,0)","v":3},"compliant",null,{"$f":"VLOOKUP(E674,'Chapter 1'!$C$6:$D$112,2,0)","v":"Jak jsou organizovány interní audity?"}]
[null,null,null,null,{"$f":"'Technical page'!B19","v":"Q1.10"},{"$f":"'Technical page'!C19","v":3},{"$f":"VLOOKUP(E675,'Technical page'!$AU$10:$BD$25,8,0)","v":3},"compliant",null,{"$f":"VLOOKUP(E675,'Chapter 1'!$C$6:$D$112,2,0)","v":"Jakým způsobem probíhá vyšetřování?"}]
[null,null,null,null,{"$f":"'Technical page'!B20","v":"Q1.11"},{"$f":"'Technical page'!C20","v":3},{"$f":"VLOOKUP(E676,'Technical page'!$AU$10:$BD$25,8,0)","v":3},"compliant",null,{"$f":"VLOOKUP(E676,'Chapter 1'!$C$6:$D$112,2,0)","v":"Jakým způsobem organizace zajišťuje procesy, čas a zdroje potřebné pro zlepšování procesů řízení HSE&S?"}]
[null,null,null,null,{"$f":"'Technical page'!B21","v":"Q1.12"},{"$f":"'Technical page'!C21","v":3},{"$f":"VLOOKUP(E677,'Technical page'!$AU$10:$BD$25,8,0)","v":3},"compliant",null,{"$f":"VLOOKUP(E677,'Chapter 1'!$C$6:$D$112,2,0)","v":"Jak organizace zajišťuje, že zaměstnanci jsou si vědomi politik a procesů týkajících se zdraví, bezpečnosti, životního prostředí, energetiky a udržitelnosti?"}]
[null,null,null,null,{"$f":"'Technical page'!B22","v":"Q1.13"},{"$f":"'Technical page'!C22","v":3},{"$f":"VLOOKUP(E678,'Technical page'!$AU$10:$BD$25,8,0)","v":3},"compliant",null,{"$f":"VLOOKUP(E678,'Chapter 1'!$C$6:$D$112,2,0)","v":"Jakým způsobem organizace zajišťuje správné kompetence pracovníků, pokud jde o aspekty HSE&S týkající se jejich práce?"}]
[null,null,null,null,{"$f":"'Technical page'!B23","v":"Q1.14"},{"$f":"'Technical page'!C23","v":3},{"$f":"VLOOKUP(E679,'Technical page'!$AU$10:$BD$25,8,0)","v":2},"compliant",null,{"$f":"VLOOKUP(E679,'Chapter 1'!$C$6:$D$112,2,0)","v":"Jaká je struktura zapojení zaměstnanců?"}]
[null,null,null,null,{"$f":"'Technical page'!B24","v":"Q1.15"},{"$f":"'Technical page'!C24","v":3},{"$f":"VLOOKUP(E680,'Technical page'!$AU$10:$BD$25,8,0)","v":3},"compliant",null,{"$f":"VLOOKUP(E680,'Chapter 1'!$C$6:$D$112,2,0)","v":"Jakým způsobem se řídí dokumentace HSE&S?"}]
[null,null,null,null,{"$f":"'Technical page'!B25","v":"Q1.16"},{"$f":"'Technical page'!C25","v":3},{"$f":"VLOOKUP(E681,'Technical page'!$AU$10:$BD$25,8,0)","v":3},"compliant",null,{"$f":"VLOOKUP(E681,'Chapter 1'!$C$6:$D$112,2,0)","v":"Jakým způsobem jsou řízeny změny potenciálně ovlivňující HSE&S (zdraví, bezpečnost, životní prostředí, energetiku a udržitelnost)?"}]
[null,null,null,null,"CHAPTER 2 : Safeguarding people and the environment"]
[null,null,null,null,{"$f":"'Technical page'!B124","v":"Q2.1"},{"$f":"'Technical page'!C124","v":3},{"$f":"VLOOKUP(E683,'Technical page'!$AU$124:$BD$168,8,0)","v":2},"compliant",null,{"$f":"VLOOKUP(E683,'Chapter 2'!$C$6:$D$282,2,0)","v":"Jak se management zavázal k ochraně zdraví a bezpečnosti při práci (dále jen \"BOZP\")?"}]
[null,null,null,null,{"$f":"'Technical page'!B125","v":"Q2.2"},{"$f":"'Technical page'!C125","v":2},{"$f":"VLOOKUP(E684,'Technical page'!$AU$124:$BD$168,8,0)","v":"-"},{"$f":"IF(G684=\"-\",\"n.a.\",IF(F684-G684>-1,\"compliant\",\"increase score\"))","v":"n.a."},null,{"$f":"VLOOKUP(E684,'Chapter 2'!$C$6:$D$282,2,0)","v":"Jakým způsobem se určují rizika a expozice v souvislosti s BOZP?"}]
[null,null,null,null,{"$f":"'Technical page'!B126","v":"Q2.3"},{"$f":"'Technical page'!C126","v":3},{"$f":"VLOOKUP(E685,'Technical page'!$AU$124:$BD$168,8,0)","v":"-"},"n.a.",null,{"$f":"VLOOKUP(E685,'Chapter 2'!$C$6:$D$282,2,0)","v":"How are medical requirements evaluated?"}]
[null,null,null,null,{"$f":"'Technical page'!B127","v":"Q2.4"},{"$f":"'Technical page'!C127","v":3},{"$f":"VLOOKUP(E686,'Technical page'!$AU$124:$BD$168,8,0)","v":3},"compliant",null,{"$f":"VLOOKUP(E686,'Chapter 2'!$C$6:$D$282,2,0)","v":"Jakým způsobem zlepšuje organizace BOZP?"}]
[null,null,null,null,{"$f":"'Technical page'!B128","v":"Q2.5"},{"$f":"'Technical page'!C128","v":3},{"$f":"VLOOKUP(E687,'Technical page'!$AU$124:$BD$168,8,0)","v":"-"},"n.a.",null,{"$f":"VLOOKUP(E687,'Chapter 2'!$C$6:$D$282,2,0)","v":"Jakým způsobem probíhá údržba a udržování pořádku s cílem zajistit bezpečnost provozů, zařízení, nástrojů a (bezpečnostních) pomůcek?"}]
[null,null,null,null,{"$f":"'Technical page'!B129","v":"Q2.6"},{"$f":"'Technical page'!C129","v":3},{"$f":"VLOOKUP(E688,'Technical page'!$AU$124:$BD$168,8,0)","v":"-"},"n.a.",null,{"$f":"VLOOKUP(E688,'Chapter 2'!$C$6:$D$282,2,0)","v":"Jak se ověřuje správný výběr, údržba a používání zdravotního a bezpečnostního vybavení (např. osobních ochranných prostředků = OOPP)?"}]
[null,null,null,null,{"$f":"'Technical page'!B130","v":"Q2.7"},{"$f":"'Technical page'!C130","v":2},{"$f":"VLOOKUP(E689,'Technical page'!$AU$124:$BD$168,8,0)","v":3},"increase score",null,{"$f":"VLOOKUP(E689,'Chapter 2'!$C$6:$D$282,2,0)","v":"Jak se organizace stará o stres a tělesné a duševní zdraví zaměstnanců?"}]
[null,null,null,null,{"$f":"'Technical page'!B131","v":"Q2.8"},{"$f":"'Technical page'!C131","v":3},{"$f":"VLOOKUP(E690,'Technical page'!$AU$124:$BD$168,8,0)","v":4},"increase score",null,{"$f":"VLOOKUP(E690,'Chapter 2'!$C$6:$D$282,2,0)","v":"Jakým způsobem se vyšetřují onemocnění, zranění, incidenty a potenciálně nebezpečné situace na pracovišti?"}]
[null,null,null,null,{"$f":"'Technical page'!B132","v":"Q2.9"},{"$f":"'Technical page'!C132","v":3},{"$f":"VLOOKUP(E691,'Technical page'!$AU$124:$BD$168,8,0)","v":3},"compliant",null,{"$f":"VLOOKUP(E691,'Chapter 2'!$C$6:$D$282,2,0)","v":"Jak je organizace připravena na mimořádné události?"}]
[null,null,null,null,{"$f":"'Technical page'!B133","v":"Q2.10"},{"$f":"'Technical page'!C133","v":3},{"$f":"VLOOKUP(E692,'Technical page'!$AU$124:$BD$168,8,0)","v":3},"compliant",null,{"$f":"VLOOKUP(E692,'Chapter 2'!$C$6:$D$282,2,0)","v":"Jakým způsobem zajišťuje organizace správně kompetence všech pracovníků, týkající se požadavků BOZP, které souvisí s jejich pracovní náplní?"}]
[null,null,null,null,{"$f":"'Technical page'!B134","v":"Q2.11"},{"$f":"'Technical page'!C134","v":3},{"$f":"VLOOKUP(E693,'Technical page'!$AU$124:$BD$168,8,0)","v":"-"},"n.a.",null,{"$f":"VLOOKUP(E693,'Chapter 2'!$C$6:$D$282,2,0)","v":"Jakým způsobem se vedení staví k procesní bezpečnosti?\n\n"}]
[null,null,null,null,{"$f":"'Technical page'!B135","v":"Q2.12"},{"$f":"'Technical page'!C135","v":2},{"$f":"VLOOKUP(E694,'Technical page'!$AU$124:$BD$168,8,0)","v":"-"},"n.a.",null,{"$f":"VLOOKUP(E694,'Chapter 2'!$C$6:$D$282,2,0)","v":"Jakým způsobem je vypracována identifikace a popis bezpečnosti procesů, zařízení a pracovišť organizace?"}]
[null,null,null,null,{"$f":"'Technical page'!B136","v":"Q2.13"},{"$f":"'Technical page'!C136","v":1},{"$f":"VLOOKUP(E695,'Technical page'!$AU$124:$BD$168,8,0)","v":"-"},"n.a.",null,{"$f":"VLOOKUP(E695,'Chapter 2'!$C$6:$D$282,2,0)","v":"Jakým způsobem se zlepšuje procesní bezpečnost po nehodách a incidentech?"}]
[null,null,null,null,{"$f":"'Technical page'!B137","v":"Q2.14"},{"$f":"'Technical page'!C137","v":2},{"$f":"VLOOKUP(E696,'Technical page'!$AU$124:$BD$168,8,0)","v":"-"},"n.a.",null,{"$f":"VLOOKUP(E696,'Chapter 2'!$C$6:$D$282,2,0)","v":"Jakým způsobem se provádějí audity a inspekce procesní bezpečnosti?"}]
[null,null,null,null,{"$f":"'Technical page'!B138","v":"Q2.15"},{"$f":"'Technical page'!C138","v":3},{"$f":"VLOOKUP(E697,'Technical page'!$AU$124:$BD$168,8,0)","v":"-"},"n.a.",null,{"$f":"VLOOKUP(E697,'Chapter 2'!$C$6:$D$282,2,0)","v":"Jakým způsobem se prověřují a zlepšují pracovní pokyny?"}]
[null,null,null,null,{"$f":"'Technical page'!B139","v":"Q2.16"},{"$f":"'Technical page'!C139","v":3},{"$f":"VLOOKUP(E698,'Technical page'!$AU$124:$BD$168,8,0)","v":"-"},"n.a.",null,{"$f":"VLOOKUP(E698,'Chapter 2'!$C$6:$D$282,2,0)","v":"Jak je navrhována a dokumnetována instalace nových zařízení?"}]
[null,null,null,null,{"$f":"'Technical page'!B140","v":"Q2.17"},{"$f":"'Technical page'!C140","v":4},{"$f":"VLOOKUP(E699,'Technical page'!$AU$124:$BD$168,8,0)","v":"-"},"n.a.",null,{"$f":"VLOOKUP(E699,'Chapter 2'!$C$6:$D$282,2,0)","v":"Jakým způsobem probíhá kontrola zřizování instalace?"}]
[null,null,null,null,{"$f":"'Technical page'!B141","v":"Q2.18"},{"$f":"'Technical page'!C141","v":3},{"$f":"VLOOKUP(E700,'Technical page'!$AU$124:$BD$168,8,0)","v":"-"},"n.a.",null,{"$f":"VLOOKUP(E700,'Chapter 2'!$C$6:$D$282,2,0)","v":"Jakým způsobem je zaručena ochrana zařízení, aby jediná chyba neměla katastrofické následky?"}]
[null,null,null,null,{"$f":"'Technical page'!B142","v":"Q2.19"},{"$f":"'Technical page'!C142","v":3},{"$f":"VLOOKUP(E701,'Technical page'!$AU$124:$BD$168,8,0)","v":"-"},"n.a.",null,{"$f":"VLOOKUP(E701,'Chapter 2'!$C$6:$D$282,2,0)","v":"Byly zřízeny programy preventivní údržby a péče, které zaručují bezpečnost provozů, nástrojů a zařízení?"}]
[null,null,null,null,{"$f":"'Technical page'!B143","v":"Q2.20"},{"$f":"'Technical page'!C143","v":4},{"$f":"VLOOKUP(E702,'Technical page'!$AU$124:$BD$168,8,0)","v":"-"},"n.a.",null,{"$f":"VLOOKUP(E702,'Chapter 2'!$C$6:$D$282,2,0)","v":"Jakým způsobem se řídí procesy během mimořádných událostí v případě přerušení dodávky energie nebo služeb?"}]
[null,null,null,null,{"$f":"'Technical page'!B144","v":"Q2.21"},{"$f":"'Technical page'!C144","v":2},{"$f":"VLOOKUP(E703,'Technical page'!$AU$124:$BD$168,8,0)","v":"-"},"n.a.",null,{"$f":"VLOOKUP(E703,'Chapter 2'!$C$6:$D$282,2,0)","v":"Jak se připravují havarijní plány?"}]
[null,null,null,null,{"$f":"'Technical page'!B145","v":"Q2.22"},{"$f":"'Technical page'!C145","v":2},{"$f":"VLOOKUP(E704,'Technical page'!$AU$124:$BD$168,8,0)","v":"-"},"n.a.",null,{"$f":"VLOOKUP(E704,'Chapter 2'!$C$6:$D$282,2,0)","v":"Jakým způsobem jsou zabezpečeny kompetence a školení zaměstnanců a dodavatelů zapojených do procesů?"}]
[null,null,null,null,{"$f":"'Technical page'!B146","v":"Q2.23"},{"$f":"'Technical page'!C146","v":4},{"$f":"VLOOKUP(E705,'Technical page'!$AU$124:$BD$168,8,0)","v":"-"},"n.a.",null,{"$f":"VLOOKUP(E705,'Chapter 2'!$C$6:$D$282,2,0)","v":"Jakým způsobem se sdílejí informace o rizicích látek a přípravků?"}]
[null,null,null,null,{"$f":"'Technical page'!B147","v":"Q2.24"},{"$f":"'Technical page'!C147","v":4},{"$f":"VLOOKUP(E706,'Technical page'!$AU$124:$BD$168,8,0)","v":"-"},"n.a.",null,{"$f":"VLOOKUP(E706,'Chapter 2'!$C$6:$D$282,2,0)","v":"Jak se sdílejí informace o procesu?"}]
[null,null,null,null,{"$f":"'Technical page'!B148","v":"Q2.25"},{"$f":"'Technical page'!C148","v":3},{"$f":"VLOOKUP(E707,'Technical page'!$AU$124:$BD$168,8,0)","v":"-"},"n.a.",null,{"$f":"VLOOKUP(E707,'Chapter 2'!$C$6:$D$282,2,0)","v":"Jakým způsobem organizace hodnotí své logistické partnery z hlediska HSE&S, energetické účinnosti a emisí skleníkových plynů?"}]
[null,null,null,null,{"$f":"'Technical page'!B149","v":"Q2.26"},{"$f":"'Technical page'!C149","v":3},{"$f":"VLOOKUP(E708,'Technical page'!$AU$124:$BD$168,8,0)","v":"-"},"n.a.",null,{"$f":"VLOOKUP(E708,'Chapter 2'!$C$6:$D$282,2,0)","v":"Jakým způsobem organizace zabraňuje a reaguje na dopravní nehody?"}]
[null,null,null,null,{"$f":"'Technical page'!B150","v":"Q2.27"},{"$f":"'Technical page'!C150","v":2},{"$f":"VLOOKUP(E709,'Technical page'!$AU$124:$BD$168,8,0)","v":"-"},"n.a.",null,{"$f":"VLOOKUP(E709,'Chapter 2'!$C$6:$D$282,2,0)","v":"Jakým způsobem organizace identifikuje bezpečnostní problémy?"}]
[null,null,null,null,{"$f":"'Technical page'!B151","v":"Q2.28"},{"$f":"'Technical page'!C151","v":3},{"$f":"VLOOKUP(E710,'Technical page'!$AU$124:$BD$168,8,0)","v":"-"},"n.a.",null,{"$f":"VLOOKUP(E710,'Chapter 2'!$C$6:$D$282,2,0)","v":"Jakým způsobem se kontroluje příchod a odchod pracovníků a materiálu na pracovišti a v oblastech s omezeným vstupem?"}]
[null,null,null,null,{"$f":"'Technical page'!B152","v":"Q2.29"},{"$f":"'Technical page'!C152","v":3},{"$f":"VLOOKUP(E711,'Technical page'!$AU$124:$BD$168,8,0)","v":"-"},"n.a.",null,{"$f":"VLOOKUP(E711,'Chapter 2'!$C$6:$D$282,2,0)","v":"Jakým způsobem se kontroluje kybernetická bezpečnost?"}]
[null,null,null,null,{"$f":"'Technical page'!B153","v":"Q2.30"},{"$f":"'Technical page'!C153","v":2},{"$f":"VLOOKUP(E712,'Technical page'!$AU$124:$BD$168,8,0)","v":"-"},"n.a.",null,{"$f":"VLOOKUP(E712,'Chapter 2'!$C$6:$D$282,2,0)","v":"Jakým způsobem probíhá komunikace a výměna informací v případě bezpečnostní krize?"}]
[null,null,null,null,{"$f":"'Technical page'!B154","v":"Q2.31"},{"$f":"'Technical page'!C154","v":1},{"$f":"VLOOKUP(E713,'Technical page'!$AU$124:$BD$168,8,0)","v":"-"},"n.a.",null,{"$f":"VLOOKUP(E713,'Chapter 2'!$C$6:$D$282,2,0)","v":"Jak se organizace vyrovnává s podezřelým chováním (včetně rizik radikalizace = souhlas a podopra extrémních názorů)"}]
[null,null,null,null,{"$f":"'Technical page'!B155","v":"Q2.32"},{"$f":"'Technical page'!C155","v":2},{"$f":"VLOOKUP(E714,'Technical page'!$AU$124:$BD$168,8,0)","v":"-"},"n.a.",null,{"$f":"VLOOKUP(E714,'Chapter 2'!$C$6:$D$282,2,0)","v":"Jakým způsobem školí organizace pracovníky v oblasti ostrahy ve vazbě na bezpečnostní rizika?  "}]
[null,null,null,null,{"$f":"'Technical page'!B156","v":"Q2.33"},{"$f":"'Technical page'!C156","v":3},{"$f":"VLOOKUP(E715,'Technical page'!$AU$124:$BD$168,8,0)","v":3},"compliant",null,{"$f":"VLOOKUP(E715,'Chapter 2'!$C$6:$D$282,2,0)","v":"Jakým způsobem se posuzuje potenciální vliv organizace na životní prostředí?"}]
[null,null,null,null,{"$f":"'Technical page'!B157","v":"Q2.34"},{"$f":"'Technical page'!C157","v":4},{"$f":"VLOOKUP(E716,'Technical page'!$AU$124:$BD$168,8,0)","v":4},"compliant",null,{"$f":"VLOOKUP(E716,'Chapter 2'!$C$6:$D$282,2,0)","v":"Jakým způsobem se řídí environmentální výkonnost?"}]
[null,null,null,null,{"$f":"'Technical page'!B158","v":"Q2.35"},{"$f":"'Technical page'!C158","v":3},{"$f":"VLOOKUP(E717,'Technical page'!$AU$124:$BD$168,8,0)","v":3},"compliant",null,{"$f":"VLOOKUP(E717,'Chapter 2'!$C$6:$D$282,2,0)","v":"Jak organizace nakládá s odpadem?"}]
[null,null,null,null,{"$f":"'Technical page'!B159","v":"Q2.36"},{"$f":"'Technical page'!C159","v":3},{"$f":"VLOOKUP(E718,'Technical page'!$AU$124:$BD$168,8,0)","v":3},"compliant",null,{"$f":"VLOOKUP(E718,'Chapter 2'!$C$6:$D$282,2,0)","v":"Jakým způsobem řídí organizace rizika týkající se podzemních vod?"}]
[null,null,null,null,{"$f":"'Technical page'!B160","v":"Q2.37"},{"$f":"'Technical page'!C160","v":3},{"$f":"VLOOKUP(E719,'Technical page'!$AU$124:$BD$168,8,0)","v":3},"compliant",null,{"$f":"VLOOKUP(E719,'Chapter 2'!$C$6:$D$282,2,0)","v":"Jakým způsobem řídí organizace rizika týkající se znečištění půdy?"}]
[null,null,null,null,{"$f":"'Technical page'!B161","v":"Q2.38"},{"$f":"'Technical page'!C161","v":3},{"$f":"VLOOKUP(E720,'Technical page'!$AU$124:$BD$168,8,0)","v":3},"compliant",null,{"$f":"VLOOKUP(E720,'Chapter 2'!$C$6:$D$282,2,0)","v":"Jakým způsobem řídí organizace existující znečištění půdy?\n"}]
[null,null,null,null,{"$f":"'Technical page'!B162","v":"Q2.39"},{"$f":"'Technical page'!C162","v":3},{"$f":"VLOOKUP(E721,'Technical page'!$AU$124:$BD$168,8,0)","v":3},"compliant",null,{"$f":"VLOOKUP(E721,'Chapter 2'!$C$6:$D$282,2,0)","v":"Jakým způsobem organizace řídí své emise škodlivin do ovzduší?"}]
[null,null,null,null,{"$f":"'Technical page'!B163","v":"Q2.40"},{"$f":"'Technical page'!C163","v":3},{"$f":"VLOOKUP(E722,'Technical page'!$AU$124:$BD$168,8,0)","v":3},"compliant",null,{"$f":"VLOOKUP(E722,'Chapter 2'!$C$6:$D$282,2,0)","v":"Jakým způsobem organizace řídí své emise škodlivin do vody?"}]
[null,null,null,null,{"$f":"'Technical page'!B164","v":"Q2.41"},{"$f":"'Technical page'!C164","v":3},{"$f":"VLOOKUP(E723,'Technical page'!$AU$124:$BD$168,8,0)","v":3},"compliant",null,{"$f":"VLOOKUP(E723,'Chapter 2'!$C$6:$D$282,2,0)","v":"Jakým způsobem organizace řídí své emise hluku?"}]
[null,null,null,null,{"$f":"'Technical page'!B165","v":"Q2.42"},{"$f":"'Technical page'!C165","v":3},{"$f":"VLOOKUP(E724,'Technical page'!$AU$124:$BD$168,8,0)","v":3},"compliant",null,{"$f":"VLOOKUP(E724,'Chapter 2'!$C$6:$D$282,2,0)","v":"Jakým způsobem organizace řídí své emise zápachu?"}]
[null,null,null,null,{"$f":"'Technical page'!B166","v":"Q2.43"},{"$f":"'Technical page'!C166","v":3},{"$f":"VLOOKUP(E725,'Technical page'!$AU$124:$BD$168,8,0)","v":3},"compliant",null,{"$f":"VLOOKUP(E725,'Chapter 2'!$C$6:$D$282,2,0)","v":"Jakým způsobem organizace zabraňuje a řídí havarijní emise do prostředí?"}]
[null,null,null,null,{"$f":"'Technical page'!B167","v":"Q2.44"},{"$f":"'Technical page'!C167","v":3},{"$f":"VLOOKUP(E726,'Technical page'!$AU$124:$BD$168,8,0)","v":3},"compliant",null,{"$f":"VLOOKUP(E726,'Chapter 2'!$C$6:$D$282,2,0)","v":"Jakým způsobem zajišťuje organizace správně kompetence všech pracovníků, týkající se environmentálních požadavků, které souvisejí s jejich pracovní náplní?"}]
[null,null,null,null,{"$f":"'Technical page'!B168","v":"Q2.45"},{"$f":"'Technical page'!C168","v":1},{"$f":"VLOOKUP(E727,'Technical page'!$AU$124:$BD$168,8,0)","v":2},"increase score",null,{"$f":"VLOOKUP(E727,'Chapter 2'!$C$6:$D$282,2,0)","v":"Jakým způsobem jsou zainteresované strany organizace informovány o environmentálních aspektech a jejich možných dopadech?"}]
[null,null,null,null,"CHAPTER 3 : Strengthening chemicals management systems"]
[null,null,null,null,{"$f":"'Technical page'!$B$406","v":"Q3.1"},{"$f":"'Technical page'!$C$406","v":4},{"$f":"VLOOKUP(E729,'Technical page'!$AU$406:$BD$418,8,0)","v":"-"},{"$f":"IF(G729=\"-\",\"n.a.\",IF(F729-G729>-1,\"compliant\",\"increase score\"))","v":"n.a."},null,{"$f":"VLOOKUP(E729,'Chapter 3'!$C$6:$D$89,2,0)","v":"Zavedla organizace proces pro navrhování a vývoj nových \nproduktů a služeb?"}]
[null,null,null,null,{"$f":"'Technical page'!$B$407","v":"Q3.2"},{"$f":"'Technical page'!$C$407","v":2},{"$f":"VLOOKUP(E730,'Technical page'!$AU$406:$BD$418,8,0)","v":1},"compliant",null,{"$f":"VLOOKUP(E730,'Chapter 3'!$C$6:$D$89,2,0)","v":"Má organizace k dispozici proces hodnocení a stanovení priorit svých produktů pro charakterizaci rizik a řízení rizik?\n\n\n"}]
[null,null,null,null,{"$f":"'Technical page'!$B$408","v":"Q3.3"},{"$f":"'Technical page'!$C$408","v":4},{"$f":"VLOOKUP(E731,'Technical page'!$AU$406:$BD$418,8,0)","v":1},"compliant",null,{"$f":"VLOOKUP(E731,'Chapter 3'!$C$6:$D$89,2,0)","v":"Zavedla organizace systém pro sledování použitelnosti, změn a dodržování interních a externích požadavků souvisejících s řízením bezpečnosti chemických látek?"}]
[null,null,null,null,{"$f":"'Technical page'!$B$409","v":"Q3.4"},{"$f":"'Technical page'!$C$409","v":2},{"$f":"VLOOKUP(E732,'Technical page'!$AU$406:$BD$418,8,0)","v":4},"increase score",null,{"$f":"VLOOKUP(E732,'Chapter 3'!$C$6:$D$89,2,0)","v":"Zavedla organizace systém na správu existujících informací o rizicích svých produktů?"}]
[null,null,null,null,{"$f":"'Technical page'!$B$410","v":"Q3.5"},{"$f":"'Technical page'!$C$410","v":1},{"$f":"VLOOKUP(E733,'Technical page'!$AU$406:$BD$418,8,0)","v":"-"},"n.a.",null,{"$f":"VLOOKUP(E733,'Chapter 3'!$C$6:$D$89,2,0)","v":"Zavedla organizace proces řízení informací o používání a expozici svých produktů?"}]
[null,null,null,null,{"$f":"'Technical page'!$B$411","v":"Q3.6"},{"$f":"'Technical page'!$C$411","v":1},{"$f":"VLOOKUP(E734,'Technical page'!$AU$406:$BD$418,8,0)","v":1},"compliant",null,{"$f":"VLOOKUP(E734,'Chapter 3'!$C$6:$D$89,2,0)","v":"Zavedla organizace proces na správu nových informací?"}]
[null,null,null,null,{"$f":"'Technical page'!$B$412","v":"Q3.7"},{"$f":"'Technical page'!$C$412","v":2},{"$f":"VLOOKUP(E735,'Technical page'!$AU$406:$BD$418,8,0)","v":4},"increase score",null,{"$f":"VLOOKUP(E735,'Chapter 3'!$C$6:$D$89,2,0)","v":"Zavedla organizace proces charakterizace rizik na základě shromážděných informací?"}]
[null,null,null,null,{"$f":"'Technical page'!$B$413","v":"Q3.8"},{"$f":"'Technical page'!$C$413","v":1},{"$f":"VLOOKUP(E736,'Technical page'!$AU$406:$BD$418,8,0)","v":4},"increase score",null,{"$f":"VLOOKUP(E736,'Chapter 3'!$C$6:$D$89,2,0)","v":"Zavedla organizace proces řízení rizik na základě shromážděných informací?"}]
[null,null,null,null,{"$f":"'Technical page'!$B$414","v":"Q3.9"},{"$f":"'Technical page'!$C$414","v":3},{"$f":"VLOOKUP(E737,'Technical page'!$AU$406:$BD$418,8,0)","v":4},"increase score",null,{"$f":"VLOOKUP(E737,'Chapter 3'!$C$6:$D$89,2,0)","v":"Zavedla organizace účinný proces sledování svých produktů po dodání a provádění nápravných opatření?\n"}]
[null,null,null,null,{"$f":"'Technical page'!$B$415","v":"Q3.10"},{"$f":"'Technical page'!$C$415","v":3},{"$f":"VLOOKUP(E738,'Technical page'!$AU$406:$BD$418,8,0)","v":4},"increase score",null,{"$f":"VLOOKUP(E738,'Chapter 3'!$C$6:$D$89,2,0)","v":"Poskytuje organizace efektivní komunikaci v rámci dodavatelského řetězce ohledně opatření k řízení rizik, které se vztahují na jejich produkty?"}]
[null,null,null,null,"CHAPTER 4 : Influencing business partners"]
[null,null,null,null,{"$f":"'Technical page'!B482","v":"Q4.1"},{"$f":"'Technical page'!C482","v":3},{"$f":"VLOOKUP(E740,'Technical page'!$AU$482:$BD$489,8,0)","v":"-"},{"$f":"IF(G740=\"-\",\"n.a.\",IF(F740-G740>-1,\"compliant\",\"increase score\"))","v":"n.a."},null,{"$f":"VLOOKUP(E740,'Chapter 4'!$C$6:$D$91,2,0)","v":"Jak se organizace zavázala k odpovědnému získávání zdrojů?"}]
[null,null,null,null,{"$f":"'Technical page'!B483","v":"Q4.2"},{"$f":"'Technical page'!C483","v":2},{"$f":"VLOOKUP(E741,'Technical page'!$AU$482:$BD$489,8,0)","v":"-"},{"$f":"IF(G741=\"-\",\"n.a.\",IF(F741-G741>-1,\"compliant\",\"increase score\"))","v":"n.a."},null,{"$f":"VLOOKUP(E741,'Chapter 4'!$C$6:$D$91,2,0)","v":"Jak organizace zlepšuje spolupráci v dodavatelském řetězci?"}]
[null,null,null,null,{"$f":"'Technical page'!B484","v":"Q4.3"},{"$f":"'Technical page'!C484","v":3},{"$f":"VLOOKUP(E742,'Technical page'!$AU$482:$BD$489,8,0)","v":"-"},"n.a.",null,{"$f":"VLOOKUP(E742,'Chapter 4'!$C$6:$D$91,2,0)","v":"Jakým způsobem vyjadřuje organizace svůj závazek vůči podnikatelské etice?"}]
[null,null,null,null,{"$f":"'Technical page'!B485","v":"Q4.4"},{"$f":"'Technical page'!C485","v":1},{"$f":"VLOOKUP(E743,'Technical page'!$AU$482:$BD$489,8,0)","v":"-"},"n.a.",null,{"$f":"VLOOKUP(E743,'Chapter 4'!$C$6:$D$91,2,0)","v":"Jakým způsobem řeší organizace sociální problematiku a lidská práva v rámci spolupráce s obchodními partnery?"}]
[null,null,null,null,{"$f":"'Technical page'!B486","v":"Q4.5"},{"$f":"'Technical page'!C486","v":4},{"$f":"VLOOKUP(E744,'Technical page'!$AU$482:$BD$489,8,0)","v":"-"},"n.a.",null,{"$f":"VLOOKUP(E744,'Chapter 4'!$C$6:$D$91,2,0)","v":"Jakým způsobem zabraňuje organizace dětské práci?\nOrganizace\n1-\tzavedla systém ověřování věku; \n2-\tnezaměstnává děti mladší 15 let (v závislosti na místní legislativy). Jedinou výjimku představují učni, školní praxe nebo vzdělávací stáže; \n3-\tzaručuje, aby pracovní náplň osob mladších než 18 let neovlivňovala jejich školní docházku (doba strávená dopravou do práce a školy a z práce a školy, školní docházkou a prací je méně než 10 hodin denně );\n4-\tzajišťuje, že pracovní náplň mladých pracovníků není duševně, fyzicky, společensky ani morálně nebezpečná a škodlivá."}]
[null,null,null,null,{"$f":"'Technical page'!B487","v":"Q4.6"},{"$f":"'Technical page'!C487","v":3},{"$f":"VLOOKUP(E745,'Technical page'!$AU$482:$BD$489,8,0)","v":"-"},"n.a.",null,{"$f":"VLOOKUP(E745,'Chapter 4'!$C$6:$D$91,2,0)","v":"Jakým způsobem zabezpečuje organizace splnění svých požadavků ze strany logistických partnerů?"}]
[null,null,null,null,{"$f":"'Technical page'!B488","v":"Q4.7"},{"$f":"'Technical page'!C488","v":3},{"$f":"VLOOKUP(E746,'Technical page'!$AU$482:$BD$489,8,0)","v":"-"},"n.a.",null,{"$f":"VLOOKUP(E746,'Chapter 4'!$C$6:$D$91,2,0)","v":"Jakým způsobem organizace chrání a zabezpečuje majetek a údaje následných uživatelů nebo externích poskytovatelů, které se používají nebo začleňují do produktů a služeb?"}]
[null,null,null,null,{"$f":"'Technical page'!B489","v":"Q4.8"},{"$f":"'Technical page'!C489","v":4},{"$f":"VLOOKUP(E747,'Technical page'!$AU$482:$BD$489,8,0)","v":"-"},"n.a.",null,{"$f":"VLOOKUP(E747,'Chapter 4'!$C$6:$D$91,2,0)","v":"Co zahrnuje dialog s následnými uživateli?"}]
[null,null,null,null,"CHAPTER 5 : Engaging stakeholders"]
[null,null,null,null,{"$f":"'Technical page'!B544","v":"Q5.1"},{"$f":"'Technical page'!C544","v":3},{"$f":"VLOOKUP(E749,'Technical page'!$AU$544:$BD$548,8,0)","v":3},{"$f":"IF(G749=\"-\",\"n.a.\",IF(F749-G749>-1,\"compliant\",\"increase score\"))","v":"compliant"},null,{"$f":"VLOOKUP(E749,'Chapter 5'!$C$6:$D$89,2,0)","v":"Jakým způsobem zapojuje organizace své externí zainteresované strany a naplňuje jejich očekávání?"}]
[null,null,null,null,{"$f":"'Technical page'!B545","v":"Q5.2"},{"$f":"'Technical page'!C545","v":2},{"$f":"VLOOKUP(E750,'Technical page'!$AU$544:$BD$548,8,0)","v":"-"},{"$f":"IF(G750=\"-\",\"n.a.\",IF(F750-G750>-1,\"compliant\",\"increase score\"))","v":"n.a."},null,{"$f":"VLOOKUP(E750,'Chapter 5'!$C$6:$D$89,2,0)","v":"Jakým způsobem vede organizace dialog s veřejností, úřady a dalšími zainteresovanými stranami, včetně místních komunit a zákazníků v souvislosti s HSE&S v rámci jejich činností, produktů a služeb?"}]
[null,null,null,null,{"$f":"'Technical page'!B546","v":"Q5.3"},{"$f":"'Technical page'!C546","v":2},{"$f":"VLOOKUP(E751,'Technical page'!$AU$544:$BD$548,8,0)","v":"-"},"n.a.",null,{"$f":"VLOOKUP(E751,'Chapter 5'!$C$6:$D$89,2,0)","v":"Jakým způsobem zveřejňuje organizace informace týkající se\n HSE&S?"}]
[null,null,null,null,{"$f":"'Technical page'!B547","v":"Q5.4"},{"$f":"'Technical page'!C547","v":3},{"$f":"VLOOKUP(E752,'Technical page'!$AU$544:$BD$548,8,0)","v":"-"},"n.a.",null,{"$f":"VLOOKUP(E752,'Chapter 5'!$C$6:$D$89,2,0)","v":"Jakým způsobem podporuje organizace místní komunity?"}]
[null,null,null,null,{"$f":"'Technical page'!B548","v":"Q5.5"},{"$f":"'Technical page'!C548","v":2},{"$f":"VLOOKUP(E753,'Technical page'!$AU$544:$BD$548,8,0)","v":"-"},"n.a.",null,{"$f":"VLOOKUP(E753,'Chapter 5'!$C$6:$D$89,2,0)","v":"Jakým způsobem stimuluje organizace místní zaměstnanost a vzdělávání?"}]
[null,null,null,null,"CHAPTER 6 : Contributing to sustainability"]
[null,null,null,null,{"$f":"'Technical page'!B584","v":"Q6.1"},{"$f":"'Technical page'!C584","v":2},{"$f":"VLOOKUP(E755,'Technical page'!$AU$584:$BD$600,8,0)","v":"-"},{"$f":"IF(G755=\"-\",\"n.a.\",IF(F755-G755>-1,\"compliant\",\"increase score\"))","v":"n.a."},null,{"$f":"VLOOKUP(E755,'Chapter 6'!$C$6:$D$120,2,0)","v":"Jakým způsobem definuje organizace významné problémy a závažnost?"}]
[null,null,null,null,{"$f":"'Technical page'!B585","v":"Q6.2"},{"$f":"'Technical page'!C585","v":1},{"$f":"VLOOKUP(E756,'Technical page'!$AU$584:$BD$600,8,0)","v":"-"},{"$f":"IF(G756=\"-\",\"n.a.\",IF(F756-G756>-1,\"compliant\",\"increase score\"))","v":"n.a."},null,{"$f":"VLOOKUP(E756,'Chapter 6'!$C$6:$D$120,2,0)","v":"Jakým způsobem hodlá organizace přispívat k udržitelnému rozvoji?"}]
[null,null,null,null,{"$f":"'Technical page'!B586","v":"Q6.3"},{"$f":"'Technical page'!C586","v":3},{"$f":"VLOOKUP(E757,'Technical page'!$AU$584:$BD$600,8,0)","v":"-"},"n.a.",null,{"$f":"VLOOKUP(E757,'Chapter 6'!$C$6:$D$120,2,0)","v":"Jakým způsobem komunikuje organizace zainteresovaných stran na téma udržitelnosti?"}]
[null,null,null,null,{"$f":"'Technical page'!B587","v":"Q6.4"},{"$f":"'Technical page'!C587","v":2},{"$f":"VLOOKUP(E758,'Technical page'!$AU$584:$BD$600,8,0)","v":"-"},"n.a.",null,{"$f":"VLOOKUP(E758,'Chapter 6'!$C$6:$D$120,2,0)","v":"Má organizace zavedený proces navrhování výrobků s lepšími výsledky udržitelnosti?"}]
[null,null,null,null,{"$f":"'Technical page'!B588","v":"Q6.5"},{"$f":"'Technical page'!C588","v":2},{"$f":"VLOOKUP(E759,'Technical page'!$AU$584:$BD$600,8,0)","v":"-"},"n.a.",null,{"$f":"VLOOKUP(E759,'Chapter 6'!$C$6:$D$120,2,0)","v":"Jakým způsobem zvyšuje organizace efektivnost zdrojů ve svých výrobních procesech?"}]
[null,null,null,null,{"$f":"'Technical page'!B589","v":"Q6.6"},{"$f":"'Technical page'!C589","v":1},{"$f":"VLOOKUP(E760,'Technical page'!$AU$584:$BD$600,8,0)","v":"-"},"n.a.",null,{"$f":"VLOOKUP(E760,'Chapter 6'!$C$6:$D$120,2,0)","v":"Jakým způsobem stimuluje organizace oběhové hospodářství prostřednictvím svých produktů?"}]
[null,null,null,null,{"$f":"'Technical page'!B590","v":"Q6.7"},{"$f":"'Technical page'!C590","v":2},{"$f":"VLOOKUP(E761,'Technical page'!$AU$584:$BD$600,8,0)","v":"-"},"n.a.",null,{"$f":"VLOOKUP(E761,'Chapter 6'!$C$6:$D$120,2,0)","v":"Jakým způsobem podporuje organizace inovace při vývoji produktů a řešení, které odpovídají výzvám udržitelnosti?"}]
[null,null,null,null,{"$f":"'Technical page'!B591","v":"Q6.8"},{"$f":"'Technical page'!C591","v":3},{"$f":"VLOOKUP(E762,'Technical page'!$AU$584:$BD$600,8,0)","v":"-"},"n.a.",null,{"$f":"VLOOKUP(E762,'Chapter 6'!$C$6:$D$120,2,0)","v":"Jakým způsobem stimuluje organizace inovaci a spolupráci?"}]
[null,null,null,null,{"$f":"'Technical page'!B592","v":"Q6.9"},{"$f":"'Technical page'!C592","v":2},{"$f":"VLOOKUP(E763,'Technical page'!$AU$584:$BD$600,8,0)","v":"-"},"n.a.",null,{"$f":"VLOOKUP(E763,'Chapter 6'!$C$6:$D$120,2,0)","v":"Jakým způsobem podporuje organizace udržitelné způsoby spotřeby?"}]
[null,null,null,null,{"$f":"'Technical page'!B593","v":"Q6.10"},{"$f":"'Technical page'!C593","v":3},{"$f":"VLOOKUP(E764,'Technical page'!$AU$584:$BD$600,8,0)","v":"-"},"n.a.",null,{"$f":"VLOOKUP(E764,'Chapter 6'!$C$6:$D$120,2,0)","v":"Jakým způsobem organizace kontroluje a optimalizuje spotřebu vody?"}]
[null,null,null,null,{"$f":"'Technical page'!B594","v":"Q6.11"},{"$f":"'Technical page'!C594","v":1},{"$f":"VLOOKUP(E765,'Technical page'!$AU$584:$BD$600,8,0)","v":"-"},"n.a.",null,{"$f":"VLOOKUP(E765,'Chapter 6'!$C$6:$D$120,2,0)","v":"Jakým způsobem se řídí vliv organizace na biodiverzitu a ekosystém?"}]
[null,null,null,null,{"$f":"'Technical page'!B595","v":"Q6.12"},{"$f":"'Technical page'!C595","v":1},{"$f":"VLOOKUP(E766,'Technical page'!$AU$584:$BD$600,8,0)","v":"-"},"n.a.",null,{"$f":"VLOOKUP(E766,'Chapter 6'!$C$6:$D$120,2,0)","v":"Jakým způsobem posuzuje organizace svou závislost na přírodních zdrojích (ekosystémech)?"}]
[null,null,null,null,{"$f":"'Technical page'!B596","v":"Q6.13"},{"$f":"'Technical page'!C596","v":4},{"$f":"VLOOKUP(E767,'Technical page'!$AU$584:$BD$600,8,0)","v":"-"},"n.a.",null,{"$f":"VLOOKUP(E767,'Chapter 6'!$C$6:$D$120,2,0)","v":"Jakým způsobem řídí organizace svou spotřebu energie?"}]
[null,null,null,null,{"$f":"'Technical page'!B597","v":"Q6.14"},{"$f":"'Technical page'!C597","v":3},{"$f":"VLOOKUP(E768,'Technical page'!$AU$584:$BD$600,8,0)","v":"-"},"n.a.",null,{"$f":"VLOOKUP(E768,'Chapter 6'!$C$6:$D$120,2,0)","v":"Jakým způsobem řídí organizace emise skleníkových plynů (kromě úspor energie)?"}]
[null,null,null,null,{"$f":"'Technical page'!B598","v":"Q6.15"},{"$f":"'Technical page'!C598","v":2},{"$f":"VLOOKUP(E769,'Technical page'!$AU$584:$BD$600,8,0)","v":"-"},"n.a.",null,{"$f":"VLOOKUP(E769,'Chapter 6'!$C$6:$D$120,2,0)","v":"Jaká je strategie organizace na snižování emisí skleníkových plynů?"}]
[null,null,null,null,{"$f":"'Technical page'!B599","v":"Q6.16"},{"$f":"'Technical page'!C599","v":3},{"$f":"VLOOKUP(E770,'Technical page'!$AU$584:$BD$600,8,0)","v":3},"compliant",null,{"$f":"VLOOKUP(E770,'Chapter 6'!$C$6:$D$120,2,0)","v":"Jakým způsobem se organizace připravuje na klimatické změny? "}]
[null,null,null,null,{"$f":"'Technical page'!B600","v":"Q6.17"},{"$f":"'Technical page'!C600","v":2},{"$f":"VLOOKUP(E771,'Technical page'!$AU$584:$BD$600,8,0)","v":"-"},"n.a.",null,{"$f":"VLOOKUP(E771,'Chapter 6'!$C$6:$D$120,2,0)","v":"Jak organizace zajišťuje rovné příležitosti při náboru a během kariéry všech?"}]
[]
[null,null,"Report on distance to compliance with RCMS"]
[null,null,null,null,null,"Your score","Minimum score for RCMS"]
[null,null,null,null,"CHAPTER 1 : A corporate leadership culture"]
[null,null,null,null,{"$f":"'Technical page'!B10","v":"Q1.1"},{"$f":"'Technical page'!C10","v":3},{"$f":"VLOOKUP(E776,'Technical page'!$AU$10:$BD$25,9,0)","v":4},{"$f":"IF(G776=\"-\",\"n.a.\",IF(F776-G776>-1,\"compliant\",\"increase score\"))","v":"increase score"},null,{"$f":"VLOOKUP(E776,'Chapter 1'!$C$6:$D$112,2,0)","v":"Jak se projevuje závazek plnit povinnosti týkající se dodržování předpisů a zásad Responsible Care = RC (tj. ochrana a podpora zdraví a bezpečnost lidí, životního prostředí a udržitelnosti) na všech úrovních organizace?\n"}]
[null,null,null,null,{"$f":"'Technical page'!B11","v":"Q1.2"},{"$f":"'Technical page'!C11","v":3},{"$f":"VLOOKUP(E777,'Technical page'!$AU$10:$BD$25,9,0)","v":"-"},{"$f":"IF(G777=\"-\",\"n.a.\",IF(F777-G777>-1,\"compliant\",\"increase score\"))","v":"n.a."},null,{"$f":"VLOOKUP(E777,'Chapter 1'!$C$6:$D$112,2,0)","v":"Jakým způsobem řídí organizace příslušná rizika a příležitosti?  "}]
[null,null,null,null,{"$f":"'Technical page'!B12","v":"Q1.3"},{"$f":"'Technical page'!C12","v":2},{"$f":"VLOOKUP(E778,'Technical page'!$AU$10:$BD$25,9,0)","v":2},"compliant",null,{"$f":"VLOOKUP(E778,'Chapter 1'!$C$6:$D$112,2,0)","v":"Jakým způsobem monitoruje organizace svoje zákonné povinnosti? "}]
[null,null,null,null,{"$f":"'Technical page'!B13","v":"Q1.4"},{"$f":"'Technical page'!C13","v":2},{"$f":"VLOOKUP(E779,'Technical page'!$AU$10:$BD$25,9,0)","v":2},"compliant",null,{"$f":"VLOOKUP(E779,'Chapter 1'!$C$6:$D$112,2,0)","v":"Jakým způsobem top management zajišťuje, že jednotlivé aspekty HSE&S (zdraví, bezpečnosti, ochrany životního prostředí & udržitelnosti) jsou přiřazeny stanoveným rolím v organizaci?"}]
[null,null,null,null,{"$f":"'Technical page'!B14","v":"Q1.5"},{"$f":"'Technical page'!C14","v":3},{"$f":"VLOOKUP(E780,'Technical page'!$AU$10:$BD$25,9,0)","v":"-"},"n.a.",null,{"$f":"VLOOKUP(E780,'Chapter 1'!$C$6:$D$112,2,0)","v":"Jakým způsobem se top management podílí na řešení záležitostí HSE&S?"}]
[null,null,null,null,{"$f":"'Technical page'!B15","v":"Q1.6"},{"$f":"'Technical page'!C15","v":3},{"$f":"VLOOKUP(E781,'Technical page'!$AU$10:$BD$25,9,0)","v":"-"},"n.a.",null,{"$f":"VLOOKUP(E781,'Chapter 1'!$C$6:$D$112,2,0)","v":"Jakým způsobem jsou odpovědnosti HSE&S začleněny do popisů pracovní náplně nebo ročních cílů?\n"}]
[null,null,null,null,{"$f":"'Technical page'!B16","v":"Q1.7"},{"$f":"'Technical page'!C16","v":4},{"$f":"VLOOKUP(E782,'Technical page'!$AU$10:$BD$25,9,0)","v":3},"compliant",null,{"$f":"VLOOKUP(E782,'Chapter 1'!$C$6:$D$112,2,0)","v":"Jakým způsobem se řídí (nejdůležitější) procesy v souvislosti s HSE&S?"}]
[null,null,null,null,{"$f":"'Technical page'!B17","v":"Q1.8"},{"$f":"'Technical page'!C17","v":3},{"$f":"VLOOKUP(E783,'Technical page'!$AU$10:$BD$25,9,0)","v":3},"compliant",null,{"$f":"VLOOKUP(E783,'Chapter 1'!$C$6:$D$112,2,0)","v":"Jakým způsobem top management zajišťuje neustálé zlepšování výkonu v oblasti HSE&S (zdraví, bezpečnosti, životního prostředí, energetiky a udržitelnosti)?"}]
[null,null,null,null,{"$f":"'Technical page'!B18","v":"Q1.9"},{"$f":"'Technical page'!C18","v":3},{"$f":"VLOOKUP(E784,'Technical page'!$AU$10:$BD$25,9,0)","v":3},"compliant",null,{"$f":"VLOOKUP(E784,'Chapter 1'!$C$6:$D$112,2,0)","v":"Jak jsou organizovány interní audity?"}]
[null,null,null,null,{"$f":"'Technical page'!B19","v":"Q1.10"},{"$f":"'Technical page'!C19","v":3},{"$f":"VLOOKUP(E785,'Technical page'!$AU$10:$BD$25,9,0)","v":3},"compliant",null,{"$f":"VLOOKUP(E785,'Chapter 1'!$C$6:$D$112,2,0)","v":"Jakým způsobem probíhá vyšetřování?"}]
[null,null,null,null,{"$f":"'Technical page'!B20","v":"Q1.11"},{"$f":"'Technical page'!C20","v":3},{"$f":"VLOOKUP(E786,'Technical page'!$AU$10:$BD$25,9,0)","v":3},"compliant",null,{"$f":"VLOOKUP(E786,'Chapter 1'!$C$6:$D$112,2,0)","v":"Jakým způsobem organizace zajišťuje procesy, čas a zdroje potřebné pro zlepšování procesů řízení HSE&S?"}]
[null,null,null,null,{"$f":"'Technical page'!B21","v":"Q1.12"},{"$f":"'Technical page'!C21","v":3},{"$f":"VLOOKUP(E787,'Technical page'!$AU$10:$BD$25,9,0)","v":4},"increase score",null,{"$f":"VLOOKUP(E787,'Chapter 1'!$C$6:$D$112,2,0)","v":"Jak organizace zajišťuje, že zaměstnanci jsou si vědomi politik a procesů týkajících se zdraví, bezpečnosti, životního prostředí, energetiky a udržitelnosti?"}]
[null,null,null,null,{"$f":"'Technical page'!B22","v":"Q1.13"},{"$f":"'Technical page'!C22","v":3},{"$f":"VLOOKUP(E788,'Technical page'!$AU$10:$BD$25,9,0)","v":3},"compliant",null,{"$f":"VLOOKUP(E788,'Chapter 1'!$C$6:$D$112,2,0)","v":"Jakým způsobem organizace zajišťuje správné kompetence pracovníků, pokud jde o aspekty HSE&S týkající se jejich práce?"}]
[null,null,null,null,{"$f":"'Technical page'!B23","v":"Q1.14"},{"$f":"'Technical page'!C23","v":3},{"$f":"VLOOKUP(E789,'Technical page'!$AU$10:$BD$25,9,0)","v":3},"compliant",null,{"$f":"VLOOKUP(E789,'Chapter 1'!$C$6:$D$112,2,0)","v":"Jaká je struktura zapojení zaměstnanců?"}]
[null,null,null,null,{"$f":"'Technical page'!B24","v":"Q1.15"},{"$f":"'Technical page'!C24","v":3},{"$f":"VLOOKUP(E790,'Technical page'!$AU$10:$BD$25,9,0)","v":3},"compliant",null,{"$f":"VLOOKUP(E790,'Chapter 1'!$C$6:$D$112,2,0)","v":"Jakým způsobem se řídí dokumentace HSE&S?"}]
[null,null,null,null,{"$f":"'Technical page'!B25","v":"Q1.16"},{"$f":"'Technical page'!C25","v":3},{"$f":"VLOOKUP(E791,'Technical page'!$AU$10:$BD$25,9,0)","v":3},"compliant",null,{"$f":"VLOOKUP(E791,'Chapter 1'!$C$6:$D$112,2,0)","v":"Jakým způsobem jsou řízeny změny potenciálně ovlivňující HSE&S (zdraví, bezpečnost, životní prostředí, energetiku a udržitelnost)?"}]
[null,null,null,null,"CHAPTER 2 : Safeguarding people and the environment"]
[null,null,null,null,{"$f":"'Technical page'!B124","v":"Q2.1"},{"$f":"'Technical page'!C124","v":3},{"$f":"VLOOKUP(E793,'Technical page'!$AU$124:$BD$168,9,0)","v":"-"},"n.a.",null,{"$f":"VLOOKUP(E793,'Chapter 2'!$C$6:$D$282,2,0)","v":"Jak se management zavázal k ochraně zdraví a bezpečnosti při práci (dále jen \"BOZP\")?"}]
[null,null,null,null,{"$f":"'Technical page'!B125","v":"Q2.2"},{"$f":"'Technical page'!C125","v":2},{"$f":"VLOOKUP(E794,'Technical page'!$AU$124:$BD$168,9,0)","v":"-"},{"$f":"IF(G794=\"-\",\"n.a.\",IF(F794-G794>-1,\"compliant\",\"increase score\"))","v":"n.a."},null,{"$f":"VLOOKUP(E794,'Chapter 2'!$C$6:$D$282,2,0)","v":"Jakým způsobem se určují rizika a expozice v souvislosti s BOZP?"}]
[null,null,null,null,{"$f":"'Technical page'!B126","v":"Q2.3"},{"$f":"'Technical page'!C126","v":3},{"$f":"VLOOKUP(E795,'Technical page'!$AU$124:$BD$168,9,0)","v":"-"},"n.a.",null,{"$f":"VLOOKUP(E795,'Chapter 2'!$C$6:$D$282,2,0)","v":"How are medical requirements evaluated?"}]
[null,null,null,null,{"$f":"'Technical page'!B127","v":"Q2.4"},{"$f":"'Technical page'!C127","v":3},{"$f":"VLOOKUP(E796,'Technical page'!$AU$124:$BD$168,9,0)","v":"-"},"n.a.",null,{"$f":"VLOOKUP(E796,'Chapter 2'!$C$6:$D$282,2,0)","v":"Jakým způsobem zlepšuje organizace BOZP?"}]
[null,null,null,null,{"$f":"'Technical page'!B128","v":"Q2.5"},{"$f":"'Technical page'!C128","v":3},{"$f":"VLOOKUP(E797,'Technical page'!$AU$124:$BD$168,9,0)","v":"-"},"n.a.",null,{"$f":"VLOOKUP(E797,'Chapter 2'!$C$6:$D$282,2,0)","v":"Jakým způsobem probíhá údržba a udržování pořádku s cílem zajistit bezpečnost provozů, zařízení, nástrojů a (bezpečnostních) pomůcek?"}]
[null,null,null,null,{"$f":"'Technical page'!B129","v":"Q2.6"},{"$f":"'Technical page'!C129","v":3},{"$f":"VLOOKUP(E798,'Technical page'!$AU$124:$BD$168,9,0)","v":"-"},"n.a.",null,{"$f":"VLOOKUP(E798,'Chapter 2'!$C$6:$D$282,2,0)","v":"Jak se ověřuje správný výběr, údržba a používání zdravotního a bezpečnostního vybavení (např. osobních ochranných prostředků = OOPP)?"}]
[null,null,null,null,{"$f":"'Technical page'!B130","v":"Q2.7"},{"$f":"'Technical page'!C130","v":2},{"$f":"VLOOKUP(E799,'Technical page'!$AU$124:$BD$168,9,0)","v":"-"},"n.a.",null,{"$f":"VLOOKUP(E799,'Chapter 2'!$C$6:$D$282,2,0)","v":"Jak se organizace stará o stres a tělesné a duševní zdraví zaměstnanců?"}]
[null,null,null,null,{"$f":"'Technical page'!B131","v":"Q2.8"},{"$f":"'Technical page'!C131","v":3},{"$f":"VLOOKUP(E800,'Technical page'!$AU$124:$BD$168,9,0)","v":"-"},"n.a.",null,{"$f":"VLOOKUP(E800,'Chapter 2'!$C$6:$D$282,2,0)","v":"Jakým způsobem se vyšetřují onemocnění, zranění, incidenty a potenciálně nebezpečné situace na pracovišti?"}]
[null,null,null,null,{"$f":"'Technical page'!B132","v":"Q2.9"},{"$f":"'Technical page'!C132","v":3},{"$f":"VLOOKUP(E801,'Technical page'!$AU$124:$BD$168,9,0)","v":"-"},"n.a.",null,{"$f":"VLOOKUP(E801,'Chapter 2'!$C$6:$D$282,2,0)","v":"Jak je organizace připravena na mimořádné události?"}]
[null,null,null,null,{"$f":"'Technical page'!B133","v":"Q2.10"},{"$f":"'Technical page'!C133","v":3},{"$f":"VLOOKUP(E802,'Technical page'!$AU$124:$BD$168,9,0)","v":"-"},"n.a.",null,{"$f":"VLOOKUP(E802,'Chapter 2'!$C$6:$D$282,2,0)","v":"Jakým způsobem zajišťuje organizace správně kompetence všech pracovníků, týkající se požadavků BOZP, které souvisí s jejich pracovní náplní?"}]
[null,null,null,null,{"$f":"'Technical page'!B134","v":"Q2.11"},{"$f":"'Technical page'!C134","v":3},{"$f":"VLOOKUP(E803,'Technical page'!$AU$124:$BD$168,9,0)","v":"-"},"n.a.",null,{"$f":"VLOOKUP(E803,'Chapter 2'!$C$6:$D$282,2,0)","v":"Jakým způsobem se vedení staví k procesní bezpečnosti?\n\n"}]
[null,null,null,null,{"$f":"'Technical page'!B135","v":"Q2.12"},{"$f":"'Technical page'!C135","v":2},{"$f":"VLOOKUP(E804,'Technical page'!$AU$124:$BD$168,9,0)","v":"-"},"n.a.",null,{"$f":"VLOOKUP(E804,'Chapter 2'!$C$6:$D$282,2,0)","v":"Jakým způsobem je vypracována identifikace a popis bezpečnosti procesů, zařízení a pracovišť organizace?"}]
[null,null,null,null,{"$f":"'Technical page'!B136","v":"Q2.13"},{"$f":"'Technical page'!C136","v":1},{"$f":"VLOOKUP(E805,'Technical page'!$AU$124:$BD$168,9,0)","v":"-"},"n.a.",null,{"$f":"VLOOKUP(E805,'Chapter 2'!$C$6:$D$282,2,0)","v":"Jakým způsobem se zlepšuje procesní bezpečnost po nehodách a incidentech?"}]
[null,null,null,null,{"$f":"'Technical page'!B137","v":"Q2.14"},{"$f":"'Technical page'!C137","v":2},{"$f":"VLOOKUP(E806,'Technical page'!$AU$124:$BD$168,9,0)","v":"-"},"n.a.",null,{"$f":"VLOOKUP(E806,'Chapter 2'!$C$6:$D$282,2,0)","v":"Jakým způsobem se provádějí audity a inspekce procesní bezpečnosti?"}]
[null,null,null,null,{"$f":"'Technical page'!B138","v":"Q2.15"},{"$f":"'Technical page'!C138","v":3},{"$f":"VLOOKUP(E807,'Technical page'!$AU$124:$BD$168,9,0)","v":"-"},"n.a.",null,{"$f":"VLOOKUP(E807,'Chapter 2'!$C$6:$D$282,2,0)","v":"Jakým způsobem se prověřují a zlepšují pracovní pokyny?"}]
[null,null,null,null,{"$f":"'Technical page'!B139","v":"Q2.16"},{"$f":"'Technical page'!C139","v":3},{"$f":"VLOOKUP(E808,'Technical page'!$AU$124:$BD$168,9,0)","v":"-"},"n.a.",null,{"$f":"VLOOKUP(E808,'Chapter 2'!$C$6:$D$282,2,0)","v":"Jak je navrhována a dokumnetována instalace nových zařízení?"}]
[null,null,null,null,{"$f":"'Technical page'!B140","v":"Q2.17"},{"$f":"'Technical page'!C140","v":4},{"$f":"VLOOKUP(E809,'Technical page'!$AU$124:$BD$168,9,0)","v":"-"},"n.a.",null,{"$f":"VLOOKUP(E809,'Chapter 2'!$C$6:$D$282,2,0)","v":"Jakým způsobem probíhá kontrola zřizování instalace?"}]
[null,null,null,null,{"$f":"'Technical page'!B141","v":"Q2.18"},{"$f":"'Technical page'!C141","v":3},{"$f":"VLOOKUP(E810,'Technical page'!$AU$124:$BD$168,9,0)","v":"-"},"n.a.",null,{"$f":"VLOOKUP(E810,'Chapter 2'!$C$6:$D$282,2,0)","v":"Jakým způsobem je zaručena ochrana zařízení, aby jediná chyba neměla katastrofické následky?"}]
[null,null,null,null,{"$f":"'Technical page'!B142","v":"Q2.19"},{"$f":"'Technical page'!C142","v":3},{"$f":"VLOOKUP(E811,'Technical page'!$AU$124:$BD$168,9,0)","v":"-"},"n.a.",null,{"$f":"VLOOKUP(E811,'Chapter 2'!$C$6:$D$282,2,0)","v":"Byly zřízeny programy preventivní údržby a péče, které zaručují bezpečnost provozů, nástrojů a zařízení?"}]
[null,null,null,null,{"$f":"'Technical page'!B143","v":"Q2.20"},{"$f":"'Technical page'!C143","v":4},{"$f":"VLOOKUP(E812,'Technical page'!$AU$124:$BD$168,9,0)","v":"-"},"n.a.",null,{"$f":"VLOOKUP(E812,'Chapter 2'!$C$6:$D$282,2,0)","v":"Jakým způsobem se řídí procesy během mimořádných událostí v případě přerušení dodávky energie nebo služeb?"}]
[null,null,null,null,{"$f":"'Technical page'!B144","v":"Q2.21"},{"$f":"'Technical page'!C144","v":2},{"$f":"VLOOKUP(E813,'Technical page'!$AU$124:$BD$168,9,0)","v":"-"},"n.a.",null,{"$f":"VLOOKUP(E813,'Chapter 2'!$C$6:$D$282,2,0)","v":"Jak se připravují havarijní plány?"}]
[null,null,null,null,{"$f":"'Technical page'!B145","v":"Q2.22"},{"$f":"'Technical page'!C145","v":2},{"$f":"VLOOKUP(E814,'Technical page'!$AU$124:$BD$168,9,0)","v":"-"},"n.a.",null,{"$f":"VLOOKUP(E814,'Chapter 2'!$C$6:$D$282,2,0)","v":"Jakým způsobem jsou zabezpečeny kompetence a školení zaměstnanců a dodavatelů zapojených do procesů?"}]
[null,null,null,null,{"$f":"'Technical page'!B146","v":"Q2.23"},{"$f":"'Technical page'!C146","v":4},{"$f":"VLOOKUP(E815,'Technical page'!$AU$124:$BD$168,9,0)","v":"-"},"n.a.",null,{"$f":"VLOOKUP(E815,'Chapter 2'!$C$6:$D$282,2,0)","v":"Jakým způsobem se sdílejí informace o rizicích látek a přípravků?"}]
[null,null,null,null,{"$f":"'Technical page'!B147","v":"Q2.24"},{"$f":"'Technical page'!C147","v":4},{"$f":"VLOOKUP(E816,'Technical page'!$AU$124:$BD$168,9,0)","v":"-"},"n.a.",null,{"$f":"VLOOKUP(E816,'Chapter 2'!$C$6:$D$282,2,0)","v":"Jak se sdílejí informace o procesu?"}]
[null,null,null,null,{"$f":"'Technical page'!B148","v":"Q2.25"},{"$f":"'Technical page'!C148","v":3},{"$f":"VLOOKUP(E817,'Technical page'!$AU$124:$BD$168,9,0)","v":"-"},"n.a.",null,{"$f":"VLOOKUP(E817,'Chapter 2'!$C$6:$D$282,2,0)","v":"Jakým způsobem organizace hodnotí své logistické partnery z hlediska HSE&S, energetické účinnosti a emisí skleníkových plynů?"}]
[null,null,null,null,{"$f":"'Technical page'!B149","v":"Q2.26"},{"$f":"'Technical page'!C149","v":3},{"$f":"VLOOKUP(E818,'Technical page'!$AU$124:$BD$168,9,0)","v":"-"},"n.a.",null,{"$f":"VLOOKUP(E818,'Chapter 2'!$C$6:$D$282,2,0)","v":"Jakým způsobem organizace zabraňuje a reaguje na dopravní nehody?"}]
[null,null,null,null,{"$f":"'Technical page'!B150","v":"Q2.27"},{"$f":"'Technical page'!C150","v":2},{"$f":"VLOOKUP(E819,'Technical page'!$AU$124:$BD$168,9,0)","v":"-"},"n.a.",null,{"$f":"VLOOKUP(E819,'Chapter 2'!$C$6:$D$282,2,0)","v":"Jakým způsobem organizace identifikuje bezpečnostní problémy?"}]
[null,null,null,null,{"$f":"'Technical page'!B151","v":"Q2.28"},{"$f":"'Technical page'!C151","v":3},{"$f":"VLOOKUP(E820,'Technical page'!$AU$124:$BD$168,9,0)","v":"-"},"n.a.",null,{"$f":"VLOOKUP(E820,'Chapter 2'!$C$6:$D$282,2,0)","v":"Jakým způsobem se kontroluje příchod a odchod pracovníků a materiálu na pracovišti a v oblastech s omezeným vstupem?"}]
[null,null,null,null,{"$f":"'Technical page'!B152","v":"Q2.29"},{"$f":"'Technical page'!C152","v":3},{"$f":"VLOOKUP(E821,'Technical page'!$AU$124:$BD$168,9,0)","v":"-"},"n.a.",null,{"$f":"VLOOKUP(E821,'Chapter 2'!$C$6:$D$282,2,0)","v":"Jakým způsobem se kontroluje kybernetická bezpečnost?"}]
[null,null,null,null,{"$f":"'Technical page'!B153","v":"Q2.30"},{"$f":"'Technical page'!C153","v":2},{"$f":"VLOOKUP(E822,'Technical page'!$AU$124:$BD$168,9,0)","v":"-"},"n.a.",null,{"$f":"VLOOKUP(E822,'Chapter 2'!$C$6:$D$282,2,0)","v":"Jakým způsobem probíhá komunikace a výměna informací v případě bezpečnostní krize?"}]
[null,null,null,null,{"$f":"'Technical page'!B154","v":"Q2.31"},{"$f":"'Technical page'!C154","v":1},{"$f":"VLOOKUP(E823,'Technical page'!$AU$124:$BD$168,9,0)","v":"-"},"n.a.",null,{"$f":"VLOOKUP(E823,'Chapter 2'!$C$6:$D$282,2,0)","v":"Jak se organizace vyrovnává s podezřelým chováním (včetně rizik radikalizace = souhlas a podopra extrémních názorů)"}]
[null,null,null,null,{"$f":"'Technical page'!B155","v":"Q2.32"},{"$f":"'Technical page'!C155","v":2},{"$f":"VLOOKUP(E824,'Technical page'!$AU$124:$BD$168,9,0)","v":"-"},"n.a.",null,{"$f":"VLOOKUP(E824,'Chapter 2'!$C$6:$D$282,2,0)","v":"Jakým způsobem školí organizace pracovníky v oblasti ostrahy ve vazbě na bezpečnostní rizika?  "}]
[null,null,null,null,{"$f":"'Technical page'!B156","v":"Q2.33"},{"$f":"'Technical page'!C156","v":3},{"$f":"VLOOKUP(E825,'Technical page'!$AU$124:$BD$168,9,0)","v":3},"compliant",null,{"$f":"VLOOKUP(E825,'Chapter 2'!$C$6:$D$282,2,0)","v":"Jakým způsobem se posuzuje potenciální vliv organizace na životní prostředí?"}]
[null,null,null,null,{"$f":"'Technical page'!B157","v":"Q2.34"},{"$f":"'Technical page'!C157","v":4},{"$f":"VLOOKUP(E826,'Technical page'!$AU$124:$BD$168,9,0)","v":"-"},"n.a.",null,{"$f":"VLOOKUP(E826,'Chapter 2'!$C$6:$D$282,2,0)","v":"Jakým způsobem se řídí environmentální výkonnost?"}]
[null,null,null,null,{"$f":"'Technical page'!B158","v":"Q2.35"},{"$f":"'Technical page'!C158","v":3},{"$f":"VLOOKUP(E827,'Technical page'!$AU$124:$BD$168,9,0)","v":3},"compliant",null,{"$f":"VLOOKUP(E827,'Chapter 2'!$C$6:$D$282,2,0)","v":"Jak organizace nakládá s odpadem?"}]
[null,null,null,null,{"$f":"'Technical page'!B159","v":"Q2.36"},{"$f":"'Technical page'!C159","v":3},{"$f":"VLOOKUP(E828,'Technical page'!$AU$124:$BD$168,9,0)","v":3},"compliant",null,{"$f":"VLOOKUP(E828,'Chapter 2'!$C$6:$D$282,2,0)","v":"Jakým způsobem řídí organizace rizika týkající se podzemních vod?"}]
[null,null,null,null,{"$f":"'Technical page'!B160","v":"Q2.37"},{"$f":"'Technical page'!C160","v":3},{"$f":"VLOOKUP(E829,'Technical page'!$AU$124:$BD$168,9,0)","v":3},"compliant",null,{"$f":"VLOOKUP(E829,'Chapter 2'!$C$6:$D$282,2,0)","v":"Jakým způsobem řídí organizace rizika týkající se znečištění půdy?"}]
[null,null,null,null,{"$f":"'Technical page'!B161","v":"Q2.38"},{"$f":"'Technical page'!C161","v":3},{"$f":"VLOOKUP(E830,'Technical page'!$AU$124:$BD$168,9,0)","v":3},"compliant",null,{"$f":"VLOOKUP(E830,'Chapter 2'!$C$6:$D$282,2,0)","v":"Jakým způsobem řídí organizace existující znečištění půdy?\n"}]
[null,null,null,null,{"$f":"'Technical page'!B162","v":"Q2.39"},{"$f":"'Technical page'!C162","v":3},{"$f":"VLOOKUP(E831,'Technical page'!$AU$124:$BD$168,9,0)","v":3},"compliant",null,{"$f":"VLOOKUP(E831,'Chapter 2'!$C$6:$D$282,2,0)","v":"Jakým způsobem organizace řídí své emise škodlivin do ovzduší?"}]
[null,null,null,null,{"$f":"'Technical page'!B163","v":"Q2.40"},{"$f":"'Technical page'!C163","v":3},{"$f":"VLOOKUP(E832,'Technical page'!$AU$124:$BD$168,9,0)","v":3},"compliant",null,{"$f":"VLOOKUP(E832,'Chapter 2'!$C$6:$D$282,2,0)","v":"Jakým způsobem organizace řídí své emise škodlivin do vody?"}]
[null,null,null,null,{"$f":"'Technical page'!B164","v":"Q2.41"},{"$f":"'Technical page'!C164","v":3},{"$f":"VLOOKUP(E833,'Technical page'!$AU$124:$BD$168,9,0)","v":3},"compliant",null,{"$f":"VLOOKUP(E833,'Chapter 2'!$C$6:$D$282,2,0)","v":"Jakým způsobem organizace řídí své emise hluku?"}]
[null,null,null,null,{"$f":"'Technical page'!B165","v":"Q2.42"},{"$f":"'Technical page'!C165","v":3},{"$f":"VLOOKUP(E834,'Technical page'!$AU$124:$BD$168,9,0)","v":3},"compliant",null,{"$f":"VLOOKUP(E834,'Chapter 2'!$C$6:$D$282,2,0)","v":"Jakým způsobem organizace řídí své emise zápachu?"}]
[null,null,null,null,{"$f":"'Technical page'!B166","v":"Q2.43"},{"$f":"'Technical page'!C166","v":3},{"$f":"VLOOKUP(E835,'Technical page'!$AU$124:$BD$168,9,0)","v":"-"},"n.a.",null,{"$f":"VLOOKUP(E835,'Chapter 2'!$C$6:$D$282,2,0)","v":"Jakým způsobem organizace zabraňuje a řídí havarijní emise do prostředí?"}]
[null,null,null,null,{"$f":"'Technical page'!B167","v":"Q2.44"},{"$f":"'Technical page'!C167","v":3},{"$f":"VLOOKUP(E836,'Technical page'!$AU$124:$BD$168,9,0)","v":3},"compliant",null,{"$f":"VLOOKUP(E836,'Chapter 2'!$C$6:$D$282,2,0)","v":"Jakým způsobem zajišťuje organizace správně kompetence všech pracovníků, týkající se environmentálních požadavků, které souvisejí s jejich pracovní náplní?"}]
[null,null,null,null,{"$f":"'Technical page'!B168","v":"Q2.45"},{"$f":"'Technical page'!C168","v":1},{"$f":"VLOOKUP(E837,'Technical page'!$AU$124:$BD$168,9,0)","v":2},"increase score",null,{"$f":"VLOOKUP(E837,'Chapter 2'!$C$6:$D$282,2,0)","v":"Jakým způsobem jsou zainteresované strany organizace informovány o environmentálních aspektech a jejich možných dopadech?"}]
[null,null,null,null,"CHAPTER 3 : Strengthening chemicals management systems"]
[null,null,null,null,{"$f":"'Technical page'!$B$406","v":"Q3.1"},{"$f":"'Technical page'!$C$406","v":4},{"$f":"VLOOKUP(E839,'Technical page'!$AU$406:$BD$418,9,0)","v":3},{"$f":"IF(G839=\"-\",\"n.a.\",IF(F839-G839>-1,\"compliant\",\"increase score\"))","v":"compliant"},null,{"$f":"VLOOKUP(E839,'Chapter 3'!$C$6:$D$89,2,0)","v":"Zavedla organizace proces pro navrhování a vývoj nových \nproduktů a služeb?"}]
[null,null,null,null,{"$f":"'Technical page'!$B$407","v":"Q3.2"},{"$f":"'Technical page'!$C$407","v":2},{"$f":"VLOOKUP(E840,'Technical page'!$AU$406:$BD$418,9,0)","v":2},"compliant",null,{"$f":"VLOOKUP(E840,'Chapter 3'!$C$6:$D$89,2,0)","v":"Má organizace k dispozici proces hodnocení a stanovení priorit svých produktů pro charakterizaci rizik a řízení rizik?\n\n\n"}]
[null,null,null,null,{"$f":"'Technical page'!$B$408","v":"Q3.3"},{"$f":"'Technical page'!$C$408","v":4},{"$f":"VLOOKUP(E841,'Technical page'!$AU$406:$BD$418,9,0)","v":"-"},"n.a.",null,{"$f":"VLOOKUP(E841,'Chapter 3'!$C$6:$D$89,2,0)","v":"Zavedla organizace systém pro sledování použitelnosti, změn a dodržování interních a externích požadavků souvisejících s řízením bezpečnosti chemických látek?"}]
[null,null,null,null,{"$f":"'Technical page'!$B$409","v":"Q3.4"},{"$f":"'Technical page'!$C$409","v":2},{"$f":"VLOOKUP(E842,'Technical page'!$AU$406:$BD$418,9,0)","v":4},"increase score",null,{"$f":"VLOOKUP(E842,'Chapter 3'!$C$6:$D$89,2,0)","v":"Zavedla organizace systém na správu existujících informací o rizicích svých produktů?"}]
[null,null,null,null,{"$f":"'Technical page'!$B$410","v":"Q3.5"},{"$f":"'Technical page'!$C$410","v":1},{"$f":"VLOOKUP(E843,'Technical page'!$AU$406:$BD$418,9,0)","v":"-"},"n.a.",null,{"$f":"VLOOKUP(E843,'Chapter 3'!$C$6:$D$89,2,0)","v":"Zavedla organizace proces řízení informací o používání a expozici svých produktů?"}]
[null,null,null,null,{"$f":"'Technical page'!$B$411","v":"Q3.6"},{"$f":"'Technical page'!$C$411","v":1},{"$f":"VLOOKUP(E844,'Technical page'!$AU$406:$BD$418,9,0)","v":"-"},"n.a.",null,{"$f":"VLOOKUP(E844,'Chapter 3'!$C$6:$D$89,2,0)","v":"Zavedla organizace proces na správu nových informací?"}]
[null,null,null,null,{"$f":"'Technical page'!$B$412","v":"Q3.7"},{"$f":"'Technical page'!$C$412","v":2},{"$f":"VLOOKUP(E845,'Technical page'!$AU$406:$BD$418,9,0)","v":4},"increase score",null,{"$f":"VLOOKUP(E845,'Chapter 3'!$C$6:$D$89,2,0)","v":"Zavedla organizace proces charakterizace rizik na základě shromážděných informací?"}]
[null,null,null,null,{"$f":"'Technical page'!$B$413","v":"Q3.8"},{"$f":"'Technical page'!$C$413","v":1},{"$f":"VLOOKUP(E846,'Technical page'!$AU$406:$BD$418,9,0)","v":4},"increase score",null,{"$f":"VLOOKUP(E846,'Chapter 3'!$C$6:$D$89,2,0)","v":"Zavedla organizace proces řízení rizik na základě shromážděných informací?"}]
[null,null,null,null,{"$f":"'Technical page'!$B$414","v":"Q3.9"},{"$f":"'Technical page'!$C$414","v":3},{"$f":"VLOOKUP(E847,'Technical page'!$AU$406:$BD$418,9,0)","v":4},"increase score",null,{"$f":"VLOOKUP(E847,'Chapter 3'!$C$6:$D$89,2,0)","v":"Zavedla organizace účinný proces sledování svých produktů po dodání a provádění nápravných opatření?\n"}]
[null,null,null,null,{"$f":"'Technical page'!$B$415","v":"Q3.10"},{"$f":"'Technical page'!$C$415","v":3},{"$f":"VLOOKUP(E848,'Technical page'!$AU$406:$BD$418,9,0)","v":4},"increase score",null,{"$f":"VLOOKUP(E848,'Chapter 3'!$C$6:$D$89,2,0)","v":"Poskytuje organizace efektivní komunikaci v rámci dodavatelského řetězce ohledně opatření k řízení rizik, které se vztahují na jejich produkty?"}]
[null,null,null,null,"CHAPTER 4 : Influencing business partners"]
[null,null,null,null,{"$f":"'Technical page'!B482","v":"Q4.1"},{"$f":"'Technical page'!C482","v":3},{"$f":"VLOOKUP(E850,'Technical page'!$AU$482:$BD$489,9,0)","v":3},{"$f":"IF(G850=\"-\",\"n.a.\",IF(F850-G850>-1,\"compliant\",\"increase score\"))","v":"compliant"},null,{"$f":"VLOOKUP(E850,'Chapter 4'!$C$6:$D$91,2,0)","v":"Jak se organizace zavázala k odpovědnému získávání zdrojů?"}]
[null,null,null,null,{"$f":"'Technical page'!B483","v":"Q4.2"},{"$f":"'Technical page'!C483","v":2},{"$f":"VLOOKUP(E851,'Technical page'!$AU$482:$BD$489,9,0)","v":"-"},{"$f":"IF(G851=\"-\",\"n.a.\",IF(F851-G851>-1,\"compliant\",\"increase score\"))","v":"n.a."},null,{"$f":"VLOOKUP(E851,'Chapter 4'!$C$6:$D$91,2,0)","v":"Jak organizace zlepšuje spolupráci v dodavatelském řetězci?"}]
[null,null,null,null,{"$f":"'Technical page'!B484","v":"Q4.3"},{"$f":"'Technical page'!C484","v":3},{"$f":"VLOOKUP(E852,'Technical page'!$AU$482:$BD$489,9,0)","v":"-"},"n.a.",null,{"$f":"VLOOKUP(E852,'Chapter 4'!$C$6:$D$91,2,0)","v":"Jakým způsobem vyjadřuje organizace svůj závazek vůči podnikatelské etice?"}]
[null,null,null,null,{"$f":"'Technical page'!B485","v":"Q4.4"},{"$f":"'Technical page'!C485","v":1},{"$f":"VLOOKUP(E853,'Technical page'!$AU$482:$BD$489,9,0)","v":"-"},"n.a.",null,{"$f":"VLOOKUP(E853,'Chapter 4'!$C$6:$D$91,2,0)","v":"Jakým způsobem řeší organizace sociální problematiku a lidská práva v rámci spolupráce s obchodními partnery?"}]
[null,null,null,null,{"$f":"'Technical page'!B486","v":"Q4.5"},{"$f":"'Technical page'!C486","v":4},{"$f":"VLOOKUP(E854,'Technical page'!$AU$482:$BD$489,9,0)","v":"-"},"n.a.",null,{"$f":"VLOOKUP(E854,'Chapter 4'!$C$6:$D$91,2,0)","v":"Jakým způsobem zabraňuje organizace dětské práci?\nOrganizace\n1-\tzavedla systém ověřování věku; \n2-\tnezaměstnává děti mladší 15 let (v závislosti na místní legislativy). Jedinou výjimku představují učni, školní praxe nebo vzdělávací stáže; \n3-\tzaručuje, aby pracovní náplň osob mladších než 18 let neovlivňovala jejich školní docházku (doba strávená dopravou do práce a školy a z práce a školy, školní docházkou a prací je méně než 10 hodin denně );\n4-\tzajišťuje, že pracovní náplň mladých pracovníků není duševně, fyzicky, společensky ani morálně nebezpečná a škodlivá."}]
[null,null,null,null,{"$f":"'Technical page'!B487","v":"Q4.6"},{"$f":"'Technical page'!C487","v":3},{"$f":"VLOOKUP(E855,'Technical page'!$AU$482:$BD$489,9,0)","v":3},"compliant",null,{"$f":"VLOOKUP(E855,'Chapter 4'!$C$6:$D$91,2,0)","v":"Jakým způsobem zabezpečuje organizace splnění svých požadavků ze strany logistických partnerů?"}]
[null,null,null,null,{"$f":"'Technical page'!B488","v":"Q4.7"},{"$f":"'Technical page'!C488","v":3},{"$f":"VLOOKUP(E856,'Technical page'!$AU$482:$BD$489,9,0)","v":"-"},"n.a.",null,{"$f":"VLOOKUP(E856,'Chapter 4'!$C$6:$D$91,2,0)","v":"Jakým způsobem organizace chrání a zabezpečuje majetek a údaje následných uživatelů nebo externích poskytovatelů, které se používají nebo začleňují do produktů a služeb?"}]
[null,null,null,null,{"$f":"'Technical page'!B489","v":"Q4.8"},{"$f":"'Technical page'!C489","v":4},{"$f":"VLOOKUP(E857,'Technical page'!$AU$482:$BD$489,9,0)","v":"-"},"n.a.",null,{"$f":"VLOOKUP(E857,'Chapter 4'!$C$6:$D$91,2,0)","v":"Co zahrnuje dialog s následnými uživateli?"}]
[null,null,null,null,"CHAPTER 5 : Engaging stakeholders"]
[null,null,null,null,{"$f":"'Technical page'!B544","v":"Q5.1"},{"$f":"'Technical page'!C544","v":3},{"$f":"VLOOKUP(E859,'Technical page'!$AU$544:$BD$548,9,0)","v":4},"increase score",null,{"$f":"VLOOKUP(E859,'Chapter 5'!$C$6:$D$89,2,0)","v":"Jakým způsobem zapojuje organizace své externí zainteresované strany a naplňuje jejich očekávání?"}]
[null,null,null,null,{"$f":"'Technical page'!B545","v":"Q5.2"},{"$f":"'Technical page'!C545","v":2},{"$f":"VLOOKUP(E860,'Technical page'!$AU$544:$BD$548,9,0)","v":4},{"$f":"IF(G860=\"-\",\"n.a.\",IF(F860-G860>-1,\"compliant\",\"increase score\"))","v":"increase score"},null,{"$f":"VLOOKUP(E860,'Chapter 5'!$C$6:$D$89,2,0)","v":"Jakým způsobem vede organizace dialog s veřejností, úřady a dalšími zainteresovanými stranami, včetně místních komunit a zákazníků v souvislosti s HSE&S v rámci jejich činností, produktů a služeb?"}]
[null,null,null,null,{"$f":"'Technical page'!B546","v":"Q5.3"},{"$f":"'Technical page'!C546","v":2},{"$f":"VLOOKUP(E861,'Technical page'!$AU$544:$BD$548,9,0)","v":"-"},"n.a.",null,{"$f":"VLOOKUP(E861,'Chapter 5'!$C$6:$D$89,2,0)","v":"Jakým způsobem zveřejňuje organizace informace týkající se\n HSE&S?"}]
[null,null,null,null,{"$f":"'Technical page'!B547","v":"Q5.4"},{"$f":"'Technical page'!C547","v":3},{"$f":"VLOOKUP(E862,'Technical page'!$AU$544:$BD$548,9,0)","v":"-"},"n.a.",null,{"$f":"VLOOKUP(E862,'Chapter 5'!$C$6:$D$89,2,0)","v":"Jakým způsobem podporuje organizace místní komunity?"}]
[null,null,null,null,{"$f":"'Technical page'!B548","v":"Q5.5"},{"$f":"'Technical page'!C548","v":2},{"$f":"VLOOKUP(E863,'Technical page'!$AU$544:$BD$548,9,0)","v":"-"},"n.a.",null,{"$f":"VLOOKUP(E863,'Chapter 5'!$C$6:$D$89,2,0)","v":"Jakým způsobem stimuluje organizace místní zaměstnanost a vzdělávání?"}]
[null,null,null,null,"CHAPTER 6 : Contributing to sustainability"]
[null,null,null,null,{"$f":"'Technical page'!B584","v":"Q6.1"},{"$f":"'Technical page'!C584","v":2},{"$f":"VLOOKUP(E865,'Technical page'!$AU$584:$BD$600,9,0)","v":"-"},{"$f":"IF(G865=\"-\",\"n.a.\",IF(F865-G865>-1,\"compliant\",\"increase score\"))","v":"n.a."},null,{"$f":"VLOOKUP(E865,'Chapter 6'!$C$6:$D$120,2,0)","v":"Jakým způsobem definuje organizace významné problémy a závažnost?"}]
[null,null,null,null,{"$f":"'Technical page'!B585","v":"Q6.2"},{"$f":"'Technical page'!C585","v":1},{"$f":"VLOOKUP(E866,'Technical page'!$AU$584:$BD$600,9,0)","v":"-"},{"$f":"IF(G866=\"-\",\"n.a.\",IF(F866-G866>-1,\"compliant\",\"increase score\"))","v":"n.a."},null,{"$f":"VLOOKUP(E866,'Chapter 6'!$C$6:$D$120,2,0)","v":"Jakým způsobem hodlá organizace přispívat k udržitelnému rozvoji?"}]
[null,null,null,null,{"$f":"'Technical page'!B586","v":"Q6.3"},{"$f":"'Technical page'!C586","v":3},{"$f":"VLOOKUP(E867,'Technical page'!$AU$584:$BD$600,9,0)","v":"-"},"n.a.",null,{"$f":"VLOOKUP(E867,'Chapter 6'!$C$6:$D$120,2,0)","v":"Jakým způsobem komunikuje organizace zainteresovaných stran na téma udržitelnosti?"}]
[null,null,null,null,{"$f":"'Technical page'!B587","v":"Q6.4"},{"$f":"'Technical page'!C587","v":2},{"$f":"VLOOKUP(E868,'Technical page'!$AU$584:$BD$600,9,0)","v":"-"},"n.a.",null,{"$f":"VLOOKUP(E868,'Chapter 6'!$C$6:$D$120,2,0)","v":"Má organizace zavedený proces navrhování výrobků s lepšími výsledky udržitelnosti?"}]
[null,null,null,null,{"$f":"'Technical page'!B588","v":"Q6.5"},{"$f":"'Technical page'!C588","v":2},{"$f":"VLOOKUP(E869,'Technical page'!$AU$584:$BD$600,9,0)","v":"-"},"n.a.",null,{"$f":"VLOOKUP(E869,'Chapter 6'!$C$6:$D$120,2,0)","v":"Jakým způsobem zvyšuje organizace efektivnost zdrojů ve svých výrobních procesech?"}]
[null,null,null,null,{"$f":"'Technical page'!B589","v":"Q6.6"},{"$f":"'Technical page'!C589","v":1},{"$f":"VLOOKUP(E870,'Technical page'!$AU$584:$BD$600,9,0)","v":"-"},"n.a.",null,{"$f":"VLOOKUP(E870,'Chapter 6'!$C$6:$D$120,2,0)","v":"Jakým způsobem stimuluje organizace oběhové hospodářství prostřednictvím svých produktů?"}]
[null,null,null,null,{"$f":"'Technical page'!B590","v":"Q6.7"},{"$f":"'Technical page'!C590","v":2},{"$f":"VLOOKUP(E871,'Technical page'!$AU$584:$BD$600,9,0)","v":"-"},"n.a.",null,{"$f":"VLOOKUP(E871,'Chapter 6'!$C$6:$D$120,2,0)","v":"Jakým způsobem podporuje organizace inovace při vývoji produktů a řešení, které odpovídají výzvám udržitelnosti?"}]
[null,null,null,null,{"$f":"'Technical page'!B591","v":"Q6.8"},{"$f":"'Technical page'!C591","v":3},{"$f":"VLOOKUP(E872,'Technical page'!$AU$584:$BD$600,9,0)","v":"-"},"n.a.",null,{"$f":"VLOOKUP(E872,'Chapter 6'!$C$6:$D$120,2,0)","v":"Jakým způsobem stimuluje organizace inovaci a spolupráci?"}]
[null,null,null,null,{"$f":"'Technical page'!B592","v":"Q6.9"},{"$f":"'Technical page'!C592","v":2},{"$f":"VLOOKUP(E873,'Technical page'!$AU$584:$BD$600,9,0)","v":"-"},"n.a.",null,{"$f":"VLOOKUP(E873,'Chapter 6'!$C$6:$D$120,2,0)","v":"Jakým způsobem podporuje organizace udržitelné způsoby spotřeby?"}]
[null,null,null,null,{"$f":"'Technical page'!B593","v":"Q6.10"},{"$f":"'Technical page'!C593","v":3},{"$f":"VLOOKUP(E874,'Technical page'!$AU$584:$BD$600,9,0)","v":"-"},"n.a.",null,{"$f":"VLOOKUP(E874,'Chapter 6'!$C$6:$D$120,2,0)","v":"Jakým způsobem organizace kontroluje a optimalizuje spotřebu vody?"}]
[null,null,null,null,{"$f":"'Technical page'!B594","v":"Q6.11"},{"$f":"'Technical page'!C594","v":1},{"$f":"VLOOKUP(E875,'Technical page'!$AU$584:$BD$600,9,0)","v":"-"},"n.a.",null,{"$f":"VLOOKUP(E875,'Chapter 6'!$C$6:$D$120,2,0)","v":"Jakým způsobem se řídí vliv organizace na biodiverzitu a ekosystém?"}]
[null,null,null,null,{"$f":"'Technical page'!B595","v":"Q6.12"},{"$f":"'Technical page'!C595","v":1},{"$f":"VLOOKUP(E876,'Technical page'!$AU$584:$BD$600,9,0)","v":"-"},"n.a.",null,{"$f":"VLOOKUP(E876,'Chapter 6'!$C$6:$D$120,2,0)","v":"Jakým způsobem posuzuje organizace svou závislost na přírodních zdrojích (ekosystémech)?"}]
[null,null,null,null,{"$f":"'Technical page'!B596","v":"Q6.13"},{"$f":"'Technical page'!C596","v":4},{"$f":"VLOOKUP(E877,'Technical page'!$AU$584:$BD$600,9,0)","v":"-"},"n.a.",null,{"$f":"VLOOKUP(E877,'Chapter 6'!$C$6:$D$120,2,0)","v":"Jakým způsobem řídí organizace svou spotřebu energie?"}]
[null,null,null,null,{"$f":"'Technical page'!B597","v":"Q6.14"},{"$f":"'Technical page'!C597","v":3},{"$f":"VLOOKUP(E878,'Technical page'!$AU$584:$BD$600,9,0)","v":"-"},"n.a.",null,{"$f":"VLOOKUP(E878,'Chapter 6'!$C$6:$D$120,2,0)","v":"Jakým způsobem řídí organizace emise skleníkových plynů (kromě úspor energie)?"}]
[null,null,null,null,{"$f":"'Technical page'!B598","v":"Q6.15"},{"$f":"'Technical page'!C598","v":2},{"$f":"VLOOKUP(E879,'Technical page'!$AU$584:$BD$600,9,0)","v":"-"},"n.a.",null,{"$f":"VLOOKUP(E879,'Chapter 6'!$C$6:$D$120,2,0)","v":"Jaká je strategie organizace na snižování emisí skleníkových plynů?"}]
[null,null,null,null,{"$f":"'Technical page'!B599","v":"Q6.16"},{"$f":"'Technical page'!C599","v":3},{"$f":"VLOOKUP(E880,'Technical page'!$AU$584:$BD$600,9,0)","v":3},"compliant",null,{"$f":"VLOOKUP(E880,'Chapter 6'!$C$6:$D$120,2,0)","v":"Jakým způsobem se organizace připravuje na klimatické změny? "}]
[null,null,null,null,{"$f":"'Technical page'!B600","v":"Q6.17"},{"$f":"'Technical page'!C600","v":2},{"$f":"VLOOKUP(E881,'Technical page'!$AU$584:$BD$600,9,0)","v":"-"},"n.a.",null,{"$f":"VLOOKUP(E881,'Chapter 6'!$C$6:$D$120,2,0)","v":"Jak organizace zajišťuje rovné příležitosti při náboru a během kariéry všech?"}]
[]
[null,null,"Report on distance to compliance with GHS"]
[null,null,null,null,null,"Your score","Minimum score for RCMS"]
[null,null,null,null,"CHAPTER 1 : A corporate leadership culture"]
[null,null,null,null,{"$f":"'Technical page'!B10","v":"Q1.1"},{"$f":"'Technical page'!C10","v":3},{"$f":"VLOOKUP(E886,'Technical page'!$AU$10:$BD$25,10,0)","v":"-"},{"$f":"IF(G886=\"-\",\"n.a.\",IF(F886-G886>-1,\"compliant\",\"increase score\"))","v":"n.a."},null,{"$f":"VLOOKUP(E886,'Chapter 1'!$C$6:$D$112,2,0)","v":"Jak se projevuje závazek plnit povinnosti týkající se dodržování předpisů a zásad Responsible Care = RC (tj. ochrana a podpora zdraví a bezpečnost lidí, životního prostředí a udržitelnosti) na všech úrovních organizace?\n"}]
[null,null,null,null,{"$f":"'Technical page'!B11","v":"Q1.2"},{"$f":"'Technical page'!C11","v":3},{"$f":"VLOOKUP(E887,'Technical page'!$AU$10:$BD$25,10,0)","v":"-"},"n.a.",null,{"$f":"VLOOKUP(E887,'Chapter 1'!$C$6:$D$112,2,0)","v":"Jakým způsobem řídí organizace příslušná rizika a příležitosti?  "}]
[null,null,null,null,{"$f":"'Technical page'!B12","v":"Q1.3"},{"$f":"'Technical page'!C12","v":2},{"$f":"VLOOKUP(E888,'Technical page'!$AU$10:$BD$25,10,0)","v":"-"},"n.a.",null,{"$f":"VLOOKUP(E888,'Chapter 1'!$C$6:$D$112,2,0)","v":"Jakým způsobem monitoruje organizace svoje zákonné povinnosti? "}]
[null,null,null,null,{"$f":"'Technical page'!B13","v":"Q1.4"},{"$f":"'Technical page'!C13","v":2},{"$f":"VLOOKUP(E889,'Technical page'!$AU$10:$BD$25,10,0)","v":"-"},"n.a.",null,{"$f":"VLOOKUP(E889,'Chapter 1'!$C$6:$D$112,2,0)","v":"Jakým způsobem top management zajišťuje, že jednotlivé aspekty HSE&S (zdraví, bezpečnosti, ochrany životního prostředí & udržitelnosti) jsou přiřazeny stanoveným rolím v organizaci?"}]
[null,null,null,null,{"$f":"'Technical page'!B14","v":"Q1.5"},{"$f":"'Technical page'!C14","v":3},{"$f":"VLOOKUP(E890,'Technical page'!$AU$10:$BD$25,10,0)","v":"-"},"n.a.",null,{"$f":"VLOOKUP(E890,'Chapter 1'!$C$6:$D$112,2,0)","v":"Jakým způsobem se top management podílí na řešení záležitostí HSE&S?"}]
[null,null,null,null,{"$f":"'Technical page'!B15","v":"Q1.6"},{"$f":"'Technical page'!C15","v":3},{"$f":"VLOOKUP(E891,'Technical page'!$AU$10:$BD$25,10,0)","v":"-"},"n.a.",null,{"$f":"VLOOKUP(E891,'Chapter 1'!$C$6:$D$112,2,0)","v":"Jakým způsobem jsou odpovědnosti HSE&S začleněny do popisů pracovní náplně nebo ročních cílů?\n"}]
[null,null,null,null,{"$f":"'Technical page'!B16","v":"Q1.7"},{"$f":"'Technical page'!C16","v":4},{"$f":"VLOOKUP(E892,'Technical page'!$AU$10:$BD$25,10,0)","v":"-"},"n.a.",null,{"$f":"VLOOKUP(E892,'Chapter 1'!$C$6:$D$112,2,0)","v":"Jakým způsobem se řídí (nejdůležitější) procesy v souvislosti s HSE&S?"}]
[null,null,null,null,{"$f":"'Technical page'!B17","v":"Q1.8"},{"$f":"'Technical page'!C17","v":3},{"$f":"VLOOKUP(E893,'Technical page'!$AU$10:$BD$25,10,0)","v":"-"},"n.a.",null,{"$f":"VLOOKUP(E893,'Chapter 1'!$C$6:$D$112,2,0)","v":"Jakým způsobem top management zajišťuje neustálé zlepšování výkonu v oblasti HSE&S (zdraví, bezpečnosti, životního prostředí, energetiky a udržitelnosti)?"}]
[null,null,null,null,{"$f":"'Technical page'!B18","v":"Q1.9"},{"$f":"'Technical page'!C18","v":3},{"$f":"VLOOKUP(E894,'Technical page'!$AU$10:$BD$25,10,0)","v":"-"},"n.a.",null,{"$f":"VLOOKUP(E894,'Chapter 1'!$C$6:$D$112,2,0)","v":"Jak jsou organizovány interní audity?"}]
[null,null,null,null,{"$f":"'Technical page'!B19","v":"Q1.10"},{"$f":"'Technical page'!C19","v":3},{"$f":"VLOOKUP(E895,'Technical page'!$AU$10:$BD$25,10,0)","v":"-"},"n.a.",null,{"$f":"VLOOKUP(E895,'Chapter 1'!$C$6:$D$112,2,0)","v":"Jakým způsobem probíhá vyšetřování?"}]
[null,null,null,null,{"$f":"'Technical page'!B20","v":"Q1.11"},{"$f":"'Technical page'!C20","v":3},{"$f":"VLOOKUP(E896,'Technical page'!$AU$10:$BD$25,10,0)","v":"-"},"n.a.",null,{"$f":"VLOOKUP(E896,'Chapter 1'!$C$6:$D$112,2,0)","v":"Jakým způsobem organizace zajišťuje procesy, čas a zdroje potřebné pro zlepšování procesů řízení HSE&S?"}]
[null,null,null,null,{"$f":"'Technical page'!B21","v":"Q1.12"},{"$f":"'Technical page'!C21","v":3},{"$f":"VLOOKUP(E897,'Technical page'!$AU$10:$BD$25,10,0)","v":"-"},"n.a.",null,{"$f":"VLOOKUP(E897,'Chapter 1'!$C$6:$D$112,2,0)","v":"Jak organizace zajišťuje, že zaměstnanci jsou si vědomi politik a procesů týkajících se zdraví, bezpečnosti, životního prostředí, energetiky a udržitelnosti?"}]
[null,null,null,null,{"$f":"'Technical page'!B22","v":"Q1.13"},{"$f":"'Technical page'!C22","v":3},{"$f":"VLOOKUP(E898,'Technical page'!$AU$10:$BD$25,10,0)","v":"-"},"n.a.",null,{"$f":"VLOOKUP(E898,'Chapter 1'!$C$6:$D$112,2,0)","v":"Jakým způsobem organizace zajišťuje správné kompetence pracovníků, pokud jde o aspekty HSE&S týkající se jejich práce?"}]
[null,null,null,null,{"$f":"'Technical page'!B23","v":"Q1.14"},{"$f":"'Technical page'!C23","v":3},{"$f":"VLOOKUP(E899,'Technical page'!$AU$10:$BD$25,10,0)","v":"-"},"n.a.",null,{"$f":"VLOOKUP(E899,'Chapter 1'!$C$6:$D$112,2,0)","v":"Jaká je struktura zapojení zaměstnanců?"}]
[null,null,null,null,{"$f":"'Technical page'!B24","v":"Q1.15"},{"$f":"'Technical page'!C24","v":3},{"$f":"VLOOKUP(E900,'Technical page'!$AU$10:$BD$25,10,0)","v":"-"},"n.a.",null,{"$f":"VLOOKUP(E900,'Chapter 1'!$C$6:$D$112,2,0)","v":"Jakým způsobem se řídí dokumentace HSE&S?"}]
[null,null,null,null,{"$f":"'Technical page'!B25","v":"Q1.16"},{"$f":"'Technical page'!C25","v":3},{"$f":"VLOOKUP(E901,'Technical page'!$AU$10:$BD$25,10,0)","v":"-"},"n.a.",null,{"$f":"VLOOKUP(E901,'Chapter 1'!$C$6:$D$112,2,0)","v":"Jakým způsobem jsou řízeny změny potenciálně ovlivňující HSE&S (zdraví, bezpečnost, životní prostředí, energetiku a udržitelnost)?"}]
[null,null,null,null,"CHAPTER 2 : Safeguarding people and the environment"]
[null,null,null,null,{"$f":"'Technical page'!B124","v":"Q2.1"},{"$f":"'Technical page'!C124","v":3},{"$f":"VLOOKUP(E903,'Technical page'!$AU$124:$BD$168,10,0)","v":"-"},{"$f":"IF(G903=\"-\",\"n.a.\",IF(F903-G903>-1,\"compliant\",\"increase score\"))","v":"n.a."},null,{"$f":"VLOOKUP(E903,'Chapter 2'!$C$6:$D$282,2,0)","v":"Jak se management zavázal k ochraně zdraví a bezpečnosti při práci (dále jen \"BOZP\")?"}]
[null,null,null,null,{"$f":"'Technical page'!B125","v":"Q2.2"},{"$f":"'Technical page'!C125","v":2},{"$f":"VLOOKUP(E904,'Technical page'!$AU$124:$BD$168,10,0)","v":"-"},"n.a.",null,{"$f":"VLOOKUP(E904,'Chapter 2'!$C$6:$D$282,2,0)","v":"Jakým způsobem se určují rizika a expozice v souvislosti s BOZP?"}]
[null,null,null,null,{"$f":"'Technical page'!B126","v":"Q2.3"},{"$f":"'Technical page'!C126","v":3},{"$f":"VLOOKUP(E905,'Technical page'!$AU$124:$BD$168,10,0)","v":"-"},"n.a.",null,{"$f":"VLOOKUP(E905,'Chapter 2'!$C$6:$D$282,2,0)","v":"How are medical requirements evaluated?"}]
[null,null,null,null,{"$f":"'Technical page'!B127","v":"Q2.4"},{"$f":"'Technical page'!C127","v":3},{"$f":"VLOOKUP(E906,'Technical page'!$AU$124:$BD$168,10,0)","v":"-"},"n.a.",null,{"$f":"VLOOKUP(E906,'Chapter 2'!$C$6:$D$282,2,0)","v":"Jakým způsobem zlepšuje organizace BOZP?"}]
[null,null,null,null,{"$f":"'Technical page'!B128","v":"Q2.5"},{"$f":"'Technical page'!C128","v":3},{"$f":"VLOOKUP(E907,'Technical page'!$AU$124:$BD$168,10,0)","v":"-"},"n.a.",null,{"$f":"VLOOKUP(E907,'Chapter 2'!$C$6:$D$282,2,0)","v":"Jakým způsobem probíhá údržba a udržování pořádku s cílem zajistit bezpečnost provozů, zařízení, nástrojů a (bezpečnostních) pomůcek?"}]
[null,null,null,null,{"$f":"'Technical page'!B129","v":"Q2.6"},{"$f":"'Technical page'!C129","v":3},{"$f":"VLOOKUP(E908,'Technical page'!$AU$124:$BD$168,10,0)","v":"-"},"n.a.",null,{"$f":"VLOOKUP(E908,'Chapter 2'!$C$6:$D$282,2,0)","v":"Jak se ověřuje správný výběr, údržba a používání zdravotního a bezpečnostního vybavení (např. osobních ochranných prostředků = OOPP)?"}]
[null,null,null,null,{"$f":"'Technical page'!B130","v":"Q2.7"},{"$f":"'Technical page'!C130","v":2},{"$f":"VLOOKUP(E909,'Technical page'!$AU$124:$BD$168,10,0)","v":"-"},"n.a.",null,{"$f":"VLOOKUP(E909,'Chapter 2'!$C$6:$D$282,2,0)","v":"Jak se organizace stará o stres a tělesné a duševní zdraví zaměstnanců?"}]
[null,null,null,null,{"$f":"'Technical page'!B131","v":"Q2.8"},{"$f":"'Technical page'!C131","v":3},{"$f":"VLOOKUP(E910,'Technical page'!$AU$124:$BD$168,10,0)","v":"-"},"n.a.",null,{"$f":"VLOOKUP(E910,'Chapter 2'!$C$6:$D$282,2,0)","v":"Jakým způsobem se vyšetřují onemocnění, zranění, incidenty a potenciálně nebezpečné situace na pracovišti?"}]
[null,null,null,null,{"$f":"'Technical page'!B132","v":"Q2.9"},{"$f":"'Technical page'!C132","v":3},{"$f":"VLOOKUP(E911,'Technical page'!$AU$124:$BD$168,10,0)","v":"-"},"n.a.",null,{"$f":"VLOOKUP(E911,'Chapter 2'!$C$6:$D$282,2,0)","v":"Jak je organizace připravena na mimořádné události?"}]
[null,null,null,null,{"$f":"'Technical page'!B133","v":"Q2.10"},{"$f":"'Technical page'!C133","v":3},{"$f":"VLOOKUP(E912,'Technical page'!$AU$124:$BD$168,10,0)","v":"-"},"n.a.",null,{"$f":"VLOOKUP(E912,'Chapter 2'!$C$6:$D$282,2,0)","v":"Jakým způsobem zajišťuje organizace správně kompetence všech pracovníků, týkající se požadavků BOZP, které souvisí s jejich pracovní náplní?"}]
[null,null,null,null,{"$f":"'Technical page'!B134","v":"Q2.11"},{"$f":"'Technical page'!C134","v":3},{"$f":"VLOOKUP(E913,'Technical page'!$AU$124:$BD$168,10,0)","v":"-"},"n.a.",null,{"$f":"VLOOKUP(E913,'Chapter 2'!$C$6:$D$282,2,0)","v":"Jakým způsobem se vedení staví k procesní bezpečnosti?\n\n"}]
[null,null,null,null,{"$f":"'Technical page'!B135","v":"Q2.12"},{"$f":"'Technical page'!C135","v":2},{"$f":"VLOOKUP(E914,'Technical page'!$AU$124:$BD$168,10,0)","v":"-"},"n.a.",null,{"$f":"VLOOKUP(E914,'Chapter 2'!$C$6:$D$282,2,0)","v":"Jakým způsobem je vypracována identifikace a popis bezpečnosti procesů, zařízení a pracovišť organizace?"}]
[null,null,null,null,{"$f":"'Technical page'!B136","v":"Q2.13"},{"$f":"'Technical page'!C136","v":1},{"$f":"VLOOKUP(E915,'Technical page'!$AU$124:$BD$168,10,0)","v":"-"},"n.a.",null,{"$f":"VLOOKUP(E915,'Chapter 2'!$C$6:$D$282,2,0)","v":"Jakým způsobem se zlepšuje procesní bezpečnost po nehodách a incidentech?"}]
[null,null,null,null,{"$f":"'Technical page'!B137","v":"Q2.14"},{"$f":"'Technical page'!C137","v":2},{"$f":"VLOOKUP(E916,'Technical page'!$AU$124:$BD$168,10,0)","v":"-"},"n.a.",null,{"$f":"VLOOKUP(E916,'Chapter 2'!$C$6:$D$282,2,0)","v":"Jakým způsobem se provádějí audity a inspekce procesní bezpečnosti?"}]
[null,null,null,null,{"$f":"'Technical page'!B138","v":"Q2.15"},{"$f":"'Technical page'!C138","v":3},{"$f":"VLOOKUP(E917,'Technical page'!$AU$124:$BD$168,10,0)","v":"-"},"n.a.",null,{"$f":"VLOOKUP(E917,'Chapter 2'!$C$6:$D$282,2,0)","v":"Jakým způsobem se prověřují a zlepšují pracovní pokyny?"}]
[null,null,null,null,{"$f":"'Technical page'!B139","v":"Q2.16"},{"$f":"'Technical page'!C139","v":3},{"$f":"VLOOKUP(E918,'Technical page'!$AU$124:$BD$168,10,0)","v":"-"},"n.a.",null,{"$f":"VLOOKUP(E918,'Chapter 2'!$C$6:$D$282,2,0)","v":"Jak je navrhována a dokumnetována instalace nových zařízení?"}]
[null,null,null,null,{"$f":"'Technical page'!B140","v":"Q2.17"},{"$f":"'Technical page'!C140","v":4},{"$f":"VLOOKUP(E919,'Technical page'!$AU$124:$BD$168,10,0)","v":"-"},"n.a.",null,{"$f":"VLOOKUP(E919,'Chapter 2'!$C$6:$D$282,2,0)","v":"Jakým způsobem probíhá kontrola zřizování instalace?"}]
[null,null,null,null,{"$f":"'Technical page'!B141","v":"Q2.18"},{"$f":"'Technical page'!C141","v":3},{"$f":"VLOOKUP(E920,'Technical page'!$AU$124:$BD$168,10,0)","v":"-"},"n.a.",null,{"$f":"VLOOKUP(E920,'Chapter 2'!$C$6:$D$282,2,0)","v":"Jakým způsobem je zaručena ochrana zařízení, aby jediná chyba neměla katastrofické následky?"}]
[null,null,null,null,{"$f":"'Technical page'!B142","v":"Q2.19"},{"$f":"'Technical page'!C142","v":3},{"$f":"VLOOKUP(E921,'Technical page'!$AU$124:$BD$168,10,0)","v":"-"},"n.a.",null,{"$f":"VLOOKUP(E921,'Chapter 2'!$C$6:$D$282,2,0)","v":"Byly zřízeny programy preventivní údržby a péče, které zaručují bezpečnost provozů, nástrojů a zařízení?"}]
[null,null,null,null,{"$f":"'Technical page'!B143","v":"Q2.20"},{"$f":"'Technical page'!C143","v":4},{"$f":"VLOOKUP(E922,'Technical page'!$AU$124:$BD$168,10,0)","v":"-"},"n.a.",null,{"$f":"VLOOKUP(E922,'Chapter 2'!$C$6:$D$282,2,0)","v":"Jakým způsobem se řídí procesy během mimořádných událostí v případě přerušení dodávky energie nebo služeb?"}]
[null,null,null,null,{"$f":"'Technical page'!B144","v":"Q2.21"},{"$f":"'Technical page'!C144","v":2},{"$f":"VLOOKUP(E923,'Technical page'!$AU$124:$BD$168,10,0)","v":"-"},"n.a.",null,{"$f":"VLOOKUP(E923,'Chapter 2'!$C$6:$D$282,2,0)","v":"Jak se připravují havarijní plány?"}]
[null,null,null,null,{"$f":"'Technical page'!B145","v":"Q2.22"},{"$f":"'Technical page'!C145","v":2},{"$f":"VLOOKUP(E924,'Technical page'!$AU$124:$BD$168,10,0)","v":"-"},"n.a.",null,{"$f":"VLOOKUP(E924,'Chapter 2'!$C$6:$D$282,2,0)","v":"Jakým způsobem jsou zabezpečeny kompetence a školení zaměstnanců a dodavatelů zapojených do procesů?"}]
[null,null,null,null,{"$f":"'Technical page'!B146","v":"Q2.23"},{"$f":"'Technical page'!C146","v":4},{"$f":"VLOOKUP(E925,'Technical page'!$AU$124:$BD$168,10,0)","v":"-"},"n.a.",null,{"$f":"VLOOKUP(E925,'Chapter 2'!$C$6:$D$282,2,0)","v":"Jakým způsobem se sdílejí informace o rizicích látek a přípravků?"}]
[null,null,null,null,{"$f":"'Technical page'!B147","v":"Q2.24"},{"$f":"'Technical page'!C147","v":4},{"$f":"VLOOKUP(E926,'Technical page'!$AU$124:$BD$168,10,0)","v":"-"},"n.a.",null,{"$f":"VLOOKUP(E926,'Chapter 2'!$C$6:$D$282,2,0)","v":"Jak se sdílejí informace o procesu?"}]
[null,null,null,null,{"$f":"'Technical page'!B148","v":"Q2.25"},{"$f":"'Technical page'!C148","v":3},{"$f":"VLOOKUP(E927,'Technical page'!$AU$124:$BD$168,10,0)","v":"-"},"n.a.",null,{"$f":"VLOOKUP(E927,'Chapter 2'!$C$6:$D$282,2,0)","v":"Jakým způsobem organizace hodnotí své logistické partnery z hlediska HSE&S, energetické účinnosti a emisí skleníkových plynů?"}]
[null,null,null,null,{"$f":"'Technical page'!B149","v":"Q2.26"},{"$f":"'Technical page'!C149","v":3},{"$f":"VLOOKUP(E928,'Technical page'!$AU$124:$BD$168,10,0)","v":"-"},"n.a.",null,{"$f":"VLOOKUP(E928,'Chapter 2'!$C$6:$D$282,2,0)","v":"Jakým způsobem organizace zabraňuje a reaguje na dopravní nehody?"}]
[null,null,null,null,{"$f":"'Technical page'!B150","v":"Q2.27"},{"$f":"'Technical page'!C150","v":2},{"$f":"VLOOKUP(E929,'Technical page'!$AU$124:$BD$168,10,0)","v":"-"},"n.a.",null,{"$f":"VLOOKUP(E929,'Chapter 2'!$C$6:$D$282,2,0)","v":"Jakým způsobem organizace identifikuje bezpečnostní problémy?"}]
[null,null,null,null,{"$f":"'Technical page'!B151","v":"Q2.28"},{"$f":"'Technical page'!C151","v":3},{"$f":"VLOOKUP(E930,'Technical page'!$AU$124:$BD$168,10,0)","v":"-"},"n.a.",null,{"$f":"VLOOKUP(E930,'Chapter 2'!$C$6:$D$282,2,0)","v":"Jakým způsobem se kontroluje příchod a odchod pracovníků a materiálu na pracovišti a v oblastech s omezeným vstupem?"}]
[null,null,null,null,{"$f":"'Technical page'!B152","v":"Q2.29"},{"$f":"'Technical page'!C152","v":3},{"$f":"VLOOKUP(E931,'Technical page'!$AU$124:$BD$168,10,0)","v":"-"},"n.a.",null,{"$f":"VLOOKUP(E931,'Chapter 2'!$C$6:$D$282,2,0)","v":"Jakým způsobem se kontroluje kybernetická bezpečnost?"}]
[null,null,null,null,{"$f":"'Technical page'!B153","v":"Q2.30"},{"$f":"'Technical page'!C153","v":2},{"$f":"VLOOKUP(E932,'Technical page'!$AU$124:$BD$168,10,0)","v":"-"},"n.a.",null,{"$f":"VLOOKUP(E932,'Chapter 2'!$C$6:$D$282,2,0)","v":"Jakým způsobem probíhá komunikace a výměna informací v případě bezpečnostní krize?"}]
[null,null,null,null,{"$f":"'Technical page'!B154","v":"Q2.31"},{"$f":"'Technical page'!C154","v":1},{"$f":"VLOOKUP(E933,'Technical page'!$AU$124:$BD$168,10,0)","v":"-"},"n.a.",null,{"$f":"VLOOKUP(E933,'Chapter 2'!$C$6:$D$282,2,0)","v":"Jak se organizace vyrovnává s podezřelým chováním (včetně rizik radikalizace = souhlas a podopra extrémních názorů)"}]
[null,null,null,null,{"$f":"'Technical page'!B155","v":"Q2.32"},{"$f":"'Technical page'!C155","v":2},{"$f":"VLOOKUP(E934,'Technical page'!$AU$124:$BD$168,10,0)","v":"-"},"n.a.",null,{"$f":"VLOOKUP(E934,'Chapter 2'!$C$6:$D$282,2,0)","v":"Jakým způsobem školí organizace pracovníky v oblasti ostrahy ve vazbě na bezpečnostní rizika?  "}]
[null,null,null,null,{"$f":"'Technical page'!B156","v":"Q2.33"},{"$f":"'Technical page'!C156","v":3},{"$f":"VLOOKUP(E935,'Technical page'!$AU$124:$BD$168,10,0)","v":"-"},"n.a.",null,{"$f":"VLOOKUP(E935,'Chapter 2'!$C$6:$D$282,2,0)","v":"Jakým způsobem se posuzuje potenciální vliv organizace na životní prostředí?"}]
[null,null,null,null,{"$f":"'Technical page'!B157","v":"Q2.34"},{"$f":"'Technical page'!C157","v":4},{"$f":"VLOOKUP(E936,'Technical page'!$AU$124:$BD$168,10,0)","v":"-"},"n.a.",null,{"$f":"VLOOKUP(E936,'Chapter 2'!$C$6:$D$282,2,0)","v":"Jakým způsobem se řídí environmentální výkonnost?"}]
[null,null,null,null,{"$f":"'Technical page'!B158","v":"Q2.35"},{"$f":"'Technical page'!C158","v":3},{"$f":"VLOOKUP(E937,'Technical page'!$AU$124:$BD$168,10,0)","v":"-"},"n.a.",null,{"$f":"VLOOKUP(E937,'Chapter 2'!$C$6:$D$282,2,0)","v":"Jak organizace nakládá s odpadem?"}]
[null,null,null,null,{"$f":"'Technical page'!B159","v":"Q2.36"},{"$f":"'Technical page'!C159","v":3},{"$f":"VLOOKUP(E938,'Technical page'!$AU$124:$BD$168,10,0)","v":"-"},"n.a.",null,{"$f":"VLOOKUP(E938,'Chapter 2'!$C$6:$D$282,2,0)","v":"Jakým způsobem řídí organizace rizika týkající se podzemních vod?"}]
[null,null,null,null,{"$f":"'Technical page'!B160","v":"Q2.37"},{"$f":"'Technical page'!C160","v":3},{"$f":"VLOOKUP(E939,'Technical page'!$AU$124:$BD$168,10,0)","v":"-"},"n.a.",null,{"$f":"VLOOKUP(E939,'Chapter 2'!$C$6:$D$282,2,0)","v":"Jakým způsobem řídí organizace rizika týkající se znečištění půdy?"}]
[null,null,null,null,{"$f":"'Technical page'!B161","v":"Q2.38"},{"$f":"'Technical page'!C161","v":3},{"$f":"VLOOKUP(E940,'Technical page'!$AU$124:$BD$168,10,0)","v":"-"},"n.a.",null,{"$f":"VLOOKUP(E940,'Chapter 2'!$C$6:$D$282,2,0)","v":"Jakým způsobem řídí organizace existující znečištění půdy?\n"}]
[null,null,null,null,{"$f":"'Technical page'!B162","v":"Q2.39"},{"$f":"'Technical page'!C162","v":3},{"$f":"VLOOKUP(E941,'Technical page'!$AU$124:$BD$168,10,0)","v":"-"},"n.a.",null,{"$f":"VLOOKUP(E941,'Chapter 2'!$C$6:$D$282,2,0)","v":"Jakým způsobem organizace řídí své emise škodlivin do ovzduší?"}]
[null,null,null,null,{"$f":"'Technical page'!B163","v":"Q2.40"},{"$f":"'Technical page'!C163","v":3},{"$f":"VLOOKUP(E942,'Technical page'!$AU$124:$BD$168,10,0)","v":"-"},"n.a.",null,{"$f":"VLOOKUP(E942,'Chapter 2'!$C$6:$D$282,2,0)","v":"Jakým způsobem organizace řídí své emise škodlivin do vody?"}]
[null,null,null,null,{"$f":"'Technical page'!B164","v":"Q2.41"},{"$f":"'Technical page'!C164","v":3},{"$f":"VLOOKUP(E943,'Technical page'!$AU$124:$BD$168,10,0)","v":"-"},"n.a.",null,{"$f":"VLOOKUP(E943,'Chapter 2'!$C$6:$D$282,2,0)","v":"Jakým způsobem organizace řídí své emise hluku?"}]
[null,null,null,null,{"$f":"'Technical page'!B165","v":"Q2.42"},{"$f":"'Technical page'!C165","v":3},{"$f":"VLOOKUP(E944,'Technical page'!$AU$124:$BD$168,10,0)","v":"-"},"n.a.",null,{"$f":"VLOOKUP(E944,'Chapter 2'!$C$6:$D$282,2,0)","v":"Jakým způsobem organizace řídí své emise zápachu?"}]
[null,null,null,null,{"$f":"'Technical page'!B166","v":"Q2.43"},{"$f":"'Technical page'!C166","v":3},{"$f":"VLOOKUP(E945,'Technical page'!$AU$124:$BD$168,10,0)","v":"-"},"n.a.",null,{"$f":"VLOOKUP(E945,'Chapter 2'!$C$6:$D$282,2,0)","v":"Jakým způsobem organizace zabraňuje a řídí havarijní emise do prostředí?"}]
[null,null,null,null,{"$f":"'Technical page'!B167","v":"Q2.44"},{"$f":"'Technical page'!C167","v":3},{"$f":"VLOOKUP(E946,'Technical page'!$AU$124:$BD$168,10,0)","v":"-"},"n.a.",null,{"$f":"VLOOKUP(E946,'Chapter 2'!$C$6:$D$282,2,0)","v":"Jakým způsobem zajišťuje organizace správně kompetence všech pracovníků, týkající se environmentálních požadavků, které souvisejí s jejich pracovní náplní?"}]
[null,null,null,null,{"$f":"'Technical page'!B168","v":"Q2.45"},{"$f":"'Technical page'!C168","v":1},{"$f":"VLOOKUP(E947,'Technical page'!$AU$124:$BD$168,10,0)","v":"-"},"n.a.",null,{"$f":"VLOOKUP(E947,'Chapter 2'!$C$6:$D$282,2,0)","v":"Jakým způsobem jsou zainteresované strany organizace informovány o environmentálních aspektech a jejich možných dopadech?"}]
[null,null,null,null,"CHAPTER 3 : Strengthening chemicals management systems"]
[null,null,null,null,{"$f":"'Technical page'!$B$406","v":"Q3.1"},{"$f":"'Technical page'!$C$406","v":4},{"$f":"VLOOKUP(E949,'Technical page'!$AU$406:$BD$418,10,0)","v":"-"},{"$f":"IF(G949=\"-\",\"n.a.\",IF(F949-G949>-1,\"compliant\",\"increase score\"))","v":"n.a."},null,{"$f":"VLOOKUP(E949,'Chapter 3'!$C$6:$D$89,2,0)","v":"Zavedla organizace proces pro navrhování a vývoj nových \nproduktů a služeb?"}]
[null,null,null,null,{"$f":"'Technical page'!$B$407","v":"Q3.2"},{"$f":"'Technical page'!$C$407","v":2},{"$f":"VLOOKUP(E950,'Technical page'!$AU$406:$BD$418,10,0)","v":"-"},"n.a.",null,{"$f":"VLOOKUP(E950,'Chapter 3'!$C$6:$D$89,2,0)","v":"Má organizace k dispozici proces hodnocení a stanovení priorit svých produktů pro charakterizaci rizik a řízení rizik?\n\n\n"}]
[null,null,null,null,{"$f":"'Technical page'!$B$408","v":"Q3.3"},{"$f":"'Technical page'!$C$408","v":4},{"$f":"VLOOKUP(E951,'Technical page'!$AU$406:$BD$418,10,0)","v":3},"compliant",null,{"$f":"VLOOKUP(E951,'Chapter 3'!$C$6:$D$89,2,0)","v":"Zavedla organizace systém pro sledování použitelnosti, změn a dodržování interních a externích požadavků souvisejících s řízením bezpečnosti chemických látek?"}]
[null,null,null,null,{"$f":"'Technical page'!$B$409","v":"Q3.4"},{"$f":"'Technical page'!$C$409","v":2},{"$f":"VLOOKUP(E952,'Technical page'!$AU$406:$BD$418,10,0)","v":"-"},"n.a.",null,{"$f":"VLOOKUP(E952,'Chapter 3'!$C$6:$D$89,2,0)","v":"Zavedla organizace systém na správu existujících informací o rizicích svých produktů?"}]
[null,null,null,null,{"$f":"'Technical page'!$B$410","v":"Q3.5"},{"$f":"'Technical page'!$C$410","v":1},{"$f":"VLOOKUP(E953,'Technical page'!$AU$406:$BD$418,10,0)","v":"-"},"n.a.",null,{"$f":"VLOOKUP(E953,'Chapter 3'!$C$6:$D$89,2,0)","v":"Zavedla organizace proces řízení informací o používání a expozici svých produktů?"}]
[null,null,null,null,{"$f":"'Technical page'!$B$411","v":"Q3.6"},{"$f":"'Technical page'!$C$411","v":1},{"$f":"VLOOKUP(E954,'Technical page'!$AU$406:$BD$418,10,0)","v":"-"},"n.a.",null,{"$f":"VLOOKUP(E954,'Chapter 3'!$C$6:$D$89,2,0)","v":"Zavedla organizace proces na správu nových informací?"}]
[null,null,null,null,{"$f":"'Technical page'!$B$412","v":"Q3.7"},{"$f":"'Technical page'!$C$412","v":2},{"$f":"VLOOKUP(E955,'Technical page'!$AU$406:$BD$418,10,0)","v":"-"},"n.a.",null,{"$f":"VLOOKUP(E955,'Chapter 3'!$C$6:$D$89,2,0)","v":"Zavedla organizace proces charakterizace rizik na základě shromážděných informací?"}]
[null,null,null,null,{"$f":"'Technical page'!$B$413","v":"Q3.8"},{"$f":"'Technical page'!$C$413","v":1},{"$f":"VLOOKUP(E956,'Technical page'!$AU$406:$BD$418,10,0)","v":1},"compliant",null,{"$f":"VLOOKUP(E956,'Chapter 3'!$C$6:$D$89,2,0)","v":"Zavedla organizace proces řízení rizik na základě shromážděných informací?"}]
[null,null,null,null,{"$f":"'Technical page'!$B$414","v":"Q3.9"},{"$f":"'Technical page'!$C$414","v":3},{"$f":"VLOOKUP(E957,'Technical page'!$AU$406:$BD$418,10,0)","v":"-"},"n.a.",null,{"$f":"VLOOKUP(E957,'Chapter 3'!$C$6:$D$89,2,0)","v":"Zavedla organizace účinný proces sledování svých produktů po dodání a provádění nápravných opatření?\n"}]
[null,null,null,null,{"$f":"'Technical page'!$B$415","v":"Q3.10"},{"$f":"'Technical page'!$C$415","v":3},{"$f":"VLOOKUP(E958,'Technical page'!$AU$406:$BD$418,10,0)","v":1},"compliant",null,{"$f":"VLOOKUP(E958,'Chapter 3'!$C$6:$D$89,2,0)","v":"Poskytuje organizace efektivní komunikaci v rámci dodavatelského řetězce ohledně opatření k řízení rizik, které se vztahují na jejich produkty?"}]
[null,null,null,null,"CHAPTER 4 : Influencing business partners"]
[null,null,null,null,{"$f":"'Technical page'!B482","v":"Q4.1"},{"$f":"'Technical page'!C482","v":3},{"$f":"VLOOKUP(E960,'Technical page'!$AU$482:$BD$489,10,0)","v":"-"},{"$f":"IF(G960=\"-\",\"n.a.\",IF(F960-G960>-1,\"compliant\",\"increase score\"))","v":"n.a."},null,{"$f":"VLOOKUP(E960,'Chapter 4'!$C$6:$D$91,2,0)","v":"Jak se organizace zavázala k odpovědnému získávání zdrojů?"}]
[null,null,null,null,{"$f":"'Technical page'!B483","v":"Q4.2"},{"$f":"'Technical page'!C483","v":2},{"$f":"VLOOKUP(E961,'Technical page'!$AU$482:$BD$489,10,0)","v":"-"},"n.a.",null,{"$f":"VLOOKUP(E961,'Chapter 4'!$C$6:$D$91,2,0)","v":"Jak organizace zlepšuje spolupráci v dodavatelském řetězci?"}]
[null,null,null,null,{"$f":"'Technical page'!B484","v":"Q4.3"},{"$f":"'Technical page'!C484","v":3},{"$f":"VLOOKUP(E962,'Technical page'!$AU$482:$BD$489,10,0)","v":"-"},"n.a.",null,{"$f":"VLOOKUP(E962,'Chapter 4'!$C$6:$D$91,2,0)","v":"Jakým způsobem vyjadřuje organizace svůj závazek vůči podnikatelské etice?"}]
[null,null,null,null,{"$f":"'Technical page'!B485","v":"Q4.4"},{"$f":"'Technical page'!C485","v":1},{"$f":"VLOOKUP(E963,'Technical page'!$AU$482:$BD$489,10,0)","v":"-"},"n.a.",null,{"$f":"VLOOKUP(E963,'Chapter 4'!$C$6:$D$91,2,0)","v":"Jakým způsobem řeší organizace sociální problematiku a lidská práva v rámci spolupráce s obchodními partnery?"}]
[null,null,null,null,{"$f":"'Technical page'!B486","v":"Q4.5"},{"$f":"'Technical page'!C486","v":4},{"$f":"VLOOKUP(E964,'Technical page'!$AU$482:$BD$489,10,0)","v":"-"},"n.a.",null,{"$f":"VLOOKUP(E964,'Chapter 4'!$C$6:$D$91,2,0)","v":"Jakým způsobem zabraňuje organizace dětské práci?\nOrganizace\n1-\tzavedla systém ověřování věku; \n2-\tnezaměstnává děti mladší 15 let (v závislosti na místní legislativy). Jedinou výjimku představují učni, školní praxe nebo vzdělávací stáže; \n3-\tzaručuje, aby pracovní náplň osob mladších než 18 let neovlivňovala jejich školní docházku (doba strávená dopravou do práce a školy a z práce a školy, školní docházkou a prací je méně než 10 hodin denně );\n4-\tzajišťuje, že pracovní náplň mladých pracovníků není duševně, fyzicky, společensky ani morálně nebezpečná a škodlivá."}]
[null,null,null,null,{"$f":"'Technical page'!B487","v":"Q4.6"},{"$f":"'Technical page'!C487","v":3},{"$f":"VLOOKUP(E965,'Technical page'!$AU$482:$BD$489,10,0)","v":"-"},"n.a.",null,{"$f":"VLOOKUP(E965,'Chapter 4'!$C$6:$D$91,2,0)","v":"Jakým způsobem zabezpečuje organizace splnění svých požadavků ze strany logistických partnerů?"}]
[null,null,null,null,{"$f":"'Technical page'!B488","v":"Q4.7"},{"$f":"'Technical page'!C488","v":3},{"$f":"VLOOKUP(E966,'Technical page'!$AU$482:$BD$489,10,0)","v":"-"},"n.a.",null,{"$f":"VLOOKUP(E966,'Chapter 4'!$C$6:$D$91,2,0)","v":"Jakým způsobem organizace chrání a zabezpečuje majetek a údaje následných uživatelů nebo externích poskytovatelů, které se používají nebo začleňují do produktů a služeb?"}]
[null,null,null,null,{"$f":"'Technical page'!B489","v":"Q4.8"},{"$f":"'Technical page'!C489","v":4},{"$f":"VLOOKUP(E967,'Technical page'!$AU$482:$BD$489,10,0)","v":"-"},"n.a.",null,{"$f":"VLOOKUP(E967,'Chapter 4'!$C$6:$D$91,2,0)","v":"Co zahrnuje dialog s následnými uživateli?"}]
[null,null,null,null,"CHAPTER 5 : Engaging stakeholders"]
[null,null,null,null,{"$f":"'Technical page'!B544","v":"Q5.1"},{"$f":"'Technical page'!C544","v":3},{"$f":"VLOOKUP(E969,'Technical page'!$AU$544:$BD$548,10,0)","v":"-"},{"$f":"IF(G969=\"-\",\"n.a.\",IF(F969-G969>-1,\"compliant\",\"increase score\"))","v":"n.a."},null,{"$f":"VLOOKUP(E969,'Chapter 5'!$C$6:$D$89,2,0)","v":"Jakým způsobem zapojuje organizace své externí zainteresované strany a naplňuje jejich očekávání?"}]
[null,null,null,null,{"$f":"'Technical page'!B545","v":"Q5.2"},{"$f":"'Technical page'!C545","v":2},{"$f":"VLOOKUP(E970,'Technical page'!$AU$544:$BD$548,10,0)","v":"-"},"n.a.",null,{"$f":"VLOOKUP(E970,'Chapter 5'!$C$6:$D$89,2,0)","v":"Jakým způsobem vede organizace dialog s veřejností, úřady a dalšími zainteresovanými stranami, včetně místních komunit a zákazníků v souvislosti s HSE&S v rámci jejich činností, produktů a služeb?"}]
[null,null,null,null,{"$f":"'Technical page'!B546","v":"Q5.3"},{"$f":"'Technical page'!C546","v":2},{"$f":"VLOOKUP(E971,'Technical page'!$AU$544:$BD$548,10,0)","v":"-"},"n.a.",null,{"$f":"VLOOKUP(E971,'Chapter 5'!$C$6:$D$89,2,0)","v":"Jakým způsobem zveřejňuje organizace informace týkající se\n HSE&S?"}]
[null,null,null,null,{"$f":"'Technical page'!B547","v":"Q5.4"},{"$f":"'Technical page'!C547","v":3},{"$f":"VLOOKUP(E972,'Technical page'!$AU$544:$BD$548,10,0)","v":"-"},"n.a.",null,{"$f":"VLOOKUP(E972,'Chapter 5'!$C$6:$D$89,2,0)","v":"Jakým způsobem podporuje organizace místní komunity?"}]
[null,null,null,null,{"$f":"'Technical page'!B548","v":"Q5.5"},{"$f":"'Technical page'!C548","v":2},{"$f":"VLOOKUP(E973,'Technical page'!$AU$544:$BD$548,10,0)","v":"-"},"n.a.",null,{"$f":"VLOOKUP(E973,'Chapter 5'!$C$6:$D$89,2,0)","v":"Jakým způsobem stimuluje organizace místní zaměstnanost a vzdělávání?"}]
[null,null,null,null,"CHAPTER 6 : Contributing to sustainability"]
[null,null,null,null,{"$f":"'Technical page'!B584","v":"Q6.1"},{"$f":"'Technical page'!C584","v":2},{"$f":"VLOOKUP(E975,'Technical page'!$AU$584:$BD$600,10,0)","v":"-"},{"$f":"IF(G975=\"-\",\"n.a.\",IF(F975-G975>-1,\"compliant\",\"increase score\"))","v":"n.a."},null,{"$f":"VLOOKUP(E975,'Chapter 6'!$C$6:$D$120,2,0)","v":"Jakým způsobem definuje organizace významné problémy a závažnost?"}]
[null,null,null,null,{"$f":"'Technical page'!B585","v":"Q6.2"},{"$f":"'Technical page'!C585","v":1},{"$f":"VLOOKUP(E976,'Technical page'!$AU$584:$BD$600,10,0)","v":"-"},{"$f":"IF(G976=\"-\",\"n.a.\",IF(F976-G976>-1,\"compliant\",\"increase score\"))","v":"n.a."},null,{"$f":"VLOOKUP(E976,'Chapter 6'!$C$6:$D$120,2,0)","v":"Jakým způsobem hodlá organizace přispívat k udržitelnému rozvoji?"}]
[null,null,null,null,{"$f":"'Technical page'!B586","v":"Q6.3"},{"$f":"'Technical page'!C586","v":3},{"$f":"VLOOKUP(E977,'Technical page'!$AU$584:$BD$600,10,0)","v":"-"},"n.a.",null,{"$f":"VLOOKUP(E977,'Chapter 6'!$C$6:$D$120,2,0)","v":"Jakým způsobem komunikuje organizace zainteresovaných stran na téma udržitelnosti?"}]
[null,null,null,null,{"$f":"'Technical page'!B587","v":"Q6.4"},{"$f":"'Technical page'!C587","v":2},{"$f":"VLOOKUP(E978,'Technical page'!$AU$584:$BD$600,10,0)","v":"-"},"n.a.",null,{"$f":"VLOOKUP(E978,'Chapter 6'!$C$6:$D$120,2,0)","v":"Má organizace zavedený proces navrhování výrobků s lepšími výsledky udržitelnosti?"}]
[null,null,null,null,{"$f":"'Technical page'!B588","v":"Q6.5"},{"$f":"'Technical page'!C588","v":2},{"$f":"VLOOKUP(E979,'Technical page'!$AU$584:$BD$600,10,0)","v":"-"},"n.a.",null,{"$f":"VLOOKUP(E979,'Chapter 6'!$C$6:$D$120,2,0)","v":"Jakým způsobem zvyšuje organizace efektivnost zdrojů ve svých výrobních procesech?"}]
[null,null,null,null,{"$f":"'Technical page'!B589","v":"Q6.6"},{"$f":"'Technical page'!C589","v":1},{"$f":"VLOOKUP(E980,'Technical page'!$AU$584:$BD$600,10,0)","v":"-"},"n.a.",null,{"$f":"VLOOKUP(E980,'Chapter 6'!$C$6:$D$120,2,0)","v":"Jakým způsobem stimuluje organizace oběhové hospodářství prostřednictvím svých produktů?"}]
[null,null,null,null,{"$f":"'Technical page'!B590","v":"Q6.7"},{"$f":"'Technical page'!C590","v":2},{"$f":"VLOOKUP(E981,'Technical page'!$AU$584:$BD$600,10,0)","v":"-"},"n.a.",null,{"$f":"VLOOKUP(E981,'Chapter 6'!$C$6:$D$120,2,0)","v":"Jakým způsobem podporuje organizace inovace při vývoji produktů a řešení, které odpovídají výzvám udržitelnosti?"}]
[null,null,null,null,{"$f":"'Technical page'!B591","v":"Q6.8"},{"$f":"'Technical page'!C591","v":3},{"$f":"VLOOKUP(E982,'Technical page'!$AU$584:$BD$600,10,0)","v":"-"},"n.a.",null,{"$f":"VLOOKUP(E982,'Chapter 6'!$C$6:$D$120,2,0)","v":"Jakým způsobem stimuluje organizace inovaci a spolupráci?"}]
[null,null,null,null,{"$f":"'Technical page'!B592","v":"Q6.9"},{"$f":"'Technical page'!C592","v":2},{"$f":"VLOOKUP(E983,'Technical page'!$AU$584:$BD$600,10,0)","v":"-"},"n.a.",null,{"$f":"VLOOKUP(E983,'Chapter 6'!$C$6:$D$120,2,0)","v":"Jakým způsobem podporuje organizace udržitelné způsoby spotřeby?"}]
[null,null,null,null,{"$f":"'Technical page'!B593","v":"Q6.10"},{"$f":"'Technical page'!C593","v":3},{"$f":"VLOOKUP(E984,'Technical page'!$AU$584:$BD$600,10,0)","v":"-"},"n.a.",null,{"$f":"VLOOKUP(E984,'Chapter 6'!$C$6:$D$120,2,0)","v":"Jakým způsobem organizace kontroluje a optimalizuje spotřebu vody?"}]
[null,null,null,null,{"$f":"'Technical page'!B594","v":"Q6.11"},{"$f":"'Technical page'!C594","v":1},{"$f":"VLOOKUP(E985,'Technical page'!$AU$584:$BD$600,10,0)","v":"-"},"n.a.",null,{"$f":"VLOOKUP(E985,'Chapter 6'!$C$6:$D$120,2,0)","v":"Jakým způsobem se řídí vliv organizace na biodiverzitu a ekosystém?"}]
[null,null,null,null,{"$f":"'Technical page'!B595","v":"Q6.12"},{"$f":"'Technical page'!C595","v":1},{"$f":"VLOOKUP(E986,'Technical page'!$AU$584:$BD$600,10,0)","v":"-"},"n.a.",null,{"$f":"VLOOKUP(E986,'Chapter 6'!$C$6:$D$120,2,0)","v":"Jakým způsobem posuzuje organizace svou závislost na přírodních zdrojích (ekosystémech)?"}]
[null,null,null,null,{"$f":"'Technical page'!B596","v":"Q6.13"},{"$f":"'Technical page'!C596","v":4},{"$f":"VLOOKUP(E987,'Technical page'!$AU$584:$BD$600,10,0)","v":"-"},"n.a.",null,{"$f":"VLOOKUP(E987,'Chapter 6'!$C$6:$D$120,2,0)","v":"Jakým způsobem řídí organizace svou spotřebu energie?"}]
[null,null,null,null,{"$f":"'Technical page'!B597","v":"Q6.14"},{"$f":"'Technical page'!C597","v":3},{"$f":"VLOOKUP(E988,'Technical page'!$AU$584:$BD$600,10,0)","v":"-"},"n.a.",null,{"$f":"VLOOKUP(E988,'Chapter 6'!$C$6:$D$120,2,0)","v":"Jakým způsobem řídí organizace emise skleníkových plynů (kromě úspor energie)?"}]
[null,null,null,null,{"$f":"'Technical page'!B598","v":"Q6.15"},{"$f":"'Technical page'!C598","v":2},{"$f":"VLOOKUP(E989,'Technical page'!$AU$584:$BD$600,10,0)","v":"-"},"n.a.",null,{"$f":"VLOOKUP(E989,'Chapter 6'!$C$6:$D$120,2,0)","v":"Jaká je strategie organizace na snižování emisí skleníkových plynů?"}]
[null,null,null,null,{"$f":"'Technical page'!B599","v":"Q6.16"},{"$f":"'Technical page'!C599","v":3},{"$f":"VLOOKUP(E990,'Technical page'!$AU$584:$BD$600,10,0)","v":"-"},"n.a.",null,{"$f":"VLOOKUP(E990,'Chapter 6'!$C$6:$D$120,2,0)","v":"Jakým způsobem se organizace připravuje na klimatické změny? "}]
[null,null,null,null,{"$f":"'Technical page'!B600","v":"Q6.17"},{"$f":"'Technical page'!C600","v":2},{"$f":"VLOOKUP(E991,'Technical page'!$AU$584:$BD$600,10,0)","v":"-"},"n.a.",null,{"$f":"VLOOKUP(E991,'Chapter 6'!$C$6:$D$120,2,0)","v":"Jak organizace zajišťuje rovné příležitosti při náboru a během kariéry všech?"}]

{"sheet":"SDG report","index":13,"n_rows":109,"n_cols":22,"rows_kept":109,"cut":false,"hidden":false,"merged":[]}
[]
[null,null,null,"Your answer"]
[]
[null,{"$f":"'Technical SDG'!B3","v":"Q1.1"},{"$f":"VLOOKUP(B4,'Chapter 1'!$C$6:$D$112,2,0)","v":"Jak se projevuje závazek plnit povinnosti týkající se dodržování předpisů a zásad Responsible Care = RC (tj. ochrana a podpora zdraví a bezpečnost lidí, životního prostředí a udržitelnosti) na všech úrovních organizace?\n"},{"$f":"'Technical SDG'!C3","v":3},{"$f":"COUNTIF(F4:V4,\"\")","v":17},{"$f":"IF('Technical SDG'!D3=\"\",\"\",IF($D4=\"\",\"please complete\",IF($D4>'Technical SDG'!D3-1,\":-)\",CONCATENATE(\"increase until \",'Technical SDG'!D3))))","v":""},{"$f":"IF('Technical SDG'!E3=\"\",\"\",IF($D4=\"\",\"please complete\",IF($D4>'Technical SDG'!E3-1,\":-)\",CONCATENATE(\"increase until \",'Technical SDG'!E3))))","v":""},{"$f":"IF('Technical SDG'!F3=\"\",\"\",IF($D4=\"\",\"please complete\",IF($D4>'Technical SDG'!F3-1,\":-)\",CONCATENATE(\"increase until \",'Technical SDG'!F3))))","v":""},{"$f":"IF('Technical SDG'!G3=\"\",\"\",IF($D4=\"\",\"please complete\",IF($D4>'Technical SDG'!G3-1,\":-)\",CONCATENATE(\"increase until \",'Technical SDG'!G3))))","v":""},{"$f":"IF('Technical SDG'!H3=\"\",\"\",IF($D4=\"\",\"please complete\",IF($D4>'Technical SDG'!H3-1,\":-)\",CONCATENATE(\"increase until \",'Technical SDG'!H3))))","v":""},{"$f":"IF('Technical SDG'!I3=\"\",\"\",IF($D4=\"\",\"please complete\",IF($D4>'Technical SDG'!I3-1,\":-)\",CONCATENATE(\"increase until \",'Technical SDG'!I3))))","v":""},{"$f":"IF('Technical SDG'!J3=\"\",\"\",IF($D4=\"\",\"please complete\",IF($D4>'Technical SDG'!J3-1,\":-)\",CONCATENATE(\"increase until \",'Technical SDG'!J3))))","v":""},{"$f":"IF('Technical SDG'!K3=\"\",\"\",IF($D4=\"\",\"please complete\",IF($D4>'Technical SDG'!K3-1,\":-)\",CONCATENATE(\"increase until \",'Technical SDG'!K3))))","v":""},{"$f":"IF('Technical SDG'!L3=\"\",\"\",IF($D4=\"\",\"please complete\",IF($D4>'Technical SDG'!L3-1,\":-)\",CONCATENATE(\"increase until \",'Technical SDG'!L3))))","v":""},{"$f":"IF('Technical SDG'!M3=\"\",\"\",IF($D4=\"\",\"please complete\",IF($D4>'Technical SDG'!M3-1,\":-)\",CONCATENATE(\"increase until \",'Technical SDG'!M3))))","v":""},{"$f":"IF('Technical SDG'!N3=\"\",\"\",IF($D4=\"\",\"please complete\",IF($D4>'Technical SDG'!N3-1,\":-)\",CONCATENATE(\"increase until \",'Technical SDG'!N3))))","v":""},{"$f":"IF('Technical SDG'!O3=\"\",\"\",IF($D4=\"\",\"please complete\",IF($D4>'Technical SDG'!O3-1,\":-)\",CONCATENATE(\"increase until \",'Technical SDG'!O3))))","v":""},{"$f":"IF('Technical SDG'!P3=\"\",\"\",IF($D4=\"\",\"please complete\",IF($D4>'Technical SDG'!P3-1,\":-)\",CONCATENATE(\"increase until \",'Technical SDG'!P3))))","v":""},{"$f":"IF('Technical SDG'!Q3=\"\",\"\",IF($D4=\"\",\"please complete\",IF($D4>'Technical SDG'!Q3-1,\":-)\",CONCATENATE(\"increase until \",'Technical SDG'!Q3))))","v":""},{"$f":"IF('Technical SDG'!R3=\"\",\"\",IF($D4=\"\",\"please complete\",IF($D4>'Technical SDG'!R3-1,\":-)\",CONCATENATE(\"increase until \",'Technical SDG'!R3))))","v":""},{"$f":"IF('Technical SDG'!S3=\"\",\"\",IF($D4=\"\",\"please complete\",IF($D4>'Technical SDG'!S3-1,\":-)\",CONCATENATE(\"increase until \",'Technical SDG'!S3))))","v":""},{"$f":"IF('Technical SDG'!T3=\"\",\"\",IF($D4=\"\",\"please complete\",IF($D4>'Technical SDG'!T3-1,\":-)\",CONCATENATE(\"increase until \",'Technical SDG'!T3))))","v":""}]
[null,{"$f":"'Technical SDG'!B4","v":"Q1.2"},{"$f":"VLOOKUP(B5,'Chapter 1'!$C$6:$D$112,2,0)","v":"Jakým způsobem řídí organizace příslušná rizika a příležitosti?  "},{"$f":"'Technical SDG'!C4","v":3},{"$f":"COUNTIF(F5:V5,\"\")","v":17},{"$f":"IF('Technical SDG'!D4=\"\",\"\",IF($D5=\"\",\"please complete\",IF($D5>'Technical SDG'!D4-1,\":-)\",CONCATENATE(\"increase until \",'Technical SDG'!D4))))","v":""},{"$f":"IF('Technical SDG'!E4=\"\",\"\",IF($D5=\"\",\"please complete\",IF($D5>'Technical SDG'!E4-1,\":-)\",CONCATENATE(\"increase until \",'Technical SDG'!E4))))","v":""},{"$f":"IF('Technical SDG'!F4=\"\",\"\",IF($D5=\"\",\"please complete\",IF($D5>'Technical SDG'!F4-1,\":-)\",CONCATENATE(\"increase until \",'Technical SDG'!F4))))","v":""},{"$f":"IF('Technical SDG'!G4=\"\",\"\",IF($D5=\"\",\"please complete\",IF($D5>'Technical SDG'!G4-1,\":-)\",CONCATENATE(\"increase until \",'Technical SDG'!G4))))","v":""},{"$f":"IF('Technical SDG'!H4=\"\",\"\",IF($D5=\"\",\"please complete\",IF($D5>'Technical SDG'!H4-1,\":-)\",CONCATENATE(\"increase until \",'Technical SDG'!H4))))","v":""},{"$f":"IF('Technical SDG'!I4=\"\",\"\",IF($D5=\"\",\"please complete\",IF($D5>'Technical SDG'!I4-1,\":-)\",CONCATENATE(\"increase until \",'Technical SDG'!I4))))","v":""},{"$f":"IF('Technical SDG'!J4=\"\",\"\",IF($D5=\"\",\"please complete\",IF($D5>'Technical SDG'!J4-1,\":-)\",CONCATENATE(\"increase until \",'Technical SDG'!J4))))","v":""},{"$f":"IF('Technical SDG'!K4=\"\",\"\",IF($D5=\"\",\"please complete\",IF($D5>'Technical SDG'!K4-1,\":-)\",CONCATENATE(\"increase until \",'Technical SDG'!K4))))","v":""},{"$f":"IF('Technical SDG'!L4=\"\",\"\",IF($D5=\"\",\"please complete\",IF($D5>'Technical SDG'!L4-1,\":-)\",CONCATENATE(\"increase until \",'Technical SDG'!L4))))","v":""},{"$f":"IF('Technical SDG'!M4=\"\",\"\",IF($D5=\"\",\"please complete\",IF($D5>'Technical SDG'!M4-1,\":-)\",CONCATENATE(\"increase until \",'Technical SDG'!M4))))","v":""},{"$f":"IF('Technical SDG'!N4=\"\",\"\",IF($D5=\"\",\"please complete\",IF($D5>'Technical SDG'!N4-1,\":-)\",CONCATENATE(\"increase until \",'Technical SDG'!N4))))","v":""},{"$f":"IF('Technical SDG'!O4=\"\",\"\",IF($D5=\"\",\"please complete\",IF($D5>'Technical SDG'!O4-1,\":-)\",CONCATENATE(\"increase until \",'Technical SDG'!O4))))","v":""},{"$f":"IF('Technical SDG'!P4=\"\",\"\",IF($D5=\"\",\"please complete\",IF($D5>'Technical SDG'!P4-1,\":-)\",CONCATENATE(\"increase until \",'Technical SDG'!P4))))","v":""},{"$f":"IF('Technical SDG'!Q4=\"\",\"\",IF($D5=\"\",\"please complete\",IF($D5>'Technical SDG'!Q4-1,\":-)\",CONCATENATE(\"increase until \",'Technical SDG'!Q4))))","v":""},{"$f":"IF('Technical SDG'!R4=\"\",\"\",IF($D5=\"\",\"please complete\",IF($D5>'Technical SDG'!R4-1,\":-)\",CONCATENATE(\"increase until \",'Technical SDG'!R4))))","v":""},{"$f":"IF('Technical SDG'!S4=\"\",\"\",IF($D5=\"\",\"please complete\",IF($D5>'Technical SDG'!S4-1,\":-)\",CONCATENATE(\"increase until \",'Technical SDG'!S4))))","v":""},{"$f":"IF('Technical SDG'!T4=\"\",\"\",IF($D5=\"\",\"please complete\",IF($D5>'Technical SDG'!T4-1,\":-)\",CONCATENATE(\"increase until \",'Technical SDG'!T4))))","v":""}]
[null,{"$f":"'Technical SDG'!B5","v":"Q1.3"},{"$f":"VLOOKUP(B6,'Chapter 1'!$C$6:$D$112,2,0)","v":"Jakým způsobem monitoruje organizace svoje zákonné povinnosti? "},{"$f":"'Technical SDG'!C5","v":2},17,{"$f":"IF('Technical SDG'!D5=\"\",\"\",IF($D6=\"\",\"please complete\",IF($D6>'Technical SDG'!D5-1,\":-)\",CONCATENATE(\"increase until \",'Technical SDG'!D5))))","v":""},{"$f":"IF('Technical SDG'!E5=\"\",\"\",IF($D6=\"\",\"please complete\",IF($D6>'Technical SDG'!E5-1,\":-)\",CONCATENATE(\"increase until \",'Technical SDG'!E5))))","v":""},{"$f":"IF('Technical SDG'!F5=\"\",\"\",IF($D6=\"\",\"please complete\",IF($D6>'Technical SDG'!F5-1,\":-)\",CONCATENATE(\"increase until \",'Technical SDG'!F5))))","v":""},{"$f":"IF('Technical SDG'!G5=\"\",\"\",IF($D6=\"\",\"please complete\",IF($D6>'Technical SDG'!G5-1,\":-)\",CONCATENATE(\"increase until \",'Technical SDG'!G5))))","v":""},{"$f":"IF('Technical SDG'!H5=\"\",\"\",IF($D6=\"\",\"please complete\",IF($D6>'Technical SDG'!H5-1,\":-)\",CONCATENATE(\"increase until \",'Technical SDG'!H5))))","v":""},{"$f":"IF('Technical SDG'!I5=\"\",\"\",IF($D6=\"\",\"please complete\",IF($D6>'Technical SDG'!I5-1,\":-)\",CONCATENATE(\"increase until \",'Technical SDG'!I5))))","v":""},{"$f":"IF('Technical SDG'!J5=\"\",\"\",IF($D6=\"\",\"please complete\",IF($D6>'Technical SDG'!J5-1,\":-)\",CONCATENATE(\"increase until \",'Technical SDG'!J5))))","v":""},{"$f":"IF('Technical SDG'!K5=\"\",\"\",IF($D6=\"\",\"please complete\",IF($D6>'Technical SDG'!K5-1,\":-)\",CONCATENATE(\"increase until \",'Technical SDG'!K5))))","v":""},{"$f":"IF('Technical SDG'!L5=\"\",\"\",IF($D6=\"\",\"please complete\",IF($D6>'Technical SDG'!L5-1,\":-)\",CONCATENATE(\"increase until \",'Technical SDG'!L5))))","v":""},{"$f":"IF('Technical SDG'!M5=\"\",\"\",IF($D6=\"\",\"please complete\",IF($D6>'Technical SDG'!M5-1,\":-)\",CONCATENATE(\"increase until \",'Technical SDG'!M5))))","v":""},{"$f":"IF('Technical SDG'!N5=\"\",\"\",IF($D6=\"\",\"please complete\",IF($D6>'Technical SDG'!N5-1,\":-)\",CONCATENATE(\"increase until \",'Technical SDG'!N5))))","v":""},{"$f":"IF('Technical SDG'!O5=\"\",\"\",IF($D6=\"\",\"please complete\",IF($D6>'Technical SDG'!O5-1,\":-)\",CONCATENATE(\"increase until \",'Technical SDG'!O5))))","v":""},{"$f":"IF('Technical SDG'!P5=\"\",\"\",IF($D6=\"\",\"please complete\",IF($D6>'Technical SDG'!P5-1,\":-)\",CONCATENATE(\"increase until \",'Technical SDG'!P5))))","v":""},{"$f":"IF('Technical SDG'!Q5=\"\",\"\",IF($D6=\"\",\"please complete\",IF($D6>'Technical SDG'!Q5-1,\":-)\",CONCATENATE(\"increase until \",'Technical SDG'!Q5))))","v":""},{"$f":"IF('Technical SDG'!R5=\"\",\"\",IF($D6=\"\",\"please complete\",IF($D6>'Technical SDG'!R5-1,\":-)\",CONCATENATE(\"increase until \",'Technical SDG'!R5))))","v":""},{"$f":"IF('Technical SDG'!S5=\"\",\"\",IF($D6=\"\",\"please complete\",IF($D6>'Technical SDG'!S5-1,\":-)\",CONCATENATE(\"increase until \",'Technical SDG'!S5))))","v":""},{"$f":"IF('Technical SDG'!T5=\"\",\"\",IF($D6=\"\",\"please complete\",IF($D6>'Technical SDG'!T5-1,\":-)\",CONCATENATE(\"increase until \",'Technical SDG'!T5))))","v":""}]
[null,{"$f":"'Technical SDG'!B6","v":"Q1.4"},{"$f":"VLOOKUP(B7,'Chapter 1'!$C$6:$D$112,2,0)","v":"Jakým způsobem top management zajišťuje, že jednotlivé aspekty HSE&S (zdraví, bezpečnosti, ochrany životního prostředí & udržitelnosti) jsou přiřazeny stanoveným rolím v organizaci?"},{"$f":"'Technical SDG'!C6","v":2},17,{"$f":"IF('Technical SDG'!D6=\"\",\"\",IF($D7=\"\",\"please complete\",IF($D7>'Technical SDG'!D6-1,\":-)\",CONCATENATE(\"increase until \",'Technical SDG'!D6))))","v":""},{"$f":"IF('Technical SDG'!E6=\"\",\"\",IF($D7=\"\",\"please complete\",IF($D7>'Technical SDG'!E6-1,\":-)\",CONCATENATE(\"increase until \",'Technical SDG'!E6))))","v":""},{"$f":"IF('Technical SDG'!F6=\"\",\"\",IF($D7=\"\",\"please complete\",IF($D7>'Technical SDG'!F6-1,\":-)\",CONCATENATE(\"increase until \",'Technical SDG'!F6))))","v":""},{"$f":"IF('Technical SDG'!G6=\"\",\"\",IF($D7=\"\",\"please complete\",IF($D7>'Technical SDG'!G6-1,\":-)\",CONCATENATE(\"increase until \",'Technical SDG'!G6))))","v":""},{"$f":"IF('Technical SDG'!H6=\"\",\"\",IF($D7=\"\",\"please complete\",IF($D7>'Technical SDG'!H6-1,\":-)\",CONCATENATE(\"increase until \",'Technical SDG'!H6))))","v":""},{"$f":"IF('Technical SDG'!I6=\"\",\"\",IF($D7=\"\",\"please complete\",IF($D7>'Technical SDG'!I6-1,\":-)\",CONCATENATE(\"increase until \",'Technical SDG'!I6))))","v":""},{"$f":"IF('Technical SDG'!J6=\"\",\"\",IF($D7=\"\",\"please complete\",IF($D7>'Technical SDG'!J6-1,\":-)\",CONCATENATE(\"increase until \",'Technical SDG'!J6))))","v":""},{"$f":"IF('Technical SDG'!K6=\"\",\"\",IF($D7=\"\",\"please complete\",IF($D7>'Technical SDG'!K6-1,\":-)\",CONCATENATE(\"increase until \",'Technical SDG'!K6))))","v":""},{"$f":"IF('Technical SDG'!L6=\"\",\"\",IF($D7=\"\",\"please complete\",IF($D7>'Technical SDG'!L6-1,\":-)\",CONCATENATE(\"increase until \",'Technical SDG'!L6))))","v":""},{"$f":"IF('Technical SDG'!M6=\"\",\"\",IF($D7=\"\",\"please complete\",IF($D7>'Technical SDG'!M6-1,\":-)\",CONCATENATE(\"increase until \",'Technical SDG'!M6))))","v":""},{"$f":"IF('Technical SDG'!N6=\"\",\"\",IF($D7=\"\",\"please complete\",IF($D7>'Technical SDG'!N6-1,\":-)\",CONCATENATE(\"increase until \",'Technical SDG'!N6))))","v":""},{"$f":"IF('Technical SDG'!O6=\"\",\"\",IF($D7=\"\",\"please complete\",IF($D7>'Technical SDG'!O6-1,\":-)\",CONCATENATE(\"increase until \",'Technical SDG'!O6))))","v":""},{"$f":"IF('Technical SDG'!P6=\"\",\"\",IF($D7=\"\",\"please complete\",IF($D7>'Technical SDG'!P6-1,\":-)\",CONCATENATE(\"increase until \",'Technical SDG'!P6))))","v":""},{"$f":"IF('Technical SDG'!Q6=\"\",\"\",IF($D7=\"\",\"please complete\",IF($D7>'Technical SDG'!Q6-1,\":-)\",CONCATENATE(\"increase until \",'Technical SDG'!Q6))))","v":""},{"$f":"IF('Technical SDG'!R6=\"\",\"\",IF($D7=\"\",\"please complete\",IF($D7>'Technical SDG'!R6-1,\":-)\",CONCATENATE(\"increase until \",'Technical SDG'!R6))))","v":""},{"$f":"IF('Technical SDG'!S6=\"\",\"\",IF($D7=\"\",\"please complete\",IF($D7>'Technical SDG'!S6-1,\":-)\",CONCATENATE(\"increase until \",'Technical SDG'!S6))))","v":""},{"$f":"IF('Technical SDG'!T6=\"\",\"\",IF($D7=\"\",\"please complete\",IF($D7>'Technical SDG'!T6-1,\":-)\",CONCATENATE(\"increase until \",'Technical SDG'!T6))))","v":""}]
[null,{"$f":"'Technical SDG'!B7","v":"Q1.5"},{"$f":"VLOOKUP(B8,'Chapter 1'!$C$6:$D$112,2,0)","v":"Jakým způsobem se top management podílí na řešení záležitostí HSE&S?"},{"$f":"'Technical SDG'!C7","v":3},17,{"$f":"IF('Technical SDG'!D7=\"\",\"\",IF($D8=\"\",\"please complete\",IF($D8>'Technical SDG'!D7-1,\":-)\",CONCATENATE(\"increase until \",'Technical SDG'!D7))))","v":""},{"$f":"IF('Technical SDG'!E7=\"\",\"\",IF($D8=\"\",\"please complete\",IF($D8>'Technical SDG'!E7-1,\":-)\",CONCATENATE(\"increase until \",'Technical SDG'!E7))))","v":""},{"$f":"IF('Technical SDG'!F7=\"\",\"\",IF($D8=\"\",\"please complete\",IF($D8>'Technical SDG'!F7-1,\":-)\",CONCATENATE(\"increase until \",'Technical SDG'!F7))))","v":""},{"$f":"IF('Technical SDG'!G7=\"\",\"\",IF($D8=\"\",\"please complete\",IF($D8>'Technical SDG'!G7-1,\":-)\",CONCATENATE(\"increase until \",'Technical SDG'!G7))))","v":""},{"$f":"IF('Technical SDG'!H7=\"\",\"\",IF($D8=\"\",\"please complete\",IF($D8>'Technical SDG'!H7-1,\":-)\",CONCATENATE(\"increase until \",'Technical SDG'!H7))))","v":""},{"$f":"IF('Technical SDG'!I7=\"\",\"\",IF($D8=\"\",\"please complete\",IF($D8>'Technical SDG'!I7-1,\":-)\",CONCATENATE(\"increase until \",'Technical SDG'!I7))))","v":""},{"$f":"IF('Technical SDG'!J7=\"\",\"\",IF($D8=\"\",\"please complete\",IF($D8>'Technical SDG'!J7-1,\":-)\",CONCATENATE(\"increase until \",'Technical SDG'!J7))))","v":""},{"$f":"IF('Technical SDG'!K7=\"\",\"\",IF($D8=\"\",\"please complete\",IF($D8>'Technical SDG'!K7-1,\":-)\",CONCATENATE(\"increase until \",'Technical SDG'!K7))))","v":""},{"$f":"IF('Technical SDG'!L7=\"\",\"\",IF($D8=\"\",\"please complete\",IF($D8>'Technical SDG'!L7-1,\":-)\",CONCATENATE(\"increase until \",'Technical SDG'!L7))))","v":""},{"$f":"IF('Technical SDG'!M7=\"\",\"\",IF($D8=\"\",\"please complete\",IF($D8>'Technical SDG'!M7-1,\":-)\",CONCATENATE(\"increase until \",'Technical SDG'!M7))))","v":""},{"$f":"IF('Technical SDG'!N7=\"\",\"\",IF($D8=\"\",\"please complete\",IF($D8>'Technical SDG'!N7-1,\":-)\",CONCATENATE(\"increase until \",'Technical SDG'!N7))))","v":""},{"$f":"IF('Technical SDG'!O7=\"\",\"\",IF($D8=\"\",\"please complete\",IF($D8>'Technical SDG'!O7-1,\":-)\",CONCATENATE(\"increase until \",'Technical SDG'!O7))))","v":""},{"$f":"IF('Technical SDG'!P7=\"\",\"\",IF($D8=\"\",\"please complete\",IF($D8>'Technical SDG'!P7-1,\":-)\",CONCATENATE(\"increase until \",'Technical SDG'!P7))))","v":""},{"$f":"IF('Technical SDG'!Q7=\"\",\"\",IF($D8=\"\",\"please complete\",IF($D8>'Technical SDG'!Q7-1,\":-)\",CONCATENATE(\"increase until \",'Technical SDG'!Q7))))","v":""},{"$f":"IF('Technical SDG'!R7=\"\",\"\",IF($D8=\"\",\"please complete\",IF($D8>'Technical SDG'!R7-1,\":-)\",CONCATENATE(\"increase until \",'Technical SDG'!R7))))","v":""},{"$f":"IF('Technical SDG'!S7=\"\",\"\",IF($D8=\"\",\"please complete\",IF($D8>'Technical SDG'!S7-1,\":-)\",CONCATENATE(\"increase until \",'Technical SDG'!S7))))","v":""},{"$f":"IF('Technical SDG'!T7=\"\",\"\",IF($D8=\"\",\"please complete\",IF($D8>'Technical SDG'!T7-1,\":-)\",CONCATENATE(\"increase until \",'Technical SDG'!T7))))","v":""}]
[null,{"$f":"'Technical SDG'!B8","v":"Q1.6"},{"$f":"VLOOKUP(B9,'Chapter 1'!$C$6:$D$112,2,0)","v":"Jakým způsobem jsou odpovědnosti HSE&S začleněny do popisů pracovní náplně nebo ročních cílů?\n"},{"$f":"'Technical SDG'!C8","v":3},17,{"$f":"IF('Technical SDG'!D8=\"\",\"\",IF($D9=\"\",\"please complete\",IF($D9>'Technical SDG'!D8-1,\":-)\",CONCATENATE(\"increase until \",'Technical SDG'!D8))))","v":""},{"$f":"IF('Technical SDG'!E8=\"\",\"\",IF($D9=\"\",\"please complete\",IF($D9>'Technical SDG'!E8-1,\":-)\",CONCATENATE(\"increase until \",'Technical SDG'!E8))))","v":""},{"$f":"IF('Technical SDG'!F8=\"\",\"\",IF($D9=\"\",\"please complete\",IF($D9>'Technical SDG'!F8-1,\":-)\",CONCATENATE(\"increase until \",'Technical SDG'!F8))))","v":""},{"$f":"IF('Technical SDG'!G8=\"\",\"\",IF($D9=\"\",\"please complete\",IF($D9>'Technical SDG'!G8-1,\":-)\",CONCATENATE(\"increase until \",'Technical SDG'!G8))))","v":""},{"$f":"IF('Technical SDG'!H8=\"\",\"\",IF($D9=\"\",\"please complete\",IF($D9>'Technical SDG'!H8-1,\":-)\",CONCATENATE(\"increase until \",'Technical SDG'!H8))))","v":""},{"$f":"IF('Technical SDG'!I8=\"\",\"\",IF($D9=\"\",\"please complete\",IF($D9>'Technical SDG'!I8-1,\":-)\",CONCATENATE(\"increase until \",'Technical SDG'!I8))))","v":""},{"$f":"IF('Technical SDG'!J8=\"\",\"\",IF($D9=\"\",\"please complete\",IF($D9>'Technical SDG'!J8-1,\":-)\",CONCATENATE(\"increase until \",'Technical SDG'!J8))))","v":""},{"$f":"IF('Technical SDG'!K8=\"\",\"\",IF($D9=\"\",\"please complete\",IF($D9>'Technical SDG'!K8-1,\":-)\",CONCATENATE(\"increase until \",'Technical SDG'!K8))))","v":""},{"$f":"IF('Technical SDG'!L8=\"\",\"\",IF($D9=\"\",\"please complete\",IF($D9>'Technical SDG'!L8-1,\":-)\",CONCATENATE(\"increase until \",'Technical SDG'!L8))))","v":""},{"$f":"IF('Technical SDG'!M8=\"\",\"\",IF($D9=\"\",\"please complete\",IF($D9>'Technical SDG'!M8-1,\":-)\",CONCATENATE(\"increase until \",'Technical SDG'!M8))))","v":""},{"$f":"IF('Technical SDG'!N8=\"\",\"\",IF($D9=\"\",\"please complete\",IF($D9>'Technical SDG'!N8-1,\":-)\",CONCATENATE(\"increase until \",'Technical SDG'!N8))))","v":""},{"$f":"IF('Technical SDG'!O8=\"\",\"\",IF($D9=\"\",\"please complete\",IF($D9>'Technical SDG'!O8-1,\":-)\",CONCATENATE(\"increase until \",'Technical SDG'!O8))))","v":""},{"$f":"IF('Technical SDG'!P8=\"\",\"\",IF($D9=\"\",\"please complete\",IF($D9>'Technical SDG'!P8-1,\":-)\",CONCATENATE(\"increase until \",'Technical SDG'!P8))))","v":""},{"$f":"IF('Technical SDG'!Q8=\"\",\"\",IF($D9=\"\",\"please complete\",IF($D9>'Technical SDG'!Q8-1,\":-)\",CONCATENATE(\"increase until \",'Technical SDG'!Q8))))","v":""},{"$f":"IF('Technical SDG'!R8=\"\",\"\",IF($D9=\"\",\"please complete\",IF($D9>'Technical SDG'!R8-1,\":-)\",CONCATENATE(\"increase until \",'Technical SDG'!R8))))","v":""},{"$f":"IF('Technical SDG'!S8=\"\",\"\",IF($D9=\"\",\"please complete\",IF($D9>'Technical SDG'!S8-1,\":-)\",CONCATENATE(\"increase until \",'Technical SDG'!S8))))","v":""},{"$f":"IF('Technical SDG'!T8=\"\",\"\",IF($D9=\"\",\"please complete\",IF($D9>'Technical SDG'!T8-1,\":-)\",CONCATENATE(\"increase until \",'Technical SDG'!T8))))","v":""}]
[null,{"$f":"'Technical SDG'!B9","v":"Q1.7"},{"$f":"VLOOKUP(B10,'Chapter 1'!$C$6:$D$112,2,0)","v":"Jakým způsobem se řídí (nejdůležitější) procesy v souvislosti s HSE&S?"},{"$f":"'Technical SDG'!C9","v":4},17,{"$f":"IF('Technical SDG'!D9=\"\",\"\",IF($D10=\"\",\"please complete\",IF($D10>'Technical SDG'!D9-1,\":-)\",CONCATENATE(\"increase until \",'Technical SDG'!D9))))","v":""},{"$f":"IF('Technical SDG'!E9=\"\",\"\",IF($D10=\"\",\"please complete\",IF($D10>'Technical SDG'!E9-1,\":-)\",CONCATENATE(\"increase until \",'Technical SDG'!E9))))","v":""},{"$f":"IF('Technical SDG'!F9=\"\",\"\",IF($D10=\"\",\"please complete\",IF($D10>'Technical SDG'!F9-1,\":-)\",CONCATENATE(\"increase until \",'Technical SDG'!F9))))","v":""},{"$f":"IF('Technical SDG'!G9=\"\",\"\",IF($D10=\"\",\"please complete\",IF($D10>'Technical SDG'!G9-1,\":-)\",CONCATENATE(\"increase until \",'Technical SDG'!G9))))","v":""},{"$f":"IF('Technical SDG'!H9=\"\",\"\",IF($D10=\"\",\"please complete\",IF($D10>'Technical SDG'!H9-1,\":-)\",CONCATENATE(\"increase until \",'Technical SDG'!H9))))","v":""},{"$f":"IF('Technical SDG'!I9=\"\",\"\",IF($D10=\"\",\"please complete\",IF($D10>'Technical SDG'!I9-1,\":-)\",CONCATENATE(\"increase until \",'Technical SDG'!I9))))","v":""},{"$f":"IF('Technical SDG'!J9=\"\",\"\",IF($D10=\"\",\"please complete\",IF($D10>'Technical SDG'!J9-1,\":-)\",CONCATENATE(\"increase until \",'Technical SDG'!J9))))","v":""},{"$f":"IF('Technical SDG'!K9=\"\",\"\",IF($D10=\"\",\"please complete\",IF($D10>'Technical SDG'!K9-1,\":-)\",CONCATENATE(\"increase until \",'Technical SDG'!K9))))","v":""},{"$f":"IF('Technical SDG'!L9=\"\",\"\",IF($D10=\"\",\"please complete\",IF($D10>'Technical SDG'!L9-1,\":-)\",CONCATENATE(\"increase until \",'Technical SDG'!L9))))","v":""},{"$f":"IF('Technical SDG'!M9=\"\",\"\",IF($D10=\"\",\"please complete\",IF($D10>'Technical SDG'!M9-1,\":-)\",CONCATENATE(\"increase until \",'Technical SDG'!M9))))","v":""},{"$f":"IF('Technical SDG'!N9=\"\",\"\",IF($D10=\"\",\"please complete\",IF($D10>'Technical SDG'!N9-1,\":-)\",CONCATENATE(\"increase until \",'Technical SDG'!N9))))","v":""},{"$f":"IF('Technical SDG'!O9=\"\",\"\",IF($D10=\"\",\"please complete\",IF($D10>'Technical SDG'!O9-1,\":-)\",CONCATENATE(\"increase until \",'Technical SDG'!O9))))","v":""},{"$f":"IF('Technical SDG'!P9=\"\",\"\",IF($D10=\"\",\"please complete\",IF($D10>'Technical SDG'!P9-1,\":-)\",CONCATENATE(\"increase until \",'Technical SDG'!P9))))","v":""},{"$f":"IF('Technical SDG'!Q9=\"\",\"\",IF($D10=\"\",\"please complete\",IF($D10>'Technical SDG'!Q9-1,\":-)\",CONCATENATE(\"increase until \",'Technical SDG'!Q9))))","v":""},{"$f":"IF('Technical SDG'!R9=\"\",\"\",IF($D10=\"\",\"please complete\",IF($D10>'Technical SDG'!R9-1,\":-)\",CONCATENATE(\"increase until \",'Technical SDG'!R9))))","v":""},{"$f":"IF('Technical SDG'!S9=\"\",\"\",IF($D10=\"\",\"please complete\",IF($D10>'Technical SDG'!S9-1,\":-)\",CONCATENATE(\"increase until \",'Technical SDG'!S9))))","v":""},{"$f":"IF('Technical SDG'!T9=\"\",\"\",IF($D10=\"\",\"please complete\",IF($D10>'Technical SDG'!T9-1,\":-)\",CONCATENATE(\"increase until \",'Technical SDG'!T9))))","v":""}]
[null,{"$f":"'Technical SDG'!B10","v":"Q1.8"},{"$f":"VLOOKUP(B11,'Chapter 1'!$C$6:$D$112,2,0)","v":"Jakým způsobem top management zajišťuje neustálé zlepšování výkonu v oblasti HSE&S (zdraví, bezpečnosti, životního prostředí, energetiky a udržitelnosti)?"},{"$f":"'Technical SDG'!C10","v":3},17,{"$f":"IF('Technical SDG'!D10=\"\",\"\",IF($D11=\"\",\"please complete\",IF($D11>'Technical SDG'!D10-1,\":-)\",CONCATENATE(\"increase until \",'Technical SDG'!D10))))","v":""},{"$f":"IF('Technical SDG'!E10=\"\",\"\",IF($D11=\"\",\"please complete\",IF($D11>'Technical SDG'!E10-1,\":-)\",CONCATENATE(\"increase until \",'Technical SDG'!E10))))","v":""},{"$f":"IF('Technical SDG'!F10=\"\",\"\",IF($D11=\"\",\"please complete\",IF($D11>'Technical SDG'!F10-1,\":-)\",CONCATENATE(\"increase until \",'Technical SDG'!F10))))","v":""},{"$f":"IF('Technical SDG'!G10=\"\",\"\",IF($D11=\"\",\"please complete\",IF($D11>'Technical SDG'!G10-1,\":-)\",CONCATENATE(\"increase until \",'Technical SDG'!G10))))","v":""},{"$f":"IF('Technical SDG'!H10=\"\",\"\",IF($D11=\"\",\"please complete\",IF($D11>'Technical SDG'!H10-1,\":-)\",CONCATENATE(\"increase until \",'Technical SDG'!H10))))","v":""},{"$f":"IF('Technical SDG'!I10=\"\",\"\",IF($D11=\"\",\"please complete\",IF($D11>'Technical SDG'!I10-1,\":-)\",CONCATENATE(\"increase until \",'Technical SDG'!I10))))","v":""},{"$f":"IF('Technical SDG'!J10=\"\",\"\",IF($D11=\"\",\"please complete\",IF($D11>'Technical SDG'!J10-1,\":-)\",CONCATENATE(\"increase until \",'Technical SDG'!J10))))","v":""},{"$f":"IF('Technical SDG'!K10=\"\",\"\",IF($D11=\"\",\"please complete\",IF($D11>'Technical SDG'!K10-1,\":-)\",CONCATENATE(\"increase until \",'Technical SDG'!K10))))","v":""},{"$f":"IF('Technical SDG'!L10=\"\",\"\",IF($D11=\"\",\"please complete\",IF($D11>'Technical SDG'!L10-1,\":-)\",CONCATENATE(\"increase until \",'Technical SDG'!L10))))","v":""},{"$f":"IF('Technical SDG'!M10=\"\",\"\",IF($D11=\"\",\"please complete\",IF($D11>'Technical SDG'!M10-1,\":-)\",CONCATENATE(\"increase until \",'Technical SDG'!M10))))","v":""},{"$f":"IF('Technical SDG'!N10=\"\",\"\",IF($D11=\"\",\"please complete\",IF($D11>'Technical SDG'!N10-1,\":-)\",CONCATENATE(\"increase until \",'Technical SDG'!N10))))","v":""},{"$f":"IF('Technical SDG'!O10=\"\",\"\",IF($D11=\"\",\"please complete\",IF($D11>'Technical SDG'!O10-1,\":-)\",CONCATENATE(\"increase until \",'Technical SDG'!O10))))","v":""},{"$f":"IF('Technical SDG'!P10=\"\",\"\",IF($D11=\"\",\"please complete\",IF($D11>'Technical SDG'!P10-1,\":-)\",CONCATENATE(\"increase until \",'Technical SDG'!P10))))","v":""},{"$f":"IF('Technical SDG'!Q10=\"\",\"\",IF($D11=\"\",\"please complete\",IF($D11>'Technical SDG'!Q10-1,\":-)\",CONCATENATE(\"increase until \",'Technical SDG'!Q10))))","v":""},{"$f":"IF('Technical SDG'!R10=\"\",\"\",IF($D11=\"\",\"please complete\",IF($D11>'Technical SDG'!R10-1,\":-)\",CONCATENATE(\"increase until \",'Technical SDG'!R10))))","v":""},{"$f":"IF('Technical SDG'!S10=\"\",\"\",IF($D11=\"\",\"please complete\",IF($D11>'Technical SDG'!S10-1,\":-)\",CONCATENATE(\"increase until \",'Technical SDG'!S10))))","v":""},{"$f":"IF('Technical SDG'!T10=\"\",\"\",IF($D11=\"\",\"please complete\",IF($D11>'Technical SDG'!T10-1,\":-)\",CONCATENATE(\"increase until \",'Technical SDG'!T10))))","v":""}]
[null,{"$f":"'Technical SDG'!B11","v":"Q1.9"},{"$f":"VLOOKUP(B12,'Chapter 1'!$C$6:$D$112,2,0)","v":"Jak jsou organizovány interní audity?"},{"$f":"'Technical SDG'!C11","v":3},17,{"$f":"IF('Technical SDG'!D11=\"\",\"\",IF($D12=\"\",\"please complete\",IF($D12>'Technical SDG'!D11-1,\":-)\",CONCATENATE(\"increase until \",'Technical SDG'!D11))))","v":""},{"$f":"IF('Technical SDG'!E11=\"\",\"\",IF($D12=\"\",\"please complete\",IF($D12>'Technical SDG'!E11-1,\":-)\",CONCATENATE(\"increase until \",'Technical SDG'!E11))))","v":""},{"$f":"IF('Technical SDG'!F11=\"\",\"\",IF($D12=\"\",\"please complete\",IF($D12>'Technical SDG'!F11-1,\":-)\",CONCATENATE(\"increase until \",'Technical SDG'!F11))))","v":""},{"$f":"IF('Technical SDG'!G11=\"\",\"\",IF($D12=\"\",\"please complete\",IF($D12>'Technical SDG'!G11-1,\":-)\",CONCATENATE(\"increase until \",'Technical SDG'!G11))))","v":""},{"$f":"IF('Technical SDG'!H11=\"\",\"\",IF($D12=\"\",\"please complete\",IF($D12>'Technical SDG'!H11-1,\":-)\",CONCATENATE(\"increase until \",'Technical SDG'!H11))))","v":""},{"$f":"IF('Technical SDG'!I11=\"\",\"\",IF($D12=\"\",\"please complete\",IF($D12>'Technical SDG'!I11-1,\":-)\",CONCATENATE(\"increase until \",'Technical SDG'!I11))))","v":""},{"$f":"IF('Technical SDG'!J11=\"\",\"\",IF($D12=\"\",\"please complete\",IF($D12>'Technical SDG'!J11-1,\":-)\",CONCATENATE(\"increase until \",'Technical SDG'!J11))))","v":""},{"$f":"IF('Technical SDG'!K11=\"\",\"\",IF($D12=\"\",\"please complete\",IF($D12>'Technical SDG'!K11-1,\":-)\",CONCATENATE(\"increase until \",'Technical SDG'!K11))))","v":""},{"$f":"IF('Technical SDG'!L11=\"\",\"\",IF($D12=\"\",\"please complete\",IF($D12>'Technical SDG'!L11-1,\":-)\",CONCATENATE(\"increase until \",'Technical SDG'!L11))))","v":""},{"$f":"IF('Technical SDG'!M11=\"\",\"\",IF($D12=\"\",\"please complete\",IF($D12>'Technical SDG'!M11-1,\":-)\",CONCATENATE(\"increase until \",'Technical SDG'!M11))))","v":""},{"$f":"IF('Technical SDG'!N11=\"\",\"\",IF($D12=\"\",\"please complete\",IF($D12>'Technical SDG'!N11-1,\":-)\",CONCATENATE(\"increase until \",'Technical SDG'!N11))))","v":""},{"$f":"IF('Technical SDG'!O11=\"\",\"\",IF($D12=\"\",\"please complete\",IF($D12>'Technical SDG'!O11-1,\":-)\",CONCATENATE(\"increase until \",'Technical SDG'!O11))))","v":""},{"$f":"IF('Technical SDG'!P11=\"\",\"\",IF($D12=\"\",\"please complete\",IF($D12>'Technical SDG'!P11-1,\":-)\",CONCATENATE(\"increase until \",'Technical SDG'!P11))))","v":""},{"$f":"IF('Technical SDG'!Q11=\"\",\"\",IF($D12=\"\",\"please complete\",IF($D12>'Technical SDG'!Q11-1,\":-)\",CONCATENATE(\"increase until \",'Technical SDG'!Q11))))","v":""},{"$f":"IF('Technical SDG'!R11=\"\",\"\",IF($D12=\"\",\"please complete\",IF($D12>'Technical SDG'!R11-1,\":-)\",CONCATENATE(\"increase until \",'Technical SDG'!R11))))","v":""},{"$f":"IF('Technical SDG'!S11=\"\",\"\",IF($D12=\"\",\"please complete\",IF($D12>'Technical SDG'!S11-1,\":-)\",CONCATENATE(\"increase until \",'Technical SDG'!S11))))","v":""},{"$f":"IF('Technical SDG'!T11=\"\",\"\",IF($D12=\"\",\"please complete\",IF($D12>'Technical SDG'!T11-1,\":-)\",CONCATENATE(\"increase until \",'Technical SDG'!T11))))","v":""}]
[null,{"$f":"'Technical SDG'!B12","v":"Q1.10"},{"$f":"VLOOKUP(B13,'Chapter 1'!$C$6:$D$112,2,0)","v":"Jakým způsobem probíhá vyšetřování?"},{"$f":"'Technical SDG'!C12","v":3},17,{"$f":"IF('Technical SDG'!D12=\"\",\"\",IF($D13=\"\",\"please complete\",IF($D13>'Technical SDG'!D12-1,\":-)\",CONCATENATE(\"increase until \",'Technical SDG'!D12))))","v":""},{"$f":"IF('Technical SDG'!E12=\"\",\"\",IF($D13=\"\",\"please complete\",IF($D13>'Technical SDG'!E12-1,\":-)\",CONCATENATE(\"increase until \",'Technical SDG'!E12))))","v":""},{"$f":"IF('Technical SDG'!F12=\"\",\"\",IF($D13=\"\",\"please complete\",IF($D13>'Technical SDG'!F12-1,\":-)\",CONCATENATE(\"increase until \",'Technical SDG'!F12))))","v":""},{"$f":"IF('Technical SDG'!G12=\"\",\"\",IF($D13=\"\",\"please complete\",IF($D13>'Technical SDG'!G12-1,\":-)\",CONCATENATE(\"increase until \",'Technical SDG'!G12))))","v":""},{"$f":"IF('Technical SDG'!H12=\"\",\"\",IF($D13=\"\",\"please complete\",IF($D13>'Technical SDG'!H12-1,\":-)\",CONCATENATE(\"increase until \",'Technical SDG'!H12))))","v":""},{"$f":"IF('Technical SDG'!I12=\"\",\"\",IF($D13=\"\",\"please complete\",IF($D13>'Technical SDG'!I12-1,\":-)\",CONCATENATE(\"increase until \",'Technical SDG'!I12))))","v":""},{"$f":"IF('Technical SDG'!J12=\"\",\"\",IF($D13=\"\",\"please complete\",IF($D13>'Technical SDG'!J12-1,\":-)\",CONCATENATE(\"increase until \",'Technical SDG'!J12))))","v":""},{"$f":"IF('Technical SDG'!K12=\"\",\"\",IF($D13=\"\",\"please complete\",IF($D13>'Technical SDG'!K12-1,\":-)\",CONCATENATE(\"increase until \",'Technical SDG'!K12))))","v":""},{"$f":"IF('Technical SDG'!L12=\"\",\"\",IF($D13=\"\",\"please complete\",IF($D13>'Technical SDG'!L12-1,\":-)\",CONCATENATE(\"increase until \",'Technical SDG'!L12))))","v":""},{"$f":"IF('Technical SDG'!M12=\"\",\"\",IF($D13=\"\",\"please complete\",IF($D13>'Technical SDG'!M12-1,\":-)\",CONCATENATE(\"increase until \",'Technical SDG'!M12))))","v":""},{"$f":"IF('Technical SDG'!N12=\"\",\"\",IF($D13=\"\",\"please complete\",IF($D13>'Technical SDG'!N12-1,\":-)\",CONCATENATE(\"increase until \",'Technical SDG'!N12))))","v":""},{"$f":"IF('Technical SDG'!O12=\"\",\"\",IF($D13=\"\",\"please complete\",IF($D13>'Technical SDG'!O12-1,\":-)\",CONCATENATE(\"increase until \",'Technical SDG'!O12))))","v":""},{"$f":"IF('Technical SDG'!P12=\"\",\"\",IF($D13=\"\",\"please complete\",IF($D13>'Technical SDG'!P12-1,\":-)\",CONCATENATE(\"increase until \",'Technical SDG'!P12))))","v":""},{"$f":"IF('Technical SDG'!Q12=\"\",\"\",IF($D13=\"\",\"please complete\",IF($D13>'Technical SDG'!Q12-1,\":-)\",CONCATENATE(\"increase until \",'Technical SDG'!Q12))))","v":""},{"$f":"IF('Technical SDG'!R12=\"\",\"\",IF($D13=\"\",\"please complete\",IF($D13>'Technical SDG'!R12-1,\":-)\",CONCATENATE(\"increase until \",'Technical SDG'!R12))))","v":""},{"$f":"IF('Technical SDG'!S12=\"\",\"\",IF($D13=\"\",\"please complete\",IF($D13>'Technical SDG'!S12-1,\":-)\",CONCATENATE(\"increase until \",'Technical SDG'!S12))))","v":""},{"$f":"IF('Technical SDG'!T12=\"\",\"\",IF($D13=\"\",\"please complete\",IF($D13>'Technical SDG'!T12-1,\":-)\",CONCATENATE(\"increase until \",'Technical SDG'!T12))))","v":""}]
[null,{"$f":"'Technical SDG'!B13","v":"Q1.11"},{"$f":"VLOOKUP(B14,'Chapter 1'!$C$6:$D$112,2,0)","v":"Jakým způsobem organizace zajišťuje procesy, čas a zdroje potřebné pro zlepšování procesů řízení HSE&S?"},{"$f":"'Technical SDG'!C13","v":3},17,{"$f":"IF('Technical SDG'!D13=\"\",\"\",IF($D14=\"\",\"please complete\",IF($D14>'Technical SDG'!D13-1,\":-)\",CONCATENATE(\"increase until \",'Technical SDG'!D13))))","v":""},{"$f":"IF('Technical SDG'!E13=\"\",\"\",IF($D14=\"\",\"please complete\",IF($D14>'Technical SDG'!E13-1,\":-)\",CONCATENATE(\"increase until \",'Technical SDG'!E13))))","v":""},{"$f":"IF('Technical SDG'!F13=\"\",\"\",IF($D14=\"\",\"please complete\",IF($D14>'Technical SDG'!F13-1,\":-)\",CONCATENATE(\"increase until \",'Technical SDG'!F13))))","v":""},{"$f":"IF('Technical SDG'!G13=\"\",\"\",IF($D14=\"\",\"please complete\",IF($D14>'Technical SDG'!G13-1,\":-)\",CONCATENATE(\"increase until \",'Technical SDG'!G13))))","v":""},{"$f":"IF('Technical SDG'!H13=\"\",\"\",IF($D14=\"\",\"please complete\",IF($D14>'Technical SDG'!H13-1,\":-)\",CONCATENATE(\"increase until \",'Technical SDG'!H13))))","v":""},{"$f":"IF('Technical SDG'!I13=\"\",\"\",IF($D14=\"\",\"please complete\",IF($D14>'Technical SDG'!I13-1,\":-)\",CONCATENATE(\"increase until \",'Technical SDG'!I13))))","v":""},{"$f":"IF('Technical SDG'!J13=\"\",\"\",IF($D14=\"\",\"please complete\",IF($D14>'Technical SDG'!J13-1,\":-)\",CONCATENATE(\"increase until \",'Technical SDG'!J13))))","v":""},{"$f":"IF('Technical SDG'!K13=\"\",\"\",IF($D14=\"\",\"please complete\",IF($D14>'Technical SDG'!K13-1,\":-)\",CONCATENATE(\"increase until \",'Technical SDG'!K13))))","v":""},{"$f":"IF('Technical SDG'!L13=\"\",\"\",IF($D14=\"\",\"please complete\",IF($D14>'Technical SDG'!L13-1,\":-)\",CONCATENATE(\"increase until \",'Technical SDG'!L13))))","v":""},{"$f":"IF('Technical SDG'!M13=\"\",\"\",IF($D14=\"\",\"please complete\",IF($D14>'Technical SDG'!M13-1,\":-)\",CONCATENATE(\"increase until \",'Technical SDG'!M13))))","v":""},{"$f":"IF('Technical SDG'!N13=\"\",\"\",IF($D14=\"\",\"please complete\",IF($D14>'Technical SDG'!N13-1,\":-)\",CONCATENATE(\"increase until \",'Technical SDG'!N13))))","v":""},{"$f":"IF('Technical SDG'!O13=\"\",\"\",IF($D14=\"\",\"please complete\",IF($D14>'Technical SDG'!O13-1,\":-)\",CONCATENATE(\"increase until \",'Technical SDG'!O13))))","v":""},{"$f":"IF('Technical SDG'!P13=\"\",\"\",IF($D14=\"\",\"please complete\",IF($D14>'Technical SDG'!P13-1,\":-)\",CONCATENATE(\"increase until \",'Technical SDG'!P13))))","v":""},{"$f":"IF('Technical SDG'!Q13=\"\",\"\",IF($D14=\"\",\"please complete\",IF($D14>'Technical SDG'!Q13-1,\":-)\",CONCATENATE(\"increase until \",'Technical SDG'!Q13))))","v":""},{"$f":"IF('Technical SDG'!R13=\"\",\"\",IF($D14=\"\",\"please complete\",IF($D14>'Technical SDG'!R13-1,\":-)\",CONCATENATE(\"increase until \",'Technical SDG'!R13))))","v":""},{"$f":"IF('Technical SDG'!S13=\"\",\"\",IF($D14=\"\",\"please complete\",IF($D14>'Technical SDG'!S13-1,\":-)\",CONCATENATE(\"increase until \",'Technical SDG'!S13))))","v":""},{"$f":"IF('Technical SDG'!T13=\"\",\"\",IF($D14=\"\",\"please complete\",IF($D14>'Technical SDG'!T13-1,\":-)\",CONCATENATE(\"increase until \",'Technical SDG'!T13))))","v":""}]
[null,{"$f":"'Technical SDG'!B14","v":"Q1.12"},{"$f":"VLOOKUP(B15,'Chapter 1'!$C$6:$D$112,2,0)","v":"Jak organizace zajišťuje, že zaměstnanci jsou si vědomi politik a procesů týkajících se zdraví, bezpečnosti, životního prostředí, energetiky a udržitelnosti?"},{"$f":"'Technical SDG'!C14","v":3},17,{"$f":"IF('Technical SDG'!D14=\"\",\"\",IF($D15=\"\",\"please complete\",IF($D15>'Technical SDG'!D14-1,\":-)\",CONCATENATE(\"increase until \",'Technical SDG'!D14))))","v":""},{"$f":"IF('Technical SDG'!E14=\"\",\"\",IF($D15=\"\",\"please complete\",IF($D15>'Technical SDG'!E14-1,\":-)\",CONCATENATE(\"increase until \",'Technical SDG'!E14))))","v":""},{"$f":"IF('Technical SDG'!F14=\"\",\"\",IF($D15=\"\",\"please complete\",IF($D15>'Technical SDG'!F14-1,\":-)\",CONCATENATE(\"increase until \",'Technical SDG'!F14))))","v":""},{"$f":"IF('Technical SDG'!G14=\"\",\"\",IF($D15=\"\",\"please complete\",IF($D15>'Technical SDG'!G14-1,\":-)\",CONCATENATE(\"increase until \",'Technical SDG'!G14))))","v":""},{"$f":"IF('Technical SDG'!H14=\"\",\"\",IF($D15=\"\",\"please complete\",IF($D15>'Technical SDG'!H14-1,\":-)\",CONCATENATE(\"increase until \",'Technical SDG'!H14))))","v":""},{"$f":"IF('Technical SDG'!I14=\"\",\"\",IF($D15=\"\",\"please complete\",IF($D15>'Technical SDG'!I14-1,\":-)\",CONCATENATE(\"increase until \",'Technical SDG'!I14))))","v":""},{"$f":"IF('Technical SDG'!J14=\"\",\"\",IF($D15=\"\",\"please complete\",IF($D15>'Technical SDG'!J14-1,\":-)\",CONCATENATE(\"increase until \",'Technical SDG'!J14))))","v":""},{"$f":"IF('Technical SDG'!K14=\"\",\"\",IF($D15=\"\",\"please complete\",IF($D15>'Technical SDG'!K14-1,\":-)\",CONCATENATE(\"increase until \",'Technical SDG'!K14))))","v":""},{"$f":"IF('Technical SDG'!L14=\"\",\"\",IF($D15=\"\",\"please complete\",IF($D15>'Technical SDG'!L14-1,\":-)\",CONCATENATE(\"increase until \",'Technical SDG'!L14))))","v":""},{"$f":"IF('Technical SDG'!M14=\"\",\"\",IF($D15=\"\",\"please complete\",IF($D15>'Technical SDG'!M14-1,\":-)\",CONCATENATE(\"increase until \",'Technical SDG'!M14))))","v":""},{"$f":"IF('Technical SDG'!N14=\"\",\"\",IF($D15=\"\",\"please complete\",IF($D15>'Technical SDG'!N14-1,\":-)\",CONCATENATE(\"increase until \",'Technical SDG'!N14))))","v":""},{"$f":"IF('Technical SDG'!O14=\"\",\"\",IF($D15=\"\",\"please complete\",IF($D15>'Technical SDG'!O14-1,\":-)\",CONCATENATE(\"increase until \",'Technical SDG'!O14))))","v":""},{"$f":"IF('Technical SDG'!P14=\"\",\"\",IF($D15=\"\",\"please complete\",IF($D15>'Technical SDG'!P14-1,\":-)\",CONCATENATE(\"increase until \",'Technical SDG'!P14))))","v":""},{"$f":"IF('Technical SDG'!Q14=\"\",\"\",IF($D15=\"\",\"please complete\",IF($D15>'Technical SDG'!Q14-1,\":-)\",CONCATENATE(\"increase until \",'Technical SDG'!Q14))))","v":""},{"$f":"IF('Technical SDG'!R14=\"\",\"\",IF($D15=\"\",\"please complete\",IF($D15>'Technical SDG'!R14-1,\":-)\",CONCATENATE(\"increase until \",'Technical SDG'!R14))))","v":""},{"$f":"IF('Technical SDG'!S14=\"\",\"\",IF($D15=\"\",\"please complete\",IF($D15>'Technical SDG'!S14-1,\":-)\",CONCATENATE(\"increase until \",'Technical SDG'!S14))))","v":""},{"$f":"IF('Technical SDG'!T14=\"\",\"\",IF($D15=\"\",\"please complete\",IF($D15>'Technical SDG'!T14-1,\":-)\",CONCATENATE(\"increase until \",'Technical SDG'!T14))))","v":""}]
[null,{"$f":"'Technical SDG'!B15","v":"Q1.13"},{"$f":"VLOOKUP(B16,'Chapter 1'!$C$6:$D$112,2,0)","v":"Jakým způsobem organizace zajišťuje správné kompetence pracovníků, pokud jde o aspekty HSE&S týkající se jejich práce?"},{"$f":"'Technical SDG'!C15","v":3},17,{"$f":"IF('Technical SDG'!D15=\"\",\"\",IF($D16=\"\",\"please complete\",IF($D16>'Technical SDG'!D15-1,\":-)\",CONCATENATE(\"increase until \",'Technical SDG'!D15))))","v":""},{"$f":"IF('Technical SDG'!E15=\"\",\"\",IF($D16=\"\",\"please complete\",IF($D16>'Technical SDG'!E15-1,\":-)\",CONCATENATE(\"increase until \",'Technical SDG'!E15))))","v":""},{"$f":"IF('Technical SDG'!F15=\"\",\"\",IF($D16=\"\",\"please complete\",IF($D16>'Technical SDG'!F15-1,\":-)\",CONCATENATE(\"increase until \",'Technical SDG'!F15))))","v":""},{"$f":"IF('Technical SDG'!G15=\"\",\"\",IF($D16=\"\",\"please complete\",IF($D16>'Technical SDG'!G15-1,\":-)\",CONCATENATE(\"increase until \",'Technical SDG'!G15))))","v":""},{"$f":"IF('Technical SDG'!H15=\"\",\"\",IF($D16=\"\",\"please complete\",IF($D16>'Technical SDG'!H15-1,\":-)\",CONCATENATE(\"increase until \",'Technical SDG'!H15))))","v":""},{"$f":"IF('Technical SDG'!I15=\"\",\"\",IF($D16=\"\",\"please complete\",IF($D16>'Technical SDG'!I15-1,\":-)\",CONCATENATE(\"increase until \",'Technical SDG'!I15))))","v":""},{"$f":"IF('Technical SDG'!J15=\"\",\"\",IF($D16=\"\",\"please complete\",IF($D16>'Technical SDG'!J15-1,\":-)\",CONCATENATE(\"increase until \",'Technical SDG'!J15))))","v":""},{"$f":"IF('Technical SDG'!K15=\"\",\"\",IF($D16=\"\",\"please complete\",IF($D16>'Technical SDG'!K15-1,\":-)\",CONCATENATE(\"increase until \",'Technical SDG'!K15))))","v":""},{"$f":"IF('Technical SDG'!L15=\"\",\"\",IF($D16=\"\",\"please complete\",IF($D16>'Technical SDG'!L15-1,\":-)\",CONCATENATE(\"increase until \",'Technical SDG'!L15))))","v":""},{"$f":"IF('Technical SDG'!M15=\"\",\"\",IF($D16=\"\",\"please complete\",IF($D16>'Technical SDG'!M15-1,\":-)\",CONCATENATE(\"increase until \",'Technical SDG'!M15))))","v":""},{"$f":"IF('Technical SDG'!N15=\"\",\"\",IF($D16=\"\",\"please complete\",IF($D16>'Technical SDG'!N15-1,\":-)\",CONCATENATE(\"increase until \",'Technical SDG'!N15))))","v":""},{"$f":"IF('Technical SDG'!O15=\"\",\"\",IF($D16=\"\",\"please complete\",IF($D16>'Technical SDG'!O15-1,\":-)\",CONCATENATE(\"increase until \",'Technical SDG'!O15))))","v":""},{"$f":"IF('Technical SDG'!P15=\"\",\"\",IF($D16=\"\",\"please complete\",IF($D16>'Technical SDG'!P15-1,\":-)\",CONCATENATE(\"increase until \",'Technical SDG'!P15))))","v":""},{"$f":"IF('Technical SDG'!Q15=\"\",\"\",IF($D16=\"\",\"please complete\",IF($D16>'Technical SDG'!Q15-1,\":-)\",CONCATENATE(\"increase until \",'Technical SDG'!Q15))))","v":""},{"$f":"IF('Technical SDG'!R15=\"\",\"\",IF($D16=\"\",\"please complete\",IF($D16>'Technical SDG'!R15-1,\":-)\",CONCATENATE(\"increase until \",'Technical SDG'!R15))))","v":""},{"$f":"IF('Technical SDG'!S15=\"\",\"\",IF($D16=\"\",\"please complete\",IF($D16>'Technical SDG'!S15-1,\":-)\",CONCATENATE(\"increase until \",'Technical SDG'!S15))))","v":""},{"$f":"IF('Technical SDG'!T15=\"\",\"\",IF($D16=\"\",\"please complete\",IF($D16>'Technical SDG'!T15-1,\":-)\",CONCATENATE(\"increase until \",'Technical SDG'!T15))))","v":""}]
[null,{"$f":"'Technical SDG'!B16","v":"Q1.14"},{"$f":"VLOOKUP(B17,'Chapter 1'!$C$6:$D$112,2,0)","v":"Jaká je struktura zapojení zaměstnanců?"},{"$f":"'Technical SDG'!C16","v":3},17,{"$f":"IF('Technical SDG'!D16=\"\",\"\",IF($D17=\"\",\"please complete\",IF($D17>'Technical SDG'!D16-1,\":-)\",CONCATENATE(\"increase until \",'Technical SDG'!D16))))","v":""},{"$f":"IF('Technical SDG'!E16=\"\",\"\",IF($D17=\"\",\"please complete\",IF($D17>'Technical SDG'!E16-1,\":-)\",CONCATENATE(\"increase until \",'Technical SDG'!E16))))","v":""},{"$f":"IF('Technical SDG'!F16=\"\",\"\",IF($D17=\"\",\"please complete\",IF($D17>'Technical SDG'!F16-1,\":-)\",CONCATENATE(\"increase until \",'Technical SDG'!F16))))","v":""},{"$f":"IF('Technical SDG'!G16=\"\",\"\",IF($D17=\"\",\"please complete\",IF($D17>'Technical SDG'!G16-1,\":-)\",CONCATENATE(\"increase until \",'Technical SDG'!G16))))","v":""},{"$f":"IF('Technical SDG'!H16=\"\",\"\",IF($D17=\"\",\"please complete\",IF($D17>'Technical SDG'!H16-1,\":-)\",CONCATENATE(\"increase until \",'Technical SDG'!H16))))","v":""},{"$f":"IF('Technical SDG'!I16=\"\",\"\",IF($D17=\"\",\"please complete\",IF($D17>'Technical SDG'!I16-1,\":-)\",CONCATENATE(\"increase until \",'Technical SDG'!I16))))","v":""},{"$f":"IF('Technical SDG'!J16=\"\",\"\",IF($D17=\"\",\"please complete\",IF($D17>'Technical SDG'!J16-1,\":-)\",CONCATENATE(\"increase until \",'Technical SDG'!J16))))","v":""},{"$f":"IF('Technical SDG'!K16=\"\",\"\",IF($D17=\"\",\"please complete\",IF($D17>'Technical SDG'!K16-1,\":-)\",CONCATENATE(\"increase until \",'Technical SDG'!K16))))","v":""},{"$f":"IF('Technical SDG'!L16=\"\",\"\",IF($D17=\"\",\"please complete\",IF($D17>'Technical SDG'!L16-1,\":-)\",CONCATENATE(\"increase until \",'Technical SDG'!L16))))","v":""},{"$f":"IF('Technical SDG'!M16=\"\",\"\",IF($D17=\"\",\"please complete\",IF($D17>'Technical SDG'!M16-1,\":-)\",CONCATENATE(\"increase until \",'Technical SDG'!M16))))","v":""},{"$f":"IF('Technical SDG'!N16=\"\",\"\",IF($D17=\"\",\"please complete\",IF($D17>'Technical SDG'!N16-1,\":-)\",CONCATENATE(\"increase until \",'Technical SDG'!N16))))","v":""},{"$f":"IF('Technical SDG'!O16=\"\",\"\",IF($D17=\"\",\"please complete\",IF($D17>'Technical SDG'!O16-1,\":-)\",CONCATENATE(\"increase until \",'Technical SDG'!O16))))","v":""},{"$f":"IF('Technical SDG'!P16=\"\",\"\",IF($D17=\"\",\"please complete\",IF($D17>'Technical SDG'!P16-1,\":-)\",CONCATENATE(\"increase until \",'Technical SDG'!P16))))","v":""},{"$f":"IF('Technical SDG'!Q16=\"\",\"\",IF($D17=\"\",\"please complete\",IF($D17>'Technical SDG'!Q16-1,\":-)\",CONCATENATE(\"increase until \",'Technical SDG'!Q16))))","v":""},{"$f":"IF('Technical SDG'!R16=\"\",\"\",IF($D17=\"\",\"please complete\",IF($D17>'Technical SDG'!R16-1,\":-)\",CONCATENATE(\"increase until \",'Technical SDG'!R16))))","v":""},{"$f":"IF('Technical SDG'!S16=\"\",\"\",IF($D17=\"\",\"please complete\",IF($D17>'Technical SDG'!S16-1,\":-)\",CONCATENATE(\"increase until \",'Technical SDG'!S16))))","v":""},{"$f":"IF('Technical SDG'!T16=\"\",\"\",IF($D17=\"\",\"please complete\",IF($D17>'Technical SDG'!T16-1,\":-)\",CONCATENATE(\"increase until \",'Technical SDG'!T16))))","v":""}]
[null,{"$f":"'Technical SDG'!B17","v":"Q1.15"},{"$f":"VLOOKUP(B18,'Chapter 1'!$C$6:$D$112,2,0)","v":"Jakým způsobem se řídí dokumentace HSE&S?"},{"$f":"'Technical SDG'!C17","v":3},17,{"$f":"IF('Technical SDG'!D17=\"\",\"\",IF($D18=\"\",\"please complete\",IF($D18>'Technical SDG'!D17-1,\":-)\",CONCATENATE(\"increase until \",'Technical SDG'!D17))))","v":""},{"$f":"IF('Technical SDG'!E17=\"\",\"\",IF($D18=\"\",\"please complete\",IF($D18>'Technical SDG'!E17-1,\":-)\",CONCATENATE(\"increase until \",'Technical SDG'!E17))))","v":""},{"$f":"IF('Technical SDG'!F17=\"\",\"\",IF($D18=\"\",\"please complete\",IF($D18>'Technical SDG'!F17-1,\":-)\",CONCATENATE(\"increase until \",'Technical SDG'!F17))))","v":""},{"$f":"IF('Technical SDG'!G17=\"\",\"\",IF($D18=\"\",\"please complete\",IF($D18>'Technical SDG'!G17-1,\":-)\",CONCATENATE(\"increase until \",'Technical SDG'!G17))))","v":""},{"$f":"IF('Technical SDG'!H17=\"\",\"\",IF($D18=\"\",\"please complete\",IF($D18>'Technical SDG'!H17-1,\":-)\",CONCATENATE(\"increase until \",'Technical SDG'!H17))))","v":""},{"$f":"IF('Technical SDG'!I17=\"\",\"\",IF($D18=\"\",\"please complete\",IF($D18>'Technical SDG'!I17-1,\":-)\",CONCATENATE(\"increase until \",'Technical SDG'!I17))))","v":""},{"$f":"IF('Technical SDG'!J17=\"\",\"\",IF($D18=\"\",\"please complete\",IF($D18>'Technical SDG'!J17-1,\":-)\",CONCATENATE(\"increase until \",'Technical SDG'!J17))))","v":""},{"$f":"IF('Technical SDG'!K17=\"\",\"\",IF($D18=\"\",\"please complete\",IF($D18>'Technical SDG'!K17-1,\":-)\",CONCATENATE(\"increase until \",'Technical SDG'!K17))))","v":""},{"$f":"IF('Technical SDG'!L17=\"\",\"\",IF($D18=\"\",\"please complete\",IF($D18>'Technical SDG'!L17-1,\":-)\",CONCATENATE(\"increase until \",'Technical SDG'!L17))))","v":""},{"$f":"IF('Technical SDG'!M17=\"\",\"\",IF($D18=\"\",\"please complete\",IF($D18>'Technical SDG'!M17-1,\":-)\",CONCATENATE(\"increase until \",'Technical SDG'!M17))))","v":""},{"$f":"IF('Technical SDG'!N17=\"\",\"\",IF($D18=\"\",\"please complete\",IF($D18>'Technical SDG'!N17-1,\":-)\",CONCATENATE(\"increase until \",'Technical SDG'!N17))))","v":""},{"$f":"IF('Technical SDG'!O17=\"\",\"\",IF($D18=\"\",\"please complete\",IF($D18>'Technical SDG'!O17-1,\":-)\",CONCATENATE(\"increase until \",'Technical SDG'!O17))))","v":""},{"$f":"IF('Technical SDG'!P17=\"\",\"\",IF($D18=\"\",\"please complete\",IF($D18>'Technical SDG'!P17-1,\":-)\",CONCATENATE(\"increase until \",'Technical SDG'!P17))))","v":""},{"$f":"IF('Technical SDG'!Q17=\"\",\"\",IF($D18=\"\",\"please complete\",IF($D18>'Technical SDG'!Q17-1,\":-)\",CONCATENATE(\"increase until \",'Technical SDG'!Q17))))","v":""},{"$f":"IF('Technical SDG'!R17=\"\",\"\",IF($D18=\"\",\"please complete\",IF($D18>'Technical SDG'!R17-1,\":-)\",CONCATENATE(\"increase until \",'Technical SDG'!R17))))","v":""},{"$f":"IF('Technical SDG'!S17=\"\",\"\",IF($D18=\"\",\"please complete\",IF($D18>'Technical SDG'!S17-1,\":-)\",CONCATENATE(\"increase until \",'Technical SDG'!S17))))","v":""},{"$f":"IF('Technical SDG'!T17=\"\",\"\",IF($D18=\"\",\"please complete\",IF($D18>'Technical SDG'!T17-1,\":-)\",CONCATENATE(\"increase until \",'Technical SDG'!T17))))","v":""}]
[null,{"$f":"'Technical SDG'!B18","v":"Q1.16"},{"$f":"VLOOKUP(B19,'Chapter 1'!$C$6:$D$112,2,0)","v":"Jakým způsobem jsou řízeny změny potenciálně ovlivňující HSE&S (zdraví, bezpečnost, životní prostředí, energetiku a udržitelnost)?"},{"$f":"'Technical SDG'!C18","v":3},17,{"$f":"IF('Technical SDG'!D18=\"\",\"\",IF($D19=\"\",\"please complete\",IF($D19>'Technical SDG'!D18-1,\":-)\",CONCATENATE(\"increase until \",'Technical SDG'!D18))))","v":""},{"$f":"IF('Technical SDG'!E18=\"\",\"\",IF($D19=\"\",\"please complete\",IF($D19>'Technical SDG'!E18-1,\":-)\",CONCATENATE(\"increase until \",'Technical SDG'!E18))))","v":""},{"$f":"IF('Technical SDG'!F18=\"\",\"\",IF($D19=\"\",\"please complete\",IF($D19>'Technical SDG'!F18-1,\":-)\",CONCATENATE(\"increase until \",'Technical SDG'!F18))))","v":""},{"$f":"IF('Technical SDG'!G18=\"\",\"\",IF($D19=\"\",\"please complete\",IF($D19>'Technical SDG'!G18-1,\":-)\",CONCATENATE(\"increase until \",'Technical SDG'!G18))))","v":""},{"$f":"IF('Technical SDG'!H18=\"\",\"\",IF($D19=\"\",\"please complete\",IF($D19>'Technical SDG'!H18-1,\":-)\",CONCATENATE(\"increase until \",'Technical SDG'!H18))))","v":""},{"$f":"IF('Technical SDG'!I18=\"\",\"\",IF($D19=\"\",\"please complete\",IF($D19>'Technical SDG'!I18-1,\":-)\",CONCATENATE(\"increase until \",'Technical SDG'!I18))))","v":""},{"$f":"IF('Technical SDG'!J18=\"\",\"\",IF($D19=\"\",\"please complete\",IF($D19>'Technical SDG'!J18-1,\":-)\",CONCATENATE(\"increase until \",'Technical SDG'!J18))))","v":""},{"$f":"IF('Technical SDG'!K18=\"\",\"\",IF($D19=\"\",\"please complete\",IF($D19>'Technical SDG'!K18-1,\":-)\",CONCATENATE(\"increase until \",'Technical SDG'!K18))))","v":""},{"$f":"IF('Technical SDG'!L18=\"\",\"\",IF($D19=\"\",\"please complete\",IF($D19>'Technical SDG'!L18-1,\":-)\",CONCATENATE(\"increase until \",'Technical SDG'!L18))))","v":""},{"$f":"IF('Technical SDG'!M18=\"\",\"\",IF($D19=\"\",\"please complete\",IF($D19>'Technical SDG'!M18-1,\":-)\",CONCATENATE(\"increase until \",'Technical SDG'!M18))))","v":""},{"$f":"IF('Technical SDG'!N18=\"\",\"\",IF($D19=\"\",\"please complete\",IF($D19>'Technical SDG'!N18-1,\":-)\",CONCATENATE(\"increase until \",'Technical SDG'!N18))))","v":""},{"$f":"IF('Technical SDG'!O18=\"\",\"\",IF($D19=\"\",\"please complete\",IF($D19>'Technical SDG'!O18-1,\":-)\",CONCATENATE(\"increase until \",'Technical SDG'!O18))))","v":""},{"$f":"IF('Technical SDG'!P18=\"\",\"\",IF($D19=\"\",\"please complete\",IF($D19>'Technical SDG'!P18-1,\":-)\",CONCATENATE(\"increase until \",'Technical SDG'!P18))))","v":""},{"$f":"IF('Technical SDG'!Q18=\"\",\"\",IF($D19=\"\",\"please complete\",IF($D19>'Technical SDG'!Q18-1,\":-)\",CONCATENATE(\"increase until \",'Technical SDG'!Q18))))","v":""},{"$f":"IF('Technical SDG'!R18=\"\",\"\",IF($D19=\"\",\"please complete\",IF($D19>'Technical SDG'!R18-1,\":-)\",CONCATENATE(\"increase until \",'Technical SDG'!R18))))","v":""},{"$f":"IF('Technical SDG'!S18=\"\",\"\",IF($D19=\"\",\"please complete\",IF($D19>'Technical SDG'!S18-1,\":-)\",CONCATENATE(\"increase until \",'Technical SDG'!S18))))","v":""},{"$f":"IF('Technical SDG'!T18=\"\",\"\",IF($D19=\"\",\"please complete\",IF($D19>'Technical SDG'!T18-1,\":-)\",CONCATENATE(\"increase until \",'Technical SDG'!T18))))","v":""}]
[]
[null,{"$f":"'Technical SDG'!B20","v":"Q2.1"},{"$f":"VLOOKUP(B21,'Chapter 2'!$C$6:$D$278,2,0)","v":"Jak se management zavázal k ochraně zdraví a bezpečnosti při práci (dále jen \"BOZP\")?"},{"$f":"'Technical SDG'!C20","v":3},16,{"$f":"IF('Technical SDG'!D20=\"\",\"\",IF($D21=\"\",\"please complete\",IF($D21>'Technical SDG'!D20-1,\":-)\",CONCATENATE(\"increase until \",'Technical SDG'!D20))))","v":""},{"$f":"IF('Technical SDG'!E20=\"\",\"\",IF($D21=\"\",\"please complete\",IF($D21>'Technical SDG'!E20-1,\":-)\",CONCATENATE(\"increase until \",'Technical SDG'!E20))))","v":""},{"$f":"IF('Technical SDG'!F20=\"\",\"\",IF($D21=\"\",\"please complete\",IF($D21>'Technical SDG'!F20-1,\":-)\",CONCATENATE(\"increase until \",'Technical SDG'!F20))))","v":""},{"$f":"IF('Technical SDG'!G20=\"\",\"\",IF($D21=\"\",\"please complete\",IF($D21>'Technical SDG'!G20-1,\":-)\",CONCATENATE(\"increase until \",'Technical SDG'!G20))))","v":""},{"$f":"IF('Technical SDG'!H20=\"\",\"\",IF($D21=\"\",\"please complete\",IF($D21>'Technical SDG'!H20-1,\":-)\",CONCATENATE(\"increase until \",'Technical SDG'!H20))))","v":""},{"$f":"IF('Technical SDG'!I20=\"\",\"\",IF($D21=\"\",\"please complete\",IF($D21>'Technical SDG'!I20-1,\":-)\",CONCATENATE(\"increase until \",'Technical SDG'!I20))))","v":""},{"$f":"IF('Technical SDG'!J20=\"\",\"\",IF($D21=\"\",\"please complete\",IF($D21>'Technical SDG'!J20-1,\":-)\",CONCATENATE(\"increase until \",'Technical SDG'!J20))))","v":""},{"$f":"IF('Technical SDG'!K20=\"\",\"\",IF($D21=\"\",\"please complete\",IF($D21>'Technical SDG'!K20-1,\":-)\",CONCATENATE(\"increase until \",'Technical SDG'!K20))))","v":":-)"},{"$f":"IF('Technical SDG'!L20=\"\",\"\",IF($D21=\"\",\"please complete\",IF($D21>'Technical SDG'!L20-1,\":-)\",CONCATENATE(\"increase until \",'Technical SDG'!L20))))","v":""},{"$f":"IF('Technical SDG'!M20=\"\",\"\",IF($D21=\"\",\"please complete\",IF($D21>'Technical SDG'!M20-1,\":-)\",CONCATENATE(\"increase until \",'Technical SDG'!M20))))","v":""},{"$f":"IF('Technical SDG'!N20=\"\",\"\",IF($D21=\"\",\"please complete\",IF($D21>'Technical SDG'!N20-1,\":-)\",CONCATENATE(\"increase until \",'Technical SDG'!N20))))","v":""},{"$f":"IF('Technical SDG'!O20=\"\",\"\",IF($D21=\"\",\"please complete\",IF($D21>'Technical SDG'!O20-1,\":-)\",CONCATENATE(\"increase until \",'Technical SDG'!O20))))","v":""},{"$f":"IF('Technical SDG'!P20=\"\",\"\",IF($D21=\"\",\"please complete\",IF($D21>'Technical SDG'!P20-1,\":-)\",CONCATENATE(\"increase until \",'Technical SDG'!P20))))","v":""},{"$f":"IF('Technical SDG'!Q20=\"\",\"\",IF($D21=\"\",\"please complete\",IF($D21>'Technical SDG'!Q20-1,\":-)\",CONCATENATE(\"increase until \",'Technical SDG'!Q20))))","v":""},{"$f":"IF('Technical SDG'!R20=\"\",\"\",IF($D21=\"\",\"please complete\",IF($D21>'Technical SDG'!R20-1,\":-)\",CONCATENATE(\"increase until \",'Technical SDG'!R20))))","v":""},{"$f":"IF('Technical SDG'!S20=\"\",\"\",IF($D21=\"\",\"please complete\",IF($D21>'Technical SDG'!S20-1,\":-)\",CONCATENATE(\"increase until \",'Technical SDG'!S20))))","v":""},{"$f":"IF('Technical SDG'!T20=\"\",\"\",IF($D21=\"\",\"please complete\",IF($D21>'Technical SDG'!T20-1,\":-)\",CONCATENATE(\"increase until \",'Technical SDG'!T20))))","v":""}]
[null,{"$f":"'Technical SDG'!B21","v":"Q2.2"},{"$f":"VLOOKUP(B22,'Chapter 2'!$C$6:$D$278,2,0)","v":"Jakým způsobem se určují rizika a expozice v souvislosti s BOZP?"},{"$f":"'Technical SDG'!C21","v":2},16,{"$f":"IF('Technical SDG'!D21=\"\",\"\",IF($D22=\"\",\"please complete\",IF($D22>'Technical SDG'!D21-1,\":-)\",CONCATENATE(\"increase until \",'Technical SDG'!D21))))","v":""},{"$f":"IF('Technical SDG'!E21=\"\",\"\",IF($D22=\"\",\"please complete\",IF($D22>'Technical SDG'!E21-1,\":-)\",CONCATENATE(\"increase until \",'Technical SDG'!E21))))","v":""},{"$f":"IF('Technical SDG'!F21=\"\",\"\",IF($D22=\"\",\"please complete\",IF($D22>'Technical SDG'!F21-1,\":-)\",CONCATENATE(\"increase until \",'Technical SDG'!F21))))","v":""},{"$f":"IF('Technical SDG'!G21=\"\",\"\",IF($D22=\"\",\"please complete\",IF($D22>'Technical SDG'!G21-1,\":-)\",CONCATENATE(\"increase until \",'Technical SDG'!G21))))","v":""},{"$f":"IF('Technical SDG'!H21=\"\",\"\",IF($D22=\"\",\"please complete\",IF($D22>'Technical SDG'!H21-1,\":-)\",CONCATENATE(\"increase until \",'Technical SDG'!H21))))","v":""},{"$f":"IF('Technical SDG'!I21=\"\",\"\",IF($D22=\"\",\"please complete\",IF($D22>'Technical SDG'!I21-1,\":-)\",CONCATENATE(\"increase until \",'Technical SDG'!I21))))","v":""},{"$f":"IF('Technical SDG'!J21=\"\",\"\",IF($D22=\"\",\"please complete\",IF($D22>'Technical SDG'!J21-1,\":-)\",CONCATENATE(\"increase until \",'Technical SDG'!J21))))","v":""},{"$f":"IF('Technical SDG'!K21=\"\",\"\",IF($D22=\"\",\"please complete\",IF($D22>'Technical SDG'!K21-1,\":-)\",CONCATENATE(\"increase until \",'Technical SDG'!K21))))","v":"increase until 3"},{"$f":"IF('Technical SDG'!L21=\"\",\"\",IF($D22=\"\",\"please complete\",IF($D22>'Technical SDG'!L21-1,\":-)\",CONCATENATE(\"increase until \",'Technical SDG'!L21))))","v":""},{"$f":"IF('Technical SDG'!M21=\"\",\"\",IF($D22=\"\",\"please complete\",IF($D22>'Technical SDG'!M21-1,\":-)\",CONCATENATE(\"increase until \",'Technical SDG'!M21))))","v":""},{"$f":"IF('Technical SDG'!N21=\"\",\"\",IF($D22=\"\",\"please complete\",IF($D22>'Technical SDG'!N21-1,\":-)\",CONCATENATE(\"increase until \",'Technical SDG'!N21))))","v":""},{"$f":"IF('Technical SDG'!O21=\"\",\"\",IF($D22=\"\",\"please complete\",IF($D22>'Technical SDG'!O21-1,\":-)\",CONCATENATE(\"increase until \",'Technical SDG'!O21))))","v":""},{"$f":"IF('Technical SDG'!P21=\"\",\"\",IF($D22=\"\",\"please complete\",IF($D22>'Technical SDG'!P21-1,\":-)\",CONCATENATE(\"increase until \",'Technical SDG'!P21))))","v":""},{"$f":"IF('Technical SDG'!Q21=\"\",\"\",IF($D22=\"\",\"please complete\",IF($D22>'Technical SDG'!Q21-1,\":-)\",CONCATENATE(\"increase until \",'Technical SDG'!Q21))))","v":""},{"$f":"IF('Technical SDG'!R21=\"\",\"\",IF($D22=\"\",\"please complete\",IF($D22>'Technical SDG'!R21-1,\":-)\",CONCATENATE(\"increase until \",'Technical SDG'!R21))))","v":""},{"$f":"IF('Technical SDG'!S21=\"\",\"\",IF($D22=\"\",\"please complete\",IF($D22>'Technical SDG'!S21-1,\":-)\",CONCATENATE(\"increase until \",'Technical SDG'!S21))))","v":""},{"$f":"IF('Technical SDG'!T21=\"\",\"\",IF($D22=\"\",\"please complete\",IF($D22>'Technical SDG'!T21-1,\":-)\",CONCATENATE(\"increase until \",'Technical SDG'!T21))))","v":""}]
[null,{"$f":"'Technical SDG'!B22","v":"Q2.3"},{"$f":"VLOOKUP(B23,'Chapter 2'!$C$6:$D$278,2,0)","v":"How are medical requirements evaluated?"},{"$f":"'Technical SDG'!C22","v":3},16,{"$f":"IF('Technical SDG'!D22=\"\",\"\",IF($D23=\"\",\"please complete\",IF($D23>'Technical SDG'!D22-1,\":-)\",CONCATENATE(\"increase until \",'Technical SDG'!D22))))","v":""},{"$f":"IF('Technical SDG'!E22=\"\",\"\",IF($D23=\"\",\"please complete\",IF($D23>'Technical SDG'!E22-1,\":-)\",CONCATENATE(\"increase until \",'Technical SDG'!E22))))","v":""},{"$f":"IF('Technical SDG'!F22=\"\",\"\",IF($D23=\"\",\"please complete\",IF($D23>'Technical SDG'!F22-1,\":-)\",CONCATENATE(\"increase until \",'Technical SDG'!F22))))","v":""},{"$f":"IF('Technical SDG'!G22=\"\",\"\",IF($D23=\"\",\"please complete\",IF($D23>'Technical SDG'!G22-1,\":-)\",CONCATENATE(\"increase until \",'Technical SDG'!G22))))","v":""},{"$f":"IF('Technical SDG'!H22=\"\",\"\",IF($D23=\"\",\"please complete\",IF($D23>'Technical SDG'!H22-1,\":-)\",CONCATENATE(\"increase until \",'Technical SDG'!H22))))","v":""},{"$f":"IF('Technical SDG'!I22=\"\",\"\",IF($D23=\"\",\"please complete\",IF($D23>'Technical SDG'!I22-1,\":-)\",CONCATENATE(\"increase until \",'Technical SDG'!I22))))","v":""},{"$f":"IF('Technical SDG'!J22=\"\",\"\",IF($D23=\"\",\"please complete\",IF($D23>'Technical SDG'!J22-1,\":-)\",CONCATENATE(\"increase until \",'Technical SDG'!J22))))","v":""},{"$f":"IF('Technical SDG'!K22=\"\",\"\",IF($D23=\"\",\"please complete\",IF($D23>'Technical SDG'!K22-1,\":-)\",CONCATENATE(\"increase until \",'Technical SDG'!K22))))","v":":-)"},{"$f":"IF('Technical SDG'!L22=\"\",\"\",IF($D23=\"\",\"please complete\",IF($D23>'Technical SDG'!L22-1,\":-)\",CONCATENATE(\"increase until \",'Technical SDG'!L22))))","v":""},{"$f":"IF('Technical SDG'!M22=\"\",\"\",IF($D23=\"\",\"please complete\",IF($D23>'Technical SDG'!M22-1,\":-)\",CONCATENATE(\"increase until \",'Technical SDG'!M22))))","v":""},{"$f":"IF('Technical SDG'!N22=\"\",\"\",IF($D23=\"\",\"please complete\",IF($D23>'Technical SDG'!N22-1,\":-)\",CONCATENATE(\"increase until \",'Technical SDG'!N22))))","v":""},{"$f":"IF('Technical SDG'!O22=\"\",\"\",IF($D23=\"\",\"please complete\",IF($D23>'Technical SDG'!O22-1,\":-)\",CONCATENATE(\"increase until \",'Technical SDG'!O22))))","v":""},{"$f":"IF('Technical SDG'!P22=\"\",\"\",IF($D23=\"\",\"please complete\",IF($D23>'Technical SDG'!P22-1,\":-)\",CONCATENATE(\"increase until \",'Technical SDG'!P22))))","v":""},{"$f":"IF('Technical SDG'!Q22=\"\",\"\",IF($D23=\"\",\"please complete\",IF($D23>'Technical SDG'!Q22-1,\":-)\",CONCATENATE(\"increase until \",'Technical SDG'!Q22))))","v":""},{"$f":"IF('Technical SDG'!R22=\"\",\"\",IF($D23=\"\",\"please complete\",IF($D23>'Technical SDG'!R22-1,\":-)\",CONCATENATE(\"increase until \",'Technical SDG'!R22))))","v":""},{"$f":"IF('Technical SDG'!S22=\"\",\"\",IF($D23=\"\",\"please complete\",IF($D23>'Technical SDG'!S22-1,\":-)\",CONCATENATE(\"increase until \",'Technical SDG'!S22))))","v":""},{"$f":"IF('Technical SDG'!T22=\"\",\"\",IF($D23=\"\",\"please complete\",IF($D23>'Technical SDG'!T22-1,\":-)\",CONCATENATE(\"increase until \",'Technical SDG'!T22))))","v":""}]
[null,{"$f":"'Technical SDG'!B23","v":"Q2.4"},{"$f":"VLOOKUP(B24,'Chapter 2'!$C$6:$D$278,2,0)","v":"Jakým způsobem zlepšuje organizace BOZP?"},{"$f":"'Technical SDG'!C23","v":3},17,{"$f":"IF('Technical SDG'!D23=\"\",\"\",IF($D24=\"\",\"please complete\",IF($D24>'Technical SDG'!D23-1,\":-)\",CONCATENATE(\"increase until \",'Technical SDG'!D23))))","v":""},{"$f":"IF('Technical SDG'!E23=\"\",\"\",IF($D24=\"\",\"please complete\",IF($D24>'Technical SDG'!E23-1,\":-)\",CONCATENATE(\"increase until \",'Technical SDG'!E23))))","v":""},{"$f":"IF('Technical SDG'!F23=\"\",\"\",IF($D24=\"\",\"please complete\",IF($D24>'Technical SDG'!F23-1,\":-)\",CONCATENATE(\"increase until \",'Technical SDG'!F23))))","v":""},{"$f":"IF('Technical SDG'!G23=\"\",\"\",IF($D24=\"\",\"please complete\",IF($D24>'Technical SDG'!G23-1,\":-)\",CONCATENATE(\"increase until \",'Technical SDG'!G23))))","v":""},{"$f":"IF('Technical SDG'!H23=\"\",\"\",IF($D24=\"\",\"please complete\",IF($D24>'Technical SDG'!H23-1,\":-)\",CONCATENATE(\"increase until \",'Technical SDG'!H23))))","v":""},{"$f":"IF('Technical SDG'!I23=\"\",\"\",IF($D24=\"\",\"please complete\",IF($D24>'Technical SDG'!I23-1,\":-)\",CONCATENATE(\"increase until \",'Technical SDG'!I23))))","v":""},{"$f":"IF('Technical SDG'!J23=\"\",\"\",IF($D24=\"\",\"please complete\",IF($D24>'Technical SDG'!J23-1,\":-)\",CONCATENATE(\"increase until \",'Technical SDG'!J23))))","v":""},{"$f":"IF('Technical SDG'!K23=\"\",\"\",IF($D24=\"\",\"please complete\",IF($D24>'Technical SDG'!K23-1,\":-)\",CONCATENATE(\"increase until \",'Technical SDG'!K23))))","v":""},{"$f":"IF('Technical SDG'!L23=\"\",\"\",IF($D24=\"\",\"please complete\",IF($D24>'Technical SDG'!L23-1,\":-)\",CONCATENATE(\"increase until \",'Technical SDG'!L23))))","v":""},{"$f":"IF('Technical SDG'!M23=\"\",\"\",IF($D24=\"\",\"please complete\",IF($D24>'Technical SDG'!M23-1,\":-)\",CONCATENATE(\"increase until \",'Technical SDG'!M23))))","v":""},{"$f":"IF('Technical SDG'!N23=\"\",\"\",IF($D24=\"\",\"please complete\",IF($D24>'Technical SDG'!N23-1,\":-)\",CONCATENATE(\"increase until \",'Technical SDG'!N23))))","v":""},{"$f":"IF('Technical SDG'!O23=\"\",\"\",IF($D24=\"\",\"please complete\",IF($D24>'Technical SDG'!O23-1,\":-)\",CONCATENATE(\"increase until \",'Technical SDG'!O23))))","v":""},{"$f":"IF('Technical SDG'!P23=\"\",\"\",IF($D24=\"\",\"please complete\",IF($D24>'Technical SDG'!P23-1,\":-)\",CONCATENATE(\"increase until \",'Technical SDG'!P23))))","v":""},{"$f":"IF('Technical SDG'!Q23=\"\",\"\",IF($D24=\"\",\"please complete\",IF($D24>'Technical SDG'!Q23-1,\":-)\",CONCATENATE(\"increase until \",'Technical SDG'!Q23))))","v":""},{"$f":"IF('Technical SDG'!R23=\"\",\"\",IF($D24=\"\",\"please complete\",IF($D24>'Technical SDG'!R23-1,\":-)\",CONCATENATE(\"increase until \",'Technical SDG'!R23))))","v":""},{"$f":"IF('Technical SDG'!S23=\"\",\"\",IF($D24=\"\",\"please complete\",IF($D24>'Technical SDG'!S23-1,\":-)\",CONCATENATE(\"increase until \",'Technical SDG'!S23))))","v":""},{"$f":"IF('Technical SDG'!T23=\"\",\"\",IF($D24=\"\",\"please complete\",IF($D24>'Technical SDG'!T23-1,\":-)\",CONCATENATE(\"increase until \",'Technical SDG'!T23))))","v":""}]
[null,{"$f":"'Technical SDG'!B24","v":"Q2.5"},{"$f":"VLOOKUP(B25,'Chapter 2'!$C$6:$D$278,2,0)","v":"Jakým způsobem probíhá údržba a udržování pořádku s cílem zajistit bezpečnost provozů, zařízení, nástrojů a (bezpečnostních) pomůcek?"},{"$f":"'Technical SDG'!C24","v":3},17,{"$f":"IF('Technical SDG'!D24=\"\",\"\",IF($D25=\"\",\"please complete\",IF($D25>'Technical SDG'!D24-1,\":-)\",CONCATENATE(\"increase until \",'Technical SDG'!D24))))","v":""},{"$f":"IF('Technical SDG'!E24=\"\",\"\",IF($D25=\"\",\"please complete\",IF($D25>'Technical SDG'!E24-1,\":-)\",CONCATENATE(\"increase until \",'Technical SDG'!E24))))","v":""},{"$f":"IF('Technical SDG'!F24=\"\",\"\",IF($D25=\"\",\"please complete\",IF($D25>'Technical SDG'!F24-1,\":-)\",CONCATENATE(\"increase until \",'Technical SDG'!F24))))","v":""},{"$f":"IF('Technical SDG'!G24=\"\",\"\",IF($D25=\"\",\"please complete\",IF($D25>'Technical SDG'!G24-1,\":-)\",CONCATENATE(\"increase until \",'Technical SDG'!G24))))","v":""},{"$f":"IF('Technical SDG'!H24=\"\",\"\",IF($D25=\"\",\"please complete\",IF($D25>'Technical SDG'!H24-1,\":-)\",CONCATENATE(\"increase until \",'Technical SDG'!H24))))","v":""},{"$f":"IF('Technical SDG'!I24=\"\",\"\",IF($D25=\"\",\"please complete\",IF($D25>'Technical SDG'!I24-1,\":-)\",CONCATENATE(\"increase until \",'Technical SDG'!I24))))","v":""},{"$f":"IF('Technical SDG'!J24=\"\",\"\",IF($D25=\"\",\"please complete\",IF($D25>'Technical SDG'!J24-1,\":-)\",CONCATENATE(\"increase until \",'Technical SDG'!J24))))","v":""},{"$f":"IF('Technical SDG'!K24=\"\",\"\",IF($D25=\"\",\"please complete\",IF($D25>'Technical SDG'!K24-1,\":-)\",CONCATENATE(\"increase until \",'Technical SDG'!K24))))","v":""},{"$f":"IF('Technical SDG'!L24=\"\",\"\",IF($D25=\"\",\"please complete\",IF($D25>'Technical SDG'!L24-1,\":-)\",CONCATENATE(\"increase until \",'Technical SDG'!L24))))","v":""},{"$f":"IF('Technical SDG'!M24=\"\",\"\",IF($D25=\"\",\"please complete\",IF($D25>'Technical SDG'!M24-1,\":-)\",CONCATENATE(\"increase until \",'Technical SDG'!M24))))","v":""},{"$f":"IF('Technical SDG'!N24=\"\",\"\",IF($D25=\"\",\"please complete\",IF($D25>'Technical SDG'!N24-1,\":-)\",CONCATENATE(\"increase until \",'Technical SDG'!N24))))","v":""},{"$f":"IF('Technical SDG'!O24=\"\",\"\",IF($D25=\"\",\"please complete\",IF($D25>'Technical SDG'!O24-1,\":-)\",CONCATENATE(\"increase until \",'Technical SDG'!O24))))","v":""},{"$f":"IF('Technical SDG'!P24=\"\",\"\",IF($D25=\"\",\"please complete\",IF($D25>'Technical SDG'!P24-1,\":-)\",CONCATENATE(\"increase until \",'Technical SDG'!P24))))","v":""},{"$f":"IF('Technical SDG'!Q24=\"\",\"\",IF($D25=\"\",\"please complete\",IF($D25>'Technical SDG'!Q24-1,\":-)\",CONCATENATE(\"increase until \",'Technical SDG'!Q24))))","v":""},{"$f":"IF('Technical SDG'!R24=\"\",\"\",IF($D25=\"\",\"please complete\",IF($D25>'Technical SDG'!R24-1,\":-)\",CONCATENATE(\"increase until \",'Technical SDG'!R24))))","v":""},{"$f":"IF('Technical SDG'!S24=\"\",\"\",IF($D25=\"\",\"please complete\",IF($D25>'Technical SDG'!S24-1,\":-)\",CONCATENATE(\"increase until \",'Technical SDG'!S24))))","v":""},{"$f":"IF('Technical SDG'!T24=\"\",\"\",IF($D25=\"\",\"please complete\",IF($D25>'Technical SDG'!T24-1,\":-)\",CONCATENATE(\"increase until \",'Technical SDG'!T24))))","v":""}]
[null,{"$f":"'Technical SDG'!B25","v":"Q2.6"},{"$f":"VLOOKUP(B26,'Chapter 2'!$C$6:$D$278,2,0)","v":"Jak se ověřuje správný výběr, údržba a používání zdravotního a bezpečnostního vybavení (např. osobních ochranných prostředků = OOPP)?"},{"$f":"'Technical SDG'!C25","v":3},17,{"$f":"IF('Technical SDG'!D25=\"\",\"\",IF($D26=\"\",\"please complete\",IF($D26>'Technical SDG'!D25-1,\":-)\",CONCATENATE(\"increase until \",'Technical SDG'!D25))))","v":""},{"$f":"IF('Technical SDG'!E25=\"\",\"\",IF($D26=\"\",\"please complete\",IF($D26>'Technical SDG'!E25-1,\":-)\",CONCATENATE(\"increase until \",'Technical SDG'!E25))))","v":""},{"$f":"IF('Technical SDG'!F25=\"\",\"\",IF($D26=\"\",\"please complete\",IF($D26>'Technical SDG'!F25-1,\":-)\",CONCATENATE(\"increase until \",'Technical SDG'!F25))))","v":""},{"$f":"IF('Technical SDG'!G25=\"\",\"\",IF($D26=\"\",\"please complete\",IF($D26>'Technical SDG'!G25-1,\":-)\",CONCATENATE(\"increase until \",'Technical SDG'!G25))))","v":""},{"$f":"IF('Technical SDG'!H25=\"\",\"\",IF($D26=\"\",\"please complete\",IF($D26>'Technical SDG'!H25-1,\":-)\",CONCATENATE(\"increase until \",'Technical SDG'!H25))))","v":""},{"$f":"IF('Technical SDG'!I25=\"\",\"\",IF($D26=\"\",\"please complete\",IF($D26>'Technical SDG'!I25-1,\":-)\",CONCATENATE(\"increase until \",'Technical SDG'!I25))))","v":""},{"$f":"IF('Technical SDG'!J25=\"\",\"\",IF($D26=\"\",\"please complete\",IF($D26>'Technical SDG'!J25-1,\":-)\",CONCATENATE(\"increase until \",'Technical SDG'!J25))))","v":""},{"$f":"IF('Technical SDG'!K25=\"\",\"\",IF($D26=\"\",\"please complete\",IF($D26>'Technical SDG'!K25-1,\":-)\",CONCATENATE(\"increase until \",'Technical SDG'!K25))))","v":""},{"$f":"IF('Technical SDG'!L25=\"\",\"\",IF($D26=\"\",\"please complete\",IF($D26>'Technical SDG'!L25-1,\":-)\",CONCATENATE(\"increase until \",'Technical SDG'!L25))))","v":""},{"$f":"IF('Technical SDG'!M25=\"\",\"\",IF($D26=\"\",\"please complete\",IF($D26>'Technical SDG'!M25-1,\":-)\",CONCATENATE(\"increase until \",'Technical SDG'!M25))))","v":""},{"$f":"IF('Technical SDG'!N25=\"\",\"\",IF($D26=\"\",\"please complete\",IF($D26>'Technical SDG'!N25-1,\":-)\",CONCATENATE(\"increase until \",'Technical SDG'!N25))))","v":""},{"$f":"IF('Technical SDG'!O25=\"\",\"\",IF($D26=\"\",\"please complete\",IF($D26>'Technical SDG'!O25-1,\":-)\",CONCATENATE(\"increase until \",'Technical SDG'!O25))))","v":""},{"$f":"IF('Technical SDG'!P25=\"\",\"\",IF($D26=\"\",\"please complete\",IF($D26>'Technical SDG'!P25-1,\":-)\",CONCATENATE(\"increase until \",'Technical SDG'!P25))))","v":""},{"$f":"IF('Technical SDG'!Q25=\"\",\"\",IF($D26=\"\",\"please complete\",IF($D26>'Technical SDG'!Q25-1,\":-)\",CONCATENATE(\"increase until \",'Technical SDG'!Q25))))","v":""},{"$f":"IF('Technical SDG'!R25=\"\",\"\",IF($D26=\"\",\"please complete\",IF($D26>'Technical SDG'!R25-1,\":-)\",CONCATENATE(\"increase until \",'Technical SDG'!R25))))","v":""},{"$f":"IF('Technical SDG'!S25=\"\",\"\",IF($D26=\"\",\"please complete\",IF($D26>'Technical SDG'!S25-1,\":-)\",CONCATENATE(\"increase until \",'Technical SDG'!S25))))","v":""},{"$f":"IF('Technical SDG'!T25=\"\",\"\",IF($D26=\"\",\"please complete\",IF($D26>'Technical SDG'!T25-1,\":-)\",CONCATENATE(\"increase until \",'Technical SDG'!T25))))","v":""}]
[null,{"$f":"'Technical SDG'!B26","v":"Q2.7"},{"$f":"VLOOKUP(B27,'Chapter 2'!$C$6:$D$278,2,0)","v":"Jak se organizace stará o stres a tělesné a duševní zdraví zaměstnanců?"},{"$f":"'Technical SDG'!C26","v":2},16,{"$f":"IF('Technical SDG'!D26=\"\",\"\",IF($D27=\"\",\"please complete\",IF($D27>'Technical SDG'!D26-1,\":-)\",CONCATENATE(\"increase until \",'Technical SDG'!D26))))","v":""},{"$f":"IF('Technical SDG'!E26=\"\",\"\",IF($D27=\"\",\"please complete\",IF($D27>'Technical SDG'!E26-1,\":-)\",CONCATENATE(\"increase until \",'Technical SDG'!E26))))","v":""},{"$f":"IF('Technical SDG'!F26=\"\",\"\",IF($D27=\"\",\"please complete\",IF($D27>'Technical SDG'!F26-1,\":-)\",CONCATENATE(\"increase until \",'Technical SDG'!F26))))","v":""},{"$f":"IF('Technical SDG'!G26=\"\",\"\",IF($D27=\"\",\"please complete\",IF($D27>'Technical SDG'!G26-1,\":-)\",CONCATENATE(\"increase until \",'Technical SDG'!G26))))","v":""},{"$f":"IF('Technical SDG'!H26=\"\",\"\",IF($D27=\"\",\"please complete\",IF($D27>'Technical SDG'!H26-1,\":-)\",CONCATENATE(\"increase until \",'Technical SDG'!H26))))","v":""},{"$f":"IF('Technical SDG'!I26=\"\",\"\",IF($D27=\"\",\"please complete\",IF($D27>'Technical SDG'!I26-1,\":-)\",CONCATENATE(\"increase until \",'Technical SDG'!I26))))","v":""},{"$f":"IF('Technical SDG'!J26=\"\",\"\",IF($D27=\"\",\"please complete\",IF($D27>'Technical SDG'!J26-1,\":-)\",CONCATENATE(\"increase until \",'Technical SDG'!J26))))","v":""},{"$f":"IF('Technical SDG'!K26=\"\",\"\",IF($D27=\"\",\"please complete\",IF($D27>'Technical SDG'!K26-1,\":-)\",CONCATENATE(\"increase until \",'Technical SDG'!K26))))","v":"increase until 3"},{"$f":"IF('Technical SDG'!L26=\"\",\"\",IF($D27=\"\",\"please complete\",IF($D27>'Technical SDG'!L26-1,\":-)\",CONCATENATE(\"increase until \",'Technical SDG'!L26))))","v":""},{"$f":"IF('Technical SDG'!M26=\"\",\"\",IF($D27=\"\",\"please complete\",IF($D27>'Technical SDG'!M26-1,\":-)\",CONCATENATE(\"increase until \",'Technical SDG'!M26))))","v":""},{"$f":"IF('Technical SDG'!N26=\"\",\"\",IF($D27=\"\",\"please complete\",IF($D27>'Technical SDG'!N26-1,\":-)\",CONCATENATE(\"increase until \",'Technical SDG'!N26))))","v":""},{"$f":"IF('Technical SDG'!O26=\"\",\"\",IF($D27=\"\",\"please complete\",IF($D27>'Technical SDG'!O26-1,\":-)\",CONCATENATE(\"increase until \",'Technical SDG'!O26))))","v":""},{"$f":"IF('Technical SDG'!P26=\"\",\"\",IF($D27=\"\",\"please complete\",IF($D27>'Technical SDG'!P26-1,\":-)\",CONCATENATE(\"increase until \",'Technical SDG'!P26))))","v":""},{"$f":"IF('Technical SDG'!Q26=\"\",\"\",IF($D27=\"\",\"please complete\",IF($D27>'Technical SDG'!Q26-1,\":-)\",CONCATENATE(\"increase until \",'Technical SDG'!Q26))))","v":""},{"$f":"IF('Technical SDG'!R26=\"\",\"\",IF($D27=\"\",\"please complete\",IF($D27>'Technical SDG'!R26-1,\":-)\",CONCATENATE(\"increase until \",'Technical SDG'!R26))))","v":""},{"$f":"IF('Technical SDG'!S26=\"\",\"\",IF($D27=\"\",\"please complete\",IF($D27>'Technical SDG'!S26-1,\":-)\",CONCATENATE(\"increase until \",'Technical SDG'!S26))))","v":""},{"$f":"IF('Technical SDG'!T26=\"\",\"\",IF($D27=\"\",\"please complete\",IF($D27>'Technical SDG'!T26-1,\":-)\",CONCATENATE(\"increase until \",'Technical SDG'!T26))))","v":""}]
[null,{"$f":"'Technical SDG'!B27","v":"Q2.8"},{"$f":"VLOOKUP(B28,'Chapter 2'!$C$6:$D$278,2,0)","v":"Jakým způsobem se vyšetřují onemocnění, zranění, incidenty a potenciálně nebezpečné situace na pracovišti?"},{"$f":"'Technical SDG'!C27","v":3},16,{"$f":"IF('Technical SDG'!D27=\"\",\"\",IF($D28=\"\",\"please complete\",IF($D28>'Technical SDG'!D27-1,\":-)\",CONCATENATE(\"increase until \",'Technical SDG'!D27))))","v":""},{"$f":"IF('Technical SDG'!E27=\"\",\"\",IF($D28=\"\",\"please complete\",IF($D28>'Technical SDG'!E27-1,\":-)\",CONCATENATE(\"increase until \",'Technical SDG'!E27))))","v":""},{"$f":"IF('Technical SDG'!F27=\"\",\"\",IF($D28=\"\",\"please complete\",IF($D28>'Technical SDG'!F27-1,\":-)\",CONCATENATE(\"increase until \",'Technical SDG'!F27))))","v":""},{"$f":"IF('Technical SDG'!G27=\"\",\"\",IF($D28=\"\",\"please complete\",IF($D28>'Technical SDG'!G27-1,\":-)\",CONCATENATE(\"increase until \",'Technical SDG'!G27))))","v":""},{"$f":"IF('Technical SDG'!H27=\"\",\"\",IF($D28=\"\",\"please complete\",IF($D28>'Technical SDG'!H27-1,\":-)\",CONCATENATE(\"increase until \",'Technical SDG'!H27))))","v":""},{"$f":"IF('Technical SDG'!I27=\"\",\"\",IF($D28=\"\",\"please complete\",IF($D28>'Technical SDG'!I27-1,\":-)\",CONCATENATE(\"increase until \",'Technical SDG'!I27))))","v":""},{"$f":"IF('Technical SDG'!J27=\"\",\"\",IF($D28=\"\",\"please complete\",IF($D28>'Technical SDG'!J27-1,\":-)\",CONCATENATE(\"increase until \",'Technical SDG'!J27))))","v":""},{"$f":"IF('Technical SDG'!K27=\"\",\"\",IF($D28=\"\",\"please complete\",IF($D28>'Technical SDG'!K27-1,\":-)\",CONCATENATE(\"increase until \",'Technical SDG'!K27))))","v":":-)"},{"$f":"IF('Technical SDG'!L27=\"\",\"\",IF($D28=\"\",\"please complete\",IF($D28>'Technical SDG'!L27-1,\":-)\",CONCATENATE(\"increase until \",'Technical SDG'!L27))))","v":""},{"$f":"IF('Technical SDG'!M27=\"\",\"\",IF($D28=\"\",\"please complete\",IF($D28>'Technical SDG'!M27-1,\":-)\",CONCATENATE(\"increase until \",'Technical SDG'!M27))))","v":""},{"$f":"IF('Technical SDG'!N27=\"\",\"\",IF($D28=\"\",\"please complete\",IF($D28>'Technical SDG'!N27-1,\":-)\",CONCATENATE(\"increase until \",'Technical SDG'!N27))))","v":""},{"$f":"IF('Technical SDG'!O27=\"\",\"\",IF($D28=\"\",\"please complete\",IF($D28>'Technical SDG'!O27-1,\":-)\",CONCATENATE(\"increase until \",'Technical SDG'!O27))))","v":""},{"$f":"IF('Technical SDG'!P27=\"\",\"\",IF($D28=\"\",\"please complete\",IF($D28>'Technical SDG'!P27-1,\":-)\",CONCATENATE(\"increase until \",'Technical SDG'!P27))))","v":""},{"$f":"IF('Technical SDG'!Q27=\"\",\"\",IF($D28=\"\",\"please complete\",IF($D28>'Technical SDG'!Q27-1,\":-)\",CONCATENATE(\"increase until \",'Technical SDG'!Q27))))","v":""},{"$f":"IF('Technical SDG'!R27=\"\",\"\",IF($D28=\"\",\"please complete\",IF($D28>'Technical SDG'!R27-1,\":-)\",CONCATENATE(\"increase until \",'Technical SDG'!R27))))","v":""},{"$f":"IF('Technical SDG'!S27=\"\",\"\",IF($D28=\"\",\"please complete\",IF($D28>'Technical SDG'!S27-1,\":-)\",CONCATENATE(\"increase until \",'Technical SDG'!S27))))","v":""},{"$f":"IF('Technical SDG'!T27=\"\",\"\",IF($D28=\"\",\"please complete\",IF($D28>'Technical SDG'!T27-1,\":-)\",CONCATENATE(\"increase until \",'Technical SDG'!T27))))","v":""}]
[null,{"$f":"'Technical SDG'!B28","v":"Q2.9"},{"$f":"VLOOKUP(B29,'Chapter 2'!$C$6:$D$278,2,0)","v":"Jak je organizace připravena na mimořádné události?"},{"$f":"'Technical SDG'!C28","v":3},17,{"$f":"IF('Technical SDG'!D28=\"\",\"\",IF($D29=\"\",\"please complete\",IF($D29>'Technical SDG'!D28-1,\":-)\",CONCATENATE(\"increase until \",'Technical SDG'!D28))))","v":""},{"$f":"IF('Technical SDG'!E28=\"\",\"\",IF($D29=\"\",\"please complete\",IF($D29>'Technical SDG'!E28-1,\":-)\",CONCATENATE(\"increase until \",'Technical SDG'!E28))))","v":""},{"$f":"IF('Technical SDG'!F28=\"\",\"\",IF($D29=\"\",\"please complete\",IF($D29>'Technical SDG'!F28-1,\":-)\",CONCATENATE(\"increase until \",'Technical SDG'!F28))))","v":""},{"$f":"IF('Technical SDG'!G28=\"\",\"\",IF($D29=\"\",\"please complete\",IF($D29>'Technical SDG'!G28-1,\":-)\",CONCATENATE(\"increase until \",'Technical SDG'!G28))))","v":""},{"$f":"IF('Technical SDG'!H28=\"\",\"\",IF($D29=\"\",\"please complete\",IF($D29>'Technical SDG'!H28-1,\":-)\",CONCATENATE(\"increase until \",'Technical SDG'!H28))))","v":""},{"$f":"IF('Technical SDG'!I28=\"\",\"\",IF($D29=\"\",\"please complete\",IF($D29>'Technical SDG'!I28-1,\":-)\",CONCATENATE(\"increase until \",'Technical SDG'!I28))))","v":""},{"$f":"IF('Technical SDG'!J28=\"\",\"\",IF($D29=\"\",\"please complete\",IF($D29>'Technical SDG'!J28-1,\":-)\",CONCATENATE(\"increase until \",'Technical SDG'!J28))))","v":""},{"$f":"IF('Technical SDG'!K28=\"\",\"\",IF($D29=\"\",\"please complete\",IF($D29>'Technical SDG'!K28-1,\":-)\",CONCATENATE(\"increase until \",'Technical SDG'!K28))))","v":""},{"$f":"IF('Technical SDG'!L28=\"\",\"\",IF($D29=\"\",\"please complete\",IF($D29>'Technical SDG'!L28-1,\":-)\",CONCATENATE(\"increase until \",'Technical SDG'!L28))))","v":""},{"$f":"IF('Technical SDG'!M28=\"\",\"\",IF($D29=\"\",\"please complete\",IF($D29>'Technical SDG'!M28-1,\":-)\",CONCATENATE(\"increase until \",'Technical SDG'!M28))))","v":""},{"$f":"IF('Technical SDG'!N28=\"\",\"\",IF($D29=\"\",\"please complete\",IF($D29>'Technical SDG'!N28-1,\":-)\",CONCATENATE(\"increase until \",'Technical SDG'!N28))))","v":""},{"$f":"IF('Technical SDG'!O28=\"\",\"\",IF($D29=\"\",\"please complete\",IF($D29>'Technical SDG'!O28-1,\":-)\",CONCATENATE(\"increase until \",'Technical SDG'!O28))))","v":""},{"$f":"IF('Technical SDG'!P28=\"\",\"\",IF($D29=\"\",\"please complete\",IF($D29>'Technical SDG'!P28-1,\":-)\",CONCATENATE(\"increase until \",'Technical SDG'!P28))))","v":""},{"$f":"IF('Technical SDG'!Q28=\"\",\"\",IF($D29=\"\",\"please complete\",IF($D29>'Technical SDG'!Q28-1,\":-)\",CONCATENATE(\"increase until \",'Technical SDG'!Q28))))","v":""},{"$f":"IF('Technical SDG'!R28=\"\",\"\",IF($D29=\"\",\"please complete\",IF($D29>'Technical SDG'!R28-1,\":-)\",CONCATENATE(\"increase until \",'Technical SDG'!R28))))","v":""},{"$f":"IF('Technical SDG'!S28=\"\",\"\",IF($D29=\"\",\"please complete\",IF($D29>'Technical SDG'!S28-1,\":-)\",CONCATENATE(\"increase until \",'Technical SDG'!S28))))","v":""},{"$f":"IF('Technical SDG'!T28=\"\",\"\",IF($D29=\"\",\"please complete\",IF($D29>'Technical SDG'!T28-1,\":-)\",CONCATENATE(\"increase until \",'Technical SDG'!T28))))","v":""}]
[null,{"$f":"'Technical SDG'!B29","v":"Q2.10"},{"$f":"VLOOKUP(B30,'Chapter 2'!$C$6:$D$278,2,0)","v":"Jakým způsobem zajišťuje organizace správně kompetence všech pracovníků, týkající se požadavků BOZP, které souvisí s jejich pracovní náplní?"},{"$f":"'Technical SDG'!C29","v":3},16,{"$f":"IF('Technical SDG'!D29=\"\",\"\",IF($D30=\"\",\"please complete\",IF($D30>'Technical SDG'!D29-1,\":-)\",CONCATENATE(\"increase until \",'Technical SDG'!D29))))","v":""},{"$f":"IF('Technical SDG'!E29=\"\",\"\",IF($D30=\"\",\"please complete\",IF($D30>'Technical SDG'!E29-1,\":-)\",CONCATENATE(\"increase until \",'Technical SDG'!E29))))","v":""},{"$f":"IF('Technical SDG'!F29=\"\",\"\",IF($D30=\"\",\"please complete\",IF($D30>'Technical SDG'!F29-1,\":-)\",CONCATENATE(\"increase until \",'Technical SDG'!F29))))","v":""},{"$f":"IF('Technical SDG'!G29=\"\",\"\",IF($D30=\"\",\"please complete\",IF($D30>'Technical SDG'!G29-1,\":-)\",CONCATENATE(\"increase until \",'Technical SDG'!G29))))","v":""},{"$f":"IF('Technical SDG'!H29=\"\",\"\",IF($D30=\"\",\"please complete\",IF($D30>'Technical SDG'!H29-1,\":-)\",CONCATENATE(\"increase until \",'Technical SDG'!H29))))","v":""},{"$f":"IF('Technical SDG'!I29=\"\",\"\",IF($D30=\"\",\"please complete\",IF($D30>'Technical SDG'!I29-1,\":-)\",CONCATENATE(\"increase until \",'Technical SDG'!I29))))","v":""},{"$f":"IF('Technical SDG'!J29=\"\",\"\",IF($D30=\"\",\"please complete\",IF($D30>'Technical SDG'!J29-1,\":-)\",CONCATENATE(\"increase until \",'Technical SDG'!J29))))","v":""},{"$f":"IF('Technical SDG'!K29=\"\",\"\",IF($D30=\"\",\"please complete\",IF($D30>'Technical SDG'!K29-1,\":-)\",CONCATENATE(\"increase until \",'Technical SDG'!K29))))","v":":-)"},{"$f":"IF('Technical SDG'!L29=\"\",\"\",IF($D30=\"\",\"please complete\",IF($D30>'Technical SDG'!L29-1,\":-)\",CONCATENATE(\"increase until \",'Technical SDG'!L29))))","v":""},{"$f":"IF('Technical SDG'!M29=\"\",\"\",IF($D30=\"\",\"please complete\",IF($D30>'Technical SDG'!M29-1,\":-)\",CONCATENATE(\"increase until \",'Technical SDG'!M29))))","v":""},{"$f":"IF('Technical SDG'!N29=\"\",\"\",IF($D30=\"\",\"please complete\",IF($D30>'Technical SDG'!N29-1,\":-)\",CONCATENATE(\"increase until \",'Technical SDG'!N29))))","v":""},{"$f":"IF('Technical SDG'!O29=\"\",\"\",IF($D30=\"\",\"please complete\",IF($D30>'Technical SDG'!O29-1,\":-)\",CONCATENATE(\"increase until \",'Technical SDG'!O29))))","v":""},{"$f":"IF('Technical SDG'!P29=\"\",\"\",IF($D30=\"\",\"please complete\",IF($D30>'Technical SDG'!P29-1,\":-)\",CONCATENATE(\"increase until \",'Technical SDG'!P29))))","v":""},{"$f":"IF('Technical SDG'!Q29=\"\",\"\",IF($D30=\"\",\"please complete\",IF($D30>'Technical SDG'!Q29-1,\":-)\",CONCATENATE(\"increase until \",'Technical SDG'!Q29))))","v":""},{"$f":"IF('Technical SDG'!R29=\"\",\"\",IF($D30=\"\",\"please complete\",IF($D30>'Technical SDG'!R29-1,\":-)\",CONCATENATE(\"increase until \",'Technical SDG'!R29))))","v":""},{"$f":"IF('Technical SDG'!S29=\"\",\"\",IF($D30=\"\",\"please complete\",IF($D30>'Technical SDG'!S29-1,\":-)\",CONCATENATE(\"increase until \",'Technical SDG'!S29))))","v":""},{"$f":"IF('Technical SDG'!T29=\"\",\"\",IF($D30=\"\",\"please complete\",IF($D30>'Technical SDG'!T29-1,\":-)\",CONCATENATE(\"increase until \",'Technical SDG'!T29))))","v":""}]
[null,{"$f":"'Technical SDG'!B30","v":"Q2.11"},{"$f":"VLOOKUP(B31,'Chapter 2'!$C$6:$D$278,2,0)","v":"Jakým způsobem se vedení staví k procesní bezpečnosti?\n\n"},{"$f":"'Technical SDG'!C30","v":3},17,{"$f":"IF('Technical SDG'!D30=\"\",\"\",IF($D31=\"\",\"please complete\",IF($D31>'Technical SDG'!D30-1,\":-)\",CONCATENATE(\"increase until \",'Technical SDG'!D30))))","v":""},{"$f":"IF('Technical SDG'!E30=\"\",\"\",IF($D31=\"\",\"please complete\",IF($D31>'Technical SDG'!E30-1,\":-)\",CONCATENATE(\"increase until \",'Technical SDG'!E30))))","v":""},{"$f":"IF('Technical SDG'!F30=\"\",\"\",IF($D31=\"\",\"please complete\",IF($D31>'Technical SDG'!F30-1,\":-)\",CONCATENATE(\"increase until \",'Technical SDG'!F30))))","v":""},{"$f":"IF('Technical SDG'!G30=\"\",\"\",IF($D31=\"\",\"please complete\",IF($D31>'Technical SDG'!G30-1,\":-)\",CONCATENATE(\"increase until \",'Technical SDG'!G30))))","v":""},{"$f":"IF('Technical SDG'!H30=\"\",\"\",IF($D31=\"\",\"please complete\",IF($D31>'Technical SDG'!H30-1,\":-)\",CONCATENATE(\"increase until \",'Technical SDG'!H30))))","v":""},{"$f":"IF('Technical SDG'!I30=\"\",\"\",IF($D31=\"\",\"please complete\",IF($D31>'Technical SDG'!I30-1,\":-)\",CONCATENATE(\"increase until \",'Technical SDG'!I30))))","v":""},{"$f":"IF('Technical SDG'!J30=\"\",\"\",IF($D31=\"\",\"please complete\",IF($D31>'Technical SDG'!J30-1,\":-)\",CONCATENATE(\"increase until \",'Technical SDG'!J30))))","v":""},{"$f":"IF('Technical SDG'!K30=\"\",\"\",IF($D31=\"\",\"please complete\",IF($D31>'Technical SDG'!K30-1,\":-)\",CONCATENATE(\"increase until \",'Technical SDG'!K30))))","v":""},{"$f":"IF('Technical SDG'!L30=\"\",\"\",IF($D31=\"\",\"please complete\",IF($D31>'Technical SDG'!L30-1,\":-)\",CONCATENATE(\"increase until \",'Technical SDG'!L30))))","v":""},{"$f":"IF('Technical SDG'!M30=\"\",\"\",IF($D31=\"\",\"please complete\",IF($D31>'Technical SDG'!M30-1,\":-)\",CONCATENATE(\"increase until \",'Technical SDG'!M30))))","v":""},{"$f":"IF('Technical SDG'!N30=\"\",\"\",IF($D31=\"\",\"please complete\",IF($D31>'Technical SDG'!N30-1,\":-)\",CONCATENATE(\"increase until \",'Technical SDG'!N30))))","v":""},{"$f":"IF('Technical SDG'!O30=\"\",\"\",IF($D31=\"\",\"please complete\",IF($D31>'Technical SDG'!O30-1,\":-)\",CONCATENATE(\"increase until \",'Technical SDG'!O30))))","v":""},{"$f":"IF('Technical SDG'!P30=\"\",\"\",IF($D31=\"\",\"please complete\",IF($D31>'Technical SDG'!P30-1,\":-)\",CONCATENATE(\"increase until \",'Technical SDG'!P30))))","v":""},{"$f":"IF('Technical SDG'!Q30=\"\",\"\",IF($D31=\"\",\"please complete\",IF($D31>'Technical SDG'!Q30-1,\":-)\",CONCATENATE(\"increase until \",'Technical SDG'!Q30))))","v":""},{"$f":"IF('Technical SDG'!R30=\"\",\"\",IF($D31=\"\",\"please complete\",IF($D31>'Technical SDG'!R30-1,\":-)\",CONCATENATE(\"increase until \",'Technical SDG'!R30))))","v":""},{"$f":"IF('Technical SDG'!S30=\"\",\"\",IF($D31=\"\",\"please complete\",IF($D31>'Technical SDG'!S30-1,\":-)\",CONCATENATE(\"increase until \",'Technical SDG'!S30))))","v":""},{"$f":"IF('Technical SDG'!T30=\"\",\"\",IF($D31=\"\",\"please complete\",IF($D31>'Technical SDG'!T30-1,\":-)\",CONCATENATE(\"increase until \",'Technical SDG'!T30))))","v":""}]
[null,{"$f":"'Technical SDG'!B31","v":"Q2.12"},{"$f":"VLOOKUP(B32,'Chapter 2'!$C$6:$D$278,2,0)","v":"Jakým způsobem je vypracována identifikace a popis bezpečnosti procesů, zařízení a pracovišť organizace?"},{"$f":"'Technical SDG'!C31","v":2},17,{"$f":"IF('Technical SDG'!D31=\"\",\"\",IF($D32=\"\",\"please complete\",IF($D32>'Technical SDG'!D31-1,\":-)\",CONCATENATE(\"increase until \",'Technical SDG'!D31))))","v":""},{"$f":"IF('Technical SDG'!E31=\"\",\"\",IF($D32=\"\",\"please complete\",IF($D32>'Technical SDG'!E31-1,\":-)\",CONCATENATE(\"increase until \",'Technical SDG'!E31))))","v":""},{"$f":"IF('Technical SDG'!F31=\"\",\"\",IF($D32=\"\",\"please complete\",IF($D32>'Technical SDG'!F31-1,\":-)\",CONCATENATE(\"increase until \",'Technical SDG'!F31))))","v":""},{"$f":"IF('Technical SDG'!G31=\"\",\"\",IF($D32=\"\",\"please complete\",IF($D32>'Technical SDG'!G31-1,\":-)\",CONCATENATE(\"increase until \",'Technical SDG'!G31))))","v":""},{"$f":"IF('Technical SDG'!H31=\"\",\"\",IF($D32=\"\",\"please complete\",IF($D32>'Technical SDG'!H31-1,\":-)\",CONCATENATE(\"increase until \",'Technical SDG'!H31))))","v":""},{"$f":"IF('Technical SDG'!I31=\"\",\"\",IF($D32=\"\",\"please complete\",IF($D32>'Technical SDG'!I31-1,\":-)\",CONCATENATE(\"increase until \",'Technical SDG'!I31))))","v":""},{"$f":"IF('Technical SDG'!J31=\"\",\"\",IF($D32=\"\",\"please complete\",IF($D32>'Technical SDG'!J31-1,\":-)\",CONCATENATE(\"increase until \",'Technical SDG'!J31))))","v":""},{"$f":"IF('Technical SDG'!K31=\"\",\"\",IF($D32=\"\",\"please complete\",IF($D32>'Technical SDG'!K31-1,\":-)\",CONCATENATE(\"increase until \",'Technical SDG'!K31))))","v":""},{"$f":"IF('Technical SDG'!L31=\"\",\"\",IF($D32=\"\",\"please complete\",IF($D32>'Technical SDG'!L31-1,\":-)\",CONCATENATE(\"increase until \",'Technical SDG'!L31))))","v":""},{"$f":"IF('Technical SDG'!M31=\"\",\"\",IF($D32=\"\",\"please complete\",IF($D32>'Technical SDG'!M31-1,\":-)\",CONCATENATE(\"increase until \",'Technical SDG'!M31))))","v":""},{"$f":"IF('Technical SDG'!N31=\"\",\"\",IF($D32=\"\",\"please complete\",IF($D32>'Technical SDG'!N31-1,\":-)\",CONCATENATE(\"increase until \",'Technical SDG'!N31))))","v":""},{"$f":"IF('Technical SDG'!O31=\"\",\"\",IF($D32=\"\",\"please complete\",IF($D32>'Technical SDG'!O31-1,\":-)\",CONCATENATE(\"increase until \",'Technical SDG'!O31))))","v":""},{"$f":"IF('Technical SDG'!P31=\"\",\"\",IF($D32=\"\",\"please complete\",IF($D32>'Technical SDG'!P31-1,\":-)\",CONCATENATE(\"increase until \",'Technical SDG'!P31))))","v":""},{"$f":"IF('Technical SDG'!Q31=\"\",\"\",IF($D32=\"\",\"please complete\",IF($D32>'Technical SDG'!Q31-1,\":-)\",CONCATENATE(\"increase until \",'Technical SDG'!Q31))))","v":""},{"$f":"IF('Technical SDG'!R31=\"\",\"\",IF($D32=\"\",\"please complete\",IF($D32>'Technical SDG'!R31-1,\":-)\",CONCATENATE(\"increase until \",'Technical SDG'!R31))))","v":""},{"$f":"IF('Technical SDG'!S31=\"\",\"\",IF($D32=\"\",\"please complete\",IF($D32>'Technical SDG'!S31-1,\":-)\",CONCATENATE(\"increase until \",'Technical SDG'!S31))))","v":""},{"$f":"IF('Technical SDG'!T31=\"\",\"\",IF($D32=\"\",\"please complete\",IF($D32>'Technical SDG'!T31-1,\":-)\",CONCATENATE(\"increase until \",'Technical SDG'!T31))))","v":""}]
[null,{"$f":"'Technical SDG'!B32","v":"Q2.13"},{"$f":"VLOOKUP(B33,'Chapter 2'!$C$6:$D$278,2,0)","v":"Jakým způsobem se zlepšuje procesní bezpečnost po nehodách a incidentech?"},{"$f":"'Technical SDG'!C32","v":1},17,{"$f":"IF('Technical SDG'!D32=\"\",\"\",IF($D33=\"\",\"please complete\",IF($D33>'Technical SDG'!D32-1,\":-)\",CONCATENATE(\"increase until \",'Technical SDG'!D32))))","v":""},{"$f":"IF('Technical SDG'!E32=\"\",\"\",IF($D33=\"\",\"please complete\",IF($D33>'Technical SDG'!E32-1,\":-)\",CONCATENATE(\"increase until \",'Technical SDG'!E32))))","v":""},{"$f":"IF('Technical SDG'!F32=\"\",\"\",IF($D33=\"\",\"please complete\",IF($D33>'Technical SDG'!F32-1,\":-)\",CONCATENATE(\"increase until \",'Technical SDG'!F32))))","v":""},{"$f":"IF('Technical SDG'!G32=\"\",\"\",IF($D33=\"\",\"please complete\",IF($D33>'Technical SDG'!G32-1,\":-)\",CONCATENATE(\"increase until \",'Technical SDG'!G32))))","v":""},{"$f":"IF('Technical SDG'!H32=\"\",\"\",IF($D33=\"\",\"please complete\",IF($D33>'Technical SDG'!H32-1,\":-)\",CONCATENATE(\"increase until \",'Technical SDG'!H32))))","v":""},{"$f":"IF('Technical SDG'!I32=\"\",\"\",IF($D33=\"\",\"please complete\",IF($D33>'Technical SDG'!I32-1,\":-)\",CONCATENATE(\"increase until \",'Technical SDG'!I32))))","v":""},{"$f":"IF('Technical SDG'!J32=\"\",\"\",IF($D33=\"\",\"please complete\",IF($D33>'Technical SDG'!J32-1,\":-)\",CONCATENATE(\"increase until \",'Technical SDG'!J32))))","v":""},{"$f":"IF('Technical SDG'!K32=\"\",\"\",IF($D33=\"\",\"please complete\",IF($D33>'Technical SDG'!K32-1,\":-)\",CONCATENATE(\"increase until \",'Technical SDG'!K32))))","v":""},{"$f":"IF('Technical SDG'!L32=\"\",\"\",IF($D33=\"\",\"please complete\",IF($D33>'Technical SDG'!L32-1,\":-)\",CONCATENATE(\"increase until \",'Technical SDG'!L32))))","v":""},{"$f":"IF('Technical SDG'!M32=\"\",\"\",IF($D33=\"\",\"please complete\",IF($D33>'Technical SDG'!M32-1,\":-)\",CONCATENATE(\"increase until \",'Technical SDG'!M32))))","v":""},{"$f":"IF('Technical SDG'!N32=\"\",\"\",IF($D33=\"\",\"please complete\",IF($D33>'Technical SDG'!N32-1,\":-)\",CONCATENATE(\"increase until \",'Technical SDG'!N32))))","v":""},{"$f":"IF('Technical SDG'!O32=\"\",\"\",IF($D33=\"\",\"please complete\",IF($D33>'Technical SDG'!O32-1,\":-)\",CONCATENATE(\"increase until \",'Technical SDG'!O32))))","v":""},{"$f":"IF('Technical SDG'!P32=\"\",\"\",IF($D33=\"\",\"please complete\",IF($D33>'Technical SDG'!P32-1,\":-)\",CONCATENATE(\"increase until \",'Technical SDG'!P32))))","v":""},{"$f":"IF('Technical SDG'!Q32=\"\",\"\",IF($D33=\"\",\"please complete\",IF($D33>'Technical SDG'!Q32-1,\":-)\",CONCATENATE(\"increase until \",'Technical SDG'!Q32))))","v":""},{"$f":"IF('Technical SDG'!R32=\"\",\"\",IF($D33=\"\",\"please complete\",IF($D33>'Technical SDG'!R32-1,\":-)\",CONCATENATE(\"increase until \",'Technical SDG'!R32))))","v":""},{"$f":"IF('Technical SDG'!S32=\"\",\"\",IF($D33=\"\",\"please complete\",IF($D33>'Technical SDG'!S32-1,\":-)\",CONCATENATE(\"increase until \",'Technical SDG'!S32))))","v":""},{"$f":"IF('Technical SDG'!T32=\"\",\"\",IF($D33=\"\",\"please complete\",IF($D33>'Technical SDG'!T32-1,\":-)\",CONCATENATE(\"increase until \",'Technical SDG'!T32))))","v":""}]
[null,{"$f":"'Technical SDG'!B33","v":"Q2.14"},{"$f":"VLOOKUP(B34,'Chapter 2'!$C$6:$D$278,2,0)","v":"Jakým způsobem se provádějí audity a inspekce procesní bezpečnosti?"},{"$f":"'Technical SDG'!C33","v":2},17,{"$f":"IF('Technical SDG'!D33=\"\",\"\",IF($D34=\"\",\"please complete\",IF($D34>'Technical SDG'!D33-1,\":-)\",CONCATENATE(\"increase until \",'Technical SDG'!D33))))","v":""},{"$f":"IF('Technical SDG'!E33=\"\",\"\",IF($D34=\"\",\"please complete\",IF($D34>'Technical SDG'!E33-1,\":-)\",CONCATENATE(\"increase until \",'Technical SDG'!E33))))","v":""},{"$f":"IF('Technical SDG'!F33=\"\",\"\",IF($D34=\"\",\"please complete\",IF($D34>'Technical SDG'!F33-1,\":-)\",CONCATENATE(\"increase until \",'Technical SDG'!F33))))","v":""},{"$f":"IF('Technical SDG'!G33=\"\",\"\",IF($D34=\"\",\"please complete\",IF($D34>'Technical SDG'!G33-1,\":-)\",CONCATENATE(\"increase until \",'Technical SDG'!G33))))","v":""},{"$f":"IF('Technical SDG'!H33=\"\",\"\",IF($D34=\"\",\"please complete\",IF($D34>'Technical SDG'!H33-1,\":-)\",CONCATENATE(\"increase until \",'Technical SDG'!H33))))","v":""},{"$f":"IF('Technical SDG'!I33=\"\",\"\",IF($D34=\"\",\"please complete\",IF($D34>'Technical SDG'!I33-1,\":-)\",CONCATENATE(\"increase until \",'Technical SDG'!I33))))","v":""},{"$f":"IF('Technical SDG'!J33=\"\",\"\",IF($D34=\"\",\"please complete\",IF($D34>'Technical SDG'!J33-1,\":-)\",CONCATENATE(\"increase until \",'Technical SDG'!J33))))","v":""},{"$f":"IF('Technical SDG'!K33=\"\",\"\",IF($D34=\"\",\"please complete\",IF($D34>'Technical SDG'!K33-1,\":-)\",CONCATENATE(\"increase until \",'Technical SDG'!K33))))","v":""},{"$f":"IF('Technical SDG'!L33=\"\",\"\",IF($D34=\"\",\"please complete\",IF($D34>'Technical SDG'!L33-1,\":-)\",CONCATENATE(\"increase until \",'Technical SDG'!L33))))","v":""},{"$f":"IF('Technical SDG'!M33=\"\",\"\",IF($D34=\"\",\"please complete\",IF($D34>'Technical SDG'!M33-1,\":-)\",CONCATENATE(\"increase until \",'Technical SDG'!M33))))","v":""},{"$f":"IF('Technical SDG'!N33=\"\",\"\",IF($D34=\"\",\"please complete\",IF($D34>'Technical SDG'!N33-1,\":-)\",CONCATENATE(\"increase until \",'Technical SDG'!N33))))","v":""},{"$f":"IF('Technical SDG'!O33=\"\",\"\",IF($D34=\"\",\"please complete\",IF($D34>'Technical SDG'!O33-1,\":-)\",CONCATENATE(\"increase until \",'Technical SDG'!O33))))","v":""},{"$f":"IF('Technical SDG'!P33=\"\",\"\",IF($D34=\"\",\"please complete\",IF($D34>'Technical SDG'!P33-1,\":-)\",CONCATENATE(\"increase until \",'Technical SDG'!P33))))","v":""},{"$f":"IF('Technical SDG'!Q33=\"\",\"\",IF($D34=\"\",\"please complete\",IF($D34>'Technical SDG'!Q33-1,\":-)\",CONCATENATE(\"increase until \",'Technical SDG'!Q33))))","v":""},{"$f":"IF('Technical SDG'!R33=\"\",\"\",IF($D34=\"\",\"please complete\",IF($D34>'Technical SDG'!R33-1,\":-)\",CONCATENATE(\"increase until \",'Technical SDG'!R33))))","v":""},{"$f":"IF('Technical SDG'!S33=\"\",\"\",IF($D34=\"\",\"please complete\",IF($D34>'Technical SDG'!S33-1,\":-)\",CONCATENATE(\"increase until \",'Technical SDG'!S33))))","v":""},{"$f":"IF('Technical SDG'!T33=\"\",\"\",IF($D34=\"\",\"please complete\",IF($D34>'Technical SDG'!T33-1,\":-)\",CONCATENATE(\"increase until \",'Technical SDG'!T33))))","v":""}]
[null,{"$f":"'Technical SDG'!B34","v":"Q2.15"},{"$f":"VLOOKUP(B35,'Chapter 2'!$C$6:$D$278,2,0)","v":"Jakým způsobem se prověřují a zlepšují pracovní pokyny?"},{"$f":"'Technical SDG'!C34","v":3},17,{"$f":"IF('Technical SDG'!D34=\"\",\"\",IF($D35=\"\",\"please complete\",IF($D35>'Technical SDG'!D34-1,\":-)\",CONCATENATE(\"increase until \",'Technical SDG'!D34))))","v":""},{"$f":"IF('Technical SDG'!E34=\"\",\"\",IF($D35=\"\",\"please complete\",IF($D35>'Technical SDG'!E34-1,\":-)\",CONCATENATE(\"increase until \",'Technical SDG'!E34))))","v":""},{"$f":"IF('Technical SDG'!F34=\"\",\"\",IF($D35=\"\",\"please complete\",IF($D35>'Technical SDG'!F34-1,\":-)\",CONCATENATE(\"increase until \",'Technical SDG'!F34))))","v":""},{"$f":"IF('Technical SDG'!G34=\"\",\"\",IF($D35=\"\",\"please complete\",IF($D35>'Technical SDG'!G34-1,\":-)\",CONCATENATE(\"increase until \",'Technical SDG'!G34))))","v":""},{"$f":"IF('Technical SDG'!H34=\"\",\"\",IF($D35=\"\",\"please complete\",IF($D35>'Technical SDG'!H34-1,\":-)\",CONCATENATE(\"increase until \",'Technical SDG'!H34))))","v":""},{"$f":"IF('Technical SDG'!I34=\"\",\"\",IF($D35=\"\",\"please complete\",IF($D35>'Technical SDG'!I34-1,\":-)\",CONCATENATE(\"increase until \",'Technical SDG'!I34))))","v":""},{"$f":"IF('Technical SDG'!J34=\"\",\"\",IF($D35=\"\",\"please complete\",IF($D35>'Technical SDG'!J34-1,\":-)\",CONCATENATE(\"increase until \",'Technical SDG'!J34))))","v":""},{"$f":"IF('Technical SDG'!K34=\"\",\"\",IF($D35=\"\",\"please complete\",IF($D35>'Technical SDG'!K34-1,\":-)\",CONCATENATE(\"increase until \",'Technical SDG'!K34))))","v":""},{"$f":"IF('Technical SDG'!L34=\"\",\"\",IF($D35=\"\",\"please complete\",IF($D35>'Technical SDG'!L34-1,\":-)\",CONCATENATE(\"increase until \",'Technical SDG'!L34))))","v":""},{"$f":"IF('Technical SDG'!M34=\"\",\"\",IF($D35=\"\",\"please complete\",IF($D35>'Technical SDG'!M34-1,\":-)\",CONCATENATE(\"increase until \",'Technical SDG'!M34))))","v":""},{"$f":"IF('Technical SDG'!N34=\"\",\"\",IF($D35=\"\",\"please complete\",IF($D35>'Technical SDG'!N34-1,\":-)\",CONCATENATE(\"increase until \",'Technical SDG'!N34))))","v":""},{"$f":"IF('Technical SDG'!O34=\"\",\"\",IF($D35=\"\",\"please complete\",IF($D35>'Technical SDG'!O34-1,\":-)\",CONCATENATE(\"increase until \",'Technical SDG'!O34))))","v":""},{"$f":"IF('Technical SDG'!P34=\"\",\"\",IF($D35=\"\",\"please complete\",IF($D35>'Technical SDG'!P34-1,\":-)\",CONCATENATE(\"increase until \",'Technical SDG'!P34))))","v":""},{"$f":"IF('Technical SDG'!Q34=\"\",\"\",IF($D35=\"\",\"please complete\",IF($D35>'Technical SDG'!Q34-1,\":-)\",CONCATENATE(\"increase until \",'Technical SDG'!Q34))))","v":""},{"$f":"IF('Technical SDG'!R34=\"\",\"\",IF($D35=\"\",\"please complete\",IF($D35>'Technical SDG'!R34-1,\":-)\",CONCATENATE(\"increase until \",'Technical SDG'!R34))))","v":""},{"$f":"IF('Technical SDG'!S34=\"\",\"\",IF($D35=\"\",\"please complete\",IF($D35>'Technical SDG'!S34-1,\":-)\",CONCATENATE(\"increase until \",'Technical SDG'!S34))))","v":""},{"$f":"IF('Technical SDG'!T34=\"\",\"\",IF($D35=\"\",\"please complete\",IF($D35>'Technical SDG'!T34-1,\":-)\",CONCATENATE(\"increase until \",'Technical SDG'!T34))))","v":""}]
[null,{"$f":"'Technical SDG'!B35","v":"Q2.16"},{"$f":"VLOOKUP(B36,'Chapter 2'!$C$6:$D$278,2,0)","v":"Jak je navrhována a dokumnetována instalace nových zařízení?"},{"$f":"'Technical SDG'!C35","v":3},17,{"$f":"IF('Technical SDG'!D35=\"\",\"\",IF($D36=\"\",\"please complete\",IF($D36>'Technical SDG'!D35-1,\":-)\",CONCATENATE(\"increase until \",'Technical SDG'!D35))))","v":""},{"$f":"IF('Technical SDG'!E35=\"\",\"\",IF($D36=\"\",\"please complete\",IF($D36>'Technical SDG'!E35-1,\":-)\",CONCATENATE(\"increase until \",'Technical SDG'!E35))))","v":""},{"$f":"IF('Technical SDG'!F35=\"\",\"\",IF($D36=\"\",\"please complete\",IF($D36>'Technical SDG'!F35-1,\":-)\",CONCATENATE(\"increase until \",'Technical SDG'!F35))))","v":""},{"$f":"IF('Technical SDG'!G35=\"\",\"\",IF($D36=\"\",\"please complete\",IF($D36>'Technical SDG'!G35-1,\":-)\",CONCATENATE(\"increase until \",'Technical SDG'!G35))))","v":""},{"$f":"IF('Technical SDG'!H35=\"\",\"\",IF($D36=\"\",\"please complete\",IF($D36>'Technical SDG'!H35-1,\":-)\",CONCATENATE(\"increase until \",'Technical SDG'!H35))))","v":""},{"$f":"IF('Technical SDG'!I35=\"\",\"\",IF($D36=\"\",\"please complete\",IF($D36>'Technical SDG'!I35-1,\":-)\",CONCATENATE(\"increase until \",'Technical SDG'!I35))))","v":""},{"$f":"IF('Technical SDG'!J35=\"\",\"\",IF($D36=\"\",\"please complete\",IF($D36>'Technical SDG'!J35-1,\":-)\",CONCATENATE(\"increase until \",'Technical SDG'!J35))))","v":""},{"$f":"IF('Technical SDG'!K35=\"\",\"\",IF($D36=\"\",\"please complete\",IF($D36>'Technical SDG'!K35-1,\":-)\",CONCATENATE(\"increase until \",'Technical SDG'!K35))))","v":""},{"$f":"IF('Technical SDG'!L35=\"\",\"\",IF($D36=\"\",\"please complete\",IF($D36>'Technical SDG'!L35-1,\":-)\",CONCATENATE(\"increase until \",'Technical SDG'!L35))))","v":""},{"$f":"IF('Technical SDG'!M35=\"\",\"\",IF($D36=\"\",\"please complete\",IF($D36>'Technical SDG'!M35-1,\":-)\",CONCATENATE(\"increase until \",'Technical SDG'!M35))))","v":""},{"$f":"IF('Technical SDG'!N35=\"\",\"\",IF($D36=\"\",\"please complete\",IF($D36>'Technical SDG'!N35-1,\":-)\",CONCATENATE(\"increase until \",'Technical SDG'!N35))))","v":""},{"$f":"IF('Technical SDG'!O35=\"\",\"\",IF($D36=\"\",\"please complete\",IF($D36>'Technical SDG'!O35-1,\":-)\",CONCATENATE(\"increase until \",'Technical SDG'!O35))))","v":""},{"$f":"IF('Technical SDG'!P35=\"\",\"\",IF($D36=\"\",\"please complete\",IF($D36>'Technical SDG'!P35-1,\":-)\",CONCATENATE(\"increase until \",'Technical SDG'!P35))))","v":""},{"$f":"IF('Technical SDG'!Q35=\"\",\"\",IF($D36=\"\",\"please complete\",IF($D36>'Technical SDG'!Q35-1,\":-)\",CONCATENATE(\"increase until \",'Technical SDG'!Q35))))","v":""},{"$f":"IF('Technical SDG'!R35=\"\",\"\",IF($D36=\"\",\"please complete\",IF($D36>'Technical SDG'!R35-1,\":-)\",CONCATENATE(\"increase until \",'Technical SDG'!R35))))","v":""},{"$f":"IF('Technical SDG'!S35=\"\",\"\",IF($D36=\"\",\"please complete\",IF($D36>'Technical SDG'!S35-1,\":-)\",CONCATENATE(\"increase until \",'Technical SDG'!S35))))","v":""},{"$f":"IF('Technical SDG'!T35=\"\",\"\",IF($D36=\"\",\"please complete\",IF($D36>'Technical SDG'!T35-1,\":-)\",CONCATENATE(\"increase until \",'Technical SDG'!T35))))","v":""}]
[null,{"$f":"'Technical SDG'!B36","v":"Q2.17"},{"$f":"VLOOKUP(B37,'Chapter 2'!$C$6:$D$278,2,0)","v":"Jakým způsobem probíhá kontrola zřizování instalace?"},{"$f":"'Technical SDG'!C36","v":4},17,{"$f":"IF('Technical SDG'!D36=\"\",\"\",IF($D37=\"\",\"please complete\",IF($D37>'Technical SDG'!D36-1,\":-)\",CONCATENATE(\"increase until \",'Technical SDG'!D36))))","v":""},{"$f":"IF('Technical SDG'!E36=\"\",\"\",IF($D37=\"\",\"please complete\",IF($D37>'Technical SDG'!E36-1,\":-)\",CONCATENATE(\"increase until \",'Technical SDG'!E36))))","v":""},{"$f":"IF('Technical SDG'!F36=\"\",\"\",IF($D37=\"\",\"please complete\",IF($D37>'Technical SDG'!F36-1,\":-)\",CONCATENATE(\"increase until \",'Technical SDG'!F36))))","v":""},{"$f":"IF('Technical SDG'!G36=\"\",\"\",IF($D37=\"\",\"please complete\",IF($D37>'Technical SDG'!G36-1,\":-)\",CONCATENATE(\"increase until \",'Technical SDG'!G36))))","v":""},{"$f":"IF('Technical SDG'!H36=\"\",\"\",IF($D37=\"\",\"please complete\",IF($D37>'Technical SDG'!H36-1,\":-)\",CONCATENATE(\"increase until \",'Technical SDG'!H36))))","v":""},{"$f":"IF('Technical SDG'!I36=\"\",\"\",IF($D37=\"\",\"please complete\",IF($D37>'Technical SDG'!I36-1,\":-)\",CONCATENATE(\"increase until \",'Technical SDG'!I36))))","v":""},{"$f":"IF('Technical SDG'!J36=\"\",\"\",IF($D37=\"\",\"please complete\",IF($D37>'Technical SDG'!J36-1,\":-)\",CONCATENATE(\"increase until \",'Technical SDG'!J36))))","v":""},{"$f":"IF('Technical SDG'!K36=\"\",\"\",IF($D37=\"\",\"please complete\",IF($D37>'Technical SDG'!K36-1,\":-)\",CONCATENATE(\"increase until \",'Technical SDG'!K36))))","v":""},{"$f":"IF('Technical SDG'!L36=\"\",\"\",IF($D37=\"\",\"please complete\",IF($D37>'Technical SDG'!L36-1,\":-)\",CONCATENATE(\"increase until \",'Technical SDG'!L36))))","v":""},{"$f":"IF('Technical SDG'!M36=\"\",\"\",IF($D37=\"\",\"please complete\",IF($D37>'Technical SDG'!M36-1,\":-)\",CONCATENATE(\"increase until \",'Technical SDG'!M36))))","v":""},{"$f":"IF('Technical SDG'!N36=\"\",\"\",IF($D37=\"\",\"please complete\",IF($D37>'Technical SDG'!N36-1,\":-)\",CONCATENATE(\"increase until \",'Technical SDG'!N36))))","v":""},{"$f":"IF('Technical SDG'!O36=\"\",\"\",IF($D37=\"\",\"please complete\",IF($D37>'Technical SDG'!O36-1,\":-)\",CONCATENATE(\"increase until \",'Technical SDG'!O36))))","v":""},{"$f":"IF('Technical SDG'!P36=\"\",\"\",IF($D37=\"\",\"please complete\",IF($D37>'Technical SDG'!P36-1,\":-)\",CONCATENATE(\"increase until \",'Technical SDG'!P36))))","v":""},{"$f":"IF('Technical SDG'!Q36=\"\",\"\",IF($D37=\"\",\"please complete\",IF($D37>'Technical SDG'!Q36-1,\":-)\",CONCATENATE(\"increase until \",'Technical SDG'!Q36))))","v":""},{"$f":"IF('Technical SDG'!R36=\"\",\"\",IF($D37=\"\",\"please complete\",IF($D37>'Technical SDG'!R36-1,\":-)\",CONCATENATE(\"increase until \",'Technical SDG'!R36))))","v":""},{"$f":"IF('Technical SDG'!S36=\"\",\"\",IF($D37=\"\",\"please complete\",IF($D37>'Technical SDG'!S36-1,\":-)\",CONCATENATE(\"increase until \",'Technical SDG'!S36))))","v":""},{"$f":"IF('Technical SDG'!T36=\"\",\"\",IF($D37=\"\",\"please complete\",IF($D37>'Technical SDG'!T36-1,\":-)\",CONCATENATE(\"increase until \",'Technical SDG'!T36))))","v":""}]
[null,{"$f":"'Technical SDG'!B37","v":"Q2.18"},{"$f":"VLOOKUP(B38,'Chapter 2'!$C$6:$D$278,2,0)","v":"Jakým způsobem je zaručena ochrana zařízení, aby jediná chyba neměla katastrofické následky?"},{"$f":"'Technical SDG'!C37","v":3},17,{"$f":"IF('Technical SDG'!D37=\"\",\"\",IF($D38=\"\",\"please complete\",IF($D38>'Technical SDG'!D37-1,\":-)\",CONCATENATE(\"increase until \",'Technical SDG'!D37))))","v":""},{"$f":"IF('Technical SDG'!E37=\"\",\"\",IF($D38=\"\",\"please complete\",IF($D38>'Technical SDG'!E37-1,\":-)\",CONCATENATE(\"increase until \",'Technical SDG'!E37))))","v":""},{"$f":"IF('Technical SDG'!F37=\"\",\"\",IF($D38=\"\",\"please complete\",IF($D38>'Technical SDG'!F37-1,\":-)\",CONCATENATE(\"increase until \",'Technical SDG'!F37))))","v":""},{"$f":"IF('Technical SDG'!G37=\"\",\"\",IF($D38=\"\",\"please complete\",IF($D38>'Technical SDG'!G37-1,\":-)\",CONCATENATE(\"increase until \",'Technical SDG'!G37))))","v":""},{"$f":"IF('Technical SDG'!H37=\"\",\"\",IF($D38=\"\",\"please complete\",IF($D38>'Technical SDG'!H37-1,\":-)\",CONCATENATE(\"increase until \",'Technical SDG'!H37))))","v":""},{"$f":"IF('Technical SDG'!I37=\"\",\"\",IF($D38=\"\",\"please complete\",IF($D38>'Technical SDG'!I37-1,\":-)\",CONCATENATE(\"increase until \",'Technical SDG'!I37))))","v":""},{"$f":"IF('Technical SDG'!J37=\"\",\"\",IF($D38=\"\",\"please complete\",IF($D38>'Technical SDG'!J37-1,\":-)\",CONCATENATE(\"increase until \",'Technical SDG'!J37))))","v":""},{"$f":"IF('Technical SDG'!K37=\"\",\"\",IF($D38=\"\",\"please complete\",IF($D38>'Technical SDG'!K37-1,\":-)\",CONCATENATE(\"increase until \",'Technical SDG'!K37))))","v":""},{"$f":"IF('Technical SDG'!L37=\"\",\"\",IF($D38=\"\",\"please complete\",IF($D38>'Technical SDG'!L37-1,\":-)\",CONCATENATE(\"increase until \",'Technical SDG'!L37))))","v":""},{"$f":"IF('Technical SDG'!M37=\"\",\"\",IF($D38=\"\",\"please complete\",IF($D38>'Technical SDG'!M37-1,\":-)\",CONCATENATE(\"increase until \",'Technical SDG'!M37))))","v":""},{"$f":"IF('Technical SDG'!N37=\"\",\"\",IF($D38=\"\",\"please complete\",IF($D38>'Technical SDG'!N37-1,\":-)\",CONCATENATE(\"increase until \",'Technical SDG'!N37))))","v":""},{"$f":"IF('Technical SDG'!O37=\"\",\"\",IF($D38=\"\",\"please complete\",IF($D38>'Technical SDG'!O37-1,\":-)\",CONCATENATE(\"increase until \",'Technical SDG'!O37))))","v":""},{"$f":"IF('Technical SDG'!P37=\"\",\"\",IF($D38=\"\",\"please complete\",IF($D38>'Technical SDG'!P37-1,\":-)\",CONCATENATE(\"increase until \",'Technical SDG'!P37))))","v":""},{"$f":"IF('Technical SDG'!Q37=\"\",\"\",IF($D38=\"\",\"please complete\",IF($D38>'Technical SDG'!Q37-1,\":-)\",CONCATENATE(\"increase until \",'Technical SDG'!Q37))))","v":""},{"$f":"IF('Technical SDG'!R37=\"\",\"\",IF($D38=\"\",\"please complete\",IF($D38>'Technical SDG'!R37-1,\":-)\",CONCATENATE(\"increase until \",'Technical SDG'!R37))))","v":""},{"$f":"IF('Technical SDG'!S37=\"\",\"\",IF($D38=\"\",\"please complete\",IF($D38>'Technical SDG'!S37-1,\":-)\",CONCATENATE(\"increase until \",'Technical SDG'!S37))))","v":""},{"$f":"IF('Technical SDG'!T37=\"\",\"\",IF($D38=\"\",\"please complete\",IF($D38>'Technical SDG'!T37-1,\":-)\",CONCATENATE(\"increase until \",'Technical SDG'!T37))))","v":""}]
[null,{"$f":"'Technical SDG'!B38","v":"Q2.19"},{"$f":"VLOOKUP(B39,'Chapter 2'!$C$6:$D$278,2,0)","v":"Byly zřízeny programy preventivní údržby a péče, které zaručují bezpečnost provozů, nástrojů a zařízení?"},{"$f":"'Technical SDG'!C38","v":3},17,{"$f":"IF('Technical SDG'!D38=\"\",\"\",IF($D39=\"\",\"please complete\",IF($D39>'Technical SDG'!D38-1,\":-)\",CONCATENATE(\"increase until \",'Technical SDG'!D38))))","v":""},{"$f":"IF('Technical SDG'!E38=\"\",\"\",IF($D39=\"\",\"please complete\",IF($D39>'Technical SDG'!E38-1,\":-)\",CONCATENATE(\"increase until \",'Technical SDG'!E38))))","v":""},{"$f":"IF('Technical SDG'!F38=\"\",\"\",IF($D39=\"\",\"please complete\",IF($D39>'Technical SDG'!F38-1,\":-)\",CONCATENATE(\"increase until \",'Technical SDG'!F38))))","v":""},{"$f":"IF('Technical SDG'!G38=\"\",\"\",IF($D39=\"\",\"please complete\",IF($D39>'Technical SDG'!G38-1,\":-)\",CONCATENATE(\"increase until \",'Technical SDG'!G38))))","v":""},{"$f":"IF('Technical SDG'!H38=\"\",\"\",IF($D39=\"\",\"please complete\",IF($D39>'Technical SDG'!H38-1,\":-)\",CONCATENATE(\"increase until \",'Technical SDG'!H38))))","v":""},{"$f":"IF('Technical SDG'!I38=\"\",\"\",IF($D39=\"\",\"please complete\",IF($D39>'Technical SDG'!I38-1,\":-)\",CONCATENATE(\"increase until \",'Technical SDG'!I38))))","v":""},{"$f":"IF('Technical SDG'!J38=\"\",\"\",IF($D39=\"\",\"please complete\",IF($D39>'Technical SDG'!J38-1,\":-)\",CONCATENATE(\"increase until \",'Technical SDG'!J38))))","v":""},{"$f":"IF('Technical SDG'!K38=\"\",\"\",IF($D39=\"\",\"please complete\",IF($D39>'Technical SDG'!K38-1,\":-)\",CONCATENATE(\"increase until \",'Technical SDG'!K38))))","v":""},{"$f":"IF('Technical SDG'!L38=\"\",\"\",IF($D39=\"\",\"please complete\",IF($D39>'Technical SDG'!L38-1,\":-)\",CONCATENATE(\"increase until \",'Technical SDG'!L38))))","v":""},{"$f":"IF('Technical SDG'!M38=\"\",\"\",IF($D39=\"\",\"please complete\",IF($D39>'Technical SDG'!M38-1,\":-)\",CONCATENATE(\"increase until \",'Technical SDG'!M38))))","v":""},{"$f":"IF('Technical SDG'!N38=\"\",\"\",IF($D39=\"\",\"please complete\",IF($D39>'Technical SDG'!N38-1,\":-)\",CONCATENATE(\"increase until \",'Technical SDG'!N38))))","v":""},{"$f":"IF('Technical SDG'!O38=\"\",\"\",IF($D39=\"\",\"please complete\",IF($D39>'Technical SDG'!O38-1,\":-)\",CONCATENATE(\"increase until \",'Technical SDG'!O38))))","v":""},{"$f":"IF('Technical SDG'!P38=\"\",\"\",IF($D39=\"\",\"please complete\",IF($D39>'Technical SDG'!P38-1,\":-)\",CONCATENATE(\"increase until \",'Technical SDG'!P38))))","v":""},{"$f":"IF('Technical SDG'!Q38=\"\",\"\",IF($D39=\"\",\"please complete\",IF($D39>'Technical SDG'!Q38-1,\":-)\",CONCATENATE(\"increase until \",'Technical SDG'!Q38))))","v":""},{"$f":"IF('Technical SDG'!R38=\"\",\"\",IF($D39=\"\",\"please complete\",IF($D39>'Technical SDG'!R38-1,\":-)\",CONCATENATE(\"increase until \",'Technical SDG'!R38))))","v":""},{"$f":"IF('Technical SDG'!S38=\"\",\"\",IF($D39=\"\",\"please complete\",IF($D39>'Technical SDG'!S38-1,\":-)\",CONCATENATE(\"increase until \",'Technical SDG'!S38))))","v":""},{"$f":"IF('Technical SDG'!T38=\"\",\"\",IF($D39=\"\",\"please complete\",IF($D39>'Technical SDG'!T38-1,\":-)\",CONCATENATE(\"increase until \",'Technical SDG'!T38))))","v":""}]
[null,{"$f":"'Technical SDG'!B39","v":"Q2.20"},{"$f":"VLOOKUP(B40,'Chapter 2'!$C$6:$D$278,2,0)","v":"Jakým způsobem se řídí procesy během mimořádných událostí v případě přerušení dodávky energie nebo služeb?"},{"$f":"'Technical SDG'!C39","v":4},17,{"$f":"IF('Technical SDG'!D39=\"\",\"\",IF($D40=\"\",\"please complete\",IF($D40>'Technical SDG'!D39-1,\":-)\",CONCATENATE(\"increase until \",'Technical SDG'!D39))))","v":""},{"$f":"IF('Technical SDG'!E39=\"\",\"\",IF($D40=\"\",\"please complete\",IF($D40>'Technical SDG'!E39-1,\":-)\",CONCATENATE(\"increase until \",'Technical SDG'!E39))))","v":""},{"$f":"IF('Technical SDG'!F39=\"\",\"\",IF($D40=\"\",\"please complete\",IF($D40>'Technical SDG'!F39-1,\":-)\",CONCATENATE(\"increase until \",'Technical SDG'!F39))))","v":""},{"$f":"IF('Technical SDG'!G39=\"\",\"\",IF($D40=\"\",\"please complete\",IF($D40>'Technical SDG'!G39-1,\":-)\",CONCATENATE(\"increase until \",'Technical SDG'!G39))))","v":""},{"$f":"IF('Technical SDG'!H39=\"\",\"\",IF($D40=\"\",\"please complete\",IF($D40>'Technical SDG'!H39-1,\":-)\",CONCATENATE(\"increase until \",'Technical SDG'!H39))))","v":""},{"$f":"IF('Technical SDG'!I39=\"\",\"\",IF($D40=\"\",\"please complete\",IF($D40>'Technical SDG'!I39-1,\":-)\",CONCATENATE(\"increase until \",'Technical SDG'!I39))))","v":""},{"$f":"IF('Technical SDG'!J39=\"\",\"\",IF($D40=\"\",\"please complete\",IF($D40>'Technical SDG'!J39-1,\":-)\",CONCATENATE(\"increase until \",'Technical SDG'!J39))))","v":""},{"$f":"IF('Technical SDG'!K39=\"\",\"\",IF($D40=\"\",\"please complete\",IF($D40>'Technical SDG'!K39-1,\":-)\",CONCATENATE(\"increase until \",'Technical SDG'!K39))))","v":""},{"$f":"IF('Technical SDG'!L39=\"\",\"\",IF($D40=\"\",\"please complete\",IF($D40>'Technical SDG'!L39-1,\":-)\",CONCATENATE(\"increase until \",'Technical SDG'!L39))))","v":""},{"$f":"IF('Technical SDG'!M39=\"\",\"\",IF($D40=\"\",\"please complete\",IF($D40>'Technical SDG'!M39-1,\":-)\",CONCATENATE(\"increase until \",'Technical SDG'!M39))))","v":""},{"$f":"IF('Technical SDG'!N39=\"\",\"\",IF($D40=\"\",\"please complete\",IF($D40>'Technical SDG'!N39-1,\":-)\",CONCATENATE(\"increase until \",'Technical SDG'!N39))))","v":""},{"$f":"IF('Technical SDG'!O39=\"\",\"\",IF($D40=\"\",\"please complete\",IF($D40>'Technical SDG'!O39-1,\":-)\",CONCATENATE(\"increase until \",'Technical SDG'!O39))))","v":""},{"$f":"IF('Technical SDG'!P39=\"\",\"\",IF($D40=\"\",\"please complete\",IF($D40>'Technical SDG'!P39-1,\":-)\",CONCATENATE(\"increase until \",'Technical SDG'!P39))))","v":""},{"$f":"IF('Technical SDG'!Q39=\"\",\"\",IF($D40=\"\",\"please complete\",IF($D40>'Technical SDG'!Q39-1,\":-)\",CONCATENATE(\"increase until \",'Technical SDG'!Q39))))","v":""},{"$f":"IF('Technical SDG'!R39=\"\",\"\",IF($D40=\"\",\"please complete\",IF($D40>'Technical SDG'!R39-1,\":-)\",CONCATENATE(\"increase until \",'Technical SDG'!R39))))","v":""},{"$f":"IF('Technical SDG'!S39=\"\",\"\",IF($D40=\"\",\"please complete\",IF($D40>'Technical SDG'!S39-1,\":-)\",CONCATENATE(\"increase until \",'Technical SDG'!S39))))","v":""},{"$f":"IF('Technical SDG'!T39=\"\",\"\",IF($D40=\"\",\"please complete\",IF($D40>'Technical SDG'!T39-1,\":-)\",CONCATENATE(\"increase until \",'Technical SDG'!T39))))","v":""}]
[null,{"$f":"'Technical SDG'!B40","v":"Q2.21"},{"$f":"VLOOKUP(B41,'Chapter 2'!$C$6:$D$278,2,0)","v":"Jak se připravují havarijní plány?"},{"$f":"'Technical SDG'!C40","v":2},17,{"$f":"IF('Technical SDG'!D40=\"\",\"\",IF($D41=\"\",\"please complete\",IF($D41>'Technical SDG'!D40-1,\":-)\",CONCATENATE(\"increase until \",'Technical SDG'!D40))))","v":""},{"$f":"IF('Technical SDG'!E40=\"\",\"\",IF($D41=\"\",\"please complete\",IF($D41>'Technical SDG'!E40-1,\":-)\",CONCATENATE(\"increase until \",'Technical SDG'!E40))))","v":""},{"$f":"IF('Technical SDG'!F40=\"\",\"\",IF($D41=\"\",\"please complete\",IF($D41>'Technical SDG'!F40-1,\":-)\",CONCATENATE(\"increase until \",'Technical SDG'!F40))))","v":""},{"$f":"IF('Technical SDG'!G40=\"\",\"\",IF($D41=\"\",\"please complete\",IF($D41>'Technical SDG'!G40-1,\":-)\",CONCATENATE(\"increase until \",'Technical SDG'!G40))))","v":""},{"$f":"IF('Technical SDG'!H40=\"\",\"\",IF($D41=\"\",\"please complete\",IF($D41>'Technical SDG'!H40-1,\":-)\",CONCATENATE(\"increase until \",'Technical SDG'!H40))))","v":""},{"$f":"IF('Technical SDG'!I40=\"\",\"\",IF($D41=\"\",\"please complete\",IF($D41>'Technical SDG'!I40-1,\":-)\",CONCATENATE(\"increase until \",'Technical SDG'!I40))))","v":""},{"$f":"IF('Technical SDG'!J40=\"\",\"\",IF($D41=\"\",\"please complete\",IF($D41>'Technical SDG'!J40-1,\":-)\",CONCATENATE(\"increase until \",'Technical SDG'!J40))))","v":""},{"$f":"IF('Technical SDG'!K40=\"\",\"\",IF($D41=\"\",\"please complete\",IF($D41>'Technical SDG'!K40-1,\":-)\",CONCATENATE(\"increase until \",'Technical SDG'!K40))))","v":""},{"$f":"IF('Technical SDG'!L40=\"\",\"\",IF($D41=\"\",\"please complete\",IF($D41>'Technical SDG'!L40-1,\":-)\",CONCATENATE(\"increase until \",'Technical SDG'!L40))))","v":""},{"$f":"IF('Technical SDG'!M40=\"\",\"\",IF($D41=\"\",\"please complete\",IF($D41>'Technical SDG'!M40-1,\":-)\",CONCATENATE(\"increase until \",'Technical SDG'!M40))))","v":""},{"$f":"IF('Technical SDG'!N40=\"\",\"\",IF($D41=\"\",\"please complete\",IF($D41>'Technical SDG'!N40-1,\":-)\",CONCATENATE(\"increase until \",'Technical SDG'!N40))))","v":""},{"$f":"IF('Technical SDG'!O40=\"\",\"\",IF($D41=\"\",\"please complete\",IF($D41>'Technical SDG'!O40-1,\":-)\",CONCATENATE(\"increase until \",'Technical SDG'!O40))))","v":""},{"$f":"IF('Technical SDG'!P40=\"\",\"\",IF($D41=\"\",\"please complete\",IF($D41>'Technical SDG'!P40-1,\":-)\",CONCATENATE(\"increase until \",'Technical SDG'!P40))))","v":""},{"$f":"IF('Technical SDG'!Q40=\"\",\"\",IF($D41=\"\",\"please complete\",IF($D41>'Technical SDG'!Q40-1,\":-)\",CONCATENATE(\"increase until \",'Technical SDG'!Q40))))","v":""},{"$f":"IF('Technical SDG'!R40=\"\",\"\",IF($D41=\"\",\"please complete\",IF($D41>'Technical SDG'!R40-1,\":-)\",CONCATENATE(\"increase until \",'Technical SDG'!R40))))","v":""},{"$f":"IF('Technical SDG'!S40=\"\",\"\",IF($D41=\"\",\"please complete\",IF($D41>'Technical SDG'!S40-1,\":-)\",CONCATENATE(\"increase until \",'Technical SDG'!S40))))","v":""},{"$f":"IF('Technical SDG'!T40=\"\",\"\",IF($D41=\"\",\"please complete\",IF($D41>'Technical SDG'!T40-1,\":-)\",CONCATENATE(\"increase until \",'Technical SDG'!T40))))","v":""}]
[null,{"$f":"'Technical SDG'!B41","v":"Q2.22"},{"$f":"VLOOKUP(B42,'Chapter 2'!$C$6:$D$278,2,0)","v":"Jakým způsobem jsou zabezpečeny kompetence a školení zaměstnanců a dodavatelů zapojených do procesů?"},{"$f":"'Technical SDG'!C41","v":2},17,{"$f":"IF('Technical SDG'!D41=\"\",\"\",IF($D42=\"\",\"please complete\",IF($D42>'Technical SDG'!D41-1,\":-)\",CONCATENATE(\"increase until \",'Technical SDG'!D41))))","v":""},{"$f":"IF('Technical SDG'!E41=\"\",\"\",IF($D42=\"\",\"please complete\",IF($D42>'Technical SDG'!E41-1,\":-)\",CONCATENATE(\"increase until \",'Technical SDG'!E41))))","v":""},{"$f":"IF('Technical SDG'!F41=\"\",\"\",IF($D42=\"\",\"please complete\",IF($D42>'Technical SDG'!F41-1,\":-)\",CONCATENATE(\"increase until \",'Technical SDG'!F41))))","v":""},{"$f":"IF('Technical SDG'!G41=\"\",\"\",IF($D42=\"\",\"please complete\",IF($D42>'Technical SDG'!G41-1,\":-)\",CONCATENATE(\"increase until \",'Technical SDG'!G41))))","v":""},{"$f":"IF('Technical SDG'!H41=\"\",\"\",IF($D42=\"\",\"please complete\",IF($D42>'Technical SDG'!H41-1,\":-)\",CONCATENATE(\"increase until \",'Technical SDG'!H41))))","v":""},{"$f":"IF('Technical SDG'!I41=\"\",\"\",IF($D42=\"\",\"please complete\",IF($D42>'Technical SDG'!I41-1,\":-)\",CONCATENATE(\"increase until \",'Technical SDG'!I41))))","v":""},{"$f":"IF('Technical SDG'!J41=\"\",\"\",IF($D42=\"\",\"please complete\",IF($D42>'Technical SDG'!J41-1,\":-)\",CONCATENATE(\"increase until \",'Technical SDG'!J41))))","v":""},{"$f":"IF('Technical SDG'!K41=\"\",\"\",IF($D42=\"\",\"please complete\",IF($D42>'Technical SDG'!K41-1,\":-)\",CONCATENATE(\"increase until \",'Technical SDG'!K41))))","v":""},{"$f":"IF('Technical SDG'!L41=\"\",\"\",IF($D42=\"\",\"please complete\",IF($D42>'Technical SDG'!L41-1,\":-)\",CONCATENATE(\"increase until \",'Technical SDG'!L41))))","v":""},{"$f":"IF('Technical SDG'!M41=\"\",\"\",IF($D42=\"\",\"please complete\",IF($D42>'Technical SDG'!M41-1,\":-)\",CONCATENATE(\"increase until \",'Technical SDG'!M41))))","v":""},{"$f":"IF('Technical SDG'!N41=\"\",\"\",IF($D42=\"\",\"please complete\",IF($D42>'Technical SDG'!N41-1,\":-)\",CONCATENATE(\"increase until \",'Technical SDG'!N41))))","v":""},{"$f":"IF('Technical SDG'!O41=\"\",\"\",IF($D42=\"\",\"please complete\",IF($D42>'Technical SDG'!O41-1,\":-)\",CONCATENATE(\"increase until \",'Technical SDG'!O41))))","v":""},{"$f":"IF('Technical SDG'!P41=\"\",\"\",IF($D42=\"\",\"please complete\",IF($D42>'Technical SDG'!P41-1,\":-)\",CONCATENATE(\"increase until \",'Technical SDG'!P41))))","v":""},{"$f":"IF('Technical SDG'!Q41=\"\",\"\",IF($D42=\"\",\"please complete\",IF($D42>'Technical SDG'!Q41-1,\":-)\",CONCATENATE(\"increase until \",'Technical SDG'!Q41))))","v":""},{"$f":"IF('Technical SDG'!R41=\"\",\"\",IF($D42=\"\",\"please complete\",IF($D42>'Technical SDG'!R41-1,\":-)\",CONCATENATE(\"increase until \",'Technical SDG'!R41))))","v":""},{"$f":"IF('Technical SDG'!S41=\"\",\"\",IF($D42=\"\",\"please complete\",IF($D42>'Technical SDG'!S41-1,\":-)\",CONCATENATE(\"increase until \",'Technical SDG'!S41))))","v":""},{"$f":"IF('Technical SDG'!T41=\"\",\"\",IF($D42=\"\",\"please complete\",IF($D42>'Technical SDG'!T41-1,\":-)\",CONCATENATE(\"increase until \",'Technical SDG'!T41))))","v":""}]
[null,{"$f":"'Technical SDG'!B42","v":"Q2.23"},{"$f":"VLOOKUP(B43,'Chapter 2'!$C$6:$D$278,2,0)","v":"Jakým způsobem se sdílejí informace o rizicích látek a přípravků?"},{"$f":"'Technical SDG'!C42","v":4},17,{"$f":"IF('Technical SDG'!D42=\"\",\"\",IF($D43=\"\",\"please complete\",IF($D43>'Technical SDG'!D42-1,\":-)\",CONCATENATE(\"increase until \",'Technical SDG'!D42))))","v":""},{"$f":"IF('Technical SDG'!E42=\"\",\"\",IF($D43=\"\",\"please complete\",IF($D43>'Technical SDG'!E42-1,\":-)\",CONCATENATE(\"increase until \",'Technical SDG'!E42))))","v":""},{"$f":"IF('Technical SDG'!F42=\"\",\"\",IF($D43=\"\",\"please complete\",IF($D43>'Technical SDG'!F42-1,\":-)\",CONCATENATE(\"increase until \",'Technical SDG'!F42))))","v":""},{"$f":"IF('Technical SDG'!G42=\"\",\"\",IF($D43=\"\",\"please complete\",IF($D43>'Technical SDG'!G42-1,\":-)\",CONCATENATE(\"increase until \",'Technical SDG'!G42))))","v":""},{"$f":"IF('Technical SDG'!H42=\"\",\"\",IF($D43=\"\",\"please complete\",IF($D43>'Technical SDG'!H42-1,\":-)\",CONCATENATE(\"increase until \",'Technical SDG'!H42))))","v":""},{"$f":"IF('Technical SDG'!I42=\"\",\"\",IF($D43=\"\",\"please complete\",IF($D43>'Technical SDG'!I42-1,\":-)\",CONCATENATE(\"increase until \",'Technical SDG'!I42))))","v":""},{"$f":"IF('Technical SDG'!J42=\"\",\"\",IF($D43=\"\",\"please complete\",IF($D43>'Technical SDG'!J42-1,\":-)\",CONCATENATE(\"increase until \",'Technical SDG'!J42))))","v":""},{"$f":"IF('Technical SDG'!K42=\"\",\"\",IF($D43=\"\",\"please complete\",IF($D43>'Technical SDG'!K42-1,\":-)\",CONCATENATE(\"increase until \",'Technical SDG'!K42))))","v":""},{"$f":"IF('Technical SDG'!L42=\"\",\"\",IF($D43=\"\",\"please complete\",IF($D43>'Technical SDG'!L42-1,\":-)\",CONCATENATE(\"increase until \",'Technical SDG'!L42))))","v":""},{"$f":"IF('Technical SDG'!M42=\"\",\"\",IF($D43=\"\",\"please complete\",IF($D43>'Technical SDG'!M42-1,\":-)\",CONCATENATE(\"increase until \",'Technical SDG'!M42))))","v":""},{"$f":"IF('Technical SDG'!N42=\"\",\"\",IF($D43=\"\",\"please complete\",IF($D43>'Technical SDG'!N42-1,\":-)\",CONCATENATE(\"increase until \",'Technical SDG'!N42))))","v":""},{"$f":"IF('Technical SDG'!O42=\"\",\"\",IF($D43=\"\",\"please complete\",IF($D43>'Technical SDG'!O42-1,\":-)\",CONCATENATE(\"increase until \",'Technical SDG'!O42))))","v":""},{"$f":"IF('Technical SDG'!P42=\"\",\"\",IF($D43=\"\",\"please complete\",IF($D43>'Technical SDG'!P42-1,\":-)\",CONCATENATE(\"increase until \",'Technical SDG'!P42))))","v":""},{"$f":"IF('Technical SDG'!Q42=\"\",\"\",IF($D43=\"\",\"please complete\",IF($D43>'Technical SDG'!Q42-1,\":-)\",CONCATENATE(\"increase until \",'Technical SDG'!Q42))))","v":""},{"$f":"IF('Technical SDG'!R42=\"\",\"\",IF($D43=\"\",\"please complete\",IF($D43>'Technical SDG'!R42-1,\":-)\",CONCATENATE(\"increase until \",'Technical SDG'!R42))))","v":""},{"$f":"IF('Technical SDG'!S42=\"\",\"\",IF($D43=\"\",\"please complete\",IF($D43>'Technical SDG'!S42-1,\":-)\",CONCATENATE(\"increase until \",'Technical SDG'!S42))))","v":""},{"$f":"IF('Technical SDG'!T42=\"\",\"\",IF($D43=\"\",\"please complete\",IF($D43>'Technical SDG'!T42-1,\":-)\",CONCATENATE(\"increase until \",'Technical SDG'!T42))))","v":""}]
[null,{"$f":"'Technical SDG'!B43","v":"Q2.24"},{"$f":"VLOOKUP(B44,'Chapter 2'!$C$6:$D$278,2,0)","v":"Jak se sdílejí informace o procesu?"},{"$f":"'Technical SDG'!C43","v":4},17,{"$f":"IF('Technical SDG'!D43=\"\",\"\",IF($D44=\"\",\"please complete\",IF($D44>'Technical SDG'!D43-1,\":-)\",CONCATENATE(\"increase until \",'Technical SDG'!D43))))","v":""},{"$f":"IF('Technical SDG'!E43=\"\",\"\",IF($D44=\"\",\"please complete\",IF($D44>'Technical SDG'!E43-1,\":-)\",CONCATENATE(\"increase until \",'Technical SDG'!E43))))","v":""},{"$f":"IF('Technical SDG'!F43=\"\",\"\",IF($D44=\"\",\"please complete\",IF($D44>'Technical SDG'!F43-1,\":-)\",CONCATENATE(\"increase until \",'Technical SDG'!F43))))","v":""},{"$f":"IF('Technical SDG'!G43=\"\",\"\",IF($D44=\"\",\"please complete\",IF($D44>'Technical SDG'!G43-1,\":-)\",CONCATENATE(\"increase until \",'Technical SDG'!G43))))","v":""},{"$f":"IF('Technical SDG'!H43=\"\",\"\",IF($D44=\"\",\"please complete\",IF($D44>'Technical SDG'!H43-1,\":-)\",CONCATENATE(\"increase until \",'Technical SDG'!H43))))","v":""},{"$f":"IF('Technical SDG'!I43=\"\",\"\",IF($D44=\"\",\"please complete\",IF($D44>'Technical SDG'!I43-1,\":-)\",CONCATENATE(\"increase until \",'Technical SDG'!I43))))","v":""},{"$f":"IF('Technical SDG'!J43=\"\",\"\",IF($D44=\"\",\"please complete\",IF($D44>'Technical SDG'!J43-1,\":-)\",CONCATENATE(\"increase until \",'Technical SDG'!J43))))","v":""},{"$f":"IF('Technical SDG'!K43=\"\",\"\",IF($D44=\"\",\"please complete\",IF($D44>'Technical SDG'!K43-1,\":-)\",CONCATENATE(\"increase until \",'Technical SDG'!K43))))","v":""},{"$f":"IF('Technical SDG'!L43=\"\",\"\",IF($D44=\"\",\"please complete\",IF($D44>'Technical SDG'!L43-1,\":-)\",CONCATENATE(\"increase until \",'Technical SDG'!L43))))","v":""},{"$f":"IF('Technical SDG'!M43=\"\",\"\",IF($D44=\"\",\"please complete\",IF($D44>'Technical SDG'!M43-1,\":-)\",CONCATENATE(\"increase until \",'Technical SDG'!M43))))","v":""},{"$f":"IF('Technical SDG'!N43=\"\",\"\",IF($D44=\"\",\"please complete\",IF($D44>'Technical SDG'!N43-1,\":-)\",CONCATENATE(\"increase until \",'Technical SDG'!N43))))","v":""},{"$f":"IF('Technical SDG'!O43=\"\",\"\",IF($D44=\"\",\"please complete\",IF($D44>'Technical SDG'!O43-1,\":-)\",CONCATENATE(\"increase until \",'Technical SDG'!O43))))","v":""},{"$f":"IF('Technical SDG'!P43=\"\",\"\",IF($D44=\"\",\"please complete\",IF($D44>'Technical SDG'!P43-1,\":-)\",CONCATENATE(\"increase until \",'Technical SDG'!P43))))","v":""},{"$f":"IF('Technical SDG'!Q43=\"\",\"\",IF($D44=\"\",\"please complete\",IF($D44>'Technical SDG'!Q43-1,\":-)\",CONCATENATE(\"increase until \",'Technical SDG'!Q43))))","v":""},{"$f":"IF('Technical SDG'!R43=\"\",\"\",IF($D44=\"\",\"please complete\",IF($D44>'Technical SDG'!R43-1,\":-)\",CONCATENATE(\"increase until \",'Technical SDG'!R43))))","v":""},{"$f":"IF('Technical SDG'!S43=\"\",\"\",IF($D44=\"\",\"please complete\",IF($D44>'Technical SDG'!S43-1,\":-)\",CONCATENATE(\"increase until \",'Technical SDG'!S43))))","v":""},{"$f":"IF('Technical SDG'!T43=\"\",\"\",IF($D44=\"\",\"please complete\",IF($D44>'Technical SDG'!T43-1,\":-)\",CONCATENATE(\"increase until \",'Technical SDG'!T43))))","v":""}]
[null,{"$f":"'Technical SDG'!B44","v":"Q2.25"},{"$f":"VLOOKUP(B45,'Chapter 2'!$C$6:$D$278,2,0)","v":"Jakým způsobem organizace hodnotí své logistické partnery z hlediska HSE&S, energetické účinnosti a emisí skleníkových plynů?"},{"$f":"'Technical SDG'!C44","v":3},17,{"$f":"IF('Technical SDG'!D44=\"\",\"\",IF($D45=\"\",\"please complete\",IF($D45>'Technical SDG'!D44-1,\":-)\",CONCATENATE(\"increase until \",'Technical SDG'!D44))))","v":""},{"$f":"IF('Technical SDG'!E44=\"\",\"\",IF($D45=\"\",\"please complete\",IF($D45>'Technical SDG'!E44-1,\":-)\",CONCATENATE(\"increase until \",'Technical SDG'!E44))))","v":""},{"$f":"IF('Technical SDG'!F44=\"\",\"\",IF($D45=\"\",\"please complete\",IF($D45>'Technical SDG'!F44-1,\":-)\",CONCATENATE(\"increase until \",'Technical SDG'!F44))))","v":""},{"$f":"IF('Technical SDG'!G44=\"\",\"\",IF($D45=\"\",\"please complete\",IF($D45>'Technical SDG'!G44-1,\":-)\",CONCATENATE(\"increase until \",'Technical SDG'!G44))))","v":""},{"$f":"IF('Technical SDG'!H44=\"\",\"\",IF($D45=\"\",\"please complete\",IF($D45>'Technical SDG'!H44-1,\":-)\",CONCATENATE(\"increase until \",'Technical SDG'!H44))))","v":""},{"$f":"IF('Technical SDG'!I44=\"\",\"\",IF($D45=\"\",\"please complete\",IF($D45>'Technical SDG'!I44-1,\":-)\",CONCATENATE(\"increase until \",'Technical SDG'!I44))))","v":""},{"$f":"IF('Technical SDG'!J44=\"\",\"\",IF($D45=\"\",\"please complete\",IF($D45>'Technical SDG'!J44-1,\":-)\",CONCATENATE(\"increase until \",'Technical SDG'!J44))))","v":""},{"$f":"IF('Technical SDG'!K44=\"\",\"\",IF($D45=\"\",\"please complete\",IF($D45>'Technical SDG'!K44-1,\":-)\",CONCATENATE(\"increase until \",'Technical SDG'!K44))))","v":""},{"$f":"IF('Technical SDG'!L44=\"\",\"\",IF($D45=\"\",\"please complete\",IF($D45>'Technical SDG'!L44-1,\":-)\",CONCATENATE(\"increase until \",'Technical SDG'!L44))))","v":""},{"$f":"IF('Technical SDG'!M44=\"\",\"\",IF($D45=\"\",\"please complete\",IF($D45>'Technical SDG'!M44-1,\":-)\",CONCATENATE(\"increase until \",'Technical SDG'!M44))))","v":""},{"$f":"IF('Technical SDG'!N44=\"\",\"\",IF($D45=\"\",\"please complete\",IF($D45>'Technical SDG'!N44-1,\":-)\",CONCATENATE(\"increase until \",'Technical SDG'!N44))))","v":""},{"$f":"IF('Technical SDG'!O44=\"\",\"\",IF($D45=\"\",\"please complete\",IF($D45>'Technical SDG'!O44-1,\":-)\",CONCATENATE(\"increase until \",'Technical SDG'!O44))))","v":""},{"$f":"IF('Technical SDG'!P44=\"\",\"\",IF($D45=\"\",\"please complete\",IF($D45>'Technical SDG'!P44-1,\":-)\",CONCATENATE(\"increase until \",'Technical SDG'!P44))))","v":""},{"$f":"IF('Technical SDG'!Q44=\"\",\"\",IF($D45=\"\",\"please complete\",IF($D45>'Technical SDG'!Q44-1,\":-)\",CONCATENATE(\"increase until \",'Technical SDG'!Q44))))","v":""},{"$f":"IF('Technical SDG'!R44=\"\",\"\",IF($D45=\"\",\"please complete\",IF($D45>'Technical SDG'!R44-1,\":-)\",CONCATENATE(\"increase until \",'Technical SDG'!R44))))","v":""},{"$f":"IF('Technical SDG'!S44=\"\",\"\",IF($D45=\"\",\"please complete\",IF($D45>'Technical SDG'!S44-1,\":-)\",CONCATENATE(\"increase until \",'Technical SDG'!S44))))","v":""},{"$f":"IF('Technical SDG'!T44=\"\",\"\",IF($D45=\"\",\"please complete\",IF($D45>'Technical SDG'!T44-1,\":-)\",CONCATENATE(\"increase until \",'Technical SDG'!T44))))","v":""}]
[null,{"$f":"'Technical SDG'!B45","v":"Q2.26"},{"$f":"VLOOKUP(B46,'Chapter 2'!$C$6:$D$278,2,0)","v":"Jakým způsobem organizace zabraňuje a reaguje na dopravní nehody?"},{"$f":"'Technical SDG'!C45","v":3},17,{"$f":"IF('Technical SDG'!D45=\"\",\"\",IF($D46=\"\",\"please complete\",IF($D46>'Technical SDG'!D45-1,\":-)\",CONCATENATE(\"increase until \",'Technical SDG'!D45))))","v":""},{"$f":"IF('Technical SDG'!E45=\"\",\"\",IF($D46=\"\",\"please complete\",IF($D46>'Technical SDG'!E45-1,\":-)\",CONCATENATE(\"increase until \",'Technical SDG'!E45))))","v":""},{"$f":"IF('Technical SDG'!F45=\"\",\"\",IF($D46=\"\",\"please complete\",IF($D46>'Technical SDG'!F45-1,\":-)\",CONCATENATE(\"increase until \",'Technical SDG'!F45))))","v":""},{"$f":"IF('Technical SDG'!G45=\"\",\"\",IF($D46=\"\",\"please complete\",IF($D46>'Technical SDG'!G45-1,\":-)\",CONCATENATE(\"increase until \",'Technical SDG'!G45))))","v":""},{"$f":"IF('Technical SDG'!H45=\"\",\"\",IF($D46=\"\",\"please complete\",IF($D46>'Technical SDG'!H45-1,\":-)\",CONCATENATE(\"increase until \",'Technical SDG'!H45))))","v":""},{"$f":"IF('Technical SDG'!I45=\"\",\"\",IF($D46=\"\",\"please complete\",IF($D46>'Technical SDG'!I45-1,\":-)\",CONCATENATE(\"increase until \",'Technical SDG'!I45))))","v":""},{"$f":"IF('Technical SDG'!J45=\"\",\"\",IF($D46=\"\",\"please complete\",IF($D46>'Technical SDG'!J45-1,\":-)\",CONCATENATE(\"increase until \",'Technical SDG'!J45))))","v":""},{"$f":"IF('Technical SDG'!K45=\"\",\"\",IF($D46=\"\",\"please complete\",IF($D46>'Technical SDG'!K45-1,\":-)\",CONCATENATE(\"increase until \",'Technical SDG'!K45))))","v":""},{"$f":"IF('Technical SDG'!L45=\"\",\"\",IF($D46=\"\",\"please complete\",IF($D46>'Technical SDG'!L45-1,\":-)\",CONCATENATE(\"increase until \",'Technical SDG'!L45))))","v":""},{"$f":"IF('Technical SDG'!M45=\"\",\"\",IF($D46=\"\",\"please complete\",IF($D46>'Technical SDG'!M45-1,\":-)\",CONCATENATE(\"increase until \",'Technical SDG'!M45))))","v":""},{"$f":"IF('Technical SDG'!N45=\"\",\"\",IF($D46=\"\",\"please complete\",IF($D46>'Technical SDG'!N45-1,\":-)\",CONCATENATE(\"increase until \",'Technical SDG'!N45))))","v":""},{"$f":"IF('Technical SDG'!O45=\"\",\"\",IF($D46=\"\",\"please complete\",IF($D46>'Technical SDG'!O45-1,\":-)\",CONCATENATE(\"increase until \",'Technical SDG'!O45))))","v":""},{"$f":"IF('Technical SDG'!P45=\"\",\"\",IF($D46=\"\",\"please complete\",IF($D46>'Technical SDG'!P45-1,\":-)\",CONCATENATE(\"increase until \",'Technical SDG'!P45))))","v":""},{"$f":"IF('Technical SDG'!Q45=\"\",\"\",IF($D46=\"\",\"please complete\",IF($D46>'Technical SDG'!Q45-1,\":-)\",CONCATENATE(\"increase until \",'Technical SDG'!Q45))))","v":""},{"$f":"IF('Technical SDG'!R45=\"\",\"\",IF($D46=\"\",\"please complete\",IF($D46>'Technical SDG'!R45-1,\":-)\",CONCATENATE(\"increase until \",'Technical SDG'!R45))))","v":""},{"$f":"IF('Technical SDG'!S45=\"\",\"\",IF($D46=\"\",\"please complete\",IF($D46>'Technical SDG'!S45-1,\":-)\",CONCATENATE(\"increase until \",'Technical SDG'!S45))))","v":""},{"$f":"IF('Technical SDG'!T45=\"\",\"\",IF($D46=\"\",\"please complete\",IF($D46>'Technical SDG'!T45-1,\":-)\",CONCATENATE(\"increase until \",'Technical SDG'!T45))))","v":""}]
[null,{"$f":"'Technical SDG'!B46","v":"Q2.27"},{"$f":"VLOOKUP(B47,'Chapter 2'!$C$6:$D$278,2,0)","v":"Jakým způsobem organizace identifikuje bezpečnostní problémy?"},{"$f":"'Technical SDG'!C46","v":2},17,{"$f":"IF('Technical SDG'!D46=\"\",\"\",IF($D47=\"\",\"please complete\",IF($D47>'Technical SDG'!D46-1,\":-)\",CONCATENATE(\"increase until \",'Technical SDG'!D46))))","v":""},{"$f":"IF('Technical SDG'!E46=\"\",\"\",IF($D47=\"\",\"please complete\",IF($D47>'Technical SDG'!E46-1,\":-)\",CONCATENATE(\"increase until \",'Technical SDG'!E46))))","v":""},{"$f":"IF('Technical SDG'!F46=\"\",\"\",IF($D47=\"\",\"please complete\",IF($D47>'Technical SDG'!F46-1,\":-)\",CONCATENATE(\"increase until \",'Technical SDG'!F46))))","v":""},{"$f":"IF('Technical SDG'!G46=\"\",\"\",IF($D47=\"\",\"please complete\",IF($D47>'Technical SDG'!G46-1,\":-)\",CONCATENATE(\"increase until \",'Technical SDG'!G46))))","v":""},{"$f":"IF('Technical SDG'!H46=\"\",\"\",IF($D47=\"\",\"please complete\",IF($D47>'Technical SDG'!H46-1,\":-)\",CONCATENATE(\"increase until \",'Technical SDG'!H46))))","v":""},{"$f":"IF('Technical SDG'!I46=\"\",\"\",IF($D47=\"\",\"please complete\",IF($D47>'Technical SDG'!I46-1,\":-)\",CONCATENATE(\"increase until \",'Technical SDG'!I46))))","v":""},{"$f":"IF('Technical SDG'!J46=\"\",\"\",IF($D47=\"\",\"please complete\",IF($D47>'Technical SDG'!J46-1,\":-)\",CONCATENATE(\"increase until \",'Technical SDG'!J46))))","v":""},{"$f":"IF('Technical SDG'!K46=\"\",\"\",IF($D47=\"\",\"please complete\",IF($D47>'Technical SDG'!K46-1,\":-)\",CONCATENATE(\"increase until \",'Technical SDG'!K46))))","v":""},{"$f":"IF('Technical SDG'!L46=\"\",\"\",IF($D47=\"\",\"please complete\",IF($D47>'Technical SDG'!L46-1,\":-)\",CONCATENATE(\"increase until \",'Technical SDG'!L46))))","v":""},{"$f":"IF('Technical SDG'!M46=\"\",\"\",IF($D47=\"\",\"please complete\",IF($D47>'Technical SDG'!M46-1,\":-)\",CONCATENATE(\"increase until \",'Technical SDG'!M46))))","v":""},{"$f":"IF('Technical SDG'!N46=\"\",\"\",IF($D47=\"\",\"please complete\",IF($D47>'Technical SDG'!N46-1,\":-)\",CONCATENATE(\"increase until \",'Technical SDG'!N46))))","v":""},{"$f":"IF('Technical SDG'!O46=\"\",\"\",IF($D47=\"\",\"please complete\",IF($D47>'Technical SDG'!O46-1,\":-)\",CONCATENATE(\"increase until \",'Technical SDG'!O46))))","v":""},{"$f":"IF('Technical SDG'!P46=\"\",\"\",IF($D47=\"\",\"please complete\",IF($D47>'Technical SDG'!P46-1,\":-)\",CONCATENATE(\"increase until \",'Technical SDG'!P46))))","v":""},{"$f":"IF('Technical SDG'!Q46=\"\",\"\",IF($D47=\"\",\"please complete\",IF($D47>'Technical SDG'!Q46-1,\":-)\",CONCATENATE(\"increase until \",'Technical SDG'!Q46))))","v":""},{"$f":"IF('Technical SDG'!R46=\"\",\"\",IF($D47=\"\",\"please complete\",IF($D47>'Technical SDG'!R46-1,\":-)\",CONCATENATE(\"increase until \",'Technical SDG'!R46))))","v":""},{"$f":"IF('Technical SDG'!S46=\"\",\"\",IF($D47=\"\",\"please complete\",IF($D47>'Technical SDG'!S46-1,\":-)\",CONCATENATE(\"increase until \",'Technical SDG'!S46))))","v":""},{"$f":"IF('Technical SDG'!T46=\"\",\"\",IF($D47=\"\",\"please complete\",IF($D47>'Technical SDG'!T46-1,\":-)\",CONCATENATE(\"increase until \",'Technical SDG'!T46))))","v":""}]
[null,{"$f":"'Technical SDG'!B47","v":"Q2.28"},{"$f":"VLOOKUP(B48,'Chapter 2'!$C$6:$D$278,2,0)","v":"Jakým způsobem se kontroluje příchod a odchod pracovníků a materiálu na pracovišti a v oblastech s omezeným vstupem?"},{"$f":"'Technical SDG'!C47","v":3},17,{"$f":"IF('Technical SDG'!D47=\"\",\"\",IF($D48=\"\",\"please complete\",IF($D48>'Technical SDG'!D47-1,\":-)\",CONCATENATE(\"increase until \",'Technical SDG'!D47))))","v":""},{"$f":"IF('Technical SDG'!E47=\"\",\"\",IF($D48=\"\",\"please complete\",IF($D48>'Technical SDG'!E47-1,\":-)\",CONCATENATE(\"increase until \",'Technical SDG'!E47))))","v":""},{"$f":"IF('Technical SDG'!F47=\"\",\"\",IF($D48=\"\",\"please complete\",IF($D48>'Technical SDG'!F47-1,\":-)\",CONCATENATE(\"increase until \",'Technical SDG'!F47))))","v":""},{"$f":"IF('Technical SDG'!G47=\"\",\"\",IF($D48=\"\",\"please complete\",IF($D48>'Technical SDG'!G47-1,\":-)\",CONCATENATE(\"increase until \",'Technical SDG'!G47))))","v":""},{"$f":"IF('Technical SDG'!H47=\"\",\"\",IF($D48=\"\",\"please complete\",IF($D48>'Technical SDG'!H47-1,\":-)\",CONCATENATE(\"increase until \",'Technical SDG'!H47))))","v":""},{"$f":"IF('Technical SDG'!I47=\"\",\"\",IF($D48=\"\",\"please complete\",IF($D48>'Technical SDG'!I47-1,\":-)\",CONCATENATE(\"increase until \",'Technical SDG'!I47))))","v":""},{"$f":"IF('Technical SDG'!J47=\"\",\"\",IF($D48=\"\",\"please complete\",IF($D48>'Technical SDG'!J47-1,\":-)\",CONCATENATE(\"increase until \",'Technical SDG'!J47))))","v":""},{"$f":"IF('Technical SDG'!K47=\"\",\"\",IF($D48=\"\",\"please complete\",IF($D48>'Technical SDG'!K47-1,\":-)\",CONCATENATE(\"increase until \",'Technical SDG'!K47))))","v":""},{"$f":"IF('Technical SDG'!L47=\"\",\"\",IF($D48=\"\",\"please complete\",IF($D48>'Technical SDG'!L47-1,\":-)\",CONCATENATE(\"increase until \",'Technical SDG'!L47))))","v":""},{"$f":"IF('Technical SDG'!M47=\"\",\"\",IF($D48=\"\",\"please complete\",IF($D48>'Technical SDG'!M47-1,\":-)\",CONCATENATE(\"increase until \",'Technical SDG'!M47))))","v":""},{"$f":"IF('Technical SDG'!N47=\"\",\"\",IF($D48=\"\",\"please complete\",IF($D48>'Technical SDG'!N47-1,\":-)\",CONCATENATE(\"increase until \",'Technical SDG'!N47))))","v":""},{"$f":"IF('Technical SDG'!O47=\"\",\"\",IF($D48=\"\",\"please complete\",IF($D48>'Technical SDG'!O47-1,\":-)\",CONCATENATE(\"increase until \",'Technical SDG'!O47))))","v":""},{"$f":"IF('Technical SDG'!P47=\"\",\"\",IF($D48=\"\",\"please complete\",IF($D48>'Technical SDG'!P47-1,\":-)\",CONCATENATE(\"increase until \",'Technical SDG'!P47))))","v":""},{"$f":"IF('Technical SDG'!Q47=\"\",\"\",IF($D48=\"\",\"please complete\",IF($D48>'Technical SDG'!Q47-1,\":-)\",CONCATENATE(\"increase until \",'Technical SDG'!Q47))))","v":""},{"$f":"IF('Technical SDG'!R47=\"\",\"\",IF($D48=\"\",\"please complete\",IF($D48>'Technical SDG'!R47-1,\":-)\",CONCATENATE(\"increase until \",'Technical SDG'!R47))))","v":""},{"$f":"IF('Technical SDG'!S47=\"\",\"\",IF($D48=\"\",\"please complete\",IF($D48>'Technical SDG'!S47-1,\":-)\",CONCATENATE(\"increase until \",'Technical SDG'!S47))))","v":""},{"$f":"IF('Technical SDG'!T47=\"\",\"\",IF($D48=\"\",\"please complete\",IF($D48>'Technical SDG'!T47-1,\":-)\",CONCATENATE(\"increase until \",'Technical SDG'!T47))))","v":""}]
[null,{"$f":"'Technical SDG'!B48","v":"Q2.29"},{"$f":"VLOOKUP(B49,'Chapter 2'!$C$6:$D$278,2,0)","v":"Jakým způsobem se kontroluje kybernetická bezpečnost?"},{"$f":"'Technical SDG'!C48","v":3},17,{"$f":"IF('Technical SDG'!D48=\"\",\"\",IF($D49=\"\",\"please complete\",IF($D49>'Technical SDG'!D48-1,\":-)\",CONCATENATE(\"increase until \",'Technical SDG'!D48))))","v":""},{"$f":"IF('Technical SDG'!E48=\"\",\"\",IF($D49=\"\",\"please complete\",IF($D49>'Technical SDG'!E48-1,\":-)\",CONCATENATE(\"increase until \",'Technical SDG'!E48))))","v":""},{"$f":"IF('Technical SDG'!F48=\"\",\"\",IF($D49=\"\",\"please complete\",IF($D49>'Technical SDG'!F48-1,\":-)\",CONCATENATE(\"increase until \",'Technical SDG'!F48))))","v":""},{"$f":"IF('Technical SDG'!G48=\"\",\"\",IF($D49=\"\",\"please complete\",IF($D49>'Technical SDG'!G48-1,\":-)\",CONCATENATE(\"increase until \",'Technical SDG'!G48))))","v":""},{"$f":"IF('Technical SDG'!H48=\"\",\"\",IF($D49=\"\",\"please complete\",IF($D49>'Technical SDG'!H48-1,\":-)\",CONCATENATE(\"increase until \",'Technical SDG'!H48))))","v":""},{"$f":"IF('Technical SDG'!I48=\"\",\"\",IF($D49=\"\",\"please complete\",IF($D49>'Technical SDG'!I48-1,\":-)\",CONCATENATE(\"increase until \",'Technical SDG'!I48))))","v":""},{"$f":"IF('Technical SDG'!J48=\"\",\"\",IF($D49=\"\",\"please complete\",IF($D49>'Technical SDG'!J48-1,\":-)\",CONCATENATE(\"increase until \",'Technical SDG'!J48))))","v":""},{"$f":"IF('Technical SDG'!K48=\"\",\"\",IF($D49=\"\",\"please complete\",IF($D49>'Technical SDG'!K48-1,\":-)\",CONCATENATE(\"increase until \",'Technical SDG'!K48))))","v":""},{"$f":"IF('Technical SDG'!L48=\"\",\"\",IF($D49=\"\",\"please complete\",IF($D49>'Technical SDG'!L48-1,\":-)\",CONCATENATE(\"increase until \",'Technical SDG'!L48))))","v":""},{"$f":"IF('Technical SDG'!M48=\"\",\"\",IF($D49=\"\",\"please complete\",IF($D49>'Technical SDG'!M48-1,\":-)\",CONCATENATE(\"increase until \",'Technical SDG'!M48))))","v":""},{"$f":"IF('Technical SDG'!N48=\"\",\"\",IF($D49=\"\",\"please complete\",IF($D49>'Technical SDG'!N48-1,\":-)\",CONCATENATE(\"increase until \",'Technical SDG'!N48))))","v":""},{"$f":"IF('Technical SDG'!O48=\"\",\"\",IF($D49=\"\",\"please complete\",IF($D49>'Technical SDG'!O48-1,\":-)\",CONCATENATE(\"increase until \",'Technical SDG'!O48))))","v":""},{"$f":"IF('Technical SDG'!P48=\"\",\"\",IF($D49=\"\",\"please complete\",IF($D49>'Technical SDG'!P48-1,\":-)\",CONCATENATE(\"increase until \",'Technical SDG'!P48))))","v":""},{"$f":"IF('Technical SDG'!Q48=\"\",\"\",IF($D49=\"\",\"please complete\",IF($D49>'Technical SDG'!Q48-1,\":-)\",CONCATENATE(\"increase until \",'Technical SDG'!Q48))))","v":""},{"$f":"IF('Technical SDG'!R48=\"\",\"\",IF($D49=\"\",\"please complete\",IF($D49>'Technical SDG'!R48-1,\":-)\",CONCATENATE(\"increase until \",'Technical SDG'!R48))))","v":""},{"$f":"IF('Technical SDG'!S48=\"\",\"\",IF($D49=\"\",\"please complete\",IF($D49>'Technical SDG'!S48-1,\":-)\",CONCATENATE(\"increase until \",'Technical SDG'!S48))))","v":""},{"$f":"IF('Technical SDG'!T48=\"\",\"\",IF($D49=\"\",\"please complete\",IF($D49>'Technical SDG'!T48-1,\":-)\",CONCATENATE(\"increase until \",'Technical SDG'!T48))))","v":""}]
[null,{"$f":"'Technical SDG'!B49","v":"Q2.30"},{"$f":"VLOOKUP(B50,'Chapter 2'!$C$6:$D$278,2,0)","v":"Jakým způsobem probíhá komunikace a výměna informací v případě bezpečnostní krize?"},{"$f":"'Technical SDG'!C49","v":2},17,{"$f":"IF('Technical SDG'!D49=\"\",\"\",IF($D50=\"\",\"please complete\",IF($D50>'Technical SDG'!D49-1,\":-)\",CONCATENATE(\"increase until \",'Technical SDG'!D49))))","v":""},{"$f":"IF('Technical SDG'!E49=\"\",\"\",IF($D50=\"\",\"please complete\",IF($D50>'Technical SDG'!E49-1,\":-)\",CONCATENATE(\"increase until \",'Technical SDG'!E49))))","v":""},{"$f":"IF('Technical SDG'!F49=\"\",\"\",IF($D50=\"\",\"please complete\",IF($D50>'Technical SDG'!F49-1,\":-)\",CONCATENATE(\"increase until \",'Technical SDG'!F49))))","v":""},{"$f":"IF('Technical SDG'!G49=\"\",\"\",IF($D50=\"\",\"please complete\",IF($D50>'Technical SDG'!G49-1,\":-)\",CONCATENATE(\"increase until \",'Technical SDG'!G49))))","v":""},{"$f":"IF('Technical SDG'!H49=\"\",\"\",IF($D50=\"\",\"please complete\",IF($D50>'Technical SDG'!H49-1,\":-)\",CONCATENATE(\"increase until \",'Technical SDG'!H49))))","v":""},{"$f":"IF('Technical SDG'!I49=\"\",\"\",IF($D50=\"\",\"please complete\",IF($D50>'Technical SDG'!I49-1,\":-)\",CONCATENATE(\"increase until \",'Technical SDG'!I49))))","v":""},{"$f":"IF('Technical SDG'!J49=\"\",\"\",IF($D50=\"\",\"please complete\",IF($D50>'Technical SDG'!J49-1,\":-)\",CONCATENATE(\"increase until \",'Technical SDG'!J49))))","v":""},{"$f":"IF('Technical SDG'!K49=\"\",\"\",IF($D50=\"\",\"please complete\",IF($D50>'Technical SDG'!K49-1,\":-)\",CONCATENATE(\"increase until \",'Technical SDG'!K49))))","v":""},{"$f":"IF('Technical SDG'!L49=\"\",\"\",IF($D50=\"\",\"please complete\",IF($D50>'Technical SDG'!L49-1,\":-)\",CONCATENATE(\"increase until \",'Technical SDG'!L49))))","v":""},{"$f":"IF('Technical SDG'!M49=\"\",\"\",IF($D50=\"\",\"please complete\",IF($D50>'Technical SDG'!M49-1,\":-)\",CONCATENATE(\"increase until \",'Technical SDG'!M49))))","v":""},{"$f":"IF('Technical SDG'!N49=\"\",\"\",IF($D50=\"\",\"please complete\",IF($D50>'Technical SDG'!N49-1,\":-)\",CONCATENATE(\"increase until \",'Technical SDG'!N49))))","v":""},{"$f":"IF('Technical SDG'!O49=\"\",\"\",IF($D50=\"\",\"please complete\",IF($D50>'Technical SDG'!O49-1,\":-)\",CONCATENATE(\"increase until \",'Technical SDG'!O49))))","v":""},{"$f":"IF('Technical SDG'!P49=\"\",\"\",IF($D50=\"\",\"please complete\",IF($D50>'Technical SDG'!P49-1,\":-)\",CONCATENATE(\"increase until \",'Technical SDG'!P49))))","v":""},{"$f":"IF('Technical SDG'!Q49=\"\",\"\",IF($D50=\"\",\"please complete\",IF($D50>'Technical SDG'!Q49-1,\":-)\",CONCATENATE(\"increase until \",'Technical SDG'!Q49))))","v":""},{"$f":"IF('Technical SDG'!R49=\"\",\"\",IF($D50=\"\",\"please complete\",IF($D50>'Technical SDG'!R49-1,\":-)\",CONCATENATE(\"increase until \",'Technical SDG'!R49))))","v":""},{"$f":"IF('Technical SDG'!S49=\"\",\"\",IF($D50=\"\",\"please complete\",IF($D50>'Technical SDG'!S49-1,\":-)\",CONCATENATE(\"increase until \",'Technical SDG'!S49))))","v":""},{"$f":"IF('Technical SDG'!T49=\"\",\"\",IF($D50=\"\",\"please complete\",IF($D50>'Technical SDG'!T49-1,\":-)\",CONCATENATE(\"increase until \",'Technical SDG'!T49))))","v":""}]
[null,{"$f":"'Technical SDG'!B50","v":"Q2.31"},{"$f":"VLOOKUP(B51,'Chapter 2'!$C$6:$D$278,2,0)","v":"Jak se organizace vyrovnává s podezřelým chováním (včetně rizik radikalizace = souhlas a podopra extrémních názorů)"},{"$f":"'Technical SDG'!C50","v":1},17,{"$f":"IF('Technical SDG'!D50=\"\",\"\",IF($D51=\"\",\"please complete\",IF($D51>'Technical SDG'!D50-1,\":-)\",CONCATENATE(\"increase until \",'Technical SDG'!D50))))","v":""},{"$f":"IF('Technical SDG'!E50=\"\",\"\",IF($D51=\"\",\"please complete\",IF($D51>'Technical SDG'!E50-1,\":-)\",CONCATENATE(\"increase until \",'Technical SDG'!E50))))","v":""},{"$f":"IF('Technical SDG'!F50=\"\",\"\",IF($D51=\"\",\"please complete\",IF($D51>'Technical SDG'!F50-1,\":-)\",CONCATENATE(\"increase until \",'Technical SDG'!F50))))","v":""},{"$f":"IF('Technical SDG'!G50=\"\",\"\",IF($D51=\"\",\"please complete\",IF($D51>'Technical SDG'!G50-1,\":-)\",CONCATENATE(\"increase until \",'Technical SDG'!G50))))","v":""},{"$f":"IF('Technical SDG'!H50=\"\",\"\",IF($D51=\"\",\"please complete\",IF($D51>'Technical SDG'!H50-1,\":-)\",CONCATENATE(\"increase until \",'Technical SDG'!H50))))","v":""},{"$f":"IF('Technical SDG'!I50=\"\",\"\",IF($D51=\"\",\"please complete\",IF($D51>'Technical SDG'!I50-1,\":-)\",CONCATENATE(\"increase until \",'Technical SDG'!I50))))","v":""},{"$f":"IF('Technical SDG'!J50=\"\",\"\",IF($D51=\"\",\"please complete\",IF($D51>'Technical SDG'!J50-1,\":-)\",CONCATENATE(\"increase until \",'Technical SDG'!J50))))","v":""},{"$f":"IF('Technical SDG'!K50=\"\",\"\",IF($D51=\"\",\"please complete\",IF($D51>'Technical SDG'!K50-1,\":-)\",CONCATENATE(\"increase until \",'Technical SDG'!K50))))","v":""},{"$f":"IF('Technical SDG'!L50=\"\",\"\",IF($D51=\"\",\"please complete\",IF($D51>'Technical SDG'!L50-1,\":-)\",CONCATENATE(\"increase until \",'Technical SDG'!L50))))","v":""},{"$f":"IF('Technical SDG'!M50=\"\",\"\",IF($D51=\"\",\"please complete\",IF($D51>'Technical SDG'!M50-1,\":-)\",CONCATENATE(\"increase until \",'Technical SDG'!M50))))","v":""},{"$f":"IF('Technical SDG'!N50=\"\",\"\",IF($D51=\"\",\"please complete\",IF($D51>'Technical SDG'!N50-1,\":-)\",CONCATENATE(\"increase until \",'Technical SDG'!N50))))","v":""},{"$f":"IF('Technical SDG'!O50=\"\",\"\",IF($D51=\"\",\"please complete\",IF($D51>'Technical SDG'!O50-1,\":-)\",CONCATENATE(\"increase until \",'Technical SDG'!O50))))","v":""},{"$f":"IF('Technical SDG'!P50=\"\",\"\",IF($D51=\"\",\"please complete\",IF($D51>'Technical SDG'!P50-1,\":-)\",CONCATENATE(\"increase until \",'Technical SDG'!P50))))","v":""},{"$f":"IF('Technical SDG'!Q50=\"\",\"\",IF($D51=\"\",\"please complete\",IF($D51>'Technical SDG'!Q50-1,\":-)\",CONCATENATE(\"increase until \",'Technical SDG'!Q50))))","v":""},{"$f":"IF('Technical SDG'!R50=\"\",\"\",IF($D51=\"\",\"please complete\",IF($D51>'Technical SDG'!R50-1,\":-)\",CONCATENATE(\"increase until \",'Technical SDG'!R50))))","v":""},{"$f":"IF('Technical SDG'!S50=\"\",\"\",IF($D51=\"\",\"please complete\",IF($D51>'Technical SDG'!S50-1,\":-)\",CONCATENATE(\"increase until \",'Technical SDG'!S50))))","v":""},{"$f":"IF('Technical SDG'!T50=\"\",\"\",IF($D51=\"\",\"please complete\",IF($D51>'Technical SDG'!T50-1,\":-)\",CONCATENATE(\"increase until \",'Technical SDG'!T50))))","v":""}]
[null,{"$f":"'Technical SDG'!B51","v":"Q2.32"},{"$f":"VLOOKUP(B52,'Chapter 2'!$C$6:$D$278,2,0)","v":"Jakým způsobem školí organizace pracovníky v oblasti ostrahy ve vazbě na bezpečnostní rizika?  "},{"$f":"'Technical SDG'!C51","v":2},17,{"$f":"IF('Technical SDG'!D51=\"\",\"\",IF($D52=\"\",\"please complete\",IF($D52>'Technical SDG'!D51-1,\":-)\",CONCATENATE(\"increase until \",'Technical SDG'!D51))))","v":""},{"$f":"IF('Technical SDG'!E51=\"\",\"\",IF($D52=\"\",\"please complete\",IF($D52>'Technical SDG'!E51-1,\":-)\",CONCATENATE(\"increase until \",'Technical SDG'!E51))))","v":""},{"$f":"IF('Technical SDG'!F51=\"\",\"\",IF($D52=\"\",\"please complete\",IF($D52>'Technical SDG'!F51-1,\":-)\",CONCATENATE(\"increase until \",'Technical SDG'!F51))))","v":""},{"$f":"IF('Technical SDG'!G51=\"\",\"\",IF($D52=\"\",\"please complete\",IF($D52>'Technical SDG'!G51-1,\":-)\",CONCATENATE(\"increase until \",'Technical SDG'!G51))))","v":""},{"$f":"IF('Technical SDG'!H51=\"\",\"\",IF($D52=\"\",\"please complete\",IF($D52>'Technical SDG'!H51-1,\":-)\",CONCATENATE(\"increase until \",'Technical SDG'!H51))))","v":""},{"$f":"IF('Technical SDG'!I51=\"\",\"\",IF($D52=\"\",\"please complete\",IF($D52>'Technical SDG'!I51-1,\":-)\",CONCATENATE(\"increase until \",'Technical SDG'!I51))))","v":""},{"$f":"IF('Technical SDG'!J51=\"\",\"\",IF($D52=\"\",\"please complete\",IF($D52>'Technical SDG'!J51-1,\":-)\",CONCATENATE(\"increase until \",'Technical SDG'!J51))))","v":""},{"$f":"IF('Technical SDG'!K51=\"\",\"\",IF($D52=\"\",\"please complete\",IF($D52>'Technical SDG'!K51-1,\":-)\",CONCATENATE(\"increase until \",'Technical SDG'!K51))))","v":""},{"$f":"IF('Technical SDG'!L51=\"\",\"\",IF($D52=\"\",\"please complete\",IF($D52>'Technical SDG'!L51-1,\":-)\",CONCATENATE(\"increase until \",'Technical SDG'!L51))))","v":""},{"$f":"IF('Technical SDG'!M51=\"\",\"\",IF($D52=\"\",\"please complete\",IF($D52>'Technical SDG'!M51-1,\":-)\",CONCATENATE(\"increase until \",'Technical SDG'!M51))))","v":""},{"$f":"IF('Technical SDG'!N51=\"\",\"\",IF($D52=\"\",\"please complete\",IF($D52>'Technical SDG'!N51-1,\":-)\",CONCATENATE(\"increase until \",'Technical SDG'!N51))))","v":""},{"$f":"IF('Technical SDG'!O51=\"\",\"\",IF($D52=\"\",\"please complete\",IF($D52>'Technical SDG'!O51-1,\":-)\",CONCATENATE(\"increase until \",'Technical SDG'!O51))))","v":""},{"$f":"IF('Technical SDG'!P51=\"\",\"\",IF($D52=\"\",\"please complete\",IF($D52>'Technical SDG'!P51-1,\":-)\",CONCATENATE(\"increase until \",'Technical SDG'!P51))))","v":""},{"$f":"IF('Technical SDG'!Q51=\"\",\"\",IF($D52=\"\",\"please complete\",IF($D52>'Technical SDG'!Q51-1,\":-)\",CONCATENATE(\"increase until \",'Technical SDG'!Q51))))","v":""},{"$f":"IF('Technical SDG'!R51=\"\",\"\",IF($D52=\"\",\"please complete\",IF($D52>'Technical SDG'!R51-1,\":-)\",CONCATENATE(\"increase until \",'Technical SDG'!R51))))","v":""},{"$f":"IF('Technical SDG'!S51=\"\",\"\",IF($D52=\"\",\"please complete\",IF($D52>'Technical SDG'!S51-1,\":-)\",CONCATENATE(\"increase until \",'Technical SDG'!S51))))","v":""},{"$f":"IF('Technical SDG'!T51=\"\",\"\",IF($D52=\"\",\"please complete\",IF($D52>'Technical SDG'!T51-1,\":-)\",CONCATENATE(\"increase until \",'Technical SDG'!T51))))","v":""}]
[null,{"$f":"'Technical SDG'!B52","v":"Q2.33"},{"$f":"VLOOKUP(B53,'Chapter 2'!$C$6:$D$278,2,0)","v":"Jakým způsobem se posuzuje potenciální vliv organizace na životní prostředí?"},{"$f":"'Technical SDG'!C52","v":3},15,{"$f":"IF('Technical SDG'!D52=\"\",\"\",IF($D53=\"\",\"please complete\",IF($D53>'Technical SDG'!D52-1,\":-)\",CONCATENATE(\"increase until \",'Technical SDG'!D52))))","v":""},{"$f":"IF('Technical SDG'!E52=\"\",\"\",IF($D53=\"\",\"please complete\",IF($D53>'Technical SDG'!E52-1,\":-)\",CONCATENATE(\"increase until \",'Technical SDG'!E52))))","v":""},{"$f":"IF('Technical SDG'!F52=\"\",\"\",IF($D53=\"\",\"please complete\",IF($D53>'Technical SDG'!F52-1,\":-)\",CONCATENATE(\"increase until \",'Technical SDG'!F52))))","v":""},{"$f":"IF('Technical SDG'!G52=\"\",\"\",IF($D53=\"\",\"please complete\",IF($D53>'Technical SDG'!G52-1,\":-)\",CONCATENATE(\"increase until \",'Technical SDG'!G52))))","v":""},{"$f":"IF('Technical SDG'!H52=\"\",\"\",IF($D53=\"\",\"please complete\",IF($D53>'Technical SDG'!H52-1,\":-)\",CONCATENATE(\"increase until \",'Technical SDG'!H52))))","v":""},{"$f":"IF('Technical SDG'!I52=\"\",\"\",IF($D53=\"\",\"please complete\",IF($D53>'Technical SDG'!I52-1,\":-)\",CONCATENATE(\"increase until \",'Technical SDG'!I52))))","v":""},{"$f":"IF('Technical SDG'!J52=\"\",\"\",IF($D53=\"\",\"please complete\",IF($D53>'Technical SDG'!J52-1,\":-)\",CONCATENATE(\"increase until \",'Technical SDG'!J52))))","v":""},{"$f":"IF('Technical SDG'!K52=\"\",\"\",IF($D53=\"\",\"please complete\",IF($D53>'Technical SDG'!K52-1,\":-)\",CONCATENATE(\"increase until \",'Technical SDG'!K52))))","v":""},{"$f":"IF('Technical SDG'!L52=\"\",\"\",IF($D53=\"\",\"please complete\",IF($D53>'Technical SDG'!L52-1,\":-)\",CONCATENATE(\"increase until \",'Technical SDG'!L52))))","v":":-)"},{"$f":"IF('Technical SDG'!M52=\"\",\"\",IF($D53=\"\",\"please complete\",IF($D53>'Technical SDG'!M52-1,\":-)\",CONCATENATE(\"increase until \",'Technical SDG'!M52))))","v":""},{"$f":"IF('Technical SDG'!N52=\"\",\"\",IF($D53=\"\",\"please complete\",IF($D53>'Technical SDG'!N52-1,\":-)\",CONCATENATE(\"increase until \",'Technical SDG'!N52))))","v":""},{"$f":"IF('Technical SDG'!O52=\"\",\"\",IF($D53=\"\",\"please complete\",IF($D53>'Technical SDG'!O52-1,\":-)\",CONCATENATE(\"increase until \",'Technical SDG'!O52))))","v":":-)"},{"$f":"IF('Technical SDG'!P52=\"\",\"\",IF($D53=\"\",\"please complete\",IF($D53>'Technical SDG'!P52-1,\":-)\",CONCATENATE(\"increase until \",'Technical SDG'!P52))))","v":""},{"$f":"IF('Technical SDG'!Q52=\"\",\"\",IF($D53=\"\",\"please complete\",IF($D53>'Technical SDG'!Q52-1,\":-)\",CONCATENATE(\"increase until \",'Technical SDG'!Q52))))","v":""},{"$f":"IF('Technical SDG'!R52=\"\",\"\",IF($D53=\"\",\"please complete\",IF($D53>'Technical SDG'!R52-1,\":-)\",CONCATENATE(\"increase until \",'Technical SDG'!R52))))","v":""},{"$f":"IF('Technical SDG'!S52=\"\",\"\",IF($D53=\"\",\"please complete\",IF($D53>'Technical SDG'!S52-1,\":-)\",CONCATENATE(\"increase until \",'Technical SDG'!S52))))","v":""},{"$f":"IF('Technical SDG'!T52=\"\",\"\",IF($D53=\"\",\"please complete\",IF($D53>'Technical SDG'!T52-1,\":-)\",CONCATENATE(\"increase until \",'Technical SDG'!T52))))","v":""}]
[null,{"$f":"'Technical SDG'!B53","v":"Q2.34"},{"$f":"VLOOKUP(B54,'Chapter 2'!$C$6:$D$278,2,0)","v":"Jakým způsobem se řídí environmentální výkonnost?"},{"$f":"'Technical SDG'!C53","v":4},15,{"$f":"IF('Technical SDG'!D53=\"\",\"\",IF($D54=\"\",\"please complete\",IF($D54>'Technical SDG'!D53-1,\":-)\",CONCATENATE(\"increase until \",'Technical SDG'!D53))))","v":""},{"$f":"IF('Technical SDG'!E53=\"\",\"\",IF($D54=\"\",\"please complete\",IF($D54>'Technical SDG'!E53-1,\":-)\",CONCATENATE(\"increase until \",'Technical SDG'!E53))))","v":""},{"$f":"IF('Technical SDG'!F53=\"\",\"\",IF($D54=\"\",\"please complete\",IF($D54>'Technical SDG'!F53-1,\":-)\",CONCATENATE(\"increase until \",'Technical SDG'!F53))))","v":""},{"$f":"IF('Technical SDG'!G53=\"\",\"\",IF($D54=\"\",\"please complete\",IF($D54>'Technical SDG'!G53-1,\":-)\",CONCATENATE(\"increase until \",'Technical SDG'!G53))))","v":""},{"$f":"IF('Technical SDG'!H53=\"\",\"\",IF($D54=\"\",\"please complete\",IF($D54>'Technical SDG'!H53-1,\":-)\",CONCATENATE(\"increase until \",'Technical SDG'!H53))))","v":""},{"$f":"IF('Technical SDG'!I53=\"\",\"\",IF($D54=\"\",\"please complete\",IF($D54>'Technical SDG'!I53-1,\":-)\",CONCATENATE(\"increase until \",'Technical SDG'!I53))))","v":""},{"$f":"IF('Technical SDG'!J53=\"\",\"\",IF($D54=\"\",\"please complete\",IF($D54>'Technical SDG'!J53-1,\":-)\",CONCATENATE(\"increase until \",'Technical SDG'!J53))))","v":""},{"$f":"IF('Technical SDG'!K53=\"\",\"\",IF($D54=\"\",\"please complete\",IF($D54>'Technical SDG'!K53-1,\":-)\",CONCATENATE(\"increase until \",'Technical SDG'!K53))))","v":""},{"$f":"IF('Technical SDG'!L53=\"\",\"\",IF($D54=\"\",\"please complete\",IF($D54>'Technical SDG'!L53-1,\":-)\",CONCATENATE(\"increase until \",'Technical SDG'!L53))))","v":":-)"},{"$f":"IF('Technical SDG'!M53=\"\",\"\",IF($D54=\"\",\"please complete\",IF($D54>'Technical SDG'!M53-1,\":-)\",CONCATENATE(\"increase until \",'Technical SDG'!M53))))","v":""},{"$f":"IF('Technical SDG'!N53=\"\",\"\",IF($D54=\"\",\"please complete\",IF($D54>'Technical SDG'!N53-1,\":-)\",CONCATENATE(\"increase until \",'Technical SDG'!N53))))","v":""},{"$f":"IF('Technical SDG'!O53=\"\",\"\",IF($D54=\"\",\"please complete\",IF($D54>'Technical SDG'!O53-1,\":-)\",CONCATENATE(\"increase until \",'Technical SDG'!O53))))","v":":-)"},{"$f":"IF('Technical SDG'!P53=\"\",\"\",IF($D54=\"\",\"please complete\",IF($D54>'Technical SDG'!P53-1,\":-)\",CONCATENATE(\"increase until \",'Technical SDG'!P53))))","v":""},{"$f":"IF('Technical SDG'!Q53=\"\",\"\",IF($D54=\"\",\"please complete\",IF($D54>'Technical SDG'!Q53-1,\":-)\",CONCATENATE(\"increase until \",'Technical SDG'!Q53))))","v":""},{"$f":"IF('Technical SDG'!R53=\"\",\"\",IF($D54=\"\",\"please complete\",IF($D54>'Technical SDG'!R53-1,\":-)\",CONCATENATE(\"increase until \",'Technical SDG'!R53))))","v":""},{"$f":"IF('Technical SDG'!S53=\"\",\"\",IF($D54=\"\",\"please complete\",IF($D54>'Technical SDG'!S53-1,\":-)\",CONCATENATE(\"increase until \",'Technical SDG'!S53))))","v":""},{"$f":"IF('Technical SDG'!T53=\"\",\"\",IF($D54=\"\",\"please complete\",IF($D54>'Technical SDG'!T53-1,\":-)\",CONCATENATE(\"increase until \",'Technical SDG'!T53))))","v":""}]
[null,{"$f":"'Technical SDG'!B54","v":"Q2.35"},{"$f":"VLOOKUP(B55,'Chapter 2'!$C$6:$D$278,2,0)","v":"Jak organizace nakládá s odpadem?"},{"$f":"'Technical SDG'!C54","v":3},15,{"$f":"IF('Technical SDG'!D54=\"\",\"\",IF($D55=\"\",\"please complete\",IF($D55>'Technical SDG'!D54-1,\":-)\",CONCATENATE(\"increase until \",'Technical SDG'!D54))))","v":""},{"$f":"IF('Technical SDG'!E54=\"\",\"\",IF($D55=\"\",\"please complete\",IF($D55>'Technical SDG'!E54-1,\":-)\",CONCATENATE(\"increase until \",'Technical SDG'!E54))))","v":""},{"$f":"IF('Technical SDG'!F54=\"\",\"\",IF($D55=\"\",\"please complete\",IF($D55>'Technical SDG'!F54-1,\":-)\",CONCATENATE(\"increase until \",'Technical SDG'!F54))))","v":""},{"$f":"IF('Technical SDG'!G54=\"\",\"\",IF($D55=\"\",\"please complete\",IF($D55>'Technical SDG'!G54-1,\":-)\",CONCATENATE(\"increase until \",'Technical SDG'!G54))))","v":""},{"$f":"IF('Technical SDG'!H54=\"\",\"\",IF($D55=\"\",\"please complete\",IF($D55>'Technical SDG'!H54-1,\":-)\",CONCATENATE(\"increase until \",'Technical SDG'!H54))))","v":""},{"$f":"IF('Technical SDG'!I54=\"\",\"\",IF($D55=\"\",\"please complete\",IF($D55>'Technical SDG'!I54-1,\":-)\",CONCATENATE(\"increase until \",'Technical SDG'!I54))))","v":""},{"$f":"IF('Technical SDG'!J54=\"\",\"\",IF($D55=\"\",\"please complete\",IF($D55>'Technical SDG'!J54-1,\":-)\",CONCATENATE(\"increase until \",'Technical SDG'!J54))))","v":""},{"$f":"IF('Technical SDG'!K54=\"\",\"\",IF($D55=\"\",\"please complete\",IF($D55>'Technical SDG'!K54-1,\":-)\",CONCATENATE(\"increase until \",'Technical SDG'!K54))))","v":""},{"$f":"IF('Technical SDG'!L54=\"\",\"\",IF($D55=\"\",\"please complete\",IF($D55>'Technical SDG'!L54-1,\":-)\",CONCATENATE(\"increase until \",'Technical SDG'!L54))))","v":":-)"},{"$f":"IF('Technical SDG'!M54=\"\",\"\",IF($D55=\"\",\"please complete\",IF($D55>'Technical SDG'!M54-1,\":-)\",CONCATENATE(\"increase until \",'Technical SDG'!M54))))","v":""},{"$f":"IF('Technical SDG'!N54=\"\",\"\",IF($D55=\"\",\"please complete\",IF($D55>'Technical SDG'!N54-1,\":-)\",CONCATENATE(\"increase until \",'Technical SDG'!N54))))","v":""},{"$f":"IF('Technical SDG'!O54=\"\",\"\",IF($D55=\"\",\"please complete\",IF($D55>'Technical SDG'!O54-1,\":-)\",CONCATENATE(\"increase until \",'Technical SDG'!O54))))","v":":-)"},{"$f":"IF('Technical SDG'!P54=\"\",\"\",IF($D55=\"\",\"please complete\",IF($D55>'Technical SDG'!P54-1,\":-)\",CONCATENATE(\"increase until \",'Technical SDG'!P54))))","v":""},{"$f":"IF('Technical SDG'!Q54=\"\",\"\",IF($D55=\"\",\"please complete\",IF($D55>'Technical SDG'!Q54-1,\":-)\",CONCATENATE(\"increase until \",'Technical SDG'!Q54))))","v":""},{"$f":"IF('Technical SDG'!R54=\"\",\"\",IF($D55=\"\",\"please complete\",IF($D55>'Technical SDG'!R54-1,\":-)\",CONCATENATE(\"increase until \",'Technical SDG'!R54))))","v":""},{"$f":"IF('Technical SDG'!S54=\"\",\"\",IF($D55=\"\",\"please complete\",IF($D55>'Technical SDG'!S54-1,\":-)\",CONCATENATE(\"increase until \",'Technical SDG'!S54))))","v":""},{"$f":"IF('Technical SDG'!T54=\"\",\"\",IF($D55=\"\",\"please complete\",IF($D55>'Technical SDG'!T54-1,\":-)\",CONCATENATE(\"increase until \",'Technical SDG'!T54))))","v":""}]
[null,{"$f":"'Technical SDG'!B55","v":"Q2.36"},{"$f":"VLOOKUP(B56,'Chapter 2'!$C$6:$D$278,2,0)","v":"Jakým způsobem řídí organizace rizika týkající se podzemních vod?"},{"$f":"'Technical SDG'!C55","v":3},15,{"$f":"IF('Technical SDG'!D55=\"\",\"\",IF($D56=\"\",\"please complete\",IF($D56>'Technical SDG'!D55-1,\":-)\",CONCATENATE(\"increase until \",'Technical SDG'!D55))))","v":""},{"$f":"IF('Technical SDG'!E55=\"\",\"\",IF($D56=\"\",\"please complete\",IF($D56>'Technical SDG'!E55-1,\":-)\",CONCATENATE(\"increase until \",'Technical SDG'!E55))))","v":""},{"$f":"IF('Technical SDG'!F55=\"\",\"\",IF($D56=\"\",\"please complete\",IF($D56>'Technical SDG'!F55-1,\":-)\",CONCATENATE(\"increase until \",'Technical SDG'!F55))))","v":""},{"$f":"IF('Technical SDG'!G55=\"\",\"\",IF($D56=\"\",\"please complete\",IF($D56>'Technical SDG'!G55-1,\":-)\",CONCATENATE(\"increase until \",'Technical SDG'!G55))))","v":""},{"$f":"IF('Technical SDG'!H55=\"\",\"\",IF($D56=\"\",\"please complete\",IF($D56>'Technical SDG'!H55-1,\":-)\",CONCATENATE(\"increase until \",'Technical SDG'!H55))))","v":""},{"$f":"IF('Technical SDG'!I55=\"\",\"\",IF($D56=\"\",\"please complete\",IF($D56>'Technical SDG'!I55-1,\":-)\",CONCATENATE(\"increase until \",'Technical SDG'!I55))))","v":""},{"$f":"IF('Technical SDG'!J55=\"\",\"\",IF($D56=\"\",\"please complete\",IF($D56>'Technical SDG'!J55-1,\":-)\",CONCATENATE(\"increase until \",'Technical SDG'!J55))))","v":""},{"$f":"IF('Technical SDG'!K55=\"\",\"\",IF($D56=\"\",\"please complete\",IF($D56>'Technical SDG'!K55-1,\":-)\",CONCATENATE(\"increase until \",'Technical SDG'!K55))))","v":""},{"$f":"IF('Technical SDG'!L55=\"\",\"\",IF($D56=\"\",\"please complete\",IF($D56>'Technical SDG'!L55-1,\":-)\",CONCATENATE(\"increase until \",'Technical SDG'!L55))))","v":":-)"},{"$f":"IF('Technical SDG'!M55=\"\",\"\",IF($D56=\"\",\"please complete\",IF($D56>'Technical SDG'!M55-1,\":-)\",CONCATENATE(\"increase until \",'Technical SDG'!M55))))","v":""},{"$f":"IF('Technical SDG'!N55=\"\",\"\",IF($D56=\"\",\"please complete\",IF($D56>'Technical SDG'!N55-1,\":-)\",CONCATENATE(\"increase until \",'Technical SDG'!N55))))","v":""},{"$f":"IF('Technical SDG'!O55=\"\",\"\",IF($D56=\"\",\"please complete\",IF($D56>'Technical SDG'!O55-1,\":-)\",CONCATENATE(\"increase until \",'Technical SDG'!O55))))","v":":-)"},{"$f":"IF('Technical SDG'!P55=\"\",\"\",IF($D56=\"\",\"please complete\",IF($D56>'Technical SDG'!P55-1,\":-)\",CONCATENATE(\"increase until \",'Technical SDG'!P55))))","v":""},{"$f":"IF('Technical SDG'!Q55=\"\",\"\",IF($D56=\"\",\"please complete\",IF($D56>'Technical SDG'!Q55-1,\":-)\",CONCATENATE(\"increase until \",'Technical SDG'!Q55))))","v":""},{"$f":"IF('Technical SDG'!R55=\"\",\"\",IF($D56=\"\",\"please complete\",IF($D56>'Technical SDG'!R55-1,\":-)\",CONCATENATE(\"increase until \",'Technical SDG'!R55))))","v":""},{"$f":"IF('Technical SDG'!S55=\"\",\"\",IF($D56=\"\",\"please complete\",IF($D56>'Technical SDG'!S55-1,\":-)\",CONCATENATE(\"increase until \",'Technical SDG'!S55))))","v":""},{"$f":"IF('Technical SDG'!T55=\"\",\"\",IF($D56=\"\",\"please complete\",IF($D56>'Technical SDG'!T55-1,\":-)\",CONCATENATE(\"increase until \",'Technical SDG'!T55))))","v":""}]
[null,{"$f":"'Technical SDG'!B56","v":"Q2.37"},{"$f":"VLOOKUP(B57,'Chapter 2'!$C$6:$D$278,2,0)","v":"Jakým způsobem řídí organizace rizika týkající se znečištění půdy?"},{"$f":"'Technical SDG'!C56","v":3},15,{"$f":"IF('Technical SDG'!D56=\"\",\"\",IF($D57=\"\",\"please complete\",IF($D57>'Technical SDG'!D56-1,\":-)\",CONCATENATE(\"increase until \",'Technical SDG'!D56))))","v":""},{"$f":"IF('Technical SDG'!E56=\"\",\"\",IF($D57=\"\",\"please complete\",IF($D57>'Technical SDG'!E56-1,\":-)\",CONCATENATE(\"increase until \",'Technical SDG'!E56))))","v":""},{"$f":"IF('Technical SDG'!F56=\"\",\"\",IF($D57=\"\",\"please complete\",IF($D57>'Technical SDG'!F56-1,\":-)\",CONCATENATE(\"increase until \",'Technical SDG'!F56))))","v":""},{"$f":"IF('Technical SDG'!G56=\"\",\"\",IF($D57=\"\",\"please complete\",IF($D57>'Technical SDG'!G56-1,\":-)\",CONCATENATE(\"increase until \",'Technical SDG'!G56))))","v":""},{"$f":"IF('Technical SDG'!H56=\"\",\"\",IF($D57=\"\",\"please complete\",IF($D57>'Technical SDG'!H56-1,\":-)\",CONCATENATE(\"increase until \",'Technical SDG'!H56))))","v":""},{"$f":"IF('Technical SDG'!I56=\"\",\"\",IF($D57=\"\",\"please complete\",IF($D57>'Technical SDG'!I56-1,\":-)\",CONCATENATE(\"increase until \",'Technical SDG'!I56))))","v":""},{"$f":"IF('Technical SDG'!J56=\"\",\"\",IF($D57=\"\",\"please complete\",IF($D57>'Technical SDG'!J56-1,\":-)\",CONCATENATE(\"increase until \",'Technical SDG'!J56))))","v":""},{"$f":"IF('Technical SDG'!K56=\"\",\"\",IF($D57=\"\",\"please complete\",IF($D57>'Technical SDG'!K56-1,\":-)\",CONCATENATE(\"increase until \",'Technical SDG'!K56))))","v":""},{"$f":"IF('Technical SDG'!L56=\"\",\"\",IF($D57=\"\",\"please complete\",IF($D57>'Technical SDG'!L56-1,\":-)\",CONCATENATE(\"increase until \",'Technical SDG'!L56))))","v":":-)"},{"$f":"IF('Technical SDG'!M56=\"\",\"\",IF($D57=\"\",\"please complete\",IF($D57>'Technical SDG'!M56-1,\":-)\",CONCATENATE(\"increase until \",'Technical SDG'!M56))))","v":""},{"$f":"IF('Technical SDG'!N56=\"\",\"\",IF($D57=\"\",\"please complete\",IF($D57>'Technical SDG'!N56-1,\":-)\",CONCATENATE(\"increase until \",'Technical SDG'!N56))))","v":""},{"$f":"IF('Technical SDG'!O56=\"\",\"\",IF($D57=\"\",\"please complete\",IF($D57>'Technical SDG'!O56-1,\":-)\",CONCATENATE(\"increase until \",'Technical SDG'!O56))))","v":":-)"},{"$f":"IF('Technical SDG'!P56=\"\",\"\",IF($D57=\"\",\"please complete\",IF($D57>'Technical SDG'!P56-1,\":-)\",CONCATENATE(\"increase until \",'Technical SDG'!P56))))","v":""},{"$f":"IF('Technical SDG'!Q56=\"\",\"\",IF($D57=\"\",\"please complete\",IF($D57>'Technical SDG'!Q56-1,\":-)\",CONCATENATE(\"increase until \",'Technical SDG'!Q56))))","v":""},{"$f":"IF('Technical SDG'!R56=\"\",\"\",IF($D57=\"\",\"please complete\",IF($D57>'Technical SDG'!R56-1,\":-)\",CONCATENATE(\"increase until \",'Technical SDG'!R56))))","v":""},{"$f":"IF('Technical SDG'!S56=\"\",\"\",IF($D57=\"\",\"please complete\",IF($D57>'Technical SDG'!S56-1,\":-)\",CONCATENATE(\"increase until \",'Technical SDG'!S56))))","v":""},{"$f":"IF('Technical SDG'!T56=\"\",\"\",IF($D57=\"\",\"please complete\",IF($D57>'Technical SDG'!T56-1,\":-)\",CONCATENATE(\"increase until \",'Technical SDG'!T56))))","v":""}]
[null,{"$f":"'Technical SDG'!B57","v":"Q2.38"},{"$f":"VLOOKUP(B58,'Chapter 2'!$C$6:$D$278,2,0)","v":"Jakým způsobem řídí organizace existující znečištění půdy?\n"},{"$f":"'Technical SDG'!C57","v":3},15,{"$f":"IF('Technical SDG'!D57=\"\",\"\",IF($D58=\"\",\"please complete\",IF($D58>'Technical SDG'!D57-1,\":-)\",CONCATENATE(\"increase until \",'Technical SDG'!D57))))","v":""},{"$f":"IF('Technical SDG'!E57=\"\",\"\",IF($D58=\"\",\"please complete\",IF($D58>'Technical SDG'!E57-1,\":-)\",CONCATENATE(\"increase until \",'Technical SDG'!E57))))","v":""},{"$f":"IF('Technical SDG'!F57=\"\",\"\",IF($D58=\"\",\"please complete\",IF($D58>'Technical SDG'!F57-1,\":-)\",CONCATENATE(\"increase until \",'Technical SDG'!F57))))","v":""},{"$f":"IF('Technical SDG'!G57=\"\",\"\",IF($D58=\"\",\"please complete\",IF($D58>'Technical SDG'!G57-1,\":-)\",CONCATENATE(\"increase until \",'Technical SDG'!G57))))","v":""},{"$f":"IF('Technical SDG'!H57=\"\",\"\",IF($D58=\"\",\"please complete\",IF($D58>'Technical SDG'!H57-1,\":-)\",CONCATENATE(\"increase until \",'Technical SDG'!H57))))","v":""},{"$f":"IF('Technical SDG'!I57=\"\",\"\",IF($D58=\"\",\"please complete\",IF($D58>'Technical SDG'!I57-1,\":-)\",CONCATENATE(\"increase until \",'Technical SDG'!I57))))","v":""},{"$f":"IF('Technical SDG'!J57=\"\",\"\",IF($D58=\"\",\"please complete\",IF($D58>'Technical SDG'!J57-1,\":-)\",CONCATENATE(\"increase until \",'Technical SDG'!J57))))","v":""},{"$f":"IF('Technical SDG'!K57=\"\",\"\",IF($D58=\"\",\"please complete\",IF($D58>'Technical SDG'!K57-1,\":-)\",CONCATENATE(\"increase until \",'Technical SDG'!K57))))","v":""},{"$f":"IF('Technical SDG'!L57=\"\",\"\",IF($D58=\"\",\"please complete\",IF($D58>'Technical SDG'!L57-1,\":-)\",CONCATENATE(\"increase until \",'Technical SDG'!L57))))","v":":-)"},{"$f":"IF('Technical SDG'!M57=\"\",\"\",IF($D58=\"\",\"please complete\",IF($D58>'Technical SDG'!M57-1,\":-)\",CONCATENATE(\"increase until \",'Technical SDG'!M57))))","v":""},{"$f":"IF('Technical SDG'!N57=\"\",\"\",IF($D58=\"\",\"please complete\",IF($D58>'Technical SDG'!N57-1,\":-)\",CONCATENATE(\"increase until \",'Technical SDG'!N57))))","v":""},{"$f":"IF('Technical SDG'!O57=\"\",\"\",IF($D58=\"\",\"please complete\",IF($D58>'Technical SDG'!O57-1,\":-)\",CONCATENATE(\"increase until \",'Technical SDG'!O57))))","v":":-)"},{"$f":"IF('Technical SDG'!P57=\"\",\"\",IF($D58=\"\",\"please complete\",IF($D58>'Technical SDG'!P57-1,\":-)\",CONCATENATE(\"increase until \",'Technical SDG'!P57))))","v":""},{"$f":"IF('Technical SDG'!Q57=\"\",\"\",IF($D58=\"\",\"please complete\",IF($D58>'Technical SDG'!Q57-1,\":-)\",CONCATENATE(\"increase until \",'Technical SDG'!Q57))))","v":""},{"$f":"IF('Technical SDG'!R57=\"\",\"\",IF($D58=\"\",\"please complete\",IF($D58>'Technical SDG'!R57-1,\":-)\",CONCATENATE(\"increase until \",'Technical SDG'!R57))))","v":""},{"$f":"IF('Technical SDG'!S57=\"\",\"\",IF($D58=\"\",\"please complete\",IF($D58>'Technical SDG'!S57-1,\":-)\",CONCATENATE(\"increase until \",'Technical SDG'!S57))))","v":""},{"$f":"IF('Technical SDG'!T57=\"\",\"\",IF($D58=\"\",\"please complete\",IF($D58>'Technical SDG'!T57-1,\":-)\",CONCATENATE(\"increase until \",'Technical SDG'!T57))))","v":""}]
[null,{"$f":"'Technical SDG'!B58","v":"Q2.39"},{"$f":"VLOOKUP(B59,'Chapter 2'!$C$6:$D$278,2,0)","v":"Jakým způsobem organizace řídí své emise škodlivin do ovzduší?"},{"$f":"'Technical SDG'!C58","v":3},15,{"$f":"IF('Technical SDG'!D58=\"\",\"\",IF($D59=\"\",\"please complete\",IF($D59>'Technical SDG'!D58-1,\":-)\",CONCATENATE(\"increase until \",'Technical SDG'!D58))))","v":""},{"$f":"IF('Technical SDG'!E58=\"\",\"\",IF($D59=\"\",\"please complete\",IF($D59>'Technical SDG'!E58-1,\":-)\",CONCATENATE(\"increase until \",'Technical SDG'!E58))))","v":""},{"$f":"IF('Technical SDG'!F58=\"\",\"\",IF($D59=\"\",\"please complete\",IF($D59>'Technical SDG'!F58-1,\":-)\",CONCATENATE(\"increase until \",'Technical SDG'!F58))))","v":""},{"$f":"IF('Technical SDG'!G58=\"\",\"\",IF($D59=\"\",\"please complete\",IF($D59>'Technical SDG'!G58-1,\":-)\",CONCATENATE(\"increase until \",'Technical SDG'!G58))))","v":""},{"$f":"IF('Technical SDG'!H58=\"\",\"\",IF($D59=\"\",\"please complete\",IF($D59>'Technical SDG'!H58-1,\":-)\",CONCATENATE(\"increase until \",'Technical SDG'!H58))))","v":""},{"$f":"IF('Technical SDG'!I58=\"\",\"\",IF($D59=\"\",\"please complete\",IF($D59>'Technical SDG'!I58-1,\":-)\",CONCATENATE(\"increase until \",'Technical SDG'!I58))))","v":""},{"$f":"IF('Technical SDG'!J58=\"\",\"\",IF($D59=\"\",\"please complete\",IF($D59>'Technical SDG'!J58-1,\":-)\",CONCATENATE(\"increase until \",'Technical SDG'!J58))))","v":""},{"$f":"IF('Technical SDG'!K58=\"\",\"\",IF($D59=\"\",\"please complete\",IF($D59>'Technical SDG'!K58-1,\":-)\",CONCATENATE(\"increase until \",'Technical SDG'!K58))))","v":""},{"$f":"IF('Technical SDG'!L58=\"\",\"\",IF($D59=\"\",\"please complete\",IF($D59>'Technical SDG'!L58-1,\":-)\",CONCATENATE(\"increase until \",'Technical SDG'!L58))))","v":":-)"},{"$f":"IF('Technical SDG'!M58=\"\",\"\",IF($D59=\"\",\"please complete\",IF($D59>'Technical SDG'!M58-1,\":-)\",CONCATENATE(\"increase until \",'Technical SDG'!M58))))","v":""},{"$f":"IF('Technical SDG'!N58=\"\",\"\",IF($D59=\"\",\"please complete\",IF($D59>'Technical SDG'!N58-1,\":-)\",CONCATENATE(\"increase until \",'Technical SDG'!N58))))","v":""},{"$f":"IF('Technical SDG'!O58=\"\",\"\",IF($D59=\"\",\"please complete\",IF($D59>'Technical SDG'!O58-1,\":-)\",CONCATENATE(\"increase until \",'Technical SDG'!O58))))","v":":-)"},{"$f":"IF('Technical SDG'!P58=\"\",\"\",IF($D59=\"\",\"please complete\",IF($D59>'Technical SDG'!P58-1,\":-)\",CONCATENATE(\"increase until \",'Technical SDG'!P58))))","v":""},{"$f":"IF('Technical SDG'!Q58=\"\",\"\",IF($D59=\"\",\"please complete\",IF($D59>'Technical SDG'!Q58-1,\":-)\",CONCATENATE(\"increase until \",'Technical SDG'!Q58))))","v":""},{"$f":"IF('Technical SDG'!R58=\"\",\"\",IF($D59=\"\",\"please complete\",IF($D59>'Technical SDG'!R58-1,\":-)\",CONCATENATE(\"increase until \",'Technical SDG'!R58))))","v":""},{"$f":"IF('Technical SDG'!S58=\"\",\"\",IF($D59=\"\",\"please complete\",IF($D59>'Technical SDG'!S58-1,\":-)\",CONCATENATE(\"increase until \",'Technical SDG'!S58))))","v":""},{"$f":"IF('Technical SDG'!T58=\"\",\"\",IF($D59=\"\",\"please complete\",IF($D59>'Technical SDG'!T58-1,\":-)\",CONCATENATE(\"increase until \",'Technical SDG'!T58))))","v":""}]
[null,{"$f":"'Technical SDG'!B59","v":"Q2.40"},{"$f":"VLOOKUP(B60,'Chapter 2'!$C$6:$D$278,2,0)","v":"Jakým způsobem organizace řídí své emise škodlivin do vody?"},{"$f":"'Technical SDG'!C59","v":3},15,{"$f":"IF('Technical SDG'!D59=\"\",\"\",IF($D60=\"\",\"please complete\",IF($D60>'Technical SDG'!D59-1,\":-)\",CONCATENATE(\"increase until \",'Technical SDG'!D59))))","v":""},{"$f":"IF('Technical SDG'!E59=\"\",\"\",IF($D60=\"\",\"please complete\",IF($D60>'Technical SDG'!E59-1,\":-)\",CONCATENATE(\"increase until \",'Technical SDG'!E59))))","v":""},{"$f":"IF('Technical SDG'!F59=\"\",\"\",IF($D60=\"\",\"please complete\",IF($D60>'Technical SDG'!F59-1,\":-)\",CONCATENATE(\"increase until \",'Technical SDG'!F59))))","v":""},{"$f":"IF('Technical SDG'!G59=\"\",\"\",IF($D60=\"\",\"please complete\",IF($D60>'Technical SDG'!G59-1,\":-)\",CONCATENATE(\"increase until \",'Technical SDG'!G59))))","v":""},{"$f":"IF('Technical SDG'!H59=\"\",\"\",IF($D60=\"\",\"please complete\",IF($D60>'Technical SDG'!H59-1,\":-)\",CONCATENATE(\"increase until \",'Technical SDG'!H59))))","v":""},{"$f":"IF('Technical SDG'!I59=\"\",\"\",IF($D60=\"\",\"please complete\",IF($D60>'Technical SDG'!I59-1,\":-)\",CONCATENATE(\"increase until \",'Technical SDG'!I59))))","v":""},{"$f":"IF('Technical SDG'!J59=\"\",\"\",IF($D60=\"\",\"please complete\",IF($D60>'Technical SDG'!J59-1,\":-)\",CONCATENATE(\"increase until \",'Technical SDG'!J59))))","v":""},{"$f":"IF('Technical SDG'!K59=\"\",\"\",IF($D60=\"\",\"please complete\",IF($D60>'Technical SDG'!K59-1,\":-)\",CONCATENATE(\"increase until \",'Technical SDG'!K59))))","v":""},{"$f":"IF('Technical SDG'!L59=\"\",\"\",IF($D60=\"\",\"please complete\",IF($D60>'Technical SDG'!L59-1,\":-)\",CONCATENATE(\"increase until \",'Technical SDG'!L59))))","v":":-)"},{"$f":"IF('Technical SDG'!M59=\"\",\"\",IF($D60=\"\",\"please complete\",IF($D60>'Technical SDG'!M59-1,\":-)\",CONCATENATE(\"increase until \",'Technical SDG'!M59))))","v":""},{"$f":"IF('Technical SDG'!N59=\"\",\"\",IF($D60=\"\",\"please complete\",IF($D60>'Technical SDG'!N59-1,\":-)\",CONCATENATE(\"increase until \",'Technical SDG'!N59))))","v":""},{"$f":"IF('Technical SDG'!O59=\"\",\"\",IF($D60=\"\",\"please complete\",IF($D60>'Technical SDG'!O59-1,\":-)\",CONCATENATE(\"increase until \",'Technical SDG'!O59))))","v":":-)"},{"$f":"IF('Technical SDG'!P59=\"\",\"\",IF($D60=\"\",\"please complete\",IF($D60>'Technical SDG'!P59-1,\":-)\",CONCATENATE(\"increase until \",'Technical SDG'!P59))))","v":""},{"$f":"IF('Technical SDG'!Q59=\"\",\"\",IF($D60=\"\",\"please complete\",IF($D60>'Technical SDG'!Q59-1,\":-)\",CONCATENATE(\"increase until \",'Technical SDG'!Q59))))","v":""},{"$f":"IF('Technical SDG'!R59=\"\",\"\",IF($D60=\"\",\"please complete\",IF($D60>'Technical SDG'!R59-1,\":-)\",CONCATENATE(\"increase until \",'Technical SDG'!R59))))","v":""},{"$f":"IF('Technical SDG'!S59=\"\",\"\",IF($D60=\"\",\"please complete\",IF($D60>'Technical SDG'!S59-1,\":-)\",CONCATENATE(\"increase until \",'Technical SDG'!S59))))","v":""},{"$f":"IF('Technical SDG'!T59=\"\",\"\",IF($D60=\"\",\"please complete\",IF($D60>'Technical SDG'!T59-1,\":-)\",CONCATENATE(\"increase until \",'Technical SDG'!T59))))","v":""}]
[null,{"$f":"'Technical SDG'!B60","v":"Q2.41"},{"$f":"VLOOKUP(B61,'Chapter 2'!$C$6:$D$278,2,0)","v":"Jakým způsobem organizace řídí své emise hluku?"},{"$f":"'Technical SDG'!C60","v":3},17,{"$f":"IF('Technical SDG'!D60=\"\",\"\",IF($D61=\"\",\"please complete\",IF($D61>'Technical SDG'!D60-1,\":-)\",CONCATENATE(\"increase until \",'Technical SDG'!D60))))","v":""},{"$f":"IF('Technical SDG'!E60=\"\",\"\",IF($D61=\"\",\"please complete\",IF($D61>'Technical SDG'!E60-1,\":-)\",CONCATENATE(\"increase until \",'Technical SDG'!E60))))","v":""},{"$f":"IF('Technical SDG'!F60=\"\",\"\",IF($D61=\"\",\"please complete\",IF($D61>'Technical SDG'!F60-1,\":-)\",CONCATENATE(\"increase until \",'Technical SDG'!F60))))","v":""},{"$f":"IF('Technical SDG'!G60=\"\",\"\",IF($D61=\"\",\"please complete\",IF($D61>'Technical SDG'!G60-1,\":-)\",CONCATENATE(\"increase until \",'Technical SDG'!G60))))","v":""},{"$f":"IF('Technical SDG'!H60=\"\",\"\",IF($D61=\"\",\"please complete\",IF($D61>'Technical SDG'!H60-1,\":-)\",CONCATENATE(\"increase until \",'Technical SDG'!H60))))","v":""},{"$f":"IF('Technical SDG'!I60=\"\",\"\",IF($D61=\"\",\"please complete\",IF($D61>'Technical SDG'!I60-1,\":-)\",CONCATENATE(\"increase until \",'Technical SDG'!I60))))","v":""},{"$f":"IF('Technical SDG'!J60=\"\",\"\",IF($D61=\"\",\"please complete\",IF($D61>'Technical SDG'!J60-1,\":-)\",CONCATENATE(\"increase until \",'Technical SDG'!J60))))","v":""},{"$f":"IF('Technical SDG'!K60=\"\",\"\",IF($D61=\"\",\"please complete\",IF($D61>'Technical SDG'!K60-1,\":-)\",CONCATENATE(\"increase until \",'Technical SDG'!K60))))","v":""},{"$f":"IF('Technical SDG'!L60=\"\",\"\",IF($D61=\"\",\"please complete\",IF($D61>'Technical SDG'!L60-1,\":-)\",CONCATENATE(\"increase until \",'Technical SDG'!L60))))","v":""},{"$f":"IF('Technical SDG'!M60=\"\",\"\",IF($D61=\"\",\"please complete\",IF($D61>'Technical SDG'!M60-1,\":-)\",CONCATENATE(\"increase until \",'Technical SDG'!M60))))","v":""},{"$f":"IF('Technical SDG'!N60=\"\",\"\",IF($D61=\"\",\"please complete\",IF($D61>'Technical SDG'!N60-1,\":-)\",CONCATENATE(\"increase until \",'Technical SDG'!N60))))","v":""},{"$f":"IF('Technical SDG'!O60=\"\",\"\",IF($D61=\"\",\"please complete\",IF($D61>'Technical SDG'!O60-1,\":-)\",CONCATENATE(\"increase until \",'Technical SDG'!O60))))","v":""},{"$f":"IF('Technical SDG'!P60=\"\",\"\",IF($D61=\"\",\"please complete\",IF($D61>'Technical SDG'!P60-1,\":-)\",CONCATENATE(\"increase until \",'Technical SDG'!P60))))","v":""},{"$f":"IF('Technical SDG'!Q60=\"\",\"\",IF($D61=\"\",\"please complete\",IF($D61>'Technical SDG'!Q60-1,\":-)\",CONCATENATE(\"increase until \",'Technical SDG'!Q60))))","v":""},{"$f":"IF('Technical SDG'!R60=\"\",\"\",IF($D61=\"\",\"please complete\",IF($D61>'Technical SDG'!R60-1,\":-)\",CONCATENATE(\"increase until \",'Technical SDG'!R60))))","v":""},{"$f":"IF('Technical SDG'!S60=\"\",\"\",IF($D61=\"\",\"please complete\",IF($D61>'Technical SDG'!S60-1,\":-)\",CONCATENATE(\"increase until \",'Technical SDG'!S60))))","v":""},{"$f":"IF('Technical SDG'!T60=\"\",\"\",IF($D61=\"\",\"please complete\",IF($D61>'Technical SDG'!T60-1,\":-)\",CONCATENATE(\"increase until \",'Technical SDG'!T60))))","v":""}]
[null,{"$f":"'Technical SDG'!B61","v":"Q2.42"},{"$f":"VLOOKUP(B62,'Chapter 2'!$C$6:$D$278,2,0)","v":"Jakým způsobem organizace řídí své emise zápachu?"},{"$f":"'Technical SDG'!C61","v":3},17,{"$f":"IF('Technical SDG'!D61=\"\",\"\",IF($D62=\"\",\"please complete\",IF($D62>'Technical SDG'!D61-1,\":-)\",CONCATENATE(\"increase until \",'Technical SDG'!D61))))","v":""},{"$f":"IF('Technical SDG'!E61=\"\",\"\",IF($D62=\"\",\"please complete\",IF($D62>'Technical SDG'!E61-1,\":-)\",CONCATENATE(\"increase until \",'Technical SDG'!E61))))","v":""},{"$f":"IF('Technical SDG'!F61=\"\",\"\",IF($D62=\"\",\"please complete\",IF($D62>'Technical SDG'!F61-1,\":-)\",CONCATENATE(\"increase until \",'Technical SDG'!F61))))","v":""},{"$f":"IF('Technical SDG'!G61=\"\",\"\",IF($D62=\"\",\"please complete\",IF($D62>'Technical SDG'!G61-1,\":-)\",CONCATENATE(\"increase until \",'Technical SDG'!G61))))","v":""},{"$f":"IF('Technical SDG'!H61=\"\",\"\",IF($D62=\"\",\"please complete\",IF($D62>'Technical SDG'!H61-1,\":-)\",CONCATENATE(\"increase until \",'Technical SDG'!H61))))","v":""},{"$f":"IF('Technical SDG'!I61=\"\",\"\",IF($D62=\"\",\"please complete\",IF($D62>'Technical SDG'!I61-1,\":-)\",CONCATENATE(\"increase until \",'Technical SDG'!I61))))","v":""},{"$f":"IF('Technical SDG'!J61=\"\",\"\",IF($D62=\"\",\"please complete\",IF($D62>'Technical SDG'!J61-1,\":-)\",CONCATENATE(\"increase until \",'Technical SDG'!J61))))","v":""},{"$f":"IF('Technical SDG'!K61=\"\",\"\",IF($D62=\"\",\"please complete\",IF($D62>'Technical SDG'!K61-1,\":-)\",CONCATENATE(\"increase until \",'Technical SDG'!K61))))","v":""},{"$f":"IF('Technical SDG'!L61=\"\",\"\",IF($D62=\"\",\"please complete\",IF($D62>'Technical SDG'!L61-1,\":-)\",CONCATENATE(\"increase until \",'Technical SDG'!L61))))","v":""},{"$f":"IF('Technical SDG'!M61=\"\",\"\",IF($D62=\"\",\"please complete\",IF($D62>'Technical SDG'!M61-1,\":-)\",CONCATENATE(\"increase until \",'Technical SDG'!M61))))","v":""},{"$f":"IF('Technical SDG'!N61=\"\",\"\",IF($D62=\"\",\"please complete\",IF($D62>'Technical SDG'!N61-1,\":-)\",CONCATENATE(\"increase until \",'Technical SDG'!N61))))","v":""},{"$f":"IF('Technical SDG'!O61=\"\",\"\",IF($D62=\"\",\"please complete\",IF($D62>'Technical SDG'!O61-1,\":-)\",CONCATENATE(\"increase until \",'Technical SDG'!O61))))","v":""},{"$f":"IF('Technical SDG'!P61=\"\",\"\",IF($D62=\"\",\"please complete\",IF($D62>'Technical SDG'!P61-1,\":-)\",CONCATENATE(\"increase until \",'Technical SDG'!P61))))","v":""},{"$f":"IF('Technical SDG'!Q61=\"\",\"\",IF($D62=\"\",\"please complete\",IF($D62>'Technical SDG'!Q61-1,\":-)\",CONCATENATE(\"increase until \",'Technical SDG'!Q61))))","v":""},{"$f":"IF('Technical SDG'!R61=\"\",\"\",IF($D62=\"\",\"please complete\",IF($D62>'Technical SDG'!R61-1,\":-)\",CONCATENATE(\"increase until \",'Technical SDG'!R61))))","v":""},{"$f":"IF('Technical SDG'!S61=\"\",\"\",IF($D62=\"\",\"please complete\",IF($D62>'Technical SDG'!S61-1,\":-)\",CONCATENATE(\"increase until \",'Technical SDG'!S61))))","v":""},{"$f":"IF('Technical SDG'!T61=\"\",\"\",IF($D62=\"\",\"please complete\",IF($D62>'Technical SDG'!T61-1,\":-)\",CONCATENATE(\"increase until \",'Technical SDG'!T61))))","v":""}]
[null,{"$f":"'Technical SDG'!B62","v":"Q2.43"},{"$f":"VLOOKUP(B63,'Chapter 2'!$C$6:$D$278,2,0)","v":"Jakým způsobem organizace zabraňuje a řídí havarijní emise do prostředí?"},{"$f":"'Technical SDG'!C62","v":3},17,{"$f":"IF('Technical SDG'!D62=\"\",\"\",IF($D63=\"\",\"please complete\",IF($D63>'Technical SDG'!D62-1,\":-)\",CONCATENATE(\"increase until \",'Technical SDG'!D62))))","v":""},{"$f":"IF('Technical SDG'!E62=\"\",\"\",IF($D63=\"\",\"please complete\",IF($D63>'Technical SDG'!E62-1,\":-)\",CONCATENATE(\"increase until \",'Technical SDG'!E62))))","v":""},{"$f":"IF('Technical SDG'!F62=\"\",\"\",IF($D63=\"\",\"please complete\",IF($D63>'Technical SDG'!F62-1,\":-)\",CONCATENATE(\"increase until \",'Technical SDG'!F62))))","v":""},{"$f":"IF('Technical SDG'!G62=\"\",\"\",IF($D63=\"\",\"please complete\",IF($D63>'Technical SDG'!G62-1,\":-)\",CONCATENATE(\"increase until \",'Technical SDG'!G62))))","v":""},{"$f":"IF('Technical SDG'!H62=\"\",\"\",IF($D63=\"\",\"please complete\",IF($D63>'Technical SDG'!H62-1,\":-)\",CONCATENATE(\"increase until \",'Technical SDG'!H62))))","v":""},{"$f":"IF('Technical SDG'!I62=\"\",\"\",IF($D63=\"\",\"please complete\",IF($D63>'Technical SDG'!I62-1,\":-)\",CONCATENATE(\"increase until \",'Technical SDG'!I62))))","v":""},{"$f":"IF('Technical SDG'!J62=\"\",\"\",IF($D63=\"\",\"please complete\",IF($D63>'Technical SDG'!J62-1,\":-)\",CONCATENATE(\"increase until \",'Technical SDG'!J62))))","v":""},{"$f":"IF('Technical SDG'!K62=\"\",\"\",IF($D63=\"\",\"please complete\",IF($D63>'Technical SDG'!K62-1,\":-)\",CONCATENATE(\"increase until \",'Technical SDG'!K62))))","v":""},{"$f":"IF('Technical SDG'!L62=\"\",\"\",IF($D63=\"\",\"please complete\",IF($D63>'Technical SDG'!L62-1,\":-)\",CONCATENATE(\"increase until \",'Technical SDG'!L62))))","v":""},{"$f":"IF('Technical SDG'!M62=\"\",\"\",IF($D63=\"\",\"please complete\",IF($D63>'Technical SDG'!M62-1,\":-)\",CONCATENATE(\"increase until \",'Technical SDG'!M62))))","v":""},{"$f":"IF('Technical SDG'!N62=\"\",\"\",IF($D63=\"\",\"please complete\",IF($D63>'Technical SDG'!N62-1,\":-)\",CONCATENATE(\"increase until \",'Technical SDG'!N62))))","v":""},{"$f":"IF('Technical SDG'!O62=\"\",\"\",IF($D63=\"\",\"please complete\",IF($D63>'Technical SDG'!O62-1,\":-)\",CONCATENATE(\"increase until \",'Technical SDG'!O62))))","v":""},{"$f":"IF('Technical SDG'!P62=\"\",\"\",IF($D63=\"\",\"please complete\",IF($D63>'Technical SDG'!P62-1,\":-)\",CONCATENATE(\"increase until \",'Technical SDG'!P62))))","v":""},{"$f":"IF('Technical SDG'!Q62=\"\",\"\",IF($D63=\"\",\"please complete\",IF($D63>'Technical SDG'!Q62-1,\":-)\",CONCATENATE(\"increase until \",'Technical SDG'!Q62))))","v":""},{"$f":"IF('Technical SDG'!R62=\"\",\"\",IF($D63=\"\",\"please complete\",IF($D63>'Technical SDG'!R62-1,\":-)\",CONCATENATE(\"increase until \",'Technical SDG'!R62))))","v":""},{"$f":"IF('Technical SDG'!S62=\"\",\"\",IF($D63=\"\",\"please complete\",IF($D63>'Technical SDG'!S62-1,\":-)\",CONCATENATE(\"increase until \",'Technical SDG'!S62))))","v":""},{"$f":"IF('Technical SDG'!T62=\"\",\"\",IF($D63=\"\",\"please complete\",IF($D63>'Technical SDG'!T62-1,\":-)\",CONCATENATE(\"increase until \",'Technical SDG'!T62))))","v":""}]
[null,{"$f":"'Technical SDG'!B63","v":"Q2.44"},{"$f":"VLOOKUP(B64,'Chapter 2'!$C$6:$D$278,2,0)","v":"Jakým způsobem zajišťuje organizace správně kompetence všech pracovníků, týkající se environmentálních požadavků, které souvisejí s jejich pracovní náplní?"},{"$f":"'Technical SDG'!C63","v":3},17,{"$f":"IF('Technical SDG'!D63=\"\",\"\",IF($D64=\"\",\"please complete\",IF($D64>'Technical SDG'!D63-1,\":-)\",CONCATENATE(\"increase until \",'Technical SDG'!D63))))","v":""},{"$f":"IF('Technical SDG'!E63=\"\",\"\",IF($D64=\"\",\"please complete\",IF($D64>'Technical SDG'!E63-1,\":-)\",CONCATENATE(\"increase until \",'Technical SDG'!E63))))","v":""},{"$f":"IF('Technical SDG'!F63=\"\",\"\",IF($D64=\"\",\"please complete\",IF($D64>'Technical SDG'!F63-1,\":-)\",CONCATENATE(\"increase until \",'Technical SDG'!F63))))","v":""},{"$f":"IF('Technical SDG'!G63=\"\",\"\",IF($D64=\"\",\"please complete\",IF($D64>'Technical SDG'!G63-1,\":-)\",CONCATENATE(\"increase until \",'Technical SDG'!G63))))","v":""},{"$f":"IF('Technical SDG'!H63=\"\",\"\",IF($D64=\"\",\"please complete\",IF($D64>'Technical SDG'!H63-1,\":-)\",CONCATENATE(\"increase until \",'Technical SDG'!H63))))","v":""},{"$f":"IF('Technical SDG'!I63=\"\",\"\",IF($D64=\"\",\"please complete\",IF($D64>'Technical SDG'!I63-1,\":-)\",CONCATENATE(\"increase until \",'Technical SDG'!I63))))","v":""},{"$f":"IF('Technical SDG'!J63=\"\",\"\",IF($D64=\"\",\"please complete\",IF($D64>'Technical SDG'!J63-1,\":-)\",CONCATENATE(\"increase until \",'Technical SDG'!J63))))","v":""},{"$f":"IF('Technical SDG'!K63=\"\",\"\",IF($D64=\"\",\"please complete\",IF($D64>'Technical SDG'!K63-1,\":-)\",CONCATENATE(\"increase until \",'Technical SDG'!K63))))","v":""},{"$f":"IF('Technical SDG'!L63=\"\",\"\",IF($D64=\"\",\"please complete\",IF($D64>'Technical SDG'!L63-1,\":-)\",CONCATENATE(\"increase until \",'Technical SDG'!L63))))","v":""},{"$f":"IF('Technical SDG'!M63=\"\",\"\",IF($D64=\"\",\"please complete\",IF($D64>'Technical SDG'!M63-1,\":-)\",CONCATENATE(\"increase until \",'Technical SDG'!M63))))","v":""},{"$f":"IF('Technical SDG'!N63=\"\",\"\",IF($D64=\"\",\"please complete\",IF($D64>'Technical SDG'!N63-1,\":-)\",CONCATENATE(\"increase until \",'Technical SDG'!N63))))","v":""},{"$f":"IF('Technical SDG'!O63=\"\",\"\",IF($D64=\"\",\"please complete\",IF($D64>'Technical SDG'!O63-1,\":-)\",CONCATENATE(\"increase until \",'Technical SDG'!O63))))","v":""},{"$f":"IF('Technical SDG'!P63=\"\",\"\",IF($D64=\"\",\"please complete\",IF($D64>'Technical SDG'!P63-1,\":-)\",CONCATENATE(\"increase until \",'Technical SDG'!P63))))","v":""},{"$f":"IF('Technical SDG'!Q63=\"\",\"\",IF($D64=\"\",\"please complete\",IF($D64>'Technical SDG'!Q63-1,\":-)\",CONCATENATE(\"increase until \",'Technical SDG'!Q63))))","v":""},{"$f":"IF('Technical SDG'!R63=\"\",\"\",IF($D64=\"\",\"please complete\",IF($D64>'Technical SDG'!R63-1,\":-)\",CONCATENATE(\"increase until \",'Technical SDG'!R63))))","v":""},{"$f":"IF('Technical SDG'!S63=\"\",\"\",IF($D64=\"\",\"please complete\",IF($D64>'Technical SDG'!S63-1,\":-)\",CONCATENATE(\"increase until \",'Technical SDG'!S63))))","v":""},{"$f":"IF('Technical SDG'!T63=\"\",\"\",IF($D64=\"\",\"please complete\",IF($D64>'Technical SDG'!T63-1,\":-)\",CONCATENATE(\"increase until \",'Technical SDG'!T63))))","v":""}]
[null,{"$f":"'Technical SDG'!B64","v":"Q2.45"},{"$f":"VLOOKUP(B65,'Chapter 2'!$C$6:$D$278,2,0)","v":"Jakým způsobem jsou zainteresované strany organizace informovány o environmentálních aspektech a jejich možných dopadech?"},{"$f":"'Technical SDG'!C64","v":1},17,{"$f":"IF('Technical SDG'!D64=\"\",\"\",IF($D65=\"\",\"please complete\",IF($D65>'Technical SDG'!D64-1,\":-)\",CONCATENATE(\"increase until \",'Technical SDG'!D64))))","v":""},{"$f":"IF('Technical SDG'!E64=\"\",\"\",IF($D65=\"\",\"please complete\",IF($D65>'Technical SDG'!E64-1,\":-)\",CONCATENATE(\"increase until \",'Technical SDG'!E64))))","v":""},{"$f":"IF('Technical SDG'!F64=\"\",\"\",IF($D65=\"\",\"please complete\",IF($D65>'Technical SDG'!F64-1,\":-)\",CONCATENATE(\"increase until \",'Technical SDG'!F64))))","v":""},{"$f":"IF('Technical SDG'!G64=\"\",\"\",IF($D65=\"\",\"please complete\",IF($D65>'Technical SDG'!G64-1,\":-)\",CONCATENATE(\"increase until \",'Technical SDG'!G64))))","v":""},{"$f":"IF('Technical SDG'!H64=\"\",\"\",IF($D65=\"\",\"please complete\",IF($D65>'Technical SDG'!H64-1,\":-)\",CONCATENATE(\"increase until \",'Technical SDG'!H64))))","v":""},{"$f":"IF('Technical SDG'!I64=\"\",\"\",IF($D65=\"\",\"please complete\",IF($D65>'Technical SDG'!I64-1,\":-)\",CONCATENATE(\"increase until \",'Technical SDG'!I64))))","v":""},{"$f":"IF('Technical SDG'!J64=\"\",\"\",IF($D65=\"\",\"please complete\",IF($D65>'Technical SDG'!J64-1,\":-)\",CONCATENATE(\"increase until \",'Technical SDG'!J64))))","v":""},{"$f":"IF('Technical SDG'!K64=\"\",\"\",IF($D65=\"\",\"please complete\",IF($D65>'Technical SDG'!K64-1,\":-)\",CONCATENATE(\"increase until \",'Technical SDG'!K64))))","v":""},{"$f":"IF('Technical SDG'!L64=\"\",\"\",IF($D65=\"\",\"please complete\",IF($D65>'Technical SDG'!L64-1,\":-)\",CONCATENATE(\"increase until \",'Technical SDG'!L64))))","v":""},{"$f":"IF('Technical SDG'!M64=\"\",\"\",IF($D65=\"\",\"please complete\",IF($D65>'Technical SDG'!M64-1,\":-)\",CONCATENATE(\"increase until \",'Technical SDG'!M64))))","v":""},{"$f":"IF('Technical SDG'!N64=\"\",\"\",IF($D65=\"\",\"please complete\",IF($D65>'Technical SDG'!N64-1,\":-)\",CONCATENATE(\"increase until \",'Technical SDG'!N64))))","v":""},{"$f":"IF('Technical SDG'!O64=\"\",\"\",IF($D65=\"\",\"please complete\",IF($D65>'Technical SDG'!O64-1,\":-)\",CONCATENATE(\"increase until \",'Technical SDG'!O64))))","v":""},{"$f":"IF('Technical SDG'!P64=\"\",\"\",IF($D65=\"\",\"please complete\",IF($D65>'Technical SDG'!P64-1,\":-)\",CONCATENATE(\"increase until \",'Technical SDG'!P64))))","v":""},{"$f":"IF('Technical SDG'!Q64=\"\",\"\",IF($D65=\"\",\"please complete\",IF($D65>'Technical SDG'!Q64-1,\":-)\",CONCATENATE(\"increase until \",'Technical SDG'!Q64))))","v":""},{"$f":"IF('Technical SDG'!R64=\"\",\"\",IF($D65=\"\",\"please complete\",IF($D65>'Technical SDG'!R64-1,\":-)\",CONCATENATE(\"increase until \",'Technical SDG'!R64))))","v":""},{"$f":"IF('Technical SDG'!S64=\"\",\"\",IF($D65=\"\",\"please complete\",IF($D65>'Technical SDG'!S64-1,\":-)\",CONCATENATE(\"increase until \",'Technical SDG'!S64))))","v":""},{"$f":"IF('Technical SDG'!T64=\"\",\"\",IF($D65=\"\",\"please complete\",IF($D65>'Technical SDG'!T64-1,\":-)\",CONCATENATE(\"increase until \",'Technical SDG'!T64))))","v":""}]
[]
[null,{"$f":"'Technical SDG'!B66","v":"Q3.1"},{"$f":"VLOOKUP(B67,'Chapter 3'!$C$6:$D$70,2,0)","v":"Zavedla organizace proces pro navrhování a vývoj nových \nproduktů a služeb?"},{"$f":"'Technical SDG'!C66","v":4},15,{"$f":"IF('Technical SDG'!D66=\"\",\"\",IF($D67=\"\",\"please complete\",IF($D67>'Technical SDG'!D66-1,\":-)\",CONCATENATE(\"increase until \",'Technical SDG'!D66))))","v":""},{"$f":"IF('Technical SDG'!E66=\"\",\"\",IF($D67=\"\",\"please complete\",IF($D67>'Technical SDG'!E66-1,\":-)\",CONCATENATE(\"increase until \",'Technical SDG'!E66))))","v":""},{"$f":"IF('Technical SDG'!F66=\"\",\"\",IF($D67=\"\",\"please complete\",IF($D67>'Technical SDG'!F66-1,\":-)\",CONCATENATE(\"increase until \",'Technical SDG'!F66))))","v":""},{"$f":"IF('Technical SDG'!G66=\"\",\"\",IF($D67=\"\",\"please complete\",IF($D67>'Technical SDG'!G66-1,\":-)\",CONCATENATE(\"increase until \",'Technical SDG'!G66))))","v":""},{"$f":"IF('Technical SDG'!H66=\"\",\"\",IF($D67=\"\",\"please complete\",IF($D67>'Technical SDG'!H66-1,\":-)\",CONCATENATE(\"increase until \",'Technical SDG'!H66))))","v":""},{"$f":"IF('Technical SDG'!I66=\"\",\"\",IF($D67=\"\",\"please complete\",IF($D67>'Technical SDG'!I66-1,\":-)\",CONCATENATE(\"increase until \",'Technical SDG'!I66))))","v":""},{"$f":"IF('Technical SDG'!J66=\"\",\"\",IF($D67=\"\",\"please complete\",IF($D67>'Technical SDG'!J66-1,\":-)\",CONCATENATE(\"increase until \",'Technical SDG'!J66))))","v":""},{"$f":"IF('Technical SDG'!K66=\"\",\"\",IF($D67=\"\",\"please complete\",IF($D67>'Technical SDG'!K66-1,\":-)\",CONCATENATE(\"increase until \",'Technical SDG'!K66))))","v":""},{"$f":"IF('Technical SDG'!L66=\"\",\"\",IF($D67=\"\",\"please complete\",IF($D67>'Technical SDG'!L66-1,\":-)\",CONCATENATE(\"increase until \",'Technical SDG'!L66))))","v":":-)"},{"$f":"IF('Technical SDG'!M66=\"\",\"\",IF($D67=\"\",\"please complete\",IF($D67>'Technical SDG'!M66-1,\":-)\",CONCATENATE(\"increase until \",'Technical SDG'!M66))))","v":""},{"$f":"IF('Technical SDG'!N66=\"\",\"\",IF($D67=\"\",\"please complete\",IF($D67>'Technical SDG'!N66-1,\":-)\",CONCATENATE(\"increase until \",'Technical SDG'!N66))))","v":""},{"$f":"IF('Technical SDG'!O66=\"\",\"\",IF($D67=\"\",\"please complete\",IF($D67>'Technical SDG'!O66-1,\":-)\",CONCATENATE(\"increase until \",'Technical SDG'!O66))))","v":":-)"},{"$f":"IF('Technical SDG'!P66=\"\",\"\",IF($D67=\"\",\"please complete\",IF($D67>'Technical SDG'!P66-1,\":-)\",CONCATENATE(\"increase until \",'Technical SDG'!P66))))","v":""},{"$f":"IF('Technical SDG'!Q66=\"\",\"\",IF($D67=\"\",\"please complete\",IF($D67>'Technical SDG'!Q66-1,\":-)\",CONCATENATE(\"increase until \",'Technical SDG'!Q66))))","v":""},{"$f":"IF('Technical SDG'!R66=\"\",\"\",IF($D67=\"\",\"please complete\",IF($D67>'Technical SDG'!R66-1,\":-)\",CONCATENATE(\"increase until \",'Technical SDG'!R66))))","v":""},{"$f":"IF('Technical SDG'!S66=\"\",\"\",IF($D67=\"\",\"please complete\",IF($D67>'Technical SDG'!S66-1,\":-)\",CONCATENATE(\"increase until \",'Technical SDG'!S66))))","v":""},{"$f":"IF('Technical SDG'!T66=\"\",\"\",IF($D67=\"\",\"please complete\",IF($D67>'Technical SDG'!T66-1,\":-)\",CONCATENATE(\"increase until \",'Technical SDG'!T66))))","v":""}]
[null,{"$f":"'Technical SDG'!B67","v":"Q3.2"},{"$f":"VLOOKUP(B68,'Chapter 3'!$C$6:$D$70,2,0)","v":"Má organizace k dispozici proces hodnocení a stanovení priorit svých produktů pro charakterizaci rizik a řízení rizik?\n\n\n"},{"$f":"'Technical SDG'!C67","v":2},15,{"$f":"IF('Technical SDG'!D67=\"\",\"\",IF($D68=\"\",\"please complete\",IF($D68>'Technical SDG'!D67-1,\":-)\",CONCATENATE(\"increase until \",'Technical SDG'!D67))))","v":""},{"$f":"IF('Technical SDG'!E67=\"\",\"\",IF($D68=\"\",\"please complete\",IF($D68>'Technical SDG'!E67-1,\":-)\",CONCATENATE(\"increase until \",'Technical SDG'!E67))))","v":""},{"$f":"IF('Technical SDG'!F67=\"\",\"\",IF($D68=\"\",\"please complete\",IF($D68>'Technical SDG'!F67-1,\":-)\",CONCATENATE(\"increase until \",'Technical SDG'!F67))))","v":""},{"$f":"IF('Technical SDG'!G67=\"\",\"\",IF($D68=\"\",\"please complete\",IF($D68>'Technical SDG'!G67-1,\":-)\",CONCATENATE(\"increase until \",'Technical SDG'!G67))))","v":""},{"$f":"IF('Technical SDG'!H67=\"\",\"\",IF($D68=\"\",\"please complete\",IF($D68>'Technical SDG'!H67-1,\":-)\",CONCATENATE(\"increase until \",'Technical SDG'!H67))))","v":""},{"$f":"IF('Technical SDG'!I67=\"\",\"\",IF($D68=\"\",\"please complete\",IF($D68>'Technical SDG'!I67-1,\":-)\",CONCATENATE(\"increase until \",'Technical SDG'!I67))))","v":""},{"$f":"IF('Technical SDG'!J67=\"\",\"\",IF($D68=\"\",\"please complete\",IF($D68>'Technical SDG'!J67-1,\":-)\",CONCATENATE(\"increase until \",'Technical SDG'!J67))))","v":""},{"$f":"IF('Technical SDG'!K67=\"\",\"\",IF($D68=\"\",\"please complete\",IF($D68>'Technical SDG'!K67-1,\":-)\",CONCATENATE(\"increase until \",'Technical SDG'!K67))))","v":""},{"$f":"IF('Technical SDG'!L67=\"\",\"\",IF($D68=\"\",\"please complete\",IF($D68>'Technical SDG'!L67-1,\":-)\",CONCATENATE(\"increase until \",'Technical SDG'!L67))))","v":"increase until 3"},{"$f":"IF('Technical SDG'!M67=\"\",\"\",IF($D68=\"\",\"please complete\",IF($D68>'Technical SDG'!M67-1,\":-)\",CONCATENATE(\"increase until \",'Technical SDG'!M67))))","v":""},{"$f":"IF('Technical SDG'!N67=\"\",\"\",IF($D68=\"\",\"please complete\",IF($D68>'Technical SDG'!N67-1,\":-)\",CONCATENATE(\"increase until \",'Technical SDG'!N67))))","v":""},{"$f":"IF('Technical SDG'!O67=\"\",\"\",IF($D68=\"\",\"please complete\",IF($D68>'Technical SDG'!O67-1,\":-)\",CONCATENATE(\"increase until \",'Technical SDG'!O67))))","v":"increase until 3"},{"$f":"IF('Technical SDG'!P67=\"\",\"\",IF($D68=\"\",\"please complete\",IF($D68>'Technical SDG'!P67-1,\":-)\",CONCATENATE(\"increase until \",'Technical SDG'!P67))))","v":""},{"$f":"IF('Technical SDG'!Q67=\"\",\"\",IF($D68=\"\",\"please complete\",IF($D68>'Technical SDG'!Q67-1,\":-)\",CONCATENATE(\"increase until \",'Technical SDG'!Q67))))","v":""},{"$f":"IF('Technical SDG'!R67=\"\",\"\",IF($D68=\"\",\"please complete\",IF($D68>'Technical SDG'!R67-1,\":-)\",CONCATENATE(\"increase until \",'Technical SDG'!R67))))","v":""},{"$f":"IF('Technical SDG'!S67=\"\",\"\",IF($D68=\"\",\"please complete\",IF($D68>'Technical SDG'!S67-1,\":-)\",CONCATENATE(\"increase until \",'Technical SDG'!S67))))","v":""},{"$f":"IF('Technical SDG'!T67=\"\",\"\",IF($D68=\"\",\"please complete\",IF($D68>'Technical SDG'!T67-1,\":-)\",CONCATENATE(\"increase until \",'Technical SDG'!T67))))","v":""}]
[null,{"$f":"'Technical SDG'!B68","v":"Q3.3"},{"$f":"VLOOKUP(B69,'Chapter 3'!$C$6:$D$70,2,0)","v":"Zavedla organizace systém pro sledování použitelnosti, změn a dodržování interních a externích požadavků souvisejících s řízením bezpečnosti chemických látek?"},{"$f":"'Technical SDG'!C68","v":4},{"$f":"COUNTIF(F69:V69,\"\")","v":17},{"$f":"IF('Technical SDG'!D68=\"\",\"\",IF($D69=\"\",\"please complete\",IF($D69>'Technical SDG'!D68-1,\":-)\",CONCATENATE(\"increase until \",'Technical SDG'!D68))))","v":""},{"$f":"IF('Technical SDG'!E68=\"\",\"\",IF($D69=\"\",\"please complete\",IF($D69>'Technical SDG'!E68-1,\":-)\",CONCATENATE(\"increase until \",'Technical SDG'!E68))))","v":""},{"$f":"IF('Technical SDG'!F68=\"\",\"\",IF($D69=\"\",\"please complete\",IF($D69>'Technical SDG'!F68-1,\":-)\",CONCATENATE(\"increase until \",'Technical SDG'!F68))))","v":""},{"$f":"IF('Technical SDG'!G68=\"\",\"\",IF($D69=\"\",\"please complete\",IF($D69>'Technical SDG'!G68-1,\":-)\",CONCATENATE(\"increase until \",'Technical SDG'!G68))))","v":""},{"$f":"IF('Technical SDG'!H68=\"\",\"\",IF($D69=\"\",\"please complete\",IF($D69>'Technical SDG'!H68-1,\":-)\",CONCATENATE(\"increase until \",'Technical SDG'!H68))))","v":""},{"$f":"IF('Technical SDG'!I68=\"\",\"\",IF($D69=\"\",\"please complete\",IF($D69>'Technical SDG'!I68-1,\":-)\",CONCATENATE(\"increase until \",'Technical SDG'!I68))))","v":""},{"$f":"IF('Technical SDG'!J68=\"\",\"\",IF($D69=\"\",\"please complete\",IF($D69>'Technical SDG'!J68-1,\":-)\",CONCATENATE(\"increase until \",'Technical SDG'!J68))))","v":""},{"$f":"IF('Technical SDG'!K68=\"\",\"\",IF($D69=\"\",\"please complete\",IF($D69>'Technical SDG'!K68-1,\":-)\",CONCATENATE(\"increase until \",'Technical SDG'!K68))))","v":""},{"$f":"IF('Technical SDG'!L68=\"\",\"\",IF($D69=\"\",\"please complete\",IF($D69>'Technical SDG'!L68-1,\":-)\",CONCATENATE(\"increase until \",'Technical SDG'!L68))))","v":""},{"$f":"IF('Technical SDG'!M68=\"\",\"\",IF($D69=\"\",\"please complete\",IF($D69>'Technical SDG'!M68-1,\":-)\",CONCATENATE(\"increase until \",'Technical SDG'!M68))))","v":""},{"$f":"IF('Technical SDG'!N68=\"\",\"\",IF($D69=\"\",\"please complete\",IF($D69>'Technical SDG'!N68-1,\":-)\",CONCATENATE(\"increase until \",'Technical SDG'!N68))))","v":""},{"$f":"IF('Technical SDG'!O68=\"\",\"\",IF($D69=\"\",\"please complete\",IF($D69>'Technical SDG'!O68-1,\":-)\",CONCATENATE(\"increase until \",'Technical SDG'!O68))))","v":""},{"$f":"IF('Technical SDG'!P68=\"\",\"\",IF($D69=\"\",\"please complete\",IF($D69>'Technical SDG'!P68-1,\":-)\",CONCATENATE(\"increase until \",'Technical SDG'!P68))))","v":""},{"$f":"IF('Technical SDG'!Q68=\"\",\"\",IF($D69=\"\",\"please complete\",IF($D69>'Technical SDG'!Q68-1,\":-)\",CONCATENATE(\"increase until \",'Technical SDG'!Q68))))","v":""},{"$f":"IF('Technical SDG'!R68=\"\",\"\",IF($D69=\"\",\"please complete\",IF($D69>'Technical SDG'!R68-1,\":-)\",CONCATENATE(\"increase until \",'Technical SDG'!R68))))","v":""},{"$f":"IF('Technical SDG'!S68=\"\",\"\",IF($D69=\"\",\"please complete\",IF($D69>'Technical SDG'!S68-1,\":-)\",CONCATENATE(\"increase until \",'Technical SDG'!S68))))","v":""},{"$f":"IF('Technical SDG'!T68=\"\",\"\",IF($D69=\"\",\"please complete\",IF($D69>'Technical SDG'!T68-1,\":-)\",CONCATENATE(\"increase until \",'Technical SDG'!T68))))","v":""}]
[null,{"$f":"'Technical SDG'!B69","v":"Q3.4"},{"$f":"VLOOKUP(B70,'Chapter 3'!$C$6:$D$70,2,0)","v":"Zavedla organizace systém na správu existujících informací o rizicích svých produktů?"},{"$f":"'Technical SDG'!C69","v":2},14,{"$f":"IF('Technical SDG'!D69=\"\",\"\",IF($D70=\"\",\"please complete\",IF($D70>'Technical SDG'!D69-1,\":-)\",CONCATENATE(\"increase until \",'Technical SDG'!D69))))","v":""},{"$f":"IF('Technical SDG'!E69=\"\",\"\",IF($D70=\"\",\"please complete\",IF($D70>'Technical SDG'!E69-1,\":-)\",CONCATENATE(\"increase until \",'Technical SDG'!E69))))","v":""},{"$f":"IF('Technical SDG'!F69=\"\",\"\",IF($D70=\"\",\"please complete\",IF($D70>'Technical SDG'!F69-1,\":-)\",CONCATENATE(\"increase until \",'Technical SDG'!F69))))","v":"increase until 3"},{"$f":"IF('Technical SDG'!G69=\"\",\"\",IF($D70=\"\",\"please complete\",IF($D70>'Technical SDG'!G69-1,\":-)\",CONCATENATE(\"increase until \",'Technical SDG'!G69))))","v":""},{"$f":"IF('Technical SDG'!H69=\"\",\"\",IF($D70=\"\",\"please complete\",IF($D70>'Technical SDG'!H69-1,\":-)\",CONCATENATE(\"increase until \",'Technical SDG'!H69))))","v":""},{"$f":"IF('Technical SDG'!I69=\"\",\"\",IF($D70=\"\",\"please complete\",IF($D70>'Technical SDG'!I69-1,\":-)\",CONCATENATE(\"increase until \",'Technical SDG'!I69))))","v":""},{"$f":"IF('Technical SDG'!J69=\"\",\"\",IF($D70=\"\",\"please complete\",IF($D70>'Technical SDG'!J69-1,\":-)\",CONCATENATE(\"increase until \",'Technical SDG'!J69))))","v":""},{"$f":"IF('Technical SDG'!K69=\"\",\"\",IF($D70=\"\",\"please complete\",IF($D70>'Technical SDG'!K69-1,\":-)\",CONCATENATE(\"increase until \",'Technical SDG'!K69))))","v":""},{"$f":"IF('Technical SDG'!L69=\"\",\"\",IF($D70=\"\",\"please complete\",IF($D70>'Technical SDG'!L69-1,\":-)\",CONCATENATE(\"increase until \",'Technical SDG'!L69))))","v":""},{"$f":"IF('Technical SDG'!M69=\"\",\"\",IF($D70=\"\",\"please complete\",IF($D70>'Technical SDG'!M69-1,\":-)\",CONCATENATE(\"increase until \",'Technical SDG'!M69))))","v":""},{"$f":"IF('Technical SDG'!N69=\"\",\"\",IF($D70=\"\",\"please complete\",IF($D70>'Technical SDG'!N69-1,\":-)\",CONCATENATE(\"increase until \",'Technical SDG'!N69))))","v":""},{"$f":"IF('Technical SDG'!O69=\"\",\"\",IF($D70=\"\",\"please complete\",IF($D70>'Technical SDG'!O69-1,\":-)\",CONCATENATE(\"increase until \",'Technical SDG'!O69))))","v":"increase until 3"},{"$f":"IF('Technical SDG'!P69=\"\",\"\",IF($D70=\"\",\"please complete\",IF($D70>'Technical SDG'!P69-1,\":-)\",CONCATENATE(\"increase until \",'Technical SDG'!P69))))","v":""},{"$f":"IF('Technical SDG'!Q69=\"\",\"\",IF($D70=\"\",\"please complete\",IF($D70>'Technical SDG'!Q69-1,\":-)\",CONCATENATE(\"increase until \",'Technical SDG'!Q69))))","v":""},{"$f":"IF('Technical SDG'!R69=\"\",\"\",IF($D70=\"\",\"please complete\",IF($D70>'Technical SDG'!R69-1,\":-)\",CONCATENATE(\"increase until \",'Technical SDG'!R69))))","v":""},{"$f":"IF('Technical SDG'!S69=\"\",\"\",IF($D70=\"\",\"please complete\",IF($D70>'Technical SDG'!S69-1,\":-)\",CONCATENATE(\"increase until \",'Technical SDG'!S69))))","v":""},{"$f":"IF('Technical SDG'!T69=\"\",\"\",IF($D70=\"\",\"please complete\",IF($D70>'Technical SDG'!T69-1,\":-)\",CONCATENATE(\"increase until \",'Technical SDG'!T69))))","v":"increase until 3"}]
[null,{"$f":"'Technical SDG'!B70","v":"Q3.5"},{"$f":"VLOOKUP(B71,'Chapter 3'!$C$6:$D$70,2,0)","v":"Zavedla organizace proces řízení informací o používání a expozici svých produktů?"},{"$f":"'Technical SDG'!C70","v":1},16,{"$f":"IF('Technical SDG'!D70=\"\",\"\",IF($D71=\"\",\"please complete\",IF($D71>'Technical SDG'!D70-1,\":-)\",CONCATENATE(\"increase until \",'Technical SDG'!D70))))","v":""},{"$f":"IF('Technical SDG'!E70=\"\",\"\",IF($D71=\"\",\"please complete\",IF($D71>'Technical SDG'!E70-1,\":-)\",CONCATENATE(\"increase until \",'Technical SDG'!E70))))","v":""},{"$f":"IF('Technical SDG'!F70=\"\",\"\",IF($D71=\"\",\"please complete\",IF($D71>'Technical SDG'!F70-1,\":-)\",CONCATENATE(\"increase until \",'Technical SDG'!F70))))","v":"increase until 3"},{"$f":"IF('Technical SDG'!G70=\"\",\"\",IF($D71=\"\",\"please complete\",IF($D71>'Technical SDG'!G70-1,\":-)\",CONCATENATE(\"increase until \",'Technical SDG'!G70))))","v":""},{"$f":"IF('Technical SDG'!H70=\"\",\"\",IF($D71=\"\",\"please complete\",IF($D71>'Technical SDG'!H70-1,\":-)\",CONCATENATE(\"increase until \",'Technical SDG'!H70))))","v":""},{"$f":"IF('Technical SDG'!I70=\"\",\"\",IF($D71=\"\",\"please complete\",IF($D71>'Technical SDG'!I70-1,\":-)\",CONCATENATE(\"increase until \",'Technical SDG'!I70))))","v":""},{"$f":"IF('Technical SDG'!J70=\"\",\"\",IF($D71=\"\",\"please complete\",IF($D71>'Technical SDG'!J70-1,\":-)\",CONCATENATE(\"increase until \",'Technical SDG'!J70))))","v":""},{"$f":"IF('Technical SDG'!K70=\"\",\"\",IF($D71=\"\",\"please complete\",IF($D71>'Technical SDG'!K70-1,\":-)\",CONCATENATE(\"increase until \",'Technical SDG'!K70))))","v":""},{"$f":"IF('Technical SDG'!L70=\"\",\"\",IF($D71=\"\",\"please complete\",IF($D71>'Technical SDG'!L70-1,\":-)\",CONCATENATE(\"increase until \",'Technical SDG'!L70))))","v":""},{"$f":"IF('Technical SDG'!M70=\"\",\"\",IF($D71=\"\",\"please complete\",IF($D71>'Technical SDG'!M70-1,\":-)\",CONCATENATE(\"increase until \",'Technical SDG'!M70))))","v":""},{"$f":"IF('Technical SDG'!N70=\"\",\"\",IF($D71=\"\",\"please complete\",IF($D71>'Technical SDG'!N70-1,\":-)\",CONCATENATE(\"increase until \",'Technical SDG'!N70))))","v":""},{"$f":"IF('Technical SDG'!O70=\"\",\"\",IF($D71=\"\",\"please complete\",IF($D71>'Technical SDG'!O70-1,\":-)\",CONCATENATE(\"increase until \",'Technical SDG'!O70))))","v":""},{"$f":"IF('Technical SDG'!P70=\"\",\"\",IF($D71=\"\",\"please complete\",IF($D71>'Technical SDG'!P70-1,\":-)\",CONCATENATE(\"increase until \",'Technical SDG'!P70))))","v":""},{"$f":"IF('Technical SDG'!Q70=\"\",\"\",IF($D71=\"\",\"please complete\",IF($D71>'Technical SDG'!Q70-1,\":-)\",CONCATENATE(\"increase until \",'Technical SDG'!Q70))))","v":""},{"$f":"IF('Technical SDG'!R70=\"\",\"\",IF($D71=\"\",\"please complete\",IF($D71>'Technical SDG'!R70-1,\":-)\",CONCATENATE(\"increase until \",'Technical SDG'!R70))))","v":""},{"$f":"IF('Technical SDG'!S70=\"\",\"\",IF($D71=\"\",\"please complete\",IF($D71>'Technical SDG'!S70-1,\":-)\",CONCATENATE(\"increase until \",'Technical SDG'!S70))))","v":""},{"$f":"IF('Technical SDG'!T70=\"\",\"\",IF($D71=\"\",\"please complete\",IF($D71>'Technical SDG'!T70-1,\":-)\",CONCATENATE(\"increase until \",'Technical SDG'!T70))))","v":""}]
[null,{"$f":"'Technical SDG'!B71","v":"Q3.6"},{"$f":"VLOOKUP(B72,'Chapter 3'!$C$6:$D$70,2,0)","v":"Zavedla organizace proces na správu nových informací?"},{"$f":"'Technical SDG'!C71","v":1},16,{"$f":"IF('Technical SDG'!D71=\"\",\"\",IF($D72=\"\",\"please complete\",IF($D72>'Technical SDG'!D71-1,\":-)\",CONCATENATE(\"increase until \",'Technical SDG'!D71))))","v":""},{"$f":"IF('Technical SDG'!E71=\"\",\"\",IF($D72=\"\",\"please complete\",IF($D72>'Technical SDG'!E71-1,\":-)\",CONCATENATE(\"increase until \",'Technical SDG'!E71))))","v":""},{"$f":"IF('Technical SDG'!F71=\"\",\"\",IF($D72=\"\",\"please complete\",IF($D72>'Technical SDG'!F71-1,\":-)\",CONCATENATE(\"increase until \",'Technical SDG'!F71))))","v":"increase until 3"},{"$f":"IF('Technical SDG'!G71=\"\",\"\",IF($D72=\"\",\"please complete\",IF($D72>'Technical SDG'!G71-1,\":-)\",CONCATENATE(\"increase until \",'Technical SDG'!G71))))","v":""},{"$f":"IF('Technical SDG'!H71=\"\",\"\",IF($D72=\"\",\"please complete\",IF($D72>'Technical SDG'!H71-1,\":-)\",CONCATENATE(\"increase until \",'Technical SDG'!H71))))","v":""},{"$f":"IF('Technical SDG'!I71=\"\",\"\",IF($D72=\"\",\"please complete\",IF($D72>'Technical SDG'!I71-1,\":-)\",CONCATENATE(\"increase until \",'Technical SDG'!I71))))","v":""},{"$f":"IF('Technical SDG'!J71=\"\",\"\",IF($D72=\"\",\"please complete\",IF($D72>'Technical SDG'!J71-1,\":-)\",CONCATENATE(\"increase until \",'Technical SDG'!J71))))","v":""},{"$f":"IF('Technical SDG'!K71=\"\",\"\",IF($D72=\"\",\"please complete\",IF($D72>'Technical SDG'!K71-1,\":-)\",CONCATENATE(\"increase until \",'Technical SDG'!K71))))","v":""},{"$f":"IF('Technical SDG'!L71=\"\",\"\",IF($D72=\"\",\"please complete\",IF($D72>'Technical SDG'!L71-1,\":-)\",CONCATENATE(\"increase until \",'Technical SDG'!L71))))","v":""},{"$f":"IF('Technical SDG'!M71=\"\",\"\",IF($D72=\"\",\"please complete\",IF($D72>'Technical SDG'!M71-1,\":-)\",CONCATENATE(\"increase until \",'Technical SDG'!M71))))","v":""},{"$f":"IF('Technical SDG'!N71=\"\",\"\",IF($D72=\"\",\"please complete\",IF($D72>'Technical SDG'!N71-1,\":-)\",CONCATENATE(\"increase until \",'Technical SDG'!N71))))","v":""},{"$f":"IF('Technical SDG'!O71=\"\",\"\",IF($D72=\"\",\"please complete\",IF($D72>'Technical SDG'!O71-1,\":-)\",CONCATENATE(\"increase until \",'Technical SDG'!O71))))","v":""},{"$f":"IF('Technical SDG'!P71=\"\",\"\",IF($D72=\"\",\"please complete\",IF($D72>'Technical SDG'!P71-1,\":-)\",CONCATENATE(\"increase until \",'Technical SDG'!P71))))","v":""},{"$f":"IF('Technical SDG'!Q71=\"\",\"\",IF($D72=\"\",\"please complete\",IF($D72>'Technical SDG'!Q71-1,\":-)\",CONCATENATE(\"increase until \",'Technical SDG'!Q71))))","v":""},{"$f":"IF('Technical SDG'!R71=\"\",\"\",IF($D72=\"\",\"please complete\",IF($D72>'Technical SDG'!R71-1,\":-)\",CONCATENATE(\"increase until \",'Technical SDG'!R71))))","v":""},{"$f":"IF('Technical SDG'!S71=\"\",\"\",IF($D72=\"\",\"please complete\",IF($D72>'Technical SDG'!S71-1,\":-)\",CONCATENATE(\"increase until \",'Technical SDG'!S71))))","v":""},{"$f":"IF('Technical SDG'!T71=\"\",\"\",IF($D72=\"\",\"please complete\",IF($D72>'Technical SDG'!T71-1,\":-)\",CONCATENATE(\"increase until \",'Technical SDG'!T71))))","v":""}]
[null,{"$f":"'Technical SDG'!B72","v":"Q3.7"},{"$f":"VLOOKUP(B73,'Chapter 3'!$C$6:$D$70,2,0)","v":"Zavedla organizace proces charakterizace rizik na základě shromážděných informací?"},{"$f":"'Technical SDG'!C72","v":2},15,{"$f":"IF('Technical SDG'!D72=\"\",\"\",IF($D73=\"\",\"please complete\",IF($D73>'Technical SDG'!D72-1,\":-)\",CONCATENATE(\"increase until \",'Technical SDG'!D72))))","v":""},{"$f":"IF('Technical SDG'!E72=\"\",\"\",IF($D73=\"\",\"please complete\",IF($D73>'Technical SDG'!E72-1,\":-)\",CONCATENATE(\"increase until \",'Technical SDG'!E72))))","v":""},{"$f":"IF('Technical SDG'!F72=\"\",\"\",IF($D73=\"\",\"please complete\",IF($D73>'Technical SDG'!F72-1,\":-)\",CONCATENATE(\"increase until \",'Technical SDG'!F72))))","v":"increase until 3"},{"$f":"IF('Technical SDG'!G72=\"\",\"\",IF($D73=\"\",\"please complete\",IF($D73>'Technical SDG'!G72-1,\":-)\",CONCATENATE(\"increase until \",'Technical SDG'!G72))))","v":""},{"$f":"IF('Technical SDG'!H72=\"\",\"\",IF($D73=\"\",\"please complete\",IF($D73>'Technical SDG'!H72-1,\":-)\",CONCATENATE(\"increase until \",'Technical SDG'!H72))))","v":""},{"$f":"IF('Technical SDG'!I72=\"\",\"\",IF($D73=\"\",\"please complete\",IF($D73>'Technical SDG'!I72-1,\":-)\",CONCATENATE(\"increase until \",'Technical SDG'!I72))))","v":""},{"$f":"IF('Technical SDG'!J72=\"\",\"\",IF($D73=\"\",\"please complete\",IF($D73>'Technical SDG'!J72-1,\":-)\",CONCATENATE(\"increase until \",'Technical SDG'!J72))))","v":""},{"$f":"IF('Technical SDG'!K72=\"\",\"\",IF($D73=\"\",\"please complete\",IF($D73>'Technical SDG'!K72-1,\":-)\",CONCATENATE(\"increase until \",'Technical SDG'!K72))))","v":""},{"$f":"IF('Technical SDG'!L72=\"\",\"\",IF($D73=\"\",\"please complete\",IF($D73>'Technical SDG'!L72-1,\":-)\",CONCATENATE(\"increase until \",'Technical SDG'!L72))))","v":""},{"$f":"IF('Technical SDG'!M72=\"\",\"\",IF($D73=\"\",\"please complete\",IF($D73>'Technical SDG'!M72-1,\":-)\",CONCATENATE(\"increase until \",'Technical SDG'!M72))))","v":""},{"$f":"IF('Technical SDG'!N72=\"\",\"\",IF($D73=\"\",\"please complete\",IF($D73>'Technical SDG'!N72-1,\":-)\",CONCATENATE(\"increase until \",'Technical SDG'!N72))))","v":""},{"$f":"IF('Technical SDG'!O72=\"\",\"\",IF($D73=\"\",\"please complete\",IF($D73>'Technical SDG'!O72-1,\":-)\",CONCATENATE(\"increase until \",'Technical SDG'!O72))))","v":""},{"$f":"IF('Technical SDG'!P72=\"\",\"\",IF($D73=\"\",\"please complete\",IF($D73>'Technical SDG'!P72-1,\":-)\",CONCATENATE(\"increase until \",'Technical SDG'!P72))))","v":""},{"$f":"IF('Technical SDG'!Q72=\"\",\"\",IF($D73=\"\",\"please complete\",IF($D73>'Technical SDG'!Q72-1,\":-)\",CONCATENATE(\"increase until \",'Technical SDG'!Q72))))","v":""},{"$f":"IF('Technical SDG'!R72=\"\",\"\",IF($D73=\"\",\"please complete\",IF($D73>'Technical SDG'!R72-1,\":-)\",CONCATENATE(\"increase until \",'Technical SDG'!R72))))","v":""},{"$f":"IF('Technical SDG'!S72=\"\",\"\",IF($D73=\"\",\"please complete\",IF($D73>'Technical SDG'!S72-1,\":-)\",CONCATENATE(\"increase until \",'Technical SDG'!S72))))","v":""},{"$f":"IF('Technical SDG'!T72=\"\",\"\",IF($D73=\"\",\"please complete\",IF($D73>'Technical SDG'!T72-1,\":-)\",CONCATENATE(\"increase until \",'Technical SDG'!T72))))","v":"increase until 3"}]
[null,{"$f":"'Technical SDG'!B73","v":"Q3.8"},{"$f":"VLOOKUP(B74,'Chapter 3'!$C$6:$D$70,2,0)","v":"Zavedla organizace proces řízení rizik na základě shromážděných informací?"},{"$f":"'Technical SDG'!C73","v":1},16,{"$f":"IF('Technical SDG'!D73=\"\",\"\",IF($D74=\"\",\"please complete\",IF($D74>'Technical SDG'!D73-1,\":-)\",CONCATENATE(\"increase until \",'Technical SDG'!D73))))","v":""},{"$f":"IF('Technical SDG'!E73=\"\",\"\",IF($D74=\"\",\"please complete\",IF($D74>'Technical SDG'!E73-1,\":-)\",CONCATENATE(\"increase until \",'Technical SDG'!E73))))","v":""},{"$f":"IF('Technical SDG'!F73=\"\",\"\",IF($D74=\"\",\"please complete\",IF($D74>'Technical SDG'!F73-1,\":-)\",CONCATENATE(\"increase until \",'Technical SDG'!F73))))","v":""},{"$f":"IF('Technical SDG'!G73=\"\",\"\",IF($D74=\"\",\"please complete\",IF($D74>'Technical SDG'!G73-1,\":-)\",CONCATENATE(\"increase until \",'Technical SDG'!G73))))","v":""},{"$f":"IF('Technical SDG'!H73=\"\",\"\",IF($D74=\"\",\"please complete\",IF($D74>'Technical SDG'!H73-1,\":-)\",CONCATENATE(\"increase until \",'Technical SDG'!H73))))","v":""},{"$f":"IF('Technical SDG'!I73=\"\",\"\",IF($D74=\"\",\"please complete\",IF($D74>'Technical SDG'!I73-1,\":-)\",CONCATENATE(\"increase until \",'Technical SDG'!I73))))","v":""},{"$f":"IF('Technical SDG'!J73=\"\",\"\",IF($D74=\"\",\"please complete\",IF($D74>'Technical SDG'!J73-1,\":-)\",CONCATENATE(\"increase until \",'Technical SDG'!J73))))","v":""},{"$f":"IF('Technical SDG'!K73=\"\",\"\",IF($D74=\"\",\"please complete\",IF($D74>'Technical SDG'!K73-1,\":-)\",CONCATENATE(\"increase until \",'Technical SDG'!K73))))","v":""},{"$f":"IF('Technical SDG'!L73=\"\",\"\",IF($D74=\"\",\"please complete\",IF($D74>'Technical SDG'!L73-1,\":-)\",CONCATENATE(\"increase until \",'Technical SDG'!L73))))","v":""},{"$f":"IF('Technical SDG'!M73=\"\",\"\",IF($D74=\"\",\"please complete\",IF($D74>'Technical SDG'!M73-1,\":-)\",CONCATENATE(\"increase until \",'Technical SDG'!M73))))","v":""},{"$f":"IF('Technical SDG'!N73=\"\",\"\",IF($D74=\"\",\"please complete\",IF($D74>'Technical SDG'!N73-1,\":-)\",CONCATENATE(\"increase until \",'Technical SDG'!N73))))","v":""},{"$f":"IF('Technical SDG'!O73=\"\",\"\",IF($D74=\"\",\"please complete\",IF($D74>'Technical SDG'!O73-1,\":-)\",CONCATENATE(\"increase until \",'Technical SDG'!O73))))","v":""},{"$f":"IF('Technical SDG'!P73=\"\",\"\",IF($D74=\"\",\"please complete\",IF($D74>'Technical SDG'!P73-1,\":-)\",CONCATENATE(\"increase until \",'Technical SDG'!P73))))","v":""},{"$f":"IF('Technical SDG'!Q73=\"\",\"\",IF($D74=\"\",\"please complete\",IF($D74>'Technical SDG'!Q73-1,\":-)\",CONCATENATE(\"increase until \",'Technical SDG'!Q73))))","v":""},{"$f":"IF('Technical SDG'!R73=\"\",\"\",IF($D74=\"\",\"please complete\",IF($D74>'Technical SDG'!R73-1,\":-)\",CONCATENATE(\"increase until \",'Technical SDG'!R73))))","v":""},{"$f":"IF('Technical SDG'!S73=\"\",\"\",IF($D74=\"\",\"please complete\",IF($D74>'Technical SDG'!S73-1,\":-)\",CONCATENATE(\"increase until \",'Technical SDG'!S73))))","v":""},{"$f":"IF('Technical SDG'!T73=\"\",\"\",IF($D74=\"\",\"please complete\",IF($D74>'Technical SDG'!T73-1,\":-)\",CONCATENATE(\"increase until \",'Technical SDG'!T73))))","v":"increase until 3"}]
[null,{"$f":"'Technical SDG'!B74","v":"Q3.9"},{"$f":"VLOOKUP(B75,'Chapter 3'!$C$6:$D$70,2,0)","v":"Zavedla organizace účinný proces sledování svých produktů po dodání a provádění nápravných opatření?\n"},{"$f":"'Technical SDG'!C74","v":3},16,{"$f":"IF('Technical SDG'!D74=\"\",\"\",IF($D75=\"\",\"please complete\",IF($D75>'Technical SDG'!D74-1,\":-)\",CONCATENATE(\"increase until \",'Technical SDG'!D74))))","v":""},{"$f":"IF('Technical SDG'!E74=\"\",\"\",IF($D75=\"\",\"please complete\",IF($D75>'Technical SDG'!E74-1,\":-)\",CONCATENATE(\"increase until \",'Technical SDG'!E74))))","v":""},{"$f":"IF('Technical SDG'!F74=\"\",\"\",IF($D75=\"\",\"please complete\",IF($D75>'Technical SDG'!F74-1,\":-)\",CONCATENATE(\"increase until \",'Technical SDG'!F74))))","v":":-)"},{"$f":"IF('Technical SDG'!G74=\"\",\"\",IF($D75=\"\",\"please complete\",IF($D75>'Technical SDG'!G74-1,\":-)\",CONCATENATE(\"increase until \",'Technical SDG'!G74))))","v":""},{"$f":"IF('Technical SDG'!H74=\"\",\"\",IF($D75=\"\",\"please complete\",IF($D75>'Technical SDG'!H74-1,\":-)\",CONCATENATE(\"increase until \",'Technical SDG'!H74))))","v":""},{"$f":"IF('Technical SDG'!I74=\"\",\"\",IF($D75=\"\",\"please complete\",IF($D75>'Technical SDG'!I74-1,\":-)\",CONCATENATE(\"increase until \",'Technical SDG'!I74))))","v":""},{"$f":"IF('Technical SDG'!J74=\"\",\"\",IF($D75=\"\",\"please complete\",IF($D75>'Technical SDG'!J74-1,\":-)\",CONCATENATE(\"increase until \",'Technical SDG'!J74))))","v":""},{"$f":"IF('Technical SDG'!K74=\"\",\"\",IF($D75=\"\",\"please complete\",IF($D75>'Technical SDG'!K74-1,\":-)\",CONCATENATE(\"increase until \",'Technical SDG'!K74))))","v":""},{"$f":"IF('Technical SDG'!L74=\"\",\"\",IF($D75=\"\",\"please complete\",IF($D75>'Technical SDG'!L74-1,\":-)\",CONCATENATE(\"increase until \",'Technical SDG'!L74))))","v":""},{"$f":"IF('Technical SDG'!M74=\"\",\"\",IF($D75=\"\",\"please complete\",IF($D75>'Technical SDG'!M74-1,\":-)\",CONCATENATE(\"increase until \",'Technical SDG'!M74))))","v":""},{"$f":"IF('Technical SDG'!N74=\"\",\"\",IF($D75=\"\",\"please complete\",IF($D75>'Technical SDG'!N74-1,\":-)\",CONCATENATE(\"increase until \",'Technical SDG'!N74))))","v":""},{"$f":"IF('Technical SDG'!O74=\"\",\"\",IF($D75=\"\",\"please complete\",IF($D75>'Technical SDG'!O74-1,\":-)\",CONCATENATE(\"increase until \",'Technical SDG'!O74))))","v":""},{"$f":"IF('Technical SDG'!P74=\"\",\"\",IF($D75=\"\",\"please complete\",IF($D75>'Technical SDG'!P74-1,\":-)\",CONCATENATE(\"increase until \",'Technical SDG'!P74))))","v":""},{"$f":"IF('Technical SDG'!Q74=\"\",\"\",IF($D75=\"\",\"please complete\",IF($D75>'Technical SDG'!Q74-1,\":-)\",CONCATENATE(\"increase until \",'Technical SDG'!Q74))))","v":""},{"$f":"IF('Technical SDG'!R74=\"\",\"\",IF($D75=\"\",\"please complete\",IF($D75>'Technical SDG'!R74-1,\":-)\",CONCATENATE(\"increase until \",'Technical SDG'!R74))))","v":""},{"$f":"IF('Technical SDG'!S74=\"\",\"\",IF($D75=\"\",\"please complete\",IF($D75>'Technical SDG'!S74-1,\":-)\",CONCATENATE(\"increase until \",'Technical SDG'!S74))))","v":""},{"$f":"IF('Technical SDG'!T74=\"\",\"\",IF($D75=\"\",\"please complete\",IF($D75>'Technical SDG'!T74-1,\":-)\",CONCATENATE(\"increase until \",'Technical SDG'!T74))))","v":""}]
[null,{"$f":"'Technical SDG'!B75","v":"Q3.10"},{"$f":"VLOOKUP(B76,'Chapter 3'!$C$6:$D$70,2,0)","v":"Poskytuje organizace efektivní komunikaci v rámci dodavatelského řetězce ohledně opatření k řízení rizik, které se vztahují na jejich produkty?"},{"$f":"'Technical SDG'!C75","v":3},15,{"$f":"IF('Technical SDG'!D75=\"\",\"\",IF($D76=\"\",\"please complete\",IF($D76>'Technical SDG'!D75-1,\":-)\",CONCATENATE(\"increase until \",'Technical SDG'!D75))))","v":""},{"$f":"IF('Technical SDG'!E75=\"\",\"\",IF($D76=\"\",\"please complete\",IF($D76>'Technical SDG'!E75-1,\":-)\",CONCATENATE(\"increase until \",'Technical SDG'!E75))))","v":""},{"$f":"IF('Technical SDG'!F75=\"\",\"\",IF($D76=\"\",\"please complete\",IF($D76>'Technical SDG'!F75-1,\":-)\",CONCATENATE(\"increase until \",'Technical SDG'!F75))))","v":":-)"},{"$f":"IF('Technical SDG'!G75=\"\",\"\",IF($D76=\"\",\"please complete\",IF($D76>'Technical SDG'!G75-1,\":-)\",CONCATENATE(\"increase until \",'Technical SDG'!G75))))","v":""},{"$f":"IF('Technical SDG'!H75=\"\",\"\",IF($D76=\"\",\"please complete\",IF($D76>'Technical SDG'!H75-1,\":-)\",CONCATENATE(\"increase until \",'Technical SDG'!H75))))","v":""},{"$f":"IF('Technical SDG'!I75=\"\",\"\",IF($D76=\"\",\"please complete\",IF($D76>'Technical SDG'!I75-1,\":-)\",CONCATENATE(\"increase until \",'Technical SDG'!I75))))","v":""},{"$f":"IF('Technical SDG'!J75=\"\",\"\",IF($D76=\"\",\"please complete\",IF($D76>'Technical SDG'!J75-1,\":-)\",CONCATENATE(\"increase until \",'Technical SDG'!J75))))","v":""},{"$f":"IF('Technical SDG'!K75=\"\",\"\",IF($D76=\"\",\"please complete\",IF($D76>'Technical SDG'!K75-1,\":-)\",CONCATENATE(\"increase until \",'Technical SDG'!K75))))","v":""},{"$f":"IF('Technical SDG'!L75=\"\",\"\",IF($D76=\"\",\"please complete\",IF($D76>'Technical SDG'!L75-1,\":-)\",CONCATENATE(\"increase until \",'Technical SDG'!L75))))","v":""},{"$f":"IF('Technical SDG'!M75=\"\",\"\",IF($D76=\"\",\"please complete\",IF($D76>'Technical SDG'!M75-1,\":-)\",CONCATENATE(\"increase until \",'Technical SDG'!M75))))","v":""},{"$f":"IF('Technical SDG'!N75=\"\",\"\",IF($D76=\"\",\"please complete\",IF($D76>'Technical SDG'!N75-1,\":-)\",CONCATENATE(\"increase until \",'Technical SDG'!N75))))","v":""},{"$f":"IF('Technical SDG'!O75=\"\",\"\",IF($D76=\"\",\"please complete\",IF($D76>'Technical SDG'!O75-1,\":-)\",CONCATENATE(\"increase until \",'Technical SDG'!O75))))","v":""},{"$f":"IF('Technical SDG'!P75=\"\",\"\",IF($D76=\"\",\"please complete\",IF($D76>'Technical SDG'!P75-1,\":-)\",CONCATENATE(\"increase until \",'Technical SDG'!P75))))","v":""},{"$f":"IF('Technical SDG'!Q75=\"\",\"\",IF($D76=\"\",\"please complete\",IF($D76>'Technical SDG'!Q75-1,\":-)\",CONCATENATE(\"increase until \",'Technical SDG'!Q75))))","v":""},{"$f":"IF('Technical SDG'!R75=\"\",\"\",IF($D76=\"\",\"please complete\",IF($D76>'Technical SDG'!R75-1,\":-)\",CONCATENATE(\"increase until \",'Technical SDG'!R75))))","v":""},{"$f":"IF('Technical SDG'!S75=\"\",\"\",IF($D76=\"\",\"please complete\",IF($D76>'Technical SDG'!S75-1,\":-)\",CONCATENATE(\"increase until \",'Technical SDG'!S75))))","v":""},{"$f":"IF('Technical SDG'!T75=\"\",\"\",IF($D76=\"\",\"please complete\",IF($D76>'Technical SDG'!T75-1,\":-)\",CONCATENATE(\"increase until \",'Technical SDG'!T75))))","v":":-)"}]
[]
[null,{"$f":"'Technical SDG'!B77","v":"Q4.1"},{"$f":"VLOOKUP(B78,'Chapter 4'!$C$6:$D$58,2,0)","v":"Jak se organizace zavázala k odpovědnému získávání zdrojů?"},{"$f":"'Technical SDG'!C77","v":3},16,{"$f":"IF('Technical SDG'!D77=\"\",\"\",IF($D78=\"\",\"please complete\",IF($D78>'Technical SDG'!D77-1,\":-)\",CONCATENATE(\"increase until \",'Technical SDG'!D77))))","v":""},{"$f":"IF('Technical SDG'!E77=\"\",\"\",IF($D78=\"\",\"please complete\",IF($D78>'Technical SDG'!E77-1,\":-)\",CONCATENATE(\"increase until \",'Technical SDG'!E77))))","v":""},{"$f":"IF('Technical SDG'!F77=\"\",\"\",IF($D78=\"\",\"please complete\",IF($D78>'Technical SDG'!F77-1,\":-)\",CONCATENATE(\"increase until \",'Technical SDG'!F77))))","v":""},{"$f":"IF('Technical SDG'!G77=\"\",\"\",IF($D78=\"\",\"please complete\",IF($D78>'Technical SDG'!G77-1,\":-)\",CONCATENATE(\"increase until \",'Technical SDG'!G77))))","v":""},{"$f":"IF('Technical SDG'!H77=\"\",\"\",IF($D78=\"\",\"please complete\",IF($D78>'Technical SDG'!H77-1,\":-)\",CONCATENATE(\"increase until \",'Technical SDG'!H77))))","v":""},{"$f":"IF('Technical SDG'!I77=\"\",\"\",IF($D78=\"\",\"please complete\",IF($D78>'Technical SDG'!I77-1,\":-)\",CONCATENATE(\"increase until \",'Technical SDG'!I77))))","v":""},{"$f":"IF('Technical SDG'!J77=\"\",\"\",IF($D78=\"\",\"please complete\",IF($D78>'Technical SDG'!J77-1,\":-)\",CONCATENATE(\"increase until \",'Technical SDG'!J77))))","v":""},{"$f":"IF('Technical SDG'!K77=\"\",\"\",IF($D78=\"\",\"please complete\",IF($D78>'Technical SDG'!K77-1,\":-)\",CONCATENATE(\"increase until \",'Technical SDG'!K77))))","v":":-)"},{"$f":"IF('Technical SDG'!L77=\"\",\"\",IF($D78=\"\",\"please complete\",IF($D78>'Technical SDG'!L77-1,\":-)\",CONCATENATE(\"increase until \",'Technical SDG'!L77))))","v":""},{"$f":"IF('Technical SDG'!M77=\"\",\"\",IF($D78=\"\",\"please complete\",IF($D78>'Technical SDG'!M77-1,\":-)\",CONCATENATE(\"increase until \",'Technical SDG'!M77))))","v":""},{"$f":"IF('Technical SDG'!N77=\"\",\"\",IF($D78=\"\",\"please complete\",IF($D78>'Technical SDG'!N77-1,\":-)\",CONCATENATE(\"increase until \",'Technical SDG'!N77))))","v":""},{"$f":"IF('Technical SDG'!O77=\"\",\"\",IF($D78=\"\",\"please complete\",IF($D78>'Technical SDG'!O77-1,\":-)\",CONCATENATE(\"increase until \",'Technical SDG'!O77))))","v":""},{"$f":"IF('Technical SDG'!P77=\"\",\"\",IF($D78=\"\",\"please complete\",IF($D78>'Technical SDG'!P77-1,\":-)\",CONCATENATE(\"increase until \",'Technical SDG'!P77))))","v":""},{"$f":"IF('Technical SDG'!Q77=\"\",\"\",IF($D78=\"\",\"please complete\",IF($D78>'Technical SDG'!Q77-1,\":-)\",CONCATENATE(\"increase until \",'Technical SDG'!Q77))))","v":""},{"$f":"IF('Technical SDG'!R77=\"\",\"\",IF($D78=\"\",\"please complete\",IF($D78>'Technical SDG'!R77-1,\":-)\",CONCATENATE(\"increase until \",'Technical SDG'!R77))))","v":""},{"$f":"IF('Technical SDG'!S77=\"\",\"\",IF($D78=\"\",\"please complete\",IF($D78>'Technical SDG'!S77-1,\":-)\",CONCATENATE(\"increase until \",'Technical SDG'!S77))))","v":""},{"$f":"IF('Technical SDG'!T77=\"\",\"\",IF($D78=\"\",\"please complete\",IF($D78>'Technical SDG'!T77-1,\":-)\",CONCATENATE(\"increase until \",'Technical SDG'!T77))))","v":""}]
[null,{"$f":"'Technical SDG'!B78","v":"Q4.2"},{"$f":"VLOOKUP(B79,'Chapter 4'!$C$6:$D$58,2,0)","v":"Jak organizace zlepšuje spolupráci v dodavatelském řetězci?"},{"$f":"'Technical SDG'!C78","v":2},17,{"$f":"IF('Technical SDG'!D78=\"\",\"\",IF($D79=\"\",\"please complete\",IF($D79>'Technical SDG'!D78-1,\":-)\",CONCATENATE(\"increase until \",'Technical SDG'!D78))))","v":""},{"$f":"IF('Technical SDG'!E78=\"\",\"\",IF($D79=\"\",\"please complete\",IF($D79>'Technical SDG'!E78-1,\":-)\",CONCATENATE(\"increase until \",'Technical SDG'!E78))))","v":""},{"$f":"IF('Technical SDG'!F78=\"\",\"\",IF($D79=\"\",\"please complete\",IF($D79>'Technical SDG'!F78-1,\":-)\",CONCATENATE(\"increase until \",'Technical SDG'!F78))))","v":""},{"$f":"IF('Technical SDG'!G78=\"\",\"\",IF($D79=\"\",\"please complete\",IF($D79>'Technical SDG'!G78-1,\":-)\",CONCATENATE(\"increase until \",'Technical SDG'!G78))))","v":""},{"$f":"IF('Technical SDG'!H78=\"\",\"\",IF($D79=\"\",\"please complete\",IF($D79>'Technical SDG'!H78-1,\":-)\",CONCATENATE(\"increase until \",'Technical SDG'!H78))))","v":""},{"$f":"IF('Technical SDG'!I78=\"\",\"\",IF($D79=\"\",\"please complete\",IF($D79>'Technical SDG'!I78-1,\":-)\",CONCATENATE(\"increase until \",'Technical SDG'!I78))))","v":""},{"$f":"IF('Technical SDG'!J78=\"\",\"\",IF($D79=\"\",\"please complete\",IF($D79>'Technical SDG'!J78-1,\":-)\",CONCATENATE(\"increase until \",'Technical SDG'!J78))))","v":""},{"$f":"IF('Technical SDG'!K78=\"\",\"\",IF($D79=\"\",\"please complete\",IF($D79>'Technical SDG'!K78-1,\":-)\",CONCATENATE(\"increase until \",'Technical SDG'!K78))))","v":""},{"$f":"IF('Technical SDG'!L78=\"\",\"\",IF($D79=\"\",\"please complete\",IF($D79>'Technical SDG'!L78-1,\":-)\",CONCATENATE(\"increase until \",'Technical SDG'!L78))))","v":""},{"$f":"IF('Technical SDG'!M78=\"\",\"\",IF($D79=\"\",\"please complete\",IF($D79>'Technical SDG'!M78-1,\":-)\",CONCATENATE(\"increase until \",'Technical SDG'!M78))))","v":""},{"$f":"IF('Technical SDG'!N78=\"\",\"\",IF($D79=\"\",\"please complete\",IF($D79>'Technical SDG'!N78-1,\":-)\",CONCATENATE(\"increase until \",'Technical SDG'!N78))))","v":""},{"$f":"IF('Technical SDG'!O78=\"\",\"\",IF($D79=\"\",\"please complete\",IF($D79>'Technical SDG'!O78-1,\":-)\",CONCATENATE(\"increase until \",'Technical SDG'!O78))))","v":""},{"$f":"IF('Technical SDG'!P78=\"\",\"\",IF($D79=\"\",\"please complete\",IF($D79>'Technical SDG'!P78-1,\":-)\",CONCATENATE(\"increase until \",'Technical SDG'!P78))))","v":""},{"$f":"IF('Technical SDG'!Q78=\"\",\"\",IF($D79=\"\",\"please complete\",IF($D79>'Technical SDG'!Q78-1,\":-)\",CONCATENATE(\"increase until \",'Technical SDG'!Q78))))","v":""},{"$f":"IF('Technical SDG'!R78=\"\",\"\",IF($D79=\"\",\"please complete\",IF($D79>'Technical SDG'!R78-1,\":-)\",CONCATENATE(\"increase until \",'Technical SDG'!R78))))","v":""},{"$f":"IF('Technical SDG'!S78=\"\",\"\",IF($D79=\"\",\"please complete\",IF($D79>'Technical SDG'!S78-1,\":-)\",CONCATENATE(\"increase until \",'Technical SDG'!S78))))","v":""},{"$f":"IF('Technical SDG'!T78=\"\",\"\",IF($D79=\"\",\"please complete\",IF($D79>'Technical SDG'!T78-1,\":-)\",CONCATENATE(\"increase until \",'Technical SDG'!T78))))","v":""}]
[null,{"$f":"'Technical SDG'!B79","v":"Q4.3"},{"$f":"VLOOKUP(B80,'Chapter 4'!$C$6:$D$58,2,0)","v":"Jakým způsobem vyjadřuje organizace svůj závazek vůči podnikatelské etice?"},{"$f":"'Technical SDG'!C79","v":3},17,{"$f":"IF('Technical SDG'!D79=\"\",\"\",IF($D80=\"\",\"please complete\",IF($D80>'Technical SDG'!D79-1,\":-)\",CONCATENATE(\"increase until \",'Technical SDG'!D79))))","v":""},{"$f":"IF('Technical SDG'!E79=\"\",\"\",IF($D80=\"\",\"please complete\",IF($D80>'Technical SDG'!E79-1,\":-)\",CONCATENATE(\"increase until \",'Technical SDG'!E79))))","v":""},{"$f":"IF('Technical SDG'!F79=\"\",\"\",IF($D80=\"\",\"please complete\",IF($D80>'Technical SDG'!F79-1,\":-)\",CONCATENATE(\"increase until \",'Technical SDG'!F79))))","v":""},{"$f":"IF('Technical SDG'!G79=\"\",\"\",IF($D80=\"\",\"please complete\",IF($D80>'Technical SDG'!G79-1,\":-)\",CONCATENATE(\"increase until \",'Technical SDG'!G79))))","v":""},{"$f":"IF('Technical SDG'!H79=\"\",\"\",IF($D80=\"\",\"please complete\",IF($D80>'Technical SDG'!H79-1,\":-)\",CONCATENATE(\"increase until \",'Technical SDG'!H79))))","v":""},{"$f":"IF('Technical SDG'!I79=\"\",\"\",IF($D80=\"\",\"please complete\",IF($D80>'Technical SDG'!I79-1,\":-)\",CONCATENATE(\"increase until \",'Technical SDG'!I79))))","v":""},{"$f":"IF('Technical SDG'!J79=\"\",\"\",IF($D80=\"\",\"please complete\",IF($D80>'Technical SDG'!J79-1,\":-)\",CONCATENATE(\"increase until \",'Technical SDG'!J79))))","v":""},{"$f":"IF('Technical SDG'!K79=\"\",\"\",IF($D80=\"\",\"please complete\",IF($D80>'Technical SDG'!K79-1,\":-)\",CONCATENATE(\"increase until \",'Technical SDG'!K79))))","v":""},{"$f":"IF('Technical SDG'!L79=\"\",\"\",IF($D80=\"\",\"please complete\",IF($D80>'Technical SDG'!L79-1,\":-)\",CONCATENATE(\"increase until \",'Technical SDG'!L79))))","v":""},{"$f":"IF('Technical SDG'!M79=\"\",\"\",IF($D80=\"\",\"please complete\",IF($D80>'Technical SDG'!M79-1,\":-)\",CONCATENATE(\"increase until \",'Technical SDG'!M79))))","v":""},{"$f":"IF('Technical SDG'!N79=\"\",\"\",IF($D80=\"\",\"please complete\",IF($D80>'Technical SDG'!N79-1,\":-)\",CONCATENATE(\"increase until \",'Technical SDG'!N79))))","v":""},{"$f":"IF('Technical SDG'!O79=\"\",\"\",IF($D80=\"\",\"please complete\",IF($D80>'Technical SDG'!O79-1,\":-)\",CONCATENATE(\"increase until \",'Technical SDG'!O79))))","v":""},{"$f":"IF('Technical SDG'!P79=\"\",\"\",IF($D80=\"\",\"please complete\",IF($D80>'Technical SDG'!P79-1,\":-)\",CONCATENATE(\"increase until \",'Technical SDG'!P79))))","v":""},{"$f":"IF('Technical SDG'!Q79=\"\",\"\",IF($D80=\"\",\"please complete\",IF($D80>'Technical SDG'!Q79-1,\":-)\",CONCATENATE(\"increase until \",'Technical SDG'!Q79))))","v":""},{"$f":"IF('Technical SDG'!R79=\"\",\"\",IF($D80=\"\",\"please complete\",IF($D80>'Technical SDG'!R79-1,\":-)\",CONCATENATE(\"increase until \",'Technical SDG'!R79))))","v":""},{"$f":"IF('Technical SDG'!S79=\"\",\"\",IF($D80=\"\",\"please complete\",IF($D80>'Technical SDG'!S79-1,\":-)\",CONCATENATE(\"increase until \",'Technical SDG'!S79))))","v":""},{"$f":"IF('Technical SDG'!T79=\"\",\"\",IF($D80=\"\",\"please complete\",IF($D80>'Technical SDG'!T79-1,\":-)\",CONCATENATE(\"increase until \",'Technical SDG'!T79))))","v":""}]
[null,{"$f":"'Technical SDG'!B80","v":"Q4.4"},{"$f":"VLOOKUP(B81,'Chapter 4'!$C$6:$D$58,2,0)","v":"Jakým způsobem řeší organizace sociální problematiku a lidská práva v rámci spolupráce s obchodními partnery?"},{"$f":"'Technical SDG'!C80","v":1},16,{"$f":"IF('Technical SDG'!D80=\"\",\"\",IF($D81=\"\",\"please complete\",IF($D81>'Technical SDG'!D80-1,\":-)\",CONCATENATE(\"increase until \",'Technical SDG'!D80))))","v":""},{"$f":"IF('Technical SDG'!E80=\"\",\"\",IF($D81=\"\",\"please complete\",IF($D81>'Technical SDG'!E80-1,\":-)\",CONCATENATE(\"increase until \",'Technical SDG'!E80))))","v":""},{"$f":"IF('Technical SDG'!F80=\"\",\"\",IF($D81=\"\",\"please complete\",IF($D81>'Technical SDG'!F80-1,\":-)\",CONCATENATE(\"increase until \",'Technical SDG'!F80))))","v":""},{"$f":"IF('Technical SDG'!G80=\"\",\"\",IF($D81=\"\",\"please complete\",IF($D81>'Technical SDG'!G80-1,\":-)\",CONCATENATE(\"increase until \",'Technical SDG'!G80))))","v":""},{"$f":"IF('Technical SDG'!H80=\"\",\"\",IF($D81=\"\",\"please complete\",IF($D81>'Technical SDG'!H80-1,\":-)\",CONCATENATE(\"increase until \",'Technical SDG'!H80))))","v":""},{"$f":"IF('Technical SDG'!I80=\"\",\"\",IF($D81=\"\",\"please complete\",IF($D81>'Technical SDG'!I80-1,\":-)\",CONCATENATE(\"increase until \",'Technical SDG'!I80))))","v":""},{"$f":"IF('Technical SDG'!J80=\"\",\"\",IF($D81=\"\",\"please complete\",IF($D81>'Technical SDG'!J80-1,\":-)\",CONCATENATE(\"increase until \",'Technical SDG'!J80))))","v":""},{"$f":"IF('Technical SDG'!K80=\"\",\"\",IF($D81=\"\",\"please complete\",IF($D81>'Technical SDG'!K80-1,\":-)\",CONCATENATE(\"increase until \",'Technical SDG'!K80))))","v":"increase until 3"},{"$f":"IF('Technical SDG'!L80=\"\",\"\",IF($D81=\"\",\"please complete\",IF($D81>'Technical SDG'!L80-1,\":-)\",CONCATENATE(\"increase until \",'Technical SDG'!L80))))","v":""},{"$f":"IF('Technical SDG'!M80=\"\",\"\",IF($D81=\"\",\"please complete\",IF($D81>'Technical SDG'!M80-1,\":-)\",CONCATENATE(\"increase until \",'Technical SDG'!M80))))","v":""},{"$f":"IF('Technical SDG'!N80=\"\",\"\",IF($D81=\"\",\"please complete\",IF($D81>'Technical SDG'!N80-1,\":-)\",CONCATENATE(\"increase until \",'Technical SDG'!N80))))","v":""},{"$f":"IF('Technical SDG'!O80=\"\",\"\",IF($D81=\"\",\"please complete\",IF($D81>'Technical SDG'!O80-1,\":-)\",CONCATENATE(\"increase until \",'Technical SDG'!O80))))","v":""},{"$f":"IF('Technical SDG'!P80=\"\",\"\",IF($D81=\"\",\"please complete\",IF($D81>'Technical SDG'!P80-1,\":-)\",CONCATENATE(\"increase until \",'Technical SDG'!P80))))","v":""},{"$f":"IF('Technical SDG'!Q80=\"\",\"\",IF($D81=\"\",\"please complete\",IF($D81>'Technical SDG'!Q80-1,\":-)\",CONCATENATE(\"increase until \",'Technical SDG'!Q80))))","v":""},{"$f":"IF('Technical SDG'!R80=\"\",\"\",IF($D81=\"\",\"please complete\",IF($D81>'Technical SDG'!R80-1,\":-)\",CONCATENATE(\"increase until \",'Technical SDG'!R80))))","v":""},{"$f":"IF('Technical SDG'!S80=\"\",\"\",IF($D81=\"\",\"please complete\",IF($D81>'Technical SDG'!S80-1,\":-)\",CONCATENATE(\"increase until \",'Technical SDG'!S80))))","v":""},{"$f":"IF('Technical SDG'!T80=\"\",\"\",IF($D81=\"\",\"please complete\",IF($D81>'Technical SDG'!T80-1,\":-)\",CONCATENATE(\"increase until \",'Technical SDG'!T80))))","v":""}]
[null,{"$f":"'Technical SDG'!B81","v":"Q4.5"},{"$f":"VLOOKUP(B82,'Chapter 4'!$C$6:$D$58,2,0)","v":"Jakým způsobem zabraňuje organizace dětské práci?\nOrganizace\n1-\tzavedla systém ověřování věku; \n2-\tnezaměstnává děti mladší 15 let (v závislosti na místní legislativy). Jedinou výjimku představují učni, školní praxe nebo vzdělávací stáže; \n3-\tzaručuje, aby pracovní náplň osob mladších než 18 let neovlivňovala jejich školní docházku (doba strávená dopravou do práce a školy a z práce a školy, školní docházkou a prací je méně než 10 hodin denně );\n4-\tzajišťuje, že pracovní náplň mladých pracovníků není duševně, fyzicky, společensky ani morálně nebezpečná a škodlivá."},{"$f":"'Technical SDG'!C81","v":4},16,{"$f":"IF('Technical SDG'!D81=\"\",\"\",IF($D82=\"\",\"please complete\",IF($D82>'Technical SDG'!D81-1,\":-)\",CONCATENATE(\"increase until \",'Technical SDG'!D81))))","v":""},{"$f":"IF('Technical SDG'!E81=\"\",\"\",IF($D82=\"\",\"please complete\",IF($D82>'Technical SDG'!E81-1,\":-)\",CONCATENATE(\"increase until \",'Technical SDG'!E81))))","v":""},{"$f":"IF('Technical SDG'!F81=\"\",\"\",IF($D82=\"\",\"please complete\",IF($D82>'Technical SDG'!F81-1,\":-)\",CONCATENATE(\"increase until \",'Technical SDG'!F81))))","v":""},{"$f":"IF('Technical SDG'!G81=\"\",\"\",IF($D82=\"\",\"please complete\",IF($D82>'Technical SDG'!G81-1,\":-)\",CONCATENATE(\"increase until \",'Technical SDG'!G81))))","v":""},{"$f":"IF('Technical SDG'!H81=\"\",\"\",IF($D82=\"\",\"please complete\",IF($D82>'Technical SDG'!H81-1,\":-)\",CONCATENATE(\"increase until \",'Technical SDG'!H81))))","v":""},{"$f":"IF('Technical SDG'!I81=\"\",\"\",IF($D82=\"\",\"please complete\",IF($D82>'Technical SDG'!I81-1,\":-)\",CONCATENATE(\"increase until \",'Technical SDG'!I81))))","v":""},{"$f":"IF('Technical SDG'!J81=\"\",\"\",IF($D82=\"\",\"please complete\",IF($D82>'Technical SDG'!J81-1,\":-)\",CONCATENATE(\"increase until \",'Technical SDG'!J81))))","v":""},{"$f":"IF('Technical SDG'!K81=\"\",\"\",IF($D82=\"\",\"please complete\",IF($D82>'Technical SDG'!K81-1,\":-)\",CONCATENATE(\"increase until \",'Technical SDG'!K81))))","v":":-)"},{"$f":"IF('Technical SDG'!L81=\"\",\"\",IF($D82=\"\",\"please complete\",IF($D82>'Technical SDG'!L81-1,\":-)\",CONCATENATE(\"increase until \",'Technical SDG'!L81))))","v":""},{"$f":"IF('Technical SDG'!M81=\"\",\"\",IF($D82=\"\",\"please complete\",IF($D82>'Technical SDG'!M81-1,\":-)\",CONCATENATE(\"increase until \",'Technical SDG'!M81))))","v":""},{"$f":"IF('Technical SDG'!N81=\"\",\"\",IF($D82=\"\",\"please complete\",IF($D82>'Technical SDG'!N81-1,\":-)\",CONCATENATE(\"increase until \",'Technical SDG'!N81))))","v":""},{"$f":"IF('Technical SDG'!O81=\"\",\"\",IF($D82=\"\",\"please complete\",IF($D82>'Technical SDG'!O81-1,\":-)\",CONCATENATE(\"increase until \",'Technical SDG'!O81))))","v":""},{"$f":"IF('Technical SDG'!P81=\"\",\"\",IF($D82=\"\",\"please complete\",IF($D82>'Technical SDG'!P81-1,\":-)\",CONCATENATE(\"increase until \",'Technical SDG'!P81))))","v":""},{"$f":"IF('Technical SDG'!Q81=\"\",\"\",IF($D82=\"\",\"please complete\",IF($D82>'Technical SDG'!Q81-1,\":-)\",CONCATENATE(\"increase until \",'Technical SDG'!Q81))))","v":""},{"$f":"IF('Technical SDG'!R81=\"\",\"\",IF($D82=\"\",\"please complete\",IF($D82>'Technical SDG'!R81-1,\":-)\",CONCATENATE(\"increase until \",'Technical SDG'!R81))))","v":""},{"$f":"IF('Technical SDG'!S81=\"\",\"\",IF($D82=\"\",\"please complete\",IF($D82>'Technical SDG'!S81-1,\":-)\",CONCATENATE(\"increase until \",'Technical SDG'!S81))))","v":""},{"$f":"IF('Technical SDG'!T81=\"\",\"\",IF($D82=\"\",\"please complete\",IF($D82>'Technical SDG'!T81-1,\":-)\",CONCATENATE(\"increase until \",'Technical SDG'!T81))))","v":""}]
[null,{"$f":"'Technical SDG'!B82","v":"Q4.6"},{"$f":"VLOOKUP(B83,'Chapter 4'!$C$6:$D$58,2,0)","v":"Jakým způsobem zabezpečuje organizace splnění svých požadavků ze strany logistických partnerů?"},{"$f":"'Technical SDG'!C82","v":3},17,{"$f":"IF('Technical SDG'!D82=\"\",\"\",IF($D83=\"\",\"please complete\",IF($D83>'Technical SDG'!D82-1,\":-)\",CONCATENATE(\"increase until \",'Technical SDG'!D82))))","v":""},{"$f":"IF('Technical SDG'!E82=\"\",\"\",IF($D83=\"\",\"please complete\",IF($D83>'Technical SDG'!E82-1,\":-)\",CONCATENATE(\"increase until \",'Technical SDG'!E82))))","v":""},{"$f":"IF('Technical SDG'!F82=\"\",\"\",IF($D83=\"\",\"please complete\",IF($D83>'Technical SDG'!F82-1,\":-)\",CONCATENATE(\"increase until \",'Technical SDG'!F82))))","v":""},{"$f":"IF('Technical SDG'!G82=\"\",\"\",IF($D83=\"\",\"please complete\",IF($D83>'Technical SDG'!G82-1,\":-)\",CONCATENATE(\"increase until \",'Technical SDG'!G82))))","v":""},{"$f":"IF('Technical SDG'!H82=\"\",\"\",IF($D83=\"\",\"please complete\",IF($D83>'Technical SDG'!H82-1,\":-)\",CONCATENATE(\"increase until \",'Technical SDG'!H82))))","v":""},{"$f":"IF('Technical SDG'!I82=\"\",\"\",IF($D83=\"\",\"please complete\",IF($D83>'Technical SDG'!I82-1,\":-)\",CONCATENATE(\"increase until \",'Technical SDG'!I82))))","v":""},{"$f":"IF('Technical SDG'!J82=\"\",\"\",IF($D83=\"\",\"please complete\",IF($D83>'Technical SDG'!J82-1,\":-)\",CONCATENATE(\"increase until \",'Technical SDG'!J82))))","v":""},{"$f":"IF('Technical SDG'!K82=\"\",\"\",IF($D83=\"\",\"please complete\",IF($D83>'Technical SDG'!K82-1,\":-)\",CONCATENATE(\"increase until \",'Technical SDG'!K82))))","v":""},{"$f":"IF('Technical SDG'!L82=\"\",\"\",IF($D83=\"\",\"please complete\",IF($D83>'Technical SDG'!L82-1,\":-)\",CONCATENATE(\"increase until \",'Technical SDG'!L82))))","v":""},{"$f":"IF('Technical SDG'!M82=\"\",\"\",IF($D83=\"\",\"please complete\",IF($D83>'Technical SDG'!M82-1,\":-)\",CONCATENATE(\"increase until \",'Technical SDG'!M82))))","v":""},{"$f":"IF('Technical SDG'!N82=\"\",\"\",IF($D83=\"\",\"please complete\",IF($D83>'Technical SDG'!N82-1,\":-)\",CONCATENATE(\"increase until \",'Technical SDG'!N82))))","v":""},{"$f":"IF('Technical SDG'!O82=\"\",\"\",IF($D83=\"\",\"please complete\",IF($D83>'Technical SDG'!O82-1,\":-)\",CONCATENATE(\"increase until \",'Technical SDG'!O82))))","v":""},{"$f":"IF('Technical SDG'!P82=\"\",\"\",IF($D83=\"\",\"please complete\",IF($D83>'Technical SDG'!P82-1,\":-)\",CONCATENATE(\"increase until \",'Technical SDG'!P82))))","v":""},{"$f":"IF('Technical SDG'!Q82=\"\",\"\",IF($D83=\"\",\"please complete\",IF($D83>'Technical SDG'!Q82-1,\":-)\",CONCATENATE(\"increase until \",'Technical SDG'!Q82))))","v":""},{"$f":"IF('Technical SDG'!R82=\"\",\"\",IF($D83=\"\",\"please complete\",IF($D83>'Technical SDG'!R82-1,\":-)\",CONCATENATE(\"increase until \",'Technical SDG'!R82))))","v":""},{"$f":"IF('Technical SDG'!S82=\"\",\"\",IF($D83=\"\",\"please complete\",IF($D83>'Technical SDG'!S82-1,\":-)\",CONCATENATE(\"increase until \",'Technical SDG'!S82))))","v":""},{"$f":"IF('Technical SDG'!T82=\"\",\"\",IF($D83=\"\",\"please complete\",IF($D83>'Technical SDG'!T82-1,\":-)\",CONCATENATE(\"increase until \",'Technical SDG'!T82))))","v":""}]
[null,{"$f":"'Technical SDG'!B83","v":"Q4.7"},{"$f":"VLOOKUP(B84,'Chapter 4'!$C$6:$D$58,2,0)","v":"Jakým způsobem organizace chrání a zabezpečuje majetek a údaje následných uživatelů nebo externích poskytovatelů, které se používají nebo začleňují do produktů a služeb?"},{"$f":"'Technical SDG'!C83","v":3},17,{"$f":"IF('Technical SDG'!D83=\"\",\"\",IF($D84=\"\",\"please complete\",IF($D84>'Technical SDG'!D83-1,\":-)\",CONCATENATE(\"increase until \",'Technical SDG'!D83))))","v":""},{"$f":"IF('Technical SDG'!E83=\"\",\"\",IF($D84=\"\",\"please complete\",IF($D84>'Technical SDG'!E83-1,\":-)\",CONCATENATE(\"increase until \",'Technical SDG'!E83))))","v":""},{"$f":"IF('Technical SDG'!F83=\"\",\"\",IF($D84=\"\",\"please complete\",IF($D84>'Technical SDG'!F83-1,\":-)\",CONCATENATE(\"increase until \",'Technical SDG'!F83))))","v":""},{"$f":"IF('Technical SDG'!G83=\"\",\"\",IF($D84=\"\",\"please complete\",IF($D84>'Technical SDG'!G83-1,\":-)\",CONCATENATE(\"increase until \",'Technical SDG'!G83))))","v":""},{"$f":"IF('Technical SDG'!H83=\"\",\"\",IF($D84=\"\",\"please complete\",IF($D84>'Technical SDG'!H83-1,\":-)\",CONCATENATE(\"increase until \",'Technical SDG'!H83))))","v":""},{"$f":"IF('Technical SDG'!I83=\"\",\"\",IF($D84=\"\",\"please complete\",IF($D84>'Technical SDG'!I83-1,\":-)\",CONCATENATE(\"increase until \",'Technical SDG'!I83))))","v":""},{"$f":"IF('Technical SDG'!J83=\"\",\"\",IF($D84=\"\",\"please complete\",IF($D84>'Technical SDG'!J83-1,\":-)\",CONCATENATE(\"increase until \",'Technical SDG'!J83))))","v":""},{"$f":"IF('Technical SDG'!K83=\"\",\"\",IF($D84=\"\",\"please complete\",IF($D84>'Technical SDG'!K83-1,\":-)\",CONCATENATE(\"increase until \",'Technical SDG'!K83))))","v":""},{"$f":"IF('Technical SDG'!L83=\"\",\"\",IF($D84=\"\",\"please complete\",IF($D84>'Technical SDG'!L83-1,\":-)\",CONCATENATE(\"increase until \",'Technical SDG'!L83))))","v":""},{"$f":"IF('Technical SDG'!M83=\"\",\"\",IF($D84=\"\",\"please complete\",IF($D84>'Technical SDG'!M83-1,\":-)\",CONCATENATE(\"increase until \",'Technical SDG'!M83))))","v":""},{"$f":"IF('Technical SDG'!N83=\"\",\"\",IF($D84=\"\",\"please complete\",IF($D84>'Technical SDG'!N83-1,\":-)\",CONCATENATE(\"increase until \",'Technical SDG'!N83))))","v":""},{"$f":"IF('Technical SDG'!O83=\"\",\"\",IF($D84=\"\",\"please complete\",IF($D84>'Technical SDG'!O83-1,\":-)\",CONCATENATE(\"increase until \",'Technical SDG'!O83))))","v":""},{"$f":"IF('Technical SDG'!P83=\"\",\"\",IF($D84=\"\",\"please complete\",IF($D84>'Technical SDG'!P83-1,\":-)\",CONCATENATE(\"increase until \",'Technical SDG'!P83))))","v":""},{"$f":"IF('Technical SDG'!Q83=\"\",\"\",IF($D84=\"\",\"please complete\",IF($D84>'Technical SDG'!Q83-1,\":-)\",CONCATENATE(\"increase until \",'Technical SDG'!Q83))))","v":""},{"$f":"IF('Technical SDG'!R83=\"\",\"\",IF($D84=\"\",\"please complete\",IF($D84>'Technical SDG'!R83-1,\":-)\",CONCATENATE(\"increase until \",'Technical SDG'!R83))))","v":""},{"$f":"IF('Technical SDG'!S83=\"\",\"\",IF($D84=\"\",\"please complete\",IF($D84>'Technical SDG'!S83-1,\":-)\",CONCATENATE(\"increase until \",'Technical SDG'!S83))))","v":""},{"$f":"IF('Technical SDG'!T83=\"\",\"\",IF($D84=\"\",\"please complete\",IF($D84>'Technical SDG'!T83-1,\":-)\",CONCATENATE(\"increase until \",'Technical SDG'!T83))))","v":""}]
[null,{"$f":"'Technical SDG'!B84","v":"Q4.8"},{"$f":"VLOOKUP(B85,'Chapter 4'!$C$6:$D$58,2,0)","v":"Co zahrnuje dialog s následnými uživateli?"},{"$f":"'Technical SDG'!C84","v":4},17,{"$f":"IF('Technical SDG'!D84=\"\",\"\",IF($D85=\"\",\"please complete\",IF($D85>'Technical SDG'!D84-1,\":-)\",CONCATENATE(\"increase until \",'Technical SDG'!D84))))","v":""},{"$f":"IF('Technical SDG'!E84=\"\",\"\",IF($D85=\"\",\"please complete\",IF($D85>'Technical SDG'!E84-1,\":-)\",CONCATENATE(\"increase until \",'Technical SDG'!E84))))","v":""},{"$f":"IF('Technical SDG'!F84=\"\",\"\",IF($D85=\"\",\"please complete\",IF($D85>'Technical SDG'!F84-1,\":-)\",CONCATENATE(\"increase until \",'Technical SDG'!F84))))","v":""},{"$f":"IF('Technical SDG'!G84=\"\",\"\",IF($D85=\"\",\"please complete\",IF($D85>'Technical SDG'!G84-1,\":-)\",CONCATENATE(\"increase until \",'Technical SDG'!G84))))","v":""},{"$f":"IF('Technical SDG'!H84=\"\",\"\",IF($D85=\"\",\"please complete\",IF($D85>'Technical SDG'!H84-1,\":-)\",CONCATENATE(\"increase until \",'Technical SDG'!H84))))","v":""},{"$f":"IF('Technical SDG'!I84=\"\",\"\",IF($D85=\"\",\"please complete\",IF($D85>'Technical SDG'!I84-1,\":-)\",CONCATENATE(\"increase until \",'Technical SDG'!I84))))","v":""},{"$f":"IF('Technical SDG'!J84=\"\",\"\",IF($D85=\"\",\"please complete\",IF($D85>'Technical SDG'!J84-1,\":-)\",CONCATENATE(\"increase until \",'Technical SDG'!J84))))","v":""},{"$f":"IF('Technical SDG'!K84=\"\",\"\",IF($D85=\"\",\"please complete\",IF($D85>'Technical SDG'!K84-1,\":-)\",CONCATENATE(\"increase until \",'Technical SDG'!K84))))","v":""},{"$f":"IF('Technical SDG'!L84=\"\",\"\",IF($D85=\"\",\"please complete\",IF($D85>'Technical SDG'!L84-1,\":-)\",CONCATENATE(\"increase until \",'Technical SDG'!L84))))","v":""},{"$f":"IF('Technical SDG'!M84=\"\",\"\",IF($D85=\"\",\"please complete\",IF($D85>'Technical SDG'!M84-1,\":-)\",CONCATENATE(\"increase until \",'Technical SDG'!M84))))","v":""},{"$f":"IF('Technical SDG'!N84=\"\",\"\",IF($D85=\"\",\"please complete\",IF($D85>'Technical SDG'!N84-1,\":-)\",CONCATENATE(\"increase until \",'Technical SDG'!N84))))","v":""},{"$f":"IF('Technical SDG'!O84=\"\",\"\",IF($D85=\"\",\"please complete\",IF($D85>'Technical SDG'!O84-1,\":-)\",CONCATENATE(\"increase until \",'Technical SDG'!O84))))","v":""},{"$f":"IF('Technical SDG'!P84=\"\",\"\",IF($D85=\"\",\"please complete\",IF($D85>'Technical SDG'!P84-1,\":-)\",CONCATENATE(\"increase until \",'Technical SDG'!P84))))","v":""},{"$f":"IF('Technical SDG'!Q84=\"\",\"\",IF($D85=\"\",\"please complete\",IF($D85>'Technical SDG'!Q84-1,\":-)\",CONCATENATE(\"increase until \",'Technical SDG'!Q84))))","v":""},{"$f":"IF('Technical SDG'!R84=\"\",\"\",IF($D85=\"\",\"please complete\",IF($D85>'Technical SDG'!R84-1,\":-)\",CONCATENATE(\"increase until \",'Technical SDG'!R84))))","v":""},{"$f":"IF('Technical SDG'!S84=\"\",\"\",IF($D85=\"\",\"please complete\",IF($D85>'Technical SDG'!S84-1,\":-)\",CONCATENATE(\"increase until \",'Technical SDG'!S84))))","v":""},{"$f":"IF('Technical SDG'!T84=\"\",\"\",IF($D85=\"\",\"please complete\",IF($D85>'Technical SDG'!T84-1,\":-)\",CONCATENATE(\"increase until \",'Technical SDG'!T84))))","v":""}]
[]
[null,{"$f":"'Technical SDG'!B86","v":"Q5.1"},{"$f":"VLOOKUP(B87,'Chapter 5'!$C$6:$D$34,2,0)","v":"Jakým způsobem zapojuje organizace své externí zainteresované strany a naplňuje jejich očekávání?"},{"$f":"'Technical SDG'!C86","v":3},17,{"$f":"IF('Technical SDG'!D86=\"\",\"\",IF($D87=\"\",\"please complete\",IF($D87>'Technical SDG'!D86-1,\":-)\",CONCATENATE(\"increase until \",'Technical SDG'!D86))))","v":""},{"$f":"IF('Technical SDG'!E86=\"\",\"\",IF($D87=\"\",\"please complete\",IF($D87>'Technical SDG'!E86-1,\":-)\",CONCATENATE(\"increase until \",'Technical SDG'!E86))))","v":""},{"$f":"IF('Technical SDG'!F86=\"\",\"\",IF($D87=\"\",\"please complete\",IF($D87>'Technical SDG'!F86-1,\":-)\",CONCATENATE(\"increase until \",'Technical SDG'!F86))))","v":""},{"$f":"IF('Technical SDG'!G86=\"\",\"\",IF($D87=\"\",\"please complete\",IF($D87>'Technical SDG'!G86-1,\":-)\",CONCATENATE(\"increase until \",'Technical SDG'!G86))))","v":""},{"$f":"IF('Technical SDG'!H86=\"\",\"\",IF($D87=\"\",\"please complete\",IF($D87>'Technical SDG'!H86-1,\":-)\",CONCATENATE(\"increase until \",'Technical SDG'!H86))))","v":""},{"$f":"IF('Technical SDG'!I86=\"\",\"\",IF($D87=\"\",\"please complete\",IF($D87>'Technical SDG'!I86-1,\":-)\",CONCATENATE(\"increase until \",'Technical SDG'!I86))))","v":""},{"$f":"IF('Technical SDG'!J86=\"\",\"\",IF($D87=\"\",\"please complete\",IF($D87>'Technical SDG'!J86-1,\":-)\",CONCATENATE(\"increase until \",'Technical SDG'!J86))))","v":""},{"$f":"IF('Technical SDG'!K86=\"\",\"\",IF($D87=\"\",\"please complete\",IF($D87>'Technical SDG'!K86-1,\":-)\",CONCATENATE(\"increase until \",'Technical SDG'!K86))))","v":""},{"$f":"IF('Technical SDG'!L86=\"\",\"\",IF($D87=\"\",\"please complete\",IF($D87>'Technical SDG'!L86-1,\":-)\",CONCATENATE(\"increase until \",'Technical SDG'!L86))))","v":""},{"$f":"IF('Technical SDG'!M86=\"\",\"\",IF($D87=\"\",\"please complete\",IF($D87>'Technical SDG'!M86-1,\":-)\",CONCATENATE(\"increase until \",'Technical SDG'!M86))))","v":""},{"$f":"IF('Technical SDG'!N86=\"\",\"\",IF($D87=\"\",\"please complete\",IF($D87>'Technical SDG'!N86-1,\":-)\",CONCATENATE(\"increase until \",'Technical SDG'!N86))))","v":""},{"$f":"IF('Technical SDG'!O86=\"\",\"\",IF($D87=\"\",\"please complete\",IF($D87>'Technical SDG'!O86-1,\":-)\",CONCATENATE(\"increase until \",'Technical SDG'!O86))))","v":""},{"$f":"IF('Technical SDG'!P86=\"\",\"\",IF($D87=\"\",\"please complete\",IF($D87>'Technical SDG'!P86-1,\":-)\",CONCATENATE(\"increase until \",'Technical SDG'!P86))))","v":""},{"$f":"IF('Technical SDG'!Q86=\"\",\"\",IF($D87=\"\",\"please complete\",IF($D87>'Technical SDG'!Q86-1,\":-)\",CONCATENATE(\"increase until \",'Technical SDG'!Q86))))","v":""},{"$f":"IF('Technical SDG'!R86=\"\",\"\",IF($D87=\"\",\"please complete\",IF($D87>'Technical SDG'!R86-1,\":-)\",CONCATENATE(\"increase until \",'Technical SDG'!R86))))","v":""},{"$f":"IF('Technical SDG'!S86=\"\",\"\",IF($D87=\"\",\"please complete\",IF($D87>'Technical SDG'!S86-1,\":-)\",CONCATENATE(\"increase until \",'Technical SDG'!S86))))","v":""},{"$f":"IF('Technical SDG'!T86=\"\",\"\",IF($D87=\"\",\"please complete\",IF($D87>'Technical SDG'!T86-1,\":-)\",CONCATENATE(\"increase until \",'Technical SDG'!T86))))","v":""}]
[null,{"$f":"'Technical SDG'!B87","v":"Q5.2"},{"$f":"VLOOKUP(B88,'Chapter 5'!$C$6:$D$34,2,0)","v":"Jakým způsobem vede organizace dialog s veřejností, úřady a dalšími zainteresovanými stranami, včetně místních komunit a zákazníků v souvislosti s HSE&S v rámci jejich činností, produktů a služeb?"},{"$f":"'Technical SDG'!C87","v":2},17,{"$f":"IF('Technical SDG'!D87=\"\",\"\",IF($D88=\"\",\"please complete\",IF($D88>'Technical SDG'!D87-1,\":-)\",CONCATENATE(\"increase until \",'Technical SDG'!D87))))","v":""},{"$f":"IF('Technical SDG'!E87=\"\",\"\",IF($D88=\"\",\"please complete\",IF($D88>'Technical SDG'!E87-1,\":-)\",CONCATENATE(\"increase until \",'Technical SDG'!E87))))","v":""},{"$f":"IF('Technical SDG'!F87=\"\",\"\",IF($D88=\"\",\"please complete\",IF($D88>'Technical SDG'!F87-1,\":-)\",CONCATENATE(\"increase until \",'Technical SDG'!F87))))","v":""},{"$f":"IF('Technical SDG'!G87=\"\",\"\",IF($D88=\"\",\"please complete\",IF($D88>'Technical SDG'!G87-1,\":-)\",CONCATENATE(\"increase until \",'Technical SDG'!G87))))","v":""},{"$f":"IF('Technical SDG'!H87=\"\",\"\",IF($D88=\"\",\"please complete\",IF($D88>'Technical SDG'!H87-1,\":-)\",CONCATENATE(\"increase until \",'Technical SDG'!H87))))","v":""},{"$f":"IF('Technical SDG'!I87=\"\",\"\",IF($D88=\"\",\"please complete\",IF($D88>'Technical SDG'!I87-1,\":-)\",CONCATENATE(\"increase until \",'Technical SDG'!I87))))","v":""},{"$f":"IF('Technical SDG'!J87=\"\",\"\",IF($D88=\"\",\"please complete\",IF($D88>'Technical SDG'!J87-1,\":-)\",CONCATENATE(\"increase until \",'Technical SDG'!J87))))","v":""},{"$f":"IF('Technical SDG'!K87=\"\",\"\",IF($D88=\"\",\"please complete\",IF($D88>'Technical SDG'!K87-1,\":-)\",CONCATENATE(\"increase until \",'Technical SDG'!K87))))","v":""},{"$f":"IF('Technical SDG'!L87=\"\",\"\",IF($D88=\"\",\"please complete\",IF($D88>'Technical SDG'!L87-1,\":-)\",CONCATENATE(\"increase until \",'Technical SDG'!L87))))","v":""},{"$f":"IF('Technical SDG'!M87=\"\",\"\",IF($D88=\"\",\"please complete\",IF($D88>'Technical SDG'!M87-1,\":-)\",CONCATENATE(\"increase until \",'Technical SDG'!M87))))","v":""},{"$f":"IF('Technical SDG'!N87=\"\",\"\",IF($D88=\"\",\"please complete\",IF($D88>'Technical SDG'!N87-1,\":-)\",CONCATENATE(\"increase until \",'Technical SDG'!N87))))","v":""},{"$f":"IF('Technical SDG'!O87=\"\",\"\",IF($D88=\"\",\"please complete\",IF($D88>'Technical SDG'!O87-1,\":-)\",CONCATENATE(\"increase until \",'Technical SDG'!O87))))","v":""},{"$f":"IF('Technical SDG'!P87=\"\",\"\",IF($D88=\"\",\"please complete\",IF($D88>'Technical SDG'!P87-1,\":-)\",CONCATENATE(\"increase until \",'Technical SDG'!P87))))","v":""},{"$f":"IF('Technical SDG'!Q87=\"\",\"\",IF($D88=\"\",\"please complete\",IF($D88>'Technical SDG'!Q87-1,\":-)\",CONCATENATE(\"increase until \",'Technical SDG'!Q87))))","v":""},{"$f":"IF('Technical SDG'!R87=\"\",\"\",IF($D88=\"\",\"please complete\",IF($D88>'Technical SDG'!R87-1,\":-)\",CONCATENATE(\"increase until \",'Technical SDG'!R87))))","v":""},{"$f":"IF('Technical SDG'!S87=\"\",\"\",IF($D88=\"\",\"please complete\",IF($D88>'Technical SDG'!S87-1,\":-)\",CONCATENATE(\"increase until \",'Technical SDG'!S87))))","v":""},{"$f":"IF('Technical SDG'!T87=\"\",\"\",IF($D88=\"\",\"please complete\",IF($D88>'Technical SDG'!T87-1,\":-)\",CONCATENATE(\"increase until \",'Technical SDG'!T87))))","v":""}]
[null,{"$f":"'Technical SDG'!B88","v":"Q5.3"},{"$f":"VLOOKUP(B89,'Chapter 5'!$C$6:$D$34,2,0)","v":"Jakým způsobem zveřejňuje organizace informace týkající se\n HSE&S?"},{"$f":"'Technical SDG'!C88","v":2},16,{"$f":"IF('Technical SDG'!D88=\"\",\"\",IF($D89=\"\",\"please complete\",IF($D89>'Technical SDG'!D88-1,\":-)\",CONCATENATE(\"increase until \",'Technical SDG'!D88))))","v":""},{"$f":"IF('Technical SDG'!E88=\"\",\"\",IF($D89=\"\",\"please complete\",IF($D89>'Technical SDG'!E88-1,\":-)\",CONCATENATE(\"increase until \",'Technical SDG'!E88))))","v":""},{"$f":"IF('Technical SDG'!F88=\"\",\"\",IF($D89=\"\",\"please complete\",IF($D89>'Technical SDG'!F88-1,\":-)\",CONCATENATE(\"increase until \",'Technical SDG'!F88))))","v":""},{"$f":"IF('Technical SDG'!G88=\"\",\"\",IF($D89=\"\",\"please complete\",IF($D89>'Technical SDG'!G88-1,\":-)\",CONCATENATE(\"increase until \",'Technical SDG'!G88))))","v":""},{"$f":"IF('Technical SDG'!H88=\"\",\"\",IF($D89=\"\",\"please complete\",IF($D89>'Technical SDG'!H88-1,\":-)\",CONCATENATE(\"increase until \",'Technical SDG'!H88))))","v":""},{"$f":"IF('Technical SDG'!I88=\"\",\"\",IF($D89=\"\",\"please complete\",IF($D89>'Technical SDG'!I88-1,\":-)\",CONCATENATE(\"increase until \",'Technical SDG'!I88))))","v":""},{"$f":"IF('Technical SDG'!J88=\"\",\"\",IF($D89=\"\",\"please complete\",IF($D89>'Technical SDG'!J88-1,\":-)\",CONCATENATE(\"increase until \",'Technical SDG'!J88))))","v":""},{"$f":"IF('Technical SDG'!K88=\"\",\"\",IF($D89=\"\",\"please complete\",IF($D89>'Technical SDG'!K88-1,\":-)\",CONCATENATE(\"increase until \",'Technical SDG'!K88))))","v":""},{"$f":"IF('Technical SDG'!L88=\"\",\"\",IF($D89=\"\",\"please complete\",IF($D89>'Technical SDG'!L88-1,\":-)\",CONCATENATE(\"increase until \",'Technical SDG'!L88))))","v":""},{"$f":"IF('Technical SDG'!M88=\"\",\"\",IF($D89=\"\",\"please complete\",IF($D89>'Technical SDG'!M88-1,\":-)\",CONCATENATE(\"increase until \",'Technical SDG'!M88))))","v":""},{"$f":"IF('Technical SDG'!N88=\"\",\"\",IF($D89=\"\",\"please complete\",IF($D89>'Technical SDG'!N88-1,\":-)\",CONCATENATE(\"increase until \",'Technical SDG'!N88))))","v":""},{"$f":"IF('Technical SDG'!O88=\"\",\"\",IF($D89=\"\",\"please complete\",IF($D89>'Technical SDG'!O88-1,\":-)\",CONCATENATE(\"increase until \",'Technical SDG'!O88))))","v":"increase until 3"},{"$f":"IF('Technical SDG'!P88=\"\",\"\",IF($D89=\"\",\"please complete\",IF($D89>'Technical SDG'!P88-1,\":-)\",CONCATENATE(\"increase until \",'Technical SDG'!P88))))","v":""},{"$f":"IF('Technical SDG'!Q88=\"\",\"\",IF($D89=\"\",\"please complete\",IF($D89>'Technical SDG'!Q88-1,\":-)\",CONCATENATE(\"increase until \",'Technical SDG'!Q88))))","v":""},{"$f":"IF('Technical SDG'!R88=\"\",\"\",IF($D89=\"\",\"please complete\",IF($D89>'Technical SDG'!R88-1,\":-)\",CONCATENATE(\"increase until \",'Technical SDG'!R88))))","v":""},{"$f":"IF('Technical SDG'!S88=\"\",\"\",IF($D89=\"\",\"please complete\",IF($D89>'Technical SDG'!S88-1,\":-)\",CONCATENATE(\"increase until \",'Technical SDG'!S88))))","v":""},{"$f":"IF('Technical SDG'!T88=\"\",\"\",IF($D89=\"\",\"please complete\",IF($D89>'Technical SDG'!T88-1,\":-)\",CONCATENATE(\"increase until \",'Technical SDG'!T88))))","v":""}]
[null,{"$f":"'Technical SDG'!B89","v":"Q5.4"},{"$f":"VLOOKUP(B90,'Chapter 5'!$C$6:$D$34,2,0)","v":"Jakým způsobem podporuje organizace místní komunity?"},{"$f":"'Technical SDG'!C89","v":3},16,{"$f":"IF('Technical SDG'!D89=\"\",\"\",IF($D90=\"\",\"please complete\",IF($D90>'Technical SDG'!D89-1,\":-)\",CONCATENATE(\"increase until \",'Technical SDG'!D89))))","v":""},{"$f":"IF('Technical SDG'!E89=\"\",\"\",IF($D90=\"\",\"please complete\",IF($D90>'Technical SDG'!E89-1,\":-)\",CONCATENATE(\"increase until \",'Technical SDG'!E89))))","v":""},{"$f":"IF('Technical SDG'!F89=\"\",\"\",IF($D90=\"\",\"please complete\",IF($D90>'Technical SDG'!F89-1,\":-)\",CONCATENATE(\"increase until \",'Technical SDG'!F89))))","v":""},{"$f":"IF('Technical SDG'!G89=\"\",\"\",IF($D90=\"\",\"please complete\",IF($D90>'Technical SDG'!G89-1,\":-)\",CONCATENATE(\"increase until \",'Technical SDG'!G89))))","v":""},{"$f":"IF('Technical SDG'!H89=\"\",\"\",IF($D90=\"\",\"please complete\",IF($D90>'Technical SDG'!H89-1,\":-)\",CONCATENATE(\"increase until \",'Technical SDG'!H89))))","v":""},{"$f":"IF('Technical SDG'!I89=\"\",\"\",IF($D90=\"\",\"please complete\",IF($D90>'Technical SDG'!I89-1,\":-)\",CONCATENATE(\"increase until \",'Technical SDG'!I89))))","v":""},{"$f":"IF('Technical SDG'!J89=\"\",\"\",IF($D90=\"\",\"please complete\",IF($D90>'Technical SDG'!J89-1,\":-)\",CONCATENATE(\"increase until \",'Technical SDG'!J89))))","v":""},{"$f":"IF('Technical SDG'!K89=\"\",\"\",IF($D90=\"\",\"please complete\",IF($D90>'Technical SDG'!K89-1,\":-)\",CONCATENATE(\"increase until \",'Technical SDG'!K89))))","v":""},{"$f":"IF('Technical SDG'!L89=\"\",\"\",IF($D90=\"\",\"please complete\",IF($D90>'Technical SDG'!L89-1,\":-)\",CONCATENATE(\"increase until \",'Technical SDG'!L89))))","v":""},{"$f":"IF('Technical SDG'!M89=\"\",\"\",IF($D90=\"\",\"please complete\",IF($D90>'Technical SDG'!M89-1,\":-)\",CONCATENATE(\"increase until \",'Technical SDG'!M89))))","v":""},{"$f":"IF('Technical SDG'!N89=\"\",\"\",IF($D90=\"\",\"please complete\",IF($D90>'Technical SDG'!N89-1,\":-)\",CONCATENATE(\"increase until \",'Technical SDG'!N89))))","v":":-)"},{"$f":"IF('Technical SDG'!O89=\"\",\"\",IF($D90=\"\",\"please complete\",IF($D90>'Technical SDG'!O89-1,\":-)\",CONCATENATE(\"increase until \",'Technical SDG'!O89))))","v":""},{"$f":"IF('Technical SDG'!P89=\"\",\"\",IF($D90=\"\",\"please complete\",IF($D90>'Technical SDG'!P89-1,\":-)\",CONCATENATE(\"increase until \",'Technical SDG'!P89))))","v":""},{"$f":"IF('Technical SDG'!Q89=\"\",\"\",IF($D90=\"\",\"please complete\",IF($D90>'Technical SDG'!Q89-1,\":-)\",CONCATENATE(\"increase until \",'Technical SDG'!Q89))))","v":""},{"$f":"IF('Technical SDG'!R89=\"\",\"\",IF($D90=\"\",\"please complete\",IF($D90>'Technical SDG'!R89-1,\":-)\",CONCATENATE(\"increase until \",'Technical SDG'!R89))))","v":""},{"$f":"IF('Technical SDG'!S89=\"\",\"\",IF($D90=\"\",\"please complete\",IF($D90>'Technical SDG'!S89-1,\":-)\",CONCATENATE(\"increase until \",'Technical SDG'!S89))))","v":""},{"$f":"IF('Technical SDG'!T89=\"\",\"\",IF($D90=\"\",\"please complete\",IF($D90>'Technical SDG'!T89-1,\":-)\",CONCATENATE(\"increase until \",'Technical SDG'!T89))))","v":""}]
[null,{"$f":"'Technical SDG'!B90","v":"Q5.5"},{"$f":"VLOOKUP(B91,'Chapter 5'!$C$6:$D$34,2,0)","v":"Jakým způsobem stimuluje organizace místní zaměstnanost a vzdělávání?"},{"$f":"'Technical SDG'!C90","v":2},15,{"$f":"IF('Technical SDG'!D90=\"\",\"\",IF($D91=\"\",\"please complete\",IF($D91>'Technical SDG'!D90-1,\":-)\",CONCATENATE(\"increase until \",'Technical SDG'!D90))))","v":""},{"$f":"IF('Technical SDG'!E90=\"\",\"\",IF($D91=\"\",\"please complete\",IF($D91>'Technical SDG'!E90-1,\":-)\",CONCATENATE(\"increase until \",'Technical SDG'!E90))))","v":""},{"$f":"IF('Technical SDG'!F90=\"\",\"\",IF($D91=\"\",\"please complete\",IF($D91>'Technical SDG'!F90-1,\":-)\",CONCATENATE(\"increase until \",'Technical SDG'!F90))))","v":""},{"$f":"IF('Technical SDG'!G90=\"\",\"\",IF($D91=\"\",\"please complete\",IF($D91>'Technical SDG'!G90-1,\":-)\",CONCATENATE(\"increase until \",'Technical SDG'!G90))))","v":"increase until 3"},{"$f":"IF('Technical SDG'!H90=\"\",\"\",IF($D91=\"\",\"please complete\",IF($D91>'Technical SDG'!H90-1,\":-)\",CONCATENATE(\"increase until \",'Technical SDG'!H90))))","v":""},{"$f":"IF('Technical SDG'!I90=\"\",\"\",IF($D91=\"\",\"please complete\",IF($D91>'Technical SDG'!I90-1,\":-)\",CONCATENATE(\"increase until \",'Technical SDG'!I90))))","v":""},{"$f":"IF('Technical SDG'!J90=\"\",\"\",IF($D91=\"\",\"please complete\",IF($D91>'Technical SDG'!J90-1,\":-)\",CONCATENATE(\"increase until \",'Technical SDG'!J90))))","v":""},{"$f":"IF('Technical SDG'!K90=\"\",\"\",IF($D91=\"\",\"please complete\",IF($D91>'Technical SDG'!K90-1,\":-)\",CONCATENATE(\"increase until \",'Technical SDG'!K90))))","v":"increase until 3"},{"$f":"IF('Technical SDG'!L90=\"\",\"\",IF($D91=\"\",\"please complete\",IF($D91>'Technical SDG'!L90-1,\":-)\",CONCATENATE(\"increase until \",'Technical SDG'!L90))))","v":""},{"$f":"IF('Technical SDG'!M90=\"\",\"\",IF($D91=\"\",\"please complete\",IF($D91>'Technical SDG'!M90-1,\":-)\",CONCATENATE(\"increase until \",'Technical SDG'!M90))))","v":""},{"$f":"IF('Technical SDG'!N90=\"\",\"\",IF($D91=\"\",\"please complete\",IF($D91>'Technical SDG'!N90-1,\":-)\",CONCATENATE(\"increase until \",'Technical SDG'!N90))))","v":""},{"$f":"IF('Technical SDG'!O90=\"\",\"\",IF($D91=\"\",\"please complete\",IF($D91>'Technical SDG'!O90-1,\":-)\",CONCATENATE(\"increase until \",'Technical SDG'!O90))))","v":""},{"$f":"IF('Technical SDG'!P90=\"\",\"\",IF($D91=\"\",\"please complete\",IF($D91>'Technical SDG'!P90-1,\":-)\",CONCATENATE(\"increase until \",'Technical SDG'!P90))))","v":""},{"$f":"IF('Technical SDG'!Q90=\"\",\"\",IF($D91=\"\",\"please complete\",IF($D91>'Technical SDG'!Q90-1,\":-)\",CONCATENATE(\"increase until \",'Technical SDG'!Q90))))","v":""},{"$f":"IF('Technical SDG'!R90=\"\",\"\",IF($D91=\"\",\"please complete\",IF($D91>'Technical SDG'!R90-1,\":-)\",CONCATENATE(\"increase until \",'Technical SDG'!R90))))","v":""},{"$f":"IF('Technical SDG'!S90=\"\",\"\",IF($D91=\"\",\"please complete\",IF($D91>'Technical SDG'!S90-1,\":-)\",CONCATENATE(\"increase until \",'Technical SDG'!S90))))","v":""},{"$f":"IF('Technical SDG'!T90=\"\",\"\",IF($D91=\"\",\"please complete\",IF($D91>'Technical SDG'!T90-1,\":-)\",CONCATENATE(\"increase until \",'Technical SDG'!T90))))","v":""}]
[]
[null,{"$f":"'Technical SDG'!B92","v":"Q6.1"},{"$f":"VLOOKUP(B93,'Chapter 6'!$C$6:$D$120,2,0)","v":"Jakým způsobem definuje organizace významné problémy a závažnost?"},{"$f":"'Technical SDG'!C92","v":2},17,{"$f":"IF('Technical SDG'!D92=\"\",\"\",IF($D93=\"\",\"please complete\",IF($D93>'Technical SDG'!D92-1,\":-)\",CONCATENATE(\"increase until \",'Technical SDG'!D92))))","v":""},{"$f":"IF('Technical SDG'!E92=\"\",\"\",IF($D93=\"\",\"please complete\",IF($D93>'Technical SDG'!E92-1,\":-)\",CONCATENATE(\"increase until \",'Technical SDG'!E92))))","v":""},{"$f":"IF('Technical SDG'!F92=\"\",\"\",IF($D93=\"\",\"please complete\",IF($D93>'Technical SDG'!F92-1,\":-)\",CONCATENATE(\"increase until \",'Technical SDG'!F92))))","v":""},{"$f":"IF('Technical SDG'!G92=\"\",\"\",IF($D93=\"\",\"please complete\",IF($D93>'Technical SDG'!G92-1,\":-)\",CONCATENATE(\"increase until \",'Technical SDG'!G92))))","v":""},{"$f":"IF('Technical SDG'!H92=\"\",\"\",IF($D93=\"\",\"please complete\",IF($D93>'Technical SDG'!H92-1,\":-)\",CONCATENATE(\"increase until \",'Technical SDG'!H92))))","v":""},{"$f":"IF('Technical SDG'!I92=\"\",\"\",IF($D93=\"\",\"please complete\",IF($D93>'Technical SDG'!I92-1,\":-)\",CONCATENATE(\"increase until \",'Technical SDG'!I92))))","v":""},{"$f":"IF('Technical SDG'!J92=\"\",\"\",IF($D93=\"\",\"please complete\",IF($D93>'Technical SDG'!J92-1,\":-)\",CONCATENATE(\"increase until \",'Technical SDG'!J92))))","v":""},{"$f":"IF('Technical SDG'!K92=\"\",\"\",IF($D93=\"\",\"please complete\",IF($D93>'Technical SDG'!K92-1,\":-)\",CONCATENATE(\"increase until \",'Technical SDG'!K92))))","v":""},{"$f":"IF('Technical SDG'!L92=\"\",\"\",IF($D93=\"\",\"please complete\",IF($D93>'Technical SDG'!L92-1,\":-)\",CONCATENATE(\"increase until \",'Technical SDG'!L92))))","v":""},{"$f":"IF('Technical SDG'!M92=\"\",\"\",IF($D93=\"\",\"please complete\",IF($D93>'Technical SDG'!M92-1,\":-)\",CONCATENATE(\"increase until \",'Technical SDG'!M92))))","v":""},{"$f":"IF('Technical SDG'!N92=\"\",\"\",IF($D93=\"\",\"please complete\",IF($D93>'Technical SDG'!N92-1,\":-)\",CONCATENATE(\"increase until \",'Technical SDG'!N92))))","v":""},{"$f":"IF('Technical SDG'!O92=\"\",\"\",IF($D93=\"\",\"please complete\",IF($D93>'Technical SDG'!O92-1,\":-)\",CONCATENATE(\"increase until \",'Technical SDG'!O92))))","v":""},{"$f":"IF('Technical SDG'!P92=\"\",\"\",IF($D93=\"\",\"please complete\",IF($D93>'Technical SDG'!P92-1,\":-)\",CONCATENATE(\"increase until \",'Technical SDG'!P92))))","v":""},{"$f":"IF('Technical SDG'!Q92=\"\",\"\",IF($D93=\"\",\"please complete\",IF($D93>'Technical SDG'!Q92-1,\":-)\",CONCATENATE(\"increase until \",'Technical SDG'!Q92))))","v":""},{"$f":"IF('Technical SDG'!R92=\"\",\"\",IF($D93=\"\",\"please complete\",IF($D93>'Technical SDG'!R92-1,\":-)\",CONCATENATE(\"increase until \",'Technical SDG'!R92))))","v":""},{"$f":"IF('Technical SDG'!S92=\"\",\"\",IF($D93=\"\",\"please complete\",IF($D93>'Technical SDG'!S92-1,\":-)\",CONCATENATE(\"increase until \",'Technical SDG'!S92))))","v":""},{"$f":"IF('Technical SDG'!T92=\"\",\"\",IF($D93=\"\",\"please complete\",IF($D93>'Technical SDG'!T92-1,\":-)\",CONCATENATE(\"increase until \",'Technical SDG'!T92))))","v":""}]
[null,{"$f":"'Technical SDG'!B93","v":"Q6.2"},{"$f":"VLOOKUP(B94,'Chapter 6'!$C$6:$D$120,2,0)","v":"Jakým způsobem hodlá organizace přispívat k udržitelnému rozvoji?"},{"$f":"'Technical SDG'!C93","v":1},17,{"$f":"IF('Technical SDG'!D93=\"\",\"\",IF($D94=\"\",\"please complete\",IF($D94>'Technical SDG'!D93-1,\":-)\",CONCATENATE(\"increase until \",'Technical SDG'!D93))))","v":""},{"$f":"IF('Technical SDG'!E93=\"\",\"\",IF($D94=\"\",\"please complete\",IF($D94>'Technical SDG'!E93-1,\":-)\",CONCATENATE(\"increase until \",'Technical SDG'!E93))))","v":""},{"$f":"IF('Technical SDG'!F93=\"\",\"\",IF($D94=\"\",\"please complete\",IF($D94>'Technical SDG'!F93-1,\":-)\",CONCATENATE(\"increase until \",'Technical SDG'!F93))))","v":""},{"$f":"IF('Technical SDG'!G93=\"\",\"\",IF($D94=\"\",\"please complete\",IF($D94>'Technical SDG'!G93-1,\":-)\",CONCATENATE(\"increase until \",'Technical SDG'!G93))))","v":""},{"$f":"IF('Technical SDG'!H93=\"\",\"\",IF($D94=\"\",\"please complete\",IF($D94>'Technical SDG'!H93-1,\":-)\",CONCATENATE(\"increase until \",'Technical SDG'!H93))))","v":""},{"$f":"IF('Technical SDG'!I93=\"\",\"\",IF($D94=\"\",\"please complete\",IF($D94>'Technical SDG'!I93-1,\":-)\",CONCATENATE(\"increase until \",'Technical SDG'!I93))))","v":""},{"$f":"IF('Technical SDG'!J93=\"\",\"\",IF($D94=\"\",\"please complete\",IF($D94>'Technical SDG'!J93-1,\":-)\",CONCATENATE(\"increase until \",'Technical SDG'!J93))))","v":""},{"$f":"IF('Technical SDG'!K93=\"\",\"\",IF($D94=\"\",\"please complete\",IF($D94>'Technical SDG'!K93-1,\":-)\",CONCATENATE(\"increase until \",'Technical SDG'!K93))))","v":""},{"$f":"IF('Technical SDG'!L93=\"\",\"\",IF($D94=\"\",\"please complete\",IF($D94>'Technical SDG'!L93-1,\":-)\",CONCATENATE(\"increase until \",'Technical SDG'!L93))))","v":""},{"$f":"IF('Technical SDG'!M93=\"\",\"\",IF($D94=\"\",\"please complete\",IF($D94>'Technical SDG'!M93-1,\":-)\",CONCATENATE(\"increase until \",'Technical SDG'!M93))))","v":""},{"$f":"IF('Technical SDG'!N93=\"\",\"\",IF($D94=\"\",\"please complete\",IF($D94>'Technical SDG'!N93-1,\":-)\",CONCATENATE(\"increase until \",'Technical SDG'!N93))))","v":""},{"$f":"IF('Technical SDG'!O93=\"\",\"\",IF($D94=\"\",\"please complete\",IF($D94>'Technical SDG'!O93-1,\":-)\",CONCATENATE(\"increase until \",'Technical SDG'!O93))))","v":""},{"$f":"IF('Technical SDG'!P93=\"\",\"\",IF($D94=\"\",\"please complete\",IF($D94>'Technical SDG'!P93-1,\":-)\",CONCATENATE(\"increase until \",'Technical SDG'!P93))))","v":""},{"$f":"IF('Technical SDG'!Q93=\"\",\"\",IF($D94=\"\",\"please complete\",IF($D94>'Technical SDG'!Q93-1,\":-)\",CONCATENATE(\"increase until \",'Technical SDG'!Q93))))","v":""},{"$f":"IF('Technical SDG'!R93=\"\",\"\",IF($D94=\"\",\"please complete\",IF($D94>'Technical SDG'!R93-1,\":-)\",CONCATENATE(\"increase until \",'Technical SDG'!R93))))","v":""},{"$f":"IF('Technical SDG'!S93=\"\",\"\",IF($D94=\"\",\"please complete\",IF($D94>'Technical SDG'!S93-1,\":-)\",CONCATENATE(\"increase until \",'Technical SDG'!S93))))","v":""},{"$f":"IF('Technical SDG'!T93=\"\",\"\",IF($D94=\"\",\"please complete\",IF($D94>'Technical SDG'!T93-1,\":-)\",CONCATENATE(\"increase until \",'Technical SDG'!T93))))","v":""}]
[null,{"$f":"'Technical SDG'!B94","v":"Q6.3"},{"$f":"VLOOKUP(B95,'Chapter 6'!$C$6:$D$120,2,0)","v":"Jakým způsobem komunikuje organizace zainteresovaných stran na téma udržitelnosti?"},{"$f":"'Technical SDG'!C94","v":3},16,{"$f":"IF('Technical SDG'!D94=\"\",\"\",IF($D95=\"\",\"please complete\",IF($D95>'Technical SDG'!D94-1,\":-)\",CONCATENATE(\"increase until \",'Technical SDG'!D94))))","v":""},{"$f":"IF('Technical SDG'!E94=\"\",\"\",IF($D95=\"\",\"please complete\",IF($D95>'Technical SDG'!E94-1,\":-)\",CONCATENATE(\"increase until \",'Technical SDG'!E94))))","v":""},{"$f":"IF('Technical SDG'!F94=\"\",\"\",IF($D95=\"\",\"please complete\",IF($D95>'Technical SDG'!F94-1,\":-)\",CONCATENATE(\"increase until \",'Technical SDG'!F94))))","v":""},{"$f":"IF('Technical SDG'!G94=\"\",\"\",IF($D95=\"\",\"please complete\",IF($D95>'Technical SDG'!G94-1,\":-)\",CONCATENATE(\"increase until \",'Technical SDG'!G94))))","v":""},{"$f":"IF('Technical SDG'!H94=\"\",\"\",IF($D95=\"\",\"please complete\",IF($D95>'Technical SDG'!H94-1,\":-)\",CONCATENATE(\"increase until \",'Technical SDG'!H94))))","v":""},{"$f":"IF('Technical SDG'!I94=\"\",\"\",IF($D95=\"\",\"please complete\",IF($D95>'Technical SDG'!I94-1,\":-)\",CONCATENATE(\"increase until \",'Technical SDG'!I94))))","v":""},{"$f":"IF('Technical SDG'!J94=\"\",\"\",IF($D95=\"\",\"please complete\",IF($D95>'Technical SDG'!J94-1,\":-)\",CONCATENATE(\"increase until \",'Technical SDG'!J94))))","v":""},{"$f":"IF('Technical SDG'!K94=\"\",\"\",IF($D95=\"\",\"please complete\",IF($D95>'Technical SDG'!K94-1,\":-)\",CONCATENATE(\"increase until \",'Technical SDG'!K94))))","v":""},{"$f":"IF('Technical SDG'!L94=\"\",\"\",IF($D95=\"\",\"please complete\",IF($D95>'Technical SDG'!L94-1,\":-)\",CONCATENATE(\"increase until \",'Technical SDG'!L94))))","v":""},{"$f":"IF('Technical SDG'!M94=\"\",\"\",IF($D95=\"\",\"please complete\",IF($D95>'Technical SDG'!M94-1,\":-)\",CONCATENATE(\"increase until \",'Technical SDG'!M94))))","v":""},{"$f":"IF('Technical SDG'!N94=\"\",\"\",IF($D95=\"\",\"please complete\",IF($D95>'Technical SDG'!N94-1,\":-)\",CONCATENATE(\"increase until \",'Technical SDG'!N94))))","v":""},{"$f":"IF('Technical SDG'!O94=\"\",\"\",IF($D95=\"\",\"please complete\",IF($D95>'Technical SDG'!O94-1,\":-)\",CONCATENATE(\"increase until \",'Technical SDG'!O94))))","v":":-)"},{"$f":"IF('Technical SDG'!P94=\"\",\"\",IF($D95=\"\",\"please complete\",IF($D95>'Technical SDG'!P94-1,\":-)\",CONCATENATE(\"increase until \",'Technical SDG'!P94))))","v":""},{"$f":"IF('Technical SDG'!Q94=\"\",\"\",IF($D95=\"\",\"please complete\",IF($D95>'Technical SDG'!Q94-1,\":-)\",CONCATENATE(\"increase until \",'Technical SDG'!Q94))))","v":""},{"$f":"IF('Technical SDG'!R94=\"\",\"\",IF($D95=\"\",\"please complete\",IF($D95>'Technical SDG'!R94-1,\":-)\",CONCATENATE(\"increase until \",'Technical SDG'!R94))))","v":""},{"$f":"IF('Technical SDG'!S94=\"\",\"\",IF($D95=\"\",\"please complete\",IF($D95>'Technical SDG'!S94-1,\":-)\",CONCATENATE(\"increase until \",'Technical SDG'!S94))))","v":""},{"$f":"IF('Technical SDG'!T94=\"\",\"\",IF($D95=\"\",\"please complete\",IF($D95>'Technical SDG'!T94-1,\":-)\",CONCATENATE(\"increase until \",'Technical SDG'!T94))))","v":""}]
[null,{"$f":"'Technical SDG'!B95","v":"Q6.4"},{"$f":"VLOOKUP(B96,'Chapter 6'!$C$6:$D$120,2,0)","v":"Má organizace zavedený proces navrhování výrobků s lepšími výsledky udržitelnosti?"},{"$f":"'Technical SDG'!C95","v":2},16,{"$f":"IF('Technical SDG'!D95=\"\",\"\",IF($D96=\"\",\"please complete\",IF($D96>'Technical SDG'!D95-1,\":-)\",CONCATENATE(\"increase until \",'Technical SDG'!D95))))","v":""},{"$f":"IF('Technical SDG'!E95=\"\",\"\",IF($D96=\"\",\"please complete\",IF($D96>'Technical SDG'!E95-1,\":-)\",CONCATENATE(\"increase until \",'Technical SDG'!E95))))","v":""},{"$f":"IF('Technical SDG'!F95=\"\",\"\",IF($D96=\"\",\"please complete\",IF($D96>'Technical SDG'!F95-1,\":-)\",CONCATENATE(\"increase until \",'Technical SDG'!F95))))","v":""},{"$f":"IF('Technical SDG'!G95=\"\",\"\",IF($D96=\"\",\"please complete\",IF($D96>'Technical SDG'!G95-1,\":-)\",CONCATENATE(\"increase until \",'Technical SDG'!G95))))","v":""},{"$f":"IF('Technical SDG'!H95=\"\",\"\",IF($D96=\"\",\"please complete\",IF($D96>'Technical SDG'!H95-1,\":-)\",CONCATENATE(\"increase until \",'Technical SDG'!H95))))","v":""},{"$f":"IF('Technical SDG'!I95=\"\",\"\",IF($D96=\"\",\"please complete\",IF($D96>'Technical SDG'!I95-1,\":-)\",CONCATENATE(\"increase until \",'Technical SDG'!I95))))","v":""},{"$f":"IF('Technical SDG'!J95=\"\",\"\",IF($D96=\"\",\"please complete\",IF($D96>'Technical SDG'!J95-1,\":-)\",CONCATENATE(\"increase until \",'Technical SDG'!J95))))","v":""},{"$f":"IF('Technical SDG'!K95=\"\",\"\",IF($D96=\"\",\"please complete\",IF($D96>'Technical SDG'!K95-1,\":-)\",CONCATENATE(\"increase until \",'Technical SDG'!K95))))","v":""},{"$f":"IF('Technical SDG'!L95=\"\",\"\",IF($D96=\"\",\"please complete\",IF($D96>'Technical SDG'!L95-1,\":-)\",CONCATENATE(\"increase until \",'Technical SDG'!L95))))","v":""},{"$f":"IF('Technical SDG'!M95=\"\",\"\",IF($D96=\"\",\"please complete\",IF($D96>'Technical SDG'!M95-1,\":-)\",CONCATENATE(\"increase until \",'Technical SDG'!M95))))","v":""},{"$f":"IF('Technical SDG'!N95=\"\",\"\",IF($D96=\"\",\"please complete\",IF($D96>'Technical SDG'!N95-1,\":-)\",CONCATENATE(\"increase until \",'Technical SDG'!N95))))","v":""},{"$f":"IF('Technical SDG'!O95=\"\",\"\",IF($D96=\"\",\"please complete\",IF($D96>'Technical SDG'!O95-1,\":-)\",CONCATENATE(\"increase until \",'Technical SDG'!O95))))","v":"increase until 3"},{"$f":"IF('Technical SDG'!P95=\"\",\"\",IF($D96=\"\",\"please complete\",IF($D96>'Technical SDG'!P95-1,\":-)\",CONCATENATE(\"increase until \",'Technical SDG'!P95))))","v":""},{"$f":"IF('Technical SDG'!Q95=\"\",\"\",IF($D96=\"\",\"please complete\",IF($D96>'Technical SDG'!Q95-1,\":-)\",CONCATENATE(\"increase until \",'Technical SDG'!Q95))))","v":""},{"$f":"IF('Technical SDG'!R95=\"\",\"\",IF($D96=\"\",\"please complete\",IF($D96>'Technical SDG'!R95-1,\":-)\",CONCATENATE(\"increase until \",'Technical SDG'!R95))))","v":""},{"$f":"IF('Technical SDG'!S95=\"\",\"\",IF($D96=\"\",\"please complete\",IF($D96>'Technical SDG'!S95-1,\":-)\",CONCATENATE(\"increase until \",'Technical SDG'!S95))))","v":""},{"$f":"IF('Technical SDG'!T95=\"\",\"\",IF($D96=\"\",\"please complete\",IF($D96>'Technical SDG'!T95-1,\":-)\",CONCATENATE(\"increase until \",'Technical SDG'!T95))))","v":""}]
[null,{"$f":"'Technical SDG'!B96","v":"Q6.5"},{"$f":"VLOOKUP(B97,'Chapter 6'!$C$6:$D$120,2,0)","v":"Jakým způsobem zvyšuje organizace efektivnost zdrojů ve svých výrobních procesech?"},{"$f":"'Technical SDG'!C96","v":2},15,{"$f":"IF('Technical SDG'!D96=\"\",\"\",IF($D97=\"\",\"please complete\",IF($D97>'Technical SDG'!D96-1,\":-)\",CONCATENATE(\"increase until \",'Technical SDG'!D96))))","v":""},{"$f":"IF('Technical SDG'!E96=\"\",\"\",IF($D97=\"\",\"please complete\",IF($D97>'Technical SDG'!E96-1,\":-)\",CONCATENATE(\"increase until \",'Technical SDG'!E96))))","v":""},{"$f":"IF('Technical SDG'!F96=\"\",\"\",IF($D97=\"\",\"please complete\",IF($D97>'Technical SDG'!F96-1,\":-)\",CONCATENATE(\"increase until \",'Technical SDG'!F96))))","v":""},{"$f":"IF('Technical SDG'!G96=\"\",\"\",IF($D97=\"\",\"please complete\",IF($D97>'Technical SDG'!G96-1,\":-)\",CONCATENATE(\"increase until \",'Technical SDG'!G96))))","v":""},{"$f":"IF('Technical SDG'!H96=\"\",\"\",IF($D97=\"\",\"please complete\",IF($D97>'Technical SDG'!H96-1,\":-)\",CONCATENATE(\"increase until \",'Technical SDG'!H96))))","v":""},{"$f":"IF('Technical SDG'!I96=\"\",\"\",IF($D97=\"\",\"please complete\",IF($D97>'Technical SDG'!I96-1,\":-)\",CONCATENATE(\"increase until \",'Technical SDG'!I96))))","v":""},{"$f":"IF('Technical SDG'!J96=\"\",\"\",IF($D97=\"\",\"please complete\",IF($D97>'Technical SDG'!J96-1,\":-)\",CONCATENATE(\"increase until \",'Technical SDG'!J96))))","v":""},{"$f":"IF('Technical SDG'!K96=\"\",\"\",IF($D97=\"\",\"please complete\",IF($D97>'Technical SDG'!K96-1,\":-)\",CONCATENATE(\"increase until \",'Technical SDG'!K96))))","v":"increase until 3"},{"$f":"IF('Technical SDG'!L96=\"\",\"\",IF($D97=\"\",\"please complete\",IF($D97>'Technical SDG'!L96-1,\":-)\",CONCATENATE(\"increase until \",'Technical SDG'!L96))))","v":""},{"$f":"IF('Technical SDG'!M96=\"\",\"\",IF($D97=\"\",\"please complete\",IF($D97>'Technical SDG'!M96-1,\":-)\",CONCATENATE(\"increase until \",'Technical SDG'!M96))))","v":""},{"$f":"IF('Technical SDG'!N96=\"\",\"\",IF($D97=\"\",\"please complete\",IF($D97>'Technical SDG'!N96-1,\":-)\",CONCATENATE(\"increase until \",'Technical SDG'!N96))))","v":""},{"$f":"IF('Technical SDG'!O96=\"\",\"\",IF($D97=\"\",\"please complete\",IF($D97>'Technical SDG'!O96-1,\":-)\",CONCATENATE(\"increase until \",'Technical SDG'!O96))))","v":"increase until 3"},{"$f":"IF('Technical SDG'!P96=\"\",\"\",IF($D97=\"\",\"please complete\",IF($D97>'Technical SDG'!P96-1,\":-)\",CONCATENATE(\"increase until \",'Technical SDG'!P96))))","v":""},{"$f":"IF('Technical SDG'!Q96=\"\",\"\",IF($D97=\"\",\"please complete\",IF($D97>'Technical SDG'!Q96-1,\":-)\",CONCATENATE(\"increase until \",'Technical SDG'!Q96))))","v":""},{"$f":"IF('Technical SDG'!R96=\"\",\"\",IF($D97=\"\",\"please complete\",IF($D97>'Technical SDG'!R96-1,\":-)\",CONCATENATE(\"increase until \",'Technical SDG'!R96))))","v":""},{"$f":"IF('Technical SDG'!S96=\"\",\"\",IF($D97=\"\",\"please complete\",IF($D97>'Technical SDG'!S96-1,\":-)\",CONCATENATE(\"increase until \",'Technical SDG'!S96))))","v":""},{"$f":"IF('Technical SDG'!T96=\"\",\"\",IF($D97=\"\",\"please complete\",IF($D97>'Technical SDG'!T96-1,\":-)\",CONCATENATE(\"increase until \",'Technical SDG'!T96))))","v":""}]
[null,{"$f":"'Technical SDG'!B97","v":"Q6.6"},{"$f":"VLOOKUP(B98,'Chapter 6'!$C$6:$D$120,2,0)","v":"Jakým způsobem stimuluje organizace oběhové hospodářství prostřednictvím svých produktů?"},{"$f":"'Technical SDG'!C97","v":1},15,{"$f":"IF('Technical SDG'!D97=\"\",\"\",IF($D98=\"\",\"please complete\",IF($D98>'Technical SDG'!D97-1,\":-)\",CONCATENATE(\"increase until \",'Technical SDG'!D97))))","v":""},{"$f":"IF('Technical SDG'!E97=\"\",\"\",IF($D98=\"\",\"please complete\",IF($D98>'Technical SDG'!E97-1,\":-)\",CONCATENATE(\"increase until \",'Technical SDG'!E97))))","v":""},{"$f":"IF('Technical SDG'!F97=\"\",\"\",IF($D98=\"\",\"please complete\",IF($D98>'Technical SDG'!F97-1,\":-)\",CONCATENATE(\"increase until \",'Technical SDG'!F97))))","v":""},{"$f":"IF('Technical SDG'!G97=\"\",\"\",IF($D98=\"\",\"please complete\",IF($D98>'Technical SDG'!G97-1,\":-)\",CONCATENATE(\"increase until \",'Technical SDG'!G97))))","v":""},{"$f":"IF('Technical SDG'!H97=\"\",\"\",IF($D98=\"\",\"please complete\",IF($D98>'Technical SDG'!H97-1,\":-)\",CONCATENATE(\"increase until \",'Technical SDG'!H97))))","v":""},{"$f":"IF('Technical SDG'!I97=\"\",\"\",IF($D98=\"\",\"please complete\",IF($D98>'Technical SDG'!I97-1,\":-)\",CONCATENATE(\"increase until \",'Technical SDG'!I97))))","v":""},{"$f":"IF('Technical SDG'!J97=\"\",\"\",IF($D98=\"\",\"please complete\",IF($D98>'Technical SDG'!J97-1,\":-)\",CONCATENATE(\"increase until \",'Technical SDG'!J97))))","v":""},{"$f":"IF('Technical SDG'!K97=\"\",\"\",IF($D98=\"\",\"please complete\",IF($D98>'Technical SDG'!K97-1,\":-)\",CONCATENATE(\"increase until \",'Technical SDG'!K97))))","v":"increase until 3"},{"$f":"IF('Technical SDG'!L97=\"\",\"\",IF($D98=\"\",\"please complete\",IF($D98>'Technical SDG'!L97-1,\":-)\",CONCATENATE(\"increase until \",'Technical SDG'!L97))))","v":""},{"$f":"IF('Technical SDG'!M97=\"\",\"\",IF($D98=\"\",\"please complete\",IF($D98>'Technical SDG'!M97-1,\":-)\",CONCATENATE(\"increase until \",'Technical SDG'!M97))))","v":""},{"$f":"IF('Technical SDG'!N97=\"\",\"\",IF($D98=\"\",\"please complete\",IF($D98>'Technical SDG'!N97-1,\":-)\",CONCATENATE(\"increase until \",'Technical SDG'!N97))))","v":""},{"$f":"IF('Technical SDG'!O97=\"\",\"\",IF($D98=\"\",\"please complete\",IF($D98>'Technical SDG'!O97-1,\":-)\",CONCATENATE(\"increase until \",'Technical SDG'!O97))))","v":"increase until 3"},{"$f":"IF('Technical SDG'!P97=\"\",\"\",IF($D98=\"\",\"please complete\",IF($D98>'Technical SDG'!P97-1,\":-)\",CONCATENATE(\"increase until \",'Technical SDG'!P97))))","v":""},{"$f":"IF('Technical SDG'!Q97=\"\",\"\",IF($D98=\"\",\"please complete\",IF($D98>'Technical SDG'!Q97-1,\":-)\",CONCATENATE(\"increase until \",'Technical SDG'!Q97))))","v":""},{"$f":"IF('Technical SDG'!R97=\"\",\"\",IF($D98=\"\",\"please complete\",IF($D98>'Technical SDG'!R97-1,\":-)\",CONCATENATE(\"increase until \",'Technical SDG'!R97))))","v":""},{"$f":"IF('Technical SDG'!S97=\"\",\"\",IF($D98=\"\",\"please complete\",IF($D98>'Technical SDG'!S97-1,\":-)\",CONCATENATE(\"increase until \",'Technical SDG'!S97))))","v":""},{"$f":"IF('Technical SDG'!T97=\"\",\"\",IF($D98=\"\",\"please complete\",IF($D98>'Technical SDG'!T97-1,\":-)\",CONCATENATE(\"increase until \",'Technical SDG'!T97))))","v":""}]
[null,{"$f":"'Technical SDG'!B98","v":"Q6.7"},{"$f":"VLOOKUP(B99,'Chapter 6'!$C$6:$D$120,2,0)","v":"Jakým způsobem podporuje organizace inovace při vývoji produktů a řešení, které odpovídají výzvám udržitelnosti?"},{"$f":"'Technical SDG'!C98","v":2},15,{"$f":"IF('Technical SDG'!D98=\"\",\"\",IF($D99=\"\",\"please complete\",IF($D99>'Technical SDG'!D98-1,\":-)\",CONCATENATE(\"increase until \",'Technical SDG'!D98))))","v":""},{"$f":"IF('Technical SDG'!E98=\"\",\"\",IF($D99=\"\",\"please complete\",IF($D99>'Technical SDG'!E98-1,\":-)\",CONCATENATE(\"increase until \",'Technical SDG'!E98))))","v":""},{"$f":"IF('Technical SDG'!F98=\"\",\"\",IF($D99=\"\",\"please complete\",IF($D99>'Technical SDG'!F98-1,\":-)\",CONCATENATE(\"increase until \",'Technical SDG'!F98))))","v":""},{"$f":"IF('Technical SDG'!G98=\"\",\"\",IF($D99=\"\",\"please complete\",IF($D99>'Technical SDG'!G98-1,\":-)\",CONCATENATE(\"increase until \",'Technical SDG'!G98))))","v":""},{"$f":"IF('Technical SDG'!H98=\"\",\"\",IF($D99=\"\",\"please complete\",IF($D99>'Technical SDG'!H98-1,\":-)\",CONCATENATE(\"increase until \",'Technical SDG'!H98))))","v":""},{"$f":"IF('Technical SDG'!I98=\"\",\"\",IF($D99=\"\",\"please complete\",IF($D99>'Technical SDG'!I98-1,\":-)\",CONCATENATE(\"increase until \",'Technical SDG'!I98))))","v":""},{"$f":"IF('Technical SDG'!J98=\"\",\"\",IF($D99=\"\",\"please complete\",IF($D99>'Technical SDG'!J98-1,\":-)\",CONCATENATE(\"increase until \",'Technical SDG'!J98))))","v":""},{"$f":"IF('Technical SDG'!K98=\"\",\"\",IF($D99=\"\",\"please complete\",IF($D99>'Technical SDG'!K98-1,\":-)\",CONCATENATE(\"increase until \",'Technical SDG'!K98))))","v":"increase until 3"},{"$f":"IF('Technical SDG'!L98=\"\",\"\",IF($D99=\"\",\"please complete\",IF($D99>'Technical SDG'!L98-1,\":-)\",CONCATENATE(\"increase until \",'Technical SDG'!L98))))","v":""},{"$f":"IF('Technical SDG'!M98=\"\",\"\",IF($D99=\"\",\"please complete\",IF($D99>'Technical SDG'!M98-1,\":-)\",CONCATENATE(\"increase until \",'Technical SDG'!M98))))","v":""},{"$f":"IF('Technical SDG'!N98=\"\",\"\",IF($D99=\"\",\"please complete\",IF($D99>'Technical SDG'!N98-1,\":-)\",CONCATENATE(\"increase until \",'Technical SDG'!N98))))","v":""},{"$f":"IF('Technical SDG'!O98=\"\",\"\",IF($D99=\"\",\"please complete\",IF($D99>'Technical SDG'!O98-1,\":-)\",CONCATENATE(\"increase until \",'Technical SDG'!O98))))","v":"increase until 3"},{"$f":"IF('Technical SDG'!P98=\"\",\"\",IF($D99=\"\",\"please complete\",IF($D99>'Technical SDG'!P98-1,\":-)\",CONCATENATE(\"increase until \",'Technical SDG'!P98))))","v":""},{"$f":"IF('Technical SDG'!Q98=\"\",\"\",IF($D99=\"\",\"please complete\",IF($D99>'Technical SDG'!Q98-1,\":-)\",CONCATENATE(\"increase until \",'Technical SDG'!Q98))))","v":""},{"$f":"IF('Technical SDG'!R98=\"\",\"\",IF($D99=\"\",\"please complete\",IF($D99>'Technical SDG'!R98-1,\":-)\",CONCATENATE(\"increase until \",'Technical SDG'!R98))))","v":""},{"$f":"IF('Technical SDG'!S98=\"\",\"\",IF($D99=\"\",\"please complete\",IF($D99>'Technical SDG'!S98-1,\":-)\",CONCATENATE(\"increase until \",'Technical SDG'!S98))))","v":""},{"$f":"IF('Technical SDG'!T98=\"\",\"\",IF($D99=\"\",\"please complete\",IF($D99>'Technical SDG'!T98-1,\":-)\",CONCATENATE(\"increase until \",'Technical SDG'!T98))))","v":""}]
[null,{"$f":"'Technical SDG'!B99","v":"Q6.8"},{"$f":"VLOOKUP(B100,'Chapter 6'!$C$6:$D$120,2,0)","v":"Jakým způsobem stimuluje organizace inovaci a spolupráci?"},{"$f":"'Technical SDG'!C99","v":3},17,{"$f":"IF('Technical SDG'!D99=\"\",\"\",IF($D100=\"\",\"please complete\",IF($D100>'Technical SDG'!D99-1,\":-)\",CONCATENATE(\"increase until \",'Technical SDG'!D99))))","v":""},{"$f":"IF('Technical SDG'!E99=\"\",\"\",IF($D100=\"\",\"please complete\",IF($D100>'Technical SDG'!E99-1,\":-)\",CONCATENATE(\"increase until \",'Technical SDG'!E99))))","v":""},{"$f":"IF('Technical SDG'!F99=\"\",\"\",IF($D100=\"\",\"please complete\",IF($D100>'Technical SDG'!F99-1,\":-)\",CONCATENATE(\"increase until \",'Technical SDG'!F99))))","v":""},{"$f":"IF('Technical SDG'!G99=\"\",\"\",IF($D100=\"\",\"please complete\",IF($D100>'Technical SDG'!G99-1,\":-)\",CONCATENATE(\"increase until \",'Technical SDG'!G99))))","v":""},{"$f":"IF('Technical SDG'!H99=\"\",\"\",IF($D100=\"\",\"please complete\",IF($D100>'Technical SDG'!H99-1,\":-)\",CONCATENATE(\"increase until \",'Technical SDG'!H99))))","v":""},{"$f":"IF('Technical SDG'!I99=\"\",\"\",IF($D100=\"\",\"please complete\",IF($D100>'Technical SDG'!I99-1,\":-)\",CONCATENATE(\"increase until \",'Technical SDG'!I99))))","v":""},{"$f":"IF('Technical SDG'!J99=\"\",\"\",IF($D100=\"\",\"please complete\",IF($D100>'Technical SDG'!J99-1,\":-)\",CONCATENATE(\"increase until \",'Technical SDG'!J99))))","v":""},{"$f":"IF('Technical SDG'!K99=\"\",\"\",IF($D100=\"\",\"please complete\",IF($D100>'Technical SDG'!K99-1,\":-)\",CONCATENATE(\"increase until \",'Technical SDG'!K99))))","v":""},{"$f":"IF('Technical SDG'!L99=\"\",\"\",IF($D100=\"\",\"please complete\",IF($D100>'Technical SDG'!L99-1,\":-)\",CONCATENATE(\"increase until \",'Technical SDG'!L99))))","v":""},{"$f":"IF('Technical SDG'!M99=\"\",\"\",IF($D100=\"\",\"please complete\",IF($D100>'Technical SDG'!M99-1,\":-)\",CONCATENATE(\"increase until \",'Technical SDG'!M99))))","v":""},{"$f":"IF('Technical SDG'!N99=\"\",\"\",IF($D100=\"\",\"please complete\",IF($D100>'Technical SDG'!N99-1,\":-)\",CONCATENATE(\"increase until \",'Technical SDG'!N99))))","v":""},{"$f":"IF('Technical SDG'!O99=\"\",\"\",IF($D100=\"\",\"please complete\",IF($D100>'Technical SDG'!O99-1,\":-)\",CONCATENATE(\"increase until \",'Technical SDG'!O99))))","v":""},{"$f":"IF('Technical SDG'!P99=\"\",\"\",IF($D100=\"\",\"please complete\",IF($D100>'Technical SDG'!P99-1,\":-)\",CONCATENATE(\"increase until \",'Technical SDG'!P99))))","v":""},{"$f":"IF('Technical SDG'!Q99=\"\",\"\",IF($D100=\"\",\"please complete\",IF($D100>'Technical SDG'!Q99-1,\":-)\",CONCATENATE(\"increase until \",'Technical SDG'!Q99))))","v":""},{"$f":"IF('Technical SDG'!R99=\"\",\"\",IF($D100=\"\",\"please complete\",IF($D100>'Technical SDG'!R99-1,\":-)\",CONCATENATE(\"increase until \",'Technical SDG'!R99))))","v":""},{"$f":"IF('Technical SDG'!S99=\"\",\"\",IF($D100=\"\",\"please complete\",IF($D100>'Technical SDG'!S99-1,\":-)\",CONCATENATE(\"increase until \",'Technical SDG'!S99))))","v":""},{"$f":"IF('Technical SDG'!T99=\"\",\"\",IF($D100=\"\",\"please complete\",IF($D100>'Technical SDG'!T99-1,\":-)\",CONCATENATE(\"increase until \",'Technical SDG'!T99))))","v":""}]
[null,{"$f":"'Technical SDG'!B100","v":"Q6.9"},{"$f":"VLOOKUP(B101,'Chapter 6'!$C$6:$D$120,2,0)","v":"Jakým způsobem podporuje organizace udržitelné způsoby spotřeby?"},{"$f":"'Technical SDG'!C100","v":2},16,{"$f":"IF('Technical SDG'!D100=\"\",\"\",IF($D101=\"\",\"please complete\",IF($D101>'Technical SDG'!D100-1,\":-)\",CONCATENATE(\"increase until \",'Technical SDG'!D100))))","v":""},{"$f":"IF('Technical SDG'!E100=\"\",\"\",IF($D101=\"\",\"please complete\",IF($D101>'Technical SDG'!E100-1,\":-)\",CONCATENATE(\"increase until \",'Technical SDG'!E100))))","v":""},{"$f":"IF('Technical SDG'!F100=\"\",\"\",IF($D101=\"\",\"please complete\",IF($D101>'Technical SDG'!F100-1,\":-)\",CONCATENATE(\"increase until \",'Technical SDG'!F100))))","v":""},{"$f":"IF('Technical SDG'!G100=\"\",\"\",IF($D101=\"\",\"please complete\",IF($D101>'Technical SDG'!G100-1,\":-)\",CONCATENATE(\"increase until \",'Technical SDG'!G100))))","v":""},{"$f":"IF('Technical SDG'!H100=\"\",\"\",IF($D101=\"\",\"please complete\",IF($D101>'Technical SDG'!H100-1,\":-)\",CONCATENATE(\"increase until \",'Technical SDG'!H100))))","v":""},{"$f":"IF('Technical SDG'!I100=\"\",\"\",IF($D101=\"\",\"please complete\",IF($D101>'Technical SDG'!I100-1,\":-)\",CONCATENATE(\"increase until \",'Technical SDG'!I100))))","v":""},{"$f":"IF('Technical SDG'!J100=\"\",\"\",IF($D101=\"\",\"please complete\",IF($D101>'Technical SDG'!J100-1,\":-)\",CONCATENATE(\"increase until \",'Technical SDG'!J100))))","v":""},{"$f":"IF('Technical SDG'!K100=\"\",\"\",IF($D101=\"\",\"please complete\",IF($D101>'Technical SDG'!K100-1,\":-)\",CONCATENATE(\"increase until \",'Technical SDG'!K100))))","v":"increase until 3"},{"$f":"IF('Technical SDG'!L100=\"\",\"\",IF($D101=\"\",\"please complete\",IF($D101>'Technical SDG'!L100-1,\":-)\",CONCATENATE(\"increase until \",'Technical SDG'!L100))))","v":""},{"$f":"IF('Technical SDG'!M100=\"\",\"\",IF($D101=\"\",\"please complete\",IF($D101>'Technical SDG'!M100-1,\":-)\",CONCATENATE(\"increase until \",'Technical SDG'!M100))))","v":""},{"$f":"IF('Technical SDG'!N100=\"\",\"\",IF($D101=\"\",\"please complete\",IF($D101>'Technical SDG'!N100-1,\":-)\",CONCATENATE(\"increase until \",'Technical SDG'!N100))))","v":""},{"$f":"IF('Technical SDG'!O100=\"\",\"\",IF($D101=\"\",\"please complete\",IF($D101>'Technical SDG'!O100-1,\":-)\",CONCATENATE(\"increase until \",'Technical SDG'!O100))))","v":""},{"$f":"IF('Technical SDG'!P100=\"\",\"\",IF($D101=\"\",\"please complete\",IF($D101>'Technical SDG'!P100-1,\":-)\",CONCATENATE(\"increase until \",'Technical SDG'!P100))))","v":""},{"$f":"IF('Technical SDG'!Q100=\"\",\"\",IF($D101=\"\",\"please complete\",IF($D101>'Technical SDG'!Q100-1,\":-)\",CONCATENATE(\"increase until \",'Technical SDG'!Q100))))","v":""},{"$f":"IF('Technical SDG'!R100=\"\",\"\",IF($D101=\"\",\"please complete\",IF($D101>'Technical SDG'!R100-1,\":-)\",CONCATENATE(\"increase until \",'Technical SDG'!R100))))","v":""},{"$f":"IF('Technical SDG'!S100=\"\",\"\",IF($D101=\"\",\"please complete\",IF($D101>'Technical SDG'!S100-1,\":-)\",CONCATENATE(\"increase until \",'Technical SDG'!S100))))","v":""},{"$f":"IF('Technical SDG'!T100=\"\",\"\",IF($D101=\"\",\"please complete\",IF($D101>'Technical SDG'!T100-1,\":-)\",CONCATENATE(\"increase until \",'Technical SDG'!T100))))","v":""}]
[null,{"$f":"'Technical SDG'!B101","v":"Q6.10"},{"$f":"VLOOKUP(B102,'Chapter 6'!$C$6:$D$120,2,0)","v":"Jakým způsobem organizace kontroluje a optimalizuje spotřebu vody?"},{"$f":"'Technical SDG'!C101","v":3},13,{"$f":"IF('Technical SDG'!D101=\"\",\"\",IF($D102=\"\",\"please complete\",IF($D102>'Technical SDG'!D101-1,\":-)\",CONCATENATE(\"increase until \",'Technical SDG'!D101))))","v":""},{"$f":"IF('Technical SDG'!E101=\"\",\"\",IF($D102=\"\",\"please complete\",IF($D102>'Technical SDG'!E101-1,\":-)\",CONCATENATE(\"increase until \",'Technical SDG'!E101))))","v":""},{"$f":"IF('Technical SDG'!F101=\"\",\"\",IF($D102=\"\",\"please complete\",IF($D102>'Technical SDG'!F101-1,\":-)\",CONCATENATE(\"increase until \",'Technical SDG'!F101))))","v":""},{"$f":"IF('Technical SDG'!G101=\"\",\"\",IF($D102=\"\",\"please complete\",IF($D102>'Technical SDG'!G101-1,\":-)\",CONCATENATE(\"increase until \",'Technical SDG'!G101))))","v":""},{"$f":"IF('Technical SDG'!H101=\"\",\"\",IF($D102=\"\",\"please complete\",IF($D102>'Technical SDG'!H101-1,\":-)\",CONCATENATE(\"increase until \",'Technical SDG'!H101))))","v":""},{"$f":"IF('Technical SDG'!I101=\"\",\"\",IF($D102=\"\",\"please complete\",IF($D102>'Technical SDG'!I101-1,\":-)\",CONCATENATE(\"increase until \",'Technical SDG'!I101))))","v":":-)"},{"$f":"IF('Technical SDG'!J101=\"\",\"\",IF($D102=\"\",\"please complete\",IF($D102>'Technical SDG'!J101-1,\":-)\",CONCATENATE(\"increase until \",'Technical SDG'!J101))))","v":""},{"$f":"IF('Technical SDG'!K101=\"\",\"\",IF($D102=\"\",\"please complete\",IF($D102>'Technical SDG'!K101-1,\":-)\",CONCATENATE(\"increase until \",'Technical SDG'!K101))))","v":":-)"},{"$f":"IF('Technical SDG'!L101=\"\",\"\",IF($D102=\"\",\"please complete\",IF($D102>'Technical SDG'!L101-1,\":-)\",CONCATENATE(\"increase until \",'Technical SDG'!L101))))","v":":-)"},{"$f":"IF('Technical SDG'!M101=\"\",\"\",IF($D102=\"\",\"please complete\",IF($D102>'Technical SDG'!M101-1,\":-)\",CONCATENATE(\"increase until \",'Technical SDG'!M101))))","v":""},{"$f":"IF('Technical SDG'!N101=\"\",\"\",IF($D102=\"\",\"please complete\",IF($D102>'Technical SDG'!N101-1,\":-)\",CONCATENATE(\"increase until \",'Technical SDG'!N101))))","v":""},{"$f":"IF('Technical SDG'!O101=\"\",\"\",IF($D102=\"\",\"please complete\",IF($D102>'Technical SDG'!O101-1,\":-)\",CONCATENATE(\"increase until \",'Technical SDG'!O101))))","v":":-)"},{"$f":"IF('Technical SDG'!P101=\"\",\"\",IF($D102=\"\",\"please complete\",IF($D102>'Technical SDG'!P101-1,\":-)\",CONCATENATE(\"increase until \",'Technical SDG'!P101))))","v":""},{"$f":"IF('Technical SDG'!Q101=\"\",\"\",IF($D102=\"\",\"please complete\",IF($D102>'Technical SDG'!Q101-1,\":-)\",CONCATENATE(\"increase until \",'Technical SDG'!Q101))))","v":""},{"$f":"IF('Technical SDG'!R101=\"\",\"\",IF($D102=\"\",\"please complete\",IF($D102>'Technical SDG'!R101-1,\":-)\",CONCATENATE(\"increase until \",'Technical SDG'!R101))))","v":""},{"$f":"IF('Technical SDG'!S101=\"\",\"\",IF($D102=\"\",\"please complete\",IF($D102>'Technical SDG'!S101-1,\":-)\",CONCATENATE(\"increase until \",'Technical SDG'!S101))))","v":""},{"$f":"IF('Technical SDG'!T101=\"\",\"\",IF($D102=\"\",\"please complete\",IF($D102>'Technical SDG'!T101-1,\":-)\",CONCATENATE(\"increase until \",'Technical SDG'!T101))))","v":""}]
[null,{"$f":"'Technical SDG'!B102","v":"Q6.11"},{"$f":"VLOOKUP(B103,'Chapter 6'!$C$6:$D$120,2,0)","v":"Jakým způsobem se řídí vliv organizace na biodiverzitu a ekosystém?"},{"$f":"'Technical SDG'!C102","v":1},12,{"$f":"IF('Technical SDG'!D102=\"\",\"\",IF($D103=\"\",\"please complete\",IF($D103>'Technical SDG'!D102-1,\":-)\",CONCATENATE(\"increase until \",'Technical SDG'!D102))))","v":""},{"$f":"IF('Technical SDG'!E102=\"\",\"\",IF($D103=\"\",\"please complete\",IF($D103>'Technical SDG'!E102-1,\":-)\",CONCATENATE(\"increase until \",'Technical SDG'!E102))))","v":""},{"$f":"IF('Technical SDG'!F102=\"\",\"\",IF($D103=\"\",\"please complete\",IF($D103>'Technical SDG'!F102-1,\":-)\",CONCATENATE(\"increase until \",'Technical SDG'!F102))))","v":""},{"$f":"IF('Technical SDG'!G102=\"\",\"\",IF($D103=\"\",\"please complete\",IF($D103>'Technical SDG'!G102-1,\":-)\",CONCATENATE(\"increase until \",'Technical SDG'!G102))))","v":""},{"$f":"IF('Technical SDG'!H102=\"\",\"\",IF($D103=\"\",\"please complete\",IF($D103>'Technical SDG'!H102-1,\":-)\",CONCATENATE(\"increase until \",'Technical SDG'!H102))))","v":""},{"$f":"IF('Technical SDG'!I102=\"\",\"\",IF($D103=\"\",\"please complete\",IF($D103>'Technical SDG'!I102-1,\":-)\",CONCATENATE(\"increase until \",'Technical SDG'!I102))))","v":"increase until 3"},{"$f":"IF('Technical SDG'!J102=\"\",\"\",IF($D103=\"\",\"please complete\",IF($D103>'Technical SDG'!J102-1,\":-)\",CONCATENATE(\"increase until \",'Technical SDG'!J102))))","v":""},{"$f":"IF('Technical SDG'!K102=\"\",\"\",IF($D103=\"\",\"please complete\",IF($D103>'Technical SDG'!K102-1,\":-)\",CONCATENATE(\"increase until \",'Technical SDG'!K102))))","v":"increase until 3"},{"$f":"IF('Technical SDG'!L102=\"\",\"\",IF($D103=\"\",\"please complete\",IF($D103>'Technical SDG'!L102-1,\":-)\",CONCATENATE(\"increase until \",'Technical SDG'!L102))))","v":"increase until 3"},{"$f":"IF('Technical SDG'!M102=\"\",\"\",IF($D103=\"\",\"please complete\",IF($D103>'Technical SDG'!M102-1,\":-)\",CONCATENATE(\"increase until \",'Technical SDG'!M102))))","v":""},{"$f":"IF('Technical SDG'!N102=\"\",\"\",IF($D103=\"\",\"please complete\",IF($D103>'Technical SDG'!N102-1,\":-)\",CONCATENATE(\"increase until \",'Technical SDG'!N102))))","v":""},{"$f":"IF('Technical SDG'!O102=\"\",\"\",IF($D103=\"\",\"please complete\",IF($D103>'Technical SDG'!O102-1,\":-)\",CONCATENATE(\"increase until \",'Technical SDG'!O102))))","v":"increase until 3"},{"$f":"IF('Technical SDG'!P102=\"\",\"\",IF($D103=\"\",\"please complete\",IF($D103>'Technical SDG'!P102-1,\":-)\",CONCATENATE(\"increase until \",'Technical SDG'!P102))))","v":""},{"$f":"IF('Technical SDG'!Q102=\"\",\"\",IF($D103=\"\",\"please complete\",IF($D103>'Technical SDG'!Q102-1,\":-)\",CONCATENATE(\"increase until \",'Technical SDG'!Q102))))","v":""},{"$f":"IF('Technical SDG'!R102=\"\",\"\",IF($D103=\"\",\"please complete\",IF($D103>'Technical SDG'!R102-1,\":-)\",CONCATENATE(\"increase until \",'Technical SDG'!R102))))","v":"increase until 3"},{"$f":"IF('Technical SDG'!S102=\"\",\"\",IF($D103=\"\",\"please complete\",IF($D103>'Technical SDG'!S102-1,\":-)\",CONCATENATE(\"increase until \",'Technical SDG'!S102))))","v":""},{"$f":"IF('Technical SDG'!T102=\"\",\"\",IF($D103=\"\",\"please complete\",IF($D103>'Technical SDG'!T102-1,\":-)\",CONCATENATE(\"increase until \",'Technical SDG'!T102))))","v":""}]
[null,{"$f":"'Technical SDG'!B103","v":"Q6.12"},{"$f":"VLOOKUP(B104,'Chapter 6'!$C$6:$D$120,2,0)","v":"Jakým způsobem posuzuje organizace svou závislost na přírodních zdrojích (ekosystémech)?"},{"$f":"'Technical SDG'!C103","v":1},12,{"$f":"IF('Technical SDG'!D103=\"\",\"\",IF($D104=\"\",\"please complete\",IF($D104>'Technical SDG'!D103-1,\":-)\",CONCATENATE(\"increase until \",'Technical SDG'!D103))))","v":""},{"$f":"IF('Technical SDG'!E103=\"\",\"\",IF($D104=\"\",\"please complete\",IF($D104>'Technical SDG'!E103-1,\":-)\",CONCATENATE(\"increase until \",'Technical SDG'!E103))))","v":""},{"$f":"IF('Technical SDG'!F103=\"\",\"\",IF($D104=\"\",\"please complete\",IF($D104>'Technical SDG'!F103-1,\":-)\",CONCATENATE(\"increase until \",'Technical SDG'!F103))))","v":""},{"$f":"IF('Technical SDG'!G103=\"\",\"\",IF($D104=\"\",\"please complete\",IF($D104>'Technical SDG'!G103-1,\":-)\",CONCATENATE(\"increase until \",'Technical SDG'!G103))))","v":""},{"$f":"IF('Technical SDG'!H103=\"\",\"\",IF($D104=\"\",\"please complete\",IF($D104>'Technical SDG'!H103-1,\":-)\",CONCATENATE(\"increase until \",'Technical SDG'!H103))))","v":""},{"$f":"IF('Technical SDG'!I103=\"\",\"\",IF($D104=\"\",\"please complete\",IF($D104>'Technical SDG'!I103-1,\":-)\",CONCATENATE(\"increase until \",'Technical SDG'!I103))))","v":"increase until 3"},{"$f":"IF('Technical SDG'!J103=\"\",\"\",IF($D104=\"\",\"please complete\",IF($D104>'Technical SDG'!J103-1,\":-)\",CONCATENATE(\"increase until \",'Technical SDG'!J103))))","v":""},{"$f":"IF('Technical SDG'!K103=\"\",\"\",IF($D104=\"\",\"please complete\",IF($D104>'Technical SDG'!K103-1,\":-)\",CONCATENATE(\"increase until \",'Technical SDG'!K103))))","v":"increase until 3"},{"$f":"IF('Technical SDG'!L103=\"\",\"\",IF($D104=\"\",\"please complete\",IF($D104>'Technical SDG'!L103-1,\":-)\",CONCATENATE(\"increase until \",'Technical SDG'!L103))))","v":"increase until 3"},{"$f":"IF('Technical SDG'!M103=\"\",\"\",IF($D104=\"\",\"please complete\",IF($D104>'Technical SDG'!M103-1,\":-)\",CONCATENATE(\"increase until \",'Technical SDG'!M103))))","v":""},{"$f":"IF('Technical SDG'!N103=\"\",\"\",IF($D104=\"\",\"please complete\",IF($D104>'Technical SDG'!N103-1,\":-)\",CONCATENATE(\"increase until \",'Technical SDG'!N103))))","v":""},{"$f":"IF('Technical SDG'!O103=\"\",\"\",IF($D104=\"\",\"please complete\",IF($D104>'Technical SDG'!O103-1,\":-)\",CONCATENATE(\"increase until \",'Technical SDG'!O103))))","v":"increase until 3"},{"$f":"IF('Technical SDG'!P103=\"\",\"\",IF($D104=\"\",\"please complete\",IF($D104>'Technical SDG'!P103-1,\":-)\",CONCATENATE(\"increase until \",'Technical SDG'!P103))))","v":""},{"$f":"IF('Technical SDG'!Q103=\"\",\"\",IF($D104=\"\",\"please complete\",IF($D104>'Technical SDG'!Q103-1,\":-)\",CONCATENATE(\"increase until \",'Technical SDG'!Q103))))","v":""},{"$f":"IF('Technical SDG'!R103=\"\",\"\",IF($D104=\"\",\"please complete\",IF($D104>'Technical SDG'!R103-1,\":-)\",CONCATENATE(\"increase until \",'Technical SDG'!R103))))","v":"increase until 3"},{"$f":"IF('Technical SDG'!S103=\"\",\"\",IF($D104=\"\",\"please complete\",IF($D104>'Technical SDG'!S103-1,\":-)\",CONCATENATE(\"increase until \",'Technical SDG'!S103))))","v":""},{"$f":"IF('Technical SDG'!T103=\"\",\"\",IF($D104=\"\",\"please complete\",IF($D104>'Technical SDG'!T103-1,\":-)\",CONCATENATE(\"increase until \",'Technical SDG'!T103))))","v":""}]
[null,{"$f":"'Technical SDG'!B104","v":"Q6.13"},{"$f":"VLOOKUP(B105,'Chapter 6'!$C$6:$D$120,2,0)","v":"Jakým způsobem řídí organizace svou spotřebu energie?"},{"$f":"'Technical SDG'!C104","v":4},13,{"$f":"IF('Technical SDG'!D104=\"\",\"\",IF($D105=\"\",\"please complete\",IF($D105>'Technical SDG'!D104-1,\":-)\",CONCATENATE(\"increase until \",'Technical SDG'!D104))))","v":""},{"$f":"IF('Technical SDG'!E104=\"\",\"\",IF($D105=\"\",\"please complete\",IF($D105>'Technical SDG'!E104-1,\":-)\",CONCATENATE(\"increase until \",'Technical SDG'!E104))))","v":""},{"$f":"IF('Technical SDG'!F104=\"\",\"\",IF($D105=\"\",\"please complete\",IF($D105>'Technical SDG'!F104-1,\":-)\",CONCATENATE(\"increase until \",'Technical SDG'!F104))))","v":""},{"$f":"IF('Technical SDG'!G104=\"\",\"\",IF($D105=\"\",\"please complete\",IF($D105>'Technical SDG'!G104-1,\":-)\",CONCATENATE(\"increase until \",'Technical SDG'!G104))))","v":""},{"$f":"IF('Technical SDG'!H104=\"\",\"\",IF($D105=\"\",\"please complete\",IF($D105>'Technical SDG'!H104-1,\":-)\",CONCATENATE(\"increase until \",'Technical SDG'!H104))))","v":""},{"$f":"IF('Technical SDG'!I104=\"\",\"\",IF($D105=\"\",\"please complete\",IF($D105>'Technical SDG'!I104-1,\":-)\",CONCATENATE(\"increase until \",'Technical SDG'!I104))))","v":""},{"$f":"IF('Technical SDG'!J104=\"\",\"\",IF($D105=\"\",\"please complete\",IF($D105>'Technical SDG'!J104-1,\":-)\",CONCATENATE(\"increase until \",'Technical SDG'!J104))))","v":":-)"},{"$f":"IF('Technical SDG'!K104=\"\",\"\",IF($D105=\"\",\"please complete\",IF($D105>'Technical SDG'!K104-1,\":-)\",CONCATENATE(\"increase until \",'Technical SDG'!K104))))","v":""},{"$f":"IF('Technical SDG'!L104=\"\",\"\",IF($D105=\"\",\"please complete\",IF($D105>'Technical SDG'!L104-1,\":-)\",CONCATENATE(\"increase until \",'Technical SDG'!L104))))","v":":-)"},{"$f":"IF('Technical SDG'!M104=\"\",\"\",IF($D105=\"\",\"please complete\",IF($D105>'Technical SDG'!M104-1,\":-)\",CONCATENATE(\"increase until \",'Technical SDG'!M104))))","v":""},{"$f":"IF('Technical SDG'!N104=\"\",\"\",IF($D105=\"\",\"please complete\",IF($D105>'Technical SDG'!N104-1,\":-)\",CONCATENATE(\"increase until \",'Technical SDG'!N104))))","v":""},{"$f":"IF('Technical SDG'!O104=\"\",\"\",IF($D105=\"\",\"please complete\",IF($D105>'Technical SDG'!O104-1,\":-)\",CONCATENATE(\"increase until \",'Technical SDG'!O104))))","v":":-)"},{"$f":"IF('Technical SDG'!P104=\"\",\"\",IF($D105=\"\",\"please complete\",IF($D105>'Technical SDG'!P104-1,\":-)\",CONCATENATE(\"increase until \",'Technical SDG'!P104))))","v":":-)"},{"$f":"IF('Technical SDG'!Q104=\"\",\"\",IF($D105=\"\",\"please complete\",IF($D105>'Technical SDG'!Q104-1,\":-)\",CONCATENATE(\"increase until \",'Technical SDG'!Q104))))","v":""},{"$f":"IF('Technical SDG'!R104=\"\",\"\",IF($D105=\"\",\"please complete\",IF($D105>'Technical SDG'!R104-1,\":-)\",CONCATENATE(\"increase until \",'Technical SDG'!R104))))","v":""},{"$f":"IF('Technical SDG'!S104=\"\",\"\",IF($D105=\"\",\"please complete\",IF($D105>'Technical SDG'!S104-1,\":-)\",CONCATENATE(\"increase until \",'Technical SDG'!S104))))","v":""},{"$f":"IF('Technical SDG'!T104=\"\",\"\",IF($D105=\"\",\"please complete\",IF($D105>'Technical SDG'!T104-1,\":-)\",CONCATENATE(\"increase until \",'Technical SDG'!T104))))","v":""}]
[null,{"$f":"'Technical SDG'!B105","v":"Q6.14"},{"$f":"VLOOKUP(B106,'Chapter 6'!$C$6:$D$120,2,0)","v":"Jakým způsobem řídí organizace emise skleníkových plynů (kromě úspor energie)?"},{"$f":"'Technical SDG'!C105","v":3},13,{"$f":"IF('Technical SDG'!D105=\"\",\"\",IF($D106=\"\",\"please complete\",IF($D106>'Technical SDG'!D105-1,\":-)\",CONCATENATE(\"increase until \",'Technical SDG'!D105))))","v":""},{"$f":"IF('Technical SDG'!E105=\"\",\"\",IF($D106=\"\",\"please complete\",IF($D106>'Technical SDG'!E105-1,\":-)\",CONCATENATE(\"increase until \",'Technical SDG'!E105))))","v":""},{"$f":"IF('Technical SDG'!F105=\"\",\"\",IF($D106=\"\",\"please complete\",IF($D106>'Technical SDG'!F105-1,\":-)\",CONCATENATE(\"increase until \",'Technical SDG'!F105))))","v":""},{"$f":"IF('Technical SDG'!G105=\"\",\"\",IF($D106=\"\",\"please complete\",IF($D106>'Technical SDG'!G105-1,\":-)\",CONCATENATE(\"increase until \",'Technical SDG'!G105))))","v":""},{"$f":"IF('Technical SDG'!H105=\"\",\"\",IF($D106=\"\",\"please complete\",IF($D106>'Technical SDG'!H105-1,\":-)\",CONCATENATE(\"increase until \",'Technical SDG'!H105))))","v":""},{"$f":"IF('Technical SDG'!I105=\"\",\"\",IF($D106=\"\",\"please complete\",IF($D106>'Technical SDG'!I105-1,\":-)\",CONCATENATE(\"increase until \",'Technical SDG'!I105))))","v":""},{"$f":"IF('Technical SDG'!J105=\"\",\"\",IF($D106=\"\",\"please complete\",IF($D106>'Technical SDG'!J105-1,\":-)\",CONCATENATE(\"increase until \",'Technical SDG'!J105))))","v":":-)"},{"$f":"IF('Technical SDG'!K105=\"\",\"\",IF($D106=\"\",\"please complete\",IF($D106>'Technical SDG'!K105-1,\":-)\",CONCATENATE(\"increase until \",'Technical SDG'!K105))))","v":""},{"$f":"IF('Technical SDG'!L105=\"\",\"\",IF($D106=\"\",\"please complete\",IF($D106>'Technical SDG'!L105-1,\":-)\",CONCATENATE(\"increase until \",'Technical SDG'!L105))))","v":":-)"},{"$f":"IF('Technical SDG'!M105=\"\",\"\",IF($D106=\"\",\"please complete\",IF($D106>'Technical SDG'!M105-1,\":-)\",CONCATENATE(\"increase until \",'Technical SDG'!M105))))","v":""},{"$f":"IF('Technical SDG'!N105=\"\",\"\",IF($D106=\"\",\"please complete\",IF($D106>'Technical SDG'!N105-1,\":-)\",CONCATENATE(\"increase until \",'Technical SDG'!N105))))","v":""},{"$f":"IF('Technical SDG'!O105=\"\",\"\",IF($D106=\"\",\"please complete\",IF($D106>'Technical SDG'!O105-1,\":-)\",CONCATENATE(\"increase until \",'Technical SDG'!O105))))","v":":-)"},{"$f":"IF('Technical SDG'!P105=\"\",\"\",IF($D106=\"\",\"please complete\",IF($D106>'Technical SDG'!P105-1,\":-)\",CONCATENATE(\"increase until \",'Technical SDG'!P105))))","v":":-)"},{"$f":"IF('Technical SDG'!Q105=\"\",\"\",IF($D106=\"\",\"please complete\",IF($D106>'Technical SDG'!Q105-1,\":-)\",CONCATENATE(\"increase until \",'Technical SDG'!Q105))))","v":""},{"$f":"IF('Technical SDG'!R105=\"\",\"\",IF($D106=\"\",\"please complete\",IF($D106>'Technical SDG'!R105-1,\":-)\",CONCATENATE(\"increase until \",'Technical SDG'!R105))))","v":""},{"$f":"IF('Technical SDG'!S105=\"\",\"\",IF($D106=\"\",\"please complete\",IF($D106>'Technical SDG'!S105-1,\":-)\",CONCATENATE(\"increase until \",'Technical SDG'!S105))))","v":""},{"$f":"IF('Technical SDG'!T105=\"\",\"\",IF($D106=\"\",\"please complete\",IF($D106>'Technical SDG'!T105-1,\":-)\",CONCATENATE(\"increase until \",'Technical SDG'!T105))))","v":""}]
[null,{"$f":"'Technical SDG'!B106","v":"Q6.15"},{"$f":"VLOOKUP(B107,'Chapter 6'!$C$6:$D$120,2,0)","v":"Jaká je strategie organizace na snižování emisí skleníkových plynů?"},{"$f":"'Technical SDG'!C106","v":2},13,{"$f":"IF('Technical SDG'!D106=\"\",\"\",IF($D107=\"\",\"please complete\",IF($D107>'Technical SDG'!D106-1,\":-)\",CONCATENATE(\"increase until \",'Technical SDG'!D106))))","v":""},{"$f":"IF('Technical SDG'!E106=\"\",\"\",IF($D107=\"\",\"please complete\",IF($D107>'Technical SDG'!E106-1,\":-)\",CONCATENATE(\"increase until \",'Technical SDG'!E106))))","v":""},{"$f":"IF('Technical SDG'!F106=\"\",\"\",IF($D107=\"\",\"please complete\",IF($D107>'Technical SDG'!F106-1,\":-)\",CONCATENATE(\"increase until \",'Technical SDG'!F106))))","v":""},{"$f":"IF('Technical SDG'!G106=\"\",\"\",IF($D107=\"\",\"please complete\",IF($D107>'Technical SDG'!G106-1,\":-)\",CONCATENATE(\"increase until \",'Technical SDG'!G106))))","v":""},{"$f":"IF('Technical SDG'!H106=\"\",\"\",IF($D107=\"\",\"please complete\",IF($D107>'Technical SDG'!H106-1,\":-)\",CONCATENATE(\"increase until \",'Technical SDG'!H106))))","v":""},{"$f":"IF('Technical SDG'!I106=\"\",\"\",IF($D107=\"\",\"please complete\",IF($D107>'Technical SDG'!I106-1,\":-)\",CONCATENATE(\"increase until \",'Technical SDG'!I106))))","v":""},{"$f":"IF('Technical SDG'!J106=\"\",\"\",IF($D107=\"\",\"please complete\",IF($D107>'Technical SDG'!J106-1,\":-)\",CONCATENATE(\"increase until \",'Technical SDG'!J106))))","v":"increase until 3"},{"$f":"IF('Technical SDG'!K106=\"\",\"\",IF($D107=\"\",\"please complete\",IF($D107>'Technical SDG'!K106-1,\":-)\",CONCATENATE(\"increase until \",'Technical SDG'!K106))))","v":""},{"$f":"IF('Technical SDG'!L106=\"\",\"\",IF($D107=\"\",\"please complete\",IF($D107>'Technical SDG'!L106-1,\":-)\",CONCATENATE(\"increase until \",'Technical SDG'!L106))))","v":"increase until 3"},{"$f":"IF('Technical SDG'!M106=\"\",\"\",IF($D107=\"\",\"please complete\",IF($D107>'Technical SDG'!M106-1,\":-)\",CONCATENATE(\"increase until \",'Technical SDG'!M106))))","v":""},{"$f":"IF('Technical SDG'!N106=\"\",\"\",IF($D107=\"\",\"please complete\",IF($D107>'Technical SDG'!N106-1,\":-)\",CONCATENATE(\"increase until \",'Technical SDG'!N106))))","v":""},{"$f":"IF('Technical SDG'!O106=\"\",\"\",IF($D107=\"\",\"please complete\",IF($D107>'Technical SDG'!O106-1,\":-)\",CONCATENATE(\"increase until \",'Technical SDG'!O106))))","v":"increase until 3"},{"$f":"IF('Technical SDG'!P106=\"\",\"\",IF($D107=\"\",\"please complete\",IF($D107>'Technical SDG'!P106-1,\":-)\",CONCATENATE(\"increase until \",'Technical SDG'!P106))))","v":"increase until 3"},{"$f":"IF('Technical SDG'!Q106=\"\",\"\",IF($D107=\"\",\"please complete\",IF($D107>'Technical SDG'!Q106-1,\":-)\",CONCATENATE(\"increase until \",'Technical SDG'!Q106))))","v":""},{"$f":"IF('Technical SDG'!R106=\"\",\"\",IF($D107=\"\",\"please complete\",IF($D107>'Technical SDG'!R106-1,\":-)\",CONCATENATE(\"increase until \",'Technical SDG'!R106))))","v":""},{"$f":"IF('Technical SDG'!S106=\"\",\"\",IF($D107=\"\",\"please complete\",IF($D107>'Technical SDG'!S106-1,\":-)\",CONCATENATE(\"increase until \",'Technical SDG'!S106))))","v":""},{"$f":"IF('Technical SDG'!T106=\"\",\"\",IF($D107=\"\",\"please complete\",IF($D107>'Technical SDG'!T106-1,\":-)\",CONCATENATE(\"increase until \",'Technical SDG'!T106))))","v":""}]
[null,{"$f":"'Technical SDG'!B107","v":"Q6.16"},{"$f":"VLOOKUP(B108,'Chapter 6'!$C$6:$D$120,2,0)","v":"Jakým způsobem se organizace připravuje na klimatické změny? "},{"$f":"'Technical SDG'!C107","v":3},13,{"$f":"IF('Technical SDG'!D107=\"\",\"\",IF($D108=\"\",\"please complete\",IF($D108>'Technical SDG'!D107-1,\":-)\",CONCATENATE(\"increase until \",'Technical SDG'!D107))))","v":""},{"$f":"IF('Technical SDG'!E107=\"\",\"\",IF($D108=\"\",\"please complete\",IF($D108>'Technical SDG'!E107-1,\":-)\",CONCATENATE(\"increase until \",'Technical SDG'!E107))))","v":""},{"$f":"IF('Technical SDG'!F107=\"\",\"\",IF($D108=\"\",\"please complete\",IF($D108>'Technical SDG'!F107-1,\":-)\",CONCATENATE(\"increase until \",'Technical SDG'!F107))))","v":""},{"$f":"IF('Technical SDG'!G107=\"\",\"\",IF($D108=\"\",\"please complete\",IF($D108>'Technical SDG'!G107-1,\":-)\",CONCATENATE(\"increase until \",'Technical SDG'!G107))))","v":""},{"$f":"IF('Technical SDG'!H107=\"\",\"\",IF($D108=\"\",\"please complete\",IF($D108>'Technical SDG'!H107-1,\":-)\",CONCATENATE(\"increase until \",'Technical SDG'!H107))))","v":""},{"$f":"IF('Technical SDG'!I107=\"\",\"\",IF($D108=\"\",\"please complete\",IF($D108>'Technical SDG'!I107-1,\":-)\",CONCATENATE(\"increase until \",'Technical SDG'!I107))))","v":""},{"$f":"IF('Technical SDG'!J107=\"\",\"\",IF($D108=\"\",\"please complete\",IF($D108>'Technical SDG'!J107-1,\":-)\",CONCATENATE(\"increase until \",'Technical SDG'!J107))))","v":":-)"},{"$f":"IF('Technical SDG'!K107=\"\",\"\",IF($D108=\"\",\"please complete\",IF($D108>'Technical SDG'!K107-1,\":-)\",CONCATENATE(\"increase until \",'Technical SDG'!K107))))","v":""},{"$f":"IF('Technical SDG'!L107=\"\",\"\",IF($D108=\"\",\"please complete\",IF($D108>'Technical SDG'!L107-1,\":-)\",CONCATENATE(\"increase until \",'Technical SDG'!L107))))","v":":-)"},{"$f":"IF('Technical SDG'!M107=\"\",\"\",IF($D108=\"\",\"please complete\",IF($D108>'Technical SDG'!M107-1,\":-)\",CONCATENATE(\"increase until \",'Technical SDG'!M107))))","v":""},{"$f":"IF('Technical SDG'!N107=\"\",\"\",IF($D108=\"\",\"please complete\",IF($D108>'Technical SDG'!N107-1,\":-)\",CONCATENATE(\"increase until \",'Technical SDG'!N107))))","v":""},{"$f":"IF('Technical SDG'!O107=\"\",\"\",IF($D108=\"\",\"please complete\",IF($D108>'Technical SDG'!O107-1,\":-)\",CONCATENATE(\"increase until \",'Technical SDG'!O107))))","v":":-)"},{"$f":"IF('Technical SDG'!P107=\"\",\"\",IF($D108=\"\",\"please complete\",IF($D108>'Technical SDG'!P107-1,\":-)\",CONCATENATE(\"increase until \",'Technical SDG'!P107))))","v":":-)"},{"$f":"IF('Technical SDG'!Q107=\"\",\"\",IF($D108=\"\",\"please complete\",IF($D108>'Technical SDG'!Q107-1,\":-)\",CONCATENATE(\"increase until \",'Technical SDG'!Q107))))","v":""},{"$f":"IF('Technical SDG'!R107=\"\",\"\",IF($D108=\"\",\"please complete\",IF($D108>'Technical SDG'!R107-1,\":-)\",CONCATENATE(\"increase until \",'Technical SDG'!R107))))","v":""},{"$f":"IF('Technical SDG'!S107=\"\",\"\",IF($D108=\"\",\"please complete\",IF($D108>'Technical SDG'!S107-1,\":-)\",CONCATENATE(\"increase until \",'Technical SDG'!S107))))","v":""},{"$f":"IF('Technical SDG'!T107=\"\",\"\",IF($D108=\"\",\"please complete\",IF($D108>'Technical SDG'!T107-1,\":-)\",CONCATENATE(\"increase until \",'Technical SDG'!T107))))","v":""}]
[null,{"$f":"'Technical SDG'!B108","v":"Q6.17"},{"$f":"VLOOKUP(B109,'Chapter 6'!$C$6:$D$120,2,0)","v":"Jak organizace zajišťuje rovné příležitosti při náboru a během kariéry všech?"},{"$f":"'Technical SDG'!C108","v":2},15,{"$f":"IF('Technical SDG'!D108=\"\",\"\",IF($D109=\"\",\"please complete\",IF($D109>'Technical SDG'!D108-1,\":-)\",CONCATENATE(\"increase until \",'Technical SDG'!D108))))","v":""},{"$f":"IF('Technical SDG'!E108=\"\",\"\",IF($D109=\"\",\"please complete\",IF($D109>'Technical SDG'!E108-1,\":-)\",CONCATENATE(\"increase until \",'Technical SDG'!E108))))","v":""},{"$f":"IF('Technical SDG'!F108=\"\",\"\",IF($D109=\"\",\"please complete\",IF($D109>'Technical SDG'!F108-1,\":-)\",CONCATENATE(\"increase until \",'Technical SDG'!F108))))","v":""},{"$f":"IF('Technical SDG'!G108=\"\",\"\",IF($D109=\"\",\"please complete\",IF($D109>'Technical SDG'!G108-1,\":-)\",CONCATENATE(\"increase until \",'Technical SDG'!G108))))","v":""},{"$f":"IF('Technical SDG'!H108=\"\",\"\",IF($D109=\"\",\"please complete\",IF($D109>'Technical SDG'!H108-1,\":-)\",CONCATENATE(\"increase until \",'Technical SDG'!H108))))","v":"increase until 3"},{"$f":"IF('Technical SDG'!I108=\"\",\"\",IF($D109=\"\",\"please complete\",IF($D109>'Technical SDG'!I108-1,\":-)\",CONCATENATE(\"increase until \",'Technical SDG'!I108))))","v":""},{"$f":"IF('Technical SDG'!J108=\"\",\"\",IF($D109=\"\",\"please complete\",IF($D109>'Technical SDG'!J108-1,\":-)\",CONCATENATE(\"increase until \",'Technical SDG'!J108))))","v":""},{"$f":"IF('Technical SDG'!K108=\"\",\"\",IF($D109=\"\",\"please complete\",IF($D109>'Technical SDG'!K108-1,\":-)\",CONCATENATE(\"increase until \",'Technical SDG'!K108))))","v":"increase until 3"},{"$f":"IF('Technical SDG'!L108=\"\",\"\",IF($D109=\"\",\"please complete\",IF($D109>'Technical SDG'!L108-1,\":-)\",CONCATENATE(\"increase until \",'Technical SDG'!L108))))","v":""},{"$f":"IF('Technical SDG'!M108=\"\",\"\",IF($D109=\"\",\"please complete\",IF($D109>'Technical SDG'!M108-1,\":-)\",CONCATENATE(\"increase until \",'Technical SDG'!M108))))","v":""},{"$f":"IF('Technical SDG'!N108=\"\",\"\",IF($D109=\"\",\"please complete\",IF($D109>'Technical SDG'!N108-1,\":-)\",CONCATENATE(\"increase until \",'Technical SDG'!N108))))","v":""},{"$f":"IF('Technical SDG'!O108=\"\",\"\",IF($D109=\"\",\"please complete\",IF($D109>'Technical SDG'!O108-1,\":-)\",CONCATENATE(\"increase until \",'Technical SDG'!O108))))","v":""},{"$f":"IF('Technical SDG'!P108=\"\",\"\",IF($D109=\"\",\"please complete\",IF($D109>'Technical SDG'!P108-1,\":-)\",CONCATENATE(\"increase until \",'Technical SDG'!P108))))","v":""},{"$f":"IF('Technical SDG'!Q108=\"\",\"\",IF($D109=\"\",\"please complete\",IF($D109>'Technical SDG'!Q108-1,\":-)\",CONCATENATE(\"increase until \",'Technical SDG'!Q108))))","v":""},{"$f":"IF('Technical SDG'!R108=\"\",\"\",IF($D109=\"\",\"please complete\",IF($D109>'Technical SDG'!R108-1,\":-)\",CONCATENATE(\"increase until \",'Technical SDG'!R108))))","v":""},{"$f":"IF('Technical SDG'!S108=\"\",\"\",IF($D109=\"\",\"please complete\",IF($D109>'Technical SDG'!S108-1,\":-)\",CONCATENATE(\"increase until \",'Technical SDG'!S108))))","v":""},{"$f":"IF('Technical SDG'!T108=\"\",\"\",IF($D109=\"\",\"please complete\",IF($D109>'Technical SDG'!T108-1,\":-)\",CONCATENATE(\"increase until \",'Technical SDG'!T108))))","v":""}]

{"sheet":"Action plan","index":14,"n_rows":104,"n_cols":12,"rows_kept":104,"cut":false,"hidden":false,"merged":[]}
[null,"Action plan",null,null,null,"when? (date)","by whom?","accomplished (date)"]
[]
[]
[null,{"$f":"IF(C4,Tips!D5,\"\")","v":""},{"$f":"Tips!M5","v":0},{"$f":"IF(C4,\"waar\",\"onwaar\")","v":"onwaar"},{"$f":"IF(C4,Tips!G7,\"\")","v":""}]
[null,{"$f":"IF(C5,Tips!D9,\"\")","v":""},{"$f":"Tips!M9","v":0},{"$f":"IF(C5,\"waar\",\"onwaar\")","v":"onwaar"},{"$f":"IF(Tips!M9,Tips!G11,\"\")","v":""}]
[null,{"$f":"IF(C6,Tips!D13,\"\")","v":""},{"$f":"Tips!M13","v":0},"onwaar",{"$f":"IF(Tips!M13,Tips!G15,\"\")","v":""}]
[null,{"$f":"IF(C7,Tips!D17,\"\")","v":""},{"$f":"Tips!M17","v":0},"onwaar",{"$f":"IF(Tips!M17,Tips!G19,\"\")","v":""}]
[null,{"$f":"IF(C8,Tips!D21,\"\")","v":""},{"$f":"Tips!M21","v":0},"onwaar",{"$f":"IF(Tips!M21,Tips!G23,\"\")","v":""}]
[null,{"$f":"IF(C9,Tips!D25,\"\")","v":""},{"$f":"Tips!M25","v":0},"onwaar",{"$f":"IF(Tips!M25,Tips!G27,\"\")","v":""}]
[null,{"$f":"IF(C10,Tips!D29,\"\")","v":""},{"$f":"Tips!M29","v":0},"onwaar",{"$f":"IF(Tips!M29,Tips!G31,\"\")","v":""}]
[null,{"$f":"IF(C11,Tips!D33,\"\")","v":""},{"$f":"Tips!M33","v":0},"onwaar",{"$f":"IF(Tips!M33,Tips!G35,\"\")","v":""}]
[null,{"$f":"IF(C12,Tips!D37,\"\")","v":""},{"$f":"Tips!M37","v":0},"onwaar",{"$f":"IF(Tips!M37,Tips!G39,\"\")","v":""}]
[null,{"$f":"IF(C13,Tips!D41,\"\")","v":""},{"$f":"Tips!M41","v":0},"onwaar",{"$f":"IF(Tips!M41,Tips!G43,\"\")","v":""}]
[null,{"$f":"IF(C14,Tips!D45,\"\")","v":""},{"$f":"Tips!M45","v":0},"onwaar",{"$f":"IF(Tips!M45,Tips!G47,\"\")","v":""}]
[null,{"$f":"IF(C15,Tips!D49,\"\")","v":""},{"$f":"Tips!M49","v":0},"onwaar",{"$f":"IF(Tips!M49,Tips!G51,\"\")","v":""}]
[null,{"$f":"IF(C16,Tips!D53,\"\")","v":""},{"$f":"Tips!M53","v":0},"onwaar",{"$f":"IF(Tips!M53,Tips!G55,\"\")","v":""}]
[null,{"$f":"IF(C17,Tips!D57,\"\")","v":""},{"$f":"Tips!M57","v":0},"onwaar",{"$f":"IF(Tips!M57,Tips!G59,\"\")","v":""}]
[null,{"$f":"IF(C18,Tips!D61,\"\")","v":""},{"$f":"Tips!M61","v":0},"onwaar",{"$f":"IF(Tips!M61,Tips!G63,\"\")","v":""}]
[null,{"$f":"IF(C19,Tips!D65,\"\")","v":""},{"$f":"Tips!M65","v":0},"onwaar",{"$f":"IF(Tips!M65,Tips!G67,\"\")","v":""}]
[null,{"$f":"IF(C20,Tips!D71,\"\")","v":""},{"$f":"Tips!M71","v":0},"onwaar",{"$f":"IF(Tips!M71,Tips!G73,\"\")","v":""}]
[null,{"$f":"IF(C21,Tips!D75,\"\")","v":""},{"$f":"Tips!M75","v":0},"onwaar",{"$f":"IF(Tips!M75,Tips!G77,\"\")","v":""}]
[null,{"$f":"IF(C22,Tips!D79,\"\")","v":""},{"$f":"Tips!M79","v":0},"onwaar",{"$f":"IF(Tips!M79,Tips!G81,\"\")","v":""}]
[null,{"$f":"IF(C23,Tips!D83,\"\")","v":""},{"$f":"Tips!M83","v":0},"onwaar",{"$f":"IF(Tips!M83,Tips!G85,\"\")","v":""}]
[null,{"$f":"IF(C24,Tips!D87,\"\")","v":""},{"$f":"Tips!M87","v":0},"onwaar",{"$f":"IF(Tips!M87,Tips!G89,\"\")","v":""}]
[null,{"$f":"IF(C25,Tips!D91,\"\")","v":""},{"$f":"Tips!M91","v":0},"onwaar",{"$f":"IF(Tips!M91,Tips!G93,\"\")","v":""}]
[null,{"$f":"IF(C26,Tips!D95,\"\")","v":""},{"$f":"Tips!M95","v":0},"onwaar",{"$f":"IF(Tips!M95,Tips!G97,\"\")","v":""}]
[null,{"$f":"IF(C27,Tips!D99,\"\")","v":""},{"$f":"Tips!M99","v":0},"onwaar",{"$f":"IF(Tips!M99,Tips!G101,\"\")","v":""}]
[null,{"$f":"IF(C28,Tips!D103,\"\")","v":""},{"$f":"Tips!M103","v":0},"onwaar",{"$f":"IF(Tips!M103,Tips!G105,\"\")","v":""}]
[null,{"$f":"IF(C29,Tips!D107,\"\")","v":""},{"$f":"Tips!M107","v":0},"onwaar",{"$f":"IF(Tips!M107,Tips!G109,\"\")","v":""}]
[null,{"$f":"IF(C30,Tips!D111,\"\")","v":""},{"$f":"Tips!M111","v":0},"onwaar",{"$f":"IF(Tips!M111,Tips!G113,\"\")","v":""}]
[null,{"$f":"IF(C31,Tips!D115,\"\")","v":""},{"$f":"Tips!M115","v":0},"onwaar",{"$f":"IF(Tips!M115,Tips!G117,\"\")","v":""}]
[null,{"$f":"IF(C32,Tips!D119,\"\")","v":""},{"$f":"Tips!M119","v":0},"onwaar",{"$f":"IF(Tips!M119,Tips!G121,\"\")","v":""}]
[null,{"$f":"IF(C33,Tips!D123,\"\")","v":""},{"$f":"Tips!M123","v":0},"onwaar",{"$f":"IF(Tips!M123,Tips!G125,\"\")","v":""}]
[null,{"$f":"IF(C34,Tips!D127,\"\")","v":""},{"$f":"Tips!M127","v":0},"onwaar",{"$f":"IF(Tips!M127,Tips!G129,\"\")","v":""}]
[null,{"$f":"IF(C35,Tips!D131,\"\")","v":""},{"$f":"Tips!M131","v":0},"onwaar",{"$f":"IF(Tips!M131,Tips!G133,\"\")","v":""}]
[null,{"$f":"IF(C36,Tips!D135,\"\")","v":""},{"$f":"Tips!M135","v":0},"onwaar",{"$f":"IF(Tips!M135,Tips!G137,\"\")","v":""}]
[null,{"$f":"IF(C37,Tips!D139,\"\")","v":""},{"$f":"Tips!M139","v":0},"onwaar",{"$f":"IF(Tips!M139,Tips!G141,\"\")","v":""}]
[null,{"$f":"IF(C38,Tips!D143,\"\")","v":""},{"$f":"Tips!M143","v":0},"onwaar",{"$f":"IF(Tips!M143,Tips!G145,\"\")","v":""}]
[null,{"$f":"IF(C39,Tips!D147,\"\")","v":""},{"$f":"Tips!M147","v":0},"onwaar",{"$f":"IF(Tips!M147,Tips!G149,\"\")","v":""}]
[null,{"$f":"IF(C40,Tips!D151,\"\")","v":""},{"$f":"Tips!M151","v":0},"onwaar",{"$f":"IF(Tips!M151,Tips!G153,\"\")","v":""}]
[null,{"$f":"IF(C41,Tips!D155,\"\")","v":""},{"$f":"Tips!M155","v":0},"onwaar",{"$f":"IF(Tips!M155,Tips!G157,\"\")","v":""}]
[null,{"$f":"IF(C42,Tips!D159,\"\")","v":""},{"$f":"Tips!M159","v":0},"onwaar",{"$f":"IF(Tips!M159,Tips!G161,\"\")","v":""}]
[null,{"$f":"IF(C43,Tips!D163,\"\")","v":""},{"$f":"Tips!M163","v":0},"onwaar",{"$f":"IF(Tips!M163,Tips!G165,\"\")","v":""}]
[null,{"$f":"IF(C44,Tips!D167,\"\")","v":""},{"$f":"Tips!M167","v":0},"onwaar",{"$f":"IF(Tips!M167,Tips!G169,\"\")","v":""}]
[null,{"$f":"IF(C45,Tips!D171,\"\")","v":""},{"$f":"Tips!M171","v":0},"onwaar",{"$f":"IF(Tips!M171,Tips!G173,\"\")","v":""}]
[null,{"$f":"IF(C46,Tips!D175,\"\")","v":""},{"$f":"Tips!M175","v":0},"onwaar",{"$f":"IF(Tips!M175,Tips!G177,\"\")","v":""}]
[null,{"$f":"IF(C47,Tips!D179,\"\")","v":""},{"$f":"Tips!M179","v":0},"onwaar",{"$f":"IF(Tips!M179,Tips!G181,\"\")","v":""}]
[null,{"$f":"IF(C48,Tips!D183,\"\")","v":""},{"$f":"Tips!M183","v":0},"onwaar",{"$f":"IF(Tips!M183,Tips!G185,\"\")","v":""}]
[null,{"$f":"IF(C49,Tips!D187,\"\")","v":""},{"$f":"Tips!M187","v":0},"onwaar",{"$f":"IF(Tips!M187,Tips!G189,\"\")","v":""}]
[null,{"$f":"IF(C50,Tips!D191,\"\")","v":""},{"$f":"Tips!M191","v":0},"onwaar",{"$f":"IF(Tips!M191,Tips!G193,\"\")","v":""}]
[null,{"$f":"IF(C51,Tips!D195,\"\")","v":""},{"$f":"Tips!M195","v":0},"onwaar",{"$f":"IF(Tips!M195,Tips!G197,\"\")","v":""}]
[null,{"$f":"IF(C52,Tips!D199,\"\")","v":""},{"$f":"Tips!M199","v":0},"onwaar",{"$f":"IF(Tips!M199,Tips!G201,\"\")","v":""}]
[null,{"$f":"IF(C53,Tips!D203,\"\")","v":""},{"$f":"Tips!M203","v":0},"onwaar",{"$f":"IF(Tips!M203,Tips!G205,\"\")","v":""}]
[null,{"$f":"IF(C54,Tips!D207,\"\")","v":""},{"$f":"Tips!M207","v":0},"onwaar",{"$f":"IF(Tips!M207,Tips!G209,\"\")","v":""}]
[null,{"$f":"IF(C55,Tips!D211,\"\")","v":""},{"$f":"Tips!M211","v":0},"onwaar",{"$f":"IF(Tips!M211,Tips!G213,\"\")","v":""}]
[null,{"$f":"IF(C56,Tips!D215,\"\")","v":""},{"$f":"Tips!M215","v":0},"onwaar",{"$f":"IF(Tips!M215,Tips!G217,\"\")","v":""}]
[null,{"$f":"IF(C57,Tips!D219,\"\")","v":""},{"$f":"Tips!M219","v":0},"onwaar",{"$f":"IF(Tips!M219,Tips!G221,\"\")","v":""}]
[null,{"$f":"IF(C58,Tips!D223,\"\")","v":""},{"$f":"Tips!M223","v":0},"onwaar",{"$f":"IF(Tips!M223,Tips!G225,\"\")","v":""}]
[null,{"$f":"IF(C59,Tips!D227,\"\")","v":""},{"$f":"Tips!M227","v":0},"onwaar",{"$f":"IF(Tips!M227,Tips!G229,\"\")","v":""}]
[null,{"$f":"IF(C60,Tips!D231,\"\")","v":""},{"$f":"Tips!M231","v":0},"onwaar",{"$f":"IF(Tips!M231,Tips!G233,\"\")","v":""}]
[null,{"$f":"IF(C61,Tips!D235,\"\")","v":""},{"$f":"Tips!M235","v":0},"onwaar",{"$f":"IF(Tips!M235,Tips!G237,\"\")","v":""}]
[null,{"$f":"IF(C62,Tips!D239,\"\")","v":""},{"$f":"Tips!M239","v":0},"onwaar",{"$f":"IF(Tips!M239,Tips!G241,\"\")","v":""}]
[null,{"$f":"IF(C63,Tips!D243,\"\")","v":""},{"$f":"Tips!M243","v":0},"onwaar",{"$f":"IF(Tips!M243,Tips!G245,\"\")","v":""}]
[null,{"$f":"IF(C64,Tips!D247,\"\")","v":""},{"$f":"Tips!M247","v":0},"onwaar",{"$f":"IF(Tips!M247,Tips!G249,\"\")","v":""}]
[null,{"$f":"IF(C65,Tips!D253,\"\")","v":""},{"$f":"Tips!M253","v":0},"onwaar",{"$f":"IF(Tips!M253,Tips!G255,\"\")","v":""}]
[null,{"$f":"IF(C66,Tips!D257,\"\")","v":""},{"$f":"Tips!M257","v":0},"onwaar",{"$f":"IF(Tips!M257,Tips!G259,\"\")","v":""}]
[null,{"$f":"IF(C67,Tips!D261,\"\")","v":""},{"$f":"Tips!M261","v":0},"onwaar",{"$f":"IF(Tips!M261,Tips!G263,\"\")","v":""}]
[null,{"$f":"IF(C68,Tips!D265,\"\")","v":""},{"$f":"Tips!M265","v":0},"onwaar",{"$f":"IF(Tips!M265,Tips!G267,\"\")","v":""}]
[null,{"$f":"IF(C69,Tips!D269,\"\")","v":""},{"$f":"Tips!M269","v":0},{"$f":"IF(C69,\"waar\",\"onwaar\")","v":"onwaar"},{"$f":"IF(Tips!M269,Tips!G271,\"\")","v":""}]
[null,{"$f":"IF(C70,Tips!D273,\"\")","v":""},{"$f":"Tips!M273","v":0},"onwaar",{"$f":"IF(Tips!M273,Tips!G275,\"\")","v":""}]
[null,{"$f":"IF(C71,Tips!D277,\"\")","v":""},{"$f":"Tips!M277","v":0},"onwaar",{"$f":"IF(Tips!M277,Tips!G279,\"\")","v":""}]
[null,{"$f":"IF(C72,Tips!D281,\"\")","v":""},{"$f":"Tips!M281","v":0},"onwaar",{"$f":"IF(Tips!M281,Tips!G283,\"\")","v":""}]
[null,{"$f":"IF(C73,Tips!D285,\"\")","v":""},{"$f":"Tips!M285","v":0},"onwaar",{"$f":"IF(Tips!M285,Tips!G287,\"\")","v":""}]
[null,{"$f":"IF(C74,Tips!D289,\"\")","v":""},{"$f":"Tips!M289","v":0},"onwaar",{"$f":"IF(Tips!M289,Tips!G291,\"\")","v":""}]
[null,{"$f":"IF(C75,Tips!D295,\"\")","v":""},{"$f":"Tips!M295","v":0},"onwaar",{"$f":"IF(Tips!M295,Tips!G297,\"\")","v":""}]
[null,{"$f":"IF(C76,Tips!D299,\"\")","v":""},{"$f":"Tips!M299","v":0},"onwaar",{"$f":"IF(Tips!M299,Tips!G301,\"\")","v":""}]
[null,{"$f":"IF(C77,Tips!D303,\"\")","v":""},{"$f":"Tips!M303","v":0},"onwaar",{"$f":"IF(Tips!M303,Tips!G305,\"\")","v":""}]
[null,{"$f":"IF(C78,Tips!D307,\"\")","v":""},{"$f":"Tips!M307","v":0},"onwaar",{"$f":"IF(Tips!M307,Tips!G309,\"\")","v":""}]
[null,{"$f":"IF(C79,Tips!D311,\"\")","v":""},{"$f":"Tips!M311","v":0},"onwaar",{"$f":"IF(Tips!M311,Tips!G313,\"\")","v":""}]
[null,{"$f":"IF(C80,Tips!D315,\"\")","v":""},{"$f":"Tips!M315","v":0},"onwaar",{"$f":"IF(Tips!M315,Tips!G317,\"\")","v":""}]
[null,{"$f":"IF(C81,Tips!D319,\"\")","v":""},{"$f":"Tips!M319","v":0},"onwaar",{"$f":"IF(Tips!M319,Tips!G321,\"\")","v":""}]
[null,{"$f":"IF(C82,Tips!D323,\"\")","v":""},{"$f":"Tips!M323","v":0},"onwaar",{"$f":"IF(Tips!M323,Tips!G325,\"\")","v":""}]
[null,{"$f":"IF(C83,Tips!D329,\"\")","v":""},{"$f":"Tips!M329","v":0},"onwaar",{"$f":"IF(Tips!M329,Tips!G331,\"\")","v":""}]
[null,{"$f":"IF(C84,Tips!D333,\"\")","v":""},{"$f":"Tips!M333","v":0},"onwaar",{"$f":"IF(Tips!M333,Tips!G335,\"\")","v":""}]
[null,{"$f":"IF(C85,Tips!D337,\"\")","v":""},{"$f":"Tips!M337","v":0},"onwaar",{"$f":"IF(Tips!M337,Tips!G339,\"\")","v":""}]
[null,{"$f":"IF(C86,Tips!D341,\"\")","v":""},{"$f":"Tips!M341","v":0},"onwaar",{"$f":"IF(Tips!M341,Tips!G343,\"\")","v":""}]
[null,{"$f":"IF(C87,Tips!D345,\"\")","v":""},{"$f":"Tips!M345","v":0},"onwaar",{"$f":"IF(Tips!M345,Tips!G347,\"\")","v":""}]
[null,{"$f":"IF(C88,Tips!D351,\"\")","v":""},{"$f":"Tips!M351","v":0},"onwaar",{"$f":"IF(Tips!M351,Tips!G353,\"\")","v":""},null,null,null,null,"link 1","link 2","link 3"]
[null,{"$f":"IF(C89,Tips!D358,\"\")","v":""},{"$f":"Tips!M358","v":0},"onwaar",{"$f":"IF(Tips!M358,Tips!G360,\"\")","v":""},null,null,null,null,"link 1","link 2","link 3"]
[null,{"$f":"IF(C90,Tips!D365,\"\")","v":""},{"$f":"Tips!M365","v":0},"onwaar",{"$f":"IF(Tips!M365,Tips!G367,\"\")","v":""}]
[null,{"$f":"IF(C91,Tips!D369,\"\")","v":""},{"$f":"Tips!M369","v":0},"onwaar",{"$f":"IF(Tips!M369,Tips!G371,\"\")","v":""}]
[null,{"$f":"IF(C92,Tips!D373,\"\")","v":""},{"$f":"Tips!M373","v":0},"onwaar",{"$f":"IF(Tips!M373,Tips!G375,\"\")","v":""}]
[null,{"$f":"IF(C93,Tips!D377,\"\")","v":""},{"$f":"Tips!M377","v":0},"onwaar",{"$f":"IF(Tips!M377,Tips!G379,\"\")","v":""}]
[null,{"$f":"IF(C94,Tips!D381,\"\")","v":""},{"$f":"Tips!M381","v":0},"onwaar",{"$f":"IF(Tips!M381,Tips!G383,\"\")","v":""}]
[null,{"$f":"IF(C95,Tips!D385,\"\")","v":""},{"$f":"Tips!M385","v":0},"onwaar",{"$f":"IF(Tips!M385,Tips!G387,\"\")","v":""}]
[null,{"$f":"IF(C96,Tips!D389,\"\")","v":""},{"$f":"Tips!M389","v":0},"onwaar",{"$f":"IF(Tips!M389,Tips!G391,\"\")","v":""}]
[null,{"$f":"IF(C97,Tips!D393,\"\")","v":""},{"$f":"Tips!M393","v":0},"onwaar",{"$f":"IF(Tips!M393,Tips!G395,\"\")","v":""},null,null,null,null,"link 1","link 2"]
[null,{"$f":"IF(C98,Tips!D399,\"\")","v":""},{"$f":"Tips!M399","v":0},"onwaar",{"$f":"IF(Tips!M399,Tips!G401,\"\")","v":""}]
[null,{"$f":"IF(C99,Tips!D403,\"\")","v":""},{"$f":"Tips!M403","v":0},"onwaar",{"$f":"IF(Tips!M403,Tips!G405,\"\")","v":""}]
[null,{"$f":"IF(C100,Tips!D407,\"\")","v":""},{"$f":"Tips!M407","v":0},"onwaar",{"$f":"IF(Tips!M407,Tips!G409,\"\")","v":""}]
[null,{"$f":"IF(C101,Tips!D411,\"\")","v":""},{"$f":"Tips!M411","v":0},"onwaar",{"$f":"IF(Tips!M411,Tips!G413,\"\")","v":""}]
[null,{"$f":"IF(C102,Tips!D415,\"\")","v":""},{"$f":"Tips!M415","v":0},"onwaar",{"$f":"IF(Tips!M415,Tips!G417,\"\")","v":""}]
[null,{"$f":"IF(C103,Tips!D419,\"\")","v":""},{"$f":"Tips!M419","v":0},"onwaar",{"$f":"IF(Tips!M419,Tips!G421,\"\")","v":""}]
[null,{"$f":"IF(C104,Tips!D423,\"\")","v":""},{"$f":"Tips!M423","v":0},"onwaar",{"$f":"IF(Tips!M423,Tips!G425,\"\")","v":""}]

{"sheet":"Technical page","index":15,"n_rows":713,"n_cols":64,"rows_kept":713,"cut":false,"hidden":false,"merged":[[580,14,580,15],[9,60,9,178]]}
["This technical page contains reference data and formules for each chapter."]
["Yellow fields are editable"]
[]
["chapter 1"]
[]
[]
[null,null,null,null,null,null,null,null,"scores in case of compliance",null,null,null,null,null,null,null,null,null,null,"to copy",null,null,null,null,null,null,null,null,null,null,null,null,"equal weights (adaptable)",null,null,null,"MCA"]
[null,"scores",null,null,null,"prefill",null,"answered","ISO9001","ISO14001","ISO26000","ISO45001","ISO50001","EMAS","RC14001","RCMS","GHS",null,null,{"$f":"I8","v":"ISO9001"},{"$f":"J8","v":"ISO14001"},{"$f":"K8","v":"ISO26000"},{"$f":"L8","v":"ISO45001"},"ISO50001",{"$f":"N8","v":"EMAS"},{"$f":"O8","v":"RC14001"},{"$f":"P8","v":"RCMS"},"GHS","clear",null,"weights",null,{"$f":"IF(SUM(AG10:AG32)=100,\"ok\",\"error\")","v":"ok"},{"$f":"IF(SUM(AH10:AH32)/COUNT(AG10:AG32)=100,\"ok\",\"error\")","v":"ok"},null,null,"subscores","score",null,null,"identification of major issues",null,null,null,null,null,"scores for standards",null,null,null,null,null,null,null,null,null,null,"improvement tips"]
[null,null,null,null,null,null,null,null,null,null,null,null,null,null,null,null,null,null,null,null,null,null,null,null,null,null,null,null,null,null,null,null,null,null,null,null,null,{"$f":"(AK10*AG10+AK13*AG13+AK15*AG15+AK18*AG18+AK20*AG20+AG24*AK24+AG29*AK29+AG31*AK31)/100","v":2.8571428571428577},null,null,null,null,null,null,null,null,null,{"$f":"I8","v":"ISO9001"},{"$f":"J8","v":"ISO14001"},{"$f":"K8","v":"ISO26000"},{"$f":"L8","v":"ISO45001"},{"$f":"M8","v":"ISO50001"},{"$f":"N8","v":"EMAS"},{"$f":"O8","v":"RC14001"},{"$f":"P8","v":"RCMS"},"GHS"]
[null,{"$f":"'Chapter 1'!C6","v":"Q1.1"},{"$f":"IF('Chapter 1'!K7,1,IF('Chapter 1'!K8,2,IF('Chapter 1'!K9,3,IF('Chapter 1'!K10,4,\"\"))))","v":3},"formula 4 choices",null,null,{"$f":"B10","v":"Q1.1"},{"$f":"'Chapter 1'!K7","v":false},false,false,false,false,false,false,false,false,null,null,{"$f":"G10","v":"Q1.1"},{"$f":"IF(I10=\"\",$H10,I10)","v":false},{"$f":"IF(J10=\"\",$H10,J10)","v":false},{"$f":"IF(K10=\"\",$H10,K10)","v":false},{"$f":"IF(L10=\"\",$H10,L10)","v":false},{"$f":"IF(M10=\"\",$H10,M10)","v":false},{"$f":"IF(N10=\"\",$H10,N10)","v":false},{"$f":"IF(O10=\"\",$H10,O10)","v":false},{"$f":"IF(P10=\"\",$H10,P10)","v":false},{"$f":"IF(Q10=\"\",$H10,Q10)","v":false},false,null,{"$f":"'Chapter 1'!B4","v":"Rozsah & Závazek"},null,{"$f":"100/7","v":14.285714285714286},null,null,null,{"$f":"((C10*AH11)+(C11*AH12))/100","v":3},null,null,null,{"$f":"B10","v":"Q1.1"},1,{"$f":"IF(C10<AP10,\"major issue\",\"ok\")","v":"ok"},{"$f":"IF(AQ10<>\"ok\",1,0)","v":0},null,null,{"$f":"AO10","v":"Q1.1"},{"$f":"IF(I10,1,IF(I11,2,IF(I12,3,IF(I13,4,\"-\"))))","v":3},{"$f":"IF(J10,1,IF(J11,2,IF(J12,3,IF(J13,4,\"-\"))))","v":3},{"$f":"IF(K10,1,IF(K11,2,IF(K12,3,IF(K13,4,\"-\"))))","v":3},{"$f":"IF(L10,1,IF(L11,2,IF(L12,3,IF(L13,4,\"-\"))))","v":3},{"$f":"IF(M10,1,IF(M11,2,IF(M12,3,IF(M13,4,\"-\"))))","v":3},{"$f":"IF(N10,1,IF(N11,2,IF(N12,3,IF(N13,4,\"-\"))))","v":3},{"$f":"IF(O10,1,IF(O11,2,IF(O12,3,IF(O13,4,\"-\"))))","v":3},{"$f":"IF(P10,1,IF(P11,2,IF(P12,3,IF(P13,4,\"-\"))))","v":4},{"$f":"IF(Q10,1,IF(Q11,2,IF(Q12,3,IF(Q13,4,\"-\"))))","v":"-"},null,{"$f":"G10","v":"Q1.1"},{"$f":"CONCATENATE(BF10,BH10)","v":"Q1.1NEPRAVDA"},{"$f":"H10","v":false},"Establishing and implementing a policy is a good way to clearly inform your employees what is expected from them on Health, Safety, Environment, Energy & Sustainability activity.\n\nThe policy can be a stand-alone document, or integrated to quality or other organisational policies. Senior management has a key role in formulating, implementing and communicating the policy.\n\nThe policy considers:\n- the organisation's mission, values and beliefs;\n- continuous improvement;\n- compliance with relevant Health, Safety, Environment, Energy & Sustainability laws and regulations;\n- compliance with other Health, Safety, Environment, Energy & Sustainability criteria to which the organisation subscribes;\n- communications with stakeholders;\n- coordination with other organisational policies.\n\nKeep your policy simple and understandable. Ask yourself what you are trying to achieve and how you can best communicate within the organisation. Test simplicity and clarity by asking \"Could our employees describe the intent of our policy in maximum twenty words?\". Match the content of your policy with your organisation's objectives and targets so that the policy reflects consistency with those objectives and targets.\n\nCommitment to compliance with laws and regulations is a given.\n\nBefore making a commitment to meet other Health, Safety, Environment, Energy & Sustainability-related requirements, the organisation may wish to conduct an inventory to understand the extent of the commitment."]
[null,{"$f":"'Chapter 1'!C12","v":"Q1.2"},{"$f":"IF('Chapter 1'!K13,1,IF('Chapter 1'!K14,2,IF('Chapter 1'!K15,3,IF('Chapter 1'!K16,4,\"\"))))","v":3},"formula 4 choices",null,null,null,{"$f":"'Chapter 1'!K8","v":false},false,false,false,false,false,false,false,false,null,null,null,{"$f":"IF(I11=\"\",$H11,I11)","v":false},false,false,{"$f":"IF(L11=\"\",$H11,L11)","v":false},{"$f":"IF(M11=\"\",$H11,M11)","v":false},false,false,false,false,false,null,null,{"$f":"B10","v":"Q1.1"},null,50,null,null,null,null,null,null,{"$f":"B11","v":"Q1.2"},1,{"$f":"IF(C11<AP11,\"major issue\",\"ok\")","v":"ok"},{"$f":"IF(AQ11<>\"ok\",1,0)","v":0},null,null,{"$f":"AO11","v":"Q1.2"},{"$f":"IF(I14,1,IF(I15,2,IF(I16,3,IF(I17,4,\"-\"))))","v":3},{"$f":"IF(J14,1,IF(J15,2,IF(J16,3,IF(J17,4,\"-\"))))","v":3},{"$f":"IF(K14,1,IF(K15,2,IF(K16,3,IF(K17,4,\"-\"))))","v":"-"},{"$f":"IF(L14,1,IF(L15,2,IF(L16,3,IF(L17,4,\"-\"))))","v":3},{"$f":"IF(M14,1,IF(M15,2,IF(M16,3,IF(M17,4,\"-\"))))","v":3},{"$f":"IF(N14,1,IF(N15,2,IF(N16,3,IF(N17,4,\"-\"))))","v":3},{"$f":"IF(O14,1,IF(O15,2,IF(O16,3,IF(O17,4,\"-\"))))","v":3},{"$f":"IF(P14,1,IF(P15,2,IF(P16,3,IF(P17,4,\"-\"))))","v":"-"},"-",null,{"$f":"BF10","v":"Q1.1"},{"$f":"CONCATENATE(BF11,BH11)","v":"Q1.1NEPRAVDA"},{"$f":"H11","v":false},"It is advised to communicate the policy to employees and support them in understanding it. Options for communicating your policy internally include posting it at work sites, incorporating it into training classes and materials, and referring to it at staff or all-hands meetings. Test awareness and understanding from time to time by asking employees if they know where they can find a Health, Safety, Environment, Energy & Sustainability policy, what it means to them, and how it affects their work.\n\nIt is advised to clearly state, in the policy, the organisaton's commitment to continual Responsible Care improvement."]
[null,{"$f":"'Chapter 1'!C20","v":"Q1.3"},{"$f":"IF('Chapter 1'!K21,1,IF('Chapter 1'!K22,2,IF('Chapter 1'!K23,3,IF('Chapter 1'!K24,4,\"\"))))","v":2},"formula 4 choices",null,null,null,{"$f":"'Chapter 1'!K9","v":true},true,true,true,true,true,true,true,false,null,null,null,{"$f":"IF(I12=\"\",$H12,I12)","v":true},true,true,{"$f":"IF(L12=\"\",$H12,L12)","v":true},true,true,true,false,true,false,null,null,{"$f":"B11","v":"Q1.2"},null,50,null,null,null,null,null,null,"Q1.3",1,"ok",0,null,null,"Q1.3",{"$f":"IF(I18,1,IF(I19,2,IF(I20,3,IF(I21,4,\"-\"))))","v":"-"},{"$f":"IF(J18,1,IF(J19,2,IF(J20,3,IF(J21,4,\"-\"))))","v":2},{"$f":"IF(K18,1,IF(K19,2,IF(K20,3,IF(K21,4,\"-\"))))","v":2},{"$f":"IF(L18,1,IF(L19,2,IF(L20,3,IF(L21,4,\"-\"))))","v":2},{"$f":"IF(M18,1,IF(M19,2,IF(M20,3,IF(M21,4,\"-\"))))","v":2},{"$f":"IF(N18,1,IF(N19,2,IF(N20,3,IF(N21,4,\"-\"))))","v":2},{"$f":"IF(O18,1,IF(O19,2,IF(O20,3,IF(O21,4,\"-\"))))","v":2},{"$f":"IF(P18,1,IF(P19,2,IF(P20,3,IF(P21,4,\"-\"))))","v":2},"-",null,{"$f":"BF11","v":"Q1.1"},"Q1.1PRAVDA",{"$f":"H12","v":true},"Communicate the policy to your stakeholders as appropriate, and make it available to the public. Your stakeholders can include on-site contractors, commercial partners, members of the community etc., as identified by the organisation. Companies may want to consider maintaining a generic list of its stakeholders and how it communicates the policy and other information to them. The organisation may wish to periodically test awareness of the policy with these stakeholders as part of its process to gauge its communications effectiveness.\n\nThe policy also needs to be available to the public. Some examples of how to communicate it to the public is by posting the policy on the organisation website, placing the policy on business cards, placing it in annual reports or other publications...\n\nDate the policy and include a signature of a senior management representative. This will demonstrate senior management commitment to the policy.\nConduct an inventory with management personnel to determine what they do to show support for Health, Safety, Environment, Energy & Sustainability/Responsible Care (e.g. management involvement in Health, Safety, Environment, Energy & Sustainability programs, speeches, goal setting activities...)."]
[null,{"$f":"'Chapter 1'!C28","v":"Q1.4"},{"$f":"IF('Chapter 1'!K29,1,IF('Chapter 1'!K30,2,IF('Chapter 1'!K31,3,IF('Chapter 1'!K32,4,\"\"))))","v":2},"formula 4 choices",null,null,null,{"$f":"'Chapter 1'!K10","v":false},false,false,false,false,false,false,false,true,null,null,null,{"$f":"IF(I13=\"\",$H13,I13)","v":false},false,false,{"$f":"IF(L13=\"\",$H13,L13)","v":false},false,false,false,true,{"$f":"IF(Q13=\"\",$H13,Q13)","v":false},false,null,{"$f":"'Chapter 1'!B18","v":"Dodržování předpisů \n "},null,{"$f":"100/7","v":14.285714285714286},null,null,null,{"$f":"C12","v":2},null,null,null,"Q1.4",1,"ok",0,null,null,"Q1.4",{"$f":"IF(I22,1,IF(I23,2,IF(I24,3,IF(I25,4,\"-\"))))","v":2},{"$f":"IF(J22,1,IF(J23,2,IF(J24,3,IF(J25,4,\"-\"))))","v":2},{"$f":"IF(K22,1,IF(K23,2,IF(K24,3,IF(K25,4,\"-\"))))","v":4},{"$f":"IF(L22,1,IF(L23,2,IF(L24,3,IF(L25,4,\"-\"))))","v":2},{"$f":"IF(M22,1,IF(M23,2,IF(M24,3,IF(M25,4,\"-\"))))","v":2},{"$f":"IF(N22,1,IF(N23,2,IF(N24,3,IF(N25,4,\"-\"))))","v":2},{"$f":"IF(O22,1,IF(O23,2,IF(O24,3,IF(O25,4,\"-\"))))","v":2},{"$f":"IF(P22,1,IF(P23,2,IF(P24,3,IF(P25,4,\"-\"))))","v":2},"-",null,{"$f":"BF12","v":"Q1.1"},"Q1.1NEPRAVDA",{"$f":"H13","v":false},"Test awareness and understanding from time to time by asking employees if they know that there is a Health, Safety, Environment, Energy & Sustainability policy, what it means to them, and how it affects their work.\n\nThe organisation may wish to periodically test awareness of the policy with their stakeholders as part of its process to gauge its communications effectiveness.\n\nThe list of stakeholders should be reviewed and updated to reflect changing circumstances."]
[null,{"$f":"'Chapter 1'!C34","v":"Q1.5"},{"$f":"IF('Chapter 1'!K35,1,IF('Chapter 1'!K36,2,IF('Chapter 1'!K37,3,IF('Chapter 1'!K38,4,\"\"))))","v":3},"formula 4 choices",null,null,{"$f":"B11","v":"Q1.2"},{"$f":"'Chapter 1'!K13","v":false},false,false,null,false,false,false,false,null,null,null,null,null,null,null,null,null,null,null,null,null,null,null,null,{"$f":"B12","v":"Q1.3"},null,100,null,null,null,null,null,null,"Q1.5",2,"ok",0,null,null,"Q1.5",{"$f":"IF(I26,1,IF(I27,2,IF(I28,3,IF(I29,4,\"-\"))))","v":3},{"$f":"IF(J26,1,IF(J27,2,IF(J28,3,IF(J29,4,\"-\"))))","v":3},{"$f":"IF(K26,1,IF(K27,2,IF(K28,3,IF(K29,4,\"-\"))))","v":3},{"$f":"IF(L26,1,IF(L27,2,IF(L28,3,IF(L29,4,\"-\"))))","v":3},{"$f":"IF(M26,1,IF(M27,2,IF(M28,3,IF(M29,4,\"-\"))))","v":3},{"$f":"IF(N26,1,IF(N27,2,IF(N28,3,IF(N29,4,\"-\"))))","v":3},{"$f":"IF(O26,1,IF(O27,2,IF(O28,3,IF(O29,4,\"-\"))))","v":3},{"$f":"IF(P26,1,IF(P27,2,IF(P28,3,IF(P29,4,\"-\"))))","v":"-"},"-",null,{"$f":"G14","v":"Q1.2"},"Q1.2NEPRAVDA",false,"Determine external and internal issues that are relevant to the organisation’s purpose and that affect its ability to achieve the intended outcomes of its management system. Various methodologies are available to perform the identification of these issues. The PESTLE criteria, for example, gives a frame to identify issues related to political (P), economical (E), social (S), technological (T), legal (L) and environmental (E) context of the organisation. Such issues shall include environmental conditions being affected by or capable of affecting the organisation. "]
[null,{"$f":"'Chapter 1'!C40","v":"Q1.6"},{"$f":"IF('Chapter 1'!K41,1,IF('Chapter 1'!K42,2,IF('Chapter 1'!K43,3,IF('Chapter 1'!K44,4,\"\"))))","v":3},"formula 4 choices",null,null,null,{"$f":"'Chapter 1'!K14","v":false},false,false,null,false,false,false,false,null,null,null,null,null,null,null,null,null,null,null,null,null,null,null,{"$f":"'Chapter 1'!B26","v":"Struktura řízení (managmentu)"},null,{"$f":"100/7","v":14.285714285714286},null,null,null,{"$f":"((C13*AH16)+(C14*AH17)+(C15*AH18)+(C16*AH19))/100","v":3},null,null,null,"Q1.6",2,"ok",0,null,null,"Q1.6",{"$f":"IF(I30,1,IF(I31,2,IF(I32,3,IF(I33,4,\"-\"))))","v":"-"},{"$f":"IF(J30,1,IF(J31,2,IF(J32,3,IF(J33,4,\"-\"))))","v":"-"},{"$f":"IF(K30,1,IF(K31,2,IF(K32,3,IF(K33,4,\"-\"))))","v":"-"},{"$f":"IF(L30,1,IF(L31,2,IF(L32,3,IF(L33,4,\"-\"))))","v":"-"},{"$f":"IF(M30,1,IF(M31,2,IF(M32,3,IF(M33,4,\"-\"))))","v":"-"},{"$f":"IF(N30,1,IF(N31,2,IF(N32,3,IF(N33,4,\"-\"))))","v":"-"},{"$f":"IF(O30,1,IF(O31,2,IF(O32,3,IF(O33,4,\"-\"))))","v":3},{"$f":"IF(P30,1,IF(P31,2,IF(P32,3,IF(P33,4,\"-\"))))","v":"-"},"-",null,{"$f":"BF14","v":"Q1.2"},"Q1.2NEPRAVDA",false,"Think of which identified external and internal issues are risks and opportunities for the organisation."]
[null,{"$f":"'Chapter 1'!C46","v":"Q1.7"},{"$f":"IF('Chapter 1'!K47,1,IF('Chapter 1'!K48,2,IF('Chapter 1'!K49,3,IF('Chapter 1'!K50,4,\"\"))))","v":4},"formula 4 choices",null,null,null,{"$f":"'Chapter 1'!K15","v":true},true,true,null,true,true,true,true,null,null,null,{"$f":"G14","v":"Q1.2"},{"$f":"IF(I14=\"\",$H14,I14)","v":false},false,false,false,false,false,false,false,false,false,null,null,{"$f":"B13","v":"Q1.4"},null,25,null,null,null,null,null,null,"Q1.7",2,"ok",0,null,null,"Q1.7",{"$f":"IF(I34,1,IF(I35,2,IF(I36,3,IF(I37,4,\"-\"))))","v":3},{"$f":"IF(J34,1,IF(J35,2,IF(J36,3,IF(J37,4,\"-\"))))","v":3},{"$f":"IF(K34,1,IF(K35,2,IF(K36,3,IF(K37,4,\"-\"))))","v":"-"},{"$f":"IF(L34,1,IF(L35,2,IF(L36,3,IF(L37,4,\"-\"))))","v":3},{"$f":"IF(M34,1,IF(M35,2,IF(M36,3,IF(M37,4,\"-\"))))","v":3},{"$f":"IF(N34,1,IF(N35,2,IF(N36,3,IF(N37,4,\"-\"))))","v":4},{"$f":"IF(O34,1,IF(O35,2,IF(O36,3,IF(O37,4,\"-\"))))","v":3},{"$f":"IF(P34,1,IF(P35,2,IF(P36,3,IF(P37,4,\"-\"))))","v":3},"-",null,{"$f":"BF15","v":"Q1.2"},"Q1.2PRAVDA",true,"Address the external and internal issues proactively through setting up actions to cope with risks and opportunities. For each action, define who is responsible to enable follow up and ensure the actions are performed."]
[null,{"$f":"'Chapter 1'!C54","v":"Q1.8"},{"$f":"IF('Chapter 1'!K55,1,IF('Chapter 1'!K56,2,IF('Chapter 1'!K57,3,IF('Chapter 1'!K58,4,\"\"))))","v":3},"formula 4 choices",null,null,null,{"$f":"'Chapter 1'!K16","v":false},false,false,null,false,false,false,false,null,null,null,null,{"$f":"IF(I15=\"\",$H15,I15)","v":false},{"$f":"IF(J15=\"\",$H15,J15)","v":false},{"$f":"IF(K15=\"\",$H15,K15)","v":false},{"$f":"IF(L15=\"\",$H15,L15)","v":false},{"$f":"IF(M15=\"\",$H15,M15)","v":false},{"$f":"IF(N15=\"\",$H15,N15)","v":false},{"$f":"IF(O15=\"\",$H15,O15)","v":false},{"$f":"IF(P15=\"\",$H15,P15)","v":false},false,false,null,null,"Q1.5",null,25,null,null,null,null,null,null,"Q1.8",2,"ok",0,null,null,"Q1.8",{"$f":"IF(I38,1,IF(I39,2,IF(I40,3,IF(I41,4,\"-\"))))","v":3},{"$f":"IF(J38,1,IF(J39,2,IF(J40,3,IF(J41,4,\"-\"))))","v":3},{"$f":"IF(K38,1,IF(K39,2,IF(K40,3,IF(K41,4,\"-\"))))","v":"-"},{"$f":"IF(L38,1,IF(L39,2,IF(L40,3,IF(L41,4,\"-\"))))","v":3},{"$f":"IF(M38,1,IF(M39,2,IF(M40,3,IF(M41,4,\"-\"))))","v":3},{"$f":"IF(N38,1,IF(N39,2,IF(N40,3,IF(N41,4,\"-\"))))","v":3},{"$f":"IF(O38,1,IF(O39,2,IF(O40,3,IF(O41,4,\"-\"))))","v":3},{"$f":"IF(P38,1,IF(P39,2,IF(P40,3,IF(P41,4,\"-\"))))","v":3},"-",null,{"$f":"BF16","v":"Q1.2"},"Q1.2NEPRAVDA",false,"Top score, re-evaluate external and internal issues every years and follow-up regularly on the progress made on the actions."]
[null,{"$f":"'Chapter 1'!C60","v":"Q1.9"},{"$f":"IF('Chapter 1'!K61,1,IF('Chapter 1'!K62,2,IF('Chapter 1'!K63,3,IF('Chapter 1'!K64,4,\"\"))))","v":3},"formula 4 choices",null,null,{"$f":"B12","v":"Q1.3"},{"$f":"'Chapter 1'!K21","v":false},null,false,false,false,false,false,false,false,null,null,null,true,true,true,true,true,true,true,true,true,false,null,null,{"$f":"B15","v":"Q1.6"},null,25,null,null,null,null,null,null,"Q1.9",2,"ok",0,null,null,"Q1.9",{"$f":"IF(I42,1,IF(I43,2,IF(I44,3,IF(I45,4,\"-\"))))","v":3},3,"-",3,3,3,3,3,"-",null,{"$f":"G18","v":"Q1.3"},"Q1.3NEPRAVDA",false,"Let the management designate a department/employee responsible for documenting EU regulations related to safety, health and environmental protection, and the degree of their compliance with the applicable laws on Health, Safety, Environment, Energy & Sustainability matters."]
[null,{"$f":"'Chapter 1'!C66","v":"Q1.10"},{"$f":"IF('Chapter 1'!K67,1,IF('Chapter 1'!K68,2,IF('Chapter 1'!K69,3,IF('Chapter 1'!K70,4,\"\"))))","v":3},"formula 4 choices",null,null,null,{"$f":"'Chapter 1'!K22","v":true},null,true,true,true,true,true,true,true,null,null,null,false,false,false,false,false,false,false,false,false,false,null,null,{"$f":"B16","v":"Q1.7"},null,25,null,null,null,null,null,null,"Q1.10",1,"ok",0,null,null,"Q1.10",{"$f":"IF(I46,1,IF(I47,2,IF(I48,3,IF(I49,4,\"-\"))))","v":3},3,"-",3,3,3,3,3,"-",null,{"$f":"BF18","v":"Q1.3"},"Q1.3PRAVDA",true,"Get actively involved in the preparation of new legislations at national/federal level."]
[null,{"$f":"'Chapter 1'!C74","v":"Q1.11"},{"$f":"IF('Chapter 1'!K75,1,IF('Chapter 1'!K76,2,IF('Chapter 1'!K77,3,IF('Chapter 1'!K78,4,\"\"))))","v":3},"formula 4 choices",null,null,null,{"$f":"'Chapter 1'!K23","v":false},null,false,false,false,false,false,false,false,null,null,null,null,null,null,null,null,null,null,null,null,null,null,{"$f":"'Chapter 1'!B52","v":"Zabezpečení zlepšování"},null,{"$f":"100/7","v":14.285714285714286},null,null,null,{"$f":"((C17*AH21)+(C18*AH22)+(C19*AH23))/100","v":3},null,null,null,"Q1.11",1,"ok",0,null,null,"Q1.11",{"$f":"IF(I50,1,IF(I51,2,IF(I52,3,IF(I53,4,\"-\"))))","v":3},3,"-",3,3,3,3,3,"-",null,{"$f":"BF19","v":"Q1.3"},"Q1.3NEPRAVDA",false,"Get actively involved in the preparation of new legislations at European level or work together with authority representatives in the impact assessment of the on both industrial enterprises and the environment."]
[null,{"$f":"'Chapter 1'!C80","v":"Q1.12"},{"$f":"IF('Chapter 1'!K81,1,IF('Chapter 1'!K82,2,IF('Chapter 1'!K83,3,IF('Chapter 1'!K84,4,\"\"))))","v":3},"formula 4 choices",null,null,null,{"$f":"'Chapter 1'!K24","v":false},null,false,false,false,false,false,false,false,null,null,null,null,null,null,null,null,null,null,null,null,null,null,null,{"$f":"B17","v":"Q1.8"},null,{"$f":"100/3","v":33.333333333333336},null,null,null,null,null,null,"Q1.12",2,"ok",0,null,null,"Q1.12",{"$f":"IF(I54,1,IF(I55,2,IF(I56,3,IF(I57,4,\"-\"))))","v":3},3,"-",3,3,3,3,4,"-",null,{"$f":"BF20","v":"Q1.3"},"Q1.3NEPRAVDA",false,"It is recommended to annually review the system and to decide upon what is still needed, what can be left out, where are new issues arising…"]
[null,{"$f":"'Chapter 1'!C86","v":"Q1.13"},{"$f":"IF('Chapter 1'!K87,1,IF('Chapter 1'!K88,2,IF('Chapter 1'!K89,3,IF('Chapter 1'!K90,4,\"\"))))","v":3},"formula 4 choices",null,null,{"$f":"B13","v":"Q1.4"},{"$f":"'Chapter 1'!K29","v":false},false,false,false,false,false,false,false,false,null,null,null,null,null,null,null,null,null,null,null,null,null,null,null,{"$f":"B18","v":"Q1.9"},null,{"$f":"100/3","v":33.333333333333336},null,null,null,null,null,null,"Q1.13",2,"ok",0,null,null,"Q1.13",{"$f":"IF(I58,1,IF(I59,2,IF(I60,3,IF(I61,4,\"-\"))))","v":3},3,"-",3,3,3,3,3,"-",null,{"$f":"G22","v":"Q1.4"},"Q1.4NEPRAVDA",false,"As a first step, assign a central person with experience in Health, Safety, Environment, Energy & Sustainability to work on the implementation of a Health, Safety, Environment, Energy & Sustainability management system, and ask him/her to report to the highest level of management.\n\nBe aware that the most effective employee involvement programs start by involving employees during the implementation phase of the management system (Health, Safety, Environment, Energy & Sustainability)."]
[null,{"$f":"'Chapter 1'!C92","v":"Q1.14"},{"$f":"IF('Chapter 1'!K93,1,IF('Chapter 1'!K94,2,IF('Chapter 1'!K95,3,IF('Chapter 1'!K96,4,\"\"))))","v":3},"formula 4 choices",null,null,null,{"$f":"'Chapter 1'!K30","v":true},true,true,false,true,true,true,true,true,null,null,null,null,null,null,null,null,null,null,null,null,null,null,null,"Q1.10",null,{"$f":"100/3","v":33.333333333333336},null,null,null,null,null,null,"Q1.14",1,"ok",0,null,null,"Q1.14",{"$f":"IF(I62,1,IF(I63,2,IF(I64,3,IF(I65,4,\"-\"))))","v":"-"},2,"-",3,2,3,2,3,"-",null,{"$f":"BF22","v":"Q1.4"},"Q1.4PRAVDA",true,"Assign a group of persons to work on the implementation of a Health, Safety, Environment, Energy & Sustainability management system, and ask them to report to the highest level of management.\n\nUse clear, concise and specific language so that everyone will know what is expected.\n- Define responsibility at every level within the organisation.\n- Assign responsibilities only to those who are assigned to implement, direct, and control the actions within their area of responsibility.\n- Measure employee performance on assigned responsibilities.\n\nBe aware that the most effective employee involvement programs start by involving employees during the implementation phase of the management system (Health, Safety, Environment, Energy & Sustainability)."]
[null,{"$f":"'Chapter 1'!C100","v":"Q1.15"},{"$f":"IF('Chapter 1'!K101,1,IF('Chapter 1'!K102,2,IF('Chapter 1'!K103,3,IF('Chapter 1'!K104,4,\"\"))))","v":3},"formula 4 choices",null,null,null,{"$f":"'Chapter 1'!K31","v":false},false,false,false,false,false,false,false,false,null,null,{"$f":"G18","v":"Q1.3"},{"$f":"IF(I18=\"\",$H18,I18)","v":false},{"$f":"IF(J18=\"\",$H18,J18)","v":false},{"$f":"IF(K18=\"\",$H18,K18)","v":false},{"$f":"IF(L18=\"\",$H18,L18)","v":false},false,false,false,{"$f":"IF(P18=\"\",$H18,P18)","v":false},false,false,null,{"$f":"'Chapter 1'!B72","v":"Zdroje, školení a zapojení zaměstnanců"},null,{"$f":"100/7","v":14.285714285714286},null,null,null,{"$f":"((C20*AH25)+(C21*AH26)+(C22*AH27)+(C23*AH28))/100","v":3},null,null,null,"Q1.15",1,"ok",0,null,null,"Q1.15",{"$f":"IF(I66,1,IF(I67,2,IF(I68,3,IF(I69,4,\"-\"))))","v":3},3,"-",3,3,3,3,3,"-",null,{"$f":"BF23","v":"Q1.4"},"Q1.4NEPRAVDA",false,"Conduct an inventory of your Responsible Care/Health, Safety, Environment, Energy & Sustainability programs to determine existing employee involvement in their development, communication and implementation. Build on existing success. Focus on strengthening areas where employees may not have as much participation.\n\nInvolve employees in Health, Safety, Environment, Energy & Sustainability activities such as awareness programs toward the community, etc.\n\nBe aware that the most effective employee involvement programs start by involving employees during the implementation phase of the management system (Health, Safety, Environment, Energy & Sustainability)."]
[null,{"$f":"'Chapter 1'!C108","v":"Q1.16"},{"$f":"IF('Chapter 1'!K109,1,IF('Chapter 1'!K110,2,IF('Chapter 1'!K111,3,IF('Chapter 1'!K112,4,\"\"))))","v":3},"formula 4 choices",null,null,null,{"$f":"'Chapter 1'!K32","v":false},false,false,true,false,false,false,false,false,null,null,null,{"$f":"IF(I19=\"\",$H19,I19)","v":true},true,true,true,true,true,true,true,true,false,null,null,{"$f":"B20","v":"Q1.11"},null,25,null,null,null,null,null,null,"Q1.16",2,"ok",0,null,null,"Q1.16",{"$f":"IF(I70,1,IF(I71,2,IF(I72,3,IF(I73,4,\"-\"))))","v":3},3,"-",3,3,3,3,3,"-",null,{"$f":"BF24","v":"Q1.4"},"Q1.4NEPRAVDA",false,"It is recommended to annually review the system and to decide upon what is still needed, what can be left out, where are new issues arising…"]
[null,null,null,null,null,null,{"$f":"B14","v":"Q1.5"},{"$f":"'Chapter 1'!K35","v":false},false,false,false,false,false,false,false,null,null,null,null,{"$f":"IF(I20=\"\",$H20,I20)","v":false},false,false,false,false,false,false,false,false,false,null,null,{"$f":"B21","v":"Q1.12"},null,25,null,null,null,null,null,null,null,null,null,null,null,null,null,null,null,null,null,null,null,null,null,null,null,{"$f":"G26","v":"Q1.5"},"Q1.5NEPRAVDA",false,"Get the management board involved:\n- Integrate Health, Safety, Environment, Energy & Sustainability into the strategic thinking of the management;\n- Train the managers so that it becomes a reflex to take the Health, Safety, Environment, Energy & Sustainability matters automatically into account;\n- Translate the Health, Safety, Environment, Energy & Sustainability performance into other areas, e.g. corporate profits, financial, customer benefits, etc.\n- Keep communicating.\n\n\nLong-term commitment, as evidenced by consistent application of organisation Health, Safety, Environment, Energy & Sustainability, is essential to the success of programs. Inconsistent or lack of management leadership will undermine the credibility of the employee on Health, Safety, Environment, Energy & Sustainability policies. Employees will observe whether the management is truly committed to the health and safety policy. If the management support is perceived not sincere (for example, ignoring the established safety requirements), the credibility of the management will erode. "]
[null,null,null,null,null,null,null,{"$f":"'Chapter 1'!K36","v":false},false,false,false,false,false,false,false,null,null,null,null,{"$f":"IF(I21=\"\",$H21,I21)","v":false},false,false,false,false,false,false,false,false,false,null,null,"Q1.13",null,25,null,null,null,null,null,null,null,null,null,{"$f":"IF(SUM(AR10:AR25)>0,\"Key RC elements are still to be implemented, see tips\",\"\")","v":""},null,null,null,null,null,null,null,null,null,null,null,null,null,{"$f":"BF26","v":"Q1.5"},"Q1.5NEPRAVDA",false,"Communicate to the management board the potential positive impacts of the Health, Safety, Environment, Energy & Sustainability management system on the organisation's business (i.e. brand image, social acceptability of activities, differentiation from competition, operational efficiency…)."]
[null,null,null,null,null,null,null,{"$f":"'Chapter 1'!K37","v":true},true,true,true,true,true,true,true,null,null,null,null,null,null,null,null,null,null,null,null,null,null,null,null,"Q1.14",null,25,null,null,null,null,null,null,null,null,null,null,null,null,null,null,null,null,null,null,null,null,null,null,null,{"$f":"BF27","v":"Q1.5"},"Q1.5PRAVDA",true,"The management board becomes an ambassador for the management system (Health, Safety, Environment, Energy & Sustainability) and leads by example:\nGet the management board involved:\n- Include Health, Safety, Environment, Energy & Sustainability in new year's speeches, staff parties, internal competitions, etc;\n- Ensure visibility of environmental policies, actions and outcomes;\n- Bring the message to customers;\n- Keep communicating."]
[null,null,null,null,null,null,null,{"$f":"'Chapter 1'!K38","v":false},false,false,false,false,false,false,false,null,null,null,null,null,null,null,null,null,null,null,null,null,null,null,{"$f":"'Chapter 1'!B98","v":"Správa dokumentů"},null,{"$f":"100/7","v":14.285714285714286},null,null,null,{"$f":"C24","v":3},null,null,null,null,null,null,null,null,null,null,null,null,null,null,null,null,null,null,null,null,{"$f":"BF28","v":"Q1.5"},"Q1.5NEPRAVDA",false,"It is recommended to annually review the system and to decide upon what is still needed, what can be left out, where are new issues arising…"]
[null,null,null,null,null,null,{"$f":"B15","v":"Q1.6"},{"$f":"'Chapter 1'!K41","v":false},null,null,null,null,null,null,false,null,null,null,null,null,null,null,null,null,null,null,null,null,null,null,null,{"$f":"B24","v":"Q1.15"},null,100,null,null,null,null,null,null,null,null,null,null,null,null,null,null,null,null,null,null,null,null,null,null,null,{"$f":"G30","v":"Q1.6"},"Q1.6NEPRAVDA",false,"Objectives are integrated in the definition of the job descriptions of those with Health, Safety, Environment, Energy & Sustainability responsibilities that are linked to the management system (Health, Safety, Environment, Energy & Sustainability)."]
[null,null,null,null,null,null,null,{"$f":"'Chapter 1'!K42","v":false},null,null,null,null,null,null,false,null,null,null,null,null,null,null,null,null,null,null,null,null,null,null,{"$f":"'Chapter 1'!B106","v":"Řízení změn"},null,{"$f":"100/7","v":14.285714285714286},null,null,null,{"$f":"C25","v":3},null,null,null,null,null,null,null,null,null,null,null,null,null,null,null,null,null,null,null,null,{"$f":"BF30","v":"Q1.6"},"Q1.6NEPRAVDA",false,"Objectives are integrated in the definition of the job descriptions of all managers and Health, Safety, Environment, Energy & Sustainability that are linked to the management system (Health, Safety, Environment, Energy & Sustainability)."]
[null,null,null,null,null,null,null,{"$f":"'Chapter 1'!K43","v":true},null,null,null,null,null,null,true,null,null,null,{"$f":"G22","v":"Q1.4"},{"$f":"IF(I22=\"\",$H22,I22)","v":false},{"$f":"IF(J22=\"\",$H22,J22)","v":false},{"$f":"IF(K22=\"\",$H22,K22)","v":false},{"$f":"IF(L22=\"\",$H22,L22)","v":false},{"$f":"IF(M22=\"\",$H22,M22)","v":false},{"$f":"IF(N22=\"\",$H22,N22)","v":false},{"$f":"IF(O22=\"\",$H22,O22)","v":false},{"$f":"IF(P22=\"\",$H22,P22)","v":false},false,false,null,null,{"$f":"B25","v":"Q1.16"},null,100,null,null,null,null,null,null,null,null,null,null,null,null,null,null,null,null,null,null,null,null,null,null,null,{"$f":"BF31","v":"Q1.6"},"Q1.6PRAVDA",true,"Objectives are integrated in the definition of the job descriptions of all employees that are linked to the management system (Health, Safety, Environment, Energy & Sustainability) or implement other incentives to motivate Care performance of employees at all levels of the organisation. "]
[null,null,null,null,null,null,null,{"$f":"'Chapter 1'!K44","v":false},null,null,null,null,null,null,false,null,null,null,null,{"$f":"IF(I23=\"\",$H23,I23)","v":true},true,false,true,{"$f":"IF(M23=\"\",$H23,M23)","v":true},{"$f":"IF(N23=\"\",$H23,N23)","v":true},true,true,true,false,null,null,null,null,null,null,null,null,null,null,null,null,null,null,null,null,null,null,null,null,null,null,null,null,null,null,null,null,{"$f":"BF32","v":"Q1.6"},"Q1.6NEPRAVDA",false,"It is recommended to annually review the system and to decide upon what is still needed, what can be left out, where are new issues arising…"]
[null,null,null,null,null,null,{"$f":"B16","v":"Q1.7"},{"$f":"'Chapter 1'!K47","v":false},false,false,null,false,false,false,false,false,null,null,null,{"$f":"IF(I24=\"\",$H24,I24)","v":false},false,false,false,false,false,false,false,false,false,null,null,null,null,null,null,null,null,null,null,null,null,null,null,null,null,null,null,null,null,null,null,null,null,null,null,null,null,{"$f":"G34","v":"Q1.7"},"Q1.7NEPRAVDA",false,"Define the governance structure for the management of Health, Safety, Environment, Energy & Sustainability topics. Assign responsible persons with clear roles."]
[null,null,null,null,null,null,null,{"$f":"'Chapter 1'!K48","v":false},false,false,null,false,false,false,false,false,null,null,null,{"$f":"IF(I25=\"\",$H25,I25)","v":false},false,true,false,{"$f":"IF(M25=\"\",$H25,M25)","v":false},false,false,{"$f":"IF(P25=\"\",$H25,P25)","v":false},{"$f":"IF(Q25=\"\",$H25,Q25)","v":false},false,null,null,null,null,null,null,null,null,null,null,null,null,null,null,null,null,null,null,null,null,null,null,null,null,null,null,null,null,{"$f":"BF34","v":"Q1.7"},"Q1.7NEPRAVDA",false,"The responsible assigned persons should define process performance indicators for each core process to be able to assess and review the improvement of their process. For complex organisations it is advised to define a responsible person for every sub-organisation (unit or department), at every level where performance could be assessed.\n"]
[null,null,null,null,null,null,null,{"$f":"'Chapter 1'!K49","v":false},true,true,null,true,true,false,true,true,null,null,null,null,null,null,null,null,null,null,null,null,null,null,null,null,null,null,null,null,null,null,null,null,null,null,null,null,null,null,null,null,null,null,null,null,null,null,null,null,null,{"$f":"BF35","v":"Q1.7"},"Q1.7NEPRAVDA",false,"It is advised that the responsible persons are part of a team and with a Health, Safety, Environment, Energy & Sustainability responsible person reporting directly to the highest level of management. Ideal would be if the Health, Safety, Environment, Energy & Sustainability responsible is someone that has involvement at the highest level of the organisation."]
[null,null,null,null,null,null,null,{"$f":"'Chapter 1'!K50","v":true},false,false,null,false,false,true,false,false,null,null,null,null,null,null,null,null,null,null,null,null,null,null,null,null,null,null,null,null,null,null,null,null,null,null,null,null,null,null,null,null,null,null,null,null,null,null,null,null,null,{"$f":"BF36","v":"Q1.7"},"Q1.7PRAVDA",true,"It is recommended to annually review the system and to decide upon what is still needed, what can be left out, where are new issues arising…"]
[null,null,null,null,null,null,{"$f":"B17","v":"Q1.8"},{"$f":"'Chapter 1'!K55","v":false},false,false,null,false,false,false,false,false,null,null,{"$f":"G26","v":"Q1.5"},{"$f":"IF(I26=\"\",$H26,I26)","v":false},{"$f":"IF(J26=\"\",$H26,J26)","v":false},{"$f":"IF(K26=\"\",$H26,K26)","v":false},{"$f":"IF(L26=\"\",$H26,L26)","v":false},false,{"$f":"IF(N26=\"\",$H26,N26)","v":false},{"$f":"IF(O26=\"\",$H26,O26)","v":false},{"$f":"IF(P26=\"\",$H26,P26)","v":false},false,false,null,null,null,null,null,null,null,null,null,null,null,null,null,null,null,null,null,null,null,null,null,null,null,null,null,null,null,null,{"$f":"G38","v":"Q1.8"},"Q1.8NEPRAVDA",false,"Set up an evaluation moment to review Responsible Care performance and identify possible needs for changes to the policy, goals, objectives, targets, other elements of the management system, changing circumstances and the commitment to continual improvement.\n\nInclude the following in this review: audit results, possible nonconformities and to set up an action plan to improve your performance. "]
[null,null,null,null,null,null,null,{"$f":"'Chapter 1'!K56","v":false},false,false,null,false,false,false,false,false,null,null,null,{"$f":"IF(I27=\"\",$H27,I27)","v":false},false,false,false,false,false,false,false,false,false,null,null,null,null,null,null,null,null,null,null,null,null,null,null,null,null,null,null,null,null,null,null,null,null,null,null,null,null,{"$f":"BF38","v":"Q1.8"},"Q1.8NEPRAVDA",false,"Ensure the relevant performance indicators are set up and action plans are reviewed in line with the main risks and opportunities for the organisation and in line with the strategy to foster continuous improvement. Define required resources to enable realization of the action plan."]
[null,null,null,null,null,null,null,{"$f":"'Chapter 1'!K57","v":true},true,true,null,true,true,true,true,true,null,null,null,{"$f":"IF(I28=\"\",$H28,I28)","v":true},true,true,true,true,true,true,true,true,false,null,null,null,null,null,null,null,null,null,null,null,null,null,null,null,null,null,null,null,null,null,null,null,null,null,null,null,null,{"$f":"BF39","v":"Q1.8"},"Q1.8PRAVDA",true,"Make sure to follow up on the actions regularly. Discuss the performance review and the interaction with stakeholders regularly with top management. Review the Key Performance Indicators at least on a quarterly basis in order to see emerging trends as early as possible. "]
[null,null,null,null,null,null,null,{"$f":"'Chapter 1'!K58","v":false},false,false,null,false,false,false,false,false,null,null,null,{"$f":"IF(I29=\"\",$H29,I29)","v":false},false,false,false,false,false,false,{"$f":"IF(P29=\"\",$H29,P29)","v":false},{"$f":"IF(Q29=\"\",$H29,Q29)","v":false},false,null,null,null,null,null,null,null,null,null,null,null,null,null,null,null,null,null,null,null,null,null,null,null,null,null,null,null,null,{"$f":"BF40","v":"Q1.8"},"Q1.8NEPRAVDA",false,"It is recommended to annually review the system and to decide upon what is still needed, what can be left out, where are new issues arising…"]
[null,null,null,null,null,null,{"$f":"B18","v":"Q1.9"},{"$f":"'Chapter 1'!K61","v":false},false,false,null,false,false,false,false,false,null,null,null,null,null,null,null,null,null,null,null,null,null,null,null,null,null,null,null,null,null,null,null,null,null,null,null,null,null,null,null,null,null,null,null,null,null,null,null,null,null,{"$f":"G42","v":"Q1.9"},"Q1.9NEPRAVDA",false,"Consider using 'guest auditors' from other facilities or functional areas as a first step."]
[null,null,null,null,null,null,null,{"$f":"'Chapter 1'!K62","v":false},false,false,null,false,false,false,false,false,null,null,null,null,null,null,null,null,null,null,null,null,null,null,null,null,null,null,null,null,null,null,null,null,null,null,null,null,null,null,null,null,null,null,null,null,null,null,null,null,null,{"$f":"BF42","v":"Q1.9"},"Q1.9NEPRAVDA",false,"Provide possibilities for interaction between the management and employees. Ensure the results of the audits are discussed at the management reviews."]
[null,null,null,null,null,null,null,{"$f":"'Chapter 1'!K63","v":true},true,true,null,true,true,true,true,true,null,null,{"$f":"G30","v":"Q1.6"},{"$f":"IF(I30=\"\",$H30,I30)","v":false},{"$f":"IF(J30=\"\",$H30,J30)","v":false},{"$f":"IF(K30=\"\",$H30,K30)","v":false},{"$f":"IF(L30=\"\",$H30,L30)","v":false},false,{"$f":"IF(N30=\"\",$H30,N30)","v":false},{"$f":"IF(O30=\"\",$H30,O30)","v":false},{"$f":"IF(P30=\"\",$H30,P30)","v":false},false,false,null,null,null,null,null,null,null,null,null,null,null,null,null,null,null,null,null,null,null,null,null,null,null,null,null,null,null,null,{"$f":"BF43","v":"Q1.9"},"Q1.9PRAVDA",true,"Ensure when non-conformities occur corrective actions are taken and reported to the senior management."]
[null,null,null,null,null,null,null,{"$f":"'Chapter 1'!K64","v":false},false,false,null,false,false,false,false,false,null,null,null,{"$f":"IF(I31=\"\",$H31,I31)","v":false},false,false,false,false,false,false,false,false,false,null,null,null,null,null,null,null,null,null,null,null,null,null,null,null,null,null,null,null,null,null,null,null,null,null,null,null,null,"Q1.9","Q1.9NEPRAVDA",false,"Close the loop. Ensure there is a process to evaluate the \"management system evaluation process\" for effectiveness."]
[null,null,null,null,null,null,{"$f":"B19","v":"Q1.10"},{"$f":"'Chapter 1'!K67","v":false},false,false,null,false,false,false,false,false,null,null,null,{"$f":"IF(I32=\"\",$H32,I32)","v":true},true,true,true,true,true,true,true,true,false,null,null,null,null,null,null,null,null,null,null,null,null,null,null,null,null,null,null,null,null,null,null,null,null,null,null,null,null,{"$f":"G46","v":"Q1.10"},"Q1.10NEPRAVDA",false,"Report incidents and set up criteria to evaluate the severity."]
[null,null,null,null,null,null,null,{"$f":"'Chapter 1'!K68","v":false},false,false,null,false,false,false,false,false,null,null,null,{"$f":"IF(I33=\"\",$H33,I33)","v":false},false,false,{"$f":"IF(L33=\"\",$H33,L33)","v":false},{"$f":"IF(M33=\"\",$H33,M33)","v":false},false,false,false,false,false,null,null,null,null,null,null,null,null,null,null,null,null,null,null,null,null,null,null,null,null,null,null,null,null,null,null,null,null,{"$f":"BF46","v":"Q1.10"},"Q1.10NEPRAVDA",false,"Embed a systematic reporting on all incidents in the organisation (evaluate their severity, analyse the root cause of the problem, suggest remedial actions and ensure they are implemented and shared appropriately). \nNext to the needed understanding of the processes where the incident happened, it is advised to ensure independency from the investigator towards the investigated department or responsible."]
[null,null,null,null,null,null,null,{"$f":"'Chapter 1'!K69","v":true},true,true,null,true,true,true,true,true,null,null,null,null,null,null,null,null,null,null,null,null,null,null,null,null,null,null,null,null,null,null,null,null,null,null,null,null,null,null,null,null,null,null,null,null,null,null,null,null,null,{"$f":"BF47","v":"Q1.10"},"Q1.10PRAVDA",true,"Ensure lessons learned from investigations are shared outside the organisation for partner organisations or peers as appropriate. "]
[null,null,null,null,null,null,null,{"$f":"'Chapter 1'!K70","v":false},false,false,null,false,false,false,false,false,null,null,null,null,null,null,null,null,null,null,null,null,null,null,null,null,null,null,null,null,null,null,null,null,null,null,null,null,null,null,null,null,null,null,null,null,null,null,null,null,null,{"$f":"BF48","v":"Q1.10"},"Q1.10NEPRAVDA",false,"It is recommended to annually review the system and to decide upon what is still needed, what can be left out, where are new issues arising…"]
[null,null,null,null,null,null,{"$f":"B20","v":"Q1.11"},{"$f":"'Chapter 1'!K75","v":false},false,false,null,false,false,false,false,false,null,null,{"$f":"G34","v":"Q1.7"},{"$f":"IF(I34=\"\",$H34,I34)","v":false},{"$f":"IF(J34=\"\",$H34,J34)","v":false},{"$f":"IF(K34=\"\",$H34,K34)","v":false},{"$f":"IF(L34=\"\",$H34,L34)","v":false},false,{"$f":"IF(N34=\"\",$H34,N34)","v":false},{"$f":"IF(O34=\"\",$H34,O34)","v":false},{"$f":"IF(P34=\"\",$H34,P34)","v":false},false,false,null,null,null,null,null,null,null,null,null,null,null,null,null,null,null,null,null,null,null,null,null,null,null,null,null,null,null,null,{"$f":"G50","v":"Q1.11"},"Q1.11NEPRAVDA",false,"Consider Health, Safety, Environment, Energy & Sustainability requirements or improvements to make during capital and expense budget planning."]
[null,null,null,null,null,null,null,{"$f":"'Chapter 1'!K76","v":false},false,false,null,false,false,false,false,false,null,null,null,{"$f":"IF(I35=\"\",$H35,I35)","v":false},false,false,false,false,false,false,false,false,false,null,null,null,null,null,null,null,null,null,null,null,null,null,null,null,null,null,null,null,null,null,null,null,null,null,null,null,null,{"$f":"BF50","v":"Q1.11"},"Q1.11NEPRAVDA",false,"Retain qualified Health, Safety, Environment, Energy & Sustainability personnel (employees and/or consultants) able to advise the management on appropriate actions for handling specific Health, Safety, Environment, Energy & Sustainability issues.\n\nConsider Health, Safety, Environment, Energy & Sustainability requirements during capital and expense budget planning cycles.\n\nProvide appropriate training and resources to employees throughout all levels of the organisation, e.g., encourage employees to attend Health, Safety, Environment, Energy & Sustainability seminars, meetings and conferences."]
[null,null,null,null,null,null,null,{"$f":"'Chapter 1'!K77","v":true},true,true,null,true,true,true,true,true,null,null,null,{"$f":"IF(I36=\"\",$H36,I36)","v":true},true,false,true,true,false,true,true,false,false,null,null,null,null,null,null,null,null,null,null,null,null,null,null,null,null,null,null,null,null,null,null,null,null,null,null,null,null,{"$f":"BF51","v":"Q1.11"},"Q1.11PRAVDA",true,"Resources to evaluate the improvements should also be planned, in addition to those on implementing actions."]
[null,null,null,null,null,null,null,{"$f":"'Chapter 1'!K78","v":false},false,false,null,false,false,false,false,false,null,null,null,{"$f":"IF(I37=\"\",$H37,I37)","v":false},false,true,false,false,true,false,false,true,false,null,null,null,null,null,null,null,null,null,null,null,null,null,null,null,null,null,null,null,null,null,null,null,null,null,null,null,null,{"$f":"BF52","v":"Q1.11"},"Q1.11NEPRAVDA",false,"It is recommended to annually review the system and to decide upon what is still needed, what can be left out, where are new issues arising…"]
[null,null,null,null,null,null,{"$f":"B21","v":"Q1.12"},{"$f":"'Chapter 1'!K81","v":false},false,false,null,false,false,false,false,false,null,null,null,null,null,null,null,null,null,null,null,null,null,null,null,null,null,null,null,null,null,null,null,null,null,null,null,null,null,null,null,null,null,null,null,null,null,null,null,null,null,{"$f":"G54","v":"Q1.12"},"Q1.12NEPRAVDA",false,"Prepare some communication materials on relevant Health, Safety, Environment, Energy & Sustainability. "]
[null,null,null,null,null,null,null,{"$f":"'Chapter 1'!K82","v":false},false,false,null,false,false,false,false,false,null,null,null,null,null,null,null,null,null,null,null,null,null,null,null,null,null,null,null,null,null,null,null,null,null,null,null,null,null,null,null,null,null,null,null,null,null,null,null,null,null,{"$f":"BF54","v":"Q1.12"},"Q1.12NEPRAVDA",false,"Design and develop Health, Safety, Environment, Energy & Sustainability training materials and techniques for all levels of the organisation. These can potentially include management briefings; ongoing supervisory training programs; information on policies, procedures, and programs in regularly scheduled safety meetings."]
[null,null,null,null,null,null,null,{"$f":"'Chapter 1'!K83","v":true},true,true,null,true,true,true,true,false,null,null,null,null,null,null,null,null,null,null,null,null,null,null,null,null,null,null,null,null,null,null,null,null,null,null,null,null,null,null,null,null,null,null,null,null,null,null,null,null,null,{"$f":"BF55","v":"Q1.12"},"Q1.12PRAVDA",true,"Evaluate the effectiveness of the internal communication plan through a possible regular survey: are employees aware? Which information do they still request? How many employees have you reached with the planned communication? Was the goal achieved? Did the message come across as expected? "]
[null,null,null,null,null,null,null,{"$f":"'Chapter 1'!K84","v":false},false,false,null,false,false,false,false,true,null,null,null,null,null,null,null,null,null,null,null,null,null,null,null,null,null,null,null,null,null,null,null,null,null,null,null,null,null,null,null,null,null,null,null,null,null,null,null,null,null,{"$f":"BF56","v":"Q1.12"},"Q1.12NEPRAVDA",false,"It is recommended to annually review the system and to decide upon what is still needed, what can be left out, where are new issues arising…"]
[null,null,null,null,null,null,{"$f":"B22","v":"Q1.13"},{"$f":"'Chapter 1'!K87","v":false},false,false,null,false,false,false,false,false,null,null,{"$f":"G38","v":"Q1.8"},{"$f":"IF(I38=\"\",$H38,I38)","v":false},{"$f":"IF(J38=\"\",$H38,J38)","v":false},{"$f":"IF(K38=\"\",$H38,K38)","v":false},{"$f":"IF(L38=\"\",$H38,L38)","v":false},false,{"$f":"IF(N38=\"\",$H38,N38)","v":false},{"$f":"IF(O38=\"\",$H38,O38)","v":false},{"$f":"IF(P38=\"\",$H38,P38)","v":false},false,false,null,null,null,null,null,null,null,null,null,null,null,null,null,null,null,null,null,null,null,null,null,null,null,null,null,null,null,null,{"$f":"G58","v":"Q1.13"},"Q1.13NEPRAVDA",false,"Training is a tool to provide appropriate knowledge and information to employees and commercial partners.\n\nTraining needs should be documented for each job function throughout the organisation. Typically a training matrix or database is used to identify training needs for each employee based on job category and responsibilities.\n\nTraining requirements may be impacted by the overall management system's corrective and preventive action processes. Findings from an incident or non-conformance in the system may lead to changes in specific training requirements.\n\n"]
[null,null,null,null,null,null,null,{"$f":"'Chapter 1'!K88","v":false},false,false,null,false,false,false,false,false,null,null,null,{"$f":"IF(I39=\"\",$H39,I39)","v":false},false,false,false,false,false,false,false,false,false,null,null,null,null,null,null,null,null,null,null,null,null,null,null,null,null,null,null,null,null,null,null,null,null,null,null,null,null,{"$f":"BF58","v":"Q1.13"},"Q1.13NEPRAVDA",false,"It is advised to design training programs to achieve the goals, objectives and targets established -in addition to compliance with the legal and other Health, Safety, Environment, Energy & Sustainability-related requirements.\n\nTraining can occur on many levels including classroom-type, operations and 'on-the-job'-learning. \n\nTraining programs can be established for new employees (and contractors) as well as ongoing training efforts for all employees (and contractors). Develop employee orientation programs that stress Responsible Care-related issues.\n\nIt is important that an organisation maintains its training records for each employee. This can be done through a paper tracking system or a database."]
[null,null,null,null,null,null,null,{"$f":"'Chapter 1'!K89","v":true},true,true,null,true,true,true,true,true,null,null,null,{"$f":"IF(I40=\"\",$H40,I40)","v":true},true,true,true,true,true,true,true,true,false,null,null,null,null,null,null,null,null,null,null,null,null,null,null,null,null,null,null,null,null,null,null,null,null,null,null,null,null,{"$f":"BF59","v":"Q1.13"},"Q1.13PRAVDA",true,"In order to be effective, the management system should include determination of competency for those employees that work in identified areas of significant risk through the organisation's risk assessment system.\n"]
[null,null,null,null,null,null,null,{"$f":"'Chapter 1'!K90","v":false},false,false,null,false,false,false,false,false,null,null,null,{"$f":"IF(I41=\"\",$H41,I41)","v":false},false,false,false,false,false,false,false,false,false,null,null,null,null,null,null,null,null,null,null,null,null,null,null,null,null,null,null,null,null,null,null,null,null,null,null,null,null,{"$f":"BF60","v":"Q1.13"},"Q1.13NEPRAVDA",false,"Areas for additional focus may include personnel engaged in commercial partner interaction and/qualification and review; those engaging in dialogue with stakeholders; and internal auditors."]
[null,null,null,null,null,null,{"$f":"B23","v":"Q1.14"},{"$f":"'Chapter 1'!K93","v":false},null,false,null,false,false,false,false,false,null,null,null,null,null,null,null,null,null,null,null,null,null,null,null,null,null,null,null,null,null,null,null,null,null,null,null,null,null,null,null,null,null,null,null,null,null,null,null,null,null,{"$f":"G62","v":"Q1.14"},"Q1.14NEPRAVDA",false,"Inform regularly employees and workers on relevant Health, Safety, Environment, Energy & Sustainability topics, objectives and impacts."]
[null,null,null,null,null,null,null,{"$f":"'Chapter 1'!K94","v":false},null,true,null,false,true,false,true,false,null,null,null,null,null,null,null,null,null,null,null,null,null,null,null,null,null,null,null,null,null,null,null,null,null,null,null,null,null,null,null,null,null,null,null,null,null,null,null,null,null,{"$f":"BF62","v":"Q1.14"},"Q1.14NEPRAVDA",false,"Arrange moment of dialogue within the organisation, enabling all employees to understand the interests and concrete implications of a management system (Health, Safety, Environment, Energy & Sustainability), encourage personal initiatives and change objectives based on practical feedback from the field.\n\n- Encourage upward communication by getting employees involved in the development and implementation of procedures and programs.\n- Establish programs to make employees more aware of their role in identifying and communicating specific hazards and/or corrective actions.\n- Recognize employee participation or contributions to Health, Safety, Environment, Energy & Sustainability programs in mentionning them in publications or through award programs.\n- Provide suggestion boxes for input of Health, Safety, Environment, Energy & Sustainability ideas or concerns. Communicate follow-up actions and provide feedback on suggestions."]
[null,null,null,null,null,null,null,{"$f":"'Chapter 1'!K95","v":true},null,false,null,true,false,true,false,true,null,null,{"$f":"G42","v":"Q1.9"},{"$f":"IF(I42=\"\",$H42,I42)","v":false},false,false,false,false,false,false,false,false,false,null,null,null,null,null,null,null,null,null,null,null,null,null,null,null,null,null,null,null,null,null,null,null,null,null,null,null,null,{"$f":"BF63","v":"Q1.14"},"Q1.14PRAVDA",true,"Evaluate the effectiveness of the employee involvement.\nMake employee's organisation a key partner for all decisions. Establish a system rewarding good suggestions."]
[null,null,null,null,null,null,null,{"$f":"'Chapter 1'!K96","v":false},null,false,null,false,false,false,false,false,null,null,null,{"$f":"IF(I43=\"\",$H43,I43)","v":false},{"$f":"IF(J43=\"\",$H43,J43)","v":false},{"$f":"IF(K43=\"\",$H43,K43)","v":false},{"$f":"IF(L43=\"\",$H43,L43)","v":false},{"$f":"IF(M43=\"\",$H43,M43)","v":false},{"$f":"IF(N43=\"\",$H43,N43)","v":false},{"$f":"IF(O43=\"\",$H43,O43)","v":false},{"$f":"IF(P43=\"\",$H43,P43)","v":false},false,false,null,null,null,null,null,null,null,null,null,null,null,null,null,null,null,null,null,null,null,null,null,null,null,null,null,null,null,null,{"$f":"BF64","v":"Q1.14"},"Q1.14NEPRAVDA",false,"It is recommended to annually review the system and to decide upon what is still needed, what can be left out, where are new issues arising…"]
[null,null,null,null,null,null,{"$f":"B24","v":"Q1.15"},{"$f":"'Chapter 1'!K101","v":false},false,false,null,false,false,false,false,false,null,null,null,true,{"$f":"IF(J44=\"\",$H44,J44)","v":true},true,true,true,{"$f":"IF(N44=\"\",$H44,N44)","v":true},{"$f":"IF(O44=\"\",$H44,O44)","v":true},true,true,false,null,null,null,null,null,null,null,null,null,null,null,null,null,null,null,null,null,null,null,null,null,null,null,null,null,null,null,null,{"$f":"G66","v":"Q1.15"},"Q1.15NEPRAVDA",false,"Create a comprehensive set of internal regulations for departments and staff regarding Health, Safety, Environment, Energy & Sustainability."]
[null,null,null,null,null,null,null,{"$f":"'Chapter 1'!K102","v":false},false,false,null,false,false,false,false,false,null,null,null,false,false,false,false,false,{"$f":"IF(N45=\"\",$H45,N45)","v":false},{"$f":"IF(O45=\"\",$H45,O45)","v":false},false,false,false,null,null,null,null,null,null,null,null,null,null,null,null,null,null,null,null,null,null,null,null,null,null,null,null,null,null,null,null,{"$f":"BF66","v":"Q1.15"},"Q1.15NEPRAVDA",false,"It is advised to manage the documents in a systematic way, keeping them up-to-date and removing invalid documentation.\nIt is important to ensure access to workers on documentation as applicable to their position."]
[null,null,null,null,null,null,null,{"$f":"'Chapter 1'!K103","v":true},true,true,null,true,true,true,true,true,null,null,null,null,null,null,null,null,null,null,null,null,null,null,null,null,null,null,null,null,null,null,null,null,null,null,null,null,null,null,null,null,null,null,null,null,null,null,null,null,null,{"$f":"BF67","v":"Q1.15"},"Q1.15PRAVDA",true,"It is advised to make Health, Safety, Environment, Energy & Sustainability documentation is accessible to all employees."]
[null,null,null,null,null,null,null,{"$f":"'Chapter 1'!K104","v":false},false,false,null,false,false,false,false,false,null,null,null,null,null,null,null,null,null,null,null,null,null,null,null,null,null,null,null,null,null,null,null,null,null,null,null,null,null,null,null,null,null,null,null,null,null,null,null,null,null,{"$f":"BF68","v":"Q1.15"},"Q1.15NEPRAVDA",false,"It is recommended to annually review the system and to decide upon what is still needed, what can be left out, where are new issues arising…"]
[null,null,null,null,null,null,{"$f":"B25","v":"Q1.16"},{"$f":"'Chapter 1'!K109","v":false},false,false,null,false,false,false,false,false,null,null,{"$f":"G46","v":"Q1.10"},{"$f":"IF(I46=\"\",$H46,I46)","v":false},false,false,false,false,false,false,false,false,false,null,null,null,null,null,null,null,null,null,null,null,null,null,null,null,null,null,null,null,null,null,null,null,null,null,null,null,null,{"$f":"G70","v":"Q1.16"},"Q1.16NEPRAVDA",false,"Define which kind of changes require coverage by the Management of Change procedure and clarify the approach to implement a change in the organisation:\nHow to inform the rest of the organisation? What are the conditions for an approval of a change? Who is authorized to approve? Who is empowered to validate the proper implementation of a change?"]
[null,null,null,null,null,null,null,{"$f":"'Chapter 1'!K110","v":false},false,false,null,false,false,false,false,false,null,null,null,{"$f":"IF(I47=\"\",$H47,I47)","v":false},{"$f":"IF(J47=\"\",$H47,J47)","v":false},{"$f":"IF(K47=\"\",$H47,K47)","v":false},{"$f":"IF(L47=\"\",$H47,L47)","v":false},{"$f":"IF(M47=\"\",$H47,M47)","v":false},{"$f":"IF(N47=\"\",$H47,N47)","v":false},{"$f":"IF(O47=\"\",$H47,O47)","v":false},{"$f":"IF(P47=\"\",$H47,P47)","v":false},{"$f":"IF(Q47=\"\",$H47,Q47)","v":false},false,null,null,null,null,null,null,null,null,null,null,null,null,null,null,null,null,null,null,null,null,null,null,null,null,null,null,null,null,{"$f":"BF70","v":"Q1.16"},"Q1.16NEPRAVDA",false,"Set up a Management of Change Procedure to ensure risk assessments revision (Health & Safety, environmental and process safety) of the operation manuals, permits and other documentation affected by the change, as appropriate."]
[null,null,null,null,null,null,null,{"$f":"'Chapter 1'!K111","v":true},true,true,null,true,true,true,true,true,null,null,null,true,true,true,true,true,true,{"$f":"IF(O48=\"\",$H48,O48)","v":true},{"$f":"IF(P48=\"\",$H48,P48)","v":true},true,false,null,null,null,null,null,null,null,null,null,null,null,null,null,null,null,null,null,null,null,null,null,null,null,null,null,null,null,null,{"$f":"BF71","v":"Q1.16"},"Q1.16PRAVDA",true,"Set up a Management of Change Register to keep the overview for all concerned staff. This overview shall be updated and show the actual state of all projects.\nInformation and training of staff (including contractors) is key."]
[null,null,null,null,null,null,null,{"$f":"'Chapter 1'!K112","v":false},false,false,null,false,false,false,false,false,null,null,null,false,false,false,false,false,false,{"$f":"IF(O49=\"\",$H49,O49)","v":false},{"$f":"IF(P49=\"\",$H49,P49)","v":false},{"$f":"IF(Q49=\"\",$H49,Q49)","v":false},false,null,null,null,null,null,null,null,null,null,null,null,null,null,null,null,null,null,null,null,null,null,null,null,null,null,null,null,null,{"$f":"BF72","v":"Q1.16"},"Q1.16NEPRAVDA",false,"It is recommended to annually review the system and to decide upon what is still needed, what can be left out, where are new issues arising…"]
[]
[]
[]
[]
[null,null,null,null,null,null,null,null,null,null,null,null,null,null,null,null,null,null,{"$f":"G50","v":"Q1.11"},{"$f":"IF(I50=\"\",$H50,I50)","v":false},false,false,false,false,false,false,false,false,false]
[null,null,null,null,null,null,null,null,null,null,null,null,null,null,null,null,null,null,null,{"$f":"IF(I51=\"\",$H51,I51)","v":false},{"$f":"IF(J51=\"\",$H51,J51)","v":false},{"$f":"IF(K51=\"\",$H51,K51)","v":false},{"$f":"IF(L51=\"\",$H51,L51)","v":false},{"$f":"IF(M51=\"\",$H51,M51)","v":false},{"$f":"IF(N51=\"\",$H51,N51)","v":false},{"$f":"IF(O51=\"\",$H51,O51)","v":false},{"$f":"IF(P51=\"\",$H51,P51)","v":false},{"$f":"IF(Q51=\"\",$H51,Q51)","v":false},false]
[null,null,null,null,null,null,null,null,null,null,null,null,null,null,null,null,null,null,null,true,true,true,true,true,true,{"$f":"IF(O52=\"\",$H52,O52)","v":true},{"$f":"IF(P52=\"\",$H52,P52)","v":true},true,false]
[null,null,null,null,null,null,null,null,null,null,null,null,null,null,null,null,null,null,null,false,false,false,false,false,false,{"$f":"IF(O53=\"\",$H53,O53)","v":false},false,false,false]
[]
[]
[null,null,null,null,null,null,null,null,null,null,null,null,null,null,null,null,null,null,{"$f":"G54","v":"Q1.12"},{"$f":"IF(I54=\"\",$H54,I54)","v":false},false,false,false,false,false,false,false,false,false]
[null,null,null,null,null,null,null,null,null,null,null,null,null,null,null,null,null,null,null,{"$f":"IF(I55=\"\",$H55,I55)","v":false},{"$f":"IF(J55=\"\",$H55,J55)","v":false},{"$f":"IF(K55=\"\",$H55,K55)","v":false},{"$f":"IF(L55=\"\",$H55,L55)","v":false},{"$f":"IF(M55=\"\",$H55,M55)","v":false},{"$f":"IF(N55=\"\",$H55,N55)","v":false},{"$f":"IF(O55=\"\",$H55,O55)","v":false},{"$f":"IF(P55=\"\",$H55,P55)","v":false},false,false]
[null,null,null,null,null,null,null,null,null,null,null,null,null,null,null,null,null,null,null,true,true,true,true,true,true,{"$f":"IF(O56=\"\",$H56,O56)","v":true},false,true,false]
[null,null,null,null,null,null,null,null,null,null,null,null,null,null,null,null,null,null,null,false,false,false,false,false,false,false,true,false,false]
[]
[]
[null,null,null,null,null,null,null,null,null,null,null,null,null,null,null,null,null,null,{"$f":"G58","v":"Q1.13"},{"$f":"IF(I58=\"\",$H58,I58)","v":false},false,false,false,false,false,false,false,false,false]
[null,null,null,null,null,null,null,null,null,null,null,null,null,null,null,null,null,null,null,{"$f":"IF(I59=\"\",$H59,I59)","v":false},{"$f":"IF(J59=\"\",$H59,J59)","v":false},{"$f":"IF(K59=\"\",$H59,K59)","v":false},{"$f":"IF(L59=\"\",$H59,L59)","v":false},{"$f":"IF(M59=\"\",$H59,M59)","v":false},{"$f":"IF(N59=\"\",$H59,N59)","v":false},{"$f":"IF(O59=\"\",$H59,O59)","v":false},{"$f":"IF(P59=\"\",$H59,P59)","v":false},false,false]
[null,null,null,null,null,null,null,null,null,null,null,null,null,null,null,null,null,null,null,true,true,true,true,true,true,true,true,true,false]
[null,null,null,null,null,null,null,null,null,null,null,null,null,null,null,null,null,null,null,false,false,false,false,false,{"$f":"IF(N61=\"\",$H61,N61)","v":false},false,false,false,false]
[]
[]
[null,null,null,null,null,null,null,null,null,null,null,null,null,null,null,null,null,null,{"$f":"G62","v":"Q1.14"},{"$f":"IF(I62=\"\",$H62,I62)","v":false},false,false,false,false,false,false,false,false,false]
[null,null,null,null,null,null,null,null,null,null,null,null,null,null,null,null,null,null,null,{"$f":"IF(I63=\"\",$H63,I63)","v":false},{"$f":"IF(J63=\"\",$H63,J63)","v":true},{"$f":"IF(K63=\"\",$H63,K63)","v":false},{"$f":"IF(L63=\"\",$H63,L63)","v":false},{"$f":"IF(M63=\"\",$H63,M63)","v":true},{"$f":"IF(N63=\"\",$H63,N63)","v":false},{"$f":"IF(O63=\"\",$H63,O63)","v":true},{"$f":"IF(P63=\"\",$H63,P63)","v":false},false,false]
[null,null,null,null,null,null,null,null,null,null,null,null,null,null,null,null,null,null,null,true,false,true,true,false,true,false,true,true,false]
[null,null,null,null,null,null,null,null,null,null,null,null,null,null,null,null,null,null,null,false,false,false,false,false,false,false,false,false,false]
[]
[]
[]
[]
[null,null,null,null,null,null,null,null,null,null,null,null,null,null,null,null,null,null,{"$f":"G66","v":"Q1.15"},{"$f":"IF(I66=\"\",$H66,I66)","v":false},false,false,false,false,false,false,false,false,false]
[null,null,null,null,null,null,null,null,null,null,null,null,null,null,null,null,null,null,null,{"$f":"IF(I67=\"\",$H67,I67)","v":false},{"$f":"IF(J67=\"\",$H67,J67)","v":false},{"$f":"IF(K67=\"\",$H67,K67)","v":false},{"$f":"IF(L67=\"\",$H67,L67)","v":false},{"$f":"IF(M67=\"\",$H67,M67)","v":false},{"$f":"IF(N67=\"\",$H67,N67)","v":false},{"$f":"IF(O67=\"\",$H67,O67)","v":false},{"$f":"IF(P67=\"\",$H67,P67)","v":false},false,false]
[null,null,null,null,null,null,null,null,null,null,null,null,null,null,null,null,null,null,null,true,true,true,true,true,true,true,true,true,false]
[null,null,null,null,null,null,null,null,null,null,null,null,null,null,null,null,null,null,null,false,false,false,false,false,false,false,false,false,false]
[]
[]
[]
[]
[null,null,null,null,null,null,null,null,null,null,null,null,null,null,null,null,null,null,{"$f":"G70","v":"Q1.16"},{"$f":"IF(I70=\"\",$H70,I70)","v":false},false,false,false,false,false,false,false,false,false]
[null,null,null,null,null,null,null,null,null,null,null,null,null,null,null,null,null,null,null,{"$f":"IF(I71=\"\",$H71,I71)","v":false},{"$f":"IF(J71=\"\",$H71,J71)","v":false},{"$f":"IF(K71=\"\",$H71,K71)","v":false},{"$f":"IF(L71=\"\",$H71,L71)","v":false},{"$f":"IF(M71=\"\",$H71,M71)","v":false},{"$f":"IF(N71=\"\",$H71,N71)","v":false},{"$f":"IF(O71=\"\",$H71,O71)","v":false},{"$f":"IF(P71=\"\",$H71,P71)","v":false},false,false]
[null,null,null,null,null,null,null,null,null,null,null,null,null,null,null,null,null,null,null,true,true,true,true,true,true,true,true,true,false]
[null,null,null,null,null,null,null,null,null,null,null,null,null,null,null,null,null,null,null,false,false,false,false,false,false,false,false,{"$f":"IF(Q73=\"\",$H73,Q73)","v":false},false]
[]
["chapter 2"]
[]
[]
[]
[null,null,null,null,null,null,null,null,"scores in case of compliance",null,null,null,null,null,null,null,null,null,null,"to copy",null,null,null,null,null,null,null,null,null,null,null,null,"equal weights per question (adaptable)",null,null,null,"MCA"]
[null,"scores",null,null,null,"prefill",null,"answered","ISO9001","ISO14001","ISO26000","ISO45001","ISO50001","EMAS","RC14001","RCMS","GHS",null,null,{"$f":"I122","v":"ISO9001"},{"$f":"J122","v":"ISO14001"},{"$f":"K122","v":"ISO26000"},{"$f":"L122","v":"ISO45001"},{"$f":"M122","v":"ISO50001"},{"$f":"N122","v":"EMAS"},{"$f":"O122","v":"RC14001"},{"$f":"P122","v":"RCMS"},"GHS","clear",null,"weights",null,{"$f":"IF(SUM(AG124:AG173)=100,\"ok\",\"error\")","v":"ok"},{"$f":"IF(SUM(AH124:AH173)/COUNT(AG124:AG173)=100,\"ok\",\"error\")","v":"ok"},null,null,"subscores","score",null,null,"identification of major issues",null,null,null,null,null,"scores for standards",null,null,null,null,null,null,null,null,null,null,"improvement tips"]
[null,null,null,null,null,null,null,null,null,null,null,null,null,null,null,null,null,null,null,null,null,null,null,null,null,null,null,null,null,null,null,null,null,null,null,null,null,{"$f":"(AK124*AG124+AK135*AG135+AK150*AG150+AK153*AG153+AG160*AK160)/100","v":2.7777777777777772},null,null,null,null,null,null,null,null,null,{"$f":"I122","v":"ISO9001"},{"$f":"J122","v":"ISO14001"},{"$f":"K122","v":"ISO26000"},{"$f":"L122","v":"ISO45001"},{"$f":"M122","v":"ISO50001"},{"$f":"N122","v":"EMAS"},{"$f":"O122","v":"RC14001"},{"$f":"P122","v":"RCMS"},"GHS"]
[null,{"$f":"'Chapter 2'!C6","v":"Q2.1"},{"$f":"IF('Chapter 2'!K7,1,IF('Chapter 2'!K8,2,IF('Chapter 2'!K9,3,IF('Chapter 2'!K10,4,\"\"))))","v":3},"formula 4 choices",null,null,{"$f":"B124","v":"Q2.1"},{"$f":"'Chapter 2'!K7","v":false},null,null,null,false,null,null,false,null,null,null,{"$f":"G124","v":"Q2.1"},{"$f":"IF(I124=\"\",$H124,I124)","v":false},{"$f":"IF(J124=\"\",$H124,J124)","v":false},{"$f":"IF(K124=\"\",$H124,K124)","v":false},{"$f":"IF(L124=\"\",$H124,L124)","v":false},{"$f":"IF(M124=\"\",$H124,M124)","v":false},{"$f":"IF(N124=\"\",$H124,N124)","v":false},{"$f":"IF(O124=\"\",$H124,O124)","v":false},{"$f":"IF(P124=\"\",$H124,P124)","v":false},false,false,null,{"$f":"'Chapter 2'!B4","v":"Bezpečnost a ochrana zdraví při práci"},null,{"$f":"10/45*100","v":22.222222222222221},null,null,null,{"$f":"(C124*AH125+C125*AH126+C126*AH127+C127*AH128+C128*AH129+C129*AH130+C130*AH131+C131*AH132+C132*AH133+C133*AH134)/100","v":2.8},null,null,null,{"$f":"B124","v":"Q2.1"},1,{"$f":"IF(C124<AP124,\"major issue\",\"ok\")","v":"ok"},{"$f":"IF(AQ124<>\"ok\",1,0)","v":0},null,null,{"$f":"AO124","v":"Q2.1"},{"$f":"IF(I124,1,IF(I125,2,IF(I126,3,IF(I127,4,\"-\"))))","v":"-"},{"$f":"IF(J124,1,IF(J125,2,IF(J126,3,IF(J127,4,\"-\"))))","v":"-"},{"$f":"IF(K124,1,IF(K125,2,IF(K126,3,IF(K127,4,\"-\"))))","v":"-"},{"$f":"IF(L124,1,IF(L125,2,IF(L126,3,IF(L127,4,\"-\"))))","v":2},{"$f":"IF(M124,1,IF(M125,2,IF(M126,3,IF(M127,4,\"-\"))))","v":"-"},{"$f":"IF(N124,1,IF(N125,2,IF(N126,3,IF(N127,4,\"-\"))))","v":"-"},{"$f":"IF(O124,1,IF(O125,2,IF(O126,3,IF(O127,4,\"-\"))))","v":2},{"$f":"IF(P124,1,IF(P125,2,IF(P126,3,IF(P127,4,\"-\"))))","v":"-"},"-",null,{"$f":"G124","v":"Q2.1"},{"$f":"CONCATENATE(BF124,BH124)","v":"Q2.1NEPRAVDA"},{"$f":"H124","v":false},"Define the roles and resources.\nApply the policy for all levels in the organisation.\nDefine specific objectives and track these objectives with indicators."]
[null,{"$f":"'Chapter 2'!C12","v":"Q2.2"},{"$f":"IF('Chapter 2'!K13,1,IF('Chapter 2'!K14,2,IF('Chapter 2'!K15,3,IF('Chapter 2'!K16,4,\"\"))))","v":2},"formula 4 choices",null,null,null,{"$f":"'Chapter 2'!K8","v":false},null,null,null,true,null,null,true,null,null,null,null,{"$f":"IF(I125=\"\",$H125,I125)","v":false},false,false,true,{"$f":"IF(M125=\"\",$H125,M125)","v":false},false,true,false,false,false,null,null,{"$f":"B124","v":"Q2.1"},null,10,null,null,null,null,null,null,{"$f":"B125","v":"Q2.2"},1,{"$f":"IF(C125<AP125,\"major issue\",\"ok\")","v":"ok"},{"$f":"IF(AQ125<>\"ok\",1,0)","v":0},null,null,{"$f":"AO125","v":"Q2.2"},{"$f":"IF(I128,1,IF(I129,2,IF(I130,3,IF(I131,4,\"-\"))))","v":"-"},{"$f":"IF(J128,1,IF(J129,2,IF(J130,3,IF(J131,4,\"-\"))))","v":"-"},{"$f":"IF(K128,1,IF(K129,2,IF(K130,3,IF(K131,4,\"-\"))))","v":"-"},{"$f":"IF(L128,1,IF(L129,2,IF(L130,3,IF(L131,4,\"-\"))))","v":2},{"$f":"IF(M128,1,IF(M129,2,IF(M130,3,IF(M131,4,\"-\"))))","v":"-"},{"$f":"IF(N128,1,IF(N129,2,IF(N130,3,IF(N131,4,\"-\"))))","v":"-"},{"$f":"IF(O128,1,IF(O129,2,IF(O130,3,IF(O131,4,\"-\"))))","v":"-"},{"$f":"IF(P128,1,IF(P129,2,IF(P130,3,IF(P131,4,\"-\"))))","v":"-"},"-",null,{"$f":"BF124","v":"Q2.1"},"Q2.1NEPRAVDA",{"$f":"H125","v":false},"Clearly define responsibilities for all levels in the organisation to prevent accident.\nApply the policy of the company.\nClear objectives are assigned to the occupational H&S staff in the way to contribute to the performance, according to their responsibilities level."]
[null,{"$f":"'Chapter 2'!C18","v":"Q2.3"},{"$f":"IF('Chapter 2'!K19,1,IF('Chapter 2'!K20,2,IF('Chapter 2'!K21,3,IF('Chapter 2'!K22,4,\"\"))))","v":3},"formula 4 choices",null,null,null,{"$f":"'Chapter 2'!K9","v":true},null,null,null,false,null,null,false,null,null,null,null,{"$f":"IF(I126=\"\",$H126,I126)","v":true},true,true,{"$f":"IF(L126=\"\",$H126,L126)","v":false},true,true,false,true,true,false,null,null,{"$f":"B125","v":"Q2.2"},null,10,null,null,null,null,null,null,"Q2.3",2,"ok",0,null,null,"Q2.3",{"$f":"IF(I132,1,IF(I133,2,IF(I134,3,IF(I135,4,\"-\"))))","v":"-"},"-","-",3,"-","-","-","-","-",null,{"$f":"BF125","v":"Q2.1"},"Q2.1PRAVDA",true,"Involve the employees in the policy development."]
[null,{"$f":"'Chapter 2'!C24","v":"Q2.4"},{"$f":"IF('Chapter 2'!K25,1,IF('Chapter 2'!K26,2,IF('Chapter 2'!K27,3,IF('Chapter 2'!K28,4,\"\"))))","v":3},"formula 4 choices",null,null,null,{"$f":"'Chapter 2'!K10","v":false},null,null,null,false,null,null,false,null,null,null,null,{"$f":"IF(I127=\"\",$H127,I127)","v":false},false,false,{"$f":"IF(L127=\"\",$H127,L127)","v":false},false,false,false,{"$f":"IF(P127=\"\",$H127,P127)","v":false},{"$f":"IF(Q127=\"\",$H127,Q127)","v":false},false,null,null,"Q2.3",null,10,null,null,null,null,null,null,"Q2.4",1,"ok",0,null,null,"Q2.4",{"$f":"IF(I136,1,IF(I137,2,IF(I138,3,IF(I139,4,\"-\"))))","v":"-"},"-","-",3,"-","-",3,"-","-",null,{"$f":"BF126","v":"Q2.1"},"Q2.1NEPRAVDA",false,"No need to immediately change strategy, however always seek improvement."]
[null,{"$f":"'Chapter 2'!C30","v":"Q2.5"},{"$f":"IF('Chapter 2'!K31,1,IF('Chapter 2'!K32,2,IF('Chapter 2'!K33,3,IF('Chapter 2'!K34,4,\"\"))))","v":3},"formula 4 choices",null,null,{"$f":"B125","v":"Q2.2"},{"$f":"'Chapter 2'!K13","v":false},null,null,null,false,null,null,null,null,null,null,null,null,null,null,null,null,null,null,null,null,null,null,null,"Q2.4",null,10,null,null,null,null,null,null,"Q2.5",1,"ok",0,null,null,"Q2.5",{"$f":"IF(I140,1,IF(I141,2,IF(I142,3,IF(I143,4,\"-\"))))","v":"-"},"-","-",3,"-","-","-","-","-",null,{"$f":"G128","v":"Q2.2"},"Q2.2NEPRAVDA",{"$f":"H128","v":false},"Identify and describe the potential risks to public health and safety in the normal course of operations and in a degraded situation in the context of altered or abnormal operation of the operation for each of the processes, equipment and sites.\nEstablish and implement a Hazard Evaluation Plan.\n• Use systematic approaches (e.g., job safety analysis, preliminary hazard analysis, Failure Modes and Effects Analysis, etc.) to analyse jobs or tasks performed in the plant to identify health or safety hazards associated with these jobs or tasks; \n• Perform industrial hygiene evaluations of worker exposure to chemical, physical, and biological agents; \n• Develop systems that trigger prompt evaluation of potential health and safety hazards.\n"]
[null,{"$f":"'Chapter 2'!C36","v":"Q2.6"},{"$f":"IF('Chapter 2'!K37,1,IF('Chapter 2'!K38,2,IF('Chapter 2'!K39,3,IF('Chapter 2'!K40,4,\"\"))))","v":3},"formula 4 choices",null,null,null,{"$f":"'Chapter 2'!K14","v":true},null,null,null,true,null,null,null,null,null,null,null,null,null,null,null,null,null,null,null,null,null,null,null,"Q2.5",null,10,null,null,null,null,null,null,"Q2.6",2,"ok",0,null,null,"Q2.6",{"$f":"IF(I144,1,IF(I145,2,IF(I146,3,IF(I147,4,\"-\"))))","v":"-"},"-","-",3,"-","-","-","-","-",null,{"$f":"BF128","v":"Q2.2"},"Q2.2PRAVDA",true,"Identify employees at risk for exposure to health and safety hazards.\n"]
[null,{"$f":"'Chapter 2'!C42","v":"Q2.7"},{"$f":"IF('Chapter 2'!K43,1,IF('Chapter 2'!K44,2,IF('Chapter 2'!K45,3,IF('Chapter 2'!K46,4,\"\"))))","v":2},"formula 4 choices",null,null,null,{"$f":"'Chapter 2'!K15","v":false},null,null,null,false,null,null,null,null,null,null,{"$f":"G128","v":"Q2.2"},{"$f":"IF(I128=\"\",$H128,I128)","v":false},false,false,false,false,false,false,false,false,false,null,null,"Q2.6",null,10,null,null,null,null,null,null,"Q2.7",2,"ok",0,null,null,"Q2.7",{"$f":"IF(I148,1,IF(I149,2,IF(I150,3,IF(I151,4,\"-\"))))","v":"-"},"-",4,3,"-","-",3,"-","-",null,{"$f":"BF129","v":"Q2.2"},"Q2.2NEPRAVDA",false,"Determine the following for the identified incident scenarios:\no the effects of hazardous phenomena on public health and safety and their intensity (severity scale);\no the probability of occurrence (probability scale) and from this the level of risk or criticality (coupling of severity and probability).\nShare your best practices with business partners or through associations."]
[null,{"$f":"'Chapter 2'!C48","v":"Q2.8"},{"$f":"IF('Chapter 2'!K49,1,IF('Chapter 2'!K50,2,IF('Chapter 2'!K51,3,IF('Chapter 2'!K52,4,\"\"))))","v":3},"formula 4 choices",null,null,null,{"$f":"'Chapter 2'!K16","v":false},null,null,null,false,null,null,null,null,null,null,null,{"$f":"IF(I129=\"\",$H129,I129)","v":true},{"$f":"IF(J129=\"\",$H129,J129)","v":true},{"$f":"IF(K129=\"\",$H129,K129)","v":true},{"$f":"IF(L129=\"\",$H129,L129)","v":true},{"$f":"IF(M129=\"\",$H129,M129)","v":true},{"$f":"IF(N129=\"\",$H129,N129)","v":true},{"$f":"IF(O129=\"\",$H129,O129)","v":true},{"$f":"IF(P129=\"\",$H129,P129)","v":true},true,false,null,null,"Q2.7",null,10,null,null,null,null,null,null,"Q2.8",1,"ok",0,null,null,"Q2.8",{"$f":"IF(I152,1,IF(I153,2,IF(I154,3,IF(I155,4,\"-\"))))","v":"-"},3,3,3,"-","-",4,"-","-",null,{"$f":"BF130","v":"Q2.2"},"Q2.2NEPRAVDA",false,"No need to immediately change strategy, however always seek improvement."]
[null,{"$f":"'Chapter 2'!C54","v":"Q2.9"},{"$f":"IF('Chapter 2'!K55,1,IF('Chapter 2'!K56,2,IF('Chapter 2'!K57,3,IF('Chapter 2'!K58,4,\"\"))))","v":3},"formula 4 choices",null,null,{"$f":"B126","v":"Q2.3"},{"$f":"'Chapter 2'!K19","v":false},null,null,null,false,null,null,null,null,null,null,null,false,false,false,false,false,false,false,false,false,false,null,null,"Q2.8",null,10,null,null,null,null,null,null,"Q2.9",1,"ok",0,null,null,"Q2.9",{"$f":"IF(I156,1,IF(I157,2,IF(I158,3,IF(I159,4,\"-\"))))","v":"-"},"-",3,3,"-","-",3,"-","-",null,{"$f":"G132","v":"Q2.3"},"Q2.3NEPRAVDA",false,"Evaluate plant tasks and assignments to identify any specific physical and medical requirements associated with a specific task.\n• It is recommended that qualified health and safety personnel observe work being performed and review job descriptions and duties of the various jobs and tasks performed throughout the plant;\n• Prioritize jobs for which assessment criteria will be established. It is recommended that health professionals (e.g., occupational medicine physicians or occupational health nurses) determine on an individual basis the risk to an employee for an adverse health outcome that may result from the performance of essential main job functions, with or without reasonable adjustment."]
[null,{"$f":"'Chapter 2'!C60","v":"Q2.10"},{"$f":"IF('Chapter 2'!K61,1,IF('Chapter 2'!K62,2,IF('Chapter 2'!K63,3,IF('Chapter 2'!K64,4,\"\"))))","v":3},"formula 4 choices",null,null,null,{"$f":"'Chapter 2'!K20","v":false},null,null,null,false,null,null,null,null,null,null,null,false,false,false,false,false,false,false,{"$f":"IF(P131=\"\",$H131,P131)","v":false},{"$f":"IF(Q131=\"\",$H131,Q131)","v":false},false,null,null,"Q2.9",null,10,null,null,null,null,null,null,"Q2.10",1,"ok",0,null,null,"Q2.10",{"$f":"IF(I160,1,IF(I161,2,IF(I162,3,IF(I163,4,\"-\"))))","v":3},3,3,3,3,3,3,"-","-",null,{"$f":"BF132","v":"Q2.3"},"Q2.3NEPRAVDA",false,"Assess an individual's ability to perform a particular task or assignment using medical criteria that are task related.\n• Health professionals are advised to identify any special medical tests that would be useful for evaluating individuals for a particular job (e.g., visual tests for persons driving a motorized vehicle), and incorporate them into preplacement health assessments;\n• Health professionals are advised to ensure that statements of risk of adverse health outcomes are based solely on the medical tests that relate to the job requirements, and not on any other tests that might be conducted as part of routine health assessments;\n• Health professionals are advised to conduct baseline medical testing of employees, when appropriate, to detect conditions that would interfere with their ability to safely perform a specific job."]
[null,{"$f":"'Chapter 2'!C68","v":"Q2.11"},{"$f":"IF('Chapter 2'!K69,1,IF('Chapter 2'!K70,2,IF('Chapter 2'!K71,3,IF('Chapter 2'!K72,4,\"\"))))","v":3},"formula 4 choices",null,null,null,{"$f":"'Chapter 2'!K21","v":true},null,null,null,true,null,null,null,null,null,null,null,null,null,null,null,null,null,null,null,null,null,null,null,{"$f":"B133","v":"Q2.10"},null,10,null,null,null,null,null,null,"Q2.11",1,"ok",0,null,null,"Q2.11",{"$f":"IF(I164,1,IF(I165,2,IF(I166,3,IF(I167,4,\"-\"))))","v":"-"},"-","-","-","-","-","-","-","-",null,{"$f":"BF133","v":"Q2.3"},"Q2.3PRAVDA",true,"Health professionals are advised to ensure that only they review the results of medical testing to ensure confidentiality of medical results."]
[null,{"$f":"'Chapter 2'!C74","v":"Q2.12"},{"$f":"IF('Chapter 2'!K75,1,IF('Chapter 2'!K76,2,IF('Chapter 2'!K77,3,IF('Chapter 2'!K78,4,\"\"))))","v":2},"formula 4 choices",null,null,null,{"$f":"'Chapter 2'!K22","v":false},null,null,null,false,null,null,null,null,null,null,null,null,null,null,null,null,null,null,null,null,null,null,{"$f":"'Chapter 2'!B66","v":"Procesní bezpečnost"},null,{"$f":"14/45*100","v":31.111111111111111},null,null,null,{"$f":"(C134*AH136+C135*AH137+C136*AH138+C137*AH139+C138*AH140+C139*AH141+C140*AH142+C141*AH143+C142*AH144+C143*AH145+C144*AH146+C145*AH147+C146*AH148+C147*AH149)/100","v":2.8571428571428572},null,null,null,"Q2.12",1,"ok",0,null,null,"Q2.12",{"$f":"IF(I168,1,IF(I169,2,IF(I170,3,IF(I171,4,\"-\"))))","v":"-"},"-","-","-","-","-","-","-","-",null,{"$f":"BF134","v":"Q2.3"},"Q2.3NEPRAVDA",false,"No need to immediately change strategy, however always seek improvement."]
[null,{"$f":"'Chapter 2'!C80","v":"Q2.13"},{"$f":"IF('Chapter 2'!K81,1,IF('Chapter 2'!K82,2,IF('Chapter 2'!K83,3,IF('Chapter 2'!K84,4,\"\"))))","v":1},"formula 4 choices",null,null,{"$f":"B127","v":"Q2.4"},{"$f":"'Chapter 2'!K25","v":false},null,null,null,false,null,null,false,null,null,null,{"$f":"G132","v":"Q2.3"},{"$f":"IF(I132=\"\",$H132,I132)","v":false},false,false,false,false,false,false,false,false,false,null,null,{"$f":"B134","v":"Q2.11"},null,{"$f":"100/14","v":7.1428571428571432},null,null,null,null,null,null,"Q2.13",1,"ok",0,null,null,"Q2.13",{"$f":"IF(I172,1,IF(I173,2,IF(I174,3,IF(I175,4,\"-\"))))","v":"-"},"-","-","-","-","-","-","-","-",null,{"$f":"G136","v":"Q2.4"},"Q2.4NEPRAVDA",false,"Set up a Health & Safety program by the management of the organisation."]
[null,{"$f":"'Chapter 2'!C86","v":"Q2.14"},{"$f":"IF('Chapter 2'!K87,1,IF('Chapter 2'!K88,2,IF('Chapter 2'!K89,3,IF('Chapter 2'!K90,4,\"\"))))","v":2},"formula 4 choices",null,null,null,{"$f":"'Chapter 2'!K26","v":false},null,null,null,false,null,null,false,null,null,null,null,{"$f":"IF(I133=\"\",$H133,I133)","v":false},{"$f":"IF(J133=\"\",$H133,J133)","v":false},false,false,{"$f":"IF(M133=\"\",$H133,M133)","v":false},{"$f":"IF(N133=\"\",$H133,N133)","v":false},false,false,false,false,null,null,{"$f":"B135","v":"Q2.12"},null,{"$f":"100/14","v":7.1428571428571432},null,null,null,null,null,null,"Q2.14",1,"ok",0,null,null,"Q2.14",{"$f":"IF(I176,1,IF(I177,2,IF(I178,3,IF(I179,4,\"-\"))))","v":"-"},"-","-","-","-","-","-","-","-",null,{"$f":"BF136","v":"Q2.4"},"Q2.4NEPRAVDA",false,"Put processes in place to assess: Occupational Health & Safety opportunities to enhance Occupational Health & Safety performance, while taking into account planned changes to the organisation, its policies, processes or its activities and:\n1) Opportunities to adapt work, work organisation and work environment to workers;\n2) Opportunities to eliminate hazards and reduce Occupational Health & Safety risks;\n3) Other opportunities for improving the Occupational Health & Safety management system."]
[null,{"$f":"'Chapter 2'!C92","v":"Q2.15"},{"$f":"IF('Chapter 2'!K93,1,IF('Chapter 2'!K94,2,IF('Chapter 2'!K95,3,IF('Chapter 2'!K96,4,\"\"))))","v":3},"formula 4 choices",null,null,null,{"$f":"'Chapter 2'!K27","v":true},null,null,null,true,null,null,true,null,null,null,null,true,true,true,true,true,true,true,true,true,false,null,null,"Q2.13",null,7.1428571428571432,null,null,null,null,null,null,"Q2.15",1,"ok",0,null,null,"Q2.15",{"$f":"IF(I180,1,IF(I181,2,IF(I182,3,IF(I183,4,\"-\"))))","v":"-"},"-","-","-","-","-","-","-","-",null,{"$f":"BF137","v":"Q2.4"},"Q2.4PRAVDA",true,"Evaluate the Health & Safety programme regularly on its effectiveness (i.e. externally verified, for example via performance indicators) and take regular actions to keep employees and contractors aware of risks and opportunities and have them participate in the program."]
[null,{"$f":"'Chapter 2'!C98","v":"Q2.16"},{"$f":"IF('Chapter 2'!K99,1,IF('Chapter 2'!K100,2,IF('Chapter 2'!K101,3,IF('Chapter 2'!K102,4,\"\"))))","v":3},"formula 4 choices",null,null,null,{"$f":"'Chapter 2'!K28","v":false},null,null,null,false,null,null,false,null,null,null,null,false,false,false,false,false,false,false,false,false,false,null,null,"Q2.14",null,7.1428571428571432,null,null,null,null,null,null,"Q2.16",1,"ok",0,null,null,"Q2.16",{"$f":"IF(I184,1,IF(I185,2,IF(I186,3,IF(I187,4,\"-\"))))","v":"-"},"-","-","-","-","-","-","-","-",null,{"$f":"BF138","v":"Q2.4"},"Q2.4NEPRAVDA",false,"No need to immediately change strategy, however always seek improvement."]
[null,{"$f":"'Chapter 2'!C104","v":"Q2.17"},{"$f":"IF('Chapter 2'!K105,1,IF('Chapter 2'!K106,2,IF('Chapter 2'!K107,3,IF('Chapter 2'!K108,4,\"\"))))","v":4},"formula 4 choices",null,null,{"$f":"B128","v":"Q2.5"},{"$f":"'Chapter 2'!K31","v":false},null,null,null,false,null,null,null,null,null,null,null,null,null,null,null,null,null,null,null,null,null,null,null,"Q2.15",null,7.1428571428571432,null,null,null,null,null,null,{"$f":"B140","v":"Q2.17"},1,"ok",{"$f":"IF(AQ140<>\"ok\",1,0)","v":0},null,null,"Q2.17",{"$f":"IF(I188,1,IF(I189,2,IF(I190,3,IF(I191,4,\"-\"))))","v":"-"},"-","-","-","-","-","-","-","-",null,{"$f":"G140","v":"Q2.5"},"Q2.5NEPRAVDA",false,"Set up preventive maintenance and housekeeping programs to maintain the safety of facilities, tools and equipment."]
[null,{"$f":"'Chapter 2'!C110","v":"Q2.18"},{"$f":"IF('Chapter 2'!K111,1,IF('Chapter 2'!K112,2,IF('Chapter 2'!K113,3,IF('Chapter 2'!K114,4,\"\"))))","v":3},"formula 4 choices",null,null,null,{"$f":"'Chapter 2'!K32","v":false},null,null,null,false,null,null,null,null,null,null,null,null,null,null,null,null,null,null,null,null,null,null,null,"Q2.16",null,7.1428571428571432,null,null,null,null,null,null,"Q2.18",1,"ok",{"$f":"IF(AQ141<>\"ok\",1,0)","v":0},null,null,"Q2.18",{"$f":"IF(I192,1,IF(I193,2,IF(I194,3,IF(I195,4,\"-\"))))","v":"-"},"-","-","-","-","-","-","-","-",null,{"$f":"BF140","v":"Q2.5"},"Q2.5NEPRAVDA",false,"Evaluate the effectiveness of the maintenance program on a regular basis, measure the success, and improve the maintenance plans."]
[null,{"$f":"'Chapter 2'!C116","v":"Q2.19"},{"$f":"IF('Chapter 2'!K117,1,IF('Chapter 2'!K118,2,IF('Chapter 2'!K119,3,IF('Chapter 2'!K120,4,\"\"))))","v":3},"formula 4 choices",null,null,null,{"$f":"'Chapter 2'!K33","v":true},null,null,null,true,null,null,null,null,null,null,{"$f":"G136","v":"Q2.4"},{"$f":"IF(I136=\"\",$H136,I136)","v":false},false,false,false,false,false,false,false,false,false,null,null,"Q2.17",null,7.1428571428571432,null,null,null,null,null,null,"Q2.19",1,"ok",0,null,null,"Q2.19",{"$f":"IF(I196,1,IF(I197,2,IF(I198,3,IF(I199,4,\"-\"))))","v":"-"},"-","-","-","-","-","-","-","-",null,{"$f":"BF141","v":"Q2.5"},"Q2.5PRAVDA",true,"Establish a sophisticated risk- or knowledge-based maintenance and inspection program."]
[null,{"$f":"'Chapter 2'!C122","v":"Q2.20"},{"$f":"IF('Chapter 2'!K123,1,IF('Chapter 2'!K124,2,IF('Chapter 2'!K125,3,IF('Chapter 2'!K126,4,\"\"))))","v":4},"formula 4 choices",null,null,null,{"$f":"'Chapter 2'!K34","v":false},null,null,null,false,null,null,null,null,null,null,null,{"$f":"IF(I137=\"\",$H137,I137)","v":false},{"$f":"IF(J137=\"\",$H137,J137)","v":false},false,false,{"$f":"IF(M137=\"\",$H137,M137)","v":false},{"$f":"IF(N137=\"\",$H137,N137)","v":false},false,false,false,false,null,null,"Q2.18",null,7.1428571428571432,null,null,null,null,null,null,"Q2.20",1,"ok",0,null,null,"Q2.20",{"$f":"IF(I200,1,IF(I201,2,IF(I202,3,IF(I203,4,\"-\"))))","v":"-"},"-","-","-","-","-","-","-","-",null,{"$f":"BF142","v":"Q2.5"},"Q2.5NEPRAVDA",false,"No need to immediately change strategy, however always seek improvement."]
[null,{"$f":"'Chapter 2'!C128","v":"Q2.21"},{"$f":"IF('Chapter 2'!K129,1,IF('Chapter 2'!K130,2,IF('Chapter 2'!K131,3,IF('Chapter 2'!K132,4,\"\"))))","v":2},"formula 4 choices",null,null,{"$f":"B129","v":"Q2.6"},{"$f":"'Chapter 2'!K37","v":false},null,null,null,false,null,null,null,null,null,null,null,true,true,true,true,true,true,true,true,true,false,null,null,"Q2.19",null,7.1428571428571432,null,null,null,null,null,null,"Q2.21",1,"ok",0,null,null,"Q2.21",{"$f":"IF(I204,1,IF(I205,2,IF(I206,3,IF(I207,4,\"-\"))))","v":"-"},"-",3,"-","-","-","-","-","-",null,{"$f":"G144","v":"Q2.6"},"Q2.6NEPRAVDA",false,"Develop a detailed plan that establishes a schedule, organisation responsibilities, and resources needed for each activity to be completed. "]
[null,{"$f":"'Chapter 2'!C134","v":"Q2.22"},{"$f":"IF('Chapter 2'!K135,1,IF('Chapter 2'!K136,2,IF('Chapter 2'!K137,3,IF('Chapter 2'!K138,4,\"\"))))","v":2},"formula 4 choices",null,null,null,{"$f":"'Chapter 2'!K38","v":false},null,null,null,false,null,null,null,null,null,null,null,false,false,false,false,{"$f":"IF(M139=\"\",$H139,M139)","v":false},false,false,false,false,false,null,null,"Q2.20",null,7.1428571428571432,null,null,null,null,null,null,"Q2.22",1,"ok",0,null,null,"Q2.22",{"$f":"IF(I208,1,IF(I209,2,IF(I210,3,IF(I211,4,\"-\"))))","v":"-"},"-","-","-","-","-","-","-","-",null,{"$f":"BF144","v":"Q2.6"},"Q2.6NEPRAVDA",false,"Train your employees to know and understand when and what Personal Protective Equipment (PPE) is necessary and conduct PPE assessments. "]
[null,{"$f":"'Chapter 2'!C140","v":"Q2.23"},{"$f":"IF('Chapter 2'!K141,1,IF('Chapter 2'!K142,2,IF('Chapter 2'!K143,3,IF('Chapter 2'!K144,4,\"\"))))","v":4},"formula 4 choices",null,null,null,{"$f":"'Chapter 2'!K39","v":true},null,null,null,true,null,null,null,null,null,null,null,null,null,null,null,null,null,null,null,null,null,null,null,"Q2.21",null,7.1428571428571432,null,null,null,null,null,null,"Q2.23",1,"ok",0,null,null,"Q2.23",{"$f":"IF(I212,1,IF(I213,2,IF(I214,3,IF(I215,4,\"-\"))))","v":"-"},"-","-","-","-","-","-","-","-",null,{"$f":"BF145","v":"Q2.6"},"Q2.6PRAVDA",true,"Make employees aware that they can use the 'stop work authority' if Personal Protective Equipment (PPE) is deemed ineffective to control a hazard. "]
[null,{"$f":"'Chapter 2'!C146","v":"Q2.24"},{"$f":"IF('Chapter 2'!K147,1,IF('Chapter 2'!K148,2,IF('Chapter 2'!K149,3,IF('Chapter 2'!K150,4,\"\"))))","v":4},"formula 4 choices",null,null,null,{"$f":"'Chapter 2'!K40","v":false},null,null,null,false,null,null,null,null,null,null,null,null,null,null,null,null,null,null,null,null,null,null,null,"Q2.22",null,7.1428571428571432,null,null,null,null,null,null,"Q2.24",1,"ok",0,null,null,"Q2.24",{"$f":"IF(I216,1,IF(I217,2,IF(I218,3,IF(I219,4,\"-\"))))","v":"-"},"-","-","-","-","-","-","-","-",null,{"$f":"BF146","v":"Q2.6"},"Q2.6NEPRAVDA",false,"No need to immediately change strategy, however always seek improvement."]
[null,{"$f":"'Chapter 2'!C154","v":"Q2.25"},{"$f":"IF('Chapter 2'!K155,1,IF('Chapter 2'!K156,2,IF('Chapter 2'!K157,3,IF('Chapter 2'!K158,4,\"\"))))","v":3},"formula 4 choices",null,null,{"$f":"B130","v":"Q2.7"},{"$f":"'Chapter 2'!K43","v":false},null,null,false,false,null,null,false,null,null,null,{"$f":"G140","v":"Q2.5"},{"$f":"IF(I140=\"\",$H140,I140)","v":false},false,false,false,false,false,false,false,false,false,null,null,"Q2.23",null,7.1428571428571432,null,null,null,null,null,null,"Q2.25",2,"ok",0,null,null,"Q2.25",{"$f":"IF(I220,1,IF(I221,2,IF(I222,3,IF(I223,4,\"-\"))))","v":"-"},"-","-","-","-","-","-","-","-",null,{"$f":"G148","v":"Q2.7"},"Q2.7NEPRAVDA",false,"Promote good work-life balance, make sure workers get the opportunity to make suggestions and the organisation takes these into account.\nRegarding to ergonomy, make sure there is a systematic evaluation in place for all workplaces."]
[null,{"$f":"'Chapter 2'!C160","v":"Q2.26"},{"$f":"IF('Chapter 2'!K161,1,IF('Chapter 2'!K162,2,IF('Chapter 2'!K163,3,IF('Chapter 2'!K164,4,\"\"))))","v":3},"formula 4 choices",null,null,null,{"$f":"'Chapter 2'!K44","v":true},null,null,false,false,null,null,false,null,null,null,null,{"$f":"IF(I141=\"\",$H141,I141)","v":false},{"$f":"IF(J141=\"\",$H141,J141)","v":false},false,false,{"$f":"IF(M141=\"\",$H141,M141)","v":false},{"$f":"IF(N141=\"\",$H141,N141)","v":false},false,false,false,false,null,null,"Q2.24",null,7.1428571428571432,null,null,null,null,null,null,"Q2.26",1,"ok",0,null,null,"Q2.26",{"$f":"IF(I224,1,IF(I225,2,IF(I226,3,IF(I227,4,\"-\"))))","v":"-"},"-","-","-","-","-","-","-","-",null,{"$f":"BF148","v":"Q2.7"},"Q2.7PRAVDA",true,"Put a procedure in place to register the suggestions of the workers and track the modifications applied to address them.\nTrain staff to the appropriate ergonomic use of the equipment.\nMeasure the perception of staff concerning their work-life balance through an anonymous survey."]
[null,{"$f":"'Chapter 2'!C168","v":"Q2.27"},{"$f":"IF('Chapter 2'!K169,1,IF('Chapter 2'!K170,2,IF('Chapter 2'!K171,3,IF('Chapter 2'!K172,4,\"\"))))","v":2},"formula 4 choices",null,null,null,{"$f":"'Chapter 2'!K45","v":false},null,null,false,true,null,null,true,null,null,null,null,true,true,true,true,true,true,true,true,true,false,null,{"$f":"'Chapter 2'!B152","v":"Distribuce"},null,{"$f":"2/45*100","v":4.4444444444444446},null,null,null,{"$f":"(C148*AH151+C149*AH152)/100","v":3},null,null,null,"Q2.27",1,"ok",0,null,null,"Q2.27",{"$f":"IF(I228,1,IF(I229,2,IF(I230,3,IF(I231,4,\"-\"))))","v":"-"},"-","-","-","-","-","-","-","-",null,{"$f":"BF149","v":"Q2.7"},"Q2.7NEPRAVDA",false,"Set up a specific program to improve the key problematics learned from the survey.\nEvaluate the effectiveness of the program on a regular basis."]
[null,{"$f":"'Chapter 2'!C174","v":"Q2.28"},{"$f":"IF('Chapter 2'!K175,1,IF('Chapter 2'!K176,2,IF('Chapter 2'!K177,3,IF('Chapter 2'!K178,4,\"\"))))","v":3},"formula 4 choices",null,null,null,{"$f":"'Chapter 2'!K46","v":false},null,null,true,false,null,null,false,null,null,null,null,false,false,false,false,false,false,false,false,false,false,null,null,{"$f":"B148","v":"Q2.25"},null,50,null,null,null,null,null,null,"Q2.28",2,"ok",0,null,null,"Q2.28",{"$f":"IF(I232,1,IF(I233,2,IF(I234,3,IF(I235,4,\"-\"))))","v":"-"},"-","-","-","-","-","-","-","-",null,{"$f":"BF150","v":"Q2.7"},"Q2.7NEPRAVDA",false,"No need to immediately change strategy, however always seek improvement."]
[null,{"$f":"'Chapter 2'!C180","v":"Q2.29"},{"$f":"IF('Chapter 2'!K181,1,IF('Chapter 2'!K182,2,IF('Chapter 2'!K183,3,IF('Chapter 2'!K184,4,\"\"))))","v":3},"formula 4 choices",null,null,{"$f":"B131","v":"Q2.8"},{"$f":"'Chapter 2'!K49","v":false},null,false,false,false,null,null,false,null,null,null,null,null,null,null,null,null,null,null,null,null,null,null,null,{"$f":"B149","v":"Q2.26"},null,50,null,null,null,null,null,null,"Q2.29",2,"ok",0,null,null,"Q2.29",{"$f":"IF(I236,1,IF(I237,2,IF(I238,3,IF(I239,4,\"-\"))))","v":"-"},"-","-","-","-","-","-","-","-",null,{"$f":"G152","v":"Q2.8"},"Q2.8NEPRAVDA",false,"Assign significance to the risks."]
[null,{"$f":"'Chapter 2'!C186","v":"Q2.30"},{"$f":"IF('Chapter 2'!K187,1,IF('Chapter 2'!K188,2,IF('Chapter 2'!K189,3,IF('Chapter 2'!K190,4,\"\"))))","v":2},"formula 4 choices",null,null,null,{"$f":"'Chapter 2'!K50","v":false},null,false,false,false,null,null,false,null,null,null,null,null,null,null,null,null,null,null,null,null,null,null,{"$f":"'Chapter 2'!B166","v":"Bezpečnost"},null,{"$f":"6/45*100","v":13.333333333333334},null,null,null,{"$f":"(C150*AH154+C151*AH155+C152*AH156+C153*AH157+C154*AH158+C155*AH159)/100","v":2.166666666666667},null,null,null,"Q2.30",2,"ok",0,null,null,"Q2.30",{"$f":"IF(I240,1,IF(I241,2,IF(I242,3,IF(I243,4,\"-\"))))","v":"-"},"-","-","-","-","-","-","-","-",null,{"$f":"BF152","v":"Q2.8"},"Q2.8NEPRAVDA",false,"Take appropriate corrective actions to prevent reoccurrence of accidents and incidents."]
[null,{"$f":"'Chapter 2'!C192","v":"Q2.31"},{"$f":"IF('Chapter 2'!K193,1,IF('Chapter 2'!K194,2,IF('Chapter 2'!K195,3,IF('Chapter 2'!K196,4,\"\"))))","v":1},"formula 4 choices",null,null,null,{"$f":"'Chapter 2'!K51","v":true},null,true,true,true,null,null,false,null,null,null,{"$f":"G144","v":"Q2.6"},{"$f":"IF(I144=\"\",$H144,I144)","v":false},false,false,false,false,false,false,false,false,false,null,null,{"$f":"B150","v":"Q2.27"},null,{"$f":"100/6","v":16.666666666666668},null,null,null,null,null,null,{"$f":"B154","v":"Q2.31"},2,"major issue",1,null,null,"Q2.31",{"$f":"IF(I244,1,IF(I245,2,IF(I246,3,IF(I247,4,\"-\"))))","v":"-"},"-","-","-","-","-","-","-","-",null,{"$f":"BF153","v":"Q2.8"},"Q2.8PRAVDA",true,"Share key findings and associated corrective actions with relevant interested parties."]
[null,{"$f":"'Chapter 2'!C198","v":"Q2.32"},{"$f":"IF('Chapter 2'!K199,1,IF('Chapter 2'!K200,2,IF('Chapter 2'!K201,3,IF('Chapter 2'!K202,4,\"\"))))","v":2},"formula 4 choices",null,null,null,{"$f":"'Chapter 2'!K52","v":false},null,false,false,false,null,null,true,null,null,null,null,{"$f":"IF(I145=\"\",$H145,I145)","v":false},{"$f":"IF(J145=\"\",$H145,J145)","v":false},false,false,{"$f":"IF(M145=\"\",$H145,M145)","v":false},{"$f":"IF(N145=\"\",$H145,N145)","v":false},false,false,false,false,null,null,{"$f":"B151","v":"Q2.28"},null,{"$f":"100/6","v":16.666666666666668},null,null,null,null,null,null,"Q2.32",2,"ok",0,null,null,"Q2.32",{"$f":"IF(I248,1,IF(I249,2,IF(I250,3,IF(I251,4,\"-\"))))","v":"-"},"-","-","-","-","-","-","-","-",null,{"$f":"BF154","v":"Q2.8"},"Q2.8NEPRAVDA",false,"No need to immediately change strategy, however always seek improvement."]
[null,{"$f":"'Chapter 2'!C206","v":"Q2.33"},{"$f":"IF('Chapter 2'!K207,1,IF('Chapter 2'!K208,2,IF('Chapter 2'!K209,3,IF('Chapter 2'!K210,4,\"\"))))","v":3},"formula 4 choices",null,null,{"$f":"B132","v":"Q2.9"},{"$f":"'Chapter 2'!K55","v":false},null,null,false,false,null,null,false,null,null,null,null,true,true,true,true,true,true,true,true,true,false,null,null,"Q2.29",null,16.666666666666668,null,null,null,null,null,null,"Q2.33",2,"ok",0,null,null,"Q2.33",{"$f":"IF(I252,1,IF(I253,2,IF(I254,3,IF(I255,4,\"-\"))))","v":"-"},3,3,"-","-",3,3,3,"-",null,{"$f":"G156","v":"Q2.9"},"Q2.9NEPRAVDA",false,"Prepare all workers and visitors to react to an emergency by organising regular exercises. First identify, name and train responders and other persons having a role in the response to emergencies."]
[null,{"$f":"'Chapter 2'!C212","v":"Q2.34"},{"$f":"IF('Chapter 2'!K213,1,IF('Chapter 2'!K214,2,IF('Chapter 2'!K215,3,IF('Chapter 2'!K216,4,\"\"))))","v":4},"formula 4 choices",null,null,null,{"$f":"'Chapter 2'!K56","v":false},null,null,false,false,null,null,false,null,null,null,null,false,false,false,false,false,false,false,false,false,false,null,null,"Q2.30",null,16.666666666666668,null,null,null,null,null,null,"Q2.34",1,"ok",0,null,null,"Q2.34",{"$f":"IF(I256,1,IF(I257,2,IF(I258,3,IF(I259,4,\"-\"))))","v":"-"},4,"-","-",4,4,4,"-","-",null,{"$f":"BF156","v":"Q2.9"},"Q2.9NEPRAVDA",false,"Review the emergency plan based on lessons learned from the emergency exercises and other events."]
[null,{"$f":"'Chapter 2'!C218","v":"Q2.35"},{"$f":"IF('Chapter 2'!K219,1,IF('Chapter 2'!K220,2,IF('Chapter 2'!K221,3,IF('Chapter 2'!K222,4,\"\"))))","v":3},"formula 4 choices",null,null,null,{"$f":"'Chapter 2'!K57","v":true},null,null,true,true,null,null,true,null,null,null,null,null,null,null,null,null,null,null,null,null,null,null,null,"Q2.31",null,16.666666666666668,null,null,null,null,null,null,"Q2.35",1,"ok",0,null,null,"Q2.35",{"$f":"IF(I260,1,IF(I261,2,IF(I262,3,IF(I263,4,\"-\"))))","v":"-"},3,"-","-","-",3,3,3,"-",null,{"$f":"BF157","v":"Q2.9"},"Q2.9PRAVDA",true,"Ensure close cooperation with external responders by having them join some emergency exercises, know the site and have the site emergency plan accessible."]
[null,{"$f":"'Chapter 2'!C224","v":"Q2.36"},{"$f":"IF('Chapter 2'!K225,1,IF('Chapter 2'!K226,2,IF('Chapter 2'!K227,3,IF('Chapter 2'!K228,4,\"\"))))","v":3},"formula 4 choices",null,null,null,{"$f":"'Chapter 2'!K58","v":false},null,null,false,false,null,null,false,null,null,null,null,null,null,null,null,null,null,null,null,null,null,null,null,{"$f":"B155","v":"Q2.32"},null,16.666666666666668,null,null,null,null,null,null,"Q2.36",1,"ok",0,null,null,"Q2.36",{"$f":"IF(I264,1,IF(I265,2,IF(I266,3,IF(I267,4,\"-\"))))","v":"-"},3,"-","-","-",3,3,3,"-",null,"Q2.9","Q2.9NEPRAVDA",false,"No need to immediately change strategy, however always seek improvement."]
[null,{"$f":"'Chapter 2'!C230","v":"Q2.37"},{"$f":"IF('Chapter 2'!K231,1,IF('Chapter 2'!K232,2,IF('Chapter 2'!K233,3,IF('Chapter 2'!K234,4,\"\"))))","v":3},"formula 4 choices",null,null,{"$f":"B133","v":"Q2.10"},{"$f":"'Chapter 2'!K61","v":false},false,false,false,false,false,false,false,null,null,null,{"$f":"G148","v":"Q2.7"},{"$f":"IF(I148=\"\",$H148,I148)","v":false},false,false,false,false,false,false,false,false,false,null,{"$f":"'Chapter 2'!B204","v":"Životní prostředí "},null,{"$f":"13/45*100","v":28.888888888888886},null,null,null,{"$f":"(C156*AH161+C157*AH162+C158*AH163+C159*AH164+C160*AH165+C161*AH166+C162*AH167+C163*AH168+C164*AH169+C165*AH170+C166*AH171+C167*AH172+C168*AH173)/100","v":2.9230769230769225},null,null,null,"Q2.37",1,"ok",0,null,null,"Q2.37",{"$f":"IF(I268,1,IF(I269,2,IF(I270,3,IF(I271,4,\"-\"))))","v":"-"},3,"-","-","-",3,3,3,"-",null,{"$f":"G160","v":"Q2.10"},"Q2.10NEPRAVDA",false,"Provide trainings to new hires regarding H&S. Allow them to participate in discussions regarding to the H&S policy."]
[null,{"$f":"'Chapter 2'!C236","v":"Q2.38"},{"$f":"IF('Chapter 2'!K237,1,IF('Chapter 2'!K238,2,IF('Chapter 2'!K239,3,IF('Chapter 2'!K240,4,\"\"))))","v":3},"formula 4 choices",null,null,null,{"$f":"'Chapter 2'!K62","v":false},false,false,false,false,false,false,false,null,null,null,null,{"$f":"IF(I149=\"\",$H149,I149)","v":true},{"$f":"IF(J149=\"\",$H149,J149)","v":true},false,false,{"$f":"IF(M149=\"\",$H149,M149)","v":true},{"$f":"IF(N149=\"\",$H149,N149)","v":true},false,true,true,false,null,null,{"$f":"B156","v":"Q2.33"},null,{"$f":"100/13","v":7.6923076923076925},null,null,null,null,null,null,"Q2.38",1,"ok",0,null,null,"Q2.38",{"$f":"IF(I272,1,IF(I273,2,IF(I274,3,IF(I275,4,\"-\"))))","v":"-"},3,"-","-","-",3,3,3,"-",null,{"$f":"BF160","v":"Q2.10"},"Q2.10NEPRAVDA",false,"Involve employees in assessing occupational risks and in reviews of the H&S policy.\nEnsure contractors are also covered in the training system, their level of competence on H&S matters is controlled and trainings are provided where required."]
[null,{"$f":"'Chapter 2'!C242","v":"Q2.39"},{"$f":"IF('Chapter 2'!K243,1,IF('Chapter 2'!K244,2,IF('Chapter 2'!K245,3,IF('Chapter 2'!K246,4,\"\"))))","v":3},"formula 4 choices",null,null,null,{"$f":"'Chapter 2'!K63","v":true},true,true,true,true,true,true,true,null,null,null,null,false,false,false,true,false,false,true,false,false,false,null,null,{"$f":"B157","v":"Q2.34"},null,{"$f":"100/13","v":7.6923076923076925},null,null,null,null,null,null,"Q2.39",1,"ok",0,null,null,"Q2.39",{"$f":"IF(I276,1,IF(I277,2,IF(I278,3,IF(I279,4,\"-\"))))","v":"-"},3,"-","-","-",3,3,3,"-",null,{"$f":"BF161","v":"Q2.10"},"Q2.10PRAVDA",true,"Evaluate the effectiveness of the communications and trainings for all workers."]
[null,{"$f":"'Chapter 2'!C248","v":"Q2.40"},{"$f":"IF('Chapter 2'!K249,1,IF('Chapter 2'!K250,2,IF('Chapter 2'!K251,3,IF('Chapter 2'!K252,4,\"\"))))","v":3},"formula 4 choices",null,null,null,{"$f":"'Chapter 2'!K64","v":false},false,false,false,false,false,false,false,null,null,null,null,false,false,true,false,false,false,false,false,false,false,null,null,"Q2.35",null,7.6923076923076925,null,null,null,null,null,null,"Q2.40",1,"ok",0,null,null,"Q2.40",{"$f":"IF(I280,1,IF(I281,2,IF(I282,3,IF(I283,4,\"-\"))))","v":"-"},3,"-","-","-",3,3,3,"-",null,{"$f":"BF162","v":"Q2.10"},"Q2.10NEPRAVDA",false,"No need to immediately change strategy, however always seek improvement."]
[null,{"$f":"'Chapter 2'!C254","v":"Q2.41"},{"$f":"IF('Chapter 2'!K255,1,IF('Chapter 2'!K256,2,IF('Chapter 2'!K257,3,IF('Chapter 2'!K258,4,\"\"))))","v":3},"formula 4 choices",null,null,{"$f":"B134","v":"Q2.11"},{"$f":"'Chapter 2'!K69","v":false},null,null,null,null,null,null,null,null,null,null,null,null,null,null,null,null,null,null,null,null,null,null,null,"Q2.36",null,7.6923076923076925,null,null,null,null,null,null,"Q2.41",1,"ok",0,null,null,"Q2.41",{"$f":"IF(I284,1,IF(I285,2,IF(I286,3,IF(I287,4,\"-\"))))","v":"-"},3,"-","-","-",3,3,3,"-",null,{"$f":"G164","v":"Q2.11"},"Q2.11NEPRAVDA",false,"Define the roles and resources.\nApply the policy for all.\nDefine specific objectives and track these objectives with indicators."]
[null,{"$f":"'Chapter 2'!C260","v":"Q2.42"},{"$f":"IF('Chapter 2'!K261,1,IF('Chapter 2'!K262,2,IF('Chapter 2'!K263,3,IF('Chapter 2'!K264,4,\"\"))))","v":3},"formula 4 choices",null,null,null,{"$f":"'Chapter 2'!K70","v":false},null,null,null,null,null,null,null,null,null,null,null,null,null,null,null,null,null,null,null,null,null,null,null,"Q2.37",null,7.6923076923076925,null,null,null,null,null,null,"Q2.42",1,"ok",0,null,null,"Q2.42",{"$f":"IF(I288,1,IF(I289,2,IF(I290,3,IF(I291,4,\"-\"))))","v":"-"},3,"-","-","-",3,3,3,"-",null,{"$f":"BF164","v":"Q2.11"},"Q2.11NEPRAVDA",false,"Clearly define responsibilities for all levels in the organisation to prevent accident.\nApply the policy of the company.\nClear objectives are assigned to the process safety staff in the way to contribute to the performance, according to their responsibility level."]
[null,{"$f":"'Chapter 2'!C266","v":"Q2.43"},{"$f":"IF('Chapter 2'!K267,1,IF('Chapter 2'!K268,2,IF('Chapter 2'!K269,3,IF('Chapter 2'!K270,4,\"\"))))","v":3},"formula 4 choices",null,null,null,{"$f":"'Chapter 2'!K71","v":true},null,null,null,null,null,null,null,null,null,null,{"$f":"G152","v":"Q2.8"},{"$f":"IF(I152=\"\",$H152,I152)","v":false},false,false,false,false,false,false,false,false,false,null,null,"Q2.38",null,7.6923076923076925,null,null,null,null,null,null,"Q2.43",1,"ok",0,null,null,"Q2.43",{"$f":"IF(I292,1,IF(I293,2,IF(I294,3,IF(I295,4,\"-\"))))","v":"-"},3,4,"-","-",3,3,"-","-",null,{"$f":"BF165","v":"Q2.11"},"Q2.11PRAVDA",true,"Involve the employees in the policy development."]
[null,{"$f":"'Chapter 2'!C272","v":"Q2.44"},{"$f":"IF('Chapter 2'!K273,1,IF('Chapter 2'!K274,2,IF('Chapter 2'!K275,3,IF('Chapter 2'!K276,4,\"\"))))","v":3},"formula 4 choices",null,null,null,{"$f":"'Chapter 2'!K72","v":false},null,null,null,null,null,null,null,null,null,null,null,{"$f":"IF(I153=\"\",$H153,I153)","v":false},{"$f":"IF(J153=\"\",$H153,J153)","v":false},false,false,{"$f":"IF(M153=\"\",$H153,M153)","v":false},{"$f":"IF(N153=\"\",$H153,N153)","v":false},false,false,false,false,null,null,"Q2.39",null,7.6923076923076925,null,null,null,null,null,null,"Q2.44",1,"ok",0,null,null,"Q2.44",{"$f":"IF(I296,1,IF(I297,2,IF(I298,3,IF(I299,4,\"-\"))))","v":"-"},3,3,"-","-",3,3,3,"-",null,{"$f":"BF166","v":"Q2.11"},"Q2.11NEPRAVDA",false,"No need to immediately change strategy, however always seek improvement."]
[null,{"$f":"'Chapter 2'!C278","v":"Q2.45"},{"$f":"IF('Chapter 2'!K279,1,IF('Chapter 2'!K280,2,IF('Chapter 2'!K281,3,IF('Chapter 2'!K282,4,\"\"))))","v":1},"formula 4 choices",null,null,{"$f":"B135","v":"Q2.12"},{"$f":"'Chapter 2'!K75","v":false},null,null,null,null,null,null,null,null,null,null,null,true,true,true,true,true,true,false,true,true,false,null,null,{"$f":"B163","v":"Q2.40"},null,7.6923076923076925,null,null,null,null,null,null,{"$f":"B168","v":"Q2.45"},1,{"$f":"IF(C168<AP168,\"major issue\",\"ok\")","v":"ok"},0,null,null,"Q2.45",{"$f":"IF(I300,1,IF(I301,2,IF(I302,3,IF(I303,4,\"-\"))))","v":"-"},1,3,"-","-",2,2,2,"-",null,{"$f":"G168","v":"Q2.12"},"Q2.12NEPRAVDA",false,"To identify and to detail for each processes/equipment/sites: \n- The potential risks to public health and safety in normal course of operation;\n- The potential risks to public health and safety in a degraded situation in the context of altered or abnormal operation."]
[null,null,null,null,null,null,null,{"$f":"'Chapter 2'!K76","v":true},null,null,null,null,null,null,null,null,null,null,null,false,false,false,false,false,false,true,false,false,false,null,null,"Q2.41",null,7.6923076923076925,null,null,null,null,null,null,null,null,null,null,null,null,null,null,null,null,null,null,null,null,null,null,null,{"$f":"BF168","v":"Q2.12"},"Q2.12PRAVDA",true,"In addition: \n- Provide this information about the potential risks in the different situations to local residents;\n- Ensure that security is controlled by the dissemination of this information."]
[null,null,null,null,null,null,null,{"$f":"'Chapter 2'!K77","v":false},null,null,null,null,null,null,null,null,null,null,null,null,null,null,null,null,null,null,null,null,null,null,null,"Q2.42",null,7.6923076923076925,null,null,null,null,null,null,null,null,null,{"$f":"IF(SUM(AR124:AR168)>0,\"Key RC elements are still to be implemented, see tips\",\"\")","v":"Key RC elements are still to be implemented, see tips"},null,null,null,null,null,null,null,null,null,null,null,null,null,{"$f":"BF169","v":"Q2.12"},"Q2.12NEPRAVDA",false,"Determine for the identified accident scenarios : \n- The effects of hazardous phenomena on public health, safety and their intensity (severity scale).\n- The probability of occurrence (probability scale) and from this the level of risk or criticality (coupling of severity and probability)."]
[null,null,null,null,null,null,null,{"$f":"'Chapter 2'!K78","v":false},null,null,null,null,null,null,null,null,null,null,null,null,null,null,null,null,null,null,null,null,null,null,null,"Q2.43",null,7.6923076923076925,null,null,null,null,null,null,null,null,null,null,null,null,null,null,null,null,null,null,null,null,null,null,null,{"$f":"BF170","v":"Q2.12"},"Q2.12NEPRAVDA",false,"No need to immediately change strategy, however always seek improvement."]
[null,null,null,null,null,null,{"$f":"B136","v":"Q2.13"},{"$f":"'Chapter 2'!K81","v":true},null,null,null,null,null,null,null,null,null,null,{"$f":"G156","v":"Q2.9"},{"$f":"IF(I156=\"\",$H156,I156)","v":false},false,false,false,false,false,false,false,false,false,null,null,"Q2.44",null,7.6923076923076925,null,null,null,null,null,null,null,null,null,null,null,null,null,null,null,null,null,null,null,null,null,null,null,{"$f":"G172","v":"Q2.13"},"Q2.13PRAVDA",true,"Establish classification criteria for the accidents (based on nature/consequence and potential risks).\nIdentify the incidents linked with process safety (at least under definitions of the ICCA Indicator of Performance of Process Safety (LoC)) (https://cefic.org/app/uploads/2019/02/Cefic-ICCA-Guidance-on-Process-Safety-Performance-Indicators.pdf)."]
[null,null,null,null,null,null,null,{"$f":"'Chapter 2'!K82","v":false},null,null,null,null,null,null,null,null,null,null,null,{"$f":"IF(I157=\"\",$H157,I157)","v":false},{"$f":"IF(J157=\"\",$H157,J157)","v":false},false,false,{"$f":"IF(M157=\"\",$H157,M157)","v":false},{"$f":"IF(N157=\"\",$H157,N157)","v":false},false,false,false,false,null,null,"Q2.45",null,7.6923076923076925,null,null,null,null,null,null,null,null,null,null,null,null,null,null,null,null,null,null,null,null,null,null,null,{"$f":"BF172","v":"Q2.13"},"Q2.13NEPRAVDA",false,"Define the criteria for the team to be part of the analysis of incidents / accident, including a coordinator and timeframe to have the conclusions."]
[null,null,null,null,null,null,null,{"$f":"'Chapter 2'!K83","v":false},null,null,null,null,null,null,null,null,null,null,null,true,true,true,true,true,true,true,true,true,false,null,null,null,null,null,null,null,null,null,null,null,null,null,null,null,null,null,null,null,null,null,null,null,null,null,null,null,null,{"$f":"BF173","v":"Q2.13"},"Q2.13NEPRAVDA",false,"Accidents are used as a learning experience and to be shared.\nIntroduce good practices of corrective actions as preventive measures where applicable."]
[null,null,null,null,null,null,null,{"$f":"'Chapter 2'!K84","v":false},null,null,null,null,null,null,null,null,null,null,null,false,false,false,false,false,false,false,false,false,false,null,null,null,null,null,null,null,null,null,null,null,null,null,null,null,null,null,null,null,null,null,null,null,null,null,null,null,null,{"$f":"BF174","v":"Q2.13"},"Q2.13NEPRAVDA",false,"No need to immediately change strategy, however always seek improvement."]
[null,null,null,null,null,null,{"$f":"B137","v":"Q2.14"},{"$f":"'Chapter 2'!K87","v":false},null,null,null,null,null,null,null,null,null,null,null,null,null,null,null,null,null,null,null,null,null,null,null,null,null,null,null,null,null,null,null,null,null,null,null,null,null,null,null,null,null,null,null,null,null,null,null,null,null,{"$f":"G176","v":"Q2.14"},"Q2.14NEPRAVDA",false,"Establish criteria, system and periodicity for control to assess the process safety and objectives realisation\nIntegrate in the management review the audit results and evaluation towards the objectives for every department or company sector.\nIntegrate the revision of the audit results and evaluation towards the objectives in the management review.\nIdentify indicators to verify the effectiveness of the system."]
[null,null,null,null,null,null,null,{"$f":"'Chapter 2'!K88","v":true},null,null,null,null,null,null,null,null,null,null,null,null,null,null,null,null,null,null,null,null,null,null,null,null,null,null,null,null,null,null,null,null,null,null,null,null,null,null,null,null,null,null,null,null,null,null,null,null,null,{"$f":"BF176","v":"Q2.14"},"Q2.14PRAVDA",true,"Prioritise to audits and inspections results.\nUse the audits results to define future objectives."]
[null,null,null,null,null,null,null,{"$f":"'Chapter 2'!K89","v":false},null,null,null,null,null,null,null,null,null,null,{"$f":"G160","v":"Q2.10"},{"$f":"IF(I160=\"\",$H160,I160)","v":false},false,false,false,false,false,false,false,false,false,null,null,null,null,null,null,null,null,null,null,null,null,null,null,null,null,null,null,null,null,null,null,null,null,null,null,null,null,{"$f":"BF177","v":"Q2.14"},"Q2.14NEPRAVDA",false,"Review all process safety related documentation regularly in order to ensure that it is up to date (e.g. all changes are considered and evaluated)."]
[null,null,null,null,null,null,null,{"$f":"'Chapter 2'!K90","v":false},null,null,null,null,null,null,null,null,null,null,null,{"$f":"IF(I161=\"\",$H161,I161)","v":false},{"$f":"IF(J161=\"\",$H161,J161)","v":false},false,false,{"$f":"IF(M161=\"\",$H161,M161)","v":false},{"$f":"IF(N161=\"\",$H161,N161)","v":false},false,false,false,false,null,null,null,null,null,null,null,null,null,null,null,null,null,null,null,null,null,null,null,null,null,null,null,null,null,null,null,null,{"$f":"BF178","v":"Q2.14"},"Q2.14NEPRAVDA",false,"No need to immediately change strategy, however always seek improvement."]
[null,null,null,null,null,null,{"$f":"B138","v":"Q2.15"},{"$f":"'Chapter 2'!K93","v":false},null,null,null,null,null,null,null,null,null,null,null,true,true,true,true,true,true,true,true,true,false,null,null,null,null,null,null,null,null,null,null,null,null,null,null,null,null,null,null,null,null,null,null,null,null,null,null,null,null,{"$f":"G180","v":"Q2.15"},"Q2.15NEPRAVDA",false,"Establish a continuous communication system in place or control system of the presence of the workers at critical posts or isolated tasks.\nReview periodically the instructions for the critical works.\nEstablish a system of work permits for critical equipment and installations. "]
[null,null,null,null,null,null,null,{"$f":"'Chapter 2'!K94","v":false},null,null,null,null,null,null,null,null,null,null,null,false,false,false,false,false,false,false,false,false,false,null,null,null,null,null,null,null,null,null,null,null,null,null,null,null,null,null,null,null,null,null,null,null,null,null,null,null,null,{"$f":"BF180","v":"Q2.15"},"Q2.15NEPRAVDA",false,"Establish a system for staff to suggest improvement and provide their feedback from problems or incidents encountered related to the work instructions."]
[null,null,null,null,null,null,null,{"$f":"'Chapter 2'!K95","v":true},null,null,null,null,null,null,null,null,null,null,null,null,null,null,null,null,null,null,null,null,null,null,null,null,null,null,null,null,null,null,null,null,null,null,null,null,null,null,null,null,null,null,null,null,null,null,null,null,null,{"$f":"BF181","v":"Q2.15"},"Q2.15PRAVDA",true,"Evaluate and define the minimum staff.\nProcesses are in place for safe operation (or shutdown) in case minimum staffing cannot be ensured (e.g. illnesses, strikes …)."]
[null,null,null,null,null,null,null,{"$f":"'Chapter 2'!K96","v":false},null,null,null,null,null,null,null,null,null,null,null,null,null,null,null,null,null,null,null,null,null,null,null,null,null,null,null,null,null,null,null,null,null,null,null,null,null,null,null,null,null,null,null,null,null,null,null,null,null,{"$f":"BF182","v":"Q2.15"},"Q2.15NEPRAVDA",false,"No need to immediately change strategy, however always seek improvement."]
[null,null,null,null,null,null,{"$f":"B139","v":"Q2.16"},{"$f":"'Chapter 2'!K99","v":false},null,null,null,null,null,null,null,null,null,null,null,null,null,null,null,null,null,null,null,null,null,null,null,null,null,null,null,null,null,null,null,null,null,null,null,null,null,null,null,null,null,null,null,null,null,null,null,null,null,{"$f":"G184","v":"Q2.16"},"Q2.16NEPRAVDA",false,"It is recommended to have a detailed plan of the Installation location. These plans are in place for the site, the building(s), floor plans, evacuation routes and – where needed – areas of specific safety requirements (e.g. distance with respect to other requirements (ATEX; escape routes, adjacent buildings, etc.)."]
[null,null,null,null,null,null,null,{"$f":"'Chapter 2'!K100","v":false},null,null,null,null,null,null,null,null,null,null,null,null,null,null,null,null,null,null,null,null,null,null,null,null,null,null,null,null,null,null,null,null,null,null,null,null,null,null,null,null,null,null,null,null,null,null,null,null,null,{"$f":"BF184","v":"Q2.16"},"Q2.16NEPRAVDA",false,"Apply Best Available Technologies (BATs ),  e.g. SIS, redundant installations, fail-safe installations … "]
[null,null,null,null,null,null,null,{"$f":"'Chapter 2'!K101","v":true},null,null,null,null,null,null,null,null,null,null,{"$f":"G164","v":"Q2.11"},{"$f":"IF(I164=\"\",$H164,I164)","v":false},false,false,false,false,false,false,false,false,false,null,null,null,null,null,null,null,null,null,null,null,null,null,null,null,null,null,null,null,null,null,null,null,null,null,null,null,null,{"$f":"BF185","v":"Q2.16"},"Q2.16PRAVDA",true,"Design such that even a failure would lead to a safe situation."]
[null,null,null,null,null,null,null,{"$f":"'Chapter 2'!K102","v":false},null,null,null,null,null,null,null,null,null,null,null,{"$f":"IF(I165=\"\",$H165,I165)","v":false},{"$f":"IF(J165=\"\",$H165,J165)","v":false},false,false,{"$f":"IF(M165=\"\",$H165,M165)","v":false},{"$f":"IF(N165=\"\",$H165,N165)","v":false},false,false,false,false,null,null,null,null,null,null,null,null,null,null,null,null,null,null,null,null,null,null,null,null,null,null,null,null,null,null,null,null,{"$f":"BF186","v":"Q2.16"},"Q2.16NEPRAVDA",false,"No need to immediately change strategy, however always seek improvement."]
[null,null,null,null,null,null,{"$f":"B140","v":"Q2.17"},{"$f":"'Chapter 2'!K105","v":false},null,null,null,null,null,null,null,null,null,null,null,true,true,true,true,true,true,true,true,true,false,null,null,null,null,null,null,null,null,null,null,null,null,null,null,null,null,null,null,null,null,null,null,null,null,null,null,null,null,{"$f":"G188","v":"Q2.17"},{"$f":"CONCATENATE(BF188,BH188)","v":"Q2.17NEPRAVDA"},false,"Test, document and review safety critical equipment before start up the installation.\nIts intended function is verified and documented.\nEstablish a procedure describing corrective actions and temporary solutions until corrective action has been carried out if any remaining risks are assessed before startup."]
[null,null,null,null,null,null,null,{"$f":"'Chapter 2'!K106","v":false},null,null,null,null,null,null,null,null,null,null,null,false,false,false,false,false,false,false,false,false,false,null,null,null,null,null,null,null,null,null,null,null,null,null,null,null,null,null,null,null,null,null,null,null,null,null,null,null,null,{"$f":"BF188","v":"Q2.17"},"Q2.17NEPRAVDA",{"$f":"H189","v":false},"Verify the effectiveness of the corrective actions."]
[null,null,null,null,null,null,null,{"$f":"'Chapter 2'!K107","v":false},null,null,null,null,null,null,null,null,null,null,null,null,null,null,null,null,null,null,null,null,null,null,null,null,null,null,null,null,null,null,null,null,null,null,null,null,null,null,null,null,null,null,null,null,null,null,null,null,null,{"$f":"BF189","v":"Q2.17"},"Q2.17NEPRAVDA",false,"Keep documentation available, including set up, maintenance and updates of the process and equipment"]
[null,null,null,null,null,null,null,{"$f":"'Chapter 2'!K108","v":true},null,null,null,null,null,null,null,null,null,null,null,null,null,null,null,null,null,null,null,null,null,null,null,null,null,null,null,null,null,null,null,null,null,null,null,null,null,null,null,null,null,null,null,null,null,null,null,null,null,{"$f":"BF190","v":"Q2.17"},"Q2.17PRAVDA",true,"No need to immediately change strategy, however always seek improvement."]
[null,null,null,null,null,null,{"$f":"B141","v":"Q2.18"},{"$f":"'Chapter 2'!K111","v":false},null,null,null,null,null,null,null,null,null,null,{"$f":"G168","v":"Q2.12"},{"$f":"IF(I168=\"\",$H168,I168)","v":false},false,false,false,false,false,false,false,false,false,null,null,null,null,null,null,null,null,null,null,null,null,null,null,null,null,null,null,null,null,null,null,null,null,null,null,null,null,{"$f":"G192","v":"Q2.18"},"Q2.18NEPRAVDA",false,"Identify the critical process elements and define the level of reliability these elements should have. "]
[null,null,null,null,null,null,null,{"$f":"'Chapter 2'!K112","v":false},null,null,null,null,null,null,null,null,null,null,null,{"$f":"IF(I169=\"\",$H169,I169)","v":true},{"$f":"IF(J169=\"\",$H169,J169)","v":true},true,true,{"$f":"IF(M169=\"\",$H169,M169)","v":true},{"$f":"IF(N169=\"\",$H169,N169)","v":true},true,true,true,false,null,null,null,null,null,null,null,null,null,null,null,null,null,null,null,null,null,null,null,null,null,null,null,null,null,null,null,null,{"$f":"BF192","v":"Q2.18"},"Q2.18NEPRAVDA",false,"It is recommended to have alarms in case of deviations in the process, at permanently occupied locations."]
[null,null,null,null,null,null,null,{"$f":"'Chapter 2'!K113","v":true},null,null,null,null,null,null,null,null,null,null,null,false,false,false,false,false,false,false,false,false,false,null,null,null,null,null,null,null,null,null,null,null,null,null,null,null,null,null,null,null,null,null,null,null,null,null,null,null,null,{"$f":"BF193","v":"Q2.18"},"Q2.18PRAVDA",true,"Carry out an evaluation for every reactor or storage or other piece of equipment containing amounts of hazardous substances above a certain threshold to ensure there is a prevention, contention and evacuation system in place."]
[null,null,null,null,null,null,null,{"$f":"'Chapter 2'!K114","v":false},null,null,null,null,null,null,null,null,null,null,null,false,false,false,false,false,false,false,false,false,false,null,null,null,null,null,null,null,null,null,null,null,null,null,null,null,null,null,null,null,null,null,null,null,null,null,null,null,null,{"$f":"BF194","v":"Q2.18"},"Q2.18NEPRAVDA",false,"No need to immediately change strategy, however always seek improvement."]
[null,null,null,null,null,null,{"$f":"B142","v":"Q2.19"},{"$f":"'Chapter 2'!K117","v":false},null,null,null,null,null,null,null,null,null,null,null,null,null,null,null,null,null,null,null,null,null,null,null,null,null,null,null,null,null,null,null,null,null,null,null,null,null,null,null,null,null,null,null,null,null,null,null,null,null,{"$f":"G196","v":"Q2.19"},"Q2.19NEPRAVDA",false,"Include in the program clear criteria concerning: updates in case of non-conformities, periodicity, goals and specific maintenance instructions for all equipment with an influence on process safety.\nEstablish a specific program for those parts which are critical for process safety (locks, loops, security valves, rupture disks…)."]
[null,null,null,null,null,null,null,{"$f":"'Chapter 2'!K118","v":false},null,null,null,null,null,null,null,null,null,null,null,null,null,null,null,null,null,null,null,null,null,null,null,null,null,null,null,null,null,null,null,null,null,null,null,null,null,null,null,null,null,null,null,null,null,null,null,null,null,{"$f":"BF196","v":"Q2.19"},"Q2.19NEPRAVDA",false,"Identify the responsible staff for the realisation of the maintenance programme. Indicators are set up to monitor maintenance activities (% of completion, problems encountered, etc.)."]
[null,null,null,null,null,null,null,{"$f":"'Chapter 2'!K119","v":true},null,null,null,null,null,null,null,null,null,null,{"$f":"G172","v":"Q2.13"},{"$f":"IF(I172=\"\",$H172,I172)","v":true},true,true,true,true,true,true,true,true,false,null,null,null,null,null,null,null,null,null,null,null,null,null,null,null,null,null,null,null,null,null,null,null,null,null,null,null,null,{"$f":"BF197","v":"Q2.19"},"Q2.19PRAVDA",true,"Evaluate the effectiveness of the maintenance program on a regular basis. In addition, the success is measured, and the maintenance plans are improved."]
[null,null,null,null,null,null,null,{"$f":"'Chapter 2'!K120","v":false},null,null,null,null,null,null,null,null,null,null,null,{"$f":"IF(I173=\"\",$H173,I173)","v":false},{"$f":"IF(J173=\"\",$H173,J173)","v":false},false,false,{"$f":"IF(M173=\"\",$H173,M173)","v":false},{"$f":"IF(N173=\"\",$H173,N173)","v":false},false,false,false,false,null,null,null,null,null,null,null,null,null,null,null,null,null,null,null,null,null,null,null,null,null,null,null,null,null,null,null,null,{"$f":"BF198","v":"Q2.19"},"Q2.19NEPRAVDA",false,"No need to immediately change strategy, however always seek improvement."]
[null,null,null,null,null,null,{"$f":"B143","v":"Q2.20"},{"$f":"'Chapter 2'!K123","v":false},null,null,null,null,null,null,null,null,null,null,null,false,false,false,false,false,false,false,false,false,false,null,null,null,null,null,null,null,null,null,null,null,null,null,null,null,null,null,null,null,null,null,null,null,null,null,null,null,null,{"$f":"G200","v":"Q2.20"},"Q2.20NEPRAVDA",false,"Evaluate the need for the safe supply of energies/supplies. Make alternative solutions for the main energy services available."]
[null,null,null,null,null,null,null,{"$f":"'Chapter 2'!K124","v":false},null,null,null,null,null,null,null,null,null,null,null,false,false,false,false,false,false,false,false,false,false,null,null,null,null,null,null,null,null,null,null,null,null,null,null,null,null,null,null,null,null,null,null,null,null,null,null,null,null,{"$f":"BF200","v":"Q2.20"},"Q2.20NEPRAVDA",false,"Perform tests to verify correct operation of emergency systems and responsible staff are clearly identified."]
[null,null,null,null,null,null,null,{"$f":"'Chapter 2'!K125","v":false},null,null,null,null,null,null,null,null,null,null,null,null,null,null,null,null,null,null,null,null,null,null,null,null,null,null,null,null,null,null,null,null,null,null,null,null,null,null,null,null,null,null,null,null,null,null,null,null,null,{"$f":"BF201","v":"Q2.20"},"Q2.20NEPRAVDA",false,"Establish a contingencies plan including the analysis of possible contingencies and defining the acceptable response time, response groups and processes."]
[null,null,null,null,null,null,null,{"$f":"'Chapter 2'!K126","v":true},null,null,null,null,null,null,null,null,null,null,null,null,null,null,null,null,null,null,null,null,null,null,null,null,null,null,null,null,null,null,null,null,null,null,null,null,null,null,null,null,null,null,null,null,null,null,null,null,null,{"$f":"BF202","v":"Q2.20"},"Q2.20PRAVDA",true,"No need to immediately change strategy, however always seek improvement."]
[null,null,null,null,null,null,{"$f":"B144","v":"Q2.21"},{"$f":"'Chapter 2'!K129","v":false},null,null,false,null,null,null,null,null,null,null,{"$f":"G176","v":"Q2.14"},{"$f":"IF(I176=\"\",$H176,I176)","v":false},false,false,false,false,false,false,false,false,false,null,null,null,null,null,null,null,null,null,null,null,null,null,null,null,null,null,null,null,null,null,null,null,null,null,null,null,null,{"$f":"G204","v":"Q2.21"},"Q2.21NEPRAVDA",false,"Realize practical exercises at least once per year followed by an evaluation of the effectiveness of the emergency plan. Establish an information program to communicate with the authorities, intervention force, press, community etc. and to improve preparedness in case of an emergency. "]
[null,null,null,null,null,null,null,{"$f":"'Chapter 2'!K130","v":true},null,null,false,null,null,null,null,null,null,null,null,{"$f":"IF(I177=\"\",$H177,I177)","v":true},{"$f":"IF(J177=\"\",$H177,J177)","v":true},true,true,{"$f":"IF(M177=\"\",$H177,M177)","v":true},{"$f":"IF(N177=\"\",$H177,N177)","v":true},true,true,true,false,null,null,null,null,null,null,null,null,null,null,null,null,null,null,null,null,null,null,null,null,null,null,null,null,null,null,null,null,{"$f":"BF204","v":"Q2.21"},"Q2.21PRAVDA",true,"In addition, the emergency plan has been prepared and integrated with an external emergency plan with the collaboration of partners and neighbouring organisations (when applicable). "]
[null,null,null,null,null,null,null,{"$f":"'Chapter 2'!K131","v":false},null,null,true,null,null,null,null,null,null,null,null,false,false,false,false,false,false,false,false,false,false,null,null,null,null,null,null,null,null,null,null,null,null,null,null,null,null,null,null,null,null,null,null,null,null,null,null,null,null,{"$f":"BF205","v":"Q2.21"},"Q2.21NEPRAVDA",false,"Have a procedure for land use planning to evaluate and obtain knowledge about the neighbouring community (e.g. schools, kinder gardens, hospitals, nursing homes, shopping and sports centers …) and to evaluate the need for preparedness, communication and evacuation in case of an emergency and – if needed – to evaluate the cessation of production."]
[null,null,null,null,null,null,null,{"$f":"'Chapter 2'!K132","v":false},null,null,false,null,null,null,null,null,null,null,null,{"$f":"IF(I179=\"\",$H179,I179)","v":false},false,false,false,false,false,false,false,false,false,null,null,null,null,null,null,null,null,null,null,null,null,null,null,null,null,null,null,null,null,null,null,null,null,null,null,null,null,{"$f":"BF206","v":"Q2.21"},"Q2.21NEPRAVDA",false,"No need to immediately change strategy, however always seek improvement."]
[null,null,null,null,null,null,{"$f":"B145","v":"Q2.22"},{"$f":"'Chapter 2'!K135","v":false},null,null,null,null,null,null,null,null,null,null,null,null,null,null,null,null,null,null,null,null,null,null,null,null,null,null,null,null,null,null,null,null,null,null,null,null,null,null,null,null,null,null,null,null,null,null,null,null,null,{"$f":"G208","v":"Q2.22"},"Q2.22NEPRAVDA",false,"Give a training to employees and contractors on process safety. A training plan is in place covering all aspects of process and plant safety incl. a schedule to repeat such training on a regular basis. In addition, a re-training program is in place for employees who have responsibility in process & plant safety tasks and who have been absent for a longer period of time (e.g. pregnancy, illness, sabbatical …). "]
[null,null,null,null,null,null,null,{"$f":"'Chapter 2'!K136","v":true},null,null,null,null,null,null,null,null,null,null,null,null,null,null,null,null,null,null,null,null,null,null,null,null,null,null,null,null,null,null,null,null,null,null,null,null,null,null,null,null,null,null,null,null,null,null,null,null,null,{"$f":"BF208","v":"Q2.22"},"Q2.22PRAVDA",true,"Provide a continuing education related to emerging process safety tools and techniques company process safety experts)."]
[null,null,null,null,null,null,null,{"$f":"'Chapter 2'!K137","v":false},null,null,null,null,null,null,null,null,null,null,{"$f":"G180","v":"Q2.15"},{"$f":"IF(I180=\"\",$H180,I180)","v":false},false,false,false,false,false,false,false,false,false,null,null,null,null,null,null,null,null,null,null,null,null,null,null,null,null,null,null,null,null,null,null,null,null,null,null,null,null,{"$f":"BF209","v":"Q2.22"},"Q2.22NEPRAVDA",false,"Make available the proof of the competences of all staff contributing to process safety (qualifications for maintenance in ATEX zones, dis- and enabling of alarms and safety-critical equipment, verification of safety measures and installations, authorizations of contractors, professional carnet, etc)."]
[null,null,null,null,null,null,null,{"$f":"'Chapter 2'!K138","v":false},null,null,null,null,null,null,null,null,null,null,null,{"$f":"IF(I181=\"\",$H181,I181)","v":false},{"$f":"IF(J181=\"\",$H181,J181)","v":false},false,false,{"$f":"IF(M181=\"\",$H181,M181)","v":false},{"$f":"IF(N181=\"\",$H181,N181)","v":false},false,false,false,false,null,null,null,null,null,null,null,null,null,null,null,null,null,null,null,null,null,null,null,null,null,null,null,null,null,null,null,null,{"$f":"BF210","v":"Q2.22"},"Q2.22NEPRAVDA",false,"No need to immediately change strategy, however always seek improvement."]
[null,null,null,null,null,null,{"$f":"B146","v":"Q2.23"},{"$f":"'Chapter 2'!K141","v":false},null,null,null,null,null,null,null,null,null,null,null,true,true,true,true,true,true,true,true,true,false,null,null,null,null,null,null,null,null,null,null,null,null,null,null,null,null,null,null,null,null,null,null,null,null,null,null,null,null,{"$f":"G212","v":"Q2.23"},"Q2.23NEPRAVDA",false,"Make the characteristics of all relevant reactions in the process available."]
[null,null,null,null,null,null,null,{"$f":"'Chapter 2'!K142","v":false},null,null,null,null,null,null,null,null,null,null,null,false,false,false,false,false,false,false,false,false,false,null,null,null,null,null,null,null,null,null,null,null,null,null,null,null,null,null,null,null,null,null,null,null,null,null,null,null,null,{"$f":"BF212","v":"Q2.23"},"Q2.23NEPRAVDA",false,"Monitor the evolution of temperature and pressure throughout the process at normal and worst-case situations."]
[null,null,null,null,null,null,null,{"$f":"'Chapter 2'!K143","v":false},null,null,null,null,null,null,null,null,null,null,null,null,null,null,null,null,null,null,null,null,null,null,null,null,null,null,null,null,null,null,null,null,null,null,null,null,null,null,null,null,null,null,null,null,null,null,null,null,null,{"$f":"BF213","v":"Q2.23"},"Q2.23NEPRAVDA",false,"Have in place safety data for all processes and substances (incl. possible intermediate substances, residues and other)\nFor example: evaluation of thermal and chemical stability (e.g. self-decomposition temperature, time to maximum rates, differential thermal analysis…), consequences of interference with other substances (including e.g. energy such as steam, water, cooling/heating agents), information about lower/upper explosion limits."]
[null,null,null,null,null,null,null,{"$f":"'Chapter 2'!K144","v":true},null,null,null,null,null,null,null,null,null,null,null,null,null,null,null,null,null,null,null,null,null,null,null,null,null,null,null,null,null,null,null,null,null,null,null,null,null,null,null,null,null,null,null,null,null,null,null,null,null,{"$f":"BF214","v":"Q2.23"},"Q2.23PRAVDA",true,"No need to immediately change strategy, however always seek improvement."]
[null,null,null,null,null,null,{"$f":"B147","v":"Q2.24"},{"$f":"'Chapter 2'!K147","v":false},null,null,null,null,null,null,null,null,null,null,{"$f":"G184","v":"Q2.16"},{"$f":"IF(I184=\"\",$H184,I184)","v":false},false,false,false,false,false,false,false,false,false,null,null,null,null,null,null,null,null,null,null,null,null,null,null,null,null,null,null,null,null,null,null,null,null,null,null,null,null,{"$f":"G216","v":"Q2.24"},"Q2.24NEPRAVDA",false,"Make diagrams of pipelines and instruments available and keep them up-to-date."]
[null,null,null,null,null,null,null,{"$f":"'Chapter 2'!K148","v":false},null,null,null,null,null,null,null,null,null,null,null,{"$f":"IF(I185=\"\",$H185,I185)","v":false},{"$f":"IF(J185=\"\",$H185,J185)","v":false},false,false,{"$f":"IF(M185=\"\",$H185,M185)","v":false},{"$f":"IF(N185=\"\",$H185,N185)","v":false},false,false,false,false,null,null,null,null,null,null,null,null,null,null,null,null,null,null,null,null,null,null,null,null,null,null,null,null,null,null,null,null,{"$f":"BF216","v":"Q2.24"},"Q2.24NEPRAVDA",false,"Update manufacturing procedures and operation manuals covering all possible operational phases (e.g. start up, normal operation, emergency shut-down, exceptional works, etc.).\nDefine the operating margins and planned actions for emergencies and anomalies."]
[null,null,null,null,null,null,null,{"$f":"'Chapter 2'!K149","v":false},null,null,null,null,null,null,null,null,null,null,null,true,true,true,true,true,true,true,true,true,false,null,null,null,null,null,null,null,null,null,null,null,null,null,null,null,null,null,null,null,null,null,null,null,null,null,null,null,null,{"$f":"BF217","v":"Q2.24"},"Q2.24NEPRAVDA",false,"Make these elements immediately available to staff working on the process. Train staff to the utilisation of the documentation and the actions arising from these procedures/manuals."]
[null,null,null,null,null,null,null,{"$f":"'Chapter 2'!K150","v":true},null,null,null,null,null,null,null,null,null,null,null,false,false,false,false,false,false,false,false,false,false,null,null,null,null,null,null,null,null,null,null,null,null,null,null,null,null,null,null,null,null,null,null,null,null,null,null,null,null,{"$f":"BF218","v":"Q2.24"},"Q2.24PRAVDA",true,"No need to immediately change strategy, however always seek improvement."]
[null,null,null,null,null,null,{"$f":"B148","v":"Q2.25"},{"$f":"'Chapter 2'!K155","v":false},null,null,null,null,null,null,null,null,null,null,null,null,null,null,null,null,null,null,null,null,null,null,null,null,null,null,null,null,null,null,null,null,null,null,null,null,null,null,null,null,null,null,null,null,null,null,null,null,null,{"$f":"G220","v":"Q2.25"},"Q2.25NEPRAVDA",false,"Define minimum requirements to ensure safe logistics, include these as requirements for your logistics providers."]
[null,null,null,null,null,null,null,{"$f":"'Chapter 2'!K156","v":false},null,null,null,null,null,null,null,null,null,null,null,null,null,null,null,null,null,null,null,null,null,null,null,null,null,null,null,null,null,null,null,null,null,null,null,null,null,null,null,null,null,null,null,null,null,null,null,null,null,{"$f":"BF220","v":"Q2.25"},"Q2.25NEPRAVDA",false,"Evaluate the relevant safety actions required in transport operations."]
[null,null,null,null,null,null,null,{"$f":"'Chapter 2'!K157","v":true},null,null,null,null,null,null,null,null,null,null,{"$f":"G188","v":"Q2.17"},{"$f":"IF(I188=\"\",$H188,I188)","v":false},false,false,false,false,false,false,false,false,false,null,null,null,null,null,null,null,null,null,null,null,null,null,null,null,null,null,null,null,null,null,null,null,null,null,null,null,null,{"$f":"BF221","v":"Q2.25"},"Q2.25PRAVDA",true,"An example of scheme that could be used (in total or parts) is SQAS (https://www.sqas.org/). Companies may decide to use other schemes or systems/criteria if available. The choice of a logistic provider is based on each company individual decision-making process which may or may not include SQAS."]
[null,null,null,null,null,null,null,{"$f":"'Chapter 2'!K158","v":false},null,null,null,null,null,null,null,null,null,null,null,{"$f":"IF(I189=\"\",$H189,I189)","v":false},{"$f":"IF(J189=\"\",$H189,J189)","v":false},false,false,{"$f":"IF(M189=\"\",$H189,M189)","v":false},{"$f":"IF(N189=\"\",$H189,N189)","v":false},false,false,false,false,null,null,null,null,null,null,null,null,null,null,null,null,null,null,null,null,null,null,null,null,null,null,null,null,null,null,null,null,{"$f":"BF222","v":"Q2.25"},"Q2.25NEPRAVDA",false,"No need to immediately change strategy, however always seek improvement."]
[null,null,null,null,null,null,{"$f":"B149","v":"Q2.26"},{"$f":"'Chapter 2'!K161","v":false},null,null,null,null,null,null,null,null,null,null,null,false,false,false,false,false,false,false,false,false,false,null,null,null,null,null,null,null,null,null,null,null,null,null,null,null,null,null,null,null,null,null,null,null,null,null,null,null,null,{"$f":"G224","v":"Q2.26"},"Q2.26NEPRAVDA",false,"Set up procedures to ensure systematic appropriate loading and unloading of dangerous goods according to checklists."]
[null,null,null,null,null,null,null,{"$f":"'Chapter 2'!K162","v":false},null,null,null,null,null,null,null,null,null,null,null,true,true,true,true,true,true,true,true,true,false,null,null,null,null,null,null,null,null,null,null,null,null,null,null,null,null,null,null,null,null,null,null,null,null,null,null,null,null,{"$f":"BF224","v":"Q2.26"},"Q2.26NEPRAVDA",false,"Establish an emergency line available for external logistic partners (24/7 phone number). Make sure the support is available in the relevant languages."]
[null,null,null,null,null,null,null,{"$f":"'Chapter 2'!K163","v":true},null,null,null,null,null,null,null,null,null,null,null,null,null,null,null,null,null,null,null,null,null,null,null,null,null,null,null,null,null,null,null,null,null,null,null,null,null,null,null,null,null,null,null,null,null,null,null,null,null,{"$f":"BF225","v":"Q2.26"},"Q2.26PRAVDA",true,"Include the logistic chain into your site emergency plan.\nBe prepared to provide assistance for cleanup of spill accidents during transport (e.g. through ICE or any similar system)."]
[null,null,null,null,null,null,null,{"$f":"'Chapter 2'!K164","v":false},null,null,null,null,null,null,null,null,null,null,null,null,null,null,null,null,null,null,null,null,null,null,null,null,null,null,null,null,null,null,null,null,null,null,null,null,null,null,null,null,null,null,null,null,null,null,null,null,null,{"$f":"BF226","v":"Q2.26"},"Q2.26NEPRAVDA",false,"No need to immediately change strategy, however always seek improvement."]
[null,null,null,null,null,null,{"$f":"B150","v":"Q2.27"},{"$f":"'Chapter 2'!K169","v":false},null,null,null,null,null,null,null,null,null,null,{"$f":"G192","v":"Q2.18"},{"$f":"IF(I192=\"\",$H192,I192)","v":false},false,false,false,false,false,false,false,false,false,null,null,null,null,null,null,null,null,null,null,null,null,null,null,null,null,null,null,null,null,null,null,null,null,null,null,null,null,{"$f":"G228","v":"Q2.27"},"Q2.27NEPRAVDA",false,"Make an assessment of the threats that are present towards the good practices of your organisation."]
[null,null,null,null,null,null,null,{"$f":"'Chapter 2'!K170","v":true},null,null,null,null,null,null,null,null,null,null,null,{"$f":"IF(I193=\"\",$H193,I193)","v":false},{"$f":"IF(J193=\"\",$H193,J193)","v":false},false,false,{"$f":"IF(M193=\"\",$H193,M193)","v":false},{"$f":"IF(N193=\"\",$H193,N193)","v":false},false,false,false,false,null,null,null,null,null,null,null,null,null,null,null,null,null,null,null,null,null,null,null,null,null,null,null,null,null,null,null,null,{"$f":"BF228","v":"Q2.27"},"Q2.27PRAVDA",true,"Set up measures to manage identified threats and all relevant modifications to ensure control."]
[null,null,null,null,null,null,null,{"$f":"'Chapter 2'!K171","v":false},null,null,null,null,null,null,null,null,null,null,null,true,true,true,true,true,true,true,true,true,false,null,null,null,null,null,null,null,null,null,null,null,null,null,null,null,null,null,null,null,null,null,null,null,null,null,null,null,null,{"$f":"BF229","v":"Q2.27"},"Q2.27NEPRAVDA",false,"Evaluate the effectiveness of the security risk management process periodically."]
[null,null,null,null,null,null,null,{"$f":"'Chapter 2'!K172","v":false},null,null,null,null,null,null,null,null,null,null,null,false,false,false,false,false,false,false,false,false,false,null,null,null,null,null,null,null,null,null,null,null,null,null,null,null,null,null,null,null,null,null,null,null,null,null,null,null,null,{"$f":"BF230","v":"Q2.27"},"Q2.27NEPRAVDA",false,"No need to immediately change strategy, however always seek improvement."]
[null,null,null,null,null,null,{"$f":"B151","v":"Q2.28"},{"$f":"'Chapter 2'!K175","v":false},null,null,null,null,null,null,null,null,null,null,null,null,null,null,null,null,null,null,null,null,null,null,null,null,null,null,null,null,null,null,null,null,null,null,null,null,null,null,null,null,null,null,null,null,null,null,null,null,null,{"$f":"G232","v":"Q2.28"},"Q2.28NEPRAVDA",false,"Monitor and control access of people, vehicles and incoming objects (including parcels) by adapting technical and human resources:\no Access control may include gates, fences, security, badge systems, intrusion detection.\no Formalize a mapping of sensitive areas and their access conditions by any person.\no Systematically check people, vehicles and goods requesting access (visitors, deliverymen, service providers) before they enter the site."]
[null,null,null,null,null,null,null,{"$f":"'Chapter 2'!K176","v":false},null,null,null,null,null,null,null,null,null,null,null,null,null,null,null,null,null,null,null,null,null,null,null,null,null,null,null,null,null,null,null,null,null,null,null,null,null,null,null,null,null,null,null,null,null,null,null,null,null,{"$f":"BF232","v":"Q2.28"},"Q2.28NEPRAVDA",false,"Put in place an access procedure, where visitors can only access the site when accompanied by staff."]
[null,null,null,null,null,null,null,{"$f":"'Chapter 2'!K177","v":true},null,null,null,null,null,null,null,null,null,null,{"$f":"G196","v":"Q2.19"},{"$f":"IF(I196=\"\",$H196,I196)","v":false},false,false,false,false,false,false,false,false,false,null,null,null,null,null,null,null,null,null,null,null,null,null,null,null,null,null,null,null,null,null,null,null,null,null,null,null,null,{"$f":"BF233","v":"Q2.28"},"Q2.28PRAVDA",true,"Evaluate the effectiveness of the process through periodic reviews."]
[null,null,null,null,null,null,null,{"$f":"'Chapter 2'!K178","v":false},null,null,null,null,null,null,null,null,null,null,null,{"$f":"IF(I197=\"\",$H197,I197)","v":false},false,false,false,{"$f":"IF(M197=\"\",$H197,M197)","v":false},{"$f":"IF(N197=\"\",$H197,N197)","v":false},false,false,false,false,null,null,null,null,null,null,null,null,null,null,null,null,null,null,null,null,null,null,null,null,null,null,null,null,null,null,null,null,{"$f":"BF234","v":"Q2.28"},"Q2.28NEPRAVDA",false,"Train your staff in regard to possible security threats and the appropriate response in case such situations actually occur (e.g. how to react in case of an intruder or another breach of security). Train your staff to be vigilant (e.g. approach unknown persons who do not wear a badge)."]
[null,null,null,null,null,null,{"$f":"B152","v":"Q2.29"},{"$f":"'Chapter 2'!K181","v":false},null,null,null,null,null,null,null,null,null,null,null,true,true,true,true,true,true,true,true,true,false,null,null,null,null,null,null,null,null,null,null,null,null,null,null,null,null,null,null,null,null,null,null,null,null,null,null,null,null,{"$f":"G236","v":"Q2.29"},"Q2.29NEPRAVDA",false,"Take part in working groups on cybersecurity."]
[null,null,null,null,null,null,null,{"$f":"'Chapter 2'!K182","v":false},null,null,null,null,null,null,null,null,null,null,null,false,false,false,false,false,false,false,false,false,false,null,null,null,null,null,null,null,null,null,null,null,null,null,null,null,null,null,null,null,null,null,null,null,null,null,null,null,null,{"$f":"BF236","v":"Q2.29"},"Q2.29NEPRAVDA",false,"Communicate the issue of cybersecurity to your staff, and train them how to deal with it."]
[null,null,null,null,null,null,null,{"$f":"'Chapter 2'!K183","v":true},null,null,null,null,null,null,null,null,null,null,null,null,null,null,null,null,null,null,null,null,null,null,null,null,null,null,null,null,null,null,null,null,null,null,null,null,null,null,null,null,null,null,null,null,null,null,null,null,null,{"$f":"BF237","v":"Q2.29"},"Q2.29PRAVDA",true,"Identify, track and mitigate cybersecurity risks that impact business and Health, Safety, Environment & Sustainability systems by utilizing a risk-based approach to threat mitigation. "]
[null,null,null,null,null,null,null,{"$f":"'Chapter 2'!K184","v":false},null,null,null,null,null,null,null,null,null,null,null,null,null,null,null,null,null,null,null,null,null,null,null,null,null,null,null,null,null,null,null,null,null,null,null,null,null,null,null,null,null,null,null,null,null,null,null,null,null,{"$f":"BF238","v":"Q2.29"},"Q2.29NEPRAVDA",false,"Set up a comprehensive system to grant access to IT systems only based on passwords and – depending on the actual tasks of the employees – and access to sensitive information only on an “as-needed” basis. Establish rules on safe use of company IT systems (e.g. using IT for private reasons, access of websites…)."]
[null,null,null,null,null,null,{"$f":"B153","v":"Q2.30"},{"$f":"'Chapter 2'!K187","v":false},null,null,null,null,null,null,null,null,null,null,{"$f":"G200","v":"Q2.20"},{"$f":"IF(I200=\"\",$H200,I200)","v":false},false,false,false,false,false,false,false,false,false,null,null,null,null,null,null,null,null,null,null,null,null,null,null,null,null,null,null,null,null,null,null,null,null,null,null,null,null,{"$f":"G240","v":"Q2.30"},"Q2.30NEPRAVDA",false,"Draw up a list of employees' contact details in order to be able to contact them very quickly in the event of a crisis and to ensure that they do not need help. Make sure the list is up to date!"]
[null,null,null,null,null,null,null,{"$f":"'Chapter 2'!K188","v":true},null,null,null,null,null,null,null,null,null,null,null,{"$f":"IF(I201=\"\",$H201,I201)","v":false},false,false,false,{"$f":"IF(M201=\"\",$H201,M201)","v":false},{"$f":"IF(N201=\"\",$H201,N201)","v":false},false,false,false,false,null,null,null,null,null,null,null,null,null,null,null,null,null,null,null,null,null,null,null,null,null,null,null,null,null,null,null,null,{"$f":"BF240","v":"Q2.30"},"Q2.30PRAVDA",true,"Provide information to the public authorities to enable them to draw up a specialised emergency plan for security incidents presenting a high level of risk to the organisation and/or its environment."]
[null,null,null,null,null,null,null,{"$f":"'Chapter 2'!K189","v":false},null,null,null,null,null,null,null,null,null,null,null,false,false,false,false,false,false,false,false,false,false,null,null,null,null,null,null,null,null,null,null,null,null,null,null,null,null,null,null,null,null,null,null,null,null,null,null,null,null,{"$f":"BF241","v":"Q2.30"},"Q2.30NEPRAVDA",false,"Set up a collaboration with public relief organisations to define the actions to be taken in the event of an incident (e.g. crisis exercises, training by the organisation...)."]
[null,null,null,null,null,null,null,{"$f":"'Chapter 2'!K190","v":false},null,null,null,null,null,null,null,null,null,null,null,true,true,true,true,true,true,true,true,true,false,null,null,null,null,null,null,null,null,null,null,null,null,null,null,null,null,null,null,null,null,null,null,null,null,null,null,null,null,{"$f":"BF242","v":"Q2.30"},"Q2.30NEPRAVDA",false,"Set up a system which allows to identify who of your employees is actually on the premises and who is absent."]
[null,null,null,null,null,null,{"$f":"B154","v":"Q2.31"},{"$f":"'Chapter 2'!K193","v":true},null,null,null,null,null,null,null,null,null,null,null,null,null,null,null,null,null,null,null,null,null,null,null,null,null,null,null,null,null,null,null,null,null,null,null,null,null,null,null,null,null,null,null,null,null,null,null,null,null,{"$f":"G244","v":"Q2.31"},"Q2.31PRAVDA",true,"Pay particular attention to abnormal behavior and risks of radicalisation among employees and providers."]
[null,null,null,null,null,null,null,{"$f":"'Chapter 2'!K194","v":false},null,null,null,null,null,null,null,null,null,null,null,null,null,null,null,null,null,null,null,null,null,null,null,null,null,null,null,null,null,null,null,null,null,null,null,null,null,null,null,null,null,null,null,null,null,null,null,null,null,{"$f":"BF244","v":"Q2.31"},"Q2.31NEPRAVDA",false,"Put a procedure in place where workers can report abnormal behaviour."]
[null,null,null,null,null,null,null,{"$f":"'Chapter 2'!K195","v":false},null,null,null,null,null,null,null,null,null,null,{"$f":"G204","v":"Q2.21"},{"$f":"IF(I204=\"\",$H204,I204)","v":false},false,false,false,false,false,false,false,false,false,null,null,null,null,null,null,null,null,null,null,null,null,null,null,null,null,null,null,null,null,null,null,null,null,null,null,null,null,{"$f":"BF245","v":"Q2.31"},"Q2.31NEPRAVDA",false,"Screen all workers and visitors to the site."]
[null,null,null,null,null,null,null,{"$f":"'Chapter 2'!K196","v":false},null,null,null,null,null,null,null,null,null,null,null,{"$f":"IF(I205=\"\",$H205,I205)","v":true},true,false,true,{"$f":"IF(M205=\"\",$H205,M205)","v":true},{"$f":"IF(N205=\"\",$H205,N205)","v":true},true,true,true,false,null,null,null,null,null,null,null,null,null,null,null,null,null,null,null,null,null,null,null,null,null,null,null,null,null,null,null,null,{"$f":"BF246","v":"Q2.31"},"Q2.31NEPRAVDA",false,"Train employees to be vigilant in order to have an early detection of emerging issues as those mentioned above."]
[null,null,null,null,null,null,{"$f":"B155","v":"Q2.32"},{"$f":"'Chapter 2'!K199","v":false},null,null,null,null,null,null,null,null,null,null,null,false,false,true,false,false,false,false,false,false,false,null,null,null,null,null,null,null,null,null,null,null,null,null,null,null,null,null,null,null,null,null,null,null,null,null,null,null,null,{"$f":"G248","v":"Q2.32"},"Q2.32NEPRAVDA",false,"Remind staff of vigilance instructions and security procedures in the event of the discovery of suspicious objects or vehicles."]
[null,null,null,null,null,null,null,{"$f":"'Chapter 2'!K200","v":true},null,null,null,null,null,null,null,null,null,null,null,false,false,false,false,false,false,false,false,false,false,null,null,null,null,null,null,null,null,null,null,null,null,null,null,null,null,null,null,null,null,null,null,null,null,null,null,null,null,{"$f":"BF248","v":"Q2.32"},"Q2.32PRAVDA",true,"Remind all workers periodically of vigilance instructions and safety procedures."]
[null,null,null,null,null,null,null,{"$f":"'Chapter 2'!K201","v":false},null,null,null,null,null,null,null,null,null,null,null,null,null,null,null,null,null,null,null,null,null,null,null,null,null,null,null,null,null,null,null,null,null,null,null,null,null,null,null,null,null,null,null,null,null,null,null,null,null,{"$f":"BF249","v":"Q2.32"},"Q2.32NEPRAVDA",false,"Promote the participation of all workers (employees and contractors)."]
[null,null,null,null,null,null,null,{"$f":"'Chapter 2'!K202","v":false},null,null,null,null,null,null,null,null,null,null,null,null,null,null,null,null,null,null,null,null,null,null,null,null,null,null,null,null,null,null,null,null,null,null,null,null,null,null,null,null,null,null,null,null,null,null,null,null,null,{"$f":"BF250","v":"Q2.32"},"Q2.32NEPRAVDA",false,"No need to immediately change strategy, however always seek improvement."]
[null,null,null,null,null,null,{"$f":"B156","v":"Q2.33"},{"$f":"'Chapter 2'!K207","v":false},null,false,false,null,null,false,false,false,null,null,{"$f":"G208","v":"Q2.22"},{"$f":"IF(I208=\"\",$H208,I208)","v":false},false,false,false,false,false,false,false,false,false,null,null,null,null,null,null,null,null,null,null,null,null,null,null,null,null,null,null,null,null,null,null,null,null,null,null,null,null,{"$f":"G252","v":"Q2.33"},{"$f":"CONCATENATE(BF252,BH252)","v":"Q2.33NEPRAVDA"},false,"Evaluate the potential impact of the waste generation and emissions (air, water, noise…)."]
[null,null,null,null,null,null,null,{"$f":"'Chapter 2'!K208","v":false},null,false,false,null,null,false,false,false,null,null,null,{"$f":"IF(I209=\"\",$H209,I209)","v":true},true,true,true,{"$f":"IF(M209=\"\",$H209,M209)","v":true},{"$f":"IF(N209=\"\",$H209,N209)","v":true},true,true,true,false,null,null,null,null,null,null,null,null,null,null,null,null,null,null,null,null,null,null,null,null,null,null,null,null,null,null,null,null,{"$f":"BF252","v":"Q2.33"},"Q2.33NEPRAVDA",{"$f":"H253","v":false},"Establish reduction priorities based on the evaluation. Communicate the inventory to the employees and the public."]
[null,null,null,null,null,null,null,{"$f":"'Chapter 2'!K209","v":true},null,true,true,null,null,true,true,true,null,null,null,false,false,false,false,false,false,false,false,false,false,null,null,null,null,null,null,null,null,null,null,null,null,null,null,null,null,null,null,null,null,null,null,null,null,null,null,null,null,{"$f":"BF253","v":"Q2.33"},"Q2.33PRAVDA",true,"Communicate the results of the impact assessment, the inventory and the potential risks to the employees and the public."]
[null,null,null,null,null,null,null,{"$f":"'Chapter 2'!K210","v":false},null,false,false,null,null,false,false,false,null,null,null,false,false,false,false,false,false,false,false,false,false,null,null,null,null,null,null,null,null,null,null,null,null,null,null,null,null,null,null,null,null,null,null,null,null,null,null,null,null,{"$f":"BF254","v":"Q2.33"},"Q2.33NEPRAVDA",false,"No need to immediately change strategy, however always seek improvement."]
[null,null,null,null,null,null,{"$f":"B157","v":"Q2.34"},{"$f":"'Chapter 2'!K213","v":false},null,false,null,null,false,false,false,null,null,null,null,null,null,null,null,null,null,null,null,null,null,null,null,null,null,null,null,null,null,null,null,null,null,null,null,null,null,null,null,null,null,null,null,null,null,null,null,null,null,{"$f":"G256","v":"Q2.34"},"Q2.34NEPRAVDA",false,"Define strategic objectives and support actions to control and reduce the organisation's environmental footprint."]
[null,null,null,null,null,null,null,{"$f":"'Chapter 2'!K214","v":false},null,false,null,null,false,false,false,null,null,null,null,null,null,null,null,null,null,null,null,null,null,null,null,null,null,null,null,null,null,null,null,null,null,null,null,null,null,null,null,null,null,null,null,null,null,null,null,null,null,{"$f":"BF256","v":"Q2.34"},"Q2.34NEPRAVDA",false,"Analyse the evolution of environmental performance and implementation of the action plans periodically and improve the effectiveness. Take into account both community concerns and the potential health, safety and environmental impacts as well as risks and opportunities arising for the context of the organisation.\nSet up appropriate environmental indicators to track the environmental performance."]
[null,null,null,null,null,null,null,{"$f":"'Chapter 2'!K215","v":false},null,false,null,null,false,false,false,null,null,null,{"$f":"G212","v":"Q2.23"},{"$f":"IF(I212=\"\",$H212,I212)","v":false},false,false,false,false,false,false,false,false,false,null,null,null,null,null,null,null,null,null,null,null,null,null,null,null,null,null,null,null,null,null,null,null,null,null,null,null,null,{"$f":"BF257","v":"Q2.34"},"Q2.34NEPRAVDA",false,"Make top management of the organisation accountable for achievements of these objectives and ensure appropriate resources are made available."]
[null,null,null,null,null,null,null,{"$f":"'Chapter 2'!K216","v":true},null,true,null,null,true,true,true,null,null,null,null,{"$f":"IF(I213=\"\",$H213,I213)","v":false},false,false,false,{"$f":"IF(M213=\"\",$H213,M213)","v":false},{"$f":"IF(N213=\"\",$H213,N213)","v":false},false,false,false,false,null,null,null,null,null,null,null,null,null,null,null,null,null,null,null,null,null,null,null,null,null,null,null,null,null,null,null,null,{"$f":"BF258","v":"Q2.34"},"Q2.34PRAVDA",true,"No need to immediately change strategy, however always seek improvement."]
[null,null,null,null,null,null,{"$f":"B158","v":"Q2.35"},{"$f":"'Chapter 2'!K219","v":false},null,false,null,null,null,false,false,false,null,null,null,false,false,false,false,false,false,false,false,false,false,null,null,null,null,null,null,null,null,null,null,null,null,null,null,null,null,null,null,null,null,null,null,null,null,null,null,null,null,{"$f":"G260","v":"Q2.35"},"Q2.35NEPRAVDA",false,"Optimise waste streams to maximise recovery."]
[null,null,null,null,null,null,null,{"$f":"'Chapter 2'!K220","v":false},null,false,null,null,null,false,false,false,null,null,null,true,true,true,true,true,true,true,true,true,false,null,null,null,null,null,null,null,null,null,null,null,null,null,null,null,null,null,null,null,null,null,null,null,null,null,null,null,null,{"$f":"BF260","v":"Q2.35"},"Q2.35NEPRAVDA",false,"Review the waste management practices on a regular basis."]
[null,null,null,null,null,null,null,{"$f":"'Chapter 2'!K221","v":true},null,true,null,null,null,true,true,true,null,null,null,null,null,null,null,null,null,null,null,null,null,null,null,null,null,null,null,null,null,null,null,null,null,null,null,null,null,null,null,null,null,null,null,null,null,null,null,null,null,{"$f":"BF261","v":"Q2.35"},"Q2.35PRAVDA",true,"Implement a program with partners on waste management to address improvement opportunities."]
[null,null,null,null,null,null,null,{"$f":"'Chapter 2'!K222","v":false},null,false,null,null,null,false,false,false,null,null,null,null,null,null,null,null,null,null,null,null,null,null,null,null,null,null,null,null,null,null,null,null,null,null,null,null,null,null,null,null,null,null,null,null,null,null,null,null,null,{"$f":"BF262","v":"Q2.35"},"Q2.35NEPRAVDA",false,"No need to immediately change strategy, however always seek improvement."]
[null,null,null,null,null,null,{"$f":"B159","v":"Q2.36"},{"$f":"'Chapter 2'!K225","v":false},null,false,null,null,null,false,false,false,null,null,{"$f":"G216","v":"Q2.24"},{"$f":"IF(I216=\"\",$H216,I216)","v":false},false,false,false,false,false,false,false,false,false,null,null,null,null,null,null,null,null,null,null,null,null,null,null,null,null,null,null,null,null,null,null,null,null,null,null,null,null,{"$f":"G264","v":"Q2.36"},"Q2.36NEPRAVDA",false,"Identify risk-activities towards ground water pollution. Identify and implement engineering and operating controls"]
[null,null,null,null,null,null,null,{"$f":"'Chapter 2'!K226","v":false},null,false,null,null,null,false,false,false,null,null,null,{"$f":"IF(I217=\"\",$H217,I217)","v":false},false,false,false,{"$f":"IF(M217=\"\",$H217,M217)","v":false},{"$f":"IF(N217=\"\",$H217,N217)","v":false},false,false,false,false,null,null,null,null,null,null,null,null,null,null,null,null,null,null,null,null,null,null,null,null,null,null,null,null,null,null,null,null,{"$f":"BF264","v":"Q2.36"},"Q2.36NEPRAVDA",false,"Assess ground water quality periodically to identify potential groundwater contamination. Assess data versus applicable ground water quality standards."]
[null,null,null,null,null,null,null,{"$f":"'Chapter 2'!K227","v":true},null,true,null,null,null,true,true,true,null,null,null,false,false,false,false,false,false,false,false,false,false,null,null,null,null,null,null,null,null,null,null,null,null,null,null,null,null,null,null,null,null,null,null,null,null,null,null,null,null,{"$f":"BF265","v":"Q2.36"},"Q2.36PRAVDA",true,"Develop technologies to prevent pollution risks to groundwater. Ensure these technologies and best practices are shared within the sector to help others improve too."]
[null,null,null,null,null,null,null,{"$f":"'Chapter 2'!K228","v":false},null,false,null,null,null,false,false,false,null,null,null,true,true,true,true,true,true,true,true,true,false,null,null,null,null,null,null,null,null,null,null,null,null,null,null,null,null,null,null,null,null,null,null,null,null,null,null,null,null,{"$f":"BF266","v":"Q2.36"},"Q2.36NEPRAVDA",false,"No need to immediately change strategy, however always seek improvement."]
[null,null,null,null,null,null,{"$f":"B160","v":"Q2.37"},{"$f":"'Chapter 2'!K231","v":false},null,false,null,null,null,false,false,false,null,null,null,null,null,null,null,null,null,null,null,null,null,null,null,null,null,null,null,null,null,null,null,null,null,null,null,null,null,null,null,null,null,null,null,null,null,null,null,null,null,{"$f":"G268","v":"Q2.37"},"Q2.37NEPRAVDA",false,"Identify risk-activities towards soil pollution. Identify and implement engineering and operating controls : \n- Provide liquid-tight tanks for pollutants stored in drums, tanks or vats in order to recover the possible flows.\n- Provide a sealed floor where dangerous substances are handled or delivered."]
[null,null,null,null,null,null,null,{"$f":"'Chapter 2'!K232","v":false},null,false,null,null,null,false,false,false,null,null,null,null,null,null,null,null,null,null,null,null,null,null,null,null,null,null,null,null,null,null,null,null,null,null,null,null,null,null,null,null,null,null,null,null,null,null,null,null,null,{"$f":"BF268","v":"Q2.37"},"Q2.37NEPRAVDA",false,"Put in place measures and procedures to minimize the impact of accidental spills to soil. Monitor periodically soil quality. Assess data versus applicable soil quality standards."]
[null,null,null,null,null,null,null,{"$f":"'Chapter 2'!K233","v":true},null,true,null,null,null,true,true,true,null,null,null,null,null,null,null,null,null,null,null,null,null,null,null,null,null,null,null,null,null,null,null,null,null,null,null,null,null,null,null,null,null,null,null,null,null,null,null,null,null,{"$f":"BF269","v":"Q2.37"},"Q2.37PRAVDA",true,"Develop technologies to prevent pollution risks to soil. Ensure these technologies and best practices are shared within the sector to help others improve too."]
[null,null,null,null,null,null,null,{"$f":"'Chapter 2'!K234","v":false},null,false,null,null,null,false,false,false,null,null,null,null,null,null,null,null,null,null,null,null,null,null,null,null,null,null,null,null,null,null,null,null,null,null,null,null,null,null,null,null,null,null,null,null,null,null,null,null,null,{"$f":"BF270","v":"Q2.37"},"Q2.37NEPRAVDA",false,"No need to immediately change strategy, however always seek improvement."]
[null,null,null,null,null,null,{"$f":"B161","v":"Q2.38"},{"$f":"'Chapter 2'!K237","v":false},null,false,null,null,null,false,false,false,null,null,{"$f":"G220","v":"Q2.25"},{"$f":"IF(I220=\"\",$H220,I220)","v":false},false,false,false,false,false,false,false,false,false,null,null,null,null,null,null,null,null,null,null,null,null,null,null,null,null,null,null,null,null,null,null,null,null,null,null,null,null,{"$f":"G272","v":"Q2.38"},"Q2.38NEPRAVDA",false,"Define the process and responsibilities for remediation of accidental pollution.\nInvestigate the site to understand the situation regarding to existing pollutions."]
[null,null,null,null,null,null,null,{"$f":"'Chapter 2'!K238","v":false},null,false,null,null,null,false,false,false,null,null,null,{"$f":"IF(I221=\"\",$H221,I221)","v":false},false,false,false,{"$f":"IF(M221=\"\",$H221,M221)","v":false},{"$f":"IF(N221=\"\",$H221,N221)","v":false},false,false,false,false,null,null,null,null,null,null,null,null,null,null,null,null,null,null,null,null,null,null,null,null,null,null,null,null,null,null,null,null,{"$f":"BF272","v":"Q2.38"},"Q2.38NEPRAVDA",false,"Set up a pollution management plan:\n- Map the existing pollutions.\n- Draft remediation plans to understand the various remediation options.\n- Define the approach in time to manage these pollutions.\n- If the pollution remains, monitor to ensure it doesn't spread and be prepared to take action if it does."]
[null,null,null,null,null,null,null,{"$f":"'Chapter 2'!K239","v":true},null,true,null,null,null,true,true,true,null,null,null,true,true,true,true,true,true,true,true,true,false,null,null,null,null,null,null,null,null,null,null,null,null,null,null,null,null,null,null,null,null,null,null,null,null,null,null,null,null,{"$f":"BF273","v":"Q2.38"},"Q2.38PRAVDA",true,"Make sure the pollution management plan is budgeted and implemented in the site's management."]
[null,null,null,null,null,null,null,{"$f":"'Chapter 2'!K240","v":false},null,false,null,null,null,false,false,false,null,null,null,false,false,false,false,false,false,false,false,false,false,null,null,null,null,null,null,null,null,null,null,null,null,null,null,null,null,null,null,null,null,null,null,null,null,null,null,null,null,{"$f":"BF274","v":"Q2.38"},"Q2.38NEPRAVDA",false,"No need to immediately change strategy, however always seek improvement."]
[null,null,null,null,null,null,{"$f":"B162","v":"Q2.39"},{"$f":"'Chapter 2'!K243","v":false},null,false,null,null,null,false,false,false,null,null,null,null,null,null,null,null,null,null,null,null,null,null,null,null,null,null,null,null,null,null,null,null,null,null,null,null,null,null,null,null,null,null,null,null,null,null,null,null,null,{"$f":"G276","v":"Q2.39"},"Q2.39NEPRAVDA",false,"Implement controls (engineering and operating) to prevent and monitor these emissions."]
[null,null,null,null,null,null,null,{"$f":"'Chapter 2'!K244","v":false},null,false,null,null,null,false,false,false,null,null,null,null,null,null,null,null,null,null,null,null,null,null,null,null,null,null,null,null,null,null,null,null,null,null,null,null,null,null,null,null,null,null,null,null,null,null,null,null,null,{"$f":"BF276","v":"Q2.39"},"Q2.39NEPRAVDA",false,"Evaluate improvement opportunities. Integrate them into an action plan."]
[null,null,null,null,null,null,null,{"$f":"'Chapter 2'!K245","v":true},null,true,null,null,null,true,true,true,null,null,{"$f":"G224","v":"Q2.26"},{"$f":"IF(I224=\"\",$H224,I224)","v":false},false,false,false,false,false,false,false,false,false,null,null,null,null,null,null,null,null,null,null,null,null,null,null,null,null,null,null,null,null,null,null,null,null,null,null,null,null,{"$f":"BF277","v":"Q2.39"},"Q2.39PRAVDA",true,"Set emission reduction targets and indicators. Verify progress towards these targets systematically."]
[null,null,null,null,null,null,null,{"$f":"'Chapter 2'!K246","v":false},null,false,null,null,null,false,false,false,null,null,null,{"$f":"IF(I225=\"\",$H225,I225)","v":false},false,false,false,{"$f":"IF(M225=\"\",$H225,M225)","v":false},{"$f":"IF(N225=\"\",$H225,N225)","v":false},false,false,false,false,null,null,null,null,null,null,null,null,null,null,null,null,null,null,null,null,null,null,null,null,null,null,null,null,null,null,null,null,{"$f":"BF278","v":"Q2.39"},"Q2.39NEPRAVDA",false,"No need to immediately change strategy, however always seek improvement."]
[null,null,null,null,null,null,{"$f":"B163","v":"Q2.40"},{"$f":"'Chapter 2'!K249","v":false},null,false,null,null,null,false,false,false,null,null,null,true,true,true,true,true,true,true,true,true,false,null,null,null,null,null,null,null,null,null,null,null,null,null,null,null,null,null,null,null,null,null,null,null,null,null,null,null,null,{"$f":"G280","v":"Q2.40"},"Q2.40NEPRAVDA",false,"Implement controls (engineering and operating) to prevent and monitor these emissions."]
[null,null,null,null,null,null,null,{"$f":"'Chapter 2'!K250","v":false},null,false,null,null,null,false,false,false,null,null,null,false,false,false,false,false,false,false,false,false,false,null,null,null,null,null,null,null,null,null,null,null,null,null,null,null,null,null,null,null,null,null,null,null,null,null,null,null,null,{"$f":"BF280","v":"Q2.40"},"Q2.40NEPRAVDA",false,"Evaluate improvement opportunities. Integrate them into an action plan."]
[null,null,null,null,null,null,null,{"$f":"'Chapter 2'!K251","v":true},null,true,null,null,null,true,true,true,null,null,null,null,null,null,null,null,null,null,null,null,null,null,null,null,null,null,null,null,null,null,null,null,null,null,null,null,null,null,null,null,null,null,null,null,null,null,null,null,null,{"$f":"BF281","v":"Q2.40"},"Q2.40PRAVDA",true,"Set emission reduction targets and indicators. Verify progress towards these targets systematically. In case of plastics, companies may decide to participate in operation clean sweep OCS https://www.opcleansweep.org/ to reduce flake, pellet & powder loss."]
[null,null,null,null,null,null,null,{"$f":"'Chapter 2'!K252","v":false},null,false,null,null,null,false,false,false,null,null,null,null,null,null,null,null,null,null,null,null,null,null,null,null,null,null,null,null,null,null,null,null,null,null,null,null,null,null,null,null,null,null,null,null,null,null,null,null,null,{"$f":"BF282","v":"Q2.40"},"Q2.40NEPRAVDA",false,"No need to immediately change strategy, however always seek improvement."]
[null,null,null,null,null,null,{"$f":"B164","v":"Q2.41"},{"$f":"'Chapter 2'!K255","v":false},null,false,null,null,null,false,false,false,null,null,null,null,null,null,null,null,null,null,null,null,null,null,null,null,null,null,null,null,null,null,null,null,null,null,null,null,null,null,null,null,null,null,null,null,null,null,null,null,null,{"$f":"G284","v":"Q2.41"},"Q2.41NEPRAVDA",false,"Assess what are the main sources of noise on your site. Consider normal and abnormal operating conditions is the assessment as well as day and night situations.\nImplement controls (engineering and operating) to prevent noise generation."]
[null,null,null,null,null,null,null,{"$f":"'Chapter 2'!K256","v":false},null,false,null,null,null,false,false,false,null,null,null,null,null,null,null,null,null,null,null,null,null,null,null,null,null,null,null,null,null,null,null,null,null,null,null,null,null,null,null,null,null,null,null,null,null,null,null,null,null,{"$f":"BF284","v":"Q2.41"},"Q2.41NEPRAVDA",false,"Organise regular monitoring campaigns. Define improvement opportunities. Integrate them into an action plan."]
[null,null,null,null,null,null,null,{"$f":"'Chapter 2'!K257","v":true},null,true,null,null,null,true,true,true,null,null,{"$f":"G228","v":"Q2.27"},{"$f":"IF(I228=\"\",$H228,I228)","v":false},false,false,false,false,false,false,false,false,false,null,null,null,null,null,null,null,null,null,null,null,null,null,null,null,null,null,null,null,null,null,null,null,null,null,null,null,null,{"$f":"BF285","v":"Q2.41"},"Q2.41PRAVDA",true,"Set emission reduction targets and indicators. Verify progress towards these targets systematically."]
[null,null,null,null,null,null,null,{"$f":"'Chapter 2'!K258","v":false},null,false,null,null,null,false,false,false,null,null,null,{"$f":"IF(I229=\"\",$H229,I229)","v":true},true,true,true,{"$f":"IF(M229=\"\",$H229,M229)","v":true},{"$f":"IF(N229=\"\",$H229,N229)","v":true},true,true,true,false,null,null,null,null,null,null,null,null,null,null,null,null,null,null,null,null,null,null,null,null,null,null,null,null,null,null,null,null,{"$f":"BF286","v":"Q2.41"},"Q2.41NEPRAVDA",false,"No need to immediately change strategy, however always seek improvement."]
[null,null,null,null,null,null,{"$f":"B165","v":"Q2.42"},{"$f":"'Chapter 2'!K261","v":false},null,false,null,null,null,false,false,false,null,null,null,false,false,false,false,false,false,false,false,false,false,null,null,null,null,null,null,null,null,null,null,null,null,null,null,null,null,null,null,null,null,null,null,null,null,null,null,null,null,{"$f":"G288","v":"Q2.42"},"Q2.42NEPRAVDA",false,"Assess what are the main (potential) sources of odour on your site. Consider normal and abnormal operating conditions is the assessment as well as day and night situations.\nImplement controls (engineering and operating) to prevent odour emissions."]
[null,null,null,null,null,null,null,{"$f":"'Chapter 2'!K262","v":false},null,false,null,null,null,false,false,false,null,null,null,false,false,false,false,false,false,false,false,false,false,null,null,null,null,null,null,null,null,null,null,null,null,null,null,null,null,null,null,null,null,null,null,null,null,null,null,null,null,{"$f":"BF288","v":"Q2.42"},"Q2.42NEPRAVDA",false,"Install a contact point for the neighborhood to collect complaints on odour nuisance. In case of complaint invest causes and mitigating actions."]
[null,null,null,null,null,null,null,{"$f":"'Chapter 2'!K263","v":true},null,true,null,null,null,true,true,true,null,null,null,null,null,null,null,null,null,null,null,null,null,null,null,null,null,null,null,null,null,null,null,null,null,null,null,null,null,null,null,null,null,null,null,null,null,null,null,null,null,{"$f":"BF289","v":"Q2.42"},"Q2.42PRAVDA",true,"Set emission reduction targets and indicators. Verify progress towards these targets systematically."]
[null,null,null,null,null,null,null,{"$f":"'Chapter 2'!K264","v":false},null,false,null,null,null,false,false,false,null,null,null,null,null,null,null,null,null,null,null,null,null,null,null,null,null,null,null,null,null,null,null,null,null,null,null,null,null,null,null,null,null,null,null,null,null,null,null,null,null,{"$f":"BF290","v":"Q2.42"},"Q2.42NEPRAVDA",false,"No need to immediately change strategy, however always seek improvement."]
[null,null,null,null,null,null,{"$f":"B166","v":"Q2.43"},{"$f":"'Chapter 2'!K267","v":false},null,false,false,null,null,false,false,null,null,null,{"$f":"G232","v":"Q2.28"},{"$f":"IF(I232=\"\",$H232,I232)","v":false},false,false,false,false,false,false,false,false,false,null,null,null,null,null,null,null,null,null,null,null,null,null,null,null,null,null,null,null,null,null,null,null,null,null,null,null,null,{"$f":"G292","v":"Q2.43"},"Q2.43NEPRAVDA",false,"Identify processes and activities that can give rise to accidental emissions to the environment. Implement engineering and operating controls to prevent and detect accidental emissions (e.g. dykes, liquid-tight surfaces, double wall containers/tanks, lock-down systems for sewers or surface water drainage…). Evaluate the effectiveness of implemented controls periodically."]
[null,null,null,null,null,null,null,{"$f":"'Chapter 2'!K268","v":false},null,false,false,null,null,false,false,null,null,null,null,{"$f":"IF(I233=\"\",$H233,I233)","v":false},false,false,false,{"$f":"IF(M233=\"\",$H233,M233)","v":false},{"$f":"IF(N233=\"\",$H233,N233)","v":false},false,false,false,false,null,null,null,null,null,null,null,null,null,null,null,null,null,null,null,null,null,null,null,null,null,null,null,null,null,null,null,null,{"$f":"BF292","v":"Q2.43"},"Q2.43NEPRAVDA",false,"Put an emergency procedure in place in case of accidental pollution. Evaluate sources or reasons for accidental pollution as part of the Process Safety study. "]
[null,null,null,null,null,null,null,{"$f":"'Chapter 2'!K269","v":true},null,true,false,null,null,true,true,null,null,null,null,true,true,true,true,true,true,true,true,true,false,null,null,null,null,null,null,null,null,null,null,null,null,null,null,null,null,null,null,null,null,null,null,null,null,null,null,null,null,{"$f":"BF293","v":"Q2.43"},"Q2.43PRAVDA",true,"Set up a communication procedure with local stakeholders (authorities, media, local residents…) and evaluate and improve the effectiveness of the process regularly. In case of plastics, companies may decide to participate in initiatives such as operation clean sweep OCS https://www.opcleansweep.org/ to reduce flake, pellet and powder loss."]
[null,null,null,null,null,null,null,{"$f":"'Chapter 2'!K270","v":false},null,false,true,null,null,false,false,null,null,null,null,false,false,false,false,false,false,false,false,false,false,null,null,null,null,null,null,null,null,null,null,null,null,null,null,null,null,null,null,null,null,null,null,null,null,null,null,null,null,{"$f":"BF294","v":"Q2.43"},"Q2.43NEPRAVDA",false,"No need to immediately change strategy, however always seek improvement."]
[null,null,null,null,null,null,{"$f":"B167","v":"Q2.44"},{"$f":"'Chapter 2'!K273","v":false},null,false,false,null,null,false,false,false,null,null,null,null,null,null,null,null,null,null,null,null,null,null,null,null,null,null,null,null,null,null,null,null,null,null,null,null,null,null,null,null,null,null,null,null,null,null,null,null,null,{"$f":"G296","v":"Q2.44"},"Q2.44NEPRAVDA",false,"Train all staff (including contractors and new comers), according to their environmental responsibilities (the environmental impact of their tasks). Set up a training plan to cover all significant environmental aspects."]
[null,null,null,null,null,null,null,{"$f":"'Chapter 2'!K274","v":false},null,false,false,null,null,false,false,false,null,null,null,null,null,null,null,null,null,null,null,null,null,null,null,null,null,null,null,null,null,null,null,null,null,null,null,null,null,null,null,null,null,null,null,null,null,null,null,null,null,{"$f":"BF296","v":"Q2.44"},"Q2.44NEPRAVDA",false,"Make all staff aware of the environmental objectives of the organisations.\nIt is important all understand how they can contribute the objectives through their role, and what would be the impact if they do not. \nFor specific roles such as environmental experts, continuous education shall be provided to ensure their knowledge of emerging tools and techniques is kept up-to-date."]
[null,null,null,null,null,null,null,{"$f":"'Chapter 2'!K275","v":true},null,true,true,null,null,true,true,true,null,null,{"$f":"G236","v":"Q2.29"},{"$f":"IF(I236=\"\",$H236,I236)","v":false},false,false,false,false,false,false,false,false,false,null,null,null,null,null,null,null,null,null,null,null,null,null,null,null,null,null,null,null,null,null,null,null,null,null,null,null,null,{"$f":"BF297","v":"Q2.44"},"Q2.44PRAVDA",true,"Keep proof of trainings available and evaluate the effectiveness of the trainings on a regular basis."]
[null,null,null,null,null,null,null,{"$f":"'Chapter 2'!K276","v":false},null,false,false,null,null,false,false,false,null,null,null,{"$f":"IF(I237=\"\",$H237,I237)","v":false},false,false,false,{"$f":"IF(M237=\"\",$H237,M237)","v":false},{"$f":"IF(N237=\"\",$H237,N237)","v":false},false,false,false,false,null,null,null,null,null,null,null,null,null,null,null,null,null,null,null,null,null,null,null,null,null,null,null,null,null,null,null,null,{"$f":"BF298","v":"Q2.44"},"Q2.44NEPRAVDA",false,"No need to immediately change strategy, however always seek improvement."]
[null,null,null,null,null,null,{"$f":"B168","v":"Q2.45"},{"$f":"'Chapter 2'!K279","v":true},null,true,false,null,null,false,false,false,null,null,null,true,true,true,true,true,true,true,true,true,false,null,null,null,null,null,null,null,null,null,null,null,null,null,null,null,null,null,null,null,null,null,null,null,null,null,null,null,null,{"$f":"G300","v":"Q2.45"},"Q2.45PRAVDA",true,"Inform the local community periodically about environmental aspects related to their activities."]
[null,null,null,null,null,null,null,{"$f":"'Chapter 2'!K280","v":false},null,false,false,null,null,true,true,true,null,null,null,false,false,false,false,false,false,false,false,false,false,null,null,null,null,null,null,null,null,null,null,null,null,null,null,null,null,null,null,null,null,null,null,null,null,null,null,null,null,{"$f":"BF300","v":"Q2.45"},"Q2.45NEPRAVDA",false,"Establish partnerships with environmental associations to explain or even develop solutions adapted to the organisation's environmental issues."]
[null,null,null,null,null,null,null,{"$f":"'Chapter 2'!K281","v":false},null,false,true,null,null,false,false,false,null,null,null,null,null,null,null,null,null,null,null,null,null,null,null,null,null,null,null,null,null,null,null,null,null,null,null,null,null,null,null,null,null,null,null,null,null,null,null,null,null,{"$f":"BF301","v":"Q2.45"},"Q2.45NEPRAVDA",false,"Communicate on the monitoring of environmental performance indicators to stakeholders in order to highlight the organisation's involvement in the environmental issues of the geographical area where it is located."]
[null,null,null,null,null,null,null,{"$f":"'Chapter 2'!K282","v":false},null,false,false,null,null,false,false,false,null,null,null,null,null,null,null,null,null,null,null,null,null,null,null,null,null,null,null,null,null,null,null,null,null,null,null,null,null,null,null,null,null,null,null,null,null,null,null,null,null,{"$f":"BF302","v":"Q2.45"},"Q2.45NEPRAVDA",false,"No need to immediately change strategy, however always seek improvement."]
[null,null,null,null,null,null,null,null,null,null,null,null,null,null,null,null,null,null,{"$f":"G240","v":"Q2.30"},{"$f":"IF(I240=\"\",$H240,I240)","v":false},false,false,false,false,false,false,false,false,false]
[null,null,null,null,null,null,null,null,null,null,null,null,null,null,null,null,null,null,null,{"$f":"IF(I241=\"\",$H241,I241)","v":true},true,true,true,{"$f":"IF(M241=\"\",$H241,M241)","v":true},{"$f":"IF(N241=\"\",$H241,N241)","v":true},true,true,true,false]
[null,null,null,null,null,null,null,null,null,null,null,null,null,null,null,null,null,null,null,false,false,false,false,false,false,false,false,false,false]
[null,null,null,null,null,null,null,null,null,null,null,null,null,null,null,null,null,null,null,false,false,false,false,false,false,false,false,false,false]
[]
[]
[null,null,null,null,null,null,null,null,null,null,null,null,null,null,null,null,null,null,{"$f":"G244","v":"Q2.31"},{"$f":"IF(I244=\"\",$H244,I244)","v":true},true,true,true,true,true,true,true,true,false]
[null,null,null,null,null,null,null,null,null,null,null,null,null,null,null,null,null,null,null,{"$f":"IF(I245=\"\",$H245,I245)","v":false},false,false,false,{"$f":"IF(M245=\"\",$H245,M245)","v":false},{"$f":"IF(N245=\"\",$H245,N245)","v":false},false,false,false,false]
[null,null,null,null,null,null,null,null,null,null,null,null,null,null,null,null,null,null,null,false,false,false,false,false,false,false,false,false,false]
[null,null,null,null,null,null,null,null,null,null,null,null,null,null,null,null,null,null,null,false,false,false,false,false,false,false,false,false,false]
[]
[]
[null,null,null,null,null,null,null,null,null,null,null,null,null,null,null,null,null,null,{"$f":"G248","v":"Q2.32"},{"$f":"IF(I248=\"\",$H248,I248)","v":false},false,false,false,false,false,false,false,false,false]
[null,null,null,null,null,null,null,null,null,null,null,null,null,null,null,null,null,null,null,{"$f":"IF(I249=\"\",$H249,I249)","v":true},true,true,true,{"$f":"IF(M249=\"\",$H249,M249)","v":true},{"$f":"IF(N249=\"\",$H249,N249)","v":true},true,true,true,false]
[null,null,null,null,null,null,null,null,null,null,null,null,null,null,null,null,null,null,null,false,false,false,false,false,false,false,false,false,false]
[null,null,null,null,null,null,null,null,null,null,null,null,null,null,null,null,null,null,null,false,false,false,false,false,false,false,false,false,false]
[]
[]
[]
[]
[null,null,null,null,null,null,null,null,null,null,null,null,null,null,null,null,null,null,{"$f":"G252","v":"Q2.33"},{"$f":"IF(I252=\"\",$H252,I252)","v":false},false,false,false,false,false,false,false,false,false]
[null,null,null,null,null,null,null,null,null,null,null,null,null,null,null,null,null,null,null,{"$f":"IF(I253=\"\",$H253,I253)","v":false},false,false,false,{"$f":"IF(M253=\"\",$H253,M253)","v":false},{"$f":"IF(N253=\"\",$H253,N253)","v":false},false,false,false,false]
[null,null,null,null,null,null,null,null,null,null,null,null,null,null,null,null,null,null,null,true,true,true,true,true,true,true,true,true,false]
[null,null,null,null,null,null,null,null,null,null,null,null,null,null,null,null,null,null,null,false,false,false,false,false,false,false,false,false,false]
[]
[]
[null,null,null,null,null,null,null,null,null,null,null,null,null,null,null,null,null,null,{"$f":"G256","v":"Q2.34"},{"$f":"IF(I256=\"\",$H256,I256)","v":false},false,false,false,false,false,false,false,false,false]
[null,null,null,null,null,null,null,null,null,null,null,null,null,null,null,null,null,null,null,{"$f":"IF(I257=\"\",$H257,I257)","v":false},false,false,false,{"$f":"IF(M257=\"\",$H257,M257)","v":false},{"$f":"IF(N257=\"\",$H257,N257)","v":false},false,false,false,false]
[null,null,null,null,null,null,null,null,null,null,null,null,null,null,null,null,null,null,null,false,false,false,false,false,false,false,false,false,false]
[null,null,null,null,null,null,null,null,null,null,null,null,null,null,null,null,null,null,null,true,true,true,true,true,true,true,true,true,false]
[]
[]
[null,null,null,null,null,null,null,null,null,null,null,null,null,null,null,null,null,null,{"$f":"G260","v":"Q2.35"},{"$f":"IF(I260=\"\",$H260,I260)","v":false},false,false,false,false,false,false,false,false,false]
[null,null,null,null,null,null,null,null,null,null,null,null,null,null,null,null,null,null,null,{"$f":"IF(I261=\"\",$H261,I261)","v":false},false,false,false,{"$f":"IF(M261=\"\",$H261,M261)","v":false},{"$f":"IF(N261=\"\",$H261,N261)","v":false},false,false,false,false]
[null,null,null,null,null,null,null,null,null,null,null,null,null,null,null,null,null,null,null,true,true,true,true,true,true,true,true,true,false]
[null,null,null,null,null,null,null,null,null,null,null,null,null,null,null,null,null,null,null,false,false,false,false,false,false,false,false,false,false]
[]
[]
[null,null,null,null,null,null,null,null,null,null,null,null,null,null,null,null,null,null,{"$f":"G264","v":"Q2.36"},{"$f":"IF(I264=\"\",$H264,I264)","v":false},false,false,false,false,false,false,false,false,false]
[null,null,null,null,null,null,null,null,null,null,null,null,null,null,null,null,null,null,null,{"$f":"IF(I265=\"\",$H265,I265)","v":false},false,false,false,{"$f":"IF(M265=\"\",$H265,M265)","v":false},{"$f":"IF(N265=\"\",$H265,N265)","v":false},false,false,false,false]
[null,null,null,null,null,null,null,null,null,null,null,null,null,null,null,null,null,null,null,true,true,true,true,true,true,true,true,true,false]
[null,null,null,null,null,null,null,null,null,null,null,null,null,null,null,null,null,null,null,false,false,false,false,false,false,false,false,false,false]
[]
[]
[null,null,null,null,null,null,null,null,null,null,null,null,null,null,null,null,null,null,{"$f":"G268","v":"Q2.37"},{"$f":"IF(I268=\"\",$H268,I268)","v":false},false,false,false,false,false,false,false,false,false]
[null,null,null,null,null,null,null,null,null,null,null,null,null,null,null,null,null,null,null,{"$f":"IF(I269=\"\",$H269,I269)","v":false},false,false,false,{"$f":"IF(M269=\"\",$H269,M269)","v":false},{"$f":"IF(N269=\"\",$H269,N269)","v":false},false,false,false,false]
[null,null,null,null,null,null,null,null,null,null,null,null,null,null,null,null,null,null,null,true,true,true,true,true,true,true,true,true,false]
[null,null,null,null,null,null,null,null,null,null,null,null,null,null,null,null,null,null,null,false,false,false,false,false,false,false,false,false,false]
[]
[]
[null,null,null,null,null,null,null,null,null,null,null,null,null,null,null,null,null,null,{"$f":"G272","v":"Q2.38"},{"$f":"IF(I272=\"\",$H272,I272)","v":false},false,false,false,false,false,false,false,false,false]
[null,null,null,null,null,null,null,null,null,null,null,null,null,null,null,null,null,null,null,{"$f":"IF(I273=\"\",$H273,I273)","v":false},false,false,false,{"$f":"IF(M273=\"\",$H273,M273)","v":false},{"$f":"IF(N273=\"\",$H273,N273)","v":false},false,false,false,false]
[null,null,null,null,null,null,null,null,null,null,null,null,null,null,null,null,null,null,null,true,true,true,true,true,true,true,true,true,false]
[null,null,null,null,null,null,null,null,null,null,null,null,null,null,null,null,null,null,null,false,false,false,false,false,false,false,false,false,false]
[]
[]
[null,null,null,null,null,null,null,null,null,null,null,null,null,null,null,null,null,null,{"$f":"G276","v":"Q2.39"},{"$f":"IF(I276=\"\",$H276,I276)","v":false},false,false,false,false,false,false,false,false,false]
[null,null,null,null,null,null,null,null,null,null,null,null,null,null,null,null,null,null,null,{"$f":"IF(I277=\"\",$H277,I277)","v":false},false,false,false,{"$f":"IF(M277=\"\",$H277,M277)","v":false},{"$f":"IF(N277=\"\",$H277,N277)","v":false},false,false,false,false]
[null,null,null,null,null,null,null,null,null,null,null,null,null,null,null,null,null,null,null,true,true,true,true,true,true,true,true,true,false]
[null,null,null,null,null,null,null,null,null,null,null,null,null,null,null,null,null,null,null,false,false,false,false,false,false,false,false,false,false]
[]
[]
[null,null,null,null,null,null,null,null,null,null,null,null,null,null,null,null,null,null,{"$f":"G280","v":"Q2.40"},{"$f":"IF(I280=\"\",$H280,I280)","v":false},false,false,false,false,false,false,false,false,false]
[null,null,null,null,null,null,null,null,null,null,null,null,null,null,null,null,null,null,null,{"$f":"IF(I281=\"\",$H281,I281)","v":false},false,false,false,{"$f":"IF(M281=\"\",$H281,M281)","v":false},{"$f":"IF(N281=\"\",$H281,N281)","v":false},false,false,false,false]
[null,null,null,null,null,null,null,null,null,null,null,null,null,null,null,null,null,null,null,true,true,true,true,true,true,true,true,true,false]
[null,null,null,null,null,null,null,null,null,null,null,null,null,null,null,null,null,null,null,false,false,false,false,false,false,false,false,false,false]
[]
[]
[null,null,null,null,null,null,null,null,null,null,null,null,null,null,null,null,null,null,{"$f":"G284","v":"Q2.41"},{"$f":"IF(I284=\"\",$H284,I284)","v":false},false,false,false,false,false,false,false,false,false]
[null,null,null,null,null,null,null,null,null,null,null,null,null,null,null,null,null,null,null,{"$f":"IF(I285=\"\",$H285,I285)","v":false},false,false,false,{"$f":"IF(M285=\"\",$H285,M285)","v":false},{"$f":"IF(N285=\"\",$H285,N285)","v":false},false,false,false,false]
[null,null,null,null,null,null,null,null,null,null,null,null,null,null,null,null,null,null,null,true,true,true,true,true,true,true,true,true,false]
[null,null,null,null,null,null,null,null,null,null,null,null,null,null,null,null,null,null,null,false,false,false,false,false,false,false,false,false,false]
[]
[]
[null,null,null,null,null,null,null,null,null,null,null,null,null,null,null,null,null,null,{"$f":"G288","v":"Q2.42"},{"$f":"IF(I288=\"\",$H288,I288)","v":false},false,false,false,false,false,false,false,false,false]
[null,null,null,null,null,null,null,null,null,null,null,null,null,null,null,null,null,null,null,{"$f":"IF(I289=\"\",$H289,I289)","v":false},false,false,false,{"$f":"IF(M289=\"\",$H289,M289)","v":false},{"$f":"IF(N289=\"\",$H289,N289)","v":false},false,false,false,false]
[null,null,null,null,null,null,null,null,null,null,null,null,null,null,null,null,null,null,null,true,true,true,true,true,true,true,true,true,false]
[null,null,null,null,null,null,null,null,null,null,null,null,null,null,null,null,null,null,null,false,false,false,false,false,false,false,false,false,false]
[]
[]
[null,null,null,null,null,null,null,null,null,null,null,null,null,null,null,null,null,null,{"$f":"G292","v":"Q2.43"},{"$f":"IF(I292=\"\",$H292,I292)","v":false},false,false,false,false,false,false,false,false,false]
[null,null,null,null,null,null,null,null,null,null,null,null,null,null,null,null,null,null,null,{"$f":"IF(I293=\"\",$H293,I293)","v":false},false,false,false,{"$f":"IF(M293=\"\",$H293,M293)","v":false},{"$f":"IF(N293=\"\",$H293,N293)","v":false},false,false,false,false]
[null,null,null,null,null,null,null,null,null,null,null,null,null,null,null,null,null,null,null,true,true,false,true,true,true,true,true,true,false]
[null,null,null,null,null,null,null,null,null,null,null,null,null,null,null,null,null,null,null,false,false,true,false,false,false,false,false,false,false]
[]
[]
[null,null,null,null,null,null,null,null,null,null,null,null,null,null,null,null,null,null,{"$f":"G296","v":"Q2.44"},{"$f":"IF(I296=\"\",$H296,I296)","v":false},false,false,false,false,false,false,false,false,false]
[null,null,null,null,null,null,null,null,null,null,null,null,null,null,null,null,null,null,null,{"$f":"IF(I297=\"\",$H297,I297)","v":false},false,false,false,{"$f":"IF(M297=\"\",$H297,M297)","v":false},{"$f":"IF(N297=\"\",$H297,N297)","v":false},false,false,false,false]
[null,null,null,null,null,null,null,null,null,null,null,null,null,null,null,null,null,null,null,true,true,true,true,true,true,true,true,true,false]
[null,null,null,null,null,null,null,null,null,null,null,null,null,null,null,null,null,null,null,false,false,false,false,false,false,false,false,false,false]
[]
[]
[null,null,null,null,null,null,null,null,null,null,null,null,null,null,null,null,null,null,{"$f":"G300","v":"Q2.45"},{"$f":"IF(I300=\"\",$H300,I300)","v":true},true,false,true,true,false,false,false,true,false]
[null,null,null,null,null,null,null,null,null,null,null,null,null,null,null,null,null,null,null,{"$f":"IF(I301=\"\",$H301,I301)","v":false},false,false,false,{"$f":"IF(M301=\"\",$H301,M301)","v":false},{"$f":"IF(N301=\"\",$H301,N301)","v":true},true,true,false,false]
[null,null,null,null,null,null,null,null,null,null,null,null,null,null,null,null,null,null,null,false,false,true,false,false,false,false,false,false,false]
[null,null,null,null,null,null,null,null,null,null,null,null,null,null,null,null,null,null,null,false,false,false,false,false,false,false,false,false,false]
[]
["chapter 3"]
[]
[null,null,null,null,null,null,null,null,"scores in case of compliance",null,null,null,null,null,null,null,null,null,null,"to copy",null,null,null,null,null,null,null,null,null,null,null,null,"equal weights (adaptable)",null,null,null,"MCA"]
[null,"scores",null,null,null,"prefill",null,"answered","ISO9001","ISO14001","ISO26000","ISO45001","ISO50001","EMAS","RC14001","RCMS","GHS",null,null,{"$f":"I404","v":"ISO9001"},"ISO14001","ISO26000","ISO45001","ISO50001","EMAS","RC14001","RCMS","GHS","clear",null,"weights",null,{"$f":"IF(SUM(AG406:AG421)=100,\"ok\",\"error\")","v":"ok"},{"$f":"IF(SUM(AH406:AH421)/COUNT(AG406:AG421)=100,\"ok\",\"error\")","v":"ok"},null,null,"subscores","score",null,null,"identification of major issues",null,null,null,null,null,"scores for standards",null,null,null,null,null,null,null,null,null,null,"improvement tips"]
[null,null,null,null,null,null,null,null,null,null,null,null,null,null,null,null,null,null,null,null,null,null,null,null,null,null,null,null,null,null,null,null,null,null,null,null,null,{"$f":"(AK406*AG406+AK408*AG408+AK410*AG410+AK415*AG415+AK417*AG417+AK420*AG420+AK422*AG422)/100","v":2.5000000000000004},null,null,null,null,null,null,null,null,null,{"$f":"I404","v":"ISO9001"},{"$f":"J404","v":"ISO14001"},{"$f":"K404","v":"ISO26000"},{"$f":"L404","v":"ISO45001"},{"$f":"M404","v":"ISO50001"},{"$f":"N404","v":"EMAS"},{"$f":"O404","v":"RC14001"},{"$f":"P404","v":"RCMS"},"GHS"]
[null,{"$f":"'Chapter 3'!C6","v":"Q3.1"},{"$f":"IF('Chapter 3'!K7,1,IF('Chapter 3'!K8,2,IF('Chapter 3'!K9,3,IF('Chapter 3'!K10,4,\"\"))))","v":4},"formula 4 choices",null,null,{"$f":"B406","v":"Q3.1"},{"$f":"'Chapter 3'!K7","v":false},true,null,false,null,false,null,null,false,null,null,{"$f":"G406","v":"Q3.1"},{"$f":"IF(I406=\"\",$H406,I406)","v":true},false,false,false,false,false,false,false,false,false,null,{"$f":"'Chapter 3'!B4","v":"Návrhování a zlepšování produktu"},null,{"$f":"100/6","v":16.666666666666668},null,null,null,{"$f":"C406","v":4},null,null,null,{"$f":"B406","v":"Q3.1"},1,{"$f":"IF(C406<AP406,\"major issue\",\"ok\")","v":"ok"},{"$f":"IF(AQ406<>\"ok\",1,0)","v":0},null,null,{"$f":"AO406","v":"Q3.1"},{"$f":"IF(I406,1,IF(I407,2,IF(I408,3,IF(I409,4,\"-\"))))","v":1},"-",4,"-",4,"-","-",3,"-",null,{"$f":"G406","v":"Q3.1"},{"$f":"CONCATENATE(BF406,BH406)","v":"Q3.1NEPRAVDA"},{"$f":"H406","v":false},"Take into account human health and environment early in the product development process: you can proceed with systematic screening tests early in the design process. \nGather relevant actors within the organisation and external partners when elaborating the functional specifications of new products in order to identify possible design paths.\nMobilise human and financial resources to research potential design paths that also take into account of EU chemicals (REACH, BPR...) and products regulations.  "]
[null,{"$f":"'Chapter 3'!C14","v":"Q3.2"},{"$f":"IF('Chapter 3'!K15,1,IF('Chapter 3'!K16,2,IF('Chapter 3'!K17,3,IF('Chapter 3'!K18,4,\"\"))))","v":2},"formula 4 choices",null,null,null,{"$f":"'Chapter 3'!K8","v":false},false,null,false,null,false,null,null,false,null,null,null,{"$f":"IF(I407=\"\",$H407,I407)","v":false},false,false,false,{"$f":"IF(M407=\"\",$H407,M407)","v":false},{"$f":"IF(N407=\"\",$H407,N407)","v":false},false,false,false,false,null,null,{"$f":"B406","v":"Q3.1"},null,100,null,null,null,null,null,null,{"$f":"B407","v":"Q3.2"},1,"ok",{"$f":"IF(AQ407<>\"ok\",1,0)","v":0},null,null,{"$f":"AO407","v":"Q3.2"},{"$f":"IF(I410,1,IF(I411,2,IF(I412,3,IF(I413,4,\"-\"))))","v":"-"},"-","-","-","-","-",1,2,"-",null,{"$f":"BF406","v":"Q3.1"},"Q3.1NEPRAVDA",{"$f":"H407","v":false},"Optimize decision making on conception of products to reduce their impact on health and environment, using generic Life Cycle Analysis and carbon footprint assessment tools as well as the current eco-design product criteria or similar eco-design concepts as a reference."]
[null,{"$f":"'Chapter 3'!C22","v":"Q3.3"},{"$f":"IF('Chapter 3'!K23,1,IF('Chapter 3'!K24,2,IF('Chapter 3'!K25,3,IF('Chapter 3'!K26,4,\"\"))))","v":4},"formula 4 choices",null,null,null,{"$f":"'Chapter 3'!K9","v":false},false,null,false,null,false,null,null,true,null,null,null,false,false,false,false,false,false,false,true,false,false,null,{"$f":"'Chapter 3'!B12","v":"Stanovování priorit produktů"},null,{"$f":"100/6","v":16.666666666666668},null,null,null,{"$f":"C407","v":2},null,null,null,"Q3.3",1,"ok",0,null,null,"Q3.3",{"$f":"IF(I414,1,IF(I415,2,IF(I416,3,IF(I417,4,\"-\"))))","v":1},"-","-","-","-","-",1,"-",3,null,{"$f":"BF407","v":"Q3.1"},"Q3.1NEPRAVDA",false,"Investigate the available information on risk characterization to reduce risk from the conception. It can be reflected in avoiding the use of harmful chemicals, including but not limited to those that are carcinogenic, mutagenic, toxic for reproduction, or persistent and bio-accumulative. Further reduction of the risk to each identified user or contact group is implemented. Make your commitment visible to others. "]
[null,{"$f":"'Chapter 3'!C28","v":"Q3.4"},{"$f":"IF('Chapter 3'!K29,1,IF('Chapter 3'!K30,2,IF('Chapter 3'!K31,3,IF('Chapter 3'!K32,4,\"\"))))","v":2},"formula 4 choices",null,null,null,{"$f":"'Chapter 3'!K10","v":true},false,null,true,null,true,null,null,false,null,null,null,false,true,true,true,true,true,true,false,true,false,null,null,{"$f":"B407","v":"Q3.2"},null,100,null,null,null,null,null,null,"Q3.4",1,"ok",0,null,null,"Q3.4",{"$f":"IF(I418,1,IF(I419,2,IF(I420,3,IF(I421,4,\"-\"))))","v":"-"},"-","-","-","-","-",4,4,"-",null,{"$f":"BF408","v":"Q3.1"},"Q3.1PRAVDA",true,"Take into consideration factors such as intended use, expected product lifetime, durability, reuse, recyclability or beneficial disposition of the product in its development to take into account the full Life Cycle Analysis of the product (including end of life). \nImplement a procedure to develop product substitution strategies for critical products, by identifying appropriate resources and clear objectives. Consider energy performance improvement opportunities in the design of energy consuming processes."]
[null,{"$f":"'Chapter 3'!C34","v":"Q3.5"},{"$f":"IF('Chapter 3'!K35,1,IF('Chapter 3'!K36,2,IF('Chapter 3'!K37,3,IF('Chapter 3'!K38,4,\"\"))))","v":1},"formula 4 choices",null,null,{"$f":"B407","v":"Q3.2"},{"$f":"'Chapter 3'!K15","v":false},null,null,null,null,null,null,true,false,null,null,null,null,null,null,null,null,null,null,null,null,null,null,{"$f":"'Chapter 3'!B20","v":"Informace o produktu "},null,{"$f":"100/6","v":16.666666666666668},null,null,null,{"$f":"(C408*AH411+C409*AH412+C410*AH413+C411*AH414)/100","v":2},null,null,null,"Q3.5",1,"ok",0,null,null,"Q3.5",{"$f":"IF(I422,1,IF(I423,2,IF(I424,3,IF(I425,4,\"-\"))))","v":"-"},"-","-","-","-","-","-","-","-",null,{"$f":"G410","v":"Q3.2"},"Q3.2NEPRAVDA",false,"Implement a process to prioritise products to identify those that require a more detailed evaluation, assessment, and risk management controls, as well as those that require additional data and information gathering. Apply a science- and riskbased approach, considering hazard, intended uses and exposure potential when prioritising the products. Include criteria that are applied uniformly to all products screened and that incorporate relevant, credible scientific advances and consider significant new information to ensure that prioritisation decisions remain current.\nIt is recommended that the prioritisation also includes distribution, transportation and use of raw materials and products."]
[null,{"$f":"'Chapter 3'!C40","v":"Q3.6"},{"$f":"IF('Chapter 3'!K41,1,IF('Chapter 3'!K42,2,IF('Chapter 3'!K43,3,IF('Chapter 3'!K44,4,\"\"))))","v":1},"formula 4 choices",null,null,null,{"$f":"'Chapter 3'!K16","v":true},null,null,null,null,null,null,false,true,null,null,null,null,null,null,null,null,null,null,null,null,null,null,null,{"$f":"B408","v":"Q3.3"},null,25,null,null,null,null,null,null,"Q3.6",1,"ok",0,null,null,"Q3.6",{"$f":"IF(I426,1,IF(I427,2,IF(I428,3,IF(I429,4,\"-\"))))","v":"-"},"-","-","-","-","-",1,"-","-",null,{"$f":"BF410","v":"Q3.2"},"Q3.2PRAVDA",true,"The process is more elaborated and run on a continuous basis. Automatic alert for new information released on substances and products is in place (e.g. RSS feed from scientific journals). "]
[null,{"$f":"'Chapter 3'!C48","v":"Q3.7"},{"$f":"IF('Chapter 3'!K49,1,IF('Chapter 3'!K50,2,IF('Chapter 3'!K51,3,IF('Chapter 3'!K52,4,\"\"))))","v":2},"formula 4 choices",null,null,null,{"$f":"'Chapter 3'!K17","v":false},null,null,null,null,null,null,false,false,null,null,null,null,null,null,null,null,null,null,null,null,null,null,null,{"$f":"B409","v":"Q3.4"},null,25,null,null,null,null,null,null,"Q3.7",1,"ok",0,null,null,"Q3.7",{"$f":"IF(I430,1,IF(I431,2,IF(I432,3,IF(I433,4,\"-\"))))","v":"-"},"-",1,"-","-","-",4,4,"-",null,{"$f":"BF411","v":"Q3.2"},"Q3.2NEPRAVDA",false,"Constantly monitor information on the effect of its and similar products on health and the environment during their use and after the end of their life and update REACH dossiers and safety data sheets accordingly.\nRecord and follow-up on the safety/security incidents/accidents reported by clients and final users to integrate them in the prioritization process. \nIdentify key criteria for decision making. "]
[null,{"$f":"'Chapter 3'!C56","v":"Q3.8"},{"$f":"IF('Chapter 3'!K57,1,IF('Chapter 3'!K58,2,IF('Chapter 3'!K59,3,IF('Chapter 3'!K60,4,\"\"))))","v":1},"formula 4 choices",null,null,null,{"$f":"'Chapter 3'!K18","v":false},null,null,null,null,null,null,false,false,null,null,null,null,null,null,null,null,null,null,null,null,null,null,null,"Q3.5",null,25,null,null,null,null,null,null,"Q3.8",1,"ok",0,null,null,"Q3.8",{"$f":"IF(I434,1,IF(I435,2,IF(I436,3,IF(I437,4,\"-\"))))","v":1},"-",2,"-","-","-",4,4,1,null,{"$f":"BF412","v":"Q3.2"},"Q3.2NEPRAVDA",false,"Submit prioritization and its justification to public consultation with set deadlines to allow for industry or other stakeholders to submit additional information."]
[null,{"$f":"'Chapter 3'!C62","v":"Q3.9"},{"$f":"IF('Chapter 3'!K63,1,IF('Chapter 3'!K64,2,IF('Chapter 3'!K65,3,IF('Chapter 3'!K66,4,\"\"))))","v":3},"formula 4 choices",null,null,{"$f":"B408","v":"Q3.3"},{"$f":"'Chapter 3'!K23","v":false},true,null,null,null,null,null,true,null,false,null,{"$f":"G410","v":"Q3.2"},{"$f":"IF(I410=\"\",$H410,I410)","v":false},false,false,false,false,false,true,false,false,false,null,null,"Q3.6",null,25,null,null,null,null,null,null,"Q3.9",1,"ok",0,null,null,"Q3.9",{"$f":"IF(I438,1,IF(I439,2,IF(I440,3,IF(I441,4,\"-\"))))","v":3},"-",4,"-","-","-",4,4,"-",null,{"$f":"G414","v":"Q3.3"},"Q3.3NEPRAVDA",false,"Make sure your inventory integrates information on substances purchased, used and manufactured, that lists standard parameters on the substance and product characteristics. Assign resources responsible for the updates and determine the frequency of the updates. Link substances/products and requirements. Questions that arise from the updated information should be identified and handled.  "]
[null,{"$f":"'Chapter 3'!C70","v":"Q3.10"},{"$f":"IF('Chapter 3'!K71,1,IF('Chapter 3'!K72,2,IF('Chapter 3'!K73,3,IF('Chapter 3'!K74,4,\"\"))))","v":3},"formula 4 choices",null,null,null,{"$f":"'Chapter 3'!K24","v":false},false,null,null,null,null,null,false,null,false,null,null,{"$f":"IF(I411=\"\",$H411,I411)","v":true},true,true,true,{"$f":"IF(M411=\"\",$H411,M411)","v":true},{"$f":"IF(N411=\"\",$H411,N411)","v":true},false,true,true,false,null,{"$f":"'Chapter 3'!B46","v":"Charakterizace rizik"},null,{"$f":"100/6","v":16.666666666666668},null,null,null,{"$f":"C412","v":2},null,null,null,"Q3.10",1,"ok",0,null,null,"Q3.10",{"$f":"IF(I442,1,IF(I443,2,IF(I444,3,IF(I445,4,\"-\"))))","v":"-"},"-","-","-","-","-",4,4,1,null,{"$f":"BF414","v":"Q3.3"},"Q3.3NEPRAVDA",false,"Verify the compliance along your supply chain towards the regulations applicable to the products you are provided. Ensure close and pro -active communication with suppliers, gather compliance statements and document all information on supply chain compliance. Develop an efficient documentation system to have communication and compliance statements readily available and trackable, to be able to easily identify and follow-up on possible issues. "]
[null,null,null,null,null,null,null,{"$f":"'Chapter 3'!K25","v":false},false,null,null,null,null,null,false,null,true,null,null,false,false,false,false,false,false,false,false,false,false,null,null,{"$f":"B412","v":"Q3.7"},null,100,null,null,null,null,null,null,null,null,null,null,null,null,null,null,null,null,null,null,null,null,null,null,null,{"$f":"BF415","v":"Q3.3"},"Q3.3NEPRAVDA",false,"Identify the substances potentially impacted by to regulatory evolutions (e.g. substances listed on authorisation list, subject to public consultations, Risk Management Option analysis, Community Rolling Action Plan). Sign up for ECHA newsletters to be informed of the upcoming decisions or next public consultations. Make sure your management and your suppliers are aware of the latest regulatory developments and their possible impacts on products and activities. "]
[null,null,null,null,null,null,null,{"$f":"'Chapter 3'!K26","v":true},false,null,null,null,null,null,false,null,false,null,null,false,false,false,false,false,false,false,false,false,false,null,{"$f":"'Chapter 3'!B54","v":"Řízení rizik produktu"},null,{"$f":"100/6","v":16.666666666666668},null,null,null,{"$f":"(C413*AH418+C414*AH419)/100","v":2},null,null,null,null,null,null,{"$f":"IF(SUM(AR406:AR415)>0,\"Key RC elements are still to be implemented, see tips\",\"\")","v":""},null,null,null,null,null,null,null,null,null,null,null,null,null,{"$f":"BF416","v":"Q3.3"},"Q3.3PRAVDA",true,"No need to immediately change strategy, however always seek improvement."]
[null,null,null,null,null,null,{"$f":"B409","v":"Q3.4"},{"$f":"'Chapter 3'!K29","v":false},null,null,null,null,null,null,false,false,null,null,null,null,null,null,null,null,null,null,null,null,null,null,null,{"$f":"B413","v":"Q3.8"},null,50,null,null,null,null,null,null,null,null,null,null,null,null,null,null,null,null,null,null,null,null,null,null,null,{"$f":"G418","v":"Q3.4"},"Q3.4NEPRAVDA",false,"Develop a platform to store existing information. Implement a procedure to classify and identify the type of information in order to easily track and retrieve available information. "]
[null,null,null,null,null,null,null,{"$f":"'Chapter 3'!K30","v":true},null,null,null,null,null,null,false,false,null,null,null,null,null,null,null,null,null,null,null,null,null,null,null,{"$f":"B414","v":"Q3.9"},null,50,null,null,null,null,null,null,null,null,null,null,null,null,null,null,null,null,null,null,null,null,null,null,null,{"$f":"BF418","v":"Q3.4"},"Q3.4PRAVDA",true,"Implement a process to review available information for reliability and quality, by resources trained to assess hazard information. "]
[null,null,null,null,null,null,null,{"$f":"'Chapter 3'!K31","v":false},null,null,null,null,null,null,false,false,null,null,null,null,null,null,null,null,null,null,null,null,null,null,{"$f":"'Chapter 3'!B68","v":"Řízení hodnotového řetězce"},null,{"$f":"100/6","v":16.666666666666668},null,null,null,{"$f":"C415","v":3},null,null,null,null,null,null,null,null,null,null,null,null,null,null,null,null,null,null,null,null,{"$f":"BF419","v":"Q3.4"},"Q3.4NEPRAVDA",false,"Whenever possible and relevant and without compromising sensible business information, make available internal information for integration in public databases and international research programs.  "]
[null,null,null,null,null,null,null,{"$f":"'Chapter 3'!K32","v":false},null,null,null,null,null,null,true,true,null,null,null,null,null,null,null,null,null,null,null,null,null,null,null,{"$f":"B415","v":"Q3.10"},null,100,null,null,null,null,null,null,null,null,null,null,null,null,null,null,null,null,null,null,null,null,null,null,null,{"$f":"BF420","v":"Q3.4"},"Q3.4NEPRAVDA",false,"No need to immediately change strategy, however always seek improvement."]
[null,null,null,null,null,null,{"$f":"B410","v":"Q3.5"},{"$f":"'Chapter 3'!K35","v":true},null,null,null,null,null,null,null,null,null,null,{"$f":"G414","v":"Q3.3"},{"$f":"IF(I414=\"\",$H414,I414)","v":true},false,false,false,false,false,true,false,false,false,null,null,null,null,null,null,null,null,null,null,null,null,null,null,null,null,null,null,null,null,null,null,null,null,null,null,null,null,{"$f":"G422","v":"Q3.5"},"Q3.5PRAVDA",true,"In addition to the intended uses of a product, capture deliberate misuses and inappropriate uses and integrate them in a documentation system that tracks uses. \nMake sure you identify information on uses from downstream users. "]
[null,null,null,null,null,null,null,{"$f":"'Chapter 3'!K36","v":false},null,null,null,null,null,null,null,null,null,null,null,{"$f":"IF(I415=\"\",$H415,I415)","v":false},false,false,false,{"$f":"IF(M415=\"\",$H415,M415)","v":false},{"$f":"IF(N415=\"\",$H415,N415)","v":false},false,false,false,false,null,null,null,null,null,null,null,null,null,null,null,null,null,null,null,null,null,null,null,null,null,null,null,null,null,null,null,null,{"$f":"BF422","v":"Q3.5"},"Q3.5NEPRAVDA",false,"Develop a documentation system for the uses and exposure information, that can easily be adapted to integrate new information. Integrate monitoring data for occupational exposure to refine available data on exposure to describe a realistic exposure model. "]
[null,null,null,null,null,null,null,{"$f":"'Chapter 3'!K37","v":false},null,null,null,null,null,null,null,null,null,null,null,false,false,false,false,false,false,false,false,true,false,null,null,null,null,null,null,null,null,null,null,null,null,null,null,null,null,null,null,null,null,null,null,null,null,null,null,null,null,{"$f":"BF423","v":"Q3.5"},"Q3.5NEPRAVDA",false,"Ensure a clear communication on intended uses with distributors and limit the possibilities of misuse by stipulating authorizing uses in a contract. \nPro-actively seek new (sources of) information on uses and exposure."]
[null,null,null,null,null,null,null,{"$f":"'Chapter 3'!K38","v":false},null,null,null,null,null,null,null,null,null,null,null,false,true,true,true,true,true,false,true,false,false,null,null,null,null,null,null,null,null,null,null,null,null,null,null,null,null,null,null,null,null,null,null,null,null,null,null,null,null,{"$f":"BF424","v":"Q3.5"},"Q3.5NEPRAVDA",false,"No need to immediately change strategy, however always seek improvement."]
[null,null,null,null,null,null,{"$f":"B411","v":"Q3.6"},{"$f":"'Chapter 3'!K41","v":true},null,null,null,null,null,null,true,null,null,null,null,null,null,null,null,null,null,null,null,null,null,null,null,null,null,null,null,null,null,null,null,null,null,null,null,null,null,null,null,null,null,null,null,null,null,null,null,null,null,{"$f":"G426","v":"Q3.6"},"Q3.6PRAVDA",true,"Assign resources to monitor of new information. Regularly check available information in literature or disseminated REACH dossier information that could be relevant for your products or similar products, or the sector of activity. Implement a procedure to assess and integrate new information to the existing information for possible inclusion as basis for risk characterisation and management."]
[null,null,null,null,null,null,null,{"$f":"'Chapter 3'!K42","v":false},null,null,null,null,null,null,false,null,null,null,null,null,null,null,null,null,null,null,null,null,null,null,null,null,null,null,null,null,null,null,null,null,null,null,null,null,null,null,null,null,null,null,null,null,null,null,null,null,null,{"$f":"BF426","v":"Q3.6"},"Q3.6NEPRAVDA",false,"New information is not limited to available information: client complaints, accident and incidents for instance can provide valuable information on hazard, uses and exposure and should be documented and integrated as new information. A possible change in the mode or nature of application, nature of exposure or any change to the originally foreseen use should also be considered."]
[null,{"$f":"'Chapter 3'!C57","v":""},null,null,null,null,null,{"$f":"'Chapter 3'!K43","v":false},null,null,null,null,null,null,false,null,null,null,{"$f":"G418","v":"Q3.4"},{"$f":"IF(I418=\"\",$H418,I418)","v":false},false,false,false,false,false,false,false,false,false,null,null,null,null,null,null,null,null,null,null,null,null,null,null,null,null,null,null,null,null,null,null,null,null,null,null,null,null,{"$f":"BF427","v":"Q3.6"},"Q3.6NEPRAVDA",false,"Consider the whole life cycle of the product and identify the key steps where additional information can be extracted and integrated, including any relevant information collected along the supply chain. "]
[null,null,null,null,null,null,null,{"$f":"'Chapter 3'!K44","v":false},null,null,null,null,null,null,false,null,null,null,null,{"$f":"IF(I419=\"\",$H419,I419)","v":true},true,true,true,{"$f":"IF(M419=\"\",$H419,M419)","v":true},{"$f":"IF(N419=\"\",$H419,N419)","v":true},false,false,true,false,null,null,null,null,null,null,null,null,null,null,null,null,null,null,null,null,null,null,null,null,null,null,null,null,null,null,null,null,{"$f":"BF428","v":"Q3.6"},"Q3.6NEPRAVDA",false,"No need to immediately change strategy, however always seek improvement."]
[null,null,null,null,null,null,{"$f":"B412","v":"Q3.7"},{"$f":"'Chapter 3'!K49","v":false},null,null,true,null,null,null,false,false,null,null,null,false,false,false,false,false,false,false,false,false,false,null,null,null,null,null,null,null,null,null,null,null,null,null,null,null,null,null,null,null,null,null,null,null,null,null,null,null,null,{"$f":"G430","v":"Q3.7"},"Q3.7NEPRAVDA",false,"Establish a clear overview on the key parameters that could affect risk characterisation: hazard, use and exposure, applicable regulations and certifications, new markets or applications, events reported through the supply chain, new testing technologies and emerging health or environmental concerns.\nDetermine criteria that trigger a re-evaluation of the risk assessment based on the new information available. "]
[null,null,null,null,null,null,null,{"$f":"'Chapter 3'!K50","v":true},null,null,false,null,null,null,false,false,null,null,null,false,false,false,false,false,false,true,true,false,false,null,null,null,null,null,null,null,null,null,null,null,null,null,null,null,null,null,null,null,null,null,null,null,null,null,null,null,null,{"$f":"BF430","v":"Q3.7"},"Q3.7PRAVDA",true,"Review regularly the risk characterisations to improve quality and integrate recent best practices (independently from the integration of new information). \nEnlarge the scope of the risk characterisation to integrate secondary information on hazard and uses and/or conduct a risk characterisation that covers the product life's cycle.\nIt is recommended to have a good knowledge of the substances used, manufactured or imported on site, even for those that are not put on the market or subject to regulatory requirements, independently from the tonnage band (minimum battery test, product sheet, DNEL/PNEC calculations)."]
[null,null,null,null,null,null,null,{"$f":"'Chapter 3'!K51","v":false},null,null,false,null,null,null,false,false,null,null,null,null,null,null,null,null,null,null,null,null,null,null,null,null,null,null,null,null,null,null,null,null,null,null,null,null,null,null,null,null,null,null,null,null,null,null,null,null,null,{"$f":"BF431","v":"Q3.7"},"Q3.7NEPRAVDA",false,"Get involved in \n• Development and validation of new, alternative methodologies to evaluate hazard and exposure and characterising risk; and\n• Promotion of the minimization in the use of animals in testing and the development of alternative methods for animal testing.\n"]
[null,null,null,null,null,null,null,{"$f":"'Chapter 3'!K52","v":false},null,null,false,null,null,null,true,true,null,null,null,null,null,null,null,null,null,null,null,null,null,null,null,null,null,null,null,null,null,null,null,null,null,null,null,null,null,null,null,null,null,null,null,null,null,null,null,null,null,{"$f":"BF432","v":"Q3.7"},"Q3.7NEPRAVDA",false,"No need to immediately change strategy, however always seek improvement."]
[null,null,null,null,null,null,{"$f":"B413","v":"Q3.8"},{"$f":"'Chapter 3'!K57","v":true},true,null,false,null,null,null,false,false,true,null,{"$f":"G422","v":"Q3.5"},{"$f":"IF(I422=\"\",$H422,I422)","v":true},true,true,true,true,true,true,true,true,false,null,null,null,null,null,null,null,null,null,null,null,null,null,null,null,null,null,null,null,null,null,null,null,null,null,null,null,null,{"$f":"G434","v":"Q3.8"},"Q3.8PRAVDA",true,"Reassess the risk management measures on use, storage and disposal of chemicals when new information is available on product hazard and risk characterisation. The expected level of knowledge and skills of possible user of (end-)products has to considered in the evaluations.  "]
[null,null,null,null,null,null,null,{"$f":"'Chapter 3'!K58","v":false},false,null,true,null,null,null,false,false,false,null,null,{"$f":"IF(I423=\"\",$H423,I423)","v":false},false,false,false,{"$f":"IF(M423=\"\",$H423,M423)","v":false},{"$f":"IF(N423=\"\",$H423,N423)","v":false},false,false,false,false,null,null,null,null,null,null,null,null,null,null,null,null,null,null,null,null,null,null,null,null,null,null,null,null,null,null,null,null,{"$f":"BF434","v":"Q3.8"},"Q3.8NEPRAVDA",false,"Improve the risk management measures by seeking feedback from downstream users on uses, transport, storage.\nTake into account the recyclability of the product in downstream communications. \nReduce the risk by using the following order of priority: inherently safe design, protective devices and information for users.\nPrevent improper handling or storage, or misuse of the product by adopting measures to avoid these conditions (e.g. packaging to reduce risks of leaking)."]
[null,null,null,null,null,null,null,{"$f":"'Chapter 3'!K59","v":false},false,null,false,null,null,null,false,false,false,null,null,false,false,false,false,false,false,false,false,false,false,null,null,null,null,null,null,null,null,null,null,null,null,null,null,null,null,null,null,null,null,null,null,null,null,null,null,null,null,{"$f":"BF435","v":"Q3.8"},"Q3.8NEPRAVDA",false,"Make the risk management information publicly available and transparent.\nCollaborate with working groups to produce information on risk management."]
[null,null,null,null,null,null,null,{"$f":"'Chapter 3'!K60","v":false},false,null,false,null,null,null,true,true,false,null,null,false,false,false,false,false,false,false,false,false,false,null,null,null,null,null,null,null,null,null,null,null,null,null,null,null,null,null,null,null,null,null,null,null,null,null,null,null,null,{"$f":"BF436","v":"Q3.8"},"Q3.8NEPRAVDA",false,"No need to immediately change strategy, however always seek improvement."]
[null,null,null,null,null,null,{"$f":"B414","v":"Q3.9"},{"$f":"'Chapter 3'!K63","v":false},false,null,false,null,null,null,false,false,null,null,null,null,null,null,null,null,null,null,null,null,null,null,null,null,null,null,null,null,null,null,null,null,null,null,null,null,null,null,null,null,null,null,null,null,null,null,null,null,null,{"$f":"G438","v":"Q3.9"},"Q3.9NEPRAVDA",false,"Implement a process to identify, investigate and assign significance to incidents and accidents related to its products, processes and activities associated with its operations, instances of Based on the determined level of significance,\na) Identify root causes;\nb) Address and mitigate any adverse impacts;\nc) Initiate and complete corrective and preventive actions;\nd) Share key findings and associated corrective and preventive actions with relevant internal and external stakeholders; and\ne) Review efficacy of corrective and preventive actions taken\nf) Obtain authorization for acceptance under concession.\nConformity to the requirements shall be verified when nonconforming outputs are corrected."]
[null,null,null,null,null,null,null,{"$f":"'Chapter 3'!K64","v":false},false,null,false,null,null,null,false,false,null,null,null,null,null,null,null,null,null,null,null,null,null,null,null,null,null,null,null,null,null,null,null,null,null,null,null,null,null,null,null,null,null,null,null,null,null,null,null,null,null,{"$f":"BF438","v":"Q3.9"},"Q3.9NEPRAVDA",false,"Constantly monitor information on the effect of its and similar products on health and the environment during their use and after the end of their life.\nRecord and follow-up on the safety/security incidents/accidents reported by clients and final users."]
[null,null,null,null,null,null,null,{"$f":"'Chapter 3'!K65","v":true},true,null,false,null,null,null,false,false,null,null,{"$f":"G426","v":"Q3.6"},{"$f":"IF(I426=\"\",$H426,I426)","v":true},true,true,true,true,true,true,true,true,false,null,null,null,null,null,null,null,null,null,null,null,null,null,null,null,null,null,null,null,null,null,null,null,null,null,null,null,null,{"$f":"BF439","v":"Q3.9"},"Q3.9PRAVDA",true,"The organisation has internal processes in place and authorized person named in order to be ready to withdraw a product from the market where verified data demonstrates its harmfulness in some phase of its life cycle, significantly exceeding its useful value. Such processes include proper channels of communications to all stakeholders. In order to achieve a safe withdrawal, a tracking system is needed in order to know to which customers the product at issue has been sold/shipped.\nEstablish and maintain procedures to respond to accidents and emergency situations, and for preventing and/or mitigating the impacts that may be associated with them. These procedures shall include:\n- Appropriate consideration of communications and community recovery needs;\n- Appropriate participation in the development, implementation and maintenance of community emergency preparedness plans; and\n- An appropriate process for responding to raw material, product, process, waste material and transportation incidents."]
[null,null,null,null,null,null,null,{"$f":"'Chapter 3'!K66","v":false},false,null,true,null,null,null,true,true,null,null,null,{"$f":"IF(I427=\"\",$H427,I427)","v":false},false,false,false,{"$f":"IF(M427=\"\",$H427,M427)","v":false},{"$f":"IF(N427=\"\",$H427,N427)","v":false},false,false,false,false,null,null,null,null,null,null,null,null,null,null,null,null,null,null,null,null,null,null,null,null,null,null,null,null,null,null,null,null,{"$f":"BF440","v":"Q3.9"},"Q3.9NEPRAVDA",false,"No need to immediately change strategy, however always seek improvement."]
[null,null,null,null,null,null,{"$f":"B415","v":"Q3.10"},{"$f":"'Chapter 3'!K71","v":false},null,null,null,null,null,null,false,false,true,null,null,false,false,false,false,false,false,false,false,false,false,null,null,null,null,null,null,null,null,null,null,null,null,null,null,null,null,null,null,null,null,null,null,null,null,null,null,null,null,{"$f":"G442","v":"Q3.10"},"Q3.10NEPRAVDA",false,"It is advised to integrate new information identified in earlier processes in the SDS, and to efficiently track the different versions issued. \nNew SDSs received from third parties should also be reviewed and undergo a compliance check. Further investigations should be carried on if a non-compliance is noted."]
[null,null,null,null,null,null,null,{"$f":"'Chapter 3'!K72","v":false},null,null,null,null,null,null,false,false,false,null,null,false,false,false,false,false,false,false,false,false,false,null,null,null,null,null,null,null,null,null,null,null,null,null,null,null,null,null,null,null,null,null,null,null,null,null,null,null,null,{"$f":"BF442","v":"Q3.10"},"Q3.10NEPRAVDA",false,"Pro-actively share updated versions of the SDSs to downstream users and make sure they receive it and understand the content. Be prepared to provide additional guidance/instructions if requested or considered necessary. "]
[null,null,null,null,null,null,null,{"$f":"'Chapter 3'!K73","v":true},null,null,null,null,null,null,false,false,false,null,null,null,null,null,null,null,null,null,null,null,null,null,null,null,null,null,null,null,null,null,null,null,null,null,null,null,null,null,null,null,null,null,null,null,null,null,null,null,null,{"$f":"BF443","v":"Q3.10"},"Q3.10PRAVDA",true,"Make the SDSs publicly available and provide contact information for any third party to contact in case further information is requested. Integrate recyclability considerations in the SDS itself."]
[null,null,null,null,null,null,null,{"$f":"'Chapter 3'!K74","v":false},null,null,null,null,null,null,true,true,false,null,null,null,null,null,null,null,null,null,null,null,null,null,null,null,null,null,null,null,null,null,null,null,null,null,null,null,null,null,null,null,null,null,null,null,null,null,null,null,null,{"$f":"BF444","v":"Q3.10"},"Q3.10NEPRAVDA",false,"No need to immediately change strategy, however always seek improvement."]
[]
[]
[null,null,null,null,null,null,null,null,null,null,null,null,null,null,null,null,null,null,{"$f":"G430","v":"Q3.7"},{"$f":"IF(I430=\"\",$H430,I430)","v":false},false,true,false,false,false,false,false,false,false]
[null,null,null,null,null,null,null,null,null,null,null,null,null,null,null,null,null,null,null,{"$f":"IF(I431=\"\",$H431,I431)","v":true},true,false,true,{"$f":"IF(M431=\"\",$H431,M431)","v":true},{"$f":"IF(N431=\"\",$H431,N431)","v":true},false,false,true,false]
[null,null,null,null,null,null,null,null,null,null,null,null,null,null,null,null,null,null,null,false,false,false,false,false,false,false,false,false,false]
[null,null,null,null,null,null,null,null,null,null,null,null,null,null,null,null,null,null,null,false,false,false,false,false,false,true,true,false,false]
[]
[]
[]
[]
[null,null,null,null,null,null,null,null,null,null,null,null,null,null,null,null,null,null,{"$f":"G434","v":"Q3.8"},{"$f":"IF(I434=\"\",$H434,I434)","v":true},true,false,true,true,true,false,false,true,false]
[null,null,null,null,null,null,null,null,null,null,null,null,null,null,null,null,null,null,null,{"$f":"IF(I435=\"\",$H435,I435)","v":false},false,true,false,{"$f":"IF(M435=\"\",$H435,M435)","v":false},{"$f":"IF(N435=\"\",$H435,N435)","v":false},false,false,false,false]
[null,null,null,null,null,null,null,null,null,null,null,null,null,null,null,null,null,null,null,false,false,false,false,false,false,false,false,false,false]
[null,null,null,null,null,null,null,null,null,null,null,null,null,null,null,null,null,null,null,false,false,false,false,false,false,true,true,false,false]
[]
[]
[null,null,null,null,null,null,null,null,null,null,null,null,null,null,null,null,null,null,{"$f":"G438","v":"Q3.9"},{"$f":"IF(I438=\"\",$H438,I438)","v":false},false,false,false,false,false,false,false,false,false]
[null,null,null,null,null,null,null,null,null,null,null,null,null,null,null,null,null,null,null,{"$f":"IF(I439=\"\",$H439,I439)","v":false},false,false,false,{"$f":"IF(M439=\"\",$H439,M439)","v":false},{"$f":"IF(N439=\"\",$H439,N439)","v":false},false,false,false,false]
[null,null,null,null,null,null,null,null,null,null,null,null,null,null,null,null,null,null,null,true,true,false,true,true,true,false,false,true,false]
[null,null,null,null,null,null,null,null,null,null,null,null,null,null,null,null,null,null,null,false,false,true,false,false,false,true,true,false,false]
[]
[]
[]
[]
[null,null,null,null,null,null,null,null,null,null,null,null,null,null,null,null,null,null,{"$f":"G442","v":"Q3.10"},{"$f":"IF(I442=\"\",$H442,I442)","v":false},false,false,false,false,false,false,false,true,false]
[null,null,null,null,null,null,null,null,null,null,null,null,null,null,null,null,null,null,null,{"$f":"IF(I443=\"\",$H443,I443)","v":false},false,false,false,{"$f":"IF(M443=\"\",$H443,M443)","v":false},{"$f":"IF(N443=\"\",$H443,N443)","v":false},false,false,false,false]
[null,null,null,null,null,null,null,null,null,null,null,null,null,null,null,null,null,null,null,true,true,true,true,true,true,false,false,false,false]
[null,null,null,null,null,null,null,null,null,null,null,null,null,null,null,null,null,null,null,false,false,false,false,false,false,true,true,false,false]
[]
[]
[]
["chapter 4"]
[]
[null,null,null,null,null,null,null,null,"scores in case of compliance",null,null,null,null,null,null,null,null,null,null,"to copy",null,null,null,null,null,null,null,null,null,null,null,null,"equal weights (adaptable)",null,null,null,"MCA"]
[null,"scores",null,null,null,"prefill",null,"answered","ISO9001","ISO14001","ISO26000","ISO45001","ISO50001","EMAS","RC14001","RCMS","GHS",null,null,{"$f":"I480","v":"ISO9001"},"ISO14001","ISO26000","ISO45001","ISO50001","EMAS","RC14001","RCMS","GHS","clear",null,"weights",null,{"$f":"IF(SUM(AG482:AG495)=100,\"ok\",\"error\")","v":"ok"},{"$f":"IF(SUM(AH482:AH495)/COUNT(AG482:AG495)=100,\"ok\",\"error\")","v":"ok"},null,null,"subscores","score",null,null,"identification of major issues",null,null,null,null,null,"scores for standards",null,null,null,null,null,null,null,null,null,null,"improvement tips"]
[null,null,null,null,null,null,null,null,null,null,null,null,null,null,null,null,null,null,null,null,null,null,null,null,null,null,null,null,null,null,null,null,null,null,null,null,null,{"$f":"(AK482*AG482+AG484*AK484+AK486*AG486+AK488*AG488+AK491*AG491+AK493*AG493)/100","v":2.833333333333333},null,null,null,null,null,null,null,null,null,{"$f":"I480","v":"ISO9001"},{"$f":"J480","v":"ISO14001"},{"$f":"K480","v":"ISO26000"},{"$f":"L480","v":"ISO45001"},{"$f":"M480","v":"ISO50001"},{"$f":"N480","v":"EMAS"},{"$f":"O480","v":"RC14001"},{"$f":"P480","v":"RCMS"},"GHS"]
[null,{"$f":"'Chapter 4'!C6","v":"Q4.1"},{"$f":"IF('Chapter 4'!K7,1,IF('Chapter 4'!K8,2,IF('Chapter 4'!K9,3,IF('Chapter 4'!K10,4,\"\"))))","v":3},"formula 4 choices",null,null,{"$f":"B482","v":"Q4.1"},{"$f":"'Chapter 4'!K7","v":false},false,null,null,null,false,null,null,false,null,null,{"$f":"G482","v":"Q4.1"},{"$f":"IF(I482=\"\",$H482,I482)","v":false},false,false,false,false,false,false,false,false,false,null,{"$f":"'Chapter 4'!B4","v":"Odpovědné získávání zdrojů"},null,{"$f":"100/6","v":16.666666666666668},null,null,null,{"$f":"C482","v":3},null,null,null,{"$f":"B482","v":"Q4.1"},1,{"$f":"IF(C482<AP482,\"major issue\",\"ok\")","v":"ok"},{"$f":"IF(AQ482<>\"ok\",1,0)","v":0},null,null,{"$f":"AO482","v":"Q4.1"},{"$f":"IF(I482,1,IF(I483,2,IF(I484,3,IF(I485,4,\"-\"))))","v":3},{"$f":"IF(J482,1,IF(J483,2,IF(J484,3,IF(J485,4,\"-\"))))","v":"-"},{"$f":"IF(K482,1,IF(K483,2,IF(K484,3,IF(K485,4,\"-\"))))","v":"-"},{"$f":"IF(L482,1,IF(L483,2,IF(L484,3,IF(L485,4,\"-\"))))","v":"-"},{"$f":"IF(M482,1,IF(M483,2,IF(M484,3,IF(M485,4,\"-\"))))","v":3},{"$f":"IF(N482,1,IF(N483,2,IF(N484,3,IF(N485,4,\"-\"))))","v":"-"},{"$f":"IF(O482,1,IF(O483,2,IF(O484,3,IF(O485,4,\"-\"))))","v":"-"},{"$f":"IF(P482,1,IF(P483,2,IF(P484,3,IF(P485,4,\"-\"))))","v":3},"-",null,{"$f":"G482","v":"Q4.1"},{"$f":"CONCATENATE(BF482,BH482)","v":"Q4.1NEPRAVDA"},{"$f":"H482","v":false},"Set up a policy specifying the organisation's commitment towards responsible sourcing. \nWhen purchasing equipments, goods and services, inform the providers of your organisation's environmental policy and requirements and support the CSR approach through their collaboration.\nAn example of scheme that could be used (in total or parts) is TfS (https://tfs-initiative.com/). Companies may decide to use other schemes or systems/criteria. A good guidance document (developed by VCI) on “Sustainable Supply Chain Management for Medium-Size companies in the chemical industry” is https://www.chemiehoch3.de/fileadmin/user_upload/News/Chemie3_Guide_Supply_Chain_eng.pdf"]
[null,{"$f":"'Chapter 4'!C14","v":"Q4.2"},{"$f":"IF('Chapter 4'!K15,1,IF('Chapter 4'!K16,2,IF('Chapter 4'!K17,3,IF('Chapter 4'!K18,4,\"\"))))","v":2},"formula 4 choices",null,null,null,{"$f":"'Chapter 4'!K8","v":false},false,null,null,null,false,null,null,false,null,null,null,{"$f":"IF(I483=\"\",$H483,I483)","v":false},false,false,false,{"$f":"IF(M483=\"\",$H483,M483)","v":false},{"$f":"IF(N483=\"\",$H483,N483)","v":false},false,false,false,false,null,null,{"$f":"B482","v":"Q4.1"},null,100,null,null,null,null,null,null,{"$f":"B483","v":"Q4.2"},1,"ok",{"$f":"IF(AQ483<>\"ok\",1,0)","v":0},null,null,{"$f":"AO483","v":"Q4.2"},{"$f":"IF(I486,1,IF(I487,2,IF(I488,3,IF(I489,4,\"-\"))))","v":"-"},{"$f":"IF(J486,1,IF(J487,2,IF(J488,3,IF(J489,4,\"-\"))))","v":"-"},{"$f":"IF(K486,1,IF(K487,2,IF(K488,3,IF(K489,4,\"-\"))))","v":"-"},{"$f":"IF(L486,1,IF(L487,2,IF(L488,3,IF(L489,4,\"-\"))))","v":"-"},{"$f":"IF(M486,1,IF(M487,2,IF(M488,3,IF(M489,4,\"-\"))))","v":"-"},{"$f":"IF(N486,1,IF(N487,2,IF(N488,3,IF(N489,4,\"-\"))))","v":"-"},{"$f":"IF(O486,1,IF(O487,2,IF(O488,3,IF(O489,4,\"-\"))))","v":"-"},{"$f":"IF(P486,1,IF(P487,2,IF(P488,3,IF(P489,4,\"-\"))))","v":"-"},"-",null,{"$f":"BF482","v":"Q4.1"},"Q4.1NEPRAVDA",{"$f":"H483","v":false},"When procuring energy using products, equipment or services, take energy performance of the expected lifetime as one of the criteria. When purchasing equipments, goods and services, take into account the impact on the environment through environmental criteria in the selection process for the purchased good, equipment and services.\nAn example of scheme that could be used (in total or parts) is TfS (https://tfs-initiative.com/). Companies may decide to use other schemes or systems/criteria.  A good guidance document (developed by VCI) on “Sustainable Supply Chain Management for Medium-Size companies in the chemical industry” is https://www.chemiehoch3.de/fileadmin/user_upload/News/Chemie3_Guide_Supply_Chain_eng.pdf"]
[null,{"$f":"'Chapter 4'!C22","v":"Q4.3"},{"$f":"IF('Chapter 4'!K23,1,IF('Chapter 4'!K24,2,IF('Chapter 4'!K25,3,IF('Chapter 4'!K26,4,\"\"))))","v":3},"formula 4 choices",null,null,null,{"$f":"'Chapter 4'!K9","v":true},true,null,null,null,true,null,null,true,null,null,null,true,true,true,true,true,true,true,true,true,false,null,{"$f":"'Chapter 4'!B12","v":"Spolupráce v dodavatelském řetězci (obchodní partneři)"},null,{"$f":"100/6","v":16.666666666666668},null,null,null,{"$f":"C483","v":2},null,null,null,"Q4.3",1,"ok",0,null,null,"Q4.3",{"$f":"IF(I490,1,IF(I491,2,IF(I492,3,IF(I493,4,\"-\"))))","v":"-"},{"$f":"IF(J490,1,IF(J491,2,IF(J492,3,IF(J493,4,\"-\"))))","v":"-"},{"$f":"IF(K490,1,IF(K491,2,IF(K492,3,IF(K493,4,\"-\"))))","v":4},{"$f":"IF(L490,1,IF(L491,2,IF(L492,3,IF(L493,4,\"-\"))))","v":"-"},{"$f":"IF(M490,1,IF(M491,2,IF(M492,3,IF(M493,4,\"-\"))))","v":"-"},{"$f":"IF(N490,1,IF(N491,2,IF(N492,3,IF(N493,4,\"-\"))))","v":"-"},{"$f":"IF(O490,1,IF(O491,2,IF(O492,3,IF(O493,4,\"-\"))))","v":"-"},{"$f":"IF(P490,1,IF(P491,2,IF(P492,3,IF(P493,4,\"-\"))))","v":"-"},"-",null,{"$f":"BF483","v":"Q4.1"},"Q4.1PRAVDA",true,"Devote a budget to purchase equipment and services that are more respectful of the environment and set the priorities of your purchases based on impact assessments.\nAn example of scheme that could be used (in total or parts) is TfS (https://tfs-initiative.com/). Companies may decide to use other schemes.  A good guidance document (developed by VCI) on “Sustainable Supply Chain Management for Medium-Size companies in the chemical industry” is https://www.chemiehoch3.de/fileadmin/user_upload/News/Chemie3_Guide_Supply_Chain_eng.pdf"]
[null,{"$f":"'Chapter 4'!C30","v":"Q4.4"},{"$f":"IF('Chapter 4'!K31,1,IF('Chapter 4'!K32,2,IF('Chapter 4'!K33,3,IF('Chapter 4'!K34,4,\"\"))))","v":1},"formula 4 choices",null,null,null,{"$f":"'Chapter 4'!K10","v":false},false,null,null,null,false,null,null,false,null,null,null,false,false,false,false,false,false,false,false,false,false,null,null,{"$f":"B483","v":"Q4.2"},null,100,null,null,null,null,null,null,"Q4.4",2,"major issue",1,null,null,"Q4.4",{"$f":"IF(I494,1,IF(I495,2,IF(I496,3,IF(I497,4,\"-\"))))","v":"-"},{"$f":"IF(J494,1,IF(J495,2,IF(J496,3,IF(J497,4,\"-\"))))","v":"-"},{"$f":"IF(K494,1,IF(K495,2,IF(K496,3,IF(K497,4,\"-\"))))","v":4},{"$f":"IF(L494,1,IF(L495,2,IF(L496,3,IF(L497,4,\"-\"))))","v":"-"},{"$f":"IF(M494,1,IF(M495,2,IF(M496,3,IF(M497,4,\"-\"))))","v":"-"},{"$f":"IF(N494,1,IF(N495,2,IF(N496,3,IF(N497,4,\"-\"))))","v":"-"},{"$f":"IF(O494,1,IF(O495,2,IF(O496,3,IF(O497,4,\"-\"))))","v":"-"},{"$f":"IF(P494,1,IF(P495,2,IF(P496,3,IF(P497,4,\"-\"))))","v":"-"},"-",null,{"$f":"BF484","v":"Q4.1"},"Q4.1NEPRAVDA",false,"No need to immediately change strategy, however always seek improvement."]
[null,{"$f":"'Chapter 4'!C36","v":"Q4.5"},{"$f":"IF('Chapter 4'!K37,1,IF('Chapter 4'!K38,2,IF('Chapter 4'!K39,3,IF('Chapter 4'!K40,4,\"\"))))","v":4},"formula 4 choices",null,null,{"$f":"B483","v":"Q4.2"},{"$f":"'Chapter 4'!K15","v":false},null,null,null,null,null,null,null,null,null,null,null,null,null,null,null,null,null,null,null,null,null,null,{"$f":"'Chapter 4'!B20","v":"Obchodní integrita"},null,{"$f":"100/6","v":16.666666666666668},null,null,null,{"$f":"C484","v":3},null,null,null,"Q4.5",2,"ok",0,null,null,"Q4.5",{"$f":"IF(I498,1,IF(I499,2,IF(I500,3,IF(I501,4,\"-\"))))","v":"-"},{"$f":"IF(J498,1,IF(J499,2,IF(J500,3,IF(J501,4,\"-\"))))","v":"-"},{"$f":"IF(K498,1,IF(K499,2,IF(K500,3,IF(K501,4,\"-\"))))","v":4},{"$f":"IF(L498,1,IF(L499,2,IF(L500,3,IF(L501,4,\"-\"))))","v":"-"},{"$f":"IF(M498,1,IF(M499,2,IF(M500,3,IF(M501,4,\"-\"))))","v":"-"},{"$f":"IF(N498,1,IF(N499,2,IF(N500,3,IF(N501,4,\"-\"))))","v":"-"},{"$f":"IF(O498,1,IF(O499,2,IF(O500,3,IF(O501,4,\"-\"))))","v":"-"},{"$f":"IF(P498,1,IF(P499,2,IF(P500,3,IF(P501,4,\"-\"))))","v":"-"},"-",null,{"$f":"G486","v":"Q4.2"},"Q4.2NEPRAVDA",{"$f":"H486","v":false},"Grant preferred processes to trusted business partners.\nFigure out the satisfaction level of your business partners, in order to maintain a good collaboration and to interact when necessary."]
[null,{"$f":"'Chapter 4'!C44","v":"Q4.6"},{"$f":"IF('Chapter 4'!K45,1,IF('Chapter 4'!K46,2,IF('Chapter 4'!K47,3,IF('Chapter 4'!K48,4,\"\"))))","v":3},"formula 4 choices",null,null,null,{"$f":"'Chapter 4'!K16","v":true},null,null,null,null,null,null,null,null,null,null,null,null,null,null,null,null,null,null,null,null,null,null,null,{"$f":"B484","v":"Q4.3"},null,100,null,null,null,null,null,null,"Q4.6",1,"ok",0,null,null,"Q4.6",{"$f":"IF(I502,1,IF(I503,2,IF(I504,3,IF(I505,4,\"-\"))))","v":"-"},{"$f":"IF(J502,1,IF(J503,2,IF(J504,3,IF(J505,4,\"-\"))))","v":"-"},{"$f":"IF(K502,1,IF(K503,2,IF(K504,3,IF(K505,4,\"-\"))))","v":"-"},{"$f":"IF(L502,1,IF(L503,2,IF(L504,3,IF(L505,4,\"-\"))))","v":3},{"$f":"IF(M502,1,IF(M503,2,IF(M504,3,IF(M505,4,\"-\"))))","v":"-"},{"$f":"IF(N502,1,IF(N503,2,IF(N504,3,IF(N505,4,\"-\"))))","v":"-"},{"$f":"IF(O502,1,IF(O503,2,IF(O504,3,IF(O505,4,\"-\"))))","v":"-"},{"$f":"IF(P502,1,IF(P503,2,IF(P504,3,IF(P505,4,\"-\"))))","v":3},"-",null,{"$f":"BF486","v":"Q4.2"},"Q4.2PRAVDA",true,"Promotes the organisation's main business partners with middle-long terms contracts to enable them to invest in more efficient and responsible technologies."]
[null,{"$f":"'Chapter 4'!C52","v":"Q4.7"},{"$f":"IF('Chapter 4'!K53,1,IF('Chapter 4'!K54,2,IF('Chapter 4'!K55,3,IF('Chapter 4'!K56,4,\"\"))))","v":3},"formula 4 choices",null,null,null,{"$f":"'Chapter 4'!K17","v":false},null,null,null,null,null,null,null,null,null,null,null,null,null,null,null,null,null,null,null,null,null,null,{"$f":"'Chapter 4'!B28","v":"Pracovní práva (Práva zaměstnanců)"},null,{"$f":"100/6","v":16.666666666666668},null,null,null,{"$f":"((C485*AH489)+(C486*AH490))/100","v":2.5},null,null,null,"Q4.7",1,"ok",0,null,null,"Q4.7",{"$f":"IF(I506,1,IF(I507,2,IF(I508,3,IF(I509,4,\"-\"))))","v":3},{"$f":"IF(J506,1,IF(J507,2,IF(J508,3,IF(J509,4,\"-\"))))","v":"-"},{"$f":"IF(K506,1,IF(K507,2,IF(K508,3,IF(K509,4,\"-\"))))","v":"-"},{"$f":"IF(L506,1,IF(L507,2,IF(L508,3,IF(L509,4,\"-\"))))","v":"-"},{"$f":"IF(M506,1,IF(M507,2,IF(M508,3,IF(M509,4,\"-\"))))","v":"-"},{"$f":"IF(N506,1,IF(N507,2,IF(N508,3,IF(N509,4,\"-\"))))","v":"-"},{"$f":"IF(O506,1,IF(O507,2,IF(O508,3,IF(O509,4,\"-\"))))","v":"-"},{"$f":"IF(P506,1,IF(P507,2,IF(P508,3,IF(P509,4,\"-\"))))","v":"-"},"-",null,{"$f":"BF487","v":"Q4.2"},"Q4.2NEPRAVDA",false,"Start up R&D programmes & create specific partnerships with business partners across the value chain to co-develop innovative products and services."]
[null,{"$f":"'Chapter 4'!C58","v":"Q4.8"},{"$f":"IF('Chapter 4'!K59,1,IF('Chapter 4'!K60,2,IF('Chapter 4'!K61,3,IF('Chapter 4'!K62,4,\"\"))))","v":4},"formula 4 choices",null,null,null,{"$f":"'Chapter 4'!K18","v":false},null,null,null,null,null,null,null,null,null,null,null,null,null,null,null,null,null,null,null,null,null,null,null,{"$f":"B485","v":"Q4.4"},null,50,null,null,null,null,null,null,"Q4.8",1,"ok",0,null,null,"Q4.8",{"$f":"IF(I510,1,IF(I511,2,IF(I512,3,IF(I513,4,\"-\"))))","v":4},{"$f":"IF(J510,1,IF(J511,2,IF(J512,3,IF(J513,4,\"-\"))))","v":"-"},{"$f":"IF(K510,1,IF(K511,2,IF(K512,3,IF(K513,4,\"-\"))))","v":"-"},{"$f":"IF(L510,1,IF(L511,2,IF(L512,3,IF(L513,4,\"-\"))))","v":"-"},{"$f":"IF(M510,1,IF(M511,2,IF(M512,3,IF(M513,4,\"-\"))))","v":"-"},{"$f":"IF(N510,1,IF(N511,2,IF(N512,3,IF(N513,4,\"-\"))))","v":"-"},{"$f":"IF(O510,1,IF(O511,2,IF(O512,3,IF(O513,4,\"-\"))))","v":"-"},{"$f":"IF(P510,1,IF(P511,2,IF(P512,3,IF(P513,4,\"-\"))))","v":"-"},"-",null,{"$f":"BF488","v":"Q4.2"},"Q4.2NEPRAVDA",false,"No need to immediately change strategy, however always seek improvement."]
[null,null,null,null,null,null,{"$f":"B484","v":"Q4.3"},{"$f":"'Chapter 4'!K23","v":false},null,null,false,null,null,null,null,null,null,null,{"$f":"G486","v":"Q4.2"},{"$f":"IF(I486=\"\",$H486,I486)","v":false},false,false,false,false,false,false,false,false,false,null,null,{"$f":"B486","v":"Q4.5"},null,50,null,null,null,null,null,null,null,null,null,null,null,null,null,null,null,null,null,null,null,null,null,null,null,{"$f":"G490","v":"Q4.3"},"Q4.3NEPRAVDA",false,"Establish a policy or code of conduct on business ethics (including anti-trust/breach of competition law rules practices and corruption) and have it formally endorsed by the highest level of business.\n\nMake the employees aware of their expected behaviour to adopt in risky situations.\nOne way of doing this, is by making the employees periodically take an integrity test, wherein the employees reflect on certain risky situations."]
[null,null,null,null,null,null,null,{"$f":"'Chapter 4'!K24","v":false},null,null,false,null,null,null,null,null,null,null,null,{"$f":"IF(I487=\"\",$H487,I487)","v":true},true,true,true,{"$f":"IF(M487=\"\",$H487,M487)","v":true},{"$f":"IF(N487=\"\",$H487,N487)","v":true},true,true,true,false,null,{"$f":"'Chapter 4'!B42","v":"Logističtí partneři"},null,{"$f":"100/6","v":16.666666666666668},null,null,null,{"$f":"C487","v":3},null,null,null,null,null,null,{"$f":"IF(SUM(AR482:AR489)>0,\"Key RC elements are still to be implemented, see tips\",\"\")","v":"Key RC elements are still to be implemented, see tips"},null,null,null,null,null,null,null,null,null,null,null,null,null,{"$f":"BF490","v":"Q4.3"},"Q4.3NEPRAVDA",false,"Implement processes to prevent involvement or participation (in) to anti-trust/breach of competition law rules practices and corruption, e.g. by implementing a system for employees to signal anonymously any situation presenting such risk."]
[null,null,null,null,null,null,null,{"$f":"'Chapter 4'!K25","v":true},null,null,false,null,null,null,null,null,null,null,null,false,false,false,false,{"$f":"IF(M488=\"\",$H488,M488)","v":false},false,false,false,false,false,null,null,{"$f":"B487","v":"Q4.6"},null,100,null,null,null,null,null,null,null,null,null,null,null,null,null,null,null,null,null,null,null,null,null,null,null,{"$f":"BF491","v":"Q4.3"},"Q4.3PRAVDA",true,"Make the organisation's stakeholders aware of the organisation's policy or code on business ethics (including anti-trust/breach of competition law rules practices and corruption) and allow the organisation's stakeholders access to a system to signal any situations presenting such risk."]
[null,null,null,null,null,null,null,{"$f":"'Chapter 4'!K26","v":false},null,null,true,null,null,null,null,null,null,null,null,{"$f":"IF(I489=\"\",$H489,I489)","v":false},false,false,false,{"$f":"IF(M489=\"\",$H489,M489)","v":false},false,false,false,false,false,null,{"$f":"'Chapter 4'!B50","v":"Následní uživatelé"},null,{"$f":"100/6","v":16.666666666666668},null,null,null,{"$f":"((C488*AH494)+(C489*AH495))/100","v":3.5},null,null,null,null,null,null,null,null,null,null,null,null,null,null,null,null,null,null,null,null,{"$f":"BF492","v":"Q4.3"},"Q4.3NEPRAVDA",false,"No need to immediately change strategy, however always seek improvement."]
[null,null,null,null,null,null,{"$f":"B485","v":"Q4.4"},{"$f":"'Chapter 4'!K31","v":true},null,null,false,null,null,null,null,null,null,null,null,null,null,null,null,null,null,null,null,null,null,null,null,{"$f":"B488","v":"Q4.7"},null,50,null,null,null,null,null,null,null,null,null,null,null,null,null,null,null,null,null,null,null,null,null,null,null,{"$f":"G494","v":"Q4.4"},"Q4.4PRAVDA",true,"Set up minimum requirements regarding social issues and human rights within the specifications of the organisation's business partners, and selects business partners based on these criteria."]
[null,null,null,null,null,null,null,{"$f":"'Chapter 4'!K32","v":false},null,null,false,null,null,null,null,null,null,null,null,null,null,null,null,null,null,null,null,null,null,null,null,{"$f":"B489","v":"Q4.8"},null,50,null,null,null,null,null,null,null,null,null,null,null,null,null,null,null,null,null,null,null,null,null,null,null,{"$f":"BF494","v":"Q4.4"},"Q4.4NEPRAVDA",false,"Defined a process for the evaluation of business partners, based on the criteria regarding social issues and human rights.\nAn example of scheme that could be used (in total or parts) is TfS (https://tfs-initiative.com/). Companies may decide to use other scheme or systems/criteria."]
[null,null,null,null,null,null,null,{"$f":"'Chapter 4'!K33","v":false},null,null,false,null,null,null,null,null,null,null,null,null,null,null,null,null,null,null,null,null,null,null,null,null,null,null,null,null,null,null,null,null,null,null,null,null,null,null,null,null,null,null,null,null,null,null,null,null,null,{"$f":"BF495","v":"Q4.4"},"Q4.4NEPRAVDA",false,"Regularly audit the organisation's business partners on their capacity to ensure respect of human and social rights."]
[null,null,null,null,null,null,null,{"$f":"'Chapter 4'!K34","v":false},null,null,true,null,null,null,null,null,null,null,null,null,null,null,null,null,null,null,null,null,null,null,null,null,null,null,null,null,null,null,null,null,null,null,null,null,null,null,null,null,null,null,null,null,null,null,null,null,null,{"$f":"BF496","v":"Q4.4"},"Q4.4NEPRAVDA",false,"No need to immediately change strategy, however always seek improvement."]
[null,null,null,null,null,null,{"$f":"B486","v":"Q4.5"},{"$f":"'Chapter 4'!K37","v":false},null,null,false,null,null,null,null,null,null,null,{"$f":"G490","v":"Q4.3"},{"$f":"IF(I490=\"\",$H490,I490)","v":false},false,false,false,false,false,false,false,false,false,null,null,null,null,null,null,null,null,null,null,null,null,null,null,null,null,null,null,null,null,null,null,null,null,null,null,null,null,{"$f":"G498","v":"Q4.5"},"Q4.5NEPRAVDA",false,"Take two of the following actions to ensure the prevention of child labour in your organisation:\n- Have an age verification system in place;\n- Do not have children below the age of 15 or more (please check applicable legislation). (Apprentices, school or education related internships are the only exception.);\n- Ensure that labour below 18 years does not interfere with children’s schooling (sum of hours of transportation to and from work and school, school attendance and labour is less than 10 hours a day);\n- Ensure that labour of young workers is not mentally, physically, socially or morally dangerous and harmful."]
[null,null,null,null,null,null,null,{"$f":"'Chapter 4'!K38","v":false},null,null,false,null,null,null,null,null,null,null,null,{"$f":"IF(I491=\"\",$H491,I491)","v":false},false,false,false,{"$f":"IF(M491=\"\",$H491,M491)","v":false},{"$f":"IF(N491=\"\",$H491,N491)","v":false},false,false,false,false,null,null,null,null,null,null,null,null,null,null,null,null,null,null,null,null,null,null,null,null,null,null,null,null,null,null,null,null,{"$f":"BF498","v":"Q4.5"},"Q4.5NEPRAVDA",false,"Take three of the following actions to ensure the prevention of child labour in your organisation:\n- Have an age verification system in place;\n- Do not have children below the age of 15 or more (please check applicable legislation). (Apprentices, school or education related internships are the only exception.);\n- Ensure that labour below 18 years does not interfere with children’s schooling (sum of hours of transportation to and from work and school, school attendance and labour is less than 10 hours a day);\n- Ensure that labour of young workers is not mentally, physically, socially or morally dangerous and harmful."]
[null,null,null,null,null,null,null,{"$f":"'Chapter 4'!K39","v":false},null,null,false,null,null,null,null,null,null,null,null,true,true,false,true,{"$f":"IF(M492=\"\",$H492,M492)","v":true},true,true,true,true,false,null,null,null,null,null,null,null,null,null,null,null,null,null,null,null,null,null,null,null,null,null,null,null,null,null,null,null,null,{"$f":"BF499","v":"Q4.5"},"Q4.5NEPRAVDA",false,"Take all of the following actions to ensure the prevention of child labour in your organisation:\n- Have an age verification system in place;\n- Do not have children below the age of 15 or more (please check applicable legislation). (Apprentices, school or education related internships are the only exception.);\n- Ensure that labour below 18 years does not interfere with children’s schooling (sum of hours of transportation to and from work and school, school attendance and labour is less than 10 hours a day);\n- Ensure that labour of young workers is not mentally, physically, socially or morally dangerous and harmful."]
[null,null,null,null,null,null,null,{"$f":"'Chapter 4'!K40","v":true},null,null,true,null,null,null,null,null,null,null,null,false,false,true,false,{"$f":"IF(M493=\"\",$H493,M493)","v":false},false,false,false,false,false,null,null,null,null,null,null,null,null,null,null,null,null,null,null,null,null,null,null,null,null,null,null,null,null,null,null,null,null,{"$f":"BF500","v":"Q4.5"},"Q4.5PRAVDA",true,"No need to immediately change strategy, however always seek improvement."]
[null,null,null,null,null,null,{"$f":"B487","v":"Q4.6"},{"$f":"'Chapter 4'!K45","v":false},null,null,null,false,null,null,null,false,null,null,null,null,null,null,null,null,null,null,null,null,null,null,null,null,null,null,null,null,null,null,null,null,null,null,null,null,null,null,null,null,null,null,null,null,null,null,null,null,null,{"$f":"G502","v":"Q4.6"},"Q4.6NEPRAVDA",false,"Set up minimum requirements regarding HSE&S in the specifications for logistics providers for the organisation."]
[null,null,null,null,null,null,null,{"$f":"'Chapter 4'!K46","v":false},null,null,null,false,null,null,null,false,null,null,null,null,null,null,null,null,null,null,null,null,null,null,null,null,null,null,null,null,null,null,null,null,null,null,null,null,null,null,null,null,null,null,null,null,null,null,null,null,null,{"$f":"BF502","v":"Q4.6"},"Q4.6NEPRAVDA",false,"Define a process for the evaluation of its logistic partners on their compliance with the organisation's requirements."]
[null,null,null,null,null,null,null,{"$f":"'Chapter 4'!K47","v":true},null,null,null,true,null,null,null,true,null,null,null,null,null,null,null,null,null,null,null,null,null,null,null,null,null,null,null,null,null,null,null,null,null,null,null,null,null,null,null,null,null,null,null,null,null,null,null,null,null,{"$f":"BF503","v":"Q4.6"},"Q4.6PRAVDA",true,"Regularly audit the organisation's logistics partners on their capacity to ensure compliance with the organisation's requirements (incl. energy efficiency and Greenhouse Gas (GHG) emissions).\nAn example of scheme that could be used (in total or parts) is SQAS (https://www.sqas.org/). Companies may decide to use other schemes or systems/criteria. The choice of a logistic provider is based on each company individual decision-making process which may or may not include SQAS."]
[null,null,null,null,null,null,null,{"$f":"'Chapter 4'!K48","v":false},null,null,null,false,null,null,null,false,null,null,null,null,null,null,null,null,null,null,null,null,null,null,null,null,null,null,null,null,null,null,null,null,null,null,null,null,null,null,null,null,null,null,null,null,null,null,null,null,null,{"$f":"BF504","v":"Q4.6"},"Q4.6NEPRAVDA",false,"No need to immediately change strategy, however always seek improvement."]
[null,null,null,null,null,null,{"$f":"B488","v":"Q4.7"},{"$f":"'Chapter 4'!K53","v":false},false,null,null,null,null,null,null,null,null,null,{"$f":"G494","v":"Q4.4"},{"$f":"IF(I494=\"\",$H494,I494)","v":true},true,false,true,true,true,true,true,true,false,null,null,null,null,null,null,null,null,null,null,null,null,null,null,null,null,null,null,null,null,null,null,null,null,null,null,null,null,{"$f":"G506","v":"Q4.7"},"Q4.7NEPRAVDA",false,"Ensure that when property or data of a downstream user or external provider is lost, damaged or otherwise found to be unsuitable for use, the organisation reports this to the downstream user or external provider and retains documented information on what has occurred."]
[null,null,null,null,null,null,null,{"$f":"'Chapter 4'!K54","v":false},false,null,null,null,null,null,null,null,null,null,null,{"$f":"IF(I495=\"\",$H495,I495)","v":false},false,false,false,{"$f":"IF(M495=\"\",$H495,M495)","v":false},{"$f":"IF(N495=\"\",$H495,N495)","v":false},false,false,false,false,null,null,null,null,null,null,null,null,null,null,null,null,null,null,null,null,null,null,null,null,null,null,null,null,null,null,null,null,{"$f":"BF506","v":"Q4.7"},"Q4.7NEPRAVDA",false,"Establish internal rules for managing data and property ensuring their privacy (f.e. not keeping any data longer than needed)."]
[null,null,null,null,null,null,null,{"$f":"'Chapter 4'!K55","v":true},true,null,null,null,null,null,null,null,null,null,null,false,false,false,false,{"$f":"IF(M496=\"\",$H496,M496)","v":false},false,false,false,false,false,null,null,null,null,null,null,null,null,null,null,null,null,null,null,null,null,null,null,null,null,null,null,null,null,null,null,null,null,{"$f":"BF507","v":"Q4.7"},"Q4.7PRAVDA",true,"Establish a regular dialogue with the organisation's downstream users and external providers to inform them on the situation and on the processes applied to ensure the best protection of their data and property."]
[null,null,null,null,null,null,null,{"$f":"'Chapter 4'!K56","v":false},false,null,null,null,null,null,null,null,null,null,null,false,false,true,false,{"$f":"IF(M497=\"\",$H497,M497)","v":false},false,false,false,false,false,null,null,null,null,null,null,null,null,null,null,null,null,null,null,null,null,null,null,null,null,null,null,null,null,null,null,null,null,{"$f":"BF508","v":"Q4.7"},"Q4.7NEPRAVDA",false,"No need to immediately change strategy, however always seek improvement."]
[null,null,null,null,null,null,{"$f":"B489","v":"Q4.8"},{"$f":"'Chapter 4'!K59","v":false},false,null,null,null,null,null,null,null,null,null,null,null,null,null,null,null,null,null,null,null,null,null,null,null,null,null,null,null,null,null,null,null,null,null,null,null,null,null,null,null,null,null,null,null,null,null,null,null,null,{"$f":"G510","v":"Q4.8"},"Q4.8NEPRAVDA",false,"Include the following in the organisation's downstream user dialogue:\n- Providing information relating to products and services;\n- Handling enquiries, contracts or orders, including changes;"]
[null,null,null,null,null,null,null,{"$f":"'Chapter 4'!K60","v":false},false,null,null,null,null,null,null,null,null,null,null,null,null,null,null,null,null,null,null,null,null,null,null,null,null,null,null,null,null,null,null,null,null,null,null,null,null,null,null,null,null,null,null,null,null,null,null,null,null,{"$f":"BF510","v":"Q4.8"},"Q4.8NEPRAVDA",false,"Include the following in the organisation's downstream user dialogue:\n- Obtaining customer feedback relating to products and services, including downstream users' complaints.\n"]
[null,null,null,null,null,null,null,{"$f":"'Chapter 4'!K61","v":false},false,null,null,null,null,null,null,null,null,null,{"$f":"G498","v":"Q4.5"},{"$f":"IF(I498=\"\",$H498,I498)","v":false},false,false,false,false,false,false,false,false,false,null,null,null,null,null,null,null,null,null,null,null,null,null,null,null,null,null,null,null,null,null,null,null,null,null,null,null,null,{"$f":"BF511","v":"Q4.8"},"Q4.8NEPRAVDA",false,"Include the following in the organisation's downstream user dialogue:\n- Handling or controlling downstream user property;\n- Establishing specific requirements for contingency actions, when relevant."]
[null,null,null,null,null,null,null,{"$f":"'Chapter 4'!K62","v":true},true,null,null,null,null,null,null,null,null,null,null,{"$f":"IF(I499=\"\",$H499,I499)","v":false},false,false,false,{"$f":"IF(M499=\"\",$H499,M499)","v":false},{"$f":"IF(N499=\"\",$H499,N499)","v":false},false,false,false,false,null,null,null,null,null,null,null,null,null,null,null,null,null,null,null,null,null,null,null,null,null,null,null,null,null,null,null,null,{"$f":"BF512","v":"Q4.8"},"Q4.8PRAVDA",true,"No need to immediately change strategy, however always seek improvement."]
[null,null,null,null,null,null,null,null,null,null,null,null,null,null,null,null,null,null,null,false,false,false,false,{"$f":"IF(M500=\"\",$H500,M500)","v":false},false,false,false,false,false]
[null,null,null,null,null,null,null,null,null,null,null,null,null,null,null,null,null,null,null,true,true,true,true,{"$f":"IF(M501=\"\",$H501,M501)","v":true},true,true,true,true,false]
[]
[]
[]
[]
[null,null,null,null,null,null,null,null,null,null,null,null,null,null,null,null,null,null,{"$f":"G502","v":"Q4.6"},{"$f":"IF(I502=\"\",$H502,I502)","v":false},false,false,false,false,false,false,false,false,false]
[null,null,null,null,null,null,null,null,null,null,null,null,null,null,null,null,null,null,null,{"$f":"IF(I503=\"\",$H503,I503)","v":false},false,false,false,{"$f":"IF(M503=\"\",$H503,M503)","v":false},{"$f":"IF(N503=\"\",$H503,N503)","v":false},false,false,false,false]
[null,null,null,null,null,null,null,null,null,null,null,null,null,null,null,null,null,null,null,true,true,true,true,{"$f":"IF(M504=\"\",$H504,M504)","v":true},true,true,true,true,false]
[null,null,null,null,null,null,null,null,null,null,null,null,null,null,null,null,null,null,null,false,false,false,false,{"$f":"IF(M505=\"\",$H505,M505)","v":false},false,false,false,false,false]
[]
[]
[]
[]
[null,null,null,null,null,null,null,null,null,null,null,null,null,null,null,null,null,null,{"$f":"G506","v":"Q4.7"},{"$f":"IF(I506=\"\",$H506,I506)","v":false},false,false,false,false,false,false,false,false,false]
[null,null,null,null,null,null,null,null,null,null,null,null,null,null,null,null,null,null,null,{"$f":"IF(I507=\"\",$H507,I507)","v":false},false,false,false,{"$f":"IF(M507=\"\",$H507,M507)","v":false},{"$f":"IF(N507=\"\",$H507,N507)","v":false},false,false,false,false]
[null,null,null,null,null,null,null,null,null,null,null,null,null,null,null,null,null,null,null,true,true,true,true,{"$f":"IF(M508=\"\",$H508,M508)","v":true},true,true,true,true,false]
[null,null,null,null,null,null,null,null,null,null,null,null,null,null,null,null,null,null,null,false,false,false,false,{"$f":"IF(M509=\"\",$H509,M509)","v":false},false,false,false,false,false]
[]
[]
[null,null,null,null,null,null,null,null,null,null,null,null,null,null,null,null,null,null,{"$f":"G510","v":"Q4.8"},{"$f":"IF(I510=\"\",$H510,I510)","v":false},false,false,false,false,false,false,false,false,false]
[null,null,null,null,null,null,null,null,null,null,null,null,null,null,null,null,null,null,null,{"$f":"IF(I511=\"\",$H511,I511)","v":false},false,false,false,{"$f":"IF(M511=\"\",$H511,M511)","v":false},{"$f":"IF(N511=\"\",$H511,N511)","v":false},false,false,false,false]
[null,null,null,null,null,null,null,null,null,null,null,null,null,null,null,null,null,null,null,false,false,false,false,{"$f":"IF(M512=\"\",$H512,M512)","v":false},false,false,false,false,false]
[null,null,null,null,null,null,null,null,null,null,null,null,null,null,null,null,null,null,null,true,true,true,true,{"$f":"IF(M513=\"\",$H513,M513)","v":true},true,true,true,true,false]
[]
["chapter 5"]
[]
[null,null,null,null,null,null,null,null,"scores in case of compliance",null,null,null,null,null,null,null,null,null,null,"to copy",null,null,null,null,null,null,null,null,null,null,null,null,"equal weights (adaptable)",null,null,null,"MCA"]
[null,"scores",null,null,null,"prefill",null,"answered","ISO9001","ISO14001","ISO26000","ISO45001","ISO50001","EMAS","RC14001","RCMS","GHS",null,null,{"$f":"I542","v":"ISO9001"},"ISO14001","ISO26000","ISO45001","ISO50001","EMAS","RC14001","RCMS","GHS","clear",null,"weights",null,{"$f":"IF(SUM(AG544:AG556)=100,\"ok\",\"error\")","v":"ok"},{"$f":"IF(SUM(AH544:AH556)/COUNT(AG544:AG556)=100,\"ok\",\"error\")","v":"ok"},null,null,"subscores","score",null,null,"identification of major issues",null,null,null,null,null,"scores for standards",null,null,null,null,null,null,null,null,null,null,"improvement tips"]
[null,null,null,null,null,null,null,null,null,null,null,null,null,null,null,null,null,null,null,null,null,null,null,null,null,null,null,null,null,null,null,null,null,null,null,null,null,{"$f":"(AK544*AG544+AK546*AG546+AK549*AG549)/100","v":2.5000000000000004},null,null,null,null,null,null,null,null,null,{"$f":"I542","v":"ISO9001"},"ISO14001","ISO26000","ISO45001","ISO50001","EMAS","RC14001","RCMS","GHS"]
[null,{"$f":"'Chapter 5'!C6","v":"Q5.1"},{"$f":"IF('Chapter 5'!K7,1,IF('Chapter 5'!K8,2,IF('Chapter 5'!K9,3,IF('Chapter 5'!K10,4,\"\"))))","v":3},"formula 4 choices",null,null,{"$f":"B544","v":"Q5.1"},{"$f":"'Chapter 5'!K7","v":false},false,false,false,false,false,false,false,false,null,null,{"$f":"G544","v":"Q5.1"},{"$f":"IF(I544=\"\",$H544,I544)","v":false},false,false,false,false,false,false,false,false,false,null,{"$f":"'Chapter 5'!B4","v":"Stakeholders assessment"},null,{"$f":"33+1/3","v":33.333333333333336},null,null,null,{"$f":"(C544*AH545)/100","v":3},null,null,null,{"$f":"B544","v":"Q5.1"},1,{"$f":"IF(C544<AP544,\"major issue\",\"ok\")","v":"ok"},{"$f":"IF(AQ544<>\"ok\",1,0)","v":0},null,null,{"$f":"AO544","v":"Q5.1"},{"$f":"IF(I544,1,IF(I545,2,IF(I546,3,IF(I547,4,\"-\"))))","v":3},3,4,3,3,3,3,4,"-",null,{"$f":"G544","v":"Q5.1"},{"$f":"CONCATENATE(BF544,BH544)","v":"Q5.1NEPRAVDA"},{"$f":"H544","v":false},"The organisation is advised to identify stakeholders as groups of constituents that have an interest in its operations, products or other activities. Your stakeholders can include employees, neighbours, communities, customers, suppliers, stockholders, local government, emergency responders, non-governmental organisations, media, competitors, consumer advocate groups and special interest groups, ... as identified by the organisation. Your organisation may want to consider maintaining a generic list of its stakeholders and how to communicate the policy and other information to them. \n\nMany organisations create a \"stakeholders' matrix\", which simply lists each identified stakeholder along with the title of the person primarily charged with the relationship with that stakeholder.\n\nit is recommended to periodically review the organisation's list of stakeholders to ensure that it is up to date and relevant to its operations, products and impacts on society and the environment."]
[null,{"$f":"'Chapter 5'!C14","v":"Q5.2"},{"$f":"IF('Chapter 5'!K15,1,IF('Chapter 5'!K16,2,IF('Chapter 5'!K17,3,IF('Chapter 5'!K18,4,\"\"))))","v":2},"formula 4 choices",null,null,null,{"$f":"'Chapter 5'!K8","v":false},false,false,false,false,false,false,false,false,null,null,null,{"$f":"IF(I545=\"\",$H545,I545)","v":false},false,false,false,{"$f":"IF(M545=\"\",$H545,M545)","v":false},{"$f":"IF(N545=\"\",$H545,N545)","v":false},false,false,false,false,null,null,{"$f":"B544","v":"Q5.1"},null,100,null,null,null,null,null,null,{"$f":"B545","v":"Q5.2"},1,{"$f":"IF(C545<AP545,\"major issue\",\"ok\")","v":"ok"},{"$f":"IF(AQ545<>\"ok\",1,0)","v":0},null,null,{"$f":"AO545","v":"Q5.2"},{"$f":"IF(I548,1,IF(I549,2,IF(I550,3,IF(I551,4,\"-\"))))","v":"-"},"-",4,"-","-",3,"-",4,"-",null,{"$f":"BF544","v":"Q5.1"},"Q5.1NEPRAVDA",false,"The organisation can map out its stakeholders and classify them according to their power over your work and their interest in it, in a Power/Interest Grid for Stakeholder prioritisation.\n\nAssessing stakeholder needs and expectations calls for the active review of stakeholder concerns and positive feedback regarding the organisation and to consider this feedback when establishing goals, objectives and targets."]
[null,{"$f":"'Chapter 5'!C20","v":"Q5.3"},{"$f":"IF('Chapter 5'!K21,1,IF('Chapter 5'!K22,2,IF('Chapter 5'!K23,3,IF('Chapter 5'!K24,4,\"\"))))","v":2},"formula 4 choices",null,null,null,{"$f":"'Chapter 5'!K9","v":true},true,true,false,true,true,true,true,false,null,null,null,true,true,false,true,{"$f":"IF(M546=\"\",$H546,M546)","v":true},true,true,false,true,false,null,{"$f":"'Chapter 5'!B12","v":"Externí dialog a transparentnost"},null,{"$f":"33+1/3","v":33.333333333333336},null,null,null,{"$f":"((C545*AH547)+(C546*AH548))/100","v":2},null,null,null,{"$f":"B546","v":"Q5.3"},1,{"$f":"IF(C546<AP546,\"major issue\",\"ok\")","v":"ok"},0,null,null,"Q5.3",{"$f":"IF(I552,1,IF(I553,2,IF(I554,3,IF(I555,4,\"-\"))))","v":"-"},"-","-","-","-",3,"-","-","-",null,{"$f":"BF545","v":"Q5.1"},"Q5.1PRAVDA",true,"Get an understanding of what motivates your stakeholders and how you need to win them around.\n\nStakeholder needs and expectations can be both positive and negative. If stakeholders have positive needs and expectations regarding the organisation and its operations, consider how this information can reinforce programs within their business strategy. The key is that an organisation shall demonstrate active dialogue systems to solicit feedback from the stakeholders.\n\nIf using surveys to collect feedback, set a target for 'acceptable number of replies' prior to sending out the surveys. If the return rate is below your target, identify this area for improvement and develop a corrective action plan. This becomes part of the organisation's continual improvement focus."]
[null,{"$f":"'Chapter 5'!C28","v":"Q5.4"},{"$f":"IF('Chapter 5'!K29,1,IF('Chapter 5'!K30,2,IF('Chapter 5'!K31,3,IF('Chapter 5'!K32,4,\"\"))))","v":3},"formula 4 choices",null,null,null,{"$f":"'Chapter 5'!K10","v":false},false,false,true,false,false,false,false,true,null,null,null,false,false,true,false,{"$f":"IF(M547=\"\",$H547,M547)","v":false},false,false,true,false,false,null,null,{"$f":"B545","v":"Q5.2"},null,50,null,null,null,null,null,null,{"$f":"B547","v":"Q5.4"},1,{"$f":"IF(C547<AP547,\"major issue\",\"ok\")","v":"ok"},0,null,null,"Q5.4",{"$f":"IF(I556,1,IF(I557,2,IF(I558,3,IF(I559,4,\"-\"))))","v":"-"},"-","-","-","-","-","-","-","-",null,{"$f":"BF546","v":"Q5.1"},"Q5.1NEPRAVDA",false,"No need to immediately change strategy, however always seek improvement."]
[null,{"$f":"'Chapter 5'!C34","v":"Q5.5"},{"$f":"IF('Chapter 5'!K35,1,IF('Chapter 5'!K36,2,IF('Chapter 5'!K37,3,IF('Chapter 5'!K38,4,\"\"))))","v":2},"formula 4 choices",null,null,{"$f":"B545","v":"Q5.2"},{"$f":"'Chapter 5'!K15","v":false},null,null,false,null,null,false,null,false,null,null,null,null,null,null,null,null,null,null,null,null,null,null,null,{"$f":"B546","v":"Q5.3"},null,50,null,null,null,null,null,null,{"$f":"B548","v":"Q5.5"},1,{"$f":"IF(C548<AP548,\"major issue\",\"ok\")","v":"ok"},0,null,null,"Q5.5",{"$f":"IF(I560,1,IF(I561,2,IF(I562,3,IF(I563,4,\"-\"))))","v":"-"},"-","-","-","-","-","-","-","-",null,{"$f":"G548","v":"Q5.2"},"Q5.2NEPRAVDA",false,"In an exchange with its stakeholders, it is recommended for an organisation to set up a dialogue with its stakeholders, to sound out the interest, engagement and possible participation of relevant actors in the corresponding field of the organisation's activities. This enables the organisation to explore options to carry out its activities and to develop them further based on the feedback received by the stakeholders."]
[null,null,null,null,null,null,null,{"$f":"'Chapter 5'!K16","v":true},null,null,false,null,null,false,null,false,null,null,null,null,null,null,null,null,null,null,null,null,null,null,{"$f":"'Chapter 5'!B26","v":" Místní komunity"},null,{"$f":"33+1/3","v":33.333333333333336},null,null,null,{"$f":"((C547*AH550)+(C548*AH551))/100","v":2.5},null,null,null,null,null,null,null,null,null,null,null,null,null,null,null,null,null,null,null,null,{"$f":"BF548","v":"Q5.2"},"Q5.2PRAVDA",true,"The next step is to define certain relevant channels for dialoguing with your company's key stakeholders. \n\nThis can be achieved by a newsletter, a summary report from stakeholder meetings or by regular progress reports. The central concern is to observe the agreed forms of communication. Be aware that stakeholder dialogues are fragile systems, and transparent and reliable communication may act as a stabilising factor."]
[null,null,null,null,null,null,null,{"$f":"'Chapter 5'!K17","v":false},null,null,false,null,null,true,null,false,null,null,null,null,null,null,null,null,null,null,null,null,null,null,null,{"$f":"B547","v":"Q5.4"},null,50,null,null,null,null,null,null,null,null,null,{"$f":"IF(SUM(AR544:AR548)>0,\"Key RC elements are still to be implemented, see tips\",\"\")","v":""},null,null,null,null,null,null,null,null,null,null,null,null,null,{"$f":"BF549","v":"Q5.2"},"Q5.2NEPRAVDA",false,"Consult these channels periodically.\n\nPeople involved in a stakeholder dialogue have to agree on systems that all stakeholders understand and can follow. If necessary, these systems have to be adjusted to the requirements of the stakeholder dialogue, since stakeholder groups often have a very different understanding of feedback systems. It may be useful to coordinate feedback criteria with all stakeholders.\n\nSearch for possibilities to directly engage your organisation's stakeholders in activities through the development of common projects or partnerships."]
[null,null,null,null,null,null,null,{"$f":"'Chapter 5'!K18","v":false},null,null,true,null,null,false,null,true,null,null,null,null,null,null,null,null,null,null,null,null,null,null,null,{"$f":"B548","v":"Q5.5"},null,50,null,null,null,null,null,null,null,null,null,null,null,null,null,null,null,null,null,null,null,null,null,null,null,{"$f":"BF550","v":"Q5.2"},"Q5.2NEPRAVDA",false,"No need to immediately change strategy, however always seek improvement."]
[null,null,null,null,null,null,{"$f":"B546","v":"Q5.3"},{"$f":"'Chapter 5'!K21","v":false},null,null,null,null,null,false,null,null,null,null,{"$f":"G548","v":"Q5.2"},{"$f":"IF(I548=\"\",$H548,I548)","v":false},false,false,false,false,false,false,false,false,false,null,null,null,null,null,null,null,null,null,null,null,null,null,null,null,null,null,null,null,null,null,null,null,null,null,null,null,null,{"$f":"G552","v":"Q5.3"},"Q5.3NEPRAVDA",false,"Disclose publicly the performance evaluation results through the organisation's channel."]
[null,null,null,null,null,null,null,{"$f":"'Chapter 5'!K22","v":true},null,null,null,null,null,false,null,null,null,null,null,{"$f":"IF(I549=\"\",$H549,I549)","v":true},true,false,true,{"$f":"IF(M549=\"\",$H549,M549)","v":true},{"$f":"IF(N549=\"\",$H549,N549)","v":false},true,false,true,false,null,null,null,null,null,null,null,null,null,null,null,null,null,null,null,null,null,null,null,null,null,null,null,null,null,null,null,null,{"$f":"BF552","v":"Q5.3"},"Q5.3PRAVDA",true,"Have a third party reviewing the performance evaluation results of the organisation annually before public disclosure."]
[null,null,null,null,null,null,null,{"$f":"'Chapter 5'!K23","v":false},null,null,null,null,null,true,null,null,null,null,null,false,false,false,false,{"$f":"IF(M550=\"\",$H550,M550)","v":false},true,false,false,false,false,null,null,null,null,null,null,null,null,null,null,null,null,null,null,null,null,null,null,null,null,null,null,null,null,null,null,null,null,{"$f":"BF553","v":"Q5.3"},"Q5.3NEPRAVDA",false,"Be proactive in the sharing of the organisation's performance evaluation results with relevant stakeholders."]
[null,null,null,null,null,null,null,{"$f":"'Chapter 5'!K24","v":false},null,null,null,null,null,false,null,null,null,null,null,false,false,true,false,{"$f":"IF(M551=\"\",$H551,M551)","v":false},false,false,true,false,false,null,null,null,null,null,null,null,null,null,null,null,null,null,null,null,null,null,null,null,null,null,null,null,null,null,null,null,null,{"$f":"BF554","v":"Q5.3"},"Q5.3NEPRAVDA",false,"No need to immediately change strategy, however always seek improvement."]
[null,null,null,null,null,null,{"$f":"B547","v":"Q5.4"},{"$f":"'Chapter 5'!K29","v":false},null,null,null,null,null,null,null,null,null,null,null,null,null,null,null,null,null,null,null,null,null,null,null,null,null,null,null,null,null,null,null,null,null,null,null,null,null,null,null,null,null,null,null,null,null,null,null,null,null,{"$f":"G556","v":"Q5.4"},"Q5.4NEPRAVDA",false,"Identify the demands of the local communities and react to them. Put a dialogue in place with the local representatives with respect to the well-being of the neighbours."]
[null,null,null,null,null,null,null,{"$f":"'Chapter 5'!K30","v":false},null,null,null,null,null,null,null,null,null,null,null,null,null,null,null,null,null,null,null,null,null,null,null,null,null,null,null,null,null,null,null,null,null,null,null,null,null,null,null,null,null,null,null,null,null,null,null,null,null,{"$f":"BF556","v":"Q5.4"},"Q5.4NEPRAVDA",false,"Identify local projects and actions (corresponding with the key values of your company) and contribute to the local development. Examples of projects can be a tree planting event with colleagues to help out a local nature organisation, share your organisation's knowledge or findings in classes at local educational institutions..."]
[null,null,null,null,null,null,null,{"$f":"'Chapter 5'!K31","v":true},null,null,null,null,null,null,null,null,null,null,{"$f":"G552","v":"Q5.3"},{"$f":"IF(I552=\"\",$H552,I552)","v":false},false,false,false,false,false,false,false,false,false,null,null,null,null,null,null,null,null,null,null,null,null,null,null,null,null,null,null,null,null,null,null,null,null,null,null,null,null,{"$f":"BF557","v":"Q5.4"},"Q5.4PRAVDA",true,"Contribute to the local community through participation in various groups, communication means, organisations of companies and representative of employees, ecological groups, professionals, neighbouring companies, neighbours associations, etc. Interact through and foresee a budget for the development of common projects, actions or partnerships according to the demands of the community."]
[null,null,null,null,null,null,null,{"$f":"'Chapter 5'!K32","v":false},null,null,null,null,null,null,null,null,null,null,null,{"$f":"IF(I553=\"\",$H553,I553)","v":true},true,true,true,{"$f":"IF(M553=\"\",$H553,M553)","v":true},{"$f":"IF(N553=\"\",$H553,N553)","v":false},true,true,true,false,null,null,null,null,null,null,null,null,null,null,null,null,null,null,null,null,null,null,null,null,null,null,null,null,null,null,null,null,{"$f":"BF558","v":"Q5.4"},"Q5.4NEPRAVDA",false,"No need to immediately change strategy, however always seek improvement."]
[null,null,null,null,null,null,{"$f":"B548","v":"Q5.5"},{"$f":"'Chapter 4'!K37","v":false},null,null,null,null,null,null,null,null,null,null,null,false,false,false,false,{"$f":"IF(M554=\"\",$H554,M554)","v":false},true,false,false,false,false,null,null,null,null,null,null,null,null,null,null,null,null,null,null,null,null,null,null,null,null,null,null,null,null,null,null,null,null,{"$f":"G560","v":"Q5.5"},"Q5.5NEPRAVDA",false,"Reacts to specific demands of the local schools and employment organisation. Establish a dialogue with the local representatives."]
[null,null,null,null,null,null,null,{"$f":"'Chapter 4'!K38","v":false},null,null,null,null,null,null,null,null,null,null,null,false,false,false,false,{"$f":"IF(M555=\"\",$H555,M555)","v":false},false,false,false,false,false,null,null,null,null,null,null,null,null,null,null,null,null,null,null,null,null,null,null,null,null,null,null,null,null,null,null,null,null,{"$f":"BF560","v":"Q5.5"},"Q5.5NEPRAVDA",false,"Contribute to local employment and support local schools: during recruitments, by welcoming interns from local schools, by participating in school activities…"]
[null,null,null,null,null,null,null,{"$f":"'Chapter 4'!K39","v":false},null,null,null,null,null,null,null,null,null,null,null,null,null,null,null,null,null,null,null,null,null,null,null,null,null,null,null,null,null,null,null,null,null,null,null,null,null,null,null,null,null,null,null,null,null,null,null,null,null,{"$f":"BF561","v":"Q5.5"},"Q5.5NEPRAVDA",false,"Set up partnerships with local employment organisms and educative programs with local schools & scientific community (e.g. collaboration with universities, scholarships, research, etc.) …"]
[null,null,null,null,null,null,null,{"$f":"'Chapter 4'!K40","v":true},null,null,null,null,null,null,null,null,null,null,null,null,null,null,null,null,null,null,null,null,null,null,null,null,null,null,null,null,null,null,null,null,null,null,null,null,null,null,null,null,null,null,null,null,null,null,null,null,null,{"$f":"BF562","v":"Q5.5"},"Q5.5PRAVDA",true,"No need to immediately change strategy, however always seek improvement."]
[]
[]
[null,null,null,null,null,null,null,null,null,null,null,null,null,null,null,null,null,null,{"$f":"G556","v":"Q5.4"},{"$f":"IF(I556=\"\",$H556,I556)","v":false},false,false,false,false,false,false,false,false,false]
[null,null,null,null,null,null,null,null,null,null,null,null,null,null,null,null,null,null,null,{"$f":"IF(I557=\"\",$H557,I557)","v":false},false,false,false,{"$f":"IF(M557=\"\",$H557,M557)","v":false},{"$f":"IF(N557=\"\",$H557,N557)","v":false},false,false,false,false]
[null,null,null,null,null,null,null,null,null,null,null,null,null,null,null,null,null,null,null,true,true,true,true,{"$f":"IF(M558=\"\",$H558,M558)","v":true},true,true,true,true,false]
[null,null,null,null,null,null,null,null,null,null,null,null,null,null,null,null,null,null,null,false,false,false,false,{"$f":"IF(M559=\"\",$H559,M559)","v":false},false,false,false,false,false]
[]
[]
[null,null,null,null,null,null,null,null,null,null,null,null,null,null,null,null,null,null,{"$f":"G560","v":"Q5.5"},{"$f":"IF(I560=\"\",$H560,I560)","v":false},false,false,false,false,false,false,false,false,false]
[null,null,null,null,null,null,null,null,null,null,null,null,null,null,null,null,null,null,null,{"$f":"IF(I561=\"\",$H561,I561)","v":false},false,false,false,{"$f":"IF(M561=\"\",$H561,M561)","v":false},{"$f":"IF(N561=\"\",$H561,N561)","v":false},false,false,false,false]
[null,null,null,null,null,null,null,null,null,null,null,null,null,null,null,null,null,null,null,false,false,false,false,{"$f":"IF(M562=\"\",$H562,M562)","v":false},false,false,false,false,false]
[null,null,null,null,null,null,null,null,null,null,null,null,null,null,null,null,null,null,null,true,true,true,true,{"$f":"IF(M563=\"\",$H563,M563)","v":true},true,true,true,true,false]
[]
[]
["chapter 6"]
[]
[]
[null,null,null,null,null,null,null,null,"scores in case of compliance",null,null,null,null,null,null,null,null,null,null,"to copy",null,null,null,null,null,null,null,null,null,null,null,null,"equal weights per question (adaptable)",null,null,null,"MCA"]
[null,"scores",null,null,null,"prefill",null,"answered","ISO9001","ISO14001","ISO26000","ISO45001","ISO50001","EMAS","RC14001","RCMS","GHS",null,null,{"$f":"I582","v":"ISO9001"},"ISO14001","ISO26000","ISO45001","ISO50001","EMAS","RC14001","RCMS","GHS","clear",null,"weights",null,{"$f":"IF(SUM(AG584:AG609)=100,\"ok\",\"error\")","v":"ok"},{"$f":"IF(SUM(AH584:AH609)/COUNT(AG584:AG609)=100,\"ok\",\"error\")","v":"ok"},null,null,"subscores","score",null,null,"identification of major issues",null,null,null,null,null,"scores for standards",null,null,null,null,null,null,null,null,null,null,"improvement tips"]
[null,null,null,null,null,null,null,null,null,null,null,null,null,null,null,null,null,null,null,null,null,null,null,null,null,null,null,null,null,null,null,null,null,null,null,null,null,{"$f":"(AK584*AG584+AK586*AG586+AK588*AG588+AK590*AG590+AK592*AG592+AG598*AK598+AG600*AK600+AG603*AK603+AG608*AK608)/100","v":2.1764705882352939},null,null,null,null,null,null,null,null,null,{"$f":"I582","v":"ISO9001"},"ISO14001","ISO26000","ISO45001","ISO50001","EMAS","RC14001","RCMS","GHS"]
[null,{"$f":"'Chapter 6'!C6","v":"Q6.1"},{"$f":"IF('Chapter 6'!K7,1,IF('Chapter 6'!K8,2,IF('Chapter 6'!K11,3,IF('Chapter 6'!K12,4,\"\"))))","v":2},"formula 4 choices",null,null,{"$f":"B584","v":"Q6.1"},{"$f":"'Chapter 6'!K7","v":false},null,null,false,null,null,null,null,null,null,null,{"$f":"G584","v":"Q6.1"},{"$f":"IF(I584=\"\",$H584,I584)","v":false},false,false,false,false,false,false,false,false,false,null,{"$f":"'Chapter 6'!B4","v":"Hodnocení závažnosti"},null,{"$f":"1/17*100","v":5.8823529411764701},null,null,null,{"$f":"C584","v":2},null,null,null,{"$f":"B584","v":"Q6.1"},1,{"$f":"IF(C584<AP584,\"major issue\",\"ok\")","v":"ok"},{"$f":"IF(AQ584<>\"ok\",1,0)","v":0},null,null,{"$f":"AO584","v":"Q6.1"},{"$f":"IF(I584,1,IF(I585,2,IF(I586,3,IF(I587,4,\"-\"))))","v":"-"},"-",3,"-","-","-","-","-","-",null,{"$f":"G584","v":"Q6.1"},{"$f":"CONCATENATE(BF584,BH584)","v":"Q6.1NEPRAVDA"},{"$f":"H584","v":false},"Begin the materiality process by creating a list of relevant stakeholder groups, then identify key contacts within each who can provide a meaningful perspective on your company’s sustainability strategy. Take into account both internal (i.e., executive leadership, directors, regional managers, employees) and external contacts (i.e., trade associations, key customers, NGOs) so you can evaluate a wide range of perspectives across the value chain.",null,null,"at Q6.1 answer 2"]
[null,{"$f":"'Chapter 6'!C16","v":"Q6.2"},{"$f":"IF('Chapter 6'!K17,1,IF('Chapter 6'!K18,2,IF('Chapter 6'!K19,3,IF('Chapter 6'!K20,4,\"\"))))","v":1},"formula 4 choices",null,null,null,{"$f":"'Chapter 6'!K8","v":true},null,null,false,null,null,null,null,null,null,null,null,{"$f":"IF(I585=\"\",$H585,I585)","v":true},true,false,true,{"$f":"IF(M585=\"\",$H585,M585)","v":true},{"$f":"IF(N585=\"\",$H585,N585)","v":true},true,true,true,false,null,null,{"$f":"B584","v":"Q6.1"},null,100,null,null,null,null,null,null,"Q6.2",1,"ok",{"$f":"IF(AQ585<>\"ok\",1,0)","v":0},null,null,{"$f":"AO585","v":"Q6.2"},{"$f":"IF(I588,1,IF(I589,2,IF(I590,3,IF(I591,4,\"-\"))))","v":"-"},"-","-","-","-","-","-","-","-",null,{"$f":"BF584","v":"Q6.1"},"Q6.1PRAVDA",true,"Once you’ve you have identified and engaged with stakeholders, determine what sustainability indicators (societal, economic and environmental) to measure so you actually get the insights you want and need; you may use the existing sector roadmaps for this purpose (link to the sectoral roadmap of WBCSD: https://www.wbcsd.org/Programs/People/Sustainable-Development-Goals/SDG-Sector-Roadmaps/Resources/SDG-Sector-Roadmaps), Charter (link to Cefic charter: https://cefic.org/app/uploads/2019/01/Cefic-Sustainability-Charter-TeamingUp-For-A-SustainableEurope.pdf), and principles (link to ACC principles: https://www.americanchemistry.com/Sustainability/Principles.html).",null,null,"https://www.wbcsd.org/Programs/People/Sustainable-Development-Goals/SDG-Sector-Roadmaps/Resources/SDG-Sector-Roadmaps"]
[null,{"$f":"'Chapter 6'!C24","v":"Q6.3"},{"$f":"IF('Chapter 6'!K25,1,IF('Chapter 6'!K26,2,IF('Chapter 6'!K27,3,IF('Chapter 6'!K28,4,\"\"))))","v":3},"formula 4 choices",null,null,null,{"$f":"'Chapter 6'!K11","v":false},null,null,true,null,null,null,null,null,null,null,"link",null,null,null,null,null,null,null,null,null,null,null,{"$f":"'Chapter 6'!B14","v":"Udržitelný rozvoj"},null,{"$f":"1/17*100","v":5.8823529411764701},null,null,null,{"$f":"C585","v":1},null,null,null,"Q6.3",1,"ok",0,null,null,"Q6.3",{"$f":"IF(I592,1,IF(I593,2,IF(I594,3,IF(I595,4,\"-\"))))","v":"-"},"-",4,"-","-","-","-","-","-",null,{"$f":"BF585","v":"Q6.1"},"Q6.1NEPRAVDA",false,"Share your results and insights with your stakeholders (and beyond!). This is typically done in a formal sustainability report or summary, but then can be shared more widely through other channels, such as the company website or media releases.\n\nSharing your materiality assessment results can serve as a starting point for continuing the conversation and maintaining engagement with your sustainability initiatives. Welcome feedback from all stakeholders who view your materiality assessment results so that you can keep the conversation flowing after the assessment is complete. In addition, incorporate your findings into your overall sustainability strategy so you can create communications plans for each group, and more effectively tell your company’s sustainability story.",null,null,"https://cefic.org/app/uploads/2019/01/Cefic-Sustainability-Charter-TeamingUp-For-A-SustainableEurope.pdf"]
[null,{"$f":"'Chapter 6'!C32","v":"Q6.4"},{"$f":"IF('Chapter 6'!K33,1,IF('Chapter 6'!K34,2,IF('Chapter 6'!K35,3,IF('Chapter 6'!K36,4,\"\"))))","v":2},"formula 4 choices",null,null,null,{"$f":"'Chapter 6'!K12","v":false},null,null,false,null,null,null,null,null,null,null,"link",null,null,null,null,null,null,null,null,null,null,null,null,{"$f":"B585","v":"Q6.2"},null,100,null,null,null,null,null,null,"Q6.4",1,"ok",0,null,null,"Q6.4",{"$f":"IF(I596,1,IF(I597,2,IF(I598,3,IF(I599,4,\"-\"))))","v":"-"},"-","-","-","-","-","-","-","-",null,{"$f":"BF586","v":"Q6.1"},"Q6.1NEPRAVDA",false,"No need to immediately change strategy, however always seek improvement.",null,null,"https://www.americanchemistry.com/Sustainability/Principles.html"]
[null,{"$f":"'Chapter 6'!C40","v":"Q6.5"},{"$f":"IF('Chapter 6'!K41,1,IF('Chapter 6'!K42,2,IF('Chapter 6'!K43,3,IF('Chapter 6'!K44,4,\"\"))))","v":2},"formula 4 choices",null,null,{"$f":"B585","v":"Q6.2"},{"$f":"'Chapter 6'!K17","v":true},null,null,null,null,null,null,null,null,null,null,null,{"$f":"IF(I586=\"\",$H586,I586)","v":false},false,true,false,false,false,false,false,false,false,null,{"$f":"'Chapter 6'!B22","v":"Komunikace"},null,{"$f":"1/17*100","v":5.8823529411764701},null,null,null,{"$f":"C586","v":3},null,null,null,"Q6.5",1,"ok",0,null,null,"Q6.5",{"$f":"IF(I600,1,IF(I601,2,IF(I602,3,IF(I603,4,\"-\"))))","v":"-"},"-",1,"-","-","-","-","-","-",null,{"$f":"G588","v":"Q6.2"},"Q6.2PRAVDA",true,"Map the organisation’s contributions to SDGs. ",null,null,"at Q6.2 answer 2"]
[null,{"$f":"'Chapter 6'!C46","v":"Q6.6"},{"$f":"IF('Chapter 6'!K47,1,IF('Chapter 6'!K48,2,IF('Chapter 6'!K49,3,IF('Chapter 6'!K50,4,\"\"))))","v":1},"formula 4 choices",null,null,null,{"$f":"'Chapter 6'!K18","v":false},null,null,null,null,null,null,null,null,null,null,null,false,false,false,false,false,false,false,false,false,false,null,null,{"$f":"B586","v":"Q6.3"},null,100,null,null,null,null,null,null,"Q6.6",1,"ok",0,null,null,"Q6.6",{"$f":"IF(I604,1,IF(I605,2,IF(I606,3,IF(I607,4,\"-\"))))","v":"-"},"-",3,"-","-","-","-","-","-",null,{"$f":"BF588","v":"Q6.2"},"Q6.2NEPRAVDA",false,"Identify impact opportunities and planned actions for contribution according to the Roadmap to SDG's for the Chemical Sector (e.g. the sectoral roadmap of WBCSD- https://www.wbcsd.org/Programs/People/Sustainable-Development-Goals/SDG-Sector-Roadmaps/Resources/SDG-Sector-Roadmaps--, the Cefic Sustainability charter -https://cefic.org/app/uploads/2019/01/Cefic-Sustainability-Charter-TeamingUp-For-A-SustainableEurope.pdf  -TeamingUp-For-A-SustainableEurope.pdf- and the ACC principles- https://www.americanchemistry.com/Sustainability/Principles.html).",null,null,"https://www.wbcsd.org/Programs/People/Sustainable-Development-Goals/SDG-Sector-Roadmaps/Resources/SDG-Sector-Roadmaps"]
[null,{"$f":"'Chapter 6'!C52","v":"Q6.7"},{"$f":"IF('Chapter 6'!K53,1,IF('Chapter 6'!K54,2,IF('Chapter 6'!K55,3,IF('Chapter 6'!K56,4,\"\"))))","v":2},"formula 4 choices",null,null,null,{"$f":"'Chapter 6'!K19","v":false},null,null,null,null,null,null,null,null,null,null,null,null,null,null,null,null,null,null,null,null,null,null,{"$f":"'Chapter 6'!B30","v":"Udržitelné portfolio"},null,{"$f":"1/17*100","v":5.8823529411764701},null,null,null,{"$f":"C587","v":2},null,null,null,"Q6.7",1,"ok",0,null,null,"Q6.7",{"$f":"IF(I608,1,IF(I609,2,IF(I610,3,IF(I611,4,\"-\"))))","v":"-"},"-","-","-","-","-","-","-","-",null,{"$f":"BF589","v":"Q6.2"},"Q6.2NEPRAVDA",false,"Fully integrate sustainability in the business strategy of your organisation.",null,null,"https://cefic.org/app/uploads/2019/01/Cefic-Sustainability-Charter-TeamingUp-For-A-SustainableEurope.pdf"]
[null,{"$f":"'Chapter 6'!C58","v":"Q6.8"},{"$f":"IF('Chapter 6'!K59,1,IF('Chapter 6'!K60,2,IF('Chapter 6'!K61,3,IF('Chapter 6'!K62,4,\"\"))))","v":3},"formula 4 choices",null,null,null,{"$f":"'Chapter 6'!K20","v":false},null,null,null,null,null,null,null,null,null,null,null,null,null,null,null,null,null,null,null,null,null,null,null,{"$f":"B587","v":"Q6.4"},null,100,null,null,null,null,null,null,"Q6.8",1,"ok",0,null,null,"Q6.8",{"$f":"IF(I612,1,IF(I613,2,IF(I614,3,IF(I615,4,\"-\"))))","v":"-"},"-","-","-","-","-","-","-","-",null,{"$f":"BF590","v":"Q6.2"},"Q6.2NEPRAVDA",false,"No need to immediately change strategy, however always seek improvement.",null,null,"https://www.americanchemistry.com/Sustainability/Principles.html"]
[null,{"$f":"'Chapter 6'!C64","v":"Q6.9"},{"$f":"IF('Chapter 6'!K65,1,IF('Chapter 6'!K66,2,IF('Chapter 6'!K67,3,IF('Chapter 6'!K68,4,\"\"))))","v":2},"formula 4 choices",null,null,{"$f":"B586","v":"Q6.3"},{"$f":"'Chapter 6'!K25","v":false},null,null,false,null,null,null,null,null,null,null,null,null,null,null,null,null,null,null,null,null,null,null,{"$f":"'Chapter 6'!B38","v":"Efektivnost zdrojů / oběhové hospodářství\n"},null,{"$f":"5/17*100","v":29.411764705882355},null,null,null,{"$f":"(C588*AH593+C589*AH594+C590*AH595+C591*AH596+C592*AH597)/100","v":2},null,null,null,"Q6.9",1,"ok",0,null,null,"Q6.9",{"$f":"IF(I616,1,IF(I617,2,IF(I618,3,IF(I619,4,\"-\"))))","v":"-"},"-","-","-","-","-","-","-","-",null,{"$f":"G592","v":"Q6.3"},"Q6.3NEPRAVDA",false,"Engage internally about sustainability topics in a simple, direct and precise manner.\n\nBy communicating internally in a clear and consistent fashion, sustainability becomes an ingrained part of your organisation's culture — one that your employees can take pride in, increasing their satisfaction."]
[null,{"$f":"'Chapter 6'!C72","v":"Q6.10"},{"$f":"IF('Chapter 6'!K73,1,IF('Chapter 6'!K74,2,IF('Chapter 6'!K75,3,IF('Chapter 6'!K76,4,\"\"))))","v":3},"formula 4 choices",null,null,null,{"$f":"'Chapter 6'!K26","v":false},null,null,false,null,null,null,null,null,null,null,null,null,null,null,null,null,null,null,null,null,null,null,null,{"$f":"B588","v":"Q6.5"},null,20,null,null,null,null,null,null,"Q6.10",1,"ok",0,null,null,"Q6.10",{"$f":"IF(I620,1,IF(I621,2,IF(I622,3,IF(I623,4,\"-\"))))","v":"-"},"-","-","-","-","-","-","-","-",null,{"$f":"BF592","v":"Q6.3"},"Q6.3NEPRAVDA",false,"Engage externally ad hoc about sustainability topics with the customers, work partners and the community .\n\nBy communicating externally to business partners, suppliers and service providers you’re setting expectations about how you do business.  This can influence their practices and practices in the broader community, too. By communicating to customers, you demonstrate that you share your customers’ commitment to our environment."]
[null,{"$f":"'Chapter 6'!C80","v":"Q6.11"},{"$f":"IF('Chapter 6'!K81,1,IF('Chapter 6'!K82,2,IF('Chapter 6'!K83,3,IF('Chapter 6'!K84,4,\"\"))))","v":1},"formula 4 choices",null,null,null,{"$f":"'Chapter 6'!K27","v":true},null,null,false,null,null,null,null,null,null,null,{"$f":"G588","v":"Q6.2"},{"$f":"IF(I588=\"\",$H588,I588)","v":true},true,true,true,true,true,true,true,true,false,null,null,{"$f":"B589","v":"Q6.6"},null,20,null,null,null,null,null,null,"Q6.11",1,"ok",0,null,null,"Q6.11",{"$f":"IF(I624,1,IF(I625,2,IF(I626,3,IF(I627,4,\"-\"))))","v":"-"},"-","-","-","-","-","-","-","-",null,{"$f":"BF593","v":"Q6.3"},"Q6.3PRAVDA",true,"Engage both internally and externally about sustainability topics. Publish yearly a full sustainability report on all material, issues with references to Global Reporting Initiative’s (GRI) Sustainability Reporting Guidelines or equivalent.\nSharing information about policies and performance on environmental, social and governance issues will help you build trust with your customers and partners, monitor and mitigate risk, and find ways to improve efficiency, resulting in a positive impact on your financial results. "]
[null,{"$f":"'Chapter 6'!C86","v":"Q6.12"},{"$f":"IF('Chapter 6'!K87,1,IF('Chapter 6'!K88,2,IF('Chapter 6'!K89,3,IF('Chapter 6'!K90,4,\"\"))))","v":1},"formula 4 choices",null,null,null,{"$f":"'Chapter 6'!K28","v":false},null,null,true,null,null,null,null,null,null,null,null,false,false,false,false,false,false,false,false,false,false,null,null,{"$f":"B590","v":"Q6.7"},null,20,null,null,null,null,null,null,"Q6.12",2,"major issue",1,null,null,"Q6.12",{"$f":"IF(I628,1,IF(I629,2,IF(I630,3,IF(I631,4,\"-\"))))","v":"-"},"-","-","-","-","-","-","-","-",null,{"$f":"BF594","v":"Q6.3"},"Q6.3NEPRAVDA",false,"No need to immediately change strategy, however always seek improvement."]
[null,{"$f":"'Chapter 6'!C94","v":"Q6.13"},{"$f":"IF('Chapter 6'!K95,1,IF('Chapter 6'!K96,2,IF('Chapter 6'!K97,3,IF('Chapter 6'!K98,4,\"\"))))","v":4},"formula 4 choices",null,null,{"$f":"B587","v":"Q6.4"},{"$f":"'Chapter 6'!K33","v":false},null,null,null,null,null,null,null,null,null,null,null,false,false,false,false,false,false,false,false,false,false,null,null,{"$f":"B591","v":"Q6.8"},null,20,null,null,null,null,null,null,"Q6.13",1,"ok",0,null,null,"Q6.13",{"$f":"IF(I632,1,IF(I633,2,IF(I634,3,IF(I635,4,\"-\"))))","v":"-"},"-","-","-",4,"-","-","-","-",null,{"$f":"G596","v":"Q6.4"},"Q6.4NEPRAVDA",false,"Guidance on how to put in place a process to design products with improved sustainability outcomes is given by https://www.wbcsd.org/contentwbc/download/5870/80216"]
[null,{"$f":"'Chapter 6'!C100","v":"Q6.14"},{"$f":"IF('Chapter 6'!K101,1,IF('Chapter 6'!K102,2,IF('Chapter 6'!K103,3,IF('Chapter 6'!K104,4,\"\"))))","v":3},"formula 4 choices",null,null,null,{"$f":"'Chapter 6'!K34","v":true},null,null,null,null,null,null,null,null,null,null,null,false,false,false,false,false,false,false,false,false,false,null,null,{"$f":"B592","v":"Q6.9"},null,20,null,null,null,null,null,null,"Q6.14",1,"ok",0,null,null,"Q6.14",{"$f":"IF(I636,1,IF(I637,2,IF(I638,3,IF(I639,4,\"-\"))))","v":"-"},"-","-","-","-","-","-","-","-",null,{"$f":"BF596","v":"Q6.4"},"Q6.4PRAVDA",true,"Guidance on how to put in place a process to design products with improved sustainability outcomes is given by https://www.wbcsd.org/contentwbc/download/5870/80216"]
[null,{"$f":"'Chapter 6'!C106","v":"Q6.15"},{"$f":"IF('Chapter 6'!K107,1,IF('Chapter 6'!K108,2,IF('Chapter 6'!K109,3,IF('Chapter 6'!K110,4,\"\"))))","v":2},"formula 4 choices",null,null,null,{"$f":"'Chapter 6'!K35","v":false},null,null,null,null,null,null,null,null,null,null,null,null,null,null,null,null,null,null,null,null,null,null,{"$f":"'Chapter 6'!B70","v":"Používání vody "},null,{"$f":"1/17*100","v":5.8823529411764701},null,null,null,{"$f":"C593","v":3},null,null,null,"Q6.15",1,"ok",0,null,null,"Q6.15",{"$f":"IF(I640,1,IF(I641,2,IF(I642,3,IF(I643,4,\"-\"))))","v":"-"},"-","-","-","-","-","-","-","-",null,{"$f":"BF597","v":"Q6.4"},"Q6.4NEPRAVDA",false,"Guidance on how to put in place a process to design products with improved sustainability outcomes is given by https://www.wbcsd.org/contentwbc/download/5870/80216"]
[null,{"$f":"'Chapter 6'!C112","v":"Q6.16"},{"$f":"IF('Chapter 6'!K113,1,IF('Chapter 6'!K114,2,IF('Chapter 6'!K115,3,IF('Chapter 6'!K116,4,\"\"))))","v":3},"formula 4 choices",null,null,null,{"$f":"'Chapter 6'!K36","v":false},null,null,null,null,null,null,null,null,null,null,null,null,null,null,null,null,null,null,null,null,null,null,null,{"$f":"B593","v":"Q6.10"},null,100,null,null,null,null,null,null,"Q6.16",1,"ok",0,null,null,"Q6.16",{"$f":"IF(I644,1,IF(I645,2,IF(I646,3,IF(I647,4,\"-\"))))","v":"-"},3,3,3,"-",3,3,3,"-",null,{"$f":"BF598","v":"Q6.4"},"Q6.4NEPRAVDA",false,"Guidance on how to put in place a process to design products with improved sustainability outcomes is given by https://www.wbcsd.org/contentwbc/download/5870/80216"]
[null,{"$f":"'Chapter 6'!C120","v":"Q6.17"},{"$f":"IF('Chapter 6'!K121,1,IF('Chapter 6'!K122,2,IF('Chapter 6'!K123,3,IF('Chapter 6'!K124,4,\"\"))))","v":2},"formula 4 choices",null,null,{"$f":"B588","v":"Q6.5"},{"$f":"'Chapter 6'!K41","v":false},null,null,true,null,null,null,null,null,null,null,null,null,null,null,null,null,null,null,null,null,null,null,{"$f":"'Chapter 6'!B78","v":"Využívání půdy a biodiverzita"},null,{"$f":"2/17*100","v":11.76470588235294},null,null,null,{"$f":"(C594*AH601+C595*AH602)/100","v":1},null,null,null,"Q6.17",1,"ok",null,null,null,"Q6.17",{"$f":"IF(I648,1,IF(I649,2,IF(I650,3,IF(I651,4,\"-\"))))","v":"-"},"-","-","-","-","-","-","-","-",null,{"$f":"G600","v":"Q6.5"},"Q6.5NEPRAVDA",false,"Put in place a system to measure resource efficiency in its production processes.\nPut in place a purchasing policy favoring the circular economy (e.g. giving preference to eco-designed products, bio-based or secondary raw materials and promoting re-use)."]
[null,null,null,null,null,null,null,{"$f":"'Chapter 6'!K42","v":true},null,null,false,null,null,null,null,null,null,null,null,null,null,null,null,null,null,null,null,null,null,null,null,{"$f":"B594","v":"Q6.11"},null,50,null,null,null,null,null,null,null,null,null,{"$f":"IF(SUM(AR584:AR599)>0,\"Key RC elements are still to be implemented, see tips\",\"\")","v":"Key RC elements are still to be implemented, see tips"},null,null,null,null,null,null,null,null,null,null,null,null,null,{"$f":"BF600","v":"Q6.5"},"Q6.5PRAVDA",true,"Put a process in place to improve the resource efficiency in your organisation's production processes.\nWithin this process, favor eco-designed products, bio-based raw materials, secondary raw materials from recycling, and re-use through implementation of criteria on these aspects in the purchasing selection, as an alternative to non-renewable raw materials.\nEvaluate the effectiveness of this process is periodically."]
[null,null,null,null,null,null,null,{"$f":"'Chapter 6'!K43","v":false},null,null,false,null,null,null,null,null,null,null,{"$f":"G592","v":"Q6.3"},{"$f":"IF(I592=\"\",$H592,I592)","v":false},false,false,false,false,false,false,false,false,false,null,null,{"$f":"B595","v":"Q6.12"},null,50,null,null,null,null,null,null,null,null,null,null,null,null,null,null,null,null,null,null,null,null,null,null,null,{"$f":"BF601","v":"Q6.5"},"Q6.5NEPRAVDA",false,"Set up partnerships to improve the resource efficiency in your organisation's production design, and shares best practices with business partners.\nEngage in industrial symbiosis including co-creation where intense collaboration with third companies guarantees supply of fit secondary materials to be used as raw material."]
[null,null,null,null,null,null,null,{"$f":"'Chapter 6'!K44","v":false},null,null,false,null,null,null,null,null,null,null,null,false,false,false,false,false,false,false,false,false,false,null,{"$f":"'Chapter 6'!B92","v":"Klima a využívání energie"},null,{"$f":"4/17*100","v":23.52941176470588},null,null,null,{"$f":"(C596*AH604+C597*AH605+C598*AH606+C599*AH607)/100","v":3},null,null,null,null,null,null,null,null,null,null,null,null,null,null,null,null,null,null,null,null,{"$f":"BF602","v":"Q6.5"},"Q6.5NEPRAVDA",false,"No need to immediately change strategy, however always seek improvement."]
[null,null,null,null,null,null,{"$f":"B589","v":"Q6.6"},{"$f":"'Chapter 6'!K47","v":true},null,null,false,null,null,null,null,null,null,null,null,true,true,false,true,true,true,true,true,true,false,null,null,{"$f":"B596","v":"Q6.13"},null,25,null,null,null,null,null,null,null,null,null,null,null,null,null,null,null,null,null,null,null,null,null,null,null,{"$f":"G604","v":"Q6.6"},"Q6.6PRAVDA",true,"\nResearch and identify the recyclability and durability of its products, and plan improvements in the product design process towards these aspects."]
[null,null,null,null,null,null,null,{"$f":"'Chapter 6'!K48","v":false},null,null,false,null,null,null,null,null,null,null,null,false,false,true,false,false,false,false,false,false,false,null,null,{"$f":"B597","v":"Q6.14"},null,25,null,null,null,null,null,null,null,null,null,null,null,null,null,null,null,null,null,null,null,null,null,null,null,{"$f":"BF604","v":"Q6.6"},"Q6.6NEPRAVDA",false,"Rethink and review products and business processes taking into consideration the recyclability and durability of the organisation's products.\nEnsure that the products of the organisation are designed for easier recycling and minimizing the amount of waste produced."]
[null,null,null,null,null,null,null,{"$f":"'Chapter 6'!K49","v":false},null,null,true,null,null,null,null,null,null,null,null,null,null,null,null,null,null,null,null,null,null,null,null,{"$f":"B598","v":"Q6.15"},null,25,null,null,null,null,null,null,null,null,null,null,null,null,null,null,null,null,null,null,null,null,null,null,null,{"$f":"BF605","v":"Q6.6"},"Q6.6NEPRAVDA",false,"Work with the value chain to improve circular solutions for your organisation’s products.\nShare best practices with business partners."]
[null,null,null,null,null,null,null,{"$f":"'Chapter 6'!K50","v":false},null,null,false,null,null,null,null,null,null,null,null,null,null,null,null,null,null,null,null,null,null,null,null,{"$f":"B599","v":"Q6.16"},null,25,null,null,null,null,null,null,null,null,null,null,null,null,null,null,null,null,null,null,null,null,null,null,null,{"$f":"BF606","v":"Q6.6"},"Q6.6NEPRAVDA",false,"No need to immediately change strategy, however always seek improvement."]
[null,null,null,null,null,null,{"$f":"B590","v":"Q6.7"},{"$f":"'Chapter 6'!K53","v":false},null,null,null,null,null,null,null,null,null,null,null,null,null,null,null,null,null,null,null,null,null,null,{"$f":"'Chapter 6'!B118","v":"Různé"},null,{"$f":"1/17*100","v":5.8823529411764701},null,null,null,{"$f":"C600","v":2},null,null,null,null,null,null,null,null,null,null,null,null,null,null,null,null,null,null,null,null,{"$f":"G608","v":"Q6.7"},"Q6.7NEPRAVDA",false,"When assessing innovation projects, take into account the criteria relating to improving social or environmental impacts."]
[null,null,null,null,null,null,null,{"$f":"'Chapter 6'!K54","v":true},null,null,null,null,null,null,null,null,null,null,null,null,null,null,null,null,null,null,null,null,null,null,null,{"$f":"B600","v":"Q6.17"},null,100,null,null,null,null,null,null,null,null,null,null,null,null,null,null,null,null,null,null,null,null,null,null,null,{"$f":"BF608","v":"Q6.7"},"Q6.7PRAVDA",true,"Focus and assess your organisation's innovation projects mainly on sustainability criteria, combining environmental, economical and social considerations."]
[null,null,null,null,null,null,null,{"$f":"'Chapter 6'!K55","v":false},null,null,null,null,null,null,null,null,null,null,{"$f":"G596","v":"Q6.4"},{"$f":"IF(I596=\"\",$H596,I596)","v":false},false,false,false,false,false,false,false,false,false,null,null,null,null,null,null,null,null,null,null,null,null,null,null,null,null,null,null,null,null,null,null,null,null,null,null,null,null,{"$f":"BF609","v":"Q6.7"},"Q6.7NEPRAVDA",false,"Share best practices to scale up the benefits."]
[null,null,null,null,null,null,null,{"$f":"'Chapter 6'!K56","v":false},null,null,null,null,null,null,null,null,null,null,null,true,true,true,true,true,true,true,true,true,false,null,null,null,null,null,null,null,null,null,null,null,null,null,null,null,null,null,null,null,null,null,null,null,null,null,null,null,null,{"$f":"BF610","v":"Q6.7"},"Q6.7NEPRAVDA",false,"No need to immediately change strategy, however always seek improvement."]
[null,null,null,null,null,null,{"$f":"B591","v":"Q6.8"},{"$f":"'Chapter 6'!K59","v":false},null,null,null,null,null,null,null,null,null,null,null,false,false,false,false,false,false,false,false,false,false,null,null,null,null,null,null,null,null,null,null,null,null,null,null,null,null,null,null,null,null,null,null,null,null,null,null,null,null,{"$f":"G612","v":"Q6.8"},"Q6.8NEPRAVDA",false,"Follow the results of existing innovation panels and collaborations."]
[null,null,null,null,null,null,null,{"$f":"'Chapter 6'!K60","v":false},null,null,null,null,null,null,null,null,null,null,null,false,false,false,false,false,false,false,false,false,false,null,null,null,null,null,null,null,null,null,null,null,null,null,null,null,null,null,null,null,null,null,null,null,null,null,null,null,null,{"$f":"BF612","v":"Q6.8"},"Q6.8NEPRAVDA",false,"Participate to collaborative interactions on innovation with industrial or academical actors."]
[null,null,null,null,null,null,null,{"$f":"'Chapter 6'!K61","v":true},null,null,null,null,null,null,null,null,null,null,null,null,null,null,null,null,null,null,null,null,null,null,null,null,null,null,null,null,null,null,null,null,null,null,null,null,null,null,null,null,null,null,null,null,null,null,null,null,null,{"$f":"BF613","v":"Q6.8"},"Q6.8PRAVDA",true,"Set up innovation programmes with industrial or academical actors in which your organisation shares means (materials, budgets, resources, etc.)."]
[null,null,null,null,null,null,null,{"$f":"'Chapter 6'!K62","v":false},null,null,null,null,null,null,null,null,null,null,null,null,null,null,null,null,null,null,null,null,null,null,null,null,null,null,null,null,null,null,null,null,null,null,null,null,null,null,null,null,null,null,null,null,null,null,null,null,null,{"$f":"BF614","v":"Q6.8"},"Q6.8NEPRAVDA",false,"No need to immediately change strategy, however always seek improvement."]
[null,null,null,null,null,null,{"$f":"B592","v":"Q6.9"},{"$f":"'Chapter 6'!K65","v":false},null,null,null,null,null,null,null,null,null,null,null,null,null,null,null,null,null,null,null,null,null,null,null,null,null,null,null,null,null,null,null,null,null,null,null,null,null,null,null,null,null,null,null,null,null,null,null,null,null,{"$f":"G616","v":"Q6.9"},"Q6.9NEPRAVDA",{"$f":"H616","v":false},"Get to know the impact of your organisation's manufacturers and inform your clients about it."]
[null,null,null,null,null,null,null,{"$f":"'Chapter 6'!K66","v":true},null,null,null,null,null,null,null,null,null,null,null,null,null,null,null,null,null,null,null,null,null,null,null,null,null,null,null,null,null,null,null,null,null,null,null,null,null,null,null,null,null,null,null,null,null,null,null,null,null,{"$f":"BF616","v":"Q6.9"},"Q6.9PRAVDA",true,"Collaborates with peers and partners of the chemical industry to support sustainable consumption modes."]
[null,null,null,null,null,null,null,{"$f":"'Chapter 6'!K67","v":false},null,null,null,null,null,null,null,null,null,null,{"$f":"G600","v":"Q6.5"},{"$f":"IF(I600=\"\",$H600,I600)","v":false},false,true,false,false,false,false,false,false,false,null,null,null,null,null,null,null,null,null,null,null,null,null,null,null,null,null,null,null,null,null,null,null,null,null,null,null,null,{"$f":"BF617","v":"Q6.9"},"Q6.9NEPRAVDA",false,"Engage your organisation's stakeholders to promote more sustainable consumption (guides, white papers, debates, etc.)."]
[null,null,null,null,null,null,null,{"$f":"'Chapter 6'!K68","v":false},null,null,null,null,null,null,null,null,null,null,null,true,true,false,true,true,true,true,true,true,false,null,null,null,null,null,null,null,null,null,null,null,null,null,null,null,null,null,null,null,null,null,null,null,null,null,null,null,null,"Q6.9","Q6.9NEPRAVDA",false,"No need to immediately change strategy, however always seek improvement."]
[null,null,null,null,null,null,{"$f":"B593","v":"Q6.10"},{"$f":"'Chapter 6'!K73","v":false},null,null,null,null,null,null,null,null,null,null,null,false,false,false,false,false,false,false,false,false,false,null,null,null,null,null,null,null,null,null,null,null,null,null,null,null,null,null,null,null,null,null,null,null,null,null,null,null,null,{"$f":"G620","v":"Q6.10"},"Q6.10NEPRAVDA",false,"Set up a water reduction program and report the results of this plan and your organisation’s records of water consumption.\nGood water stewardship approaches include: EWS-https://ews.info/ and CDP – Water- https://www.cdp.net/en/water",null,null,"at Q6.10 answer 1, 2 and 3"]
[null,null,null,null,null,null,null,{"$f":"'Chapter 6'!K74","v":false},null,null,null,null,null,null,null,null,null,null,null,false,false,false,false,false,false,false,false,false,false,null,null,null,null,null,null,null,null,null,null,null,null,null,null,null,null,null,null,null,null,null,null,null,null,null,null,null,null,{"$f":"BF620","v":"Q6.10"},"Q6.10NEPRAVDA",false,"Plan specific actions to reduce your organisation’s water consumption, based on key issues identified through monitoring. \nGood water stewardship approaches are: EWS-https://ews.info/ and CDP – Water- https://www.cdp.net/en/water",null,null,"https://ews.info/"]
[null,null,null,null,null,null,null,{"$f":"'Chapter 6'!K75","v":true},null,null,null,null,null,null,null,null,null,null,null,null,null,null,null,null,null,null,null,null,null,null,null,null,null,null,null,null,null,null,null,null,null,null,null,null,null,null,null,null,null,null,null,null,null,null,null,null,null,{"$f":"BF621","v":"Q6.10"},"Q6.10PRAVDA",true,"Invest in more water-efficient technologies and apply infiltration rainwater from the sites (roofs, roads) in the ground to participate in the recharge of groundwater.\nGood water stewardship approaches are: EWS-https://ews.info/ and CDP – Water- https://www.cdp.net/en/water",null,null,"https://www.cdp.net/en/water"]
[null,null,null,null,null,null,null,{"$f":"'Chapter 6'!K76","v":false},null,null,null,null,null,null,null,null,null,null,null,null,null,null,null,null,null,null,null,null,null,null,null,null,null,null,null,null,null,null,null,null,null,null,null,null,null,null,null,null,null,null,null,null,null,null,null,null,null,{"$f":"BF622","v":"Q6.10"},"Q6.10NEPRAVDA",false,"No need to immediately change strategy, however always seek improvement."]
[null,null,null,null,null,null,{"$f":"B594","v":"Q6.11"},{"$f":"'Chapter 6'!K81","v":true},null,null,null,null,null,null,null,null,null,null,{"$f":"G604","v":"Q6.6"},{"$f":"IF(I604=\"\",$H604,I604)","v":true},true,false,true,true,true,true,true,true,false,null,null,null,null,null,null,null,null,null,null,null,null,null,null,null,null,null,null,null,null,null,null,null,null,null,null,null,null,{"$f":"G624","v":"Q6.11"},"Q6.11PRAVDA",true,"Analyse the impact of your organisation's site(s) production and products on biodiversity and put in place an action plan to limit those impacts (including your organisation's impact on deforestation, e.g. by reducing paper use). Set up an ecological inventory of the organisation's sites and products and identify the specific sensitivities of the surrounding. \nPossible actions: \n- Recreate habitats and ecological continuity with surrounding spaces\n- Install a green roof and promote the ecological management of spaces\n- Establish measurements facilitating biodiversity (e.g. coppice, insect house, etc.).\n- ...\n\nAmong the valuable guidance documents, there is http://www.teebweb.org/areas-of-work/teeb-for-business/"]
[null,null,null,null,null,null,null,{"$f":"'Chapter 6'!K82","v":false},null,null,null,null,null,null,null,null,null,null,null,false,false,false,false,false,false,false,false,false,false,null,null,null,null,null,null,null,null,null,null,null,null,null,null,null,null,null,null,null,null,null,null,null,null,null,null,null,null,{"$f":"BF624","v":"Q6.11"},"Q6.11NEPRAVDA",false,"Set up indicators (human, financial and organisational) in order to protect biodiversity. Ex: evolution of practices on the maintenance of green spaces (type of weeding, frequency of mowing, species planted little greedy water ...), equipment for the protection of birdlife on structures at height, etc.\nAmong the valuable guidance documents, there is http://www.teebweb.org/areas-of-work/teeb-for-business/"]
[null,null,null,null,null,null,null,{"$f":"'Chapter 6'!K83","v":false},null,null,null,null,null,null,null,null,null,null,null,false,false,true,false,false,false,false,false,false,false,null,null,null,null,null,null,null,null,null,null,null,null,null,null,null,null,null,null,null,null,null,null,null,null,null,null,null,null,{"$f":"BF625","v":"Q6.11"},"Q6.11NEPRAVDA",false,"Proactively contribute to the preservation of natural environments over which you have a direct impact by partnering with environmental protection actors on possible actions of the organisation for local biodiversity\nMobilize employees to the organisation's commitments for the preservation of biodiversity.\nAmong the valuable guidance documents, there is http://www.teebweb.org/areas-of-work/teeb-for-business/"]
[null,null,null,null,null,null,null,{"$f":"'Chapter 6'!K84","v":false},null,null,null,null,null,null,null,null,null,null,null,false,false,false,false,false,false,false,false,false,false,null,null,null,null,null,null,null,null,null,null,null,null,null,null,null,null,null,null,null,null,null,null,null,null,null,null,null,null,{"$f":"BF626","v":"Q6.11"},"Q6.11NEPRAVDA",false,"No need to immediately change strategy, however always seek improvement."]
[null,null,null,null,null,null,{"$f":"B595","v":"Q6.12"},{"$f":"'Chapter 6'!K87","v":true},null,null,null,null,null,null,null,null,null,null,null,null,null,null,null,null,null,null,null,null,null,null,null,null,null,null,null,null,null,null,null,null,null,null,null,null,null,null,null,null,null,null,null,null,null,null,null,null,null,{"$f":"G628","v":"Q6.12"},"Q6.12PRAVDA",true,"Identify some specific actions to safeguard the services rendered to your activity (e.g. dependence on certain raw materials) by the ecosystems. \nAmong the valuable guidance documents, there is http://www.teebweb.org/areas-of-work/teeb-for-business/"]
[null,null,null,null,null,null,null,{"$f":"'Chapter 6'!K88","v":false},null,null,null,null,null,null,null,null,null,null,null,null,null,null,null,null,null,null,null,null,null,null,null,null,null,null,null,null,null,null,null,null,null,null,null,null,null,null,null,null,null,null,null,null,null,null,null,null,null,{"$f":"BF628","v":"Q6.12"},"Q6.12NEPRAVDA",false,"Implement some specific actions to safeguard the services rendered to your activity (e.g. dependence on certain raw materials) by the ecosystems. \nAmong the valuable guidance documents, there is http://www.teebweb.org/areas-of-work/teeb-for-business/"]
[null,null,null,null,null,null,null,{"$f":"'Chapter 6'!K89","v":false},null,null,null,null,null,null,null,null,null,null,{"$f":"G608","v":"Q6.7"},{"$f":"IF(I608=\"\",$H608,I608)","v":false},false,false,false,false,false,false,false,false,false,null,null,null,null,null,null,null,null,null,null,null,null,null,null,null,null,null,null,null,null,null,null,null,null,null,null,null,null,{"$f":"BF629","v":"Q6.12"},"Q6.12NEPRAVDA",false,"Put in place a structured approach to safeguard the services provided by the surrounding flora and fauna (e.g. dependence on certain raw materials). Communicate externally about your organisation's results and share best practices.\nAmong the valuable guidance documents, there is http://www.teebweb.org/areas-of-work/teeb-for-business/"]
[null,null,null,null,null,null,null,{"$f":"'Chapter 6'!K90","v":false},null,null,null,null,null,null,null,null,null,null,null,true,true,true,true,true,true,true,true,true,false,null,null,null,null,null,null,null,null,null,null,null,null,null,null,null,null,null,null,null,null,null,null,null,null,null,null,null,null,{"$f":"BF630","v":"Q6.12"},"Q6.12NEPRAVDA",false,"No need to immediately change strategy, however always seek improvement."]
[null,null,null,null,null,null,{"$f":"B596","v":"Q6.13"},{"$f":"'Chapter 6'!K95","v":false},null,null,null,null,false,null,null,null,null,null,null,false,false,false,false,false,false,false,false,false,false,null,null,null,null,null,null,null,null,null,null,null,null,null,null,null,null,null,null,null,null,null,null,null,null,null,null,null,null,{"$f":"G632","v":"Q6.13"},"Q6.13NEPRAVDA",false,"Define and implement an energy data collection plan. Specify the data necessary to monitor the key characteristics and define how, at what frequency the data will be collected and retained."]
[null,null,null,null,null,null,null,{"$f":"'Chapter 6'!K96","v":false},null,null,null,null,false,null,null,null,null,null,null,false,false,false,false,false,false,false,false,false,false,null,null,null,null,null,null,null,null,null,null,null,null,null,null,null,null,null,null,null,null,null,null,null,null,null,null,null,null,{"$f":"BF632","v":"Q6.13"},"Q6.13NEPRAVDA",false,"Determine energy performance indicators (EnPIs) appropriate for measuring and monitoring the energy performance. The EnPIs should enable the organisation to demonstrate energy performance improvement. It is therefore important to consider variables that significantly affect energy performance (f.e. production units) in the establishement of EnPIs. Compare EnPIs to their respective energy baseline EnBs. Establish improvement objectives and energy targets based on these data. Invest in smart technologies to improve energy performance."]
[null,null,null,null,null,null,null,{"$f":"'Chapter 6'!K97","v":false},null,null,null,null,false,null,null,null,null,null,null,null,null,null,null,null,null,null,null,null,null,null,null,null,null,null,null,null,null,null,null,null,null,null,null,null,null,null,null,null,null,null,null,null,null,null,null,null,null,{"$f":"BF633","v":"Q6.13"},"Q6.13NEPRAVDA",false,"Analyse the evolution of energy consumption and energy use through the energy review. Identify significant energy uses, determine and prioritise opportunities for improving energy performance and estimate future energy use and consumption. Evaluate & improve the effectiveness of the energy reduction plan regularly.\nEvaluate the effectiveness of the implementations made. \n"]
[null,null,null,null,null,null,null,{"$f":"'Chapter 6'!K98","v":true},null,null,null,null,true,null,null,null,null,null,null,null,null,null,null,null,null,null,null,null,null,null,null,null,null,null,null,null,null,null,null,null,null,null,null,null,null,null,null,null,null,null,null,null,null,null,null,null,null,{"$f":"BF634","v":"Q6.13"},"Q6.13PRAVDA",true,"No need to immediately change strategy, however always seek improvement."]
[null,null,null,null,null,null,{"$f":"B597","v":"Q6.14"},{"$f":"'Chapter 6'!K101","v":false},null,null,null,null,null,null,null,null,null,null,{"$f":"G612","v":"Q6.8"},{"$f":"IF(I612=\"\",$H612,I612)","v":false},false,false,false,false,false,false,false,false,false,null,null,null,null,null,null,null,null,null,null,null,null,null,null,null,null,null,null,null,null,null,null,null,null,null,null,null,null,{"$f":"G636","v":"Q6.14"},"Q6.14NEPRAVDA",false,"Identify your organisation's potential sources of energy recovery and its possibilities to increase the share of renewable energy.\nAnalyse the subsidy possibilities concerning the transition in the choice of energy resources of the organisation. \nInitiate your organisation's energy transition through concrete projects.\nGradually replace the use of fossil fuels with renewable resources where possible."]
[null,null,null,null,null,null,null,{"$f":"'Chapter 6'!K102","v":false},null,null,null,null,null,null,null,null,null,null,null,false,false,false,false,false,false,false,false,false,false,null,null,null,null,null,null,null,null,null,null,null,null,null,null,null,null,null,null,null,null,null,null,null,null,null,null,null,null,{"$f":"BF636","v":"Q6.14"},"Q6.14NEPRAVDA",false,"Identify your organisation's potential sources of energy recovery (e.g. fatal heat, biogas production).\nEnter into renewable energy supply contracts with your organisation's electricity supplier.\nFully exploit your organisation's sources of renewable energy and flexibility."]
[null,null,null,null,null,null,null,{"$f":"'Chapter 6'!K103","v":true},null,null,null,null,null,null,null,null,null,null,null,true,true,true,true,true,true,true,true,true,false,null,null,null,null,null,null,null,null,null,null,null,null,null,null,null,null,null,null,null,null,null,null,null,null,null,null,null,null,{"$f":"BF637","v":"Q6.14"},"Q6.14PRAVDA",true,"Create partnerships with geographically related organisations to develop \"local synergies\" (example: sale of fatal heat between two entities).\nImplement the identified collaborations."]
[null,null,null,null,null,null,null,{"$f":"'Chapter 6'!K104","v":false},null,null,null,null,null,null,null,null,null,null,null,false,false,false,false,false,false,false,false,false,false,null,null,null,null,null,null,null,null,null,null,null,null,null,null,null,null,null,null,null,null,null,null,null,null,null,null,null,null,{"$f":"BF638","v":"Q6.14"},"Q6.14NEPRAVDA",false,"No need to immediately change strategy, however always seek improvement."]
[null,null,null,null,null,null,{"$f":"B598","v":"Q6.15"},{"$f":"'Chapter 6'!K107","v":false},null,null,null,null,null,null,null,null,null,null,null,null,null,null,null,null,null,null,null,null,null,null,null,null,null,null,null,null,null,null,null,null,null,null,null,null,null,null,null,null,null,null,null,null,null,null,null,null,null,{"$f":"G640","v":"Q6.15"},"Q6.15NEPRAVDA",false,"Perform a gap analysis to identify the potential to reduce scope 1 & 2 emissions. "]
[null,null,null,null,null,null,null,{"$f":"'Chapter 6'!K108","v":true},null,null,null,null,null,null,null,null,null,null,null,null,null,null,null,null,null,null,null,null,null,null,null,null,null,null,null,null,null,null,null,null,null,null,null,null,null,null,null,null,null,null,null,null,null,null,null,null,null,{"$f":"BF640","v":"Q6.15"},"Q6.15PRAVDA",true,"Set clear targets to reduce Greenhouse Gas (e.g. transition towards renewable energy) and periodically review progress towards these targets. Take actions to reduce scope 1 & 2 emissions."]
[null,null,null,null,null,null,null,{"$f":"'Chapter 6'!K109","v":false},null,null,null,null,null,null,null,null,null,null,{"$f":"G616","v":"Q6.9"},{"$f":"IF(I616=\"\",$H616,I616)","v":false},false,false,false,false,false,false,false,false,false,null,null,null,null,null,null,null,null,null,null,null,null,null,null,null,null,null,null,null,null,null,null,null,null,null,null,null,null,{"$f":"BF641","v":"Q6.15"},"Q6.15NEPRAVDA",false,"Make compensations for your organisation’s remaining carbon footprint. Publish your organisation's results regarding carbon footprint for scope 3 every year."]
[null,null,null,null,null,null,null,{"$f":"'Chapter 6'!K110","v":false},null,null,null,null,null,null,null,null,null,null,null,true,true,true,true,true,true,true,true,true,false,null,null,null,null,null,null,null,null,null,null,null,null,null,null,null,null,null,null,null,null,null,null,null,null,null,null,null,null,{"$f":"BF642","v":"Q6.15"},"Q6.15NEPRAVDA",false,"No need to immediately change strategy, however always seek improvement."]
[null,null,null,null,null,null,{"$f":"B599","v":"Q6.16"},{"$f":"'Chapter 6'!K113","v":false},null,false,false,false,null,false,false,false,null,null,null,false,false,false,false,false,false,false,false,false,false,null,null,null,null,null,null,null,null,null,null,null,null,null,null,null,null,null,null,null,null,null,null,null,null,null,null,null,null,{"$f":"G644","v":"Q6.16"},"Q6.16NEPRAVDA",false,"Identify the mid-long-term potential impacts of climate change on your organisation's activities."]
[null,null,null,null,null,null,null,{"$f":"'Chapter 6'!K114","v":false},null,false,false,false,null,false,false,false,null,null,null,false,false,false,false,false,false,false,false,false,false,null,null,null,null,null,null,null,null,null,null,null,null,null,null,null,null,null,null,null,null,null,null,null,null,null,null,null,null,{"$f":"BF644","v":"Q6.16"},"Q6.16NEPRAVDA",false,"Identify the risks linked to climate change for your organisation's activities and potential measures to limit those risks."]
[null,null,null,null,null,null,null,{"$f":"'Chapter 6'!K115","v":true},null,true,true,true,null,true,true,true,null,null,null,null,null,null,null,null,null,null,null,null,null,null,null,null,null,null,null,null,null,null,null,null,null,null,null,null,null,null,null,null,null,null,null,null,null,null,null,null,null,{"$f":"BF645","v":"Q6.16"},"Q6.16PRAVDA",true,"Invest in measures to improve your organisation's resilience to climate change and evaluate their effectiveness."]
[null,null,null,null,null,null,null,{"$f":"'Chapter 6'!K116","v":false},null,false,false,false,null,false,false,false,null,null,null,null,null,null,null,null,null,null,null,null,null,null,null,null,null,null,null,null,null,null,null,null,null,null,null,null,null,null,null,null,null,null,null,null,null,null,null,null,null,{"$f":"BF646","v":"Q6.16"},"Q6.16NEPRAVDA",false,"No need to immediately change strategy, however always seek improvement."]
[null,null,null,null,null,null,{"$f":"B600","v":"Q6.17"},{"$f":"'Chapter 6'!K121","v":false},null,null,null,null,null,null,null,null,null,null,null,null,null,null,null,null,null,null,null,null,null,null,null,null,null,null,null,null,null,null,null,null,null,null,null,null,null,null,null,null,null,null,null,null,null,null,null,null,null,{"$f":"G648","v":"Q6.17"},{"$f":"CONCATENATE(BF648,BH648)","v":"Q6.17NEPRAVDA"},false,"Make a commitment (e.g. signature of a good practice charter) in terms of equal opportunities and set up dedicated processes to ensure equal opportunities."]
[null,null,null,null,null,null,null,{"$f":"'Chapter 6'!K122","v":true},null,null,null,null,null,null,null,null,null,null,null,null,null,null,null,null,null,null,null,null,null,null,null,null,null,null,null,null,null,null,null,null,null,null,null,null,null,null,null,null,null,null,null,null,null,null,null,null,null,{"$f":"BF648","v":"Q6.17"},"Q6.17PRAVDA",true,"Set up a clear action plan with quantified objectives to ensure equal opportunities and integrate diversity aspects into all of your organisation's Human Resource processes."]
[null,null,null,null,null,null,null,{"$f":"'Chapter 6'!K123","v":false},null,null,null,null,null,null,null,null,null,null,{"$f":"G620","v":"Q6.10"},{"$f":"IF(I620=\"\",$H620,I620)","v":false},false,false,false,false,false,false,false,false,false,null,null,null,null,null,null,null,null,null,null,null,null,null,null,null,null,null,null,null,null,null,null,null,null,null,null,null,null,{"$f":"BF649","v":"Q6.17"},"Q6.17NEPRAVDA",false,"Evaluate the results regularly and communicate them internally and externally."]
[null,null,null,null,null,null,null,{"$f":"'Chapter 6'!K124","v":false},null,null,null,null,null,null,null,null,null,null,null,false,false,false,false,false,false,false,false,false,false,null,null,null,null,null,null,null,null,null,null,null,null,null,null,null,null,null,null,null,null,null,null,null,null,null,null,null,null,"Q6.17","Q6.17ONWAAR",false,"No need to immediately change strategy, however always seek improvement."]
[null,null,null,null,null,null,null,null,null,null,null,null,null,null,null,null,null,null,null,true,true,true,true,true,true,true,true,true,false]
[null,null,null,null,null,null,null,null,null,null,null,null,null,null,null,null,null,null,null,false,false,false,false,false,false,false,false,false,false]
[]
[]
[]
[]
[null,null,null,null,null,null,null,null,null,null,null,null,null,null,null,null,null,null,{"$f":"G624","v":"Q6.11"},{"$f":"IF(I624=\"\",$H624,I624)","v":true},{"$f":"IF(J624=\"\",$H624,J624)","v":true},{"$f":"IF(K624=\"\",$H624,K624)","v":true},{"$f":"IF(L624=\"\",$H624,L624)","v":true},{"$f":"IF(M624=\"\",$H624,M624)","v":true},{"$f":"IF(N624=\"\",$H624,N624)","v":true},true,true,true,false]
[null,null,null,null,null,null,null,null,null,null,null,null,null,null,null,null,null,null,null,{"$f":"IF(I625=\"\",$H625,I625)","v":false},{"$f":"IF(J625=\"\",$H625,J625)","v":false},{"$f":"IF(K625=\"\",$H625,K625)","v":false},{"$f":"IF(L625=\"\",$H625,L625)","v":false},{"$f":"IF(M625=\"\",$H625,M625)","v":false},{"$f":"IF(N625=\"\",$H625,N625)","v":false},{"$f":"IF(O625=\"\",$H625,O625)","v":false},{"$f":"IF(P625=\"\",$H625,P625)","v":false},false,false]
[null,null,null,null,null,null,null,null,null,null,null,null,null,null,null,null,null,null,null,{"$f":"IF(I626=\"\",$H626,I626)","v":false},false,false,false,false,false,false,false,false,false]
[null,null,null,null,null,null,null,null,null,null,null,null,null,null,null,null,null,null,null,false,false,false,false,false,false,false,false,false,false]
[]
[]
[null,null,null,null,null,null,null,null,null,null,null,null,null,null,null,null,null,null,{"$f":"G628","v":"Q6.12"},{"$f":"IF(I628=\"\",$H628,I628)","v":true},{"$f":"IF(J628=\"\",$H628,J628)","v":true},{"$f":"IF(K628=\"\",$H628,K628)","v":true},{"$f":"IF(L628=\"\",$H628,L628)","v":true},{"$f":"IF(M628=\"\",$H628,M628)","v":true},{"$f":"IF(N628=\"\",$H628,N628)","v":true},true,true,true,false]
[null,null,null,null,null,null,null,null,null,null,null,null,null,null,null,null,null,null,null,{"$f":"IF(I629=\"\",$H629,I629)","v":false},{"$f":"IF(J629=\"\",$H629,J629)","v":false},{"$f":"IF(K629=\"\",$H629,K629)","v":false},{"$f":"IF(L629=\"\",$H629,L629)","v":false},{"$f":"IF(M629=\"\",$H629,M629)","v":false},{"$f":"IF(N629=\"\",$H629,N629)","v":false},{"$f":"IF(O629=\"\",$H629,O629)","v":false},{"$f":"IF(P629=\"\",$H629,P629)","v":false},false,false]
[null,null,null,null,null,null,null,null,null,null,null,null,null,null,null,null,null,null,null,false,false,false,false,false,false,false,false,false,false]
[null,null,null,null,null,null,null,null,null,null,null,null,null,null,null,null,null,null,null,false,false,false,false,false,false,false,false,false,false]
[]
[]
[]
[]
[null,null,null,null,null,null,null,null,null,null,null,null,null,null,null,null,null,null,{"$f":"G632","v":"Q6.13"},{"$f":"IF(I632=\"\",$H632,I632)","v":false},{"$f":"IF(J632=\"\",$H632,J632)","v":false},{"$f":"IF(K632=\"\",$H632,K632)","v":false},{"$f":"IF(L632=\"\",$H632,L632)","v":false},{"$f":"IF(M632=\"\",$H632,M632)","v":false},{"$f":"IF(N632=\"\",$H632,N632)","v":false},false,false,false,false]
[null,null,null,null,null,null,null,null,null,null,null,null,null,null,null,null,null,null,null,{"$f":"IF(I633=\"\",$H633,I633)","v":false},{"$f":"IF(J633=\"\",$H633,J633)","v":false},{"$f":"IF(K633=\"\",$H633,K633)","v":false},{"$f":"IF(L633=\"\",$H633,L633)","v":false},{"$f":"IF(M633=\"\",$H633,M633)","v":false},{"$f":"IF(N633=\"\",$H633,N633)","v":false},{"$f":"IF(O633=\"\",$H633,O633)","v":false},{"$f":"IF(P633=\"\",$H633,P633)","v":false},false,false]
[null,null,null,null,null,null,null,null,null,null,null,null,null,null,null,null,null,null,null,false,false,false,false,false,false,false,false,false,false]
[null,null,null,null,null,null,null,null,null,null,null,null,null,null,null,null,null,null,null,true,true,true,true,true,true,true,true,true,false]
[]
[]
[null,null,null,null,null,null,null,null,null,null,null,null,null,null,null,null,null,null,{"$f":"G636","v":"Q6.14"},{"$f":"IF(I636=\"\",$H636,I636)","v":false},{"$f":"IF(J636=\"\",$H636,J636)","v":false},{"$f":"IF(K636=\"\",$H636,K636)","v":false},{"$f":"IF(L636=\"\",$H636,L636)","v":false},{"$f":"IF(M636=\"\",$H636,M636)","v":false},{"$f":"IF(N636=\"\",$H636,N636)","v":false},false,false,false,false]
[null,null,null,null,null,null,null,null,null,null,null,null,null,null,null,null,null,null,null,{"$f":"IF(I637=\"\",$H637,I637)","v":false},{"$f":"IF(J637=\"\",$H637,J637)","v":false},{"$f":"IF(K637=\"\",$H637,K637)","v":false},{"$f":"IF(L637=\"\",$H637,L637)","v":false},{"$f":"IF(M637=\"\",$H637,M637)","v":false},{"$f":"IF(N637=\"\",$H637,N637)","v":false},{"$f":"IF(O637=\"\",$H637,O637)","v":false},{"$f":"IF(P637=\"\",$H637,P637)","v":false},false,false]
[null,null,null,null,null,null,null,null,null,null,null,null,null,null,null,null,null,null,null,true,true,true,true,true,true,true,true,true,false]
[null,null,null,null,null,null,null,null,null,null,null,null,null,null,null,null,null,null,null,false,false,false,false,false,false,false,false,false,false]
[]
[]
[null,null,null,null,null,null,null,null,null,null,null,null,null,null,null,null,null,null,{"$f":"G640","v":"Q6.15"},{"$f":"IF(I640=\"\",$H640,I640)","v":false},{"$f":"IF(J640=\"\",$H640,J640)","v":false},{"$f":"IF(K640=\"\",$H640,K640)","v":false},{"$f":"IF(L640=\"\",$H640,L640)","v":false},{"$f":"IF(M640=\"\",$H640,M640)","v":false},{"$f":"IF(N640=\"\",$H640,N640)","v":false},false,false,false,false]
[null,null,null,null,null,null,null,null,null,null,null,null,null,null,null,null,null,null,null,{"$f":"IF(I641=\"\",$H641,I641)","v":true},{"$f":"IF(J641=\"\",$H641,J641)","v":true},{"$f":"IF(K641=\"\",$H641,K641)","v":true},{"$f":"IF(L641=\"\",$H641,L641)","v":true},{"$f":"IF(M641=\"\",$H641,M641)","v":true},{"$f":"IF(N641=\"\",$H641,N641)","v":true},{"$f":"IF(O641=\"\",$H641,O641)","v":true},{"$f":"IF(P641=\"\",$H641,P641)","v":true},true,false]
[null,null,null,null,null,null,null,null,null,null,null,null,null,null,null,null,null,null,null,false,false,false,false,false,false,false,false,false,false]
[null,null,null,null,null,null,null,null,null,null,null,null,null,null,null,null,null,null,null,false,false,false,false,false,false,false,false,false,false]
[]
[]
[null,null,null,null,null,null,null,null,null,null,null,null,null,null,null,null,null,null,{"$f":"G644","v":"Q6.16"},{"$f":"IF(I644=\"\",$H644,I644)","v":false},{"$f":"IF(J644=\"\",$H644,J644)","v":false},{"$f":"IF(K644=\"\",$H644,K644)","v":false},{"$f":"IF(L644=\"\",$H644,L644)","v":false},{"$f":"IF(M644=\"\",$H644,M644)","v":false},{"$f":"IF(N644=\"\",$H644,N644)","v":false},false,false,false,false]
[null,null,null,null,null,null,null,null,null,null,null,null,null,null,null,null,null,null,null,{"$f":"IF(I645=\"\",$H645,I645)","v":false},{"$f":"IF(J645=\"\",$H645,J645)","v":false},{"$f":"IF(K645=\"\",$H645,K645)","v":false},{"$f":"IF(L645=\"\",$H645,L645)","v":false},{"$f":"IF(M645=\"\",$H645,M645)","v":false},{"$f":"IF(N645=\"\",$H645,N645)","v":false},{"$f":"IF(O645=\"\",$H645,O645)","v":false},{"$f":"IF(P645=\"\",$H645,P645)","v":false},false,false]
[null,null,null,null,null,null,null,null,null,null,null,null,null,null,null,null,null,null,null,true,true,true,true,true,true,true,true,true,false]
[null,null,null,null,null,null,null,null,null,null,null,null,null,null,null,null,null,null,null,false,false,false,false,false,false,false,false,false,false]
[]
[]
[]
[null,null,null,null,null,null,null,null,null,null,null,null,null,null,null,null,null,null,{"$f":"G648","v":"Q6.17"},{"$f":"IF(I648=\"\",$H648,I648)","v":false},{"$f":"IF(J648=\"\",$H648,J648)","v":false},{"$f":"IF(K648=\"\",$H648,K648)","v":false},{"$f":"IF(L648=\"\",$H648,L648)","v":false},{"$f":"IF(M648=\"\",$H648,M648)","v":false},{"$f":"IF(N648=\"\",$H648,N648)","v":false},false,false,false,false]
[null,null,null,null,null,null,null,null,null,null,null,null,null,null,null,null,null,null,null,{"$f":"IF(I649=\"\",$H649,I649)","v":true},{"$f":"IF(J649=\"\",$H649,J649)","v":true},{"$f":"IF(K649=\"\",$H649,K649)","v":true},{"$f":"IF(L649=\"\",$H649,L649)","v":true},{"$f":"IF(M649=\"\",$H649,M649)","v":true},{"$f":"IF(N649=\"\",$H649,N649)","v":true},{"$f":"IF(O649=\"\",$H649,O649)","v":true},{"$f":"IF(P649=\"\",$H649,P649)","v":true},true,false]
[null,null,null,null,null,null,null,null,null,null,null,null,null,null,null,null,null,null,null,false,false,false,false,false,false,false,false,false,false]
[null,null,null,null,null,null,null,null,null,null,null,null,null,null,null,null,null,null,null,false,false,false,false,false,false,false,false,{"$f":"IF(Q651=\"\",$H651,Q651)","v":false},false]
["general"]
[]
[null,"weights of the chapters",null,null,null,null,{"$f":"IF(SUM(G705:G710)=100,\"ok\",\"error\")","v":"ok"}]
[]
[null,"A Corporate Leadership Culture",null,null,null,null,{"$f":"'Start and prefill'!J22","v":18.7}]
[null,"Safeguarding People and the Environment",null,null,null,null,{"$f":"'Start and prefill'!J23","v":23.2}]
[null,"Strengthening Chemicals Management Systems",null,null,null,null,{"$f":"'Start and prefill'!J24","v":16.100000000000001}]
[null,"Influencing Business Partners",null,null,null,null,{"$f":"'Start and prefill'!J25","v":12.3}]
[null,"Engaging Stakeholders",null,null,null,null,{"$f":"'Start and prefill'!J26","v":12.3}]
[null,"Contributing to Sustainability",null,null,null,null,{"$f":"'Start and prefill'!J27","v":17.399999999999999}]
[]
[null,"answers to be completed"]
[null,{"$f":"COUNTBLANK('Technical page'!$C$10:$C$25)+COUNTBLANK('Technical page'!$C$124:$C$168)+COUNTBLANK('Technical page'!$C$406:$C$415)+COUNTBLANK('Technical page'!$C$482:$C$489)+COUNTBLANK('Technical page'!$C$544:$C$548)+COUNTBLANK('Technical page'!$C$584:$C$600)","v":0}]

{"sheet":"Technical SDG","index":16,"n_rows":108,"n_cols":20,"rows_kept":108,"cut":false,"hidden":false,"merged":[]}
[null,null,null,"minimum score"]
[null,null,"score","SDG1","SDG2","SDG3","SDG4","SDG5","SDG6","SDG7","SDG8","SDG9","SDG10","SDG11","SDG12","SDG13","SDG14","SDG15","SDG16","SDG17"]
[null,{"$f":"'Technical page'!B10","v":"Q1.1"},{"$f":"'Technical page'!C10","v":3}]
[null,{"$f":"'Technical page'!B11","v":"Q1.2"},{"$f":"'Technical page'!C11","v":3}]
[null,{"$f":"'Technical page'!B12","v":"Q1.3"},{"$f":"'Technical page'!C12","v":2}]
[null,{"$f":"'Technical page'!B13","v":"Q1.4"},{"$f":"'Technical page'!C13","v":2}]
[null,{"$f":"'Technical page'!B14","v":"Q1.5"},{"$f":"'Technical page'!C14","v":3}]
[null,{"$f":"'Technical page'!B15","v":"Q1.6"},{"$f":"'Technical page'!C15","v":3}]
[null,{"$f":"'Technical page'!B16","v":"Q1.7"},{"$f":"'Technical page'!C16","v":4}]
[null,{"$f":"'Technical page'!B17","v":"Q1.8"},{"$f":"'Technical page'!C17","v":3}]
[null,{"$f":"'Technical page'!B18","v":"Q1.9"},{"$f":"'Technical page'!C18","v":3}]
[null,{"$f":"'Technical page'!B19","v":"Q1.10"},{"$f":"'Technical page'!C19","v":3}]
[null,{"$f":"'Technical page'!B20","v":"Q1.11"},{"$f":"'Technical page'!C20","v":3}]
[null,{"$f":"'Technical page'!B21","v":"Q1.12"},{"$f":"'Technical page'!C21","v":3}]
[null,{"$f":"'Technical page'!B22","v":"Q1.13"},{"$f":"'Technical page'!C22","v":3}]
[null,{"$f":"'Technical page'!B23","v":"Q1.14"},{"$f":"'Technical page'!C23","v":3}]
[null,{"$f":"'Technical page'!B24","v":"Q1.15"},{"$f":"'Technical page'!C24","v":3}]
[null,{"$f":"'Technical page'!B25","v":"Q1.16"},{"$f":"'Technical page'!C25","v":3}]
[]
[null,{"$f":"'Technical page'!B124","v":"Q2.1"},{"$f":"'Technical page'!C124","v":3},null,null,null,null,null,null,null,3]
[null,{"$f":"'Technical page'!B125","v":"Q2.2"},{"$f":"'Technical page'!C125","v":2},null,null,null,null,null,null,null,3]
[null,{"$f":"'Technical page'!B126","v":"Q2.3"},{"$f":"'Technical page'!C126","v":3},null,null,null,null,null,null,null,3]
[null,{"$f":"'Technical page'!B127","v":"Q2.4"},{"$f":"'Technical page'!C127","v":3}]
[null,{"$f":"'Technical page'!B128","v":"Q2.5"},{"$f":"'Technical page'!C128","v":3}]
[null,{"$f":"'Technical page'!B129","v":"Q2.6"},{"$f":"'Technical page'!C129","v":3}]
[null,{"$f":"'Technical page'!B130","v":"Q2.7"},{"$f":"'Technical page'!C130","v":2},null,null,null,null,null,null,null,3]
[null,{"$f":"'Technical page'!B131","v":"Q2.8"},{"$f":"'Technical page'!C131","v":3},null,null,null,null,null,null,null,3]
[null,{"$f":"'Technical page'!B132","v":"Q2.9"},{"$f":"'Technical page'!C132","v":3}]
[null,{"$f":"'Technical page'!B133","v":"Q2.10"},{"$f":"'Technical page'!C133","v":3},null,null,null,null,null,null,null,3]
[null,{"$f":"'Technical page'!B134","v":"Q2.11"},{"$f":"'Technical page'!C134","v":3}]
[null,{"$f":"'Technical page'!B135","v":"Q2.12"},{"$f":"'Technical page'!C135","v":2}]
[null,{"$f":"'Technical page'!B136","v":"Q2.13"},{"$f":"'Technical page'!C136","v":1}]
[null,{"$f":"'Technical page'!B137","v":"Q2.14"},{"$f":"'Technical page'!C137","v":2}]
[null,{"$f":"'Technical page'!B138","v":"Q2.15"},{"$f":"'Technical page'!C138","v":3}]
[null,{"$f":"'Technical page'!B139","v":"Q2.16"},{"$f":"'Technical page'!C139","v":3}]
[null,{"$f":"'Technical page'!B140","v":"Q2.17"},{"$f":"'Technical page'!C140","v":4}]
[null,{"$f":"'Technical page'!B141","v":"Q2.18"},{"$f":"'Technical page'!C141","v":3}]
[null,{"$f":"'Technical page'!B142","v":"Q2.19"},{"$f":"'Technical page'!C142","v":3}]
[null,{"$f":"'Technical page'!B143","v":"Q2.20"},{"$f":"'Technical page'!C143","v":4}]
[null,{"$f":"'Technical page'!B144","v":"Q2.21"},{"$f":"'Technical page'!C144","v":2}]
[null,{"$f":"'Technical page'!B145","v":"Q2.22"},{"$f":"'Technical page'!C145","v":2}]
[null,{"$f":"'Technical page'!B146","v":"Q2.23"},{"$f":"'Technical page'!C146","v":4}]
[null,{"$f":"'Technical page'!B147","v":"Q2.24"},{"$f":"'Technical page'!C147","v":4}]
[null,{"$f":"'Technical page'!B148","v":"Q2.25"},{"$f":"'Technical page'!C148","v":3}]
[null,{"$f":"'Technical page'!B149","v":"Q2.26"},{"$f":"'Technical page'!C149","v":3}]
[null,{"$f":"'Technical page'!B150","v":"Q2.27"},{"$f":"'Technical page'!C150","v":2}]
[null,{"$f":"'Technical page'!B151","v":"Q2.28"},{"$f":"'Technical page'!C151","v":3}]
[null,{"$f":"'Technical page'!B152","v":"Q2.29"},{"$f":"'Technical page'!C152","v":3}]
[null,{"$f":"'Technical page'!B153","v":"Q2.30"},{"$f":"'Technical page'!C153","v":2}]
[null,{"$f":"'Technical page'!B154","v":"Q2.31"},{"$f":"'Technical page'!C154","v":1}]
[null,{"$f":"'Technical page'!B155","v":"Q2.32"},{"$f":"'Technical page'!C155","v":2}]
[null,{"$f":"'Technical page'!B156","v":"Q2.33"},{"$f":"'Technical page'!C156","v":3},null,null,null,null,null,null,null,null,3,null,null,3]
[null,{"$f":"'Technical page'!B157","v":"Q2.34"},{"$f":"'Technical page'!C157","v":4},null,null,null,null,null,null,null,null,3,null,null,3]
[null,{"$f":"'Technical page'!B158","v":"Q2.35"},{"$f":"'Technical page'!C158","v":3},null,null,null,null,null,null,null,null,3,null,null,3]
[null,{"$f":"'Technical page'!B159","v":"Q2.36"},{"$f":"'Technical page'!C159","v":3},null,null,null,null,null,null,null,null,3,null,null,3]
[null,{"$f":"'Technical page'!B160","v":"Q2.37"},{"$f":"'Technical page'!C160","v":3},null,null,null,null,null,null,null,null,3,null,null,3]
[null,{"$f":"'Technical page'!B161","v":"Q2.38"},{"$f":"'Technical page'!C161","v":3},null,null,null,null,null,null,null,null,3,null,null,3]
[null,{"$f":"'Technical page'!B162","v":"Q2.39"},{"$f":"'Technical page'!C162","v":3},null,null,null,null,null,null,null,null,3,null,null,3]
[null,{"$f":"'Technical page'!B163","v":"Q2.40"},{"$f":"'Technical page'!C163","v":3},null,null,null,null,null,null,null,null,3,null,null,3]
[null,{"$f":"'Technical page'!B164","v":"Q2.41"},{"$f":"'Technical page'!C164","v":3}]
[null,{"$f":"'Technical page'!B165","v":"Q2.42"},{"$f":"'Technical page'!C165","v":3}]
[null,{"$f":"'Technical page'!B166","v":"Q2.43"},{"$f":"'Technical page'!C166","v":3}]
[null,{"$f":"'Technical page'!B167","v":"Q2.44"},{"$f":"'Technical page'!C167","v":3}]
[null,{"$f":"'Technical page'!B168","v":"Q2.45"},{"$f":"'Technical page'!C168","v":1}]
[]
[null,{"$f":"'Technical page'!B406","v":"Q3.1"},{"$f":"'Technical page'!C406","v":4},null,null,null,null,null,null,null,null,3,null,null,3]
[null,{"$f":"'Technical page'!B407","v":"Q3.2"},{"$f":"'Technical page'!C407","v":2},null,null,null,null,null,null,null,null,3,null,null,3]
[null,{"$f":"'Technical page'!B408","v":"Q3.3"},{"$f":"'Technical page'!C408","v":4}]
[null,{"$f":"'Technical page'!B409","v":"Q3.4"},{"$f":"'Technical page'!C409","v":2},null,null,3,null,null,null,null,null,null,null,null,3,null,null,null,null,3]
[null,{"$f":"'Technical page'!B410","v":"Q3.5"},{"$f":"'Technical page'!C410","v":1},null,null,3]
[null,{"$f":"'Technical page'!B411","v":"Q3.6"},{"$f":"'Technical page'!C411","v":1},null,null,3]
[null,{"$f":"'Technical page'!B412","v":"Q3.7"},{"$f":"'Technical page'!C412","v":2},null,null,3,null,null,null,null,null,null,null,null,null,null,null,null,null,3]
[null,{"$f":"'Technical page'!B413","v":"Q3.8"},{"$f":"'Technical page'!C413","v":1},null,null,null,null,null,null,null,null,null,null,null,null,null,null,null,null,3]
[null,{"$f":"'Technical page'!B414","v":"Q3.9"},{"$f":"'Technical page'!C414","v":3},null,null,3]
[null,{"$f":"'Technical page'!B415","v":"Q3.10"},{"$f":"'Technical page'!C415","v":3},null,null,3,null,null,null,null,null,null,null,null,null,null,null,null,null,3]
[]
[null,{"$f":"'Technical page'!B482","v":"Q4.1"},{"$f":"'Technical page'!C482","v":3},null,null,null,null,null,null,null,3]
[null,{"$f":"'Technical page'!B483","v":"Q4.2"},{"$f":"'Technical page'!C483","v":2}]
[null,{"$f":"'Technical page'!B484","v":"Q4.3"},{"$f":"'Technical page'!C484","v":3}]
[null,{"$f":"'Technical page'!B485","v":"Q4.4"},{"$f":"'Technical page'!C485","v":1},null,null,null,null,null,null,null,3]
[null,{"$f":"'Technical page'!B486","v":"Q4.5"},{"$f":"'Technical page'!C486","v":4},null,null,null,null,null,null,null,3]
[null,{"$f":"'Technical page'!B487","v":"Q4.6"},{"$f":"'Technical page'!C487","v":3}]
[null,{"$f":"'Technical page'!B488","v":"Q4.7"},{"$f":"'Technical page'!C488","v":3}]
[null,{"$f":"'Technical page'!B489","v":"Q4.8"},{"$f":"'Technical page'!C489","v":4}]
[]
[null,{"$f":"'Technical page'!B544","v":"Q5.1"},{"$f":"'Technical page'!C544","v":3}]
[null,{"$f":"'Technical page'!B545","v":"Q5.2"},{"$f":"'Technical page'!C545","v":2}]
[null,{"$f":"'Technical page'!B546","v":"Q5.3"},{"$f":"'Technical page'!C546","v":2},null,null,null,null,null,null,null,null,null,null,null,3]
[null,{"$f":"'Technical page'!B547","v":"Q5.4"},{"$f":"'Technical page'!C547","v":3},null,null,null,null,null,null,null,null,null,null,3]
[null,{"$f":"'Technical page'!B548","v":"Q5.5"},{"$f":"'Technical page'!C548","v":2},null,null,null,3,null,null,null,3]
[]
[null,{"$f":"'Technical page'!B584","v":"Q6.1"},{"$f":"'Technical page'!C584","v":2}]
[null,{"$f":"'Technical page'!B585","v":"Q6.2"},{"$f":"'Technical page'!C585","v":1}]
[null,{"$f":"'Technical page'!B586","v":"Q6.3"},{"$f":"'Technical page'!C586","v":3},null,null,null,null,null,null,null,null,null,null,null,3]
[null,{"$f":"'Technical page'!B587","v":"Q6.4"},{"$f":"'Technical page'!C587","v":2},null,null,null,null,null,null,null,null,null,null,null,3]
[null,{"$f":"'Technical page'!B588","v":"Q6.5"},{"$f":"'Technical page'!C588","v":2},null,null,null,null,null,null,null,3,null,null,null,3]
[null,{"$f":"'Technical page'!B589","v":"Q6.6"},{"$f":"'Technical page'!C589","v":1},null,null,null,null,null,null,null,3,null,null,null,3]
[null,{"$f":"'Technical page'!B590","v":"Q6.7"},{"$f":"'Technical page'!C590","v":2},null,null,null,null,null,null,null,3,null,null,null,3]
[null,{"$f":"'Technical page'!B591","v":"Q6.8"},{"$f":"'Technical page'!C591","v":3}]
[null,{"$f":"'Technical page'!B592","v":"Q6.9"},{"$f":"'Technical page'!C592","v":2},null,null,null,null,null,null,null,3]
[null,{"$f":"'Technical page'!B593","v":"Q6.10"},{"$f":"'Technical page'!C593","v":3},null,null,null,null,null,3,null,3,3,null,null,3]
[null,{"$f":"'Technical page'!B594","v":"Q6.11"},{"$f":"'Technical page'!C594","v":1},null,null,null,null,null,3,null,3,3,null,null,3,null,null,3]
[null,{"$f":"'Technical page'!B595","v":"Q6.12"},{"$f":"'Technical page'!C595","v":1},null,null,null,null,null,3,null,3,3,null,null,3,null,null,3]
[null,{"$f":"'Technical page'!B596","v":"Q6.13"},{"$f":"'Technical page'!C596","v":4},null,null,null,null,null,null,3,null,3,null,null,3,3]
[null,{"$f":"'Technical page'!B597","v":"Q6.14"},{"$f":"'Technical page'!C597","v":3},null,null,null,null,null,null,3,null,3,null,null,3,3]
[null,{"$f":"'Technical page'!B598","v":"Q6.15"},{"$f":"'Technical page'!C598","v":2},null,null,null,null,null,null,3,null,3,null,null,3,3]
[null,{"$f":"'Technical page'!B599","v":"Q6.16"},{"$f":"'Technical page'!C599","v":3},null,null,null,null,null,null,3,null,3,null,null,3,3]
[null,{"$f":"'Technical page'!B600","v":"Q6.17"},{"$f":"'Technical page'!C600","v":2},null,null,null,null,3,null,null,3]